Workbook
Name _Hlk170290122: 'A-Algemeen ICT'!$D$7
Name _Ref161828887: 'D-Koppelingen'!$A$4
Name _Ref161828910: 'D-Koppelingen'!$A$6
Name _Ref161829365: 'A-Algemeen ICT'!$A$4
Name _Ref161830094: 'H-Zaken-Processen'!$A$5
Name _Ref161834049: 'K-Sjablonen'!$A$8
Name _Ref161834112: 'M-Vergunningverlening'!$A$9
Name _Ref161835026: 'D-Koppelingen'!#REF!
Name _Ref161835286: 'O-Toezicht Alg'!$A$4
Name _Ref161835766: 'O-Toezicht Alg'!$A$9
Name _Ref161836450: 'O-Toezicht Alg'!$A$11
Name _Ref162265161: 'E-Dataexport en Management info'!$A$4
Name _Ref162270003: 'E-Dataexport en Management info'!$A$8
Name _Ref164710543: 'C-Doc en Zaak en Archief'!$A$9
Name _Ref164710811: 'C-Doc en Zaak en Archief'!$A$11
Name _Ref164712138: 'C-Doc en Zaak en Archief'!$A$5
Name _Ref164715580: 'H-Zaken-Processen'!#REF!
Name _Ref164716544: 'H-Zaken-Processen'!$A$13
Name _Ref164716790: 'H-Zaken-Processen'!$A$7
Name _Ref164717403: 'H-Zaken-Processen'!$A$31
Name _Ref164718349: 'D-Koppelingen'!#REF!
Name _Ref164718382: 'M-Vergunningverlening'!$A$5
Name _Ref164718478: 'M-Vergunningverlening'!$A$7
Name _Ref164718788: 'M-Vergunningverlening'!$A$11
Name _Ref164718996: 'M-Vergunningverlening'!$A$13
Name _Ref164719774: 'O-Toezicht Alg'!$A$5
Name _Ref164720659: 'O-Toezicht Alg'!$A$13
Name _Ref164722101: 'D-Koppelingen'!#REF!
Name _Ref168517265: 'C-Doc en Zaak en Archief'!#REF!
Name _Ref168518540: 'O-Toezicht Alg'!$A$7
Name _Ref169121752: 'D-Koppelingen'!#REF!
Name _Ref169123439: 'i-Gebruiksvriendelijkheid'!#REF!
Name _Ref169123884: 'M-Vergunningverlening'!$A$10
Name _Ref169124015: 'M-Vergunningverlening'!$A$12
Name _Ref169520734: 'A-Algemeen ICT'!$A$11
Name _Ref169521564: 'C-Doc en Zaak en Archief'!$A$7
Name _Ref169529241: 'D-Koppelingen'!#REF!
Name _Ref169532862: 'E-Dataexport en Management info'!$A$6
Name _Ref169534866: 'G - Algemene functionaliteit'!$A$4
Name _Ref169535179: 'G - Algemene functionaliteit'!#REF!
Name _Ref169536020: 'H-Zaken-Processen'!$A$4
Name _Ref169536021: 'H-Zaken-Processen'!$A$6
Name _Ref169536234: 'H-Zaken-Processen'!$A$10
Name _Ref169598607: 'J-Zoekfunctionaliteit'!$A$10
Name _Ref169598609: 'J-Zoekfunctionaliteit'!$A$11
Name _Ref169599658: 'H-Zaken-Processen'!$A$14
Name _Ref169600107: 'H-Zaken-Processen'!$A$22
Name _Ref169608427: 'D-Koppelingen'!$A$9
Name _Ref169608499: 'K-Sjablonen'!#REF!
Name _Ref169616070: 'G - Algemene functionaliteit'!#REF!
Name _Ref169616072: 'G - Algemene functionaliteit'!$A$8
Name _Ref169619297: 'O-Toezicht Alg'!$A$10
Name _Ref169622013: 'N-Mobiel toezicht'!#REF!
Name _Ref169622971: 'N-Mobiel toezicht'!$A$15
Name _Ref169623172: 'O-Toezicht Alg'!$A$14
Name _Ref169643251: 'S-Functioneel beheer'!#REF!
Name _Ref169643265: 'S-Functioneel beheer'!$A$4
Name _Ref169643304: 'A-Algemeen ICT'!$A$7
Name _Ref169643314: 'A-Algemeen ICT'!#REF!
Name _Ref169688871: 'G - Algemene functionaliteit'!$A$6

Sheet Uitleg en overzicht tabbladen
A1: Bijlage 4 - Programma van eisen en wensen SaaS-oplossing VTH
A3: In dit document vindt u de Eisen en wensen voor de offerteaanvraag SaaS-Oplossing VTH. Onderstaand vindt u de inhoudsopgave om zo gemakkelijk naar elk tabblad te gaan met alle geldende Eisen. Het niet kunnen voldoen aan één of meer Eisen leidt tot uitsluiting. Middels het tekenen van Bijlage 15 Akkoordverklaring gaat u akkoord met alle Eisen. Wensen In elke tabblad zijn voor het betreffende onderwerp ook wensen opgenomen. In dit betreffende tabblad kunt u aangaven of u aan een wens kunt voldoen en deze kunt leveren middels het antwoord JA/NEE. Er is ook aangegeven hoeveel punten elke wens waard is. In het tabblad ''wensen''' vindt u een automatisch samengevoegd overzicht van de wensen waar u JA/NEE op heeft geantwoord. Daar vindt u ook gelijk het totaal aantal punten dat u heeft behaald op de wensen. Middels het tekenen van Bijlage 15 Akkoordverklaring gaat u akkoord met het voldoen aan alle wensen waar u ''JA'' op hebt gezegd.
A5: Inhoudsopgave
F6: Uitleg en overzicht tabbladen | O6: i-Gebruiksvriendelijkheid | U6: S-Functioneel beheer
F7: Wensen | O7: J-Zoekfunctionaliteit | U7: T-Dienstverlening
F8: A-Algemeen ICT | O8: K-Sjablonen | U8: U-Migratie
F9: B-Standaarden | O9: L-Documenten
F10: C-Doc en Zaak en Archief | O10: M-Vergunningverlening
F11: D-Koppelingen | O11: N-Mobiel toezicht
F12: E-Dataexport en Management info | O12: O-Toezicht Alg
F13: F Privacy- en info.beveiling | O13: P-Controlelijst
F14: G - Algemene functionaliteit | O14: Q-Toezicht-Handhaving
F15: H-Zaken-Processen | O15: R- Leges

Sheet Wensen
A1: Tabblad wensen
A2: Hieronder vindt u een samenvatting van de wensen en het door u aantal behaalde punten. Het totaal door u behaalde aantal punten is het aantal punten dat u heeft behaald op gunningscriterium 1 Wensen K1. Let op hieronder (in dit tabblad) kunt u dus NIET aangeven of u aan een bepaalde wens voldoet. Dat geeft u aan in het specifieke tabblad. Indien u ''NEE'' invult bij een bepaalde wens, krijgt u geen punten. Indien u ''JA'' invult krijgt u het aantal dat is weergeven naast de wens. Indien u niets invult bij een betreffende wens (geen JA/NEE), krijgt u geen punten.
C4: Nr. | D4: Tekst | E4: Gewicht per wens | F4: Behaald aantal punten Inschrijver
A5: B- Standaarden | C5: ='B-Standaarden'!A6 -> B3 | D5: ='B-Standaarden'!D6 -> De Oplossing moet ontworpen zijn volgens de Common Ground principes, waarbij gegevens gescheiden zijn van de applicatielogica en -presentatie. De Oplossing moet gebruik maken van gestandaardiseerde API's voor gegevensuitwisseling, gegevens direct uit bronregistraties ophalen, en voldoen aan de GEMMA modelarchitectuur. | E5: 5 | F5: ='B-Standaarden'!F6 -> 0
C6: B6 | D6: De Oplossing ondersteunt ook verzoeken voor de Europese verordening Single Digital Gateway (SDG). | E6: 2 | F6: ='B-Standaarden'!F9 -> 0
A7: D - Koppelingen | C7: ='D-Koppelingen'!_Ref169608427 -> D6 | D7: ='D-Koppelingen'!D9 -> De Oplossing integreert of koppelt met een oplossing voor het digitaal ondertekenen van brieven en besluiten. Beschrijf in kolom G9 op welke wijze deze koppeling en/of integratie plaatsvindt en evt. met welke leveranciers. Let op: neem in het prijzenblad de eenmalige en jaarlijkse kosten op, als Opdrachtgever deze functionaliteit wenst af te nemen en te implementeren. | E7: 5 | F7: ='D-Koppelingen'!F9 -> 0
C8: D9 | D8: De Oplossing kan koppelen met de Mijn Omgeving van Open Web Concept | E8: 4 | F8: ='D-Koppelingen'!F12 -> 0
A9: H-Zaken-Processen | C9: ='H-Zaken-Processen'!A24 -> H21 | D9: ='H-Zaken-Processen'!D24 -> Signalering per mail: - Behandelaar krijgt nieuwe zaak - Behandelaar krijgt nieuw toetsverzoek - Behandelaar krijgt nieuw adviesverzoek - Behandelaar krijgt aanvulling van de aanvrager - Termijn van de zaak verloopt bijna - Overige notificaties. | E9: 3 | F9: ='H-Zaken-Processen'!F24 -> 0
C10: ='H-Zaken-Processen'!A25 -> H22 | D10: ='H-Zaken-Processen'!D25 -> Signalering per mail: - De signalering per mail kan door de gebruiker aan- en uitgezet worden. | E10: 3 | F10: ='H-Zaken-Processen'!F25 -> 0
C11: ='H-Zaken-Processen'!A33 -> H30 | D11: ='H-Zaken-Processen'!D33 -> In een zaak kunnen ongelimiteerd notities worden gemaakt. | E11: 5 | F11: ='H-Zaken-Processen'!F33 -> 0
A12: J - Zoekfunctionaliteiten | C12: ='J-Zoekfunctionaliteit'!A5 -> J2 | D12: ='J-Zoekfunctionaliteit'!D5 -> De zoekfunctie moet de capaciteit hebben om tot maximaal twee spelfouten per zoekterm te herkennen en alsnog het relevante resultaat aan te bieden. Dit moet gebaseerd zijn op gangbare algoritmen voor fouttolerantie, zoals 'fuzzy search' technieken. | E12: 2 | F12: ='J-Zoekfunctionaliteit'!F5 -> 0
C13: ='J-Zoekfunctionaliteit'!A7 -> J4 | D13: ='J-Zoekfunctionaliteit'!D7 -> De zoekfunctie moet automatisch suggesties bieden voor onvolledige termen zodra minimaal de eerste drie letters correct zijn ingevoerd. Hierbij worden veelvoorkomende en relevante zoektermen gesuggereerd die over het algemeen door gebruikers worden gezocht. | E13: 3 | F13: ='J-Zoekfunctionaliteit'!F7 -> 0
A14: K - Sjablonen | C14: ='K-Sjablonen'!A4 -> K1 | D14: ='K-Sjablonen'!D4 -> De Oplossing bezit standaardsjablonen, gebaseerd op geldende rijksregels en de ervaring van andere gebruikers (‘best practices’). | E14: 3 | F14: ='K-Sjablonen'!F4 -> 0
A15: M-Vergunningverlening | C15: ='M-Vergunningverlening'!_Ref169124015 -> M9 | D15: ='M-Vergunningverlening'!D12 -> De beantwoording van de initiatiefnemer (#M8) dient bij de betreffende zaak te worden geregistreerd in de Oplossing. Eventueel meegestuurde aanvullende documenten worden toegevoegd aan de betreffende zaak. | E15: 2 | F15: ='M-Vergunningverlening'!F12 -> 0
A16: O-Toezicht Alg | C16: ='O-Toezicht Alg'!A8 -> O5 | D16: ='O-Toezicht Alg'!D8 -> De Oplossing biedt de mogelijkheid om als gebruiker in te stellen welke controlebezoeken zichtbaar zijn in toezicht-app: - Het aantal dagen voorafgaande aan de geplande datum van het controlebezoek. - Het aantal dagen na de uitvoeringsdatum van het controlebezoek. | E16: 3 | F16: ='O-Toezicht Alg'!F8 -> 0
A17: S-Functioneel beheer | C17: S2 | D17: Er is visueel onderscheid gemaakt tussen de acceptatie- en productieomgevingen, zodat er geen verwarring kan bestaan over de omgeving waarin een gebruiker of beheerder zich bevindt. | E17: 2 | F17: ='S-Functioneel beheer'!F5 -> 0
E18: =SUM(E5:E17) -> 42 | F18: =SUM(F5:F17) -> 0
E19: MAXIMAAL AANTAL PUNTEN | F19: TOTAAL BEHAALD AANTAL PUNTEN INSCHRIJVER

Sheet A-Algemeen ICT
A1: Eisen
A2: Sectie | B2: Algemeen ICT
A3: Nr. | B3: Aard | C3: Gewicht | D3: Inhoud
A4: A1 | B4: Eis | C4: N.v.t. | D4: De Oplossing wordt geleverd als Software as a Service (SaaS). Dat wil zeggen dat er geen installatie van soft- en/of hardware nodig is in het IT domein van Opdrachtgever t.b.v. het functioneren van de Oplossing danwel het uitvoeren van de dienst nu en in de toekomst. De Opdrachtnemer is verantwoordelijk voor het technische (applicatie) beheer.
A5: A2 | B5: Eis | C5: N.v.t. | D5: Hosting van de Oplossing vindt plaats bij een ISO-gecertificeerd datacentrum met uitwijkmogelijkheden, binnen de grenzen van de EER. Fysieke opslag van+A4:A37 data vindt altijd plaats binnen de EER (Europese Economische Ruimte) en wordt nooit doorgegeven aan landen buiten de EER.
A6: A3 | B6: Eis | C6: N.v.t. | D6: De Oplossing communiceert via de reguliere TCP poort 443 (https). Zie Bijlage 15 Cryptografiebeleid.
A7: A4 | B7: Eis | C7: N.v.t. | D7: De Oplossing beschikt over functionaliteit om minimaal de huidig gebruikte webbrowser binnen de Opdrachtgever te ondersteunen (MS-Edge) zónder gebruik te maken van browser plug-ins. Opdrachtnemer hanteert hierbij N-1. Hierbij is N de meest recente versie. Indien een nieuwe versie zes (6) maanden uit is geldt dat Opdrachtnemer deze dient te ondersteunen en maximaal één (1) versie mag achterlopen.
A8: A5 | B8: Eis | C8: N.v.t. | D8: De leverancier levert een Architectuurplaat/bijbehorende arichtectuurproducten op van de implementatie.
A9: A6 | B9: Eis | C9: N.v.t. | D9: De Opdrachtgever is eigenaar van alle gegevens of treedt op namens de eigenaar van de gegevens die bij de Inschrijver in het informatiesysteem worden opgeslagen en/of verwerkt. De Opdrachtgever bepaalt als enige wie beschikking heeft over de gegevens, wie gegevens verwerkt, opslaat of distribueert. Bij een eventuele (tussentijdse) ontbinding van het contract werkt leverancier mee aan dataconversie ten behoeve van een nieuw systeem tegen het geldende uurtarief.
A10: A7 | B10: Eis | C10: N.v.t. | D10: Monitoring op beschikbaarheid, performance en RPO/RTO, responsiveness, inclusief restore tests.
A11: A8 | B11: Eis | C11: N.v.t. | D11: Veel voorkomende applicatie-acties mogen op een standaard werkplek niet langer dan 2 seconden duren.
A12: A9 | B12: Eis | C12: N.v.t. | D12: Indien externe partijen systemen beheren waarin persoonsgegevens* verwerkt worden, wordt een ver/bewerkersovereenkomst (conform Wbp artikel 14) afgesloten.
A13: A10 | B13: Eis | C13: N.v.t. | D13: Functionaliteit wordt mee ontwikkeld aan de hand van de levenscyclus van de webbrowser zoals opgenomen in eis A4.
A14: A11 | B14: Eis | C14: N.v.t. | D14: Er wordt alleen gebruikgemaakt van de ver/bewerkersovereenkomst van de Opdrachtgever Gooise Meren, niet die van de leverancier. Kleine aanpassingen zijn na goedkeuring (van de juristen) van Gooise Meren toegestaan.
... A36: A33 | B36: Eis | C36: N.v.t. | D36: U dient te voldoen aan Bijlage 15 Cryptografiebeleid.

Sheet B-Standaarden
A1: Eisen en wensen
A2: Sectie | B2: Standaarden
A3: Nr. | B3: Aard | C3: Gewicht | D3: Inhoud | E3: Oplossing voldoet aan wens JA/NEE invullen | F3: Aantal behaalde punten
A4: B1 | B4: Eis | C4: N.v.t. | D4: De oplossing moet compatibel zijn met alle relevante en momenteel geldige 'Pas toe of leg uit'-standaarden van het Forum Standaardisatie. Eventuele updates van de Oplossing mogen de bestaande compatibiliteit met deze standaarden niet doorbreken.
A5: B2 | B5: Eis | C5: N.v.t. | D5: Aanpassingen in de standaarden worden door de Opdrachtnemer in de Oplossing verwerkt binnen 12 maanden nadat Forum Standaardisatie nieuwe standaarden of wijzigingen in bestaande standaarden heeft aangekondigd.
A6: B3 | B6: Wens | C6: 5 | D6: De Oplossing moet ontworpen zijn volgens de Common Ground principes, waarbij gegevens gescheiden zijn van de applicatielogica en -presentatie. De Oplossing moet gebruik maken van gestandaardiseerde API's voor gegevensuitwisseling, gegevens direct uit bronregistraties ophalen, en voldoen aan de GEMMA modelarchitectuur. | F6: =IF(E6="JA", 5, 0) -> 0
A7: B4 | B7: Eis | C7: N.v.t. | D7: Indien niet aan wens #B3 wordt voldaan: Er is een concreet ontwikkeltraject om de Oplossing te laten voldoen aan de Common Ground principes. Dit ontwikkeltraject is gedocumenteerd in een overzicht van concrete ontwikkelpunten en daarmee samenhangende planning. Een actuele versie van deze documentatie is op verzoek aan te leveren. Uiterlijk op 31 december 2026 is dit ontwikkeltraject afgerond en wordt voldaan aan wens B3.
A8: B5 | B8: Eis | C8: N.v.t. | D8: De Oplossing moet voldoen aan digitale toegankelijkheidseisen door minimaal te voldoen aan WCAG 2.1, niveau AA, en de Europese norm EN 301 549. Er moet een toegankelijke verklaring zijn die dit bevestigt.
A9: B6 | B9: Wens | C9: 2 | D9: De Oplossing ondersteunt ook verzoeken voor de Europese verordening Single Digital Gateway (SDG). | F9: =IF(E9="JA", 2, 0) -> 0

Sheet C-Doc en Zaak en Archief
A1: Eisen
A2: Sectie | B2: Document- en Zaakmanagement en Archiefbeheer
A3: Toelichting | C3: Zaak- en documentmanagement zijn onderdeel van de Oplossing, inclusief functionaliteit voor informatiebeheer en archivering.
A4: Nr. | B4: Aard | C4: Gewicht | D4: Inhoud
A5: C1 | B5: Eis | C5: N.v.t. | D5: De Oplossing biedt de benodigde functionaliteiten om te voldoen aan de normen van NEN-ISO 16175-1:2020 en 15489-1 (2016) en ondersteunt de Metagegevens voor Duurzaam Toegankelijke Overheidsinformatie (MDTO) norm voor het vastleggen en uitwisselen van eenduidige metagegevens om de duurzame toegankelijkheid van overheidsinformatie mogelijk te maken.
A6: C2 | B6: Eis | C6: N.v.t. | D6: Zodra de laatste status is gezet, kan de behandelaar geen data meer wijzigen of verwijderen met uitzondering van het toevoegen van documenten. Dit kan alleen nog door hiertoe geautoriseerde gebruikers.
A7: C3 | B7: Eis | C7: N.v.t. | D7: Met de Oplossing is het mogelijk om na het verstrijken van de bewaartermijn zaken, documenten en metadata op een rechtmatige manier te vernietigen, conform Archiefwet.
A8: C4 | B8: Eis | C8: N.v.t. | D8: Met de Oplossing is het mogelijk om na het verstrijken van de bewaartermijn zaken, documenten en metadata op een rechtmatige manier te vernietigen. Hiervoor dient eerst een vernietigingslijst gemaakt te kunnen worden.
A9: C5 | B9: Eis | C9: N.v.t. | D9: Afgehandelde zaken worden automatisch gearchiveerd, conform de archiefkenmerken (metadata) in de ZTC van het betreffende zaaktype. Als bij een zaaktype geen archiefkenmerken in de ZTC zijn geconfigureerd, vindt archivering van zaken van het betreffende zaaktype handmatig plaats.
A10: C6 | B10: Eis | C10: N.v.t. | D10: Met de Oplossing wordt naast alle gestructureerde informatie van de zaak ook alle ongestructureerde informatie gearchiveerd, minimaal de aanvraag, status van de zaak, de afdeling en zaakhistorie bij de afgesloten zaak.
A11: C7 | B11: Eis | C11: N.v.t. | D11: Met de Oplossing is het mogelijk om gearchiveerde digitale zaken over te dragen aan andere RMA systemen en eDepots in een formeel voorgeschreven formaat, zoals voorgeschreven wordt door het Nationaal Archief' (zie:https://www.nationaalarchief.nl/archiveren/kennisbank/lijst-voorkeursformaten').
A12: C8 | B12: Eis | C12: N.v.t. | D12: Documenten moeten definitief kunnen worden gemaakt. Van een definitief document is zowel de inhoud als de metadata niet meer te bewerken.
A13: C9 | B13: Eis | C13: N.v.t. | D13: Bij een afgesloten zaak kunnen geen documenten toegevoegd of verwijderd worden en is metadata van docuenten in de zaak niet meer te bewerken.
A14: C10 | B14: Eis | C14: N.v.t. | D14: Een zaak moet aangevuld en heropend of gecorrigeerd kunnen worden binnen minimaal 90 dagen na afsluiten. De rechten hiervoor moeten aan- en uitgezet kunnen worden.
A15: C11 | B15: Eis | C15: N.v.t. | D15: De combinatie van zaaktype, product en resultaat is te koppelen aan een waardering vanuit de gemeentelijke selectielijst.
... A18: C14 | B18: Eis | C18: N.v.t. | D18: Met de Oplossing is het mogelijk om gearchiveerde digitale zaken over te dragen naar een RMA-systeem of e-depot.

Sheet D-Koppelingen
A1: Eisen en wensen
A2: Sectie | B2: Koppelingen
A3: Nr. | B3: Aard | C3: Gewicht | D3: Inhoud | E3: Oplossing voldoet aan wens JA/NEE invullen | F3: Aantal behaalde punten | G3: Aanvullende gevraagde beschrijving indien ''JA'' op wens.
A4: D1 | B4: Eis | C4: N.v.t. | D4: De Oplossing wordt gekoppeld aan de LV-BAG van het Kadaster middels een API koppeling.
A5: D2 | B5: Eis | C5: N.v.t. | D5: De Oplossing moet BRP-gegevens kunnen gebruiken door middel van een koppeling met iConnect (PinkRoccade), op basis van de StUF-standaard (Standaard Uitwisselings Formaat). De applicatie moet in staat zijn om relevante persoonsgegevens, zoals naam, adres, geboortedatum op te vragen en te verwerken ten behoeve van het behandelen van vergunningaanvragen.
A6: D3 | B6: Eis | C6: N.v.t. | D6: De Oplossing voorziet in de publicatie van aanvragen, besluiten en Buitenplanse Omgevingsplanactiviteiten (BOPA) naar www.officielebekendmakingen.nl middels een geïntegreerd DROP-koppelvlak.
A7: D4 | B7: Eis | C7: N.v.t. | D7: De Oplossing wordt gekoppeld aan de DSO-LV. Ten behoeve van het ontvangen van aanvragen en meldingen, inclusief bijlagen, vanuit het DSO is er een Standaard aanvragen en meldingen (STAM) koppeling via Digikoppeling.
A8: D5 | B8: Eis | C8: N.v.t. | D8: De Oplossing kan een aanpasbaar bestand met journaalposten genereren. Dit bestand dient ter ondersteuning van de financiële afwikkeling van leges. Verwerking van deze bestanden vindt plaats via Gouw Belastingen.
A9: D6 | B9: Wens | C9: 5 | D9: De Oplossing integreert of koppelt met een oplossing voor het digitaal ondertekenen van brieven en besluiten. Beschrijf in kolom G9 op welke wijze deze koppeling en/of integratie plaatsvindt en evt. met welke leveranciers. Let op: neem in het prijzenblad de eenmalige en jaarlijkse kosten op, als Opdrachtgever deze functionaliteit wenst af te nemen en te implementeren. | F9: =IF(E9="JA", 5, 0) -> 0
A10: D7 | B10: Eis | C10: N.v.t. | D10: De Oplossing integreert of koppelt met een oplossing voor het anonimiseren van documenten. Neem in het prijzenblad de eenmalige en jaarlijkse kosten op.
A11: D8 | B11: Eis | C11: N.v.t. | D11: De Oplossing koppelt met de NHR de koppeling wordt gerealiseerd met een ZGW-API.
A12: D9 | B12: Wens | C12: 4 | D12: De Oplossing kan koppelen met de Mijn Omgeving van Open Web Concept. | F12: =IF(E12="JA", 4, 0) -> 0

Sheet E-Dataexport en Management info
A1: Eisen
A2: Sectie | B2: Dataexport / managementinformatie
A3: Nr. | B3: Aard | C3: Gewicht | D3: Inhoud
A4: E1 | B4: Eis | C4: N.v.t. | D4: De Oplossing beschikt over een API-koppelvlak waarmee data realtime kan worden benaderd en ontsloten naar ons datawarehouse (Microsoft Azure). In het geval dat de API-koppeling niet kan worden gerealiseerd, moet er een dagelijkse exportfunctie beschikbaar zijn. Deze functie moet automatisch een volledige export genereren van alle gewijzigde gegevensvelden die van belang zijn voor ons datawarehouse. De export moet in een gestructureerd formaat worden geleverd, bij voorkeur als CSV of XML.
A5: E2 | B5: Eis | C5: N.v.t. | D5: De leverancier draagt zorg voor een up-to-date documentatie van de tabellen en onderlinge samenhang van de tabellen en communiceert minimaal 2 weken op voorhand als er wijzigingen in dit datamodel worden doorgevoerd als gevolg van reguliere updates.
A6: E3 | B6: Eis | C6: N.v.t. | D6: De Oplossing kan maandelijks een export ten behoeve van het Centraal Bureau voor de Statistiek (CBS) genereren. De export voldoet zonder verdere bewerkingen qua inhoud en vorm aan de eisen die CBS daar aan stelt. Zie: https://www.cbs.nl/nl-nl/deelnemers-enquetes/decentrale-overheden/vastgoed-overheden/verleende-omgevingsvergunningen-met-activiteit-bouwen
A7: E4 | B7: Eis | C7: N.v.t. | D7: De Oplossing beschikt, als onderdeel van de gebruikersomgeving over laagdrempelig en gevisualiseerd operationele management-informatie. Ten minste de volgende overzichten zijn standaard binnen de Oplossing beschikbaar voor eindgebruikers: - Openstaande zaken, te filteren en sorteren op behandelaar, startdatum, zaaktype, product, geplande einddatum, etc. - Recent gesloten zaken, te filteren en sorteren op behandelaar, startdatum, zaaktype, product, behandelaar, einddatum, resultaat, etc. - Openstaande deelzaken/deelprocessen/toetsen, te filteren en sorteren op behandelaar, startdatum, type, geplande einddatum, etc. - Afgehandelde deelzaken/deelprocessen/toetsen, te filteren en sorteren op behandelaar, startdatum, type, einddatum, resultaat, etc. - Afgesloten zaken, de leges en de grondslag van de leges met verzenddatum van de factuur.
A8: E5 | B8: Eis | C8: N.v.t. | D8: De Oplossing beschikt, als onderdeel van de gebruikersomgeving en laagdrempelig, de mogelijkheid basisinformatie over lopende en recent afgesloten zaken te tonen dan wel te exporteren naar een digitaal rekenblad (‘spreadsheet’). De volgende velden dienen minimaal ge-exporteert te kunnen worden: - Onderwerp - Behandelaar - Startdatum - Geplande einddatum - Einddatum - Zaaktype - Product - Resultaat - Postcode / adres - Leges
A9: E6 | B9: Eis | C9: N.v.t. | D9: De oplossing biedt inzicht in zaken die binnen of buiten de termijnen zijn afgehandeld.

Sheet F Privacy- en info.beveiling
A1: Eisen
A2: Sectie | B2: Privacy- en Informatiebeveiliging
A3: Nr. | B3: Aard | C3: Gewicht | D3: Inhoud
A4: F1 | B4: Eis | C4: N.v.t. | D4: De Oplossing beschikt over een niet-muteerbare audit-trail met daarin minimaal: - de gebeurtenis; - de benodigde informatie die nodig is om het incident met hoge mate van zekerheid te herleiden tot een gebruiker; - het resultaat van de handeling; - een datum en tijdstip van de gebeurtenis. Een logregel bevat in geen geval gegevens die tot het doorbreken van de beveiliging kunnen leiden. Ten behoeve van de loganalyse is op basis van een expliciete risicoafweging de bewaarperiode van de logging bepaald. Binnen deze periode is de beschikbaarheid van de loginformatie gewaarborgd.
A5: F2 | B5: Eis | C5: N.v.t. | D5: De Oplossing voldoet op 1 januari 2026 op de NIS2 Europese wetgeving die met ingang van 1 januari 2025 van kracht is gegaan en is zich daar op aan het voorbereiden.
A6: F3 | B6: Eis | C6: N.v.t. | D6: Er is een Data Protection Impact Assessment uitgevoerd op de Oplossing.
A7: F4 | B7: Eis | C7: N.v.t. | D7: De aangeboden Oplossing voldoet aan de ʹICT‐beveiligingsrichtlijnen voor webapplicatiesʹ zoals gepubliceerd door het NCSC.
A8: F5 | B8: Eis | C8: N.v.t. | D8: De Opdrachtnemer heeft een continu proces ingericht op kwetsbaarheden in de beveiliging van de Oplossing te herkennen en mitigeren (‘vulnerability management’).
A9: F6 | B9: Eis | C9: N.v.t. | D9: Leverancier kan een ISO27001:2017-certificaat of nieuwer overhandigen. Een actuele versie van dit certificaat wordt ieder jaar overhandigd.
A10: F7 | B10: Eis | C10: N.v.t. | D10: Gegevens (ook van eventuele derde partijen) worden gehost binnen de Europese Economische Ruimte (EER).
A11: F8 | B11: Eis | C11: N.v.t. | D11: Gegevens (ook van eventuele derde partijen) worden verwerkt binnen de Europese Economische Ruimte (EER).
A12: F9 | B12: Eis | C12: N.v.t. | D12: Leverancier laat omgeving jaarlijks reviewen door een onafhankelijke partij. Bijvoorbeeld in de vorm van een pentest.
A13: F10 | B13: Eis | C13: N.v.t. | D13: Leverancier levert jaarlijks een overzicht van gehouden review en genomen maatregelen.
A14: F11 | B14: Eis | C14: N.v.t. | D14: Er zijn beheersmaatregelen geïmplementeerd voor detectie, preventie en herstel bij malware.
... A23: F20 | B23: Eis | C23: N.v.t. | D23: Indien leverancier processen uitbesteed: Leverancier kan een ISAE3402 type2-certificaat overhandigen. En een actuele versie van dit certificaat wordt ieder jaar overhandigd.

Sheet G - Algemene functionaliteit
A1: Eisen
A2: Sectie | B2: Algemene functionaliteit
A3: Nr. | B3: Aard | C3: Gewicht | D3: Inhoud
A4: G1 | B4: Eis | C4: N.v.t. | D4: De Oplossing ondersteunt de uitvoering van de processen rondom Vergunningverlening, Toezicht en Handhaving (‘het VTH proces’) voor alle wet- en regelgeving op het gebied van de fysieke leefomgeving en de APV. Diit betreft de volgende GEMMA-componenten: - Ondersteunen van vergunningverlening - Ondersteunen van toezicht - Ondersteunen van handhaving - Ondersteunen van aanvragen en meldingen - Ondersteunen va objecten en activiteiten - Zaakregistratiecomponent - Zaaktypecataloguscomponent - Documentcreatiecomponent - Documentregistratiecomponent - Geo-gegevens beheercomponent - Inningencomponent - Bezwaar en beroep component
A5: G2 | B5: Eis | C5: N.v.t. | D5: De Oplossing ondersteunt de uivoering van de volgende wetten en regelgeving: - Omgevingswet - Alcoholwet - Wet Kwaliteitsborging - Wet Elektonisch Publiceren - Wet Woo (Actief openbaar maken) - Archiefwet
A6: G3 | B6: Eis | C6: N.v.t. | D6: De Oplossing is door functioneel beheer van de Opdrachtgever aan te passen aan veranderende regionale en lokale regelgeving.
A7: G4 | B7: Eis | C7: N.v.t. | D7: De Oplossing ondersteunt ook de behandeling van klachten die samenhangen met de fysieke leefomgeving, horeca en evenementen.
A8: G5 | B8: Eis | C8: N.v.t. | D8: Vanuit de oplossing kan er gecommuniceerd worden met de ketenpartners via de samenwerkingsfunctionaliteit van het DSO.
A9: G6 | B9: Eis | C9: N.v.t. | D9: Vanuit de oplossing kan er gecommuniceerd worden met de initiatiefnemer, waarbij reacties van de initiatiefnemer direct bij de betereffende zaak wordt opgenomen.

Sheet H-Zaken-Processen
A1: Eisen en wensen
A2: Sectie | B2: Zaken / Processen
A3: Nr. | B3: Aard | C3: Gewicht | D3: Inhoud | E3: Oplossing voldoet aan wens JA/NEE invullen | F3: Aantal behaalde punten
A4: H1 | B4: Eis | C4: N.v.t. | D4: De Oplossing omvat ingerichte standaardprocessen / -zaaktypen op basis van landelijke praktijkervaring en standaarden. Uitgangspunt voor de geleverde standaardprocessen zijn de zaaktypen uit de laatste versie van de Omgevingswet ZTC van VNG, momenteel 1.7. Zie https://samenwerken.pleio.nl/groups/view/814f7141-86c7-4fad-963d-497f5551f489/omgevingswet-ztc-en-pdc
A5: H2 | B5: Eis | C5: N.v.t. | D5: De standaardzaaktypen zijn aan te passen aan specifieke werkwijzen van de gemeenten Gooise Meren, wat betreft: - Fasen (mits nog binnen ZTC valt) - Processtappen (aantal, naam, standaard behandelaar, volgorde, verplichting, etc.) - Deelprocessen - (lijst van) Producten - (lijst van) Resultaten - (lijst van (Omgevingsplan)) Activiteiten - Bijbehorende documenttypen / sjablonen - Bijbehorende besluitentypen
A6: H3 | B6: Eis | C6: N.v.t. | D6: De standaardzaaktypen zijn aan te vullen met gemeente specifieke processen / zaaktypen.
A7: H4 | B7: Eis | C7: N.v.t. | D7: Binnen een zaak is een ‘toets’ uit te voeren in de vorm van een zelfstandig onderdeel van de zaak. Bijvoorbeeld: ontvankelijkheid, Besluit bouwwerken leefomgeving (BBL), omgevingsplan, ‘vier ogen’.
A8: H5 | B8: Eis | D8: In één overzicht is te zien of een toets voor een zaak is uitgevoerd.
A9: H6 | B9: Eis | C9: N.v.t. | D9: Toetsen binnen een zaaktype zijn door de functioneel beheerder aan te passen qua naam, aantal, processtappen, standaard behandelaar.
A10: H7 | B10: Eis | C10: N.v.t. | D10: Binnen een zaak zijn verzoeken om advies uit te zetten binnen de gemeente Gooise Meren en naar ketenpartners van de gemeente Gooise Meren, in de vorm van een zelfstandig onderdeel van de zaak.
A11: H8 | B11: Eis | D11: In één overzicht is te zien of een adviesvraag voor een zaak is uitgevoerd.
A12: H9 | B12: Eis | C12: N.v.t. | D12: Adviezen binnen een zaaktype zijn door de functioneel beheerder aan te passen qua naam, aantal, onderliggende processtappen (bij een intern advies) en standaard behandelaar.
A13: H10 | B13: Eis | C13: N.v.t. | D13: Een zaak moet in een kaart geplot te zien zijn.
A14: H11 | B14: Eis | C14: N.v.t. | D14: In de kaart moet informatie van derde zichtbaar kunnen worden gemaakt, die voldoet aan de GEO-standaarden van Forum standaardisatie, zoals: - Risicokaart REF - Leidingen - Kadastergrenzen - Archeologische kaarten - Bodemgesteldheid - Omgevingsplannen
A15: H12 | B15: Eis | C15: N.v.t. | D15: Kaartlagen, die voldoen aan de GEO-standaarden van Forum standaardisatie, kunnen worden toegevoegd de Oplossing.
A16: H13 | B16: Eis | C16: N.v.t. | D16: Kaartlagen: In de kaart moeten lagen aan- en uitgezet kunnen worden.
A17: H14 | B17: Eis | C17: N.v.t. | D17: Bewaken voortgang: Een zaakbehandelaar kan de voortgang bewaken van: - Zijn lopende zaken - Zijn uitstaande toets- en adviesverzoeken
A18: H15 | B18: Eis | C18: N.v.t. | D18: Bewaken voortgang: De adviseur kan de voortgang bewaken van: - De toets- en adviesverzoeken in diens behandeling
A19: H16 | B19: Eis | C19: N.v.t. | D19: Bewaken voortgang: Een coördinator kan de voortgang bewaken van: - De lopende zaken binnen zijn/haar team
A20: H17 | B20: Eis | C20: N.v.t. | D20: Bewaken voortgang: Teamleden kunnen de voortgang bewaken van: - De lopende zaken binnen hun team
A21: H18 | B21: Eis | C21: N.v.t. | D21: De behandeling van zaken, adviesverzoeken en toetsen kan binnen een team verdeeld worden (werkverdeling).
A22: H19 | B22: Eis | C22: N.v.t. | D22: De Oplossing biedt de mogelijkheid om de beslistermijn van een zaak op te schorten of de termijn van de procedure te verlengen. De relevante termijnen worden automatisch aangepast. De medewerker mag niet beperkt worden in het aantal keren dat een proces kan worden opgeschort. De Oplossing moet de beslistermijn kunnen (her)berekenen of moet eenvoudig zelf te muteren zijn, dus ook met terugwerkende kracht. Verlengen en opschorten moet op een concrete datum of aantal weken kunnen en niet (alleen) in dagen.
A23: H20 | B23: Eis | C23: N.v.t. | D23: Signalering binnen de gebruikersomgeving: - Behandelaar krijgt aanvulling van de aanvrager - Termijn van de zaak verloopt bijna - Behandelaar krijgt nieuwe zaak - Behandelaar krijgt nieuw toetsverzoek - Behandelaar krijgt nieuw adviesverzoek - Naderen einddatum opschorting -Overige, zelf ingestelde, termijnen verstrijken bijna
A24: H21 | B24: Wens | C24: 3 | D24: Signalering per mail: - Behandelaar krijgt nieuwe zaak - Behandelaar krijgt nieuw toetsverzoek - Behandelaar krijgt nieuw adviesverzoek - Behandelaar krijgt aanvulling van de aanvrager - Termijn van de zaak verloopt bijna - Overige notificaties. | F24: =IF(E24="JA", 3, 0) -> 0
A25: H22 | B25: Wens | C25: 3 | D25: Signalering per mail: - De signalering per mail kan door de gebruiker aan- en uitgezet worden. | F25: =IF(E25="JA", 3, 0) -> 0
A26: H23 | B26: Eis | C26: N.v.t. | D26: Aan zaken moet een vertrouwelijkheidsniveau meegegeven kunnen worden. Deze instelling moet het minimaal mogelijk maken dat een zaak, los van de behandelaar, na gelang het vertrouwelijkheidsniveau: - Voor het team van de behandelaar te zien is en onderliggende documenten te openen zijn (maar niet te bewerken) - Voor het team van de behandelaar te zien is, maar onderliggende documenten niet te openen zijn - Voor het team van de behandelaar niet te zien is.
A27: H24 | B27: Eis | C27: N.v.t. | D27: Naast een BAG adres is het ook mogelijk een vrij invulbaar adres op te geven als locatie in een zaak.
A28: H25 | B28: Eis | C28: N.v.t. | D28: Naast een BAG adres is het ook mogelijk een perceelnummer als locatie op te geven in een zaak.
A29: H26 | B29: Eis | C29: N.v.t. | D29: Het is mogelijk handmatig zaken aan te maken, naast een zaak die binnenkomt vanuit een lokaal of landelijk loket.
A30: H27 | B30: Eis | C30: N.v.t. | D30: Zaakrelaties: De Oplossing biedt de mogelijkheid om zaken aan elkaar te relateren.
A31: H28 | B31: Eis | C31: N.v.t. | D31: Zaakrelaties: Voor het relateren van zaken kan minimaal op zaakkenmerk, onderwerp, plaats of adres gezocht worden.
A32: H29 | B32: Eis | C32: N.v.t. | D32: Zaakrelaties: De aard van de relatie tussen zaken is nader te specificeren waardoor volgorde en rangorde (hoofd- / deelzaak) duidelijk worden.
A33: H30 | B33: Wens | C33: 5 | D33: In een zaak kunnen ongelimiteerd notities worden gemaakt. | F33: =IF(E33="JA", 5, 0) -> 0

Sheet i-Gebruiksvriendelijkheid
A1: Eisen
A2: Sectie | B2: Gebruiksvriendelijkheid
A3: Nr. | B3: Aard | C3: Gewicht | D3: Inhoud
A4: i1 | B4: Eis | C4: N.v.t. | D4: De Oplossing omvat een contextafhankelijke en Nederlandstalige helpfunctie om de zelfredzaamheid van medewerkers zo groot mogelijk te maken. Het gebruik van (Engelstalig) ICT jargon wordt zo veel mogelijk vermeden.
A5: i2 | B5: Eis | C5: N.v.t. | D5: De helpfunctie bevat informatie voor VTH-medewerkers en gemeentelijke (functioneel) beheerders.
A6: i3 | B6: Eis | C6: N.v.t. | D6: De Oplossing maakt het mogelijk dat gebruikers elkaars zaken kunnen waarnemen.

Sheet J-Zoekfunctionaliteit
A1: Eisen en wensen
A2: Sectie | B2: Zoekfunctionaliteit
A3: Nr. | B3: Aard | C3: Gewicht | D3: Inhoud | E3: Oplossing voldoet aan wens JA/NEE invullen | F3: Aantal behaalde punten
A4: J1 | B4: Eis | C4: N.v.t. | D4: De Oplossing heeft een zoekfunctionaliteit die zonder extra te klikken beschikbaar is vanuit de werkvoorraad. Er kan gefilterd en gesorteerd worden binnen alle de resultaten van de zoekopdracht.
A5: J2 | B5: Wens | C5: 2 | D5: De zoekfunctie moet de capaciteit hebben om tot maximaal twee spelfouten per zoekterm te herkennen en alsnog het relevante resultaat aan te bieden. Dit moet gebaseerd zijn op gangbare algoritmen voor fouttolerantie, zoals 'fuzzy search' technieken. | F5: =IF(E5="JA", 2, 0) -> 0
A6: J3 | B6: Eis | C6: N.v.t. | D6: Er kan gezocht worden op metadata van zaken en dossiers. Het gaat minimaal om: - Product - Activiteit - Datums - Behandelaar - Gebruikersgroep - Status - Plaats - Naam, adres, woonplaats (‘NAW’) gegevens van betrokkenen (aanvrager, klager, eigenaar, initiatiefnemer, etc.). - DSO-nummer - Omschrijving
A7: J4 | B7: Wens | C7: 3 | D7: De zoekfunctie moet automatisch suggesties bieden voor onvolledige termen zodra minimaal de eerste drie letters correct zijn ingevoerd. Hierbij worden veelvoorkomende en relevante zoektermen gesuggereerd die over het algemeen door gebruikers worden gezocht. | F7: =IF(E7="JA", 3, 0) -> 0
A8: J5 | B8: Eis | C8: N.v.t. | D8: Per gebruiker(sgroep) kunnen eigen zoekfilters worden aangemaakt en opgeslagen.
A9: J6 | B9: Eis | C9: N.v.t. | D9: Gebruikers hebben in elke context zo snel mogelijk (max 3 klikken) de voor hen relevante informatie tot hun beschikking. De Oplossing houdt hier rekening mee qua indeling, opzet van de gebruikersomgeving en het presenteren en vindbaar maken van informatie.
A10: J7 | B10: Eis | C10: N.v.t. | D10: De Oplossing kan voor een locatie een integraal beeld geven van de bekende vergunning-, toezicht- en handhavingszaken.
A11: J8 | B11: Eis | C11: N.v.t. | D11: De Oplossing biedt een geografische zoekfunctionaliteit waarmee gebruikers zaken kunnen terugzoeken en visualiseren op basis van hun locatie op een kaart. De kaartfunctie moet automatisch zaken weergeven als pinnen of markers op de kaart, waarbij elke marker correspondeert met de exacte fysieke locatie of het gebied waar de zaak betrekking op heeft.

Sheet K-Sjablonen
A1: Eisen en wensen
A2: Sectie | B2: Sjablonen
A3: Nr. | B3: Aard | C3: Gewicht | D3: Inhoud | E3: Oplossing voldoet aan wens JA/NEE invullen | F3: Aantal behaalde punten
A4: K1 | B4: Wens | C4: 3 | D4: De Oplossing bezit standaardsjablonen, gebaseerd op geldende rijksregels en de ervaring van andere gebruikers (‘best practices’). | F4: =IF(E4="JA", 3, 0) -> 0
A5: K2 | B5: Eis | C5: N.v.t. | D5: De gemeente Gooise Meren kan eigen sjablonen toevoegen.
A6: K3 | B6: Eis | C6: N.v.t. | D6: In sjablonen kan gebruik worden gemaakt van alle informatie die als (meta)data in de zaak is vastgelegd.
A7: K4 | B7: Eis | C7: N.v.t. | D7: In sjablonen kan gebruik worden gemaakt van de informatie die als metadata in de zaak is vastgelegd in checklists en/of bibliotheek: - Verzoek tot aanvullingen vanuit checklist volledigheid - Overwegingen bij een besluit - Voorschriften bij een vergunning
A8: K5 | B8: Eis | C8: N.v.t. | D8: In sjablonen kunnen tekstblokken afhankelijk worden gemaakt van in de zaak vastgelegde metadata (of ze wel of niet in een brief op basis van het sjabloon terugkomen).
A9: K6 | B9: Eis | C9: N.v.t. | D9: De huisstijl is voor alle sjablonen in één keer in te richten.

Sheet L-Documenten
A1: Eisen
A2: Sectie | B2: Documenten
A3: Nr. | B3: Aard | C3: Gewicht | D3: Inhoud
A4: L1 | B4: Eis | C4: N.v.t. | D4: De Oplossing ondersteunt alle Informatieobjecttype, die voor een aanvraag in het DSO gebruikt kunnen worden.
A5: L2 | B5: Eis | C5: N.v.t. | D5: Van de documenten binnen een zaak moet het duidelijk zijn welke behoren tot de aanvraag, een besluit, een toets, een advies, een deelzaak of een deelproces.
A6: L3 | B6: Eis | C6: N.v.t. | D6: Het overzicht van documenten binnen een zaak moeten minimaal te sorteren zijn op registratiedatum, onderwerp en documentkenmerk.
A7: L4 | B7: Eis | C7: N.v.t. | D7: Het moet duidelijk zijn welke aanvraag-documenten actueel dan wel achterhaald zijn (bijvoorbeeld door een aanvulling van de metadata of documenten op niet actueel zetten).
A8: L5 | B8: Eis | C8: N.v.t. | D8: Aan documenten moet een vertrouwelijkheidsniveau meegegeven kunnen worden. Deze instelling moet het minimaal mogelijk maken dat een document, los van de behandelaar, na gelang het vertrouwelijkheidsniveau: - Voor het team te zien en te openen is (maar niet te bewerken) - Voor het team te zien is maar niet te openen - Voor het team niet te zien is - Door aanvrager gemarkeerd is als vertrouwelijk met het oog op publicatie
A9: L6 | B9: Eis | C9: N.v.t. | D9: In de metadata van een document moet zichtbaar zijn of het document (digitaal) ondertekend is .

Sheet M-Vergunningverlening
A1: Eisen en wensen
A2: Sectie | B2: Vergunningverlening
A3: Nr. | B3: Aard | C3: Gewicht | D3: Inhoud | E3: Oplossing voldoet aan wens JA/NEE invullen | F3: Aantal behaalde punten
A4: M1 | B4: Eis | C4: N.v.t. | D4: Voor vergunningverlening zijn standaard tekstblokken aanwezig, die centraal te beheren zijn en automatisch gekoppeld kunnen worden aan (aangevraagde) activiteiten in combinatie met procedure.
A5: M2 | B5: Eis | C5: N.v.t. | D5: Aanvragen, meldingen en andere berichten moeten ontvangen kunnen worden vanuit het landelijke DSO omgevingsloket.
A6: M3 | B6: Eis | C6: N.v.t. | D6: De aansluiting op het landelijke DSO omgevingsloket voldoet aan de minimale eisen zoals opgesteld door de Vereniging van Nederlandse gemeenten (VNG). Zie: https://aandeslagmetdeomgevingswet.nl/implementatie/voortgang-monitoring/indringend-ketentesten/overzicht-belangrijke-functies-lokale-software/ Daarbinnen de laatste versie van de ‘Functionele set inwerkingtreding Omgevingswet’. Daarbinnen stappen 9, 10 en 11 van het DSO ketenmodel.
A7: M4 | B7: Eis | C7: N.v.t. | D7: Vragenlijst met antwoorden en DSO-kenmerk worden overgenomen in de zaak in de Oplossing.
A8: M5 | B8: Eis | C8: N.v.t. | D8: Er kan in de registratie van de zaak onderscheid worden gemaakt tussen opgegeven- en vastgestelde (gecontroleerde) gegevens (bijv. bouwkosten).
A9: M6 | B9: Eis | C9: N.v.t. | D9: De Oplossing ondersteunt de mogelijkheid voor het overstappen van een reguliere naar een uitgebreide of verkort-uitgebreide procedure of andersom.
A10: M7 | B10: Eis | C10: N.v.t. | D10: Een verzoek moet overgedragen kunnen worden, via de samenwerkingsfunctionaliteit van het DSO naar een ander bevoegd gezag.
A11: M8 | B11: Eis | C11: N.v.t. | D11: Een zaakbehandelaar moet direct vanuit de Oplossing een verzoek om een aanvulling kunnen sturen naar de initiatiefnemer. Het verzoek om aanvulling dient zichtbaar te zijn in de zaak.
A12: M9 | B12: Wens | C12: 2 | D12: De beantwoording van de initiatiefnemer (#M8) dient bij de betreffende zaak te worden geregistreerd in de Oplossing. Eventueel meegestuurde aanvullende documenten worden toegevoegd aan de betreffende zaak. | F12: =IF(E12="JA", 2, 0) -> 0
A13: M10 | B13: Eis | C13: N.v.t. | D13: Informatie over een aanvraag, locatie of project en de daarvoor gerelateerde documenten en/of verzoek kunnen worden gedeeld met ketenpartners via het SWF.

Sheet N-Mobiel toezicht
A1: Eisen en wensen
A2: Sectie | B2: Mobiel toezicht functionaliteit ('Toezicht App')
A3: Nr. | B3: Aard | C3: Gewicht | D3: Inhoud
A4: N1 | B4: Eis | C4: N.v.t. | D4: Toezichtfunctionaliteit is beschikbaar op een mobiel apparaat ten behoeve van het uitvoeren van een controlebezoek. Bij de gemeente Gooise Meren worden momenteel iPads gebruikt. Voor het gemak wordt de term ‘toezicht-app’ gebruik voor de Mobiele toezicht functionaliteit die via een Mobile device te gebruiken is. In deze context wordt de overige functionaliteit van de Oplossing de ‘hoofdoplossing’ genoemd als dat onderscheid relevant is.
A5: N2 | B5: Eis | C5: N.v.t. | D5: Synchronisatie: Informatie zoals geregistreerd in de hoofdoplossing, waaronder wijzigingen, kunnen handmatig worden gesynchroniseerd naar de toezicht-app.
A6: N3 | B6: Eis | C6: N.v.t. | D6: In de toezicht-app is zonder internetverbinding : - Een overzicht van uit te voeren controles beschikbaar - Zijn voorbereide controles, bijvoorbeeld wat betreft het inzien van documenten en het invullen van controlelijsten, uit te voeren.
A7: N4 | B7: Eis | C7: N.v.t. | D7: Zaakinformatie: Zaak, project en objectgegevens zijn in de toezicht-app per (gepland) controlebezoek in te zien. Het gaat minimaal om: - type controle - zaak status - zaak omschrijving - zaaknotities - eerdere bevindingen - contactgegevens aanvrager - locatie
A8: N5 | B8: Eis | C8: N.v.t. | D8: Documenten: Documenten die horen bij een controlebezoek en geregistreerd zijn in de hoofdoplossing, zijn via de toezicht-app in te zien.
A9: N6 | B9: Eis | C9: N.v.t. | D9: Documenten: De toezicht-app ondersteunt alle gangbare bestandsformaten. Dit zijn minimaal de eerdergenoemde lijst van voorkeursformaten van het Nationaal archief.
A10: N7 | B10: Eis | C10: N.v.t. | D10: Documenten: De toezicht-app ondersteunt grote documenten tot het maximum dat een aanvrager in het landelijke omgevingsloket kan aanbieden.
A11: N8 | B11: Eis | C11: N.v.t. | D11: Controlelijsten: Met de toezicht-app zijn controlelijsten op locatie af te handelen.
A12: N9 | B12: Eis | C12: N.v.t. | D12: Bevindingen: In de toezicht-app kunnen annotaties op documenten/tekeningen worden gemaakt, die als plaatje/verduidelijking in een controlerapport gebruikt kunnen worden.
A13: N10 | B13: Eis | C13: N.v.t. | D13: Bevindingen: In de toezicht-app kunnen opmerkingen en bevindingen op basis van controlelijsten (zie ‘Toezicht – Controlelijsten’) aan een controle worden toegevoegd.
A14: N11 | B14: Eis | C14: N.v.t. | D14: Bevindingen: In de toezicht-app kunnen opmerkingen en bevindingen aan een activiteit of voorziening worden gekoppeld.
... A17: N14 | B17: Eis | C17: N.v.t. | D17: Foto’s: Binnen de controle kunnen de foto’s aan een opmerking of bevinding worden gekoppeld.

Sheet O-Toezicht Alg
A1: Eisen en wensen
A2: Sectie | B2: Toezicht Algemeen
A3: Nr. | B3: Aard | C3: Gewicht | D3: Inhoud | E3: Oplossing voldoet aan wens JA/NEE invullen | F3: Aantal behaalde punten
A4: O1 | B4: Eis | C4: N.v.t. | D4: Er kunnen controlebezoeken worden ingepland voor een diversiteit aan zaken, zaaktypes of producten.
A5: O2 | B5: Eis | C5: N.v.t. | D5: Mobiele toezicht functionaliteit maakt onderdeel uit van de aangeboden Oplossing, zie kop ‘Toezicht – Mobiel toezicht’ voor de daar bij horende eisen en wensen.
A6: O3 | B6: Eis | C6: N.v.t. | D6: Mobiele toezicht functionaliteit is beschikbaar op sturingssoftware IOS. Voor het gemak wordt de term ‘toezicht-app’ gebruik voor de Mobiele toezicht functionaliteit die via een iPad te gebruiken is.
A7: O4 | B7: Eis | C7: N.v.t. | D7: Relevante controlebezoeken zijn zichtbaar in de toezicht-app .
A8: O5 | B8: Wens | C8: 3 | D8: De Oplossing biedt de mogelijkheid om als gebruiker in te stellen welke controlebezoeken zichtbaar zijn in toezicht-app: - Het aantal dagen voorafgaande aan de geplande datum van het controlebezoek. - Het aantal dagen na de uitvoeringsdatum van het controlebezoek. | F8: =IF(E8="JA", 3, 0) -> 0
A9: O6 | B9: Eis | C9: N.v.t. | D9: Meerdere controlemomenten: De Oplossing houdt er rekening mee dat een oplevercontrole uit meerdere controlemomenten kan bestaan.
A10: O7 | B10: Eis | C10: N.v.t. | D10: Meerdere controlemomenten: Zolang een uit meerdere controlemomenten bestaande oplevercontrole loopt, zijn bijbehorende documenten beschikbaar in de toezicht-app.
A11: O8 | B11: Eis | C11: N.v.t. | D11: Meerdere controlemomenten: Per controlemoment binnen een oplevercontrole, is een controlerapport op te maken.
A12: O9 | B12: Eis | C12: N.v.t. | D12: Meerdere controlemomenten: Binnen een oplevercontrole die uit verschillende controlemomenten bestaat, moet een (tijdelijke) overtreding geconstateerd kunnen worden die op een volgend controlemoment gecontroleerd kan worden. Bij het afronden van de oplevercontrole, na het laatste controlemoment, worden de definitieve overtredingen pas vastgesteld.
A13: O10 | B13: Eis | C13: N.v.t. | D13: Controlerapport : Naar aanleiding van een controle kan een controlerapport worden gegeneerd op basis van minimaal: - De ingevulde bevindingen vanuit een controlelijst (zie ‘Controlelijst’) - De al dan niet aan een bouwtekening gekoppelde opmerkingen en bevindingen (zie ‘Mobiele toezicht functionaliteit’) - Al dan niet aan een bevinding of opmerking gekoppelde foto (zie ‘Mobiele toezicht functionaliteit’).
A14: O11 | B14: Eis | C14: N.v.t. | D14: In het toezichtproces moet bij een overtreding al een handhavingsstrategie voorgesteld kunnen worden.

Sheet P-Controlelijst
A1: Eisen
A2: Sectie | B2: Controlelijsten
A3: Nr. | B3: Aard | C3: Gewicht | D3: Inhoud
A4: P1 | B4: Eis | C4: N.v.t. | D4: De Oplossing bezit standaard controlelijsten, gebaseerd op geldende rijksregels en de ervaring van andere gebruikers (‘best practices’). Wat betreft standaard controlelijsten gaat het primair om de landelijke toezicht matrix/BBL (Besluit bouwwerken leefomgeving).
A5: P2 | B5: Eis | C5: N.v.t. | D5: De controlelijsten zijn lokaal te beheren. Dit betekent dat standaard controlelijsten kunnen worden aangepast of geheel nieuwe controlelijsten kunnen worden aangemaakt.
A6: P3 | B6: Eis | C6: N.v.t. | D6: De inhoud van een controlelijst kan, naast een algemeen deel, afhankelijk worden gemaakt van: - De te controleren activiteiten - De te controleren voorzieningen NB: Een controlelijst behorende bij een controlemoment, kan dus opgebouwd zijn uit controlelijsten die behoren bij de te controleren activiteiten of voorzieningen, en een generiek deel.

Sheet Q-Toezicht-Handhaving
A1: Eisen
A2: Sectie | B2: Toezicht en Handhaving
A3: Nr. | B3: Aard | C3: Gewicht | D3: Inhoud
A4: Q1 | B4: Eis | C4: N.v.t | D4: Naar aanleiding van de bevindingen/overtredingen van een (her) controle moet direct een handhavingszaak aangemaakt kunnen worden op basis van een handhavingsstrategie.
A5: Q2 | B5: Eis | C5: N.v.t. | D5: De overtredingen waar de handhavingszaak betrekking op heeft, worden overgenomen uit de controlezaak.
A6: Q3 | B6: Eis | C6: N.v.t. | D6: Aan overtredingen kunnen handhavingsstrategieën gekoppeld worden.
A7: Q4 | B7: Eis | C7: N.v.t. | D7: Handhavingsprocedures moeten tussentijds afgebroken kunnen worden
A8: Q5 | B8: Eis | C8: N.v.t. | D8: Handhavingsstrategie is ad hoc aan te passen, bijvoorbeeld met een extra oplostermijn met extra hercontrole.
A9: Q6 | B9: Eis | C9: N.v.t. | D9: Binnen de keten van toezicht en handhaving zijn de verschillende stappen (zaken of deelzaken) eenvoudig in chronologie terug te vinden.
A10: Q7 | B10: Eis | C10: N.v.t. | D10: Binnen de keten van toezicht en handhaving zijn documenten van de huidige, voorgaande of toekomstige stappen eenvoudig terug te vinden. Inclusief de context van de stap in de keten van toezicht en handhaving waartoe het document behoort.

Sheet R- Leges
A1: Eisen
A2: Sectie | B2: Leges
A3: Nr. | B3: Aard | C3: Gewicht | D3: Inhoud
A4: R1 | B4: Eis | C4: N.v.t. | D4: De Oplossing biedt de functionaliteit om leges te berekenen op basis van verschillende grondslagen (legessoorten), zoals: - Vast bedrag per aanvraag - Variabel bedrag (bijvoorbeeld % van de bouwkosten) - Staffel (de hoogte van de bouwkosten worden in schijven(staffels) verdeeld, voor elke staffel wordt een bepaald percentage van dat deel van de bouwkosten gerekend als leges). - Maximumbedrag per aanvraag.
A5: R2 | B5: Eis | C5: N.v.t. | D5: Per zaak kunnen meerdere legesregels (van verschillende legessoorten) worden toegevoegd.
A6: R3 | B6: Eis | C6: N.v.t. | D6: De Oplossing biedt de mogelijkheid de legesverordening op te voeren. Hierbij kan een kopie worden gemaakt van de legesverordening van het voorgaande jaar om daarop de aanpassingen te maken.
A7: R4 | B7: Eis | C7: N.v.t. | D7: De Oplossing biedt de mogelijkheid de legesverordening te koppelen aan een geldigheidsduur.
A8: R5 | B8: Eis | C8: N.v.t. | D8: De Oplossing biedt de mogelijkheid meerdere legesverordeningen op eenzelfde moment te gebruiken, op basis van startdatum zaak.
A9: R6 | B9: Eis | C9: N.v.t. | D9: De Oplossing biedt de mogelijkheid om: - Het kunnen corrigeren van de legesregels, zolang de leges nog niet geaccordeerd zijn. - Te verrekenen, eerder opgelegde leges in mindering te brengen. - Teruggaaf van leges/Crediteren - Navorderen.
A10: R7 | B10: Eis | C10: N.v.t. | D10: De Oplossing biedt een overzicht van de nog te accorderen leges, van waaruit de verantwoordelijk medewerker de leges kan controleren en accorderen.
A11: R8 | B11: Eis | C11: N.v.t. | D11: Het accorderen van de leges kan worden gereguleerd door een permissie.
A12: R9 | B12: Eis | C12: N.v.t. | D12: Bij meerdere betrokken moet daarbinnen de debiteur worden aangewezen.
A13: R10 | B13: Eis | C13: N.v.t. | D13: Legesbedragen zijn in beschikkingen op te nemen inclusief de specificatie.
A14: R11 | B14: Eis | C14: N.v.t. | D14: De bouwkosten, zoals opgegeven door de initiatiefnemer en waar leges op gebaseerd kunnen zijn, moet binnen de zaak als veld vastgelegd kunnen worden.
A15: R12 | B15: Eis | C15: N.v.t. | D15: De Oplossing biedt de mogelijkheid de voor de eindgebruiker te selecteren leges uit de legesverordening, zaaktype (proces), product of datum (in gerelateerd aan de geldigheid van de legesverordening ) afhankelijk te maken. Zodat voorkomen wordt dat de keuzelijst onnodig lang is.

Sheet S-Functioneel beheer
A1: Eisen en wensen
A2: Sectie | B2: Functioneel Beheer
A3: Nr. | B3: Aard | C3: Gewicht | D3: Inhoud | E3: Oplossing voldoet aan wens JA/NEE invullen | F3: Aantal behaalde punten
A4: S1 | B4: Eis | C4: N.v.t. | D4: Er is een acceptatieomgeving beschikbaar van de Oplossing waarin: - Functioneel beheer van de gemeente Gooise Meren nieuwe functionaliteit of standaard inrichting van de leverancier kan testen - Gebruikers een aangepaste inrichting van functioneel beheer van de gemeente Gooise Meren kunnen accepteren.
A5: S2 | B5: Wens | C5: 2 | D5: Er is visueel onderscheid gemaakt tussen de acceptatie- en productieomgevingen, zodat er geen verwarring kan bestaan over de omgeving waarin een gebruiker of beheerder zich bevindt. | F5: =IF(E5="JA", 2, 0) -> 0
A6: S3 | B6: Eis | C6: N.v.t. | D6: Wat betreft geaccepteerde functionaliteit loopt de acceptatie- of test-omgeving maximaal gelijk met de productieomgeving.
A7: S4 | B7: Eis | C7: N.v.t. | D7: Nieuwe functionaliteit worden eerst aangeboden in een acceptatieomgeving voor een minimale acceptatieperiode van twee weken.
A8: S5 | B8: Eis | C8: N.v.t. | D8: Van nieuwe functionaliteit of andere geplande wijzigingen wordt documentatie gepubliceerd (‘Release Notes’) op het moment dat deze wijziging in de acceptatieomgeving beschikbaar komt.
A9: S6 | B9: Eis | C9: N.v.t. | D9: De Oplossing omvat functionaliteit waardoor de Functioneel beheerder de onderstaande zaken zelf kan beheren: - Zaaktypen / processen (stappen, adviezen, toetsen, namen en bijbehorende documenttypen/sjablonen, besluittypen, resultaten en producten) - Bepaalde tabellen (resultaten, producten, activiteiten) - Sjablonen - Voorschriften - Controlelijsten - Leges - Koppelvlakken
A10: S7 | B10: Eis | C10: N.v.t. | D10: Gebruikers en gebruikersrechten kunnen door de functionaal beheerder beheerd worden.
A11: S8 | B11: Eis | C11: N.v.t. | D11: De organisatie- of groepsrechten / functiegroepen kunnen door de functioneel beheerder beheerd worden.

Sheet T-Dienstverlening
A1: Eisen
A2: Sectie | B2: Dienstverlening
A3: Nr. | B3: Aard | C3: Gewicht | D3: Inhoud
A4: T1 | B4: Eis | C4: N.v.t. | D4: Servicedesk: Er worden naast reactietijden (zie Leidraad) ook afspraken gemaakt over de kwaliteit van de afhandeling van meldingen.
A5: T2 | B5: Eis | C5: N.v.t. | D5: Op werkdagen van 07.00 - 20.00 uur wordt de beschikbaarheid van de Oplossing voor minimaal 99,5% per maand gegarandeerd, voor de overige uren van de werkweek en het weekend wordt dit voor minimaal 99,0% per maand gegarandeerd. Er wordt uitgegaan van een beschikbaarheid van de verbinding vanuit Opdrachtgever van 100% waarbij gepland onderhoud niet wordt meegenomen.
A6: T3 | B6: Eis | C6: N.v.t. | D6: Onderhoud, in aanvulling op eis T2: Productie verstorend onderhoud vindt plaats buiten kantoortijden. Kantoortijden zijn: Maandag t/m vrijdag 7:00- 20:00 uur
A7: T4 | B7: Eis | C7: N.v.t. | D7: Beveiligingsincidenten: De Opdrachtnemer garandeert adequate back-up- en restorevoorzieningen van de Oplossing waarbij in geval van een gebeurtenis buiten de invloedsfeer van de Opdrachtnemer (bijvoorbeeld een ramp of incident) de afgesproken dienstverlening binnen 48 uur kan worden gecontinueerd en waarbij het verlies van gegevens maximaal 1 werkdag kan bedragen.
A8: T5 | B8: Eis | C8: N.v.t. | D8: Leverancier zorgt voor Nederlandstalige omschrijvingen van functionaliteit, technische specificaties, wijzigingen en (help) informatie voor eindgebruikers en gemeentelijke beheerders.
A9: T6 | B9: Eis | C9: N.v.t. | D9: De Leverancier zorgt voor een Nederlandstalige helpdesk. Hierbij wordt geen gebruik gemaakt van vertaaltools (zoals Google translate).

Sheet U-Migratie
A1: Eisen
A2: Sectie | B2: Migratie
A3: Nr. | B3: Aard | C3: Gewicht | D3: Inhoud
A4: U1 | B4: Eis | C4: N.v.t. | D4: Migratiewerkzaamheden (indien van toepassing) van de huidige applicatie naar de in te richten applicatie inclusief proef-conversies zijn onderdeel van deze opdracht. Lopende zaken en afgeronde zaken (zaakregistraties, metadata en documenten) moeten meegenomen worden. Er mogen geen gegevens verloren of beschadigd raken tijdens de conversie. Beschrijf dit t.z.t. in het migratieplan. De migratie moet zijn afgerond voor live-gang van de Oplossing.
A5: U2 | B5: Eis | C5: N.v.t. | D5: Indien van toepassing gaat de leverancier akkoord met 2 proefmigraties en 1 definitieve migratie.
