Workbook
Name Elfaktor: [1]Bodsudregning!$C$4
Name Elfaktor: Bodsudregning!$C$4
Name Kelvin: [2]Konstanter!$B$3
Name Kelvin: Konstanter!$B$3
Name størrelsesfaktor: [1]Bodsudregning!$C$3
Name størrelsesfaktor: Bodsudregning!$C$3

Sheet TJEK LISTE
A1: TJEK LISTE
A3: Driftsdata
A4: At investeringen ændrer på NPV
A5: At serviceaftale ændrer på NPV.
A6: At kompressorarbejdet ændrer på NPV.
A8: Varmepumpeberegning
A10: Tabel til hældning
A11: Dellastpunkter
A13: Tabel til graf og beregninger
A14: tjek hældningen passer med temperaturerne
A16: Systemberegning
A18: Afskrivningsperiode
... A23: Produktionsomkostninger

Sheet Operating data
B2: The tenderer is required to complete ALL the green cells | F2: Warmtenet Muiderberg | G2: Warmtenet Muiderberg
B3: All orange cells are pre defined. | F3: HP01 - Lot A | G3: HP01 - Lot A
B4: All blue cells are calculated values | F4: Date/rev.: | G4: Date/rev.: | H4: 26.08.2026 | I4: rev 3.0 | J4: The gasprice (reference case) has been adjustes to represente the expected future increase
B6: See section 8 in document 0.3 and section 6.2 in document 4.1 for definitions.
B8: Tenderer
B10: Date for filling out
B12: Total tender amount 1) | E12: EUR
B14: Price for complete service agreement for 5 years1) 3) | E14: EUR
B16: Total tender amount without service argreement 2) | D16: =D12-D14 -> 0 | E16: EUR
B18: Heat source: Water
C20: This number must be minimum 3100 kW | E20: ATES | F20: LAKE | G20: ATES | H20: LAKE | I20: ATES | J20: LAKE | K20: ATES | L20: LAKE
E21: Nominal operating point
C22: Operating point | E22: 1 | F22: 2 | G22: 3 | H22: 4 | I22: 5 | J22: 6 | K22: 7 | L22: 8
C23: Load | E23: 1 | F23: 1 | G23: 1 | H23: 1 | I23: 1 | J23: 1 | K23: 1 | L23: 1
C24: Weight (for techno-economic optimization) | E24: ='System calculation'!B5 -> 0.2 | F24: ='System calculation'!C5 -> 0.25 | G24: ='System calculation'!D5 -> 0.1 | H24: ='System calculation'!E5 -> 0.05 | I24: ='System calculation'!F5 -> 0.1 | J24: ='System calculation'!G5 -> 0.15 | K24: ='System calculation'!H5 -> 0.1 | L24: ='System calculation'!I5 -> 0.05
B25: Cold side, intermediate circuit
C26: Inlet temperature | D26: °C | E26: 11 | F26: 17 | G26: 17 | H26: 22 | I26: 11 | J26: 17 | K26: 17 | L26: 22
C27: Outlet temperature | D27: °C | E27: 5 | F27: 11 | G27: 6 | H27: 16 | I27: 5 | J27: 11 | K27: 6 | L27: 16
C28: Temperature decrease | D28: K | E28: =IFERROR(E26-E27,"") -> 6 | F28: =IFERROR(F26-F27,"") -> 6 | G28: =IFERROR(G26-G27,"") -> 11 | H28: =IFERROR(H26-H27,"") -> 6 | I28: =IFERROR(I26-I27,"") -> 6 | J28: =IFERROR(J26-J27,"") -> 6 | K28: =IFERROR(K26-K27,"") -> 11 | L28: =IFERROR(L26-L27,"") -> 6
C29: Water flow (max. 500 m³/h available) | D29: m³/h | E29: =E30/(4.19*980/3600*E28) -> 0 | F29: =F30/(4.19*980/3600*F28) -> 0 | G29: =G30/(4.19*980/3600*G28) -> 0 | H29: =H30/(4.19*980/3600*H28) -> 0 | I29: =I30/(4.19*980/3600*I28) -> 0 | J29: =J30/(4.19*980/3600*J28) -> 0 | K29: =K30/(4.19*980/3600*K28) -> 0 | L29: =L30/(4.19*980/3600*L28) -> 0
C30: Cooling capacity | D30: kW
C31: Pressure loss | D31: kPa
C33: Evaporation temperature, heat pump | D33: °C
B34: Hot side, district heating
C35: Return temperature | D35: °C | E35: 50 | F35: 50 | G35: 50 | H35: 50 | I35: 35 | J35: 35 | K35: 35 | L35: 35
C36: Supply temperature | D36: °C | E36: 72 | F36: 72 | G36: 72 | H36: 72 | I36: 72 | J36: 72 | K36: 72 | L36: 72
C37: Temperature increase | D37: K | E37: =E36-E35 -> 22 | F37: =F36-F35 -> 22 | G37: =G36-G35 -> 22 | H37: =H36-H35 -> 22 | I37: =I36-I35 -> 37 | J37: =J36-J35 -> 37 | K37: =K36-K35 -> 37 | L37: =L36-L35 -> 37
C38: Heat capacity 1) | D38: kW
C39: Flow | D39: m³/h | E39: =E38/(980*4.19*E37)*3600 -> 0 | F39: =F38/(980*4.19*F37)*3600 -> 0 | G39: =G38/(980*4.19*G37)*3600 -> 0 | H39: =H38/(980*4.19*H37)*3600 -> 0 | I39: =I38/(980*4.19*I37)*3600 -> 0 | J39: =J38/(980*4.19*J37)*3600 -> 0 | K39: =K38/(980*4.19*K37)*3600 -> 0 | L39: =L38/(980*4.19*L37)*3600 -> 0
C40: Pressure loss | D40: kPa
B41: Electricity consumption
C42: Compressors | D42: kW
C43: Electrical power for pump(s), cold side | D43: kW
C44: Electrical power for pump(s), warm side | D44: kW
C45: All other electricity consumption | D45: kW
C46: In total 1) | D46: kW | E46: =(E44+E42+E43+E45)*Elfaktor -> 0 | F46: =(F44+F42+F43+F45)*Elfaktor -> 0 | G46: =(G44+G42+G43+G45)*Elfaktor -> 0 | H46: =(H44+H42+H43+H45)*Elfaktor -> 0 | I46: =(I44+I42+I43+I45)*Elfaktor -> 0 | J46: =(J44+J42+J43+J45)*Elfaktor -> 0 | K46: =(K44+K42+K43+K45)*Elfaktor -> 0 | L46: =(L44+L42+L43+L45)*Elfaktor -> 0
B47: Efficiency
C48: COP-warm | D48: - | E48: =E38/E46 -> #DIV/0! | F48: =F38/F46 -> #DIV/0! | G48: =G38/G46 -> #DIV/0! | H48: =H38/H46 -> #DIV/0! | I48: =I38/I46 -> #DIV/0! | J48: =J38/J46 -> #DIV/0! | K48: =K38/K46 -> #DIV/0! | L48: =L38/L46 -> #DIV/0!
C49: LMTD cold | D49: K | E49: =(E26-E27)/LN((E26+Kelvin)/MAX(1,E27+Kelvin)) -> 281.13933 | F49: =(F26-F27)/LN((F26+Kelvin)/MAX(1,F27+Kelvin)) -> 287.13955 | G49: =(G26-G27)/LN((G26+Kelvin)/MAX(1,G27+Kelvin)) -> 284.61457 | H49: =(H26-H27)/LN((H26+Kelvin)/MAX(1,H27+Kelvin)) -> 292.13973 | I49: =(I26-I27)/LN((I26+Kelvin)/MAX(1,I27+Kelvin)) -> 281.13933 | J49: =(J26-J27)/LN((J26+Kelvin)/MAX(1,J27+Kelvin)) -> 287.13955 | K49: =(K26-K27)/LN((K26+Kelvin)/MAX(1,K27+Kelvin)) -> 284.61457 | L49: =(L26-L27)/LN((L26+Kelvin)/MAX(1,L27+Kelvin)) -> 292.13973
C50: LMTD warm | D50: K | E50: =(E36-E35)/LN((E36+Kelvin)/MAX(1,E35+Kelvin)) -> 334.02926 | F50: =(F36-F35)/LN((F36+Kelvin)/MAX(1,F35+Kelvin)) -> 334.02926 | G50: =(G36-G35)/LN((G36+Kelvin)/MAX(1,G35+Kelvin)) -> 334.02926 | H50: =(H36-H35)/LN((H36+Kelvin)/MAX(1,H35+Kelvin)) -> 334.02926 | I50: =(I36-I35)/LN((I36+Kelvin)/MAX(1,I35+Kelvin)) -> 326.30045 | J50: =(J36-J35)/LN((J36+Kelvin)/MAX(1,J35+Kelvin)) -> 326.30045 | K50: =(K36-K35)/LN((K36+Kelvin)/MAX(1,K35+Kelvin)) -> 326.30045 | L50: =(L36-L35)/LN((L36+Kelvin)/MAX(1,L35+Kelvin)) -> 326.30045
...

Sheet System calculation
A1: Input
A3: Heat pump
A4: ='Operating data'!C22 -> Operating point | B4: ='Operating data'!E22 -> 1 | C4: ='Operating data'!F22 -> 2 | D4: ='Operating data'!G22 -> 3 | E4: ='Operating data'!H22 -> 4 | F4: ='Operating data'!I22 -> 5 | G4: ='Operating data'!J22 -> 6 | H4: ='Operating data'!K22 -> 7 | I4: ='Operating data'!L22 -> 8 | M4: In Danish
A5: Vægtning | B5: 0.2 | C5: 0.25 | D5: 0.1 | E5: 0.05 | F5: 0.1 | G5: 0.15 | H5: 0.1 | I5: 0.05 | J5: Weighted average | Q5: Heat Demand
A6: COP-varm | B6: ='Operating data'!E48 -> #DIV/0! | C6: ='Operating data'!F48 -> #DIV/0! | D6: ='Operating data'!G48 -> #DIV/0! | E6: ='Operating data'!H48 -> #DIV/0! | F6: ='Operating data'!I48 -> #DIV/0! | G6: ='Operating data'!J48 -> #DIV/0! | H6: ='Operating data'!K48 -> #DIV/0! | I6: ='Operating data'!L48 -> #DIV/0! | J6: =SUMPRODUCT(B5:I5,B6:I6) -> #DIV/0! | O6: 7.45 | R6: Value | S6: Unit | T6: Comment
Q7: # small consumers | R7: 1336 | S7: - | T7: All total potential consumers
A8: Operation | M8: Drift | N8: Numbers in DKK | Q8: Connecrion rate SC | R8: 0.8 | S8: -
A9: O&M | B9: ='Operating data'!D14/(AVERAGE('Operating data'!E38:L38)/1000*4200*B18) -> #DIV/0! | C9: EUR/MWh heat | D9: 4200 hours of operation each year | G9: THN - keep the 4200 hours this is in line with energypro and the documents | M9: D&V [kr./MWh] | N9: =B9*$O$6 -> #DIV/0! | O9: kr/MWh_varme | Q9: # large consumers | R9: 18 | S9: - | T9: 18 out of 22
A10: Tariffs & Distribution Costs | B10: 69 | C10: EUR/MWh elec | D10: utrecht | M10: Afgifter | N10: =B10*$O$6 -> 514.05 | O10: kr./MWh el | Q10: Heat Demand SC | R10: 10.805556 | S10: MWh/yr | T10: From BuCa
A11: Electricity | B11: 80 | C11: EUR/MWh elec | D11: higher boundary | M11: Brændsel pris | N11: =B11*$O$6 -> 596 | O11: kr./MWh el | Q11: Heat Demand LC | R11: 32.777778 | S11: MWh/yr | T11: From BuCa
A12: Yearly heat production from heat pump | B12: =R14 -> 15173.722 | C12: MWh | M12: Årlig varmeproduktion | N12: =B12 -> 15173.722 | O12: MWh | Q12: Total Heat Demand | R12: 12138.978 | S12: MWh/yr | T12: 80% CR
Q13: Heat losses | R13: 0.2 | S13: -
Q14: Total heat Production | R14: =R12/(1-R13) -> 15173.722
A15: Other input | M15: Øvrige input
A16: Economic lifet ime | B16: 15 | C16: years | D16: {=IF(B16=INDEX(A45:A69,COUNT(A45:A69)),"OK","RET")} -> OK | M16: Teknisk levetid [år] | N16: =B16 -> 15 | O16: år
A17: Interest | B17: 0.035 | C17: p.a. | M17: Real rente [%] | N17: =B17 -> 0.035 | O17: p.a.
A18: Service agreement term | B18: 5 | C18: years | E18: don't change this back to 10 yr if we do that that calculations of O&M is wrong | M18: Løbetid serviceaftale [år] | N18: =B18 -> 5 | O18: år
A19: Other client costs | B19: 0 | C19: EUR | M19: Bygherres øvrige omkostninger [DKK] | N19: =B19 -> 0 | O19: kr.
M20: Årlig driftsomkostning, reference | N20: =B21*$O$6 -> 10173981 | O20: kr/år
A21: Annual operating cost, reference | B21: =B12*90 -> 1365635 | C21: EUR/year | D21: utrecht
A23: Calculations and result
A25: HP FLH | B25: =B12/(AVERAGE('Operating data'!E30:L30)/1000) -> #DIV/0! | C25: FLH | M25: VP fuldlasttimer | N25: =N12/(AVERAGE('Operating data'!E30:L30)/1000) -> #DIV/0! | O25: FLH
A26: Heat production cost | B26: =(B11+B10)/J6+B9 -> #DIV/0! | C26: EUR/MWh | M26: Produktionspris | N26: =(N11+N10)/J6+N9 -> #DIV/0! | O26: kr./MWh varme
A27: Yearly electricity consumption | B27: =B12/J6 -> #DIV/0! | C27: MWh | M27: Årlig elforbrug | N27: =N12/J6 -> #DIV/0! | O27: MWh el
A28: Yearly O&M cost | B28: =B12*B9 -> #DIV/0! | C28: EUR/year | M28: Årlig D&V | N28: =N12*N9 -> #DIV/0! | O28: kr./år
A29: Yearly electricity cost | B29: =B27*(B10+B11) -> #DIV/0! | C29: EUR/year | M29: Årlig elomkostninger | N29: =N27*(N10+N11) -> #DIV/0! | O29: kr./år
A30: Yearlig production cost, heat pump | B30: =B26*B12 -> #DIV/0! | C30: EUR/year | M30: Årlig produktionsomkostninger | N30: =N26*N12 -> #DIV/0! | O30: kr./år
A32: NPV
A33: Gross investment | B33: ='Operating data'!D16+B19 -> 0 | C33: EUR | M33: Brutto investering | N33: =B33*$O$6 -> 0 | O33: kr.
A34: First-year capital costs | B34: =PMT(B17,B16,-B33) -> 0 | C34: EUR | M34: 1. års kapitalomkostninger | N34: =PMT(N17,N16,-N33) -> 0 | O34: kr.
A35: Operating costs without heat pump | B35: ='System calculation'!B21 -> 1365635 | C35: EUR/year | M35: Driftsomkostninger uden VP | N35: ='System calculation'!N20 -> 10173981 | O35: kr./år
A36: Operating costs with heat pump | B36: =B30 -> #DIV/0! | C36: EUR/year | M36: Driftsomkostninger med VP | N36: =N30 -> #DIV/0! | O36: kr./år
A37: Operating cost savings | B37: =B35-B36 -> #DIV/0! | C37: EUR/year | M37: Driftsbesparelse | N37: =N35-N36 -> #DIV/0! | O37: kr./år
A38: Simple payback period | B38: =B33/B37 -> #DIV/0! | C38: Years | M38: Simpel tilbagebetalingstid | N38: =N33/N37 -> #DIV/0! | O38: år
A39: First-year net savings | B39: =B37-B34 -> #DIV/0! | C39: EUR/1.year | M39: 1. års nettobesparelse | N39: =N37-N34 -> #DIV/0! | O39: kr./1. år
A40: Internal rate of return (IRR) | B40: =IRR(C44:C59) -> #VALUE! | C40: p.a. | M40: Intern rente | N40: =IRR(O44:O59) -> #VALUE! | O40: p.a.
A41: Net present value (NPV) | B41: =NPV(B17,B45:B59)+B44 -> #DIV/0! | C41: EUR | D41: =IF(ROUND(B41,0)=ROUND(C66,0),"OK","RET") -> #DIV/0! | M41: Nutidsværdi | N41: =NPV(N17,N45:N59)+N44 -> #DIV/0! | O41: kr.
A43: Year | M43: År
A44: 0 | B44: =-B33 -> 0 | C44: =B44 -> 0 | M44: 0 | N44: =-N33 -> 0 | O44: =N44 -> 0
A45: 1 | B45: =$B$37 -> #DIV/0! | C45: =B45*(1+$B$17)^(-A45) -> #DIV/0! | M45: 1 | N45: =$N$37 -> #DIV/0! | O45: =N45*(1+$N$17)^(-M45) -> #DIV/0!
...

Sheet Konstanter
C2: Enhed
A3: Kelvin | B3: 273.15 | C3: K

Sheet Bodsudregning
B3: Størrelsesfaktor | C3: 1
B4: El-faktor | C4: 1
B5: Effekt | D5: kW
B6: Lorenz | C6: =AVERAGE(#REF!) -> #REF! | D6: -
B7: Nutidsværdi | C7: ='System calculation'!B41 -> #DIV/0! | D7: kr
B9: Effekt / [kW] | E9: =B$3 -> Størrelsesfaktor
C10: =C5 -> 0 | D10: 0.99 | E10: 1 | F10: 1.01
C11: 1.01 | D11: 0 | E11: 0 | F11: 0
B12: =B$4 -> El-faktor | C12: 1 | D12: 0 | E12: 0 | F12: 0
C13: 0.99 | D13: 0 | E13: 0 | F13: 0
B15: Lorenz | E15: =B$3 -> Størrelsesfaktor
C16: =C6 -> #REF! | D16: =D10 -> 0.99 | E16: =E10 -> 1 | F16: =F10 -> 1.01
C17: =C11 -> 1.01 | D17: #REF! | E17: #REF! | F17: #REF!
B18: =B$4 -> El-faktor | C18: =C12 -> 1 | D18: #REF! | E18: #REF! | F18: #REF!
C19: =C13 -> 0.99 | D19: #REF! | E19: #REF! | F19: #REF!
I20: Nutidsværdi
B21: Nutidsværdi / [kr.] | E21: =B$3 -> Størrelsesfaktor | I21: kr./%-point
C22: =C7 -> #DIV/0! | D22: =D10 -> 0.99 | E22: =E10 -> 1 | F22: =F10 -> 1.01
C23: =C11 -> 1.01 | D23: #DIV/0! | E23: #DIV/0! | F23: #DIV/0! | I23: =(E23-E$24)/(E17-E$18)/100 -> #DIV/0!
B24: =B$4 -> El-faktor | C24: =C12 -> 1 | D24: #DIV/0! | E24: #DIV/0! | F24: #DIV/0!
C25: =C13 -> 0.99 | D25: #DIV/0! | E25: #DIV/0! | F25: #DIV/0! | I25: =(E25-E$24)/(E19-E$18)/100 -> #DIV/0!
I28: =(I23+I25)/2/100 -> #DIV/0! | J28: kr./ 0,01 %-point i gennemsnit
I29: =I28/3 -> #DIV/0! | J29: kr./ 0,01 %-point i gennemsnit efter et rimelighedsprincip
