Workbook
Name SCORE: 'Beoordelen proefopdrachten'!$A$17:$A$19

Sheet Beoordelen proefopdrachten
A1: KWALITEITSNORMERING Geldend voor alle type machines.
A2: Balken en teksten | B2: Grijswaarden | C2: Voldoet | D2: Grijswaarden zijn 100% zichtbaar (kleur zoals bedoeld)
C3: Voldoet niet | D3: Grijswaarden zijn (deels) niet meer zichtbaar of onderscheid tussen verschillende grijswaarden is niet meer zichtbaar
B4: Lichte tinten | C4: Voldoet | D4: Lichte tinten zijn 100% zichtbaar (kleur zoals bedoeld)
C5: Voldoet niet | D5: Lichte tinten zijn (deels) niet meer zichtbaar of onderscheid tussen verschillende tinten is niet meer zichtbaar
B6: Felle tinten | C6: Voldoet | D6: Felle tinten zijn 100% zichtbaar (kleur zoals bedoeld)
C7: Voldoet niet | D7: Felle tinten zijn (deels) niet meer zichtbaar of onderscheid tussen verschillende tinten is niet meer zichtbaar
B8: Teksten in kleur | C8: Voldoet | D8: Alle teksten zijn zichtbaar en leesbaar
C9: Voldoet niet | D9: Teksten zijn (deels) niet meer zichtbaar of niet meer leesbaar
A10: Logo | B10: Kleur/contrast | C10: Voldoet | D10: Logo is vergelijkbaar of beter dan op de referentieafdruk
C11: Voldoet niet | D11: Logo is minder goed dan op de referentieafdruk
A12: Algemeen | B12: Strepen | C12: Voldoet | D12: Geen streepvorming
C13: Voldoet niet | D13: Streepvorming (banen, strepen, vervuiling)
B14: Recht | C14: Voldoet | D14: Afwijking maximaal 1 mm (links en rechts gemeten)
C15: Voldoet niet | D15: Afwijking van meer dan 1 mm
A16: SCORE:
A17: Voldoet
A18: Voldoet niet
A19: SCORE:

Sheet Beoordelaar 1
B1: Naam beoordelaar 1: <<>> | D1: Naam Inschrijver: <<>>
B3: Type: <<>> | D3: ='Beoordelen proefopdrachten'!A1 -> KWALITEITSNORMERING Geldend voor alle type machines.
A4: ='Beoordelen proefopdrachten'!$A$2 -> Balken en teksten | D4: Behaalde punten zwart-wit | H4: Behaalde punten full color
B5: ='Beoordelen proefopdrachten'!$B$2 -> Grijswaarden | D5: PRINT: | E5: SCORE: | F5: KOPIE: | G5: SCORE: | H5: PRINT: | I5: SCORE: | J5: KOPIE: | K5: SCORE:
D6: <MOTIVATIE> | F6: <MOTIVATIE> | H6: <MOTIVATIE> | J6: <MOTIVATIE>
D7: Behaalde punten zwart-wit | H7: Behaalde punten full color
B8: ='Beoordelen proefopdrachten'!$B$4 -> Lichte tinten | D8: PRINT: | E8: SCORE: | F8: KOPIE: | G8: SCORE: | H8: PRINT: | I8: SCORE: | J8: KOPIE: | K8: SCORE:
D9: <MOTIVATIE> | F9: <MOTIVATIE> | H9: <MOTIVATIE> | J9: <MOTIVATIE>
D10: Behaalde punten zwart-wit | H10: Behaalde punten full color
B11: ='Beoordelen proefopdrachten'!$B$6 -> Felle tinten | D11: PRINT: | E11: SCORE: | F11: KOPIE: | G11: SCORE: | H11: PRINT: | I11: SCORE: | J11: KOPIE: | K11: SCORE:
D12: <MOTIVATIE> | F12: <MOTIVATIE> | H12: <MOTIVATIE> | J12: <MOTIVATIE>
D13: Behaalde punten zwart-wit | H13: Behaalde punten full color
B14: ='Beoordelen proefopdrachten'!$B$8 -> Teksten in kleur | D14: PRINT: | E14: SCORE: | F14: KOPIE: | G14: SCORE: | H14: PRINT: | I14: SCORE: | J14: KOPIE: | K14: SCORE:
D15: <MOTIVATIE> | F15: <MOTIVATIE> | H15: <MOTIVATIE> | J15: <MOTIVATIE>
A16: ='Beoordelen proefopdrachten'!$A$10 -> Logo | D16: Behaalde punten zwart-wit | H16: Behaalde punten full color
B17: ='Beoordelen proefopdrachten'!$B$10 -> Kleur/contrast | D17: PRINT: | E17: SCORE: | F17: KOPIE: | G17: SCORE: | H17: PRINT: | I17: SCORE: | J17: KOPIE: | K17: SCORE:
D18: <MOTIVATIE> | F18: <MOTIVATIE> | H18: <MOTIVATIE> | J18: <MOTIVATIE>
A19: ='Beoordelen proefopdrachten'!$A$12 -> Algemeen | D19: Behaalde punten zwart-wit | H19: Behaalde punten full color
B20: ='Beoordelen proefopdrachten'!$B$12 -> Strepen | D20: PRINT: | E20: SCORE: | F20: KOPIE: | G20: SCORE: | H20: PRINT: | I20: SCORE: | J20: KOPIE: | K20: SCORE:
D21: <MOTIVATIE> | F21: <MOTIVATIE> | H21: <MOTIVATIE> | J21: <MOTIVATIE>
D22: Behaalde punten zwart-wit | H22: Behaalde punten full color
B23: ='Beoordelen proefopdrachten'!$B$14 -> Recht | D23: PRINT: | E23: SCORE: | F23: KOPIE: | G23: SCORE: | H23: PRINT: | I23: SCORE: | J23: KOPIE: | K23: SCORE:
D24: <MOTIVATIE> | F24: <MOTIVATIE> | H24: <MOTIVATIE> | J24: <MOTIVATIE>

Sheet Beoordelaar 2
B1: Naam beoordelaar 2: <<>> | D1: ='Beoordelaar 1'!$D$1 -> Naam Inschrijver: <<>>
B3: ='Beoordelaar 1'!$B$3 -> Type: <<>> | D3: ='Beoordelen proefopdrachten'!A1 -> KWALITEITSNORMERING Geldend voor alle type machines.
A4: ='Beoordelen proefopdrachten'!$A$2 -> Balken en teksten | D4: Behaalde punten zwart-wit | H4: Behaalde punten full color
B5: ='Beoordelen proefopdrachten'!$B$2 -> Grijswaarden | D5: PRINT: | E5: SCORE: | F5: KOPIE: | G5: SCORE: | H5: PRINT: | I5: SCORE: | J5: KOPIE: | K5: SCORE:
D6: <MOTIVATIE> | F6: <MOTIVATIE> | H6: <MOTIVATIE> | J6: <MOTIVATIE>
D7: Behaalde punten zwart-wit | H7: Behaalde punten full color
B8: ='Beoordelen proefopdrachten'!$B$4 -> Lichte tinten | D8: PRINT: | E8: SCORE: | F8: KOPIE: | G8: SCORE: | H8: PRINT: | I8: SCORE: | J8: KOPIE: | K8: SCORE:
D9: <MOTIVATIE> | F9: <MOTIVATIE> | H9: <MOTIVATIE> | J9: <MOTIVATIE>
D10: Behaalde punten zwart-wit | H10: Behaalde punten full color
B11: ='Beoordelen proefopdrachten'!$B$6 -> Felle tinten | D11: PRINT: | E11: SCORE: | F11: KOPIE: | G11: SCORE: | H11: PRINT: | I11: SCORE: | J11: KOPIE: | K11: SCORE:
D12: <MOTIVATIE> | F12: <MOTIVATIE> | H12: <MOTIVATIE> | J12: <MOTIVATIE>
D13: Behaalde punten zwart-wit | H13: Behaalde punten full color
B14: ='Beoordelen proefopdrachten'!$B$8 -> Teksten in kleur | D14: PRINT: | E14: SCORE: | F14: KOPIE: | G14: SCORE: | H14: PRINT: | I14: SCORE: | J14: KOPIE: | K14: SCORE:
D15: <MOTIVATIE> | F15: <MOTIVATIE> | H15: <MOTIVATIE> | J15: <MOTIVATIE>
A16: ='Beoordelen proefopdrachten'!$A$10 -> Logo | D16: Behaalde punten zwart-wit | H16: Behaalde punten full color
B17: ='Beoordelen proefopdrachten'!$B$10 -> Kleur/contrast | D17: PRINT: | E17: SCORE: | F17: KOPIE: | G17: SCORE: | H17: PRINT: | I17: SCORE: | J17: KOPIE: | K17: SCORE:
D18: <MOTIVATIE> | F18: <MOTIVATIE> | H18: <MOTIVATIE> | J18: <MOTIVATIE>
A19: ='Beoordelen proefopdrachten'!$A$12 -> Algemeen | D19: Behaalde punten zwart-wit | H19: Behaalde punten full color
B20: ='Beoordelen proefopdrachten'!$B$12 -> Strepen | D20: PRINT: | E20: SCORE: | F20: KOPIE: | G20: SCORE: | H20: PRINT: | I20: SCORE: | J20: KOPIE: | K20: SCORE:
D21: <MOTIVATIE> | F21: <MOTIVATIE> | H21: <MOTIVATIE> | J21: <MOTIVATIE>
D22: Behaalde punten zwart-wit | H22: Behaalde punten full color
B23: ='Beoordelen proefopdrachten'!$B$14 -> Recht | D23: PRINT: | E23: SCORE: | F23: KOPIE: | G23: SCORE: | H23: PRINT: | I23: SCORE: | J23: KOPIE: | K23: SCORE:
D24: <MOTIVATIE> | F24: <MOTIVATIE> | H24: <MOTIVATIE> | J24: <MOTIVATIE>

Sheet Beoordelaar 3
B1: Naam beoordelaar 3: <<>> | D1: ='Beoordelaar 1'!$D$1 -> Naam Inschrijver: <<>>
B3: ='Beoordelaar 1'!$B$3 -> Type: <<>> | D3: ='Beoordelen proefopdrachten'!A1 -> KWALITEITSNORMERING Geldend voor alle type machines.
A4: ='Beoordelen proefopdrachten'!$A$2 -> Balken en teksten | D4: Behaalde punten zwart-wit | H4: Behaalde punten full color
B5: ='Beoordelen proefopdrachten'!$B$2 -> Grijswaarden | D5: PRINT: | E5: SCORE: | F5: KOPIE: | G5: SCORE: | H5: PRINT: | I5: SCORE: | J5: KOPIE: | K5: SCORE:
D6: <MOTIVATIE> | F6: <MOTIVATIE> | H6: <MOTIVATIE> | J6: <MOTIVATIE>
D7: Behaalde punten zwart-wit | H7: Behaalde punten full color
B8: ='Beoordelen proefopdrachten'!$B$4 -> Lichte tinten | D8: PRINT: | E8: SCORE: | F8: KOPIE: | G8: SCORE: | H8: PRINT: | I8: SCORE: | J8: KOPIE: | K8: SCORE:
D9: <MOTIVATIE> | F9: <MOTIVATIE> | H9: <MOTIVATIE> | J9: <MOTIVATIE>
D10: Behaalde punten zwart-wit | H10: Behaalde punten full color
B11: ='Beoordelen proefopdrachten'!$B$6 -> Felle tinten | D11: PRINT: | E11: SCORE: | F11: KOPIE: | G11: SCORE: | H11: PRINT: | I11: SCORE: | J11: KOPIE: | K11: SCORE:
D12: <MOTIVATIE> | F12: <MOTIVATIE> | H12: <MOTIVATIE> | J12: <MOTIVATIE>
D13: Behaalde punten zwart-wit | H13: Behaalde punten full color
B14: ='Beoordelen proefopdrachten'!$B$8 -> Teksten in kleur | D14: PRINT: | E14: SCORE: | F14: KOPIE: | G14: SCORE: | H14: PRINT: | I14: SCORE: | J14: KOPIE: | K14: SCORE:
D15: <MOTIVATIE> | F15: <MOTIVATIE> | H15: <MOTIVATIE> | J15: <MOTIVATIE>
A16: ='Beoordelen proefopdrachten'!$A$10 -> Logo | D16: Behaalde punten zwart-wit | H16: Behaalde punten full color
B17: ='Beoordelen proefopdrachten'!$B$10 -> Kleur/contrast | D17: PRINT: | E17: SCORE: | F17: KOPIE: | G17: SCORE: | H17: PRINT: | I17: SCORE: | J17: KOPIE: | K17: SCORE:
D18: <MOTIVATIE> | F18: <MOTIVATIE> | H18: <MOTIVATIE> | J18: <MOTIVATIE>
A19: ='Beoordelen proefopdrachten'!$A$12 -> Algemeen | D19: Behaalde punten zwart-wit | H19: Behaalde punten full color
B20: ='Beoordelen proefopdrachten'!$B$12 -> Strepen | D20: PRINT: | E20: SCORE: | F20: KOPIE: | G20: SCORE: | H20: PRINT: | I20: SCORE: | J20: KOPIE: | K20: SCORE:
D21: <MOTIVATIE> | F21: <MOTIVATIE> | H21: <MOTIVATIE> | J21: <MOTIVATIE>
D22: Behaalde punten zwart-wit | H22: Behaalde punten full color
B23: ='Beoordelen proefopdrachten'!$B$14 -> Recht | D23: PRINT: | E23: SCORE: | F23: KOPIE: | G23: SCORE: | H23: PRINT: | I23: SCORE: | J23: KOPIE: | K23: SCORE:
D24: <MOTIVATIE> | F24: <MOTIVATIE> | H24: <MOTIVATIE> | J24: <MOTIVATIE>

Sheet Scores per item
E1: ='Beoordelaar 1'!D1 -> Naam Inschrijver: <<>>
E3: ='Beoordelen proefopdrachten'!A1 -> KWALITEITSNORMERING Geldend voor alle type machines.
A4: ='Beoordelaar 1'!B3 -> Type: <<>> | E4: Print ZW | G4: Kopie ZW | I4: Print FC | K4: Kopie FC
A5: ='Beoordelen proefopdrachten'!$A$2 -> Balken en teksten | B5: ='Beoordelen proefopdrachten'!$B$2 -> Grijswaarden | C5: ='Beoordelaar 1'!$B$1 -> Naam beoordelaar 1: <<>> | E5: ='Beoordelaar 1'!E5 -> SCORE: | F5: <<motivatie PRINT ZW>> | G5: ='Beoordelaar 1'!G5 -> SCORE: | H5: <<motivatie KOPIE ZW>> | I5: ='Beoordelaar 1'!I5 -> SCORE: | J5: <<motivatie PRINT FC>> | K5: ='Beoordelaar 1'!K5 -> SCORE: | L5: <<motivatie KOPIE FC>>
C6: ='Beoordelaar 2'!$B$1 -> Naam beoordelaar 2: <<>> | E6: ='Beoordelaar 2'!E5 -> SCORE: | G6: ='Beoordelaar 2'!G5 -> SCORE: | I6: ='Beoordelaar 2'!I5 -> SCORE: | K6: ='Beoordelaar 2'!K5 -> SCORE:
C7: ='Beoordelaar 3'!$B$1 -> Naam beoordelaar 3: <<>> | E7: ='Beoordelaar 3'!E5 -> SCORE: | G7: ='Beoordelaar 3'!G5 -> SCORE: | I7: ='Beoordelaar 3'!I5 -> SCORE: | K7: ='Beoordelaar 3'!K5 -> SCORE:
C8: Consensus | E8: SCORE: | G8: SCORE: | I8: SCORE: | K8: SCORE:
B9: ='Beoordelen proefopdrachten'!$B$4 -> Lichte tinten | C9: ='Beoordelaar 1'!$B$1 -> Naam beoordelaar 1: <<>> | E9: ='Beoordelaar 1'!E8 -> SCORE: | F9: <<motivatie PRINT ZW>> | G9: ='Beoordelaar 1'!G8 -> SCORE: | H9: <<motivatie KOPIE ZW>> | I9: ='Beoordelaar 1'!I8 -> SCORE: | J9: <<motivatie PRINT FC>> | K9: ='Beoordelaar 1'!K8 -> SCORE: | L9: <<motivatie KOPIE FC>>
C10: ='Beoordelaar 2'!$B$1 -> Naam beoordelaar 2: <<>> | E10: ='Beoordelaar 2'!E8 -> SCORE: | G10: ='Beoordelaar 2'!G8 -> SCORE: | I10: ='Beoordelaar 2'!I8 -> SCORE: | K10: ='Beoordelaar 2'!K8 -> SCORE:
C11: ='Beoordelaar 3'!$B$1 -> Naam beoordelaar 3: <<>> | E11: ='Beoordelaar 3'!E8 -> SCORE: | G11: ='Beoordelaar 3'!G8 -> SCORE: | I11: ='Beoordelaar 3'!I8 -> SCORE: | K11: ='Beoordelaar 3'!K8 -> SCORE:
C12: Consensus | E12: SCORE: | G12: SCORE: | I12: SCORE: | K12: SCORE:
B13: ='Beoordelen proefopdrachten'!$B$6 -> Felle tinten | C13: ='Beoordelaar 1'!$B$1 -> Naam beoordelaar 1: <<>> | E13: ='Beoordelaar 1'!E11 -> SCORE: | F13: <<motivatie PRINT ZW>> | G13: ='Beoordelaar 1'!G11 -> SCORE: | H13: <<motivatie KOPIE ZW>> | I13: ='Beoordelaar 1'!I11 -> SCORE: | J13: <<motivatie PRINT FC>> | K13: ='Beoordelaar 1'!K11 -> SCORE: | L13: <<motivatie KOPIE FC>>
C14: ='Beoordelaar 2'!$B$1 -> Naam beoordelaar 2: <<>> | E14: ='Beoordelaar 2'!E11 -> SCORE: | G14: ='Beoordelaar 2'!G11 -> SCORE: | I14: ='Beoordelaar 2'!I11 -> SCORE: | K14: ='Beoordelaar 2'!K11 -> SCORE:
C15: ='Beoordelaar 3'!$B$1 -> Naam beoordelaar 3: <<>> | E15: ='Beoordelaar 3'!E11 -> SCORE: | G15: ='Beoordelaar 3'!G11 -> SCORE: | I15: ='Beoordelaar 3'!I11 -> SCORE: | K15: ='Beoordelaar 3'!K11 -> SCORE:
C16: Consensus | E16: SCORE: | G16: SCORE: | I16: SCORE: | K16: SCORE:
B17: ='Beoordelen proefopdrachten'!$B$8 -> Teksten in kleur | C17: ='Beoordelaar 1'!$B$1 -> Naam beoordelaar 1: <<>> | E17: ='Beoordelaar 1'!E14 -> SCORE: | F17: <<motivatie PRINT ZW>> | G17: ='Beoordelaar 1'!G14 -> SCORE: | H17: <<motivatie KOPIE ZW>> | I17: ='Beoordelaar 1'!I14 -> SCORE: | J17: <<motivatie PRINT FC>> | K17: ='Beoordelaar 1'!K14 -> SCORE: | L17: <<motivatie KOPIE FC>>
C18: ='Beoordelaar 2'!$B$1 -> Naam beoordelaar 2: <<>> | E18: ='Beoordelaar 2'!E14 -> SCORE: | G18: ='Beoordelaar 2'!G14 -> SCORE: | I18: ='Beoordelaar 2'!I14 -> SCORE: | K18: ='Beoordelaar 2'!K14 -> SCORE:
C19: ='Beoordelaar 3'!$B$1 -> Naam beoordelaar 3: <<>> | E19: ='Beoordelaar 3'!E14 -> SCORE: | G19: ='Beoordelaar 3'!G14 -> SCORE: | I19: ='Beoordelaar 3'!I14 -> SCORE: | K19: ='Beoordelaar 3'!K14 -> SCORE:
C20: Consensus | E20: SCORE: | G20: SCORE: | I20: SCORE: | K20: SCORE:
A21: ='Beoordelen proefopdrachten'!$A$10 -> Logo | B21: ='Beoordelen proefopdrachten'!$B$10 -> Kleur/contrast | C21: ='Beoordelaar 1'!$B$1 -> Naam beoordelaar 1: <<>> | E21: ='Beoordelaar 1'!E17 -> SCORE: | F21: <<motivatie PRINT ZW>> | G21: ='Beoordelaar 1'!G17 -> SCORE: | H21: <<motivatie KOPIE ZW>> | I21: ='Beoordelaar 1'!I17 -> SCORE: | J21: <<motivatie PRINT FC>> | K21: ='Beoordelaar 1'!K17 -> SCORE: | L21: <<motivatie KOPIE FC>>
C22: ='Beoordelaar 2'!$B$1 -> Naam beoordelaar 2: <<>> | E22: ='Beoordelaar 2'!E17 -> SCORE: | G22: ='Beoordelaar 2'!G17 -> SCORE: | I22: ='Beoordelaar 2'!I17 -> SCORE: | K22: ='Beoordelaar 2'!K17 -> SCORE:
C23: ='Beoordelaar 3'!$B$1 -> Naam beoordelaar 3: <<>> | E23: ='Beoordelaar 3'!E17 -> SCORE: | G23: ='Beoordelaar 3'!G17 -> SCORE: | I23: ='Beoordelaar 3'!I17 -> SCORE: | K23: ='Beoordelaar 3'!K17 -> SCORE:
C24: Consensus | E24: SCORE: | G24: SCORE: | I24: SCORE: | K24: SCORE:
A25: ='Beoordelen proefopdrachten'!$A$12 -> Algemeen | B25: ='Beoordelen proefopdrachten'!$B$12 -> Strepen | C25: ='Beoordelaar 1'!$B$1 -> Naam beoordelaar 1: <<>> | E25: ='Beoordelaar 1'!E20 -> SCORE: | F25: <<motivatie PRINT ZW>> | G25: ='Beoordelaar 1'!G20 -> SCORE: | H25: <<motivatie KOPIE ZW>> | I25: ='Beoordelaar 1'!I20 -> SCORE: | J25: <<motivatie PRINT FC>> | K25: ='Beoordelaar 1'!K20 -> SCORE: | L25: <<motivatie KOPIE FC>>
C26: ='Beoordelaar 2'!$B$1 -> Naam beoordelaar 2: <<>> | E26: ='Beoordelaar 2'!E20 -> SCORE: | G26: ='Beoordelaar 2'!G20 -> SCORE: | I26: ='Beoordelaar 2'!I20 -> SCORE: | K26: ='Beoordelaar 2'!K20 -> SCORE:
C27: ='Beoordelaar 3'!$B$1 -> Naam beoordelaar 3: <<>> | E27: ='Beoordelaar 3'!E20 -> SCORE: | G27: ='Beoordelaar 3'!G20 -> SCORE: | I27: ='Beoordelaar 3'!I20 -> SCORE: | K27: ='Beoordelaar 3'!K20 -> SCORE:
C28: Consensus | E28: SCORE: | G28: SCORE: | I28: SCORE: | K28: SCORE:
B29: ='Beoordelen proefopdrachten'!$B$14 -> Recht | C29: ='Beoordelaar 1'!$B$1 -> Naam beoordelaar 1: <<>> | E29: ='Beoordelaar 1'!E23 -> SCORE: | F29: <<motivatie PRINT ZW>> | G29: ='Beoordelaar 1'!G23 -> SCORE: | H29: <<motivatie KOPIE ZW>> | I29: ='Beoordelaar 1'!I23 -> SCORE: | J29: <<motivatie PRINT FC>> | K29: ='Beoordelaar 1'!K23 -> SCORE: | L29: <<motivatie KOPIE FC>>
C30: ='Beoordelaar 2'!$B$1 -> Naam beoordelaar 2: <<>> | E30: ='Beoordelaar 2'!E23 -> SCORE: | G30: ='Beoordelaar 2'!G23 -> SCORE: | I30: ='Beoordelaar 2'!I23 -> SCORE: | K30: ='Beoordelaar 2'!K23 -> SCORE:
C31: ='Beoordelaar 3'!$B$1 -> Naam beoordelaar 3: <<>> | E31: ='Beoordelaar 3'!E23 -> SCORE: | G31: ='Beoordelaar 3'!G23 -> SCORE: | I31: ='Beoordelaar 3'!I23 -> SCORE: | K31: ='Beoordelaar 3'!K23 -> SCORE:
C32: Consensus | E32: SCORE: | G32: SCORE: | I32: SCORE: | K32: SCORE:
