Workbook
Name SCORE: 'Beoordelen kwaliteit'!$A$13:$A$18

Sheet Beoordelen kwaliteit
A1: Beoordeling 1. OPEN VRAGEN
A2: Naast de gestelde eisen uit de onderhavige aanbesteding is de Aanbestedende dienst op zoek naar een Opdrachtnemer die haar gedurende de periode van de raamovereenkomst kan voorzien van veel toegevoegde waarde. Hoe meer toegevoegde waarde een Inschrijver biedt, hoe hoger zij op dit onderdeel kwaliteit scoort.
A3: Beantwoording open vragen
A4: OPEN VRAAG 1: Plan van aanpak, implementatie en retourneren
A5: Zie bijlage 6 'kwaliteit'.
A6: OPEN VRAAG 2: Nice to have
A7: Zie bijlage 6 'kwaliteit'.
A8: OPEN VRAAG 3: Duurzaamheid en MVO
A9: Zie bijlage 6 'kwaliteit'.
A10: OPEN VRAAG 4: Bestelproces repro
A11: Zie bijlage 6 'kwaliteit'.
A13: SCORE:
... A18: Onvoldoende

Sheet Beoordelaar 1
A1: Beoordelaar 1: <<>> | C1: Inschrijver 1 | F1: Inschrijver 2 | I1: Inschrijver 3
A2: ='Beoordelen kwaliteit'!A3 -> Beantwoording open vragen | C2: SCORE: | F2: SCORE: | I2: SCORE:
A3: ='Beoordelen kwaliteit'!A4 -> OPEN VRAAG 1: Plan van aanpak, implementatie en retourneren | C3: SCORE: | F3: SCORE: | I3: SCORE:
A4: ='Beoordelen kwaliteit'!A5 -> Zie bijlage 6 'kwaliteit'. | C4: <MOTIVATIE> | F4: <MOTIVATIE> | I4: <MOTIVATIE>
A5: ='Beoordelen kwaliteit'!A6 -> OPEN VRAAG 2: Nice to have | C5: SCORE: | F5: SCORE: | I5: SCORE:
A6: ='Beoordelen kwaliteit'!A7 -> Zie bijlage 6 'kwaliteit'. | C6: <MOTIVATIE> | F6: <MOTIVATIE> | I6: <MOTIVATIE>
A7: ='Beoordelen kwaliteit'!A8 -> OPEN VRAAG 3: Duurzaamheid en MVO | C7: SCORE: | F7: SCORE: | I7: SCORE:
A8: ='Beoordelen kwaliteit'!A9 -> Zie bijlage 6 'kwaliteit'. | C8: <MOTIVATIE> | F8: <MOTIVATIE> | I8: <MOTIVATIE>
A9: ='Beoordelen kwaliteit'!A10 -> OPEN VRAAG 4: Bestelproces repro | C9: SCORE: | F9: SCORE: | I9: SCORE:
A10: ='Beoordelen kwaliteit'!A11 -> Zie bijlage 6 'kwaliteit'. | C10: <MOTIVATIE> | F10: <MOTIVATIE> | I10: <MOTIVATIE>

Sheet Beoordelaar 2
A1: Beoordelaar 2: <<>> | C1: ='Beoordelaar 1'!C1 -> Inschrijver 1 | F1: ='Beoordelaar 1'!F1 -> Inschrijver 2 | I1: ='Beoordelaar 1'!I1 -> Inschrijver 3
A2: ='Beoordelen kwaliteit'!A3 -> Beantwoording open vragen | C2: SCORE: | F2: SCORE: | I2: SCORE:
A3: ='Beoordelen kwaliteit'!A4 -> OPEN VRAAG 1: Plan van aanpak, implementatie en retourneren | C3: SCORE: | F3: SCORE: | I3: SCORE:
A4: ='Beoordelen kwaliteit'!A5 -> Zie bijlage 6 'kwaliteit'. | C4: <MOTIVATIE> | F4: <MOTIVATIE> | I4: <MOTIVATIE>
A5: ='Beoordelen kwaliteit'!A6 -> OPEN VRAAG 2: Nice to have | C5: SCORE: | F5: SCORE: | I5: SCORE:
A6: ='Beoordelen kwaliteit'!A7 -> Zie bijlage 6 'kwaliteit'. | C6: <MOTIVATIE> | F6: <MOTIVATIE> | I6: <MOTIVATIE>
A7: ='Beoordelen kwaliteit'!A8 -> OPEN VRAAG 3: Duurzaamheid en MVO | C7: SCORE: | F7: SCORE: | I7: SCORE:
A8: ='Beoordelen kwaliteit'!A9 -> Zie bijlage 6 'kwaliteit'. | C8: <MOTIVATIE> | F8: <MOTIVATIE> | I8: <MOTIVATIE>
A9: ='Beoordelen kwaliteit'!A10 -> OPEN VRAAG 4: Bestelproces repro | C9: SCORE: | F9: SCORE: | I9: SCORE:
A10: ='Beoordelen kwaliteit'!A11 -> Zie bijlage 6 'kwaliteit'. | C10: <MOTIVATIE> | F10: <MOTIVATIE> | I10: <MOTIVATIE>

Sheet Beoordelaar 3 
A1: Beoordelaar 3: <<>> | C1: ='Beoordelaar 1'!C1 -> Inschrijver 1 | F1: ='Beoordelaar 1'!F1 -> Inschrijver 2 | I1: ='Beoordelaar 1'!I1 -> Inschrijver 3
A2: ='Beoordelen kwaliteit'!A3 -> Beantwoording open vragen | C2: SCORE: | F2: SCORE: | I2: SCORE:
A3: ='Beoordelen kwaliteit'!A4 -> OPEN VRAAG 1: Plan van aanpak, implementatie en retourneren | C3: SCORE: | F3: SCORE: | I3: SCORE:
A4: ='Beoordelen kwaliteit'!A5 -> Zie bijlage 6 'kwaliteit'. | C4: <MOTIVATIE> | F4: <MOTIVATIE> | I4: <MOTIVATIE>
A5: ='Beoordelen kwaliteit'!A6 -> OPEN VRAAG 2: Nice to have | C5: SCORE: | F5: SCORE: | I5: SCORE:
A6: ='Beoordelen kwaliteit'!A7 -> Zie bijlage 6 'kwaliteit'. | C6: <MOTIVATIE> | F6: <MOTIVATIE> | I6: <MOTIVATIE>
A7: ='Beoordelen kwaliteit'!A8 -> OPEN VRAAG 3: Duurzaamheid en MVO | C7: SCORE: | F7: SCORE: | I7: SCORE:
A8: ='Beoordelen kwaliteit'!A9 -> Zie bijlage 6 'kwaliteit'. | C8: <MOTIVATIE> | F8: <MOTIVATIE> | I8: <MOTIVATIE>
A9: ='Beoordelen kwaliteit'!A10 -> OPEN VRAAG 4: Bestelproces repro | C9: SCORE: | F9: SCORE: | I9: SCORE:
A10: ='Beoordelen kwaliteit'!A11 -> Zie bijlage 6 'kwaliteit'. | C10: <MOTIVATIE> | F10: <MOTIVATIE> | I10: <MOTIVATIE>

Sheet Consensus
A1: Totaalwaardes 1. OPEN VRAGEN
A2: ='Beoordelen kwaliteit'!A3 -> Beantwoording open vragen | D2: ='Beoordelaar 1'!C1 -> Inschrijver 1 | E2: Motivatie consensus | G2: ='Beoordelaar 1'!F1 -> Inschrijver 2 | H2: Motivatie consensus | J2: ='Beoordelaar 1'!I1 -> Inschrijver 3 | K2: Motivatie consensus
A3: ='Beoordelen kwaliteit'!A4 -> OPEN VRAAG 1: Plan van aanpak, implementatie en retourneren | B3: ='Beoordelaar 1'!A1 -> Beoordelaar 1: <<>> | D3: ='Beoordelaar 1'!C3 -> SCORE: | E3: <<MOTIVATIE>> | G3: ='Beoordelaar 1'!F3 -> SCORE: | H3: <<MOTIVATIE>> | J3: ='Beoordelaar 1'!I3 -> SCORE: | K3: <<MOTIVATIE>>
B4: ='Beoordelaar 2'!A1 -> Beoordelaar 2: <<>> | D4: ='Beoordelaar 2'!C3 -> SCORE: | G4: ='Beoordelaar 2'!F3 -> SCORE: | J4: ='Beoordelaar 2'!I3 -> SCORE:
B5: ='Beoordelaar 3 '!A1 -> Beoordelaar 3: <<>> | D5: ='Beoordelaar 3 '!C3 -> SCORE: | G5: ='Beoordelaar 3 '!F3 -> SCORE: | J5: ='Beoordelaar 3 '!I3 -> SCORE:
A6: Consensus | D6: SCORE: | G6: SCORE: | J6: SCORE:
D7: =IF(D6="Uitmuntend","€ 37.500",IF(D6="Goed","€ 18.750",IF(D6="Voldoende","€ 0",IF(D6="Matig","-€ 18.750",IF(D6="Onvoldoende","KO"," "))))) | G7: =IF(G6="Uitmuntend","€ 37.500",IF(G6="Goed","€ 18.750",IF(G6="Voldoende","€ 0",IF(G6="Matig","-€ 18.750",IF(G6="Onvoldoende","KO"," "))))) | J7: =IF(J6="Uitmuntend","€ 37.500",IF(J6="Goed","€ 18.750",IF(J6="Voldoende","€ 0",IF(J6="Matig","-€ 18.750",IF(J6="Onvoldoende","KO"," ")))))
A8: ='Beoordelen kwaliteit'!A6 -> OPEN VRAAG 2: Nice to have | B8: =B3 -> Beoordelaar 1: <<>> | D8: ='Beoordelaar 1'!C5 -> SCORE: | E8: <<MOTIVATIE>> | G8: ='Beoordelaar 1'!F5 -> SCORE: | H8: <<MOTIVATIE>> | J8: ='Beoordelaar 1'!I5 -> SCORE: | K8: <<MOTIVATIE>>
B9: =B4 -> Beoordelaar 2: <<>> | D9: ='Beoordelaar 2'!C5 -> SCORE: | G9: ='Beoordelaar 2'!F5 -> SCORE: | J9: ='Beoordelaar 2'!I5 -> SCORE:
B10: =B5 -> Beoordelaar 3: <<>> | D10: ='Beoordelaar 3 '!C5 -> SCORE: | G10: ='Beoordelaar 3 '!F5 -> SCORE: | J10: ='Beoordelaar 3 '!I5 -> SCORE:
A11: Consensus | D11: SCORE: | G11: SCORE: | J11: SCORE:
D12: =IF(D11="Uitmuntend","€ 37.500",IF(D11="Goed","€ 18.750",IF(D11="Voldoende","€ 0",IF(D11="Matig","-€ 18.750",IF(D11="Onvoldoende","KO"," "))))) | G12: =IF(G11="Uitmuntend","€ 37.500",IF(G11="Goed","€ 18.750",IF(G11="Voldoende","€ 0",IF(G11="Matig","-€ 18.750",IF(G11="Onvoldoende","KO"," "))))) | J12: =IF(J11="Uitmuntend","€ 37.500",IF(J11="Goed","€ 18.750",IF(J11="Voldoende","€ 0",IF(J11="Matig","-€ 18.750",IF(J11="Onvoldoende","KO"," ")))))
A13: ='Beoordelen kwaliteit'!A8 -> OPEN VRAAG 3: Duurzaamheid en MVO | B13: =B3 -> Beoordelaar 1: <<>> | D13: ='Beoordelaar 1'!C7 -> SCORE: | E13: <<MOTIVATIE>> | G13: ='Beoordelaar 1'!F7 -> SCORE: | H13: <<MOTIVATIE>> | J13: ='Beoordelaar 1'!I7 -> SCORE: | K13: <<MOTIVATIE>>
B14: =B4 -> Beoordelaar 2: <<>> | D14: ='Beoordelaar 2'!C7 -> SCORE: | G14: ='Beoordelaar 2'!F7 -> SCORE: | J14: ='Beoordelaar 2'!I7 -> SCORE:
B15: =B5 -> Beoordelaar 3: <<>> | D15: ='Beoordelaar 3 '!C7 -> SCORE: | G15: ='Beoordelaar 3 '!F7 -> SCORE: | J15: ='Beoordelaar 3 '!I7 -> SCORE:
A16: Consensus | D16: SCORE: | G16: SCORE: | J16: SCORE:
D17: =IF(D16="Uitmuntend","€ 37.500",IF(D16="Goed","€ 18.750",IF(D16="Voldoende","€ 0",IF(D16="Matig","-€ 18.750",IF(D16="Onvoldoende","KO"," "))))) | G17: =IF(G16="Uitmuntend","€ 37.500",IF(G16="Goed","€ 18.750",IF(G16="Voldoende","€ 0",IF(G16="Matig","-€ 18.750",IF(G16="Onvoldoende","KO"," "))))) | J17: =IF(J16="Uitmuntend","€ 37.500",IF(J16="Goed","€ 18.750",IF(J16="Voldoende","€ 0",IF(J16="Matig","-€ 18.750",IF(J16="Onvoldoende","KO"," ")))))
A18: ='Beoordelen kwaliteit'!A10 -> OPEN VRAAG 4: Bestelproces repro | B18: =B8 -> Beoordelaar 1: <<>> | D18: ='Beoordelaar 1'!C9 -> SCORE: | E18: <<MOTIVATIE>> | G18: ='Beoordelaar 1'!F9 -> SCORE: | H18: <<MOTIVATIE>> | J18: ='Beoordelaar 1'!I9 -> SCORE: | K18: <<MOTIVATIE>>
B19: =B9 -> Beoordelaar 2: <<>> | D19: ='Beoordelaar 2'!C9 -> SCORE: | G19: ='Beoordelaar 2'!F9 -> SCORE: | J19: ='Beoordelaar 2'!I9 -> SCORE:
B20: =B10 -> Beoordelaar 3: <<>> | D20: ='Beoordelaar 3 '!C9 -> SCORE: | G20: ='Beoordelaar 3 '!F9 -> SCORE: | J20: ='Beoordelaar 3 '!I9 -> SCORE:
A21: Consensus | D21: SCORE: | G21: SCORE: | J21: SCORE:
D22: =IF(D21="Uitmuntend","€ 37.500",IF(D21="Goed","€ 18.750",IF(D21="Voldoende","€ 0",IF(D21="Matig","-€ 18.750",IF(D21="Onvoldoende","KO"," "))))) | G22: =IF(G21="Uitmuntend","€ 37.500",IF(G21="Goed","€ 18.750",IF(G21="Voldoende","€ 0",IF(G21="Matig","-€ 18.750",IF(G21="Onvoldoende","KO"," "))))) | J22: =IF(J21="Uitmuntend","€ 37.500",IF(J21="Goed","€ 18.750",IF(J21="Voldoende","€ 0",IF(J21="Matig","-€ 18.750",IF(J21="Onvoldoende","KO"," ")))))
A23: Totaal behaalde waarde OPEN VRAGEN | D23: =D7+D12+D17+D22 -> #VALUE! | G23: =G7+G12+G17+G22 -> #VALUE! | J23: =J7+J12+J17+J22 -> #VALUE!
