Workbook

Sheet Samenvatting
C1: Referentie: | D1: Planmatig onderhoud gebouw Kloosterveste | L1: KF Garantie maximaal baseren op: | N1: 5 | O1: Jaar | P1: 5
A2: Complex | B2: Aanduiding | C2: Adres | D2: Plaats | E2: DLR nummer | F2: Installatie nummer | G2: Nummer KI | H2: Materiaalkosten | I2: Montagekosten | J2: Projectkosten | K2: Totaal | L2: Jaarkosten | M2: KF Levensduur | N2: KF Garantie | P2: 8 | Q2: Planjaar uitvoering
A3: 8411008A | B3: Lift naast de rolpaden | C3: Noorderpoort 1 | D3: Assen | E3: lift klsv 01 | F3: 11083175 | G3: 100320931 | H3: ='1 - 11083175 - Lift naast de...'!$F3 -> 0 | I3: ='1 - 11083175 - Lift naast de...'!$F4 -> 0 | J3: ='1 - 11083175 - Lift naast de...'!$F5 -> 0 | K3: ='1 - 11083175 - Lift naast de...'!$F6 -> 0 | L3: ='1 - 11083175 - Lift naast de...'!$L3 -> 0 | M3: ='1 - 11083175 - Lift naast de...'!$L4 -> 0 | N3: ='1 - 11083175 - Lift naast de...'!$L5 -> 0 | Q3: 2027
A4: 8411008A | B4: Linkerlift parkeergarage AH | C4: Noorderpoort 1 | D4: Assen | E4: lift klsv 03 | F4: A17084 | G4: 100321639 | H4: ='2 - A17084 - Linkerlift park...'!$F3 -> 0 | I4: ='2 - A17084 - Linkerlift park...'!$F4 -> 0 | J4: ='2 - A17084 - Linkerlift park...'!$F5 -> 0 | K4: ='2 - A17084 - Linkerlift park...'!$F6 -> 0 | L4: ='2 - A17084 - Linkerlift park...'!$L3 -> 0 | M4: ='2 - A17084 - Linkerlift park...'!$L4 -> 0 | N4: ='2 - A17084 - Linkerlift park...'!$L5 -> 0 | Q4: 2028
A5: 8411008A | B5: Rechterlift parkeergarage AH | C5: Noorderpoort 1 | D5: Assen | E5: lift klsv 04 | F5: A17085 | G5: 100321641 | H5: ='3 - A17085 - Rechterlift par...'!$F3 -> 0 | I5: ='3 - A17085 - Rechterlift par...'!$F4 -> 0 | J5: ='3 - A17085 - Rechterlift par...'!$F5 -> 0 | K5: ='3 - A17085 - Rechterlift par...'!$F6 -> 0 | L5: ='3 - A17085 - Rechterlift par...'!$L3 -> 0 | M5: ='3 - A17085 - Rechterlift par...'!$L4 -> 0 | N5: ='3 - A17085 - Rechterlift par...'!$L5 -> 0 | Q5: 2028
A6: 8380004AA | B6: Personenlift - IRK Het Sterrenschip | C6: Schoolstraat 31-35 | D6: Assen | E6: lift schst29 01 | F6: 11083172 | G6: 100323096 | H6: ='4 - 11083172 Personenlift'!F3 -> 0 | I6: ='4 - 11083172 Personenlift'!F4 -> 0 | J6: ='4 - 11083172 Personenlift'!F5 -> 0 | K6: ='4 - 11083172 Personenlift'!F6 -> 0 | L6: =#REF! -> #REF! | M6: =#REF! -> #REF! | N6: =#REF! -> #REF! | Q6: 2029
H7: =SUM(H3:H6) -> 0 | I7: =SUM(I3:I6) -> 0 | J7: =SUM(J3:J6) -> 0 | K7: =SUM(K3:K6) -> 0 | L7: =SUM(L3:L5) -> 0 | M7: =SUM(M3:M5) -> 0 | N7: =SUM(N3:N5) -> 0
A9: Alle prijzen zijn exclusief BTW

Sheet 1 - 11083175 - Lift naast de...
B2: Offerte | E2: Totale kosten | H2: Naam | K2: Totale
B3: Complex | C3: 8411008A | E3: Materiaalkosten | F3: =H20 -> 0 | H3: Functie | K3: Jaarkosten | L3: =K20 -> 0
B4: Adres | C4: Noorderpoort 1 | E4: Montagekosten | F4: =I20 -> 0 | H4: Datum | K4: KF Levensduur | L4: =L20 -> 0
B5: Plaats | C5: Assen | E5: Projectkosten | F5: =J27 -> 0 | H5: Handtekening | K5: KF Garantie | L5: =M20 -> 0
B6: DLR nummer | C6: lift klsv 01 | E6: Totaal renovatie | F6: =SUM(F3:F5) -> 0
B7: Aanduiding | C7: Lift naast de rolpaden
B8: Installatienummer | C8: 11083175
B9: Nummer keurende instantie | C9: 100320931
A11: Verwijziging naar werkomschrijving | D11: Merk/Type | E11: Opmerking / toelichting | F11: Technische levensduur [jaar] | G11: Garantieperiode [jaar] | H11: Materiaalkosten [€] | I11: Montagekosten [€] | J11: Totaal [€] | K11: Jaarkosten | L11: KF Levensduur | M11: KF Garantie
A12: L0210 | B12: Vervangen van de hoofdstroomrelais | J12: =H12+I12 -> 0 | K12: =IFERROR(J12/F12,"") | L12: =IFERROR(ROUND(100*F12*(H12/$F$3),0),"") | M12: =IFERROR(ROUND(100*IF(G12<Samenvatting!$N$1,G12,Samenvatting!$N$1)*(J12/($F$3+$F$4)),0),"")
A13: L0225 | B13: Vervangen van het schachtinfosysteem | J13: =H13+I13 -> 0 | K13: =IFERROR(J13/F13,"") | L13: =IFERROR(ROUND(100*F13*(H13/$F$3),0),"") | M13: =IFERROR(ROUND(100*IF(G13<Samenvatting!$N$1,G13,Samenvatting!$N$1)*(J13/($F$3+$F$4)),0),"")
A14: L0245 | B14: Vervangen van de snelheidsregelaar | J14: =H14+I14 -> 0 | K14: =IFERROR(J14/F14,"") | L14: =IFERROR(ROUND(100*F14*(H14/$F$3),0),"") | M14: =IFERROR(ROUND(100*IF(G14<Samenvatting!$N$1,G14,Samenvatting!$N$1)*(J14/($F$3+$F$4)),0),"")
A15: L0605 | B15: Reviseren van de schachtdeuren (slijtende delen) | J15: =H15+I15 -> 0 | K15: =IFERROR(J15/F15,"") | L15: =IFERROR(ROUND(100*F15*(H15/$F$3),0),"") | M15: =IFERROR(ROUND(100*IF(G15<Samenvatting!$N$1,G15,Samenvatting!$N$1)*(J15/($F$3+$F$4)),0),"")
A16: L0805 | B16: Reviseren van de cabinedeur(en) | J16: =H16+I16 -> 0 | K16: =IFERROR(J16/F16,"") | L16: =IFERROR(ROUND(100*F16*(H16/$F$3),0),"") | M16: =IFERROR(ROUND(100*IF(G16<Samenvatting!$N$1,G16,Samenvatting!$N$1)*(J16/($F$3+$F$4)),0),"")
A17: L0810 | B17: Vervangen van de cabinedeurmotor | J17: =H17+I17 -> 0 | K17: =IFERROR(J17/F17,"") | L17: =IFERROR(ROUND(100*F17*(H17/$F$3),0),"") | M17: =IFERROR(ROUND(100*IF(G17<Samenvatting!$N$1,G17,Samenvatting!$N$1)*(J17/($F$3+$F$4)),0),"")
A18: L0815 | B18: Vervangen van de cabinedeurregeling | J18: =H18+I18 -> 0 | K18: =IFERROR(J18/F18,"") | L18: =IFERROR(ROUND(100*F18*(H18/$F$3),0),"") | M18: =IFERROR(ROUND(100*IF(G18<Samenvatting!$N$1,G18,Samenvatting!$N$1)*(J18/($F$3+$F$4)),0),"")
A19: L0860 | B19: Vervangen van de sensorlijst/detectielijst van de cabinedeur | J19: =H19+I19 -> 0 | K19: =IFERROR(J19/F19,"") | L19: =IFERROR(ROUND(100*F19*(H19/$F$3),0),"") | M19: =IFERROR(ROUND(100*IF(G19<Samenvatting!$N$1,G19,Samenvatting!$N$1)*(J19/($F$3+$F$4)),0),"")
A20: Totaal | H20: =SUM(H12:H19) -> 0 | I20: =SUM(I12:I19) -> 0 | J20: =SUM(J12:J19) -> 0 | K20: =SUM(K12:K19) -> 0 | L20: =SUM(L12:L19) -> 0 | M20: =SUM(M12:M19) -> 0
A22: Projectkosten (Bijvoorbeeld: Bijzondere Parkeerkosten, keuringskosten, asbestsaneringskosten, kosten voor precariorechten) | D22: Merk / Type / Onderaannemer | E22: Opmerking / toelichting | H22: Materiaal kosten [€] | I22: Montage kosten [€] | J22: Totaal [€]
J23: =H23+I23 -> 0
J24: =H24+I24 -> 0
J25: =H25+I25 -> 0
J26: =H26+I26 -> 0
A27: Totaal Projectkosten | H27: =SUM(H23:H26) -> 0 | I27: =SUM(I23:I26) -> 0 | J27: =SUM(J23:J26) -> 0
A29: Alle prijzen zijn exclusief BTW

Sheet 2 - A17084 - Linkerlift park...
B2: Offerte | E2: Totale kosten | H2: Naam | K2: Totale
B3: Complex | C3: 8411008A | E3: Materiaalkosten | F3: =H16 -> 0 | H3: Functie | K3: Jaarkosten | L3: =K16 -> 0
B4: Adres | C4: Noorderpoort 1 | E4: Montagekosten | F4: =I16 -> 0 | H4: Datum | K4: KF Levensduur | L4: =L16 -> 0
B5: Plaats | C5: Assen | E5: Projectkosten | F5: =J23 -> 0 | H5: Handtekening | K5: KF Garantie | L5: =M16 -> 0
B6: DLR nummer | C6: lift klsv 03 | E6: Totaal renovatie | F6: =SUM(F3:F5) -> 0
B7: Aanduiding | C7: Linkerlift parkeergarage AH
B8: Installatienummer | C8: A17084
B9: Nummer keurende instantie | C9: 100321639
A11: Verwijziging naar werkomschrijving | D11: Merk/Type | E11: Opmerking / toelichting | F11: Technische levensduur [jaar] | G11: Garantieperiode [jaar] | H11: Materiaalkosten [€] | I11: Montagekosten [€] | J11: Totaal [€] | K11: Jaarkosten | L11: KF Levensduur | M11: KF Garantie
A12: L0360 | B12: Vervangen van de leidwielen | J12: =H12+I12 -> 0 | K12: =IFERROR(J12/F12,"") | L12: =IFERROR(ROUND(100*F12*(H12/$F$3),0),"") | M12: =IFERROR(ROUND(100*IF(G12<Samenvatting!$N$1,G12,Samenvatting!$N$1)*(J12/($F$3+$F$4)),0),"")
A13: L0375 | B13: Vervangen van de draagmiddelen | J13: =H13+I13 -> 0 | K13: =IFERROR(J13/F13,"") | L13: =IFERROR(ROUND(100*F13*(H13/$F$3),0),"") | M13: =IFERROR(ROUND(100*IF(G13<Samenvatting!$N$1,G13,Samenvatting!$N$1)*(J13/($F$3+$F$4)),0),"")
A14: L0750 | B14: Vervangen van de cabineslofvoering | J14: =H14+I14 -> 0 | K14: =IFERROR(J14/F14,"") | L14: =IFERROR(ROUND(100*F14*(H14/$F$3),0),"") | M14: =IFERROR(ROUND(100*IF(G14<Samenvatting!$N$1,G14,Samenvatting!$N$1)*(J14/($F$3+$F$4)),0),"")
A15: L0915 | B15: Vervangen van de verende stuitingen van de cabine | J15: =H15+I15 -> 0 | K15: =IFERROR(J15/F15,"") | L15: =IFERROR(ROUND(100*F15*(H15/$F$3),0),"") | M15: =IFERROR(ROUND(100*IF(G15<Samenvatting!$N$1,G15,Samenvatting!$N$1)*(J15/($F$3+$F$4)),0),"")
A16: Totaal | H16: =SUM(H12:H15) -> 0 | I16: =SUM(I12:I15) -> 0 | J16: =SUM(J12:J15) -> 0 | K16: =SUM(K12:K15) -> 0 | L16: =SUM(L12:L15) -> 0 | M16: =SUM(M12:M15) -> 0
A18: Projectkosten (Bijvoorbeeld: Bijzondere Parkeerkosten, keuringskosten, asbestsaneringskosten, kosten voor precariorechten) | D18: Merk / Type / Onderaannemer | E18: Opmerking / toelichting | H18: Materiaal kosten [€] | I18: Montage kosten [€] | J18: Totaal [€]
J19: =H19+I19 -> 0
J20: =H20+I20 -> 0
J21: =H21+I21 -> 0
J22: =H22+I22 -> 0
A23: Totaal Projectkosten | H23: =SUM(H19:H22) -> 0 | I23: =SUM(I19:I22) -> 0 | J23: =SUM(J19:J22) -> 0
A25: Alle prijzen zijn exclusief BTW

Sheet 3 - A17085 - Rechterlift par...
B2: Offerte | E2: Totale kosten | H2: Naam | K2: Totale
B3: Complex | C3: 8411008A | E3: Materiaalkosten | F3: =H16 -> 0 | H3: Functie | K3: Jaarkosten | L3: =K16 -> 0
B4: Adres | C4: Noorderpoort 1 | E4: Montagekosten | F4: =I16 -> 0 | H4: Datum | K4: KF Levensduur | L4: =L16 -> 0
B5: Plaats | C5: Assen | E5: Projectkosten | F5: =J23 -> 0 | H5: Handtekening | K5: KF Garantie | L5: =M16 -> 0
B6: DLR nummer | C6: lift klsv 04 | E6: Totaal renovatie | F6: =SUM(F3:F5) -> 0
B7: Aanduiding | C7: Rechterlift parkeergarage AH
B8: Installatienummer | C8: A17085
B9: Nummer keurende instantie | C9: 100321641
A11: Verwijziging naar werkomschrijving | D11: Merk/Type | E11: Opmerking / toelichting | F11: Technische levensduur [jaar] | G11: Garantieperiode [jaar] | H11: Materiaalkosten [€] | I11: Montagekosten [€] | J11: Totaal [€] | K11: Jaarkosten | L11: KF Levensduur | M11: KF Garantie
A12: L0360 | B12: Vervangen van de leidwielen | J12: =H12+I12 -> 0 | K12: =IFERROR(J12/F12,"") | L12: =IFERROR(ROUND(100*F12*(H12/$F$3),0),"") | M12: =IFERROR(ROUND(100*IF(G12<Samenvatting!$N$1,G12,Samenvatting!$N$1)*(J12/($F$3+$F$4)),0),"")
A13: L0375 | B13: Vervangen van de draagmiddelen | J13: =H13+I13 -> 0 | K13: =IFERROR(J13/F13,"") | L13: =IFERROR(ROUND(100*F13*(H13/$F$3),0),"") | M13: =IFERROR(ROUND(100*IF(G13<Samenvatting!$N$1,G13,Samenvatting!$N$1)*(J13/($F$3+$F$4)),0),"")
A14: L0750 | B14: Vervangen van de cabineslofvoering | J14: =H14+I14 -> 0 | K14: =IFERROR(J14/F14,"") | L14: =IFERROR(ROUND(100*F14*(H14/$F$3),0),"") | M14: =IFERROR(ROUND(100*IF(G14<Samenvatting!$N$1,G14,Samenvatting!$N$1)*(J14/($F$3+$F$4)),0),"")
A15: L0915 | B15: Vervangen van de verende stuitingen van de cabine | J15: =H15+I15 -> 0 | K15: =IFERROR(J15/F15,"") | L15: =IFERROR(ROUND(100*F15*(H15/$F$3),0),"") | M15: =IFERROR(ROUND(100*IF(G15<Samenvatting!$N$1,G15,Samenvatting!$N$1)*(J15/($F$3+$F$4)),0),"")
A16: Totaal | H16: =SUM(H12:H15) -> 0 | I16: =SUM(I12:I15) -> 0 | J16: =SUM(J12:J15) -> 0 | K16: =SUM(K12:K15) -> 0 | L16: =SUM(L12:L15) -> 0 | M16: =SUM(M12:M15) -> 0
A18: Projectkosten (Bijvoorbeeld: Bijzondere Parkeerkosten, keuringskosten, asbestsaneringskosten, kosten voor precariorechten) | D18: Merk / Type / Onderaannemer | E18: Opmerking / toelichting | H18: Materiaal kosten [€] | I18: Montage kosten [€] | J18: Totaal [€]
J19: =H19+I19 -> 0
J20: =H20+I20 -> 0
J21: =H21+I21 -> 0
J22: =H22+I22 -> 0
A23: Totaal Projectkosten | H23: =SUM(H19:H22) -> 0 | I23: =SUM(I19:I22) -> 0 | J23: =SUM(J19:J22) -> 0
A25: Alle prijzen zijn exclusief BTW

Sheet 4 - 11083172 Personenlift
B2: Offerte | E2: Totale kosten | H2: Naam
B3: Complex | C3: 8380004AA | E3: Materiaalkosten | F3: =H18 -> 0 | H3: Functie
B4: Adres | C4: Schoolstraat 31-35 | E4: Montagekosten | F4: =I18 -> 0 | H4: Datum
B5: Plaats | C5: Assen | E5: Projectkosten | F5: =J25 -> 0 | H5: Handtekening
B6: DLR nummer | C6: lift schst29 01 | E6: Totaal renovatie | F6: =SUM(F3:F5) -> 0
B7: Aanduiding | C7: Personenlift - IRK Het Sterrenschip
B8: Installatienummer | C8: 11083172
B9: Nummer keurende instantie | C9: 100323096
A11: Verwijziging naar werkomschrijving | D11: Merk/Type | E11: Opmerking / toelichting | F11: Technische levensduur [jaar] | G11: Garantieperiode [jaar] | H11: Materiaalkosten [€] | I11: Montagekosten [€] | J11: Totaal [€]
A12: L0375.1 | B12: Vervangen van de draagmiddelen | J12: =H12+I12 -> 0
A13: L0735 | B13: Vervangen van de omleidwiel(en) cabine | J13: =H13+I13 -> 0
A14: L0860 | B14: Vervangen van de sensorlijst/detectielijst van de cabinedeur | J14: =H14+I14 -> 0
A15: L0915 | B15: Vervangen van de verende stuitingen van de cabine | J15: =H15+I15 -> 0
A16: L1030 | B16: Vervangen van de verende stuitingen van het tegengewicht | J16: =H16+I16 -> 0
A17: L1035 | B17: Vervangen van de omleidwielen van het tegengewicht | J17: =H17+I17 -> 0
A18: Totaal | H18: =SUM(H12:H17) -> 0 | I18: =SUM(I12:I17) -> 0 | J18: =SUM(J12:J17) -> 0
A20: Projectkosten (Bijvoorbeeld: Bijzondere Parkeerkosten, keuringskosten, asbestsaneringskosten, kosten voor precariorechten) | D20: Merk / Type / Onderaannemer | E20: Opmerking / toelichting | H20: Materiaal kosten [€] | I20: Montage kosten [€] | J20: Totaal [€]
J21: =H21+I21 -> 0
J22: =H22+I22 -> 0
J23: =H23+I23 -> 0
J24: =H24+I24 -> 0
A25: Totaal Projectkosten | H25: =SUM(H21:H24) -> 0 | I25: =SUM(I21:I24) -> 0 | J25: =SUM(J21:J24) -> 0
A27: Alle prijzen zijn exclusief BTW
