Workbook

Sheet T1 Samenvatting Omvang & Aantal
B2: Europese openbare aanbesteding 'Aanschaf inzamelvoertuigen'
B3: Invulformulier prijs en kwaliteit
B4: Tabblad 1: Samenvatting, omvang & aantal
B5: Perceel 6 | C5: Kraanwagen
B6: Opdrachtnemer | C6: [invullen door Opdrachtnemer ]
B7: Datum | C7: [invullen door Opdrachtnemer ]
B8: Kenmerk inschrijving | C8: [invullen door Opdrachtnemer ]
B10: Door Opdrachtnemer behaalde scores op kwaliteit en prijs | D10: Punten
B11: Behaalde score (in punten) | C11: Op het onderdeel kwaliteit (deel 1 tot en met 4) | D11: ='T2 Kwaliteit Perceel P3-P6'!F15 -> 0
C12: Op het onderdeel prijs - Aanschafprijs (deel 5) | D12: ='T3 Prijs Aanschaf P3-P6'!F22 -> 0
C13: Op het onderdeel Service (deel 6) | D13: ='T4 Prijs ROS P6'!F11 -> 0
C14: Behaalde totaalscore (in punten) | D14: =SUM(D11:D13) -> 0
B16: Omvang van het perceel | D16: Aantal (in stuks) | F16: [Invullen door Opdrachtnemer ]
B17: Omvang van het perceel | C17: Het aantal in te kopen inzamelvoertuigen in dit perceel | D17: 5 | F17: 1
B19: Aangeboden oplossing
B20: Onderdeel | C20: Opdrachtnemer geeft de OEM [Original Equipment Manufacturer] van ieder onderdeel op:
B21: Het chassis | C21: [invullen door Opdrachtnemer ]
B22: De kipperbak | C22: [invullen door Opdrachtnemer ]
B23: De laadkraan | C23: [invullen door Opdrachtnemer ]

Sheet T2 Kwaliteit Perceel P3-P6
B2: Europese openbare aanbesteding 'Aanschaf inzamelvoertuigen'
B3: Invulformulier prijs en kwaliteit
B4: Tabblad 2: Invulformulier kwaliteit
B5: ='T1 Samenvatting Omvang & Aantal'!B5 -> Perceel 6 | C5: ='T1 Samenvatting Omvang & Aantal'!C5 -> Kraanwagen
B6: Opdrachtnemer | C6: ='T1 Samenvatting Omvang & Aantal'!C6 -> [invullen door Opdrachtnemer ]
B7: Datum | C7: ='T1 Samenvatting Omvang & Aantal'!C7 -> [invullen door Opdrachtnemer ]
B8: Kenmerk inschrijving | C8: ='T1 Samenvatting Omvang & Aantal'!C8 -> [invullen door Opdrachtnemer ]
B10: Onderdeel: kwalitatieve gunningscriteria | D10: Weging % | E10: Maximaal aantal te behalen punten | F10: Aantal door Opdrachtnemer behaalde punten
B11: Deel 1 | C11: Technische criteria | D11: 0.2 | E11: =$E$15*D11 -> 12 | F11: =J27 -> 0
B12: Deel 2 | C12: Prestatiezekerheid | D12: 0.3 | E12: =$E$15*D12 -> 18 | F12: =J39 -> 0
B13: Deel 3 | C13: Reparatie, Onderhoud en Service (ROS) | D13: 0.25 | E13: =$E$15*D13 -> 15 | F13: =J53 -> 0
B14: Deel 4 | C14: Duurzaamheid | D14: 0.25 | E14: =$E$15*D14 -> 15 | F14: =J75 -> 0
D15: =SUM(D11:D14) -> 1 | E15: 60 | F15: =SUM(F11:F14) -> 0
B17: Deel 1 | C17: Technische criteria
B18: Nr. | C18: Vraagstelling | D18: Minimum (eis = 0 punten) | E18: Maximum (= max score) | F18: Instructie bij invullen beantwoording en toelichting op beoordeling | G18: Weging (%) | H18: Maximale score in punten | I18: Beantwoording Opdrachtnemer | J18: Behaalde score in punten
B19: 0.3 | G19: 0
B20: 1.1 | C20: Het netto laadvermogen bedraagt ten minste het in het programma van eisen (eis 6) vereiste minimum. Meer is wenselijk. Hoeveel kilogram bedraagt het netto laadvermogen van het voertuig? Aslastenberekening bijvoegen | D20: 9545 | E20: 10500 | F20: Aantal kilogrammen invullen in hele kilogrammen, waarbij het aanbieden van een netto laadvermogen conform het programma van eisen (minimum) leidt tot 0 punten, het aanbieden van een netto laadvermogen conform het maximum (of meer) leidt tot het maximaal aantal -voor dit subgunningscriterium- te behalen punten. I.v.m. de werking van de formule voor het toekennen van het behaalde aantal punten moet Opdrachtnemer , (ook) als het netto laadvermogen meer dan het maximum is, het maximum aantal kilogrammen invullen als antwoord op dit gunningscriterium. Aslastenberekening bijvoegen in inschrijving met de naam: '1.1 Laadvermogen' | G20: 0 | H20: =$E$11*B19 -> 3.6 | I20: 9545 | J20: =(1-(I20-E20)/(D20-E20))*H20 -> 0
B21: 0.2 | G21: 0
B22: 1.2 | C22: De draaistraal over de bumper bedraagt maximaal het in het programma van eisen (eis 9) vermelde maximum. Korter is wenselijk. Hoeveel millimeter bedraagt de draaistraal over de bumper bij maximale stuuruitslag? Tekening bijvoegen. | D22: 8100 | E22: 7800 | F22: Aantal millimeters invullen in hele millimeters, waarbij het aanbieden van een draaistraal conform het programma van eisen (minimum) leidt tot 0 punten, het aanbieden van een draaistraal conform het maximum (of korter) leidt tot het maximaal aantal te behalen punten. I.v.m. de werking van de formule voor het toekennen van het behaalde aantal punten moet Opdrachtnemer , (ook) als de draaistraal kleiner dan het maximum is, het maximum invullen als antwoord op dit gunningscriterium. Tekening bijvoegen in inschrijving met de naam: '1.2 Draaistraal' | G22: 0 | H22: =$E$11*B21 -> 2.4 | I22: 8100 | J22: =(1-(I22-E22)/(D22-E22))*H22 -> 0
B23: 0.3 | G23: 0
B24: 1.3 | C24: De totale lengte bedraagt maximaal het in het programma van eisen (eis 21) vermelde maximum. Korter is wenselijk. Wat is de totale lengte van het voertuig (gemeten in millimeter). Tekening bijvoegen. | D24: 8000 | E24: 7400 | F24: Aantal millimeters invullen in hele millimeters, waarbij het aanbieden van een totale lengte conform het programma van eisen (minimum) leidt tot 0 punten, het aanbieden van een totale lengte conform het maximum (of korter) leidt tot het maximaal aantal te behalen punten. I.v.m. de werking van de formule voor het toekennen van het behaalde aantal punten moet Opdrachtnemer , (ook) als de totale lengte korter dan het maximum is, het maximum invullen als antwoord op dit gunningscriterium. Tekening bijvoegen in inschrijving met de naam: '1.4 Lengte' | G24: 0 | H24: =$E$11*B23 -> 3.6 | I24: 8000 | J24: =(1-(I24-E24)/(D24-E24))*H24 -> 0
B25: 0.2 | G25: 0
B26: 1.4 | C26: De bodemvrijheid bedraagt minimaal het in het programma van eisen (eis 8) vermelde minimum. Hoger is wenselijk. Wat is de bodemvrijheid (gemeten in millimeters)? | D26: 230 | E26: 280 | F26: Aantal millimeters invullen in hele millimeters, waarbij het aanbieden van een bodemvrijheid van 230mm (minimum) leidt tot 0 punten, het aanbieden van bodemvrijheid conform het maximum (of hoger) leidt tot het maximaal aantal te behalen punten. I.v.m. de werking van de formule voor het toekennen van het behaalde aantal punten moet Opdrachtnemer , (ook) als de bodemvrijheid hoger dan het maximum is, het maximum invullen als antwoord op dit gunningscriterium. Tekening bijvoegen in inschrijving met de naam: '1.5 Bodemvrijheid' | G26: 0 | H26: =$E$11*B25 -> 2.4 | I26: 230 | J26: =(1-(I26-E26)/(D26-E26))*H26 -> 0
B27: =SUM(B19,B21,B23,B25) -> 1 | H27: =SUM(H20,H22,H24,H26) -> 12 | J27: =SUM(J20,J22,J24,J26) -> 0
B29: Deel 2 | C29: Prestatiezekerheid
B30: Nr. | C30: Vraagstelling | D30: Minimum (eis = 0 punten) | E30: Maximum (= max score) | F30: Instructie bij invullen beantwoording en toelichting op beoordeling | G30: Weging (%) | H30: Maximale score in punten | I30: Beantwoording Opdrachtnemer | J30: Behaalde score in punten
B31: 0.55
B32: 2.1 | C32: De minimale inzet- en beschikbaarheidsgarantie tijdens geplande inzet van de voertuigen (operationele continuïteit). Er mag worden verwezen naar een referentie, waaruit blijkt dat er bij een vergelijkbare leveringen een percentage beschikbaarheid is gebleken. | D32: 0.8 | E32: 0.95 | F32: De Opdrachtnemer benoemd de mate van de gemiddelde jaarlijkse inzetbaarheid over de afschrijvingsperiode van de geleverde voertuigen, uitgaande van een afschrijvingstermijn van 8 jaar. Opdrachtnemer toont dit aan door het aanbieden van een inzet- en beschikbaarheidsgarantie op vlootniveau, uitgedrukt in een percentage inzetbare voertuigen per jaar. Inzetbaarheid (%) = (Inzetbare voertuig-dagen / totale voertuig-dagen) × 100% Waarbij: Totale beschikbare voertuig-dagen = aantal voertuigen × aantal werkdagen per jaar (exclusief zondagen, feestdagen en gepland onderhoud); Inzetbare voertuig-dagen =totale beschikbare voertuig-dagen minus ongeplande uitvaldagen. | G32: 0 | H32: =$E$12*B31 -> 9.9 | I32: 0.8 | J32: =(1-(I32-E32)/(D32-E32))*H32 -> 0
B33: 0.15
B34: 2.2 | C34: De functionele training en instructie voor vaste instructeurs (3 personen), zodat het voertuig vanaf de eerste inzet veilig, correct en efficiënt wordt gebruikt. De training is praktijkgericht en specifiek toegesneden op het geleverde voertuig en de bijbehorende systemen en vormt een integraal onderdeel van de operationele oplevering | D34: 75 | E34: 120 | F34: De Opdrachtnemer geeft aan hoeveel minuten functionele training per voertuig beschikbaar worden gesteld bij of direct na ingebruikname voor de vaste instructeurs. Onder functionele training wordt verstaan: uitleg en begeleiding bij bediening, werkprocessen, veiligheidsaspecten, eerste onderhoudshandelingen en het herkennen en duiden van meldingen en afwijkingen. Alleen daadwerkelijke contacttijd (klassikaal, praktijk of on-the-job) telt mee; reistijd, pauzes of algemene presentaties zonder voertuigspecifieke inhoud tellen niet mee. | G34: 0 | H34: =$E$12*B33 -> 2.7 | I34: 75 | J34: =(1-(I34-E34)/(D34-E34))*H34 -> 0
B35: 0.1
B36: 2.3 | C36: Hoeveel draaiuren kan het aangeboden voertuig gedurende de afschrijvingsperiode van 8 jaar aantoonbaar realiseren bij regulier gebruik als inzamelvoertuig. De opgegeven draaiuren moeten zijn afgewogen op basis van marktconformiteit en aantoonbare meerwaarde. | D36: 18000 | E36: 22000 | F36: De Opdrachtnemer onderbouwt het opgegeven aantal draaiuren met één of meer van de volgende documenten: - fabrikantenspecificaties; - technische levensduurverklaring van de OEM; - referentiegegevens van vergelijkbare voertuigen; - garantie- of onderhoudsdocumentatie waaruit de draaiuren blijken. Praktijkmetingen of specifieke gebruiksprofielen zijn niet vereist. | G36: 0 | H36: =$E$12*B35 -> 1.8 | I36: 18000 | J36: =(1-(I36-E36)/(D36-E36))*H36 -> 0
B37: 0.2
B38: 2.4 | C38: Garantie op voertuig en aandrijflijn. Welke garantieperiode wordt geboden op het aangeboden inzamelvoertuig, uitgedrukt in maanden, gerekend vanaf de datum van ingebruikname. De garantie geldt zonder beperkingen op inzet in stedelijk gebruik en zonder beperking op het aantal draaiuren binnen normaal gebruik. | D38: 24 | E38: 48 | F38: De Opdrachtnemer wordt verzocht het volgende op te nemen in de inschrijving: - De aangeboden garantieperiode in 24, 36 of 48 maanden; - Een korte toelichting op de reikwijdte van de garantie (wat wel / niet is inbegrepen); - Onderliggende documentatie waaruit blijkt dat deze garantie: - door de OEM of leverancier wordt ondersteund; - contractueel afdwingbaar is gedurende de volledige periode. | G38: 0 | H38: =$E$12*B37 -> 3.6 | I38: 24 | J38: =(1-(I38-E38)/(D38-E38))*H38 -> 0
B39: =SUM(B31,B33,B35,B37) -> 1 | H39: =SUM(H32,H34,H36,H38) -> 18 | J39: =SUM(J32,J34,J36,J38) -> 0
B41: Deel 3 | C41: ROS
B42: Nr. | C42: Vraagstelling | D42: Minimum (eis = 0 punten) | E42: Maximum (= max score) | F42: Instructie bij invullen beantwoording en toelichting op beoordeling | G42: Weging (%) | H42: Score (in punten) | I42: Beantwoording Opdrachtnemer | J42: Behaalde score in punten
B43: 0.2
B44: 3.1 | C44: Reactietermijn bij spoedgeval op locatie/pechhulp Opdrachtgever hecht waarde aan een snelle opvolging en oplossing van storingen aan het voertuig bij calamiteiten zoals beschreven in het algemene programma van eisen. Welke responsetijd (korter dan 120 minuten) van de servicedienst bent u bereid te garanderen na melding van een storing waarbij het voertuig niet meer inzetbaar is? Onder responsetijd wordt verstaan: de tijd tussen melding van de storing door opdrachtgever en de aanwezigheid van een gekwalificeerde monteur bij het voertuig. Het opgegeven antwoord wordt verwerkt in de SLA en daarmee onverkort van toepassing verklaard op de uitvoering van de overeenkomst. | D44: 120 | E44: 30 | F44: De reactietermijn in minuten invullen in hele minuten, waarbij het aanbieden van een reactietermijn conform het programma van eisen (minimum) leidt tot 0 punten, het aanbieden van reactietermijn conform het maximum (of hoger) leidt tot het maximaal aantal te behalen punten. I.v.m. de werking van de formule voor het toekennen van het behaalde aantal punten moet Opdrachtnemer , (ook) als de reactietermijn sneller dan het maximum is, het maximum invullen als antwoord op dit gunningscriterium. | H44: =$E$13*B43 -> 3 | I44: 120 | J44: =(1-(I44-E44)/(D44-E44))*H44 -> 0
B45: 0.25
...

Sheet T3 Prijs Aanschaf P3-P6
B2: Europese openbare aanbesteding 'Aanschaf inzamelvoertuigen'
B3: Invulformulier prijs en kwaliteit
B4: Tabblad 3: Invulformulier prijs t.b.v. aanschaf
B5: ='T1 Samenvatting Omvang & Aantal'!B5 -> Perceel 6 | C5: ='T1 Samenvatting Omvang & Aantal'!C5 -> Kraanwagen
B6: Opdrachtnemer | C6: ='T1 Samenvatting Omvang & Aantal'!C6 -> [invullen door Opdrachtnemer ]
B7: Datum | C7: ='T1 Samenvatting Omvang & Aantal'!C7 -> [invullen door Opdrachtnemer ]
B8: Kenmerk inschrijving | C8: ='T1 Samenvatting Omvang & Aantal'!C8 -> [invullen door Opdrachtnemer ]
B10: Onderdeel: prijs | D10: Minimale inschrijfprijs | E10: Maximale inschrijfprijs | F10: Maximaal aantal te behalen punten
B11: Deel 5 | C11: Aanschafprijs voor één compleet inzamelvoertuig conform het programma van eisen en inclusief alle toebehoren. | D11: 280000 | E11: 340000 | F11: 30
C12: Beoordeling, middels formule: | D12: (1-(aangeboden inschrijfprijs-MIN)/(MAX-MIN))*maximaal te behalen score = score (in punten, afronding op twee decimalen)
B14: Nr. | C14: Prijsonderdeel | D14: Eenheid | E14: Prijs per eenheid | F14: Prijs voor één compleet inzamelvoertuig
B15: 5.1 | C15: Aanschafprijs van het chassis | D15: Stuk | E15: 140000 | F15: =SUM(E15:E18) -> 340000
B16: 5.2 | C16: Aanschafprijs van de kipperbak | D16: Stuk | E16: 50000
B17: 5.3 | C17: Aanschafprijs van de laadkraan | D17: Stuk | E17: 120000
B18: 5.4 | C18: Overige kosten t.b.v. de aanschaf | D18: Stuk | E18: 30000
C19: [toelichting overige kosten]
C21: Let op: de inschrijfprijs mag niet lager zijn dan de minimale inschrijfprijs en niet hoger dan de maximale inschrijfprijs. Alleen als deze cel (E23) groen kleurt, valt uw inschrijfprijs binnen de minimale en maximale inschrijfprijs en brengt u daarmee een geldige inschrijving uit. | E21: De inschrijfprijs van Opdrachtnemer | F21: Behaalde score in punten
E22: =F15 -> 340000 | F22: =(1-(E22-D11)/(E11-D11))*F11 -> 0
B25: Nr. | C25: Voorwaarden
B26: 1 | C26: Opdrachtnemer vult alle geel gearceerde cellen in. Het bewerken van niet geel gearceerde cellen leidt tot ongeldigheid van de inschrijving.
B27: 2 | C27: Ingediende prijzen zijn exclusief BTW.
B28: 3 | C28: Opdrachtnemer rond de door hem ingediende prijzen af op maximaal twee decimalen achter de komma.
B29: 4 | C29: De inschrijfprijs van Opdrachtnemer is een prijs per stuk (per 1). De ingediende inschrijfprijs van Opdrachtnemer is van toepassing op alle inzamelvoertuigen die in het kade van dit perceel door de gemeente ingekocht worden. De aanschafprijs is dus exact gelijk voor alle inzamelvoertuigen die de gemeente binnen dit perceel van Opdrachtnemer afneemt.
B30: 5 | C30: Het aanbieden van een zgn. nulprijs en het aanbieden negatieve eenheidsprijzen op prijs onderdeel 5.1 tot en met 5.4 is verboden en leidt tot uitsluiting.
B31: 6 | C31: Het aanbieden van een eenheidsprijs op prijsonderdeel 5.4 is facultatief. Als Opdrachtnemer kosten in rekening wil brengen die niet opgenomen zijn in prijsonderdeel 5.1, 5.2 en 5.3 dient Opdrachtnemer deze op te nemen in prijs onderdeel 5.4. Als Opdrachtnemer een prijs aanbiedt op prijsonderdeel 5.3. moet Opdrachtnemer de hiermee aangeboden kosten expliciet toelichten. Als Opdrachtnemer prijsonderdeel 5.3 niet invult en/of een nulprijs aanbiedt betekend dat dat alle kosten voor het aangeboden inzamelvoertuigen door Opdrachtnemer opgenomen zijn in prijsonderdeel 5.1, 5.2 en 5.3. Het aanbieden van een negatieve eenheidsprijs op prijsonderdeel 5.4 is verboden en leidt tot uitsluiting.
B32: 7 | C32: De ingediende inschrijfprijs is de enige prijs die Opdrachtnemer voor de aanschaf van het inzamelvoertuig (compleet zoals gespecificeerd in het programma van eisen) bij de gemeente in rekening kan brengen. De ingediende inschrijfprijs is dus inclusief alle benodigde toebehoren en alle kosten voortkomend uit het programma van eisen en de (beantwoording van de) kwalitatieve gunningscriteria. Het is uitdrukkelijk de verantwoordelijkheid van Opdrachtnemer dat hij alle van toepassing zijnde prijzen verwerkt in zijn inschrijfprijs.
B33: 8 | C33: De inschrijfprijs van Opdrachtnemer -bestaande uit prijsonderdeel 5.1 tot en met 5.4- mag niet lager zijn dan de minimale inschrijfprijs en niet hoger dan de maximale inschrijfprijs. Inschrijvingen waarin inschrijfprijzen worden aangeboden die lager zijn dan de minimale inschrijfprijs en/of hoger zijn dan de maximale inschrijfprijs, worden ongeldig verklaard en komen niet voor gunning in aanmerking.

Sheet T4 Prijs ROS P6
B2: Europese openbare aanbesteding 'Aanschaf inzamelvoertuigen'
B3: Invulformulier prijs en kwaliteit
B4: Tabblad 4: Invulformulier prijs t.b.v. Reparatie, Onderhoud en Service
B5: Perceel 2 | C5: ='T1 Samenvatting Omvang & Aantal'!C5 -> Kraanwagen
B6: Opdrachtnemer | C6: ='T1 Samenvatting Omvang & Aantal'!C6 -> [invullen door Opdrachtnemer ]
B7: Datum | C7: ='T1 Samenvatting Omvang & Aantal'!C7 -> [invullen door Opdrachtnemer ]
B8: Kenmerk inschrijving | C8: ='T1 Samenvatting Omvang & Aantal'!C8 -> [invullen door Opdrachtnemer ]
B10: Onderdeel: prijs | D10: Maximaal aantal te behalen punten | F10: Aantal door Opdrachtnemer behaalde punten
B11: Deel 6 | C11: Aanschafprijs voor één compleet inzamelvoertuig conform het programma van eisen en inclusief alle toebehoren. | D11: 10 | F11: =SUM(I16,I18:I20,I22:I23,I25:I27,I29:I31) -> 0
C12: Beoordeling per prijsonderdeel, middels formule: | D12: (1-(aangeboden inschrijfprijs-MIN)/(MAX-MIN))*maximaal te behalen score = score (in punten, afronding op twee decimalen)
B14: Nr. | C14: Prijsonderdeel | D14: Minimale prijs per eenheid | E14: Maximale prijs per eenheid | F14: Prijs per eenheid | G14: Weging | H14: Maximaal aantal te behalen punten | I14: Behaald aantal punten
C15: Chassis
B16: 6.1 | C16: Uitvoeren APK-keuringen inclusief alle wettelijke verplichte controle metingen | D16: 150 | E16: 250 | F16: 250 | G16: 0.05 | H16: =G16*$D$11 -> 0.5 | I16: =(1-(F16-D16)/(E16-D16))*H16 -> 0
C17: Opbouw
B18: 6.2 | C18: Periodieke inspectiebeurt van de opbouw | D18: 350 | E18: 500 | F18: 500 | G18: 0.1 | H18: =G18*$D$11 -> 1 | I18: =(1-(F18-D18)/(E18-D18))*H18 -> 0
C19: Laadkraan
B20: 6.3 | C20: Uitvoeren periodieke gecertificeerde keuring autolaadkraan, inclusief keuringsbewijs | D20: 300 | E20: 450 | F20: 450 | G20: 0.1 | H20: =G20*$D$11 -> 1 | I20: =(1-(F20-D20)/(E20-D20))*H20 -> 0
C21: Uurtarief
B22: 6.4 | C22: Uurtarief allround monteur voor maandag t/m vrijdag tussen 06:00 en 18:30 uur en op zaterdag van 08:00 tot 12:00 uur | D22: 85 | E22: 135 | F22: 135 | G22: 0.15 | H22: =G22*$D$11 -> 1.5 | I22: =(1-(F22-D22)/(E22-D22))*H22 -> 0
B23: 6.5 | C23: Percentage opslag uurtarief t.b.v. werkzaamheden buiten werktijden, inclusief feestdagen | D23: 0.05 | E23: 0.2 | F23: 0.2 | G23: 0.1 | H23: =G23*$D$11 -> 1 | I23: =(1-(F23-D23)/(E23-D23))*H23 -> 0
C24: Service
B25: 6.6 | C25: Voorrijkosten, all-in, geen extra kilometers (inclusief bij pechservice en starthulp) | D25: 80 | E25: 110 | F25: 110 | G25: 0.1 | H25: =G25*$D$11 -> 1 | I25: =(1-(F25-D25)/(E25-D25))*H25 -> 0
B26: 6.7 | C26: Haal- en brengservice, per enkele vervoersbeweging (van A naar B) | D26: 100 | E26: 250 | F26: 250 | G26: 0.1 | H26: =G26*$D$11 -> 1 | I26: =(1-(F26-D26)/(E26-D26))*H26 -> 0
B27: 6.8 | C27: Sleepservice, all-in, geen additionele kosten | D27: 400 | E27: 600 | F27: 600 | G27: 0.15 | H27: =G27*$D$11 -> 1.5 | I27: =(1-(F27-D27)/(E27-D27))*H27 -> 0
C28: Kortingen
B29: 6.9 | C29: Korting op brutoprijs onderdelen | D29: 0.1 | E29: 0.05 | F29: 0.05 | G29: 0.05 | H29: =G29*$D$11 -> 0.5 | I29: =(1-(F29-D29)/(E29-D29))*H29 -> 0
B30: 6.10 | C30: Korting op vloeistoffen (oliën/smeermiddelen) | D30: 0.1 | E30: 0.05 | F30: 0.05 | G30: 0.05 | H30: =G30*$D$11 -> 0.5 | I30: =(1-(F30-D30)/(E30-D30))*H30 -> 0
B31: 6.11 | C31: Vaste factuurkorting (standaard korting over de totale factuur - excl. BTW) | D31: 0.15 | E31: 0.05 | F31: 0.05 | G31: 0.05 | H31: =G31*$D$11 -> 0.5 | I31: =(1-(F31-D31)/(E31-D31))*H31 -> 0
G32: =SUM(G16,G18:G20,G22:G23,G25:G27,G29:G31) -> 1 | H32: =SUM(H16,H18:H20,H22:H23,H25:H27,H29:H31) -> 10 | I32: =SUM(I16,I18:I20,I22:I23,I25:I27,I29:I31) -> 0
B34: Nr. | C34: Voorwaarden
B35: 1 | C35: Opdrachtnemer vult alle geel gearceerde cellen in. Het bewerken van niet geel gearceerde cellen leidt tot ongeldigheid van de inschrijving.
B36: 2 | C36: Ingediende prijzen zijn exclusief BTW.
B37: 3 | C37: Opdrachtnemer rond de door hem ingediende prijzen af op maximaal twee decimalen achter de komma.
B38: 4 | C38: De eenheidsprijzen zoals ingevuld op het prijs invul formulier zijn inclusief alle kosten voortkomend uit het programma van eisen en de (beantwoording van de) kwalitatieve gunningscriteria.
B39: 5 | C39: De inschrijfprijs van Opdrachtnemer is een prijs per stuk (per 1). De ingediende inschrijfprijs van Opdrachtnemer is van toepassing op alle inzamelvoertuigen die in het kade van dit perceel door de gemeente ingekocht worden. De aanschafprijs is dus exact gelijk voor alle inzamelvoertuigen die de gemeente binnen dit perceel van Opdrachtnemer afneemt.
B40: 6 | C40: De eenheidsprijzen zijn van toepassing ongeacht het daadwerkelijke aantal eenheden dat tijdens de looptijd van de overeenkomst wordt afgenomen.
B41: 7 | C41: De eenheidsprijzen van Opdrachtnemer mogen per prijsonderdeel niet lager zijn dan de betreffende minimale prijs per eenheid en niet hoger dan de betreffende maximale prijs per eenheid. Inschrijvingen waarin één of meer eenheidsprijzen worden aangeboden die lager zijn dan de minimale eenheidsprijs en/of hoger zijn dan de maximale eenheidsprijs, worden ongeldig verklaard en komen niet voor gunning in aanmerking.
