Workbook

Sheet totaalblad
A5: Project: | C5: RVB Westraven | F5: Datum : | G5: =NOW() -> 45761.291 | I5: Project no : | K5: U.1230549
F6: Door : | G6: MaLa | I6: blad no : | K6: Totaal
A8: Deel | L8: Netto
A9: taak | B9: Fabrikaat/type/omschrijving | L9: totaal
A10: kode | L10: Euro
C11: Inventarisatie Armaturen
C15: ="Totaal Blad 1 : "&'1'!C$12 -> Totaal Blad 1 : Inventarisatie Armaturen | H15: ='1'!$H$98 -> 0 | I15: ='1'!$L$98 -> 0 | K15: ='1'!$M$98 -> 0 | L15: ='1'!$P$98 -> 0
L17: =#REF! -> #REF!
L19: =#REF! -> #REF!
C20: Opmerking:
B21: - | C21: In nieuwe situatie geen biometrische verlichting meer | L21: =#REF! -> #REF!
B22: - | C22: afwijkende situaties aangegeven op foto's zoals afwijkende
C23: hoogte, gebruik steigers e.d. | L23: =#REF! -> #REF!
B24: - | C24: op divere plekken armaturen lastig bereikbaar ivm montage
C25: achter glazen plafondplaten
I35: ='1'!$L$98 -> 0
K42: =IF(TRUNC(SUM(K9:K41))+1-SUM(K9:K41)=1,0,TRUNC(SUM(K9:K41))+1-SUM(K9:K41)) -> 0
A43: Totaal blad 1 | H43: =SUM(H11:H42) -> 0 | I43: =SUM(I11:I42) -> 0 | K43: =SUM(K11:K42) -> 0 | L43: =SUM(L11:L42) -> #REF!
L55: =+L54*I55 -> 0
L60: =TRUNC(SUM(L54:L55),0) -> 0

Sheet 1
C2: =totaalblad!C2 -> 0 | M2: =totaalblad!K2 -> 0
A5: Project: | C5: RVB Westraven | F5: Datum : | G5: =totaalblad!G5 -> 45761.291 | L5: Project no : | M5: =totaalblad!K5 -> U.1230549 | R5: hoogbouw 0 | S5: hoogbouw 1 | T5: hoogbouw 2 | U5: hoogbouw 3 | V5: hoogbouw 4 | W5: hoogbouw 5 | X5: hoogbouw 6 | Y5: hoogbouw 7 | Z5: hoogbouw 8 | AA5: hoogbouw 9 | AB5: hoogbouw 10 | AC5: hoogbouw 11 | AD5: hoogbouw 12 | AE5: hoogbouw 13 | AF5: hoogbouw 14 | AG5: hoogbouw 15 | AH5: hoogbouw 16 | AI5: hoogbouw 17 | AJ5: hoogbouw 18 | AK5: hoogbouw 19 | AL5: hoogbouw 20 | AM5: hoogbouw 21 | AN5: hoogbouw 22 | AO5: hoogbouw 23 | AP5: hoogbouw 24 | AQ5: laagbouw L01 a-b | AR5: laagbouw L02 a-b | AS5: laagbouw L03 a-b | AT5: laagbouw L04 a-b | AU5: laagbouw L05 a-b | AV5: laagbouw L01 c-d | AW5: laagbouw L02 c-d | AX5: laagbouw L03 c-d | AY5: laagbouw L04 c-d | AZ5: laagbouw L05 c-d
C6: =totaalblad!C6 -> 0 | F6: Door : | G6: =totaalblad!G6 -> MaLa | L6: blad no : | M6: 1
A8: Deel | G8: Tijd | H8: Montage | I8: Bruto mat. | J8: Kor- | K8: Materiaal | L8: Materiaal | M8: Netto | N8: Kor- | O8: Netto | P8: Netto
A9: taak | B9: Fabrikaat/type/omschrijving | E9: artikel no: | F9: Aantal | G9: norm | H9: totaal | I9: prijs/stuk | J9: ting % | K9: prijs/stuk | L9: prijs totaal | M9: Werk derden | N9: ting % | O9: prijs/stuk | P9: totaal
A10: kode | I10: Euro | J10: open | K10: Euro | L10: Euro | M10: Euro | N10: netto | O10: Euro
H11: =+G11*F11 -> 0 | K11: =ROUND(+I11*(1-J11),2) -> 0 | L11: =+K11*F11 -> 0 | O11: =ROUND(+I11*(1-N11),2) -> 0 | P11: =+F11*O11 -> 0
C12: Inventarisatie Armaturen | H12: =+G12*F12 -> 0 | K12: =ROUND(+I12*(1-J12),2) -> 0 | L12: =+K12*F12 -> 0 | O12: =ROUND(+I12*(1-N12),2) -> 0 | P12: =+F12*O12 -> 0
C13: code : | H13: =+G13*F13 -> 0 | K13: =ROUND(+I13*(1-J13),2) -> 0 | L13: =+K13*F13 -> 0 | O13: =ROUND(+I13*(1-N13),2) -> 0 | P13: =+F13*O13 -> 0
C14: 2x18W opb | F14: =SUM(R14:AZ14) -> 3 | H14: =+G14*F14 -> 0 | K14: =ROUND(+I14*(1-J14),2) -> 0 | L14: =+K14*F14 -> 0 | O14: =ROUND(+I14*(1-N14),2) -> 0 | P14: =+F14*O14 -> 0 | R14: 0 | S14: 0 | T14: 0 | U14: 0 | V14: 0 | W14: 0 | AZ14: 3
C15: A | F15: =SUM(R15:AZ15) -> 209 | H15: =+G15*F15 -> 0 | K15: =ROUND(+I15*(1-J15),2) -> 0 | L15: =+K15*F15 -> 0 | O15: =ROUND(+I15*(1-N15),2) -> 0 | P15: =+F15*O15 -> 0 | U15: 2 | V15: 34 | W15: 7 | X15: 7 | Y15: 7 | Z15: 23 | AA15: 7 | AB15: 7 | AC15: 13 | AD15: 7 | AE15: 7 | AF15: 7 | AG15: 13 | AH15: 7 | AI15: 7 | AJ15: 7 | AK15: 20 | AL15: 7 | AM15: 7 | AN15: 13
C16: A1 | F16: =SUM(R16:AZ16) -> 310 | H16: =+G16*F16 -> 0 | K16: =ROUND(+I16*(1-J16),2) -> 0 | L16: =+K16*F16 -> 0 | O16: =ROUND(+I16*(1-N16),2) -> 0 | P16: =+F16*O16 -> 0 | U16: 6 | V16: 86 | W16: 9 | X16: 9 | Y16: 9 | Z16: 22 | AA16: 9 | AB16: 9 | AC16: 15 | AD16: 9 | AE16: 9 | AF16: 9 | AG16: 15 | AH16: 9 | AI16: 9 | AJ16: 9 | AK16: 22 | AL16: 9 | AM16: 9 | AN16: 15 | AV16: 12
C17: A1n | F17: =SUM(R17:AZ17) -> 27 | U17: 2 | V17: 2 | W17: 1 | X17: 1 | Z17: 1 | AA17: 1 | AB17: 1 | AC17: 1 | AD17: 1 | AE17: 1 | AF17: 1 | AG17: 1 | AH17: 1 | AI17: 1 | AJ17: 1 | AK17: 1 | AL17: 7 | AM17: 1 | AN17: 1
C18: AA | F18: =SUM(R18:AZ18) -> 30 | G18: 0 | H18: =+G18*F18 -> 0 | K18: =ROUND(+I18*(1-J18),2) -> 0 | L18: =+K18*F18 -> 0 | O18: =ROUND(+I18*(1-N18),2) -> 0 | P18: =+F18*O18 -> 0 | S18: 29 | Y18: 1
C19: AB | F19: =SUM(R19:AZ19) -> 28 | H19: =+G19*F19 -> 0 | K19: =ROUND(+I19*(1-J19),2) -> 0 | L19: =+K19*F19 -> 0 | O19: =ROUND(+I19*(1-N19),2) -> 0 | P19: =+F19*O19 -> 0 | T19: 28
C20: AD | F20: =SUM(R20:AZ20) -> 134 | H20: =+G20*F20 -> 0 | K20: =ROUND(+I20*(1-J20),2) -> 0 | L20: =+K20*F20 -> 0 | O20: =ROUND(+I20*(1-N20),2) -> 0 | P20: =+F20*O20 -> 0 | R20: 132 | AS20: 2
C21: AE | F21: =SUM(R21:AZ21) -> 0 | H21: =+G21*F21 -> 0 | K21: =ROUND(+I21*(1-J21),2) -> 0 | L21: =+K21*F21 -> 0 | O21: =ROUND(+I21*(1-N21),2) -> 0 | P21: =+F21*O21 -> 0
C22: AF | F22: =SUM(R22:AZ22) -> 16 | H22: =+G22*F22 -> 0 | K22: =ROUND(+I22*(1-J22),2) -> 0 | L22: =+K22*F22 -> 0 | O22: =ROUND(+I22*(1-N22),2) -> 0 | P22: =+F22*O22 -> 0 | AQ22: 16
C23: AG | F23: =SUM(R23:AZ23) -> 8 | H23: =+G23*F23 -> 0 | K23: =ROUND(+I23*(1-J23),2) -> 0 | L23: =+K23*F23 -> 0 | O23: =ROUND(+I23*(1-N23),2) -> 0 | P23: =+F23*O23 -> 0 | AQ23: 4 | AV23: 4
C24: AH | F24: =SUM(R24:AZ24) -> 19 | H24: =+G24*F24 -> 0 | K24: =ROUND(+I24*(1-J24),2) -> 0 | L24: =+K24*F24 -> 0 | O24: =ROUND(+I24*(1-N24),2) -> 0 | P24: =+F24*O24 -> 0 | AQ24: 7 | AV24: 12
C25: AI | F25: =SUM(R25:AZ25) -> 0 | H25: =+G25*F25 -> 0 | K25: =ROUND(+I25*(1-J25),2) -> 0 | L25: =+K25*F25 -> 0 | O25: =ROUND(+I25*(1-N25),2) -> 0 | P25: =+F25*O25 -> 0
C26: AJ | F26: =SUM(R26:AZ26) -> 3769 | H26: =+G26*F26 -> 0 | K26: =ROUND(+I26*(1-J26),2) -> 0 | L26: =+K26*F26 -> 0 | O26: =ROUND(+I26*(1-N26),2) -> 0 | P26: =+F26*O26 -> 0 | R26: 24 | U26: 213 | V26: 92 | W26: 194 | X26: 194 | Y26: 194 | Z26: 168 | AA26: 194 | AB26: 194 | AC26: 194 | AD26: 194 | AE26: 194 | AF26: 194 | AG26: 194 | AH26: 194 | AI26: 194 | AJ26: 194 | AK26: 168 | AL26: 194 | AM26: 194 | AN26: 194 | BA26: =SUM(U26:AZ26) -> 3745
C27: AK | F27: =SUM(R27:AZ27) -> 2109 | H27: =+G27*F27 -> 0 | K27: =ROUND(+I27*(1-J27),2) -> 0 | L27: =+K27*F27 -> 0 | O27: =ROUND(+I27*(1-N27),2) -> 0 | P27: =+F27*O27 -> 0 | AR27: 243 | AS27: 274 | AT27: 258 | AV27: 218 | AW27: 384 | AX27: 367 | AY27: 365 | BA27: =SUM(R27:AZ27) -> 2109
C28: AL | F28: =SUM(R28:AZ28) -> 0 | H28: =+G28*F28 -> 0 | K28: =ROUND(+I28*(1-J28),2) -> 0 | L28: =+K28*F28 -> 0 | O28: =ROUND(+I28*(1-N28),2) -> 0 | P28: =+F28*O28 -> 0
C29: B | F29: =SUM(R29:AZ29) -> 60 | H29: =+G29*F29 -> 0 | K29: =ROUND(+I29*(1-J29),2) -> 0 | L29: =+K29*F29 -> 0 | O29: =ROUND(+I29*(1-N29),2) -> 0 | P29: =+F29*O29 -> 0 | AW29: 60
C30: B1 | F30: =SUM(R30:AZ30) -> 272 | H30: =+G30*F30 -> 0 | K30: =ROUND(+I30*(1-J30),2) -> 0 | L30: =+K30*F30 -> 0 | O30: =ROUND(+I30*(1-N30),2) -> 0 | P30: =+F30*O30 -> 0 | AR30: 40 | AS30: 40 | AT30: 40 | AV30: 20 | AW30: 12 | AX30: 60 | AY30: 60
C31: B1n | F31: =SUM(R31:AZ31) -> 48 | H31: =+G31*F31 -> 0 | K31: =ROUND(+I31*(1-J31),2) -> 0 | L31: =+K31*F31 -> 0 | O31: =ROUND(+I31*(1-N31),2) -> 0 | P31: =+F31*O31 -> 0 | AR31: 8 | AS31: 8 | AT31: 8 | AX31: 12 | AY31: 12
C32: B2 | F32: =SUM(R32:AZ32) -> 19 | H32: =+G32*F32 -> 0 | K32: =ROUND(+I32*(1-J32),2) -> 0 | L32: =+K32*F32 -> 0 | O32: =ROUND(+I32*(1-N32),2) -> 0 | P32: =+F32*O32 -> 0 | R32: 19
C33: B3 | F33: =SUM(R33:AZ33) -> 0 | H33: =+G33*F33 -> 0 | K33: =ROUND(+I33*(1-J33),2) -> 0 | L33: =+K33*F33 -> 0 | O33: =ROUND(+I33*(1-N33),2) -> 0 | P33: =+F33*O33 -> 0
C34: B4 | F34: =SUM(R34:AZ34) -> 8 | H34: =+G34*F34 -> 0 | K34: =ROUND(+I34*(1-J34),2) -> 0 | L34: =+K34*F34 -> 0 | O34: =ROUND(+I34*(1-N34),2) -> 0 | P34: =+F34*O34 -> 0 | AV34: 8
C35: B5 | F35: =SUM(R35:AZ35) -> 5 | H35: =+G35*F35 -> 0 | K35: =ROUND(+I35*(1-J35),2) -> 0 | L35: =+K35*F35 -> 0 | O35: =ROUND(+I35*(1-N35),2) -> 0 | P35: =+F35*O35 -> 0 | AV35: 5
C36: C | F36: =SUM(R36:AZ36) -> 67 | H36: =+G36*F36 -> 0 | K36: =ROUND(+I36*(1-J36),2) -> 0 | L36: =+K36*F36 -> 0 | O36: =ROUND(+I36*(1-N36),2) -> 0 | P36: =+F36*O36 -> 0 | AQ36: 11 | AR36: 3 | AT36: 2 | AV36: 40 | AW36: 4 | AX36: 4 | AY36: 3
C37: D | F37: =SUM(R37:AZ37) -> 254 | H37: =+G37*F37 -> 0 | K37: =ROUND(+I37*(1-J37),2) -> 0 | L37: =+K37*F37 -> 0 | O37: =ROUND(+I37*(1-N37),2) -> 0 | P37: =+F37*O37 -> 0 | R37: 113 | T37: 3 | U37: 5 | V37: 4 | W37: 4 | X37: 4 | Y37: 4 | Z37: 3 | AA37: 4 | AB37: 4 | AC37: 4 | AD37: 4 | AE37: 4 | AF37: 4 | AG37: 4 | AH37: 4 | AI37: 4 | AJ37: 4 | AL37: 4 | AM37: 4 | AN37: 4 | AO37: 9 | AP37: 4 | AQ37: 4 | AR37: 5 | AS37: 5 | AT37: 5 | AV37: 6 | AW37: 8 | AX37: 8 | AY37: 8
C38: D1 | F38: =SUM(R38:AZ38) -> 146 | H38: =+G38*F38 -> 0 | K38: =ROUND(+I38*(1-J38),2) -> 0 | L38: =+K38*F38 -> 0 | O38: =ROUND(+I38*(1-N38),2) -> 0 | P38: =+F38*O38 -> 0 | AU38: 58 | AW38: 4 | AZ38: 84
C39: D2 | F39: =SUM(R39:AZ39) -> 226 | H39: =+G39*F39 -> 0 | K39: =ROUND(+I39*(1-J39),2) -> 0 | L39: =+K39*F39 -> 0 | O39: =ROUND(+I39*(1-N39),2) -> 0 | P39: =+F39*O39 -> 0 | S39: 28 | T39: 6 | U39: 6 | V39: 27 | W39: 7 | X39: 8 | Y39: 8 | Z39: 7 | AA39: 8 | AB39: 8 | AC39: 8 | AD39: 7 | AE39: 8 | AF39: 8 | AG39: 3 | AH39: 7 | AI39: 8 | AJ39: 8 | AK39: 7 | AL39: 8 | AM39: 28 | AN39: 8 | AO39: 2 | AW39: 3
C40: Dn | F40: =SUM(R40:AZ40) -> 4 | H40: =+G40*F40 -> 0 | K40: =ROUND(+I40*(1-J40),2) -> 0 | L40: =+K40*F40 -> 0 | O40: =ROUND(+I40*(1-N40),2) -> 0 | P40: =+F40*O40 -> 0 | R40: 1 | AP40: 3
C41: E | F41: =SUM(R41:AZ41) -> 105 | H41: =+G41*F41 -> 0 | K41: =ROUND(+I41*(1-J41),2) -> 0 | L41: =+K41*F41 -> 0 | O41: =ROUND(+I41*(1-N41),2) -> 0 | P41: =+F41*O41 -> 0 | S41: 105
C42: E3 | F42: =SUM(R42:AZ42) -> 15 | AR42: 2 | AS42: 2 | AT42: 2 | AW42: 3 | AX42: 3 | AY42: 3
C43: E2 | F43: =SUM(R43:AZ43) -> 328 | H43: =+G43*F43 -> 0 | K43: =ROUND(+I43*(1-J43),2) -> 0 | L43: =+K43*F43 -> 0 | O43: =ROUND(+I43*(1-N43),2) -> 0 | P43: =+F43*O43 -> 0 | S43: 104 | T43: 152 | U43: 4 | W43: 4 | Y43: 4 | Z43: 4 | AA43: 4 | AB43: 4 | AC43: 4 | AD43: 4 | AE43: 4 | AF43: 4 | AG43: 4 | AH43: 4 | AI43: 4 | AJ43: 4 | AK43: 4 | AL43: 4 | AM43: 4 | AN43: 4
C44: ED | F44: =SUM(R44:AZ44) -> 0 | H44: =+G44*F44 -> 0 | K44: =ROUND(+I44*(1-J44),2) -> 0 | L44: =+K44*F44 -> 0 | O44: =ROUND(+I44*(1-N44),2) -> 0 | P44: =+F44*O44 -> 0
C45: F | F45: =SUM(R45:AZ45) -> 51 | H45: =+G45*F45 -> 0 | K45: =ROUND(+I45*(1-J45),2) -> 0 | L45: =+K45*F45 -> 0 | O45: =ROUND(+I45*(1-N45),2) -> 0 | P45: =+F45*O45 -> 0 | AP45: 2 | AU45: 16 | AZ45: 33
C46: F2 | F46: =SUM(R46:AZ46) -> 94 | H46: =+G46*F46 -> 0 | K46: =ROUND(+I46*(1-J46),2) -> 0 | L46: =+K46*F46 -> 0 | O46: =ROUND(+I46*(1-N46),2) -> 0 | P46: =+F46*O46 -> 0 | AQ46: 8 | AR46: 8 | AS46: 8 | AT46: 8 | AV46: 26 | AW46: 12 | AX46: 12 | AY46: 12
C47: F3 | F47: =SUM(R47:AZ47) -> 69 | H47: =+G47*F47 -> 0 | K47: =ROUND(+I47*(1-J47),2) -> 0 | L47: =+K47*F47 -> 0 | O47: =ROUND(+I47*(1-N47),2) -> 0 | P47: =+F47*O47 -> 0 | AO47: 59 | AP47: 10
C48: G | F48: =SUM(R48:AZ48) -> 30 | H48: =+G48*F48 -> 0 | K48: =ROUND(+I48*(1-J48),2) -> 0 | L48: =+K48*F48 -> 0 | O48: =ROUND(+I48*(1-N48),2) -> 0 | P48: =+F48*O48 -> 0 | R48: 1 | S48: 5 | T48: 4 | U48: 2 | W48: 2 | Z48: 2 | AD48: 2 | AH48: 2 | AK48: 2 | AO48: 8
C49: H | F49: =SUM(R49:AZ49) -> 168 | H49: =+G49*F49 -> 0 | K49: =ROUND(+I49*(1-J49),2) -> 0 | L49: =+K49*F49 -> 0 | O49: =ROUND(+I49*(1-N49),2) -> 0 | P49: =+F49*O49 -> 0 | AQ49: 168
C50: Hn | F50: =SUM(R50:AZ50) -> 14 | H50: =+G50*F50 -> 0 | K50: =ROUND(+I50*(1-J50),2) -> 0 | L50: =+K50*F50 -> 0 | O50: =ROUND(+I50*(1-N50),2) -> 0 | P50: =+F50*O50 -> 0 | AQ50: 14
C51: I | F51: =SUM(R51:AZ51) -> 17 | H51: =+G51*F51 -> 0 | K51: =ROUND(+I51*(1-J51),2) -> 0 | L51: =+K51*F51 -> 0 | O51: =ROUND(+I51*(1-N51),2) -> 0 | P51: =+F51*O51 -> 0 | Y51: 9 | AV51: 8
C52: J | F52: =SUM(R52:AZ52) -> 312 | H52: =+G52*F52 -> 0 | K52: =ROUND(+I52*(1-J52),2) -> 0 | L52: =+K52*F52 -> 0 | O52: =ROUND(+I52*(1-N52),2) -> 0 | P52: =+F52*O52 -> 0 | R52: 11 | S52: 9 | T52: 9 | U52: 9 | V52: 9 | W52: 9 | X52: 9 | Y52: 1 | Z52: 9 | AA52: 9 | AB52: 9 | AC52: 9 | AD52: 9 | AE52: 9 | AF52: 9 | AG52: 9 | AH52: 9 | AI52: 9 | AJ52: 9 | AK52: 9 | AL52: 9 | AM52: 9 | AN52: 9 | AO52: 9 | AQ52: 25 | AR52: 9 | AS52: 10 | AT52: 10 | AV52: 15 | AW52: 12 | AX52: 12 | AY52: 9
C53: Jn | F53: =SUM(R53:AZ53) -> 117 | H53: =+G53*F53 -> 0 | K53: =ROUND(+I53*(1-J53),2) -> 0 | L53: =+K53*F53 -> 0 | O53: =ROUND(+I53*(1-N53),2) -> 0 | P53: =+F53*O53 -> 0 | R53: 2 | S53: 1 | T53: 1 | U53: 1 | V53: 1 | W53: 1 | X53: 1 | Z53: 1 | AA53: 1 | AB53: 1 | AC53: 1 | AD53: 1 | AE53: 1 | AF53: 1 | AG53: 1 | AH53: 1 | AI53: 1 | AJ53: 1 | AK53: 1 | AL53: 1 | AM53: 1 | AN53: 1 | AO53: 1 | AQ53: 9 | AR53: 9 | AS53: 9 | AT53: 12 | AU53: 2 | AV53: 12 | AW53: 14 | AX53: 14 | AY53: 9 | AZ53: 3
C54: K | F54: =SUM(R54:AZ54) -> 24 | H54: =+G54*F54 -> 0 | K54: =ROUND(+I54*(1-J54),2) -> 0 | L54: =+K54*F54 -> 0 | O54: =ROUND(+I54*(1-N54),2) -> 0 | P54: =+F54*O54 -> 0 | AQ54: 24
C55: KEU | F55: =SUM(R55:AZ55) -> 9 | H55: =+G55*F55 -> 0 | K55: =ROUND(+I55*(1-J55),2) -> 0 | L55: =+K55*F55 -> 0 | O55: =ROUND(+I55*(1-N55),2) -> 0 | P55: =+F55*O55 -> 0 | AV55: 9
C56: LM | F56: =SUM(R56:AZ56) -> 11 | AQ56: 11
C57: L | F57: =SUM(R57:AZ57) -> 12 | H57: =+G57*F57 -> 0 | K57: =ROUND(+I57*(1-J57),2) -> 0 | L57: =+K57*F57 -> 0 | O57: =ROUND(+I57*(1-N57),2) -> 0 | P57: =+F57*O57 -> 0 | V57: 4 | AQ57: 4 | AV57: 4
C58: M | F58: =SUM(R58:AZ58) -> 0 | H58: =+G58*F58 -> 0 | K58: =ROUND(+I58*(1-J58),2) -> 0 | L58: =+K58*F58 -> 0 | O58: =ROUND(+I58*(1-N58),2) -> 0 | P58: =+F58*O58 -> 0
C59: Mn | F59: =SUM(R59:AZ59) -> 33 | H59: =+G59*F59 -> 0 | K59: =ROUND(+I59*(1-J59),2) -> 0 | L59: =+K59*F59 -> 0 | O59: =ROUND(+I59*(1-N59),2) -> 0 | P59: =+F59*O59 -> 0 | AQ59: 4 | AR59: 3 | AS59: 3 | AT59: 4 | AV59: 5 | AW59: 5 | AX59: 5 | AY59: 4
C60: N | F60: =SUM(R60:AZ60) -> 15 | H60: =+G60*F60 -> 0 | K60: =ROUND(+I60*(1-J60),2) -> 0 | L60: =+K60*F60 -> 0 | O60: =ROUND(+I60*(1-N60),2) -> 0 | P60: =+F60*O60 -> 0 | AQ60: 6 | AV60: 9
C61: NV1a | F61: =SUM(R61:AZ61) -> 194 | H61: =+G61*F61 -> 0 | K61: =ROUND(+I61*(1-J61),2) -> 0 | L61: =+K61*F61 -> 0 | O61: =ROUND(+I61*(1-N61),2) -> 0 | P61: =+F61*O61 -> 0 | S61: 15 | T61: 2 | U61: 8 | V61: 9 | W61: 8 | X61: 8 | Y61: 8 | Z61: 7 | AA61: 8 | AB61: 8 | AC61: 8 | AD61: 8 | AE61: 8 | AF61: 8 | AG61: 8 | AH61: 8 | AI61: 8 | AJ61: 8 | AK61: 8 | AL61: 8 | AM61: 8 | AN61: 8 | AO61: 2 | AQ61: 2 | AR61: 4 | AS61: 3 | AT61: 2 | AV61: 2 | AX61: 2
C62: NV1b | F62: =SUM(R62:AZ62) -> 22 | H62: =+G62*F62 -> 0 | K62: =ROUND(+I62*(1-J62),2) -> 0 | L62: =+K62*F62 -> 0 | O62: =ROUND(+I62*(1-N62),2) -> 0 | P62: =+F62*O62 -> 0 | T62: 10 | AQ62: 4 | AV62: 8
C63: NV2a | F63: =SUM(R63:AZ63) -> 22 | H63: =+G63*F63 -> 0 | K63: =ROUND(+I63*(1-J63),2) -> 0 | L63: =+K63*F63 -> 0 | O63: =ROUND(+I63*(1-N63),2) -> 0 | P63: =+F63*O63 -> 0 | R63: 2 | S63: 1 | AP63: 4 | AU63: 6 | AZ63: 9
C64: NV2b | F64: =SUM(R64:AZ64) -> 26 | R64: 2 | AO64: 22 | AV64: 2
C65: NV3a | F65: =SUM(R65:AZ65) -> 16 | R65: 1 | AO65: 4 | AP65: 6 | AU65: 2 | AZ65: 3
C66: NV3b | F66: =SUM(R66:AZ66) -> 3 | R66: 1 | AO66: 2
C67: NV3c | F67: =SUM(R67:AZ67) -> 10 | R67: 10
C68: NV4 | F68: =SUM(R68:AZ68) -> 5 | AQ68: 5
C69: NV5 | F69: =SUM(R69:AZ69) -> 5 | AP69: 3 | AQ69: 2
C70: NV6a | F70: =SUM(R70:AZ70) -> 10 | R70: 10
C71: NV6b | F71: =SUM(R71:AZ71) -> 83 | S71: 25 | U71: 2 | V71: 2 | W71: 3 | X71: 3 | Y71: 3 | Z71: 3 | AA71: 3 | AB71: 3 | AC71: 3 | AD71: 3 | AE71: 3 | AF71: 3 | AG71: 3 | AH71: 3 | AI71: 3 | AJ71: 3 | AK71: 3 | AL71: 3 | AM71: 3 | AN71: 3
C72: NV6c | F72: =SUM(R72:AZ72) -> 68 | R72: 27 | T72: 2 | AQ72: 4 | AR72: 4 | AS72: 4 | AT72: 4 | AV72: 5 | AW72: 6 | AX72: 6 | AY72: 6
C73: NV7a | F73: =SUM(R73:AZ73) -> 61 | T73: 12 | AQ73: 4 | AR73: 4 | AS73: 4 | AT73: 4 | AV73: 9 | AW73: 12 | AX73: 6 | AY73: 6
C74: NV7b | F74: =SUM(R74:AZ74) -> 54 | AQ74: 2 | AR74: 5 | AS74: 5 | AT74: 5 | AV74: 13 | AW74: 8 | AX74: 8 | AY74: 8
C75: NV7c | F75: =SUM(R75:AZ75) -> 33 | AR75: 4 | AS75: 4 | AT75: 5 | AW75: 6 | AX75: 6 | AY75: 8
C76: NV7d | F76: =SUM(R76:AZ76) -> 4 | AV76: 4
C77: NV7e | F77: =SUM(R77:AZ77) -> 3 | AV77: 3
C78: O | F78: =SUM(R78:AZ78) -> 22 | AT78: 22
C79: P | F79: =SUM(R79:AZ79) -> 21 | AQ79: 21
C80: Q | F80: =SUM(R80:AZ80) -> 6 | AY80: 6
C81: Q1 | F81: =SUM(R81:AZ81) -> 8 | AT81: 4 | AW81: 4
C82: R | F82: =SUM(R82:AZ82) -> 50 | AQ82: 20 | AV82: 30
F83: =SUM(R83:AZ83) -> 0
C84: S | F84: =SUM(R84:AZ84) -> 86 | AQ84: 20 | AV84: 66
C85: T | F85: =SUM(R85:AZ85) -> 7 | S85: 7
C86: U | F86: =SUM(R86:AZ86) -> 0
C87: V | F87: =SUM(R87:AZ87) -> 111 | H87: =+G87*F87 -> 0 | K87: =ROUND(+I87*(1-J87),2) -> 0 | L87: =+K87*F87 -> 0 | O87: =ROUND(+I87*(1-N87),2) -> 0 | P87: =+F87*O87 -> 0 | S87: 1 | T87: 110
C88: V2 | F88: =SUM(R88:AZ88) -> 12 | H88: =+G88*F88 -> 0 | K88: =ROUND(+I88*(1-J88),2) -> 0 | L88: =+K88*F88 -> 0 | O88: =ROUND(+I88*(1-N88),2) -> 0 | P88: =+F88*O88 -> 0 | T88: 12
C89: W | F89: =SUM(R89:AZ89) -> 188 | AQ89: 10 | AR89: 20 | AS89: 20 | AT89: 20 | AV89: 28 | AW89: 30 | AX89: 30 | AY89: 30
C90: W2 | F90: =SUM(R90:AZ90) -> 0
C91: X | F91: =SUM(R91:AZ91) -> 1240 | U91: 62 | V91: 62 | W91: 62 | X91: 62 | Y91: 62 | Z91: 62 | AA91: 62 | AB91: 62 | AC91: 62 | AD91: 62 | AE91: 62 | AF91: 62 | AG91: 62 | AH91: 62 | AI91: 62 | AJ91: 62 | AK91: 62 | AL91: 62 | AM91: 62 | AN91: 62
C92: X1 | F92: =SUM(R92:AZ92) -> 98 | R92: 90 | V92: 8
C93: Xn | F93: =SUM(R93:AZ93) -> 152 | U93: 8 | W93: 8 | X93: 8 | Y93: 8 | Z93: 8 | AA93: 8 | AB93: 8 | AC93: 8 | AD93: 8 | AE93: 8 | AF93: 8 | AG93: 8 | AH93: 8 | AI93: 8 | AJ93: 8 | AK93: 8 | AL93: 8 | AM93: 8 | AN93: 8
C94: Y | F94: =SUM(R94:AZ94) -> 0
C95: Z | F95: =SUM(R95:AZ95) -> 46 | S95: 2 | T95: 2 | U95: 2 | V95: 2 | W95: 2 | X95: 2 | Y95: 2 | Z95: 2 | AA95: 2 | AB95: 2 | AC95: 2 | AD95: 2 | AE95: 2 | AF95: 2 | AG95: 2 | AH95: 2 | AI95: 2 | AJ95: 2 | AK95: 2 | AL95: 2 | AM95: 2 | AN95: 2 | AO95: 2
C96: Zn | F96: =SUM(R96:AZ96) -> 46 | H96: =+G96*F96 -> 0 | K96: =ROUND(+I96*(1-J96),2) -> 0 | L96: =+K96*F96 -> 0 | O96: =ROUND(+I96*(1-N96),2) -> 0 | P96: =+F96*O96 -> 0 | S96: 2 | T96: 2 | U96: 2 | V96: 2 | W96: 2 | X96: 2 | Y96: 2 | Z96: 2 | AA96: 2 | AB96: 2 | AC96: 2 | AD96: 2 | AE96: 2 | AF96: 2 | AG96: 2 | AH96: 2 | AI96: 2 | AJ96: 2 | AK96: 2 | AL96: 2 | AM96: 2 | AN96: 2 | AO96: 2
F97: =SUM(R97:AN97) -> 0 | H97: =IF(TRUNC(SUM(H9:H96))+1-SUM(H9:H96)=1,0,TRUNC(SUM(H9:H96))+1-SUM(H9:H96)) -> 0 | K97: =ROUND(+I97*(1-J97),2) -> 0 | L97: =IF(TRUNC(SUM(L9:L96))+1-SUM(L9:L96)=1,0,TRUNC(SUM(L9:L96))+1-SUM(L9:L96)) -> 0 | M97: =IF(TRUNC(SUM(M9:M96))+1-SUM(M9:M96)=1,0,TRUNC(SUM(M9:M96))+1-SUM(M9:M96)) -> 0 | O97: =ROUND(+I97*(1-N97),2) -> 0 | P97: =+F97*O97 -> 0
A98: ="Totaal blad "&M6 -> Totaal blad 1 | F98: =SUM(F14:F96) -> 11907 | H98: =SUM(H11:H97) -> 0 | L98: =SUM(L11:L97) -> 0 | M98: =SUM(M11:M97) -> 0 | P98: =SUM(P11:P97) -> 0
