Workbook

Sheet Fase 1 Ini
A1: Fase 1 Initiatief/haalbaarheid | D1: TU/e - opdrachtgever | E1: Architect / Stedenbouw | F1: Landschapsarchitect | G1: Adviseur constructies | H1: Installatie adviseur | I1: Bouwfysicus en Adviseur | J1: Kostenadviseur | K1: Aannemer | L1: Directievoerder | M1: Toezichthouder | O1: tblActiviteiten.omschr | P1: Documentomschrijving | Q1: Documentsoort | R1: Documentinhoud
A2: 01.01 | B2: Opdrachtgeving
A3: 01.01.010 | C3: Opstellen beleidsuitgangspunten project | P3: Projectbeleid fase Initiatief/haalbaarheid | Q3: Projectbeleid | R3: Inhoud*: eventueel bijgestelde beleidsuitgangspunten: analyse huisvestingsproblematiek / relevant ondernemingsbeleid / relevant huisvestingsbeleid / projectdoelstellingen / projectresultaten / projectbudget / projectmijlpalen / uitbestedingsbeleid / beoordelingscriteria alternatieven / randvoorwaarden
A4: 01.01.020 | C4: Nemen besluiten over faseresultaten en voortgang | P4: Besluiten fase Initiatief/haalbaarheid | R4: Inhoud: conclusies en besluiten m.b.t. de haalbaarheid / locatiekeuze / besluiten m.b.t. het vervolg van het project
A5: 01.02 | B5: Contracten
A6: 01.02.010 | C6: Voorbereiden contracteren van participant(en) | P6: Conceptcontracten met participant(en) fase Initiatief/haalbaarheid (en verder) | Q6: Model Basisopdracht DNR 2011 | R6: Inhoud*: zie Model Basisopdracht De Nieuwe Regeling 2011
A7: 01.02.010 | C7: Voorbereiden contracteren van participant(en) | P7: Verslagen contractbesprekingen fase Initiatief/haalbaarheid | Q7: Verslag contractbe | R7: Inhoud*: aanwezigen / agenda / besproken documenten / resultaten bespreking / afspraken
A8: 01.02.010 | C8: Voorbereiden contracteren van participant(en) | P8: Uitbestedingsplan fase Initiatief/haalbaarheid | Q8: Uitbestedingsplan | R8: Inhoud*: gekozen uitbestedingsvorm / uitbestedingstactiek / eventueel te houden aanbestedingen van diensten
A9: 01.02.010 | C9: Voorbereiden contracteren van participant(en) | P9: Conceptcontracten aanvullende expertise fase Initiatief/haalbaarheid (en verder) | Q9: Model Basisopdracht DNR 2011 | R9: Inhoud*: zie Model Basisopdracht De Nieuwe Regeling 2011
A10: 01.02.010 | C10: Voorbereiden contracteren van participant(en) | P10: Aanbestedingsplan fase Initiatief/haalbaarheid | Q10: Aanbestedingsplan | R10: Inhoud*: opzet aanbesteding per participant / tijdschema
A11: 01.02.015 | C11: Formuleren gewenste werkzaamheden eventuele aanvullende expertise (M-taak) | P11: Gewenste werkzaamheden aanvullende expertise fase Initiatief/haalbaarheid | Q11: Gewenste werkzaamheden | R11: Inhoud*: taakspecificatie extern in te schakelen deskundigen
A12: 01.02.020 | C12: Contracteren eventuele aanvullende expertise | P12: Contracten aanvullende expertise Initiatieffase (en verder) | Q12: Contracten aanvullende expertise | R12: Inhoud*: zie Model Basisopdracht De Nieuwe Regeling 2011
A13: 01.02.030 | C13: Contracteren van participant(en) | P13: Contracten met participant(en) fase Initiatief/haalbaarheid (en verder) | Q13: Contracten met participanten | R13: Inhoud*: zie Model Basisopdracht De Nieuwe Regeling 2011
A14: 01.02.030 | C14: Contracteren van participant(en) | P14: Rapport verleende opdracht(en) fase Initiatief/haalbaarheid (en verder) | Q14: Rapport verleende opdrachten | R14: Inhoud*: opsomming verleende opdrachten
A15: 01.03 | B15: Programma van Eisen
A16: 01.03.010 | C16: Verzamelen gegevens te huisvesten organisatie | P16: Gegevens te huisvesten organisatie fase Initiatief/haalbaarheid | R16: Inhoud: aard van de organisatie / organisatiestructuur / medewerkers / werkprocessen / producten en diensten / cultuur / imago / geschiedenis / toekomstverwachtingen
A17: 01.03.020 | C17: Analyseren huisvestingsbehoefte | P17: Analyse huisvestingsbehoefte fase Initiatief/haalbaarheid | R17: Inhoud: globale aanduiding van te huisvesten functies of functieclusters / relaties tussen functies/functieclusters / globale ruimtebehoefte / globale eisen en wensen met betrekking tot de locatie
A18: 01.03.020 | C18: Analyseren huisvestingsbehoefte | P18: Analyse behoefte Landschap | R18: Inhoud: analyse behoeften t.a.v. bereikbaarheid / uitstraling omgeving / benodigde Landschap met betrekking tot parkeren, verblijf, opslag etc.
A19: 01.03.020 | C19: Analyseren huisvestingsbehoefte | P19: Analyse ondernemingsbeleid fase Initiatief/haalbaarheid | Q19: Analyse ondernemingsbeleid | R19: Inhoud*: beleid t.a.v.: markten, producten en/of diensten, groei of krimp, organisatiestructuur, inrichting primaire en ondersteunende processen, innovatie, imago, strategie en marketing
A20: 01.03.020 | C20: Analyseren huisvestingsbehoefte | P20: Ambitiedocument | R20: Inhoud: ondernemingsbeleid vertaald naar ambities en doelstellingen t.a.v. vestigingsplaats/locatie, functionaliteit, logistiek, bereikbaarheid en toegankelijkheid, ruimtelijke en architectonische kwaliteit, veiligheid en gezondheids- en welzijnsaspecten van de huisvesting / globale budgetten voor investering en exploitatie
A21: 01.04 | B21: Architectuur/ bouwkunde
A22: 01.04.010 | C22: Verrichten onderzoek gewenste gebouw- en locatietype | P22: Rapportage gewenste gebouwtype | R22: Inhoud: gewenste gebouwtype in relatie tot de bedrijfscultuur en werkwijze van te huisvesten organisatie, huishouden of doelgroep en de visies van de opdrachtgever / gewenste gebouwtype in relatie tot maatschappelijke ontwikkelingen en actuele visies m.b.t. de opgave / verkenning uitgangspunten architectuur
A23: 01.04.010 | C23: Verrichten onderzoek gewenste gebouw- en locatietype | P23: Stedenbouwkundig wensenpakket vanuit expertise Architectuur/bouwkunde | R23: Inhoud: gewenste locatietype in relatie tot bedrijfscultuur en werkwijze van de te huisvesten organisatie, huishouden of doelgroep en visies van de opdrachtgever / gewenste locatietype in relatie tot maatschappelijke ontwikkelingen en actuele visies m.b.t. de opgave
A24: 01.04.020 | C24: Adviseren locatiekeuze vanuit expertise Architectuur/bouwkunde | P24: Advies locatiekeuze vanuit expertise Architectuur/bouwkunde | R24: Inhoud: analyse stedenbouwkundige context diverse locaties: architectonische representativiteit, kwaliteit van de ambiances / analyse planologische aspecten diverse locaties: eventuele toekomstige context / analyse bebouwingsmogelijkheden diverse locaties: grootte en vorm in relatie tot gewenste bouwvolume / sterkte-zwakte-analyse diverse locaties/ advies m.b.t. definitieve keuze
A25: 01.04.030 | C25: Verzamelen gegevens gekozen locatie vanuit expertise Architectuur/bouwkunde | P25: Locatiegegevens vanuit expertise Architectuur/bouwkunde | R25: Inhoud: analyse stedenbouwkundige kwaliteiten: morfologie van de omgeving, gehanteerde beeldtaal van de omgeving, architectonisch sfeerbepalende structuren / inventarisatie en interpretatie van historische informatie / analyse logistieke inbedding in de omgeving
A26: 01.04.040 | C26: Uitvoeren haalbaarheidsonderzoek vanuit expertise Architectuur/bouwkunde | P26: Haalbaarheidsonderzoek vanuit expertise Architectuur/bouwkunde | R26: Inhoud: inpassings- en oriëntatiemogelijkheden gewenste bouwvolume: bebouwingsmogelijkheden, potentie architectonische representatie / logistieke mogelijkheden van het terrein: ontsluitingsprincipes gebouw in relatie tot terrein / faseerbaarheid gewenste bouwvolume: inventarisatie bestaand bouwvolume en bestaande infrastructuur, faseringsvoorstel / advies haalbaarheid
A27: 01.04.050 | C27: Opnemen bestaande toestand bouwwerk (renovatie/restauratie) | P27: Globale gebrekentekening met toelichting | R27: Inhoud: globale inventarisatie van te herstellen bouwkundige gebreken, voldoende om een eerste, grove indicatie te kunnen geven van renovatie/restauratiekosten
A28: 01.04.050 | C28: Opnemen bestaande toestand bouwwerk (renovatie/restauratie) | P28: Inventarisatie bestaande tekeningen te renoveren/restaureren bouwwerk | R28: Inhoud: lijst van bestaande bouwkundige tekeningen / beoordeling kwaliteit aanwezige tekeningen
A29: 01.04.050 | C29: Opnemen bestaande toestand bouwwerk (renovatie/restauratie) | P29: Schetsmatige opmetingstekening | R29: Inhoud: schetsmatig opgezette plattegronden en/of plattegrondfragmenten 1:100 / schetsmatig opgezette gevelaanzichten en/of gevelfragmenten 1:100
A30: 01.04.050 | C30: Opnemen bestaande toestand bouwwerk (renovatie/restauratie) | P30: Bestaande tekeningen te renoveren/restaureren bouwwerk gedigitaliseerd | R30: Inhoud: bestaande tekeningen digitaal gemaakt (indien er wel bestaande tekeningen voorhanden zijn, maar geen CAD-versies)
A31: 01.04.050 | C31: Opnemen bestaande toestand bouwwerk (renovatie/restauratie) | P31: Rapportage status te renoveren/restaureren bouwwerk | R31: Inhoud: status: rijksmonument, gemeentelijk monument, geen monumentenstatus / overzicht eventueel eerder verleende subsidies / eventuele plaats op gemeentelijke meerjarenplanning / ….
A32: 01.04.050 | C32: Opnemen bestaande toestand bouwwerk (renovatie/restauratie) | P32: Gecontroleerde bestaande tekeningen te renoveren/restaureren bouwwerk | R32: Inhoud: Bestaande tekeningen met daarop aangegeven: aanvullende informatie uit opname van het bouwwerk / bij opname van het bouwwerk geconstateerde afwijkingen van de tekeningen
A33: 01.05 | B33: Interieur
A34: 01.05.020 | C34: Opnemen bestaande toestand Interieur (renovatie/restauratie) | P34: Inventarisatie bestaande tekeningen te renoveren/te restaureren Interieur | R34: Inhoud: lijst van bestaande interieurtekeningen / beoordeling kwaliteit aanwezige tekeningen
A35: 01.05.020 | C35: Opnemen bestaande toestand Interieur (renovatie/restauratie) | P35: Schetsmatige opname Interieur | R35: Inhoud: schetsmatig opgezette plattegronden, doorsneden en aanzichten van het bestaande interieur, inclusief materiaalgebruik en afwerkingen en eventuele gebreken / toelichting
A36: 01.05.020 | C36: Opnemen bestaande toestand Interieur (renovatie/restauratie) | P36: Gecontroleerde bestaande tekeningen te renoveren/te restaureren Interieur | R36: Inhoud: bestaande tekeningen met daarop aangegeven aanvullende informatie uit opname van het interieur en geconstateerde afwijkingen van de tekeningen
A37: 01.05.020 | C37: Opnemen bestaande toestand Interieur (renovatie/restauratie) | P37: Bestaande tekeningen interieur gedigitaliseerd | R37: Inhoud: bestaande tekeningen digitaal gemaakt (indien er wel bestaande tekeningen voorhanden zijn, maar geen CAD-versies)
A38: 01.06 | B38: Landschap
A39: 01.06.010 | C39: Adviseren gewenste type landschap | P39: Rapportage gewenste type Landschap | R39: Inhoud: gewenste type Landschap en/of locatie in relatie tot de bedrijfscultuur en werkwijze van te huisvesten organisatie, huishouden of doelgroep en de visies van de opdrachtgever / gewenste type Landschap in relatie tot maatschappelijke ontwikkelingen en actuele visies
A40: 01.06.020 | C40: Adviseren locatiekeuze vanuit expertise Landschapsarchitectuur | P40: Advies locatiekeuze vanuit expertise Landschapsarchitectuur | R40: Inhoud: analyse stedenbouwkundige context diverse locaties: landschappelijke representativiteit, kwaliteit van het landschappelijke ambiances / analyse logistieke infrastructuur diverse locaties: ligging ten opzichte van stedelijke of regionale infrastructuur, toegankelijkheid / analyse eventuele toekomstige context / analyse geologische aspecten diverse locaties in relatie tot: landschappelijke aspecten / analyse globale milieutechnische factoren / analyse landschappelijke mogelijkheden diverse locaties / sterkte-zwakte-analyse diverse locaties / advies m.b.t. definitieve keuze
...

Sheet Fase 2 Def
A1: Fase 2 Projectdefinitie | D1: ='Fase 1 Ini'!D1 -> TU/e - opdrachtgever | E1: ='Fase 1 Ini'!E1 -> Architect / Stedenbouw | F1: ='Fase 1 Ini'!F1 -> Landschapsarchitect | G1: ='Fase 1 Ini'!G1 -> Adviseur constructies | H1: ='Fase 1 Ini'!H1 -> Installatie adviseur | I1: ='Fase 1 Ini'!I1 -> Bouwfysicus en Adviseur | J1: ='Fase 1 Ini'!J1 -> Kostenadviseur | K1: ='Fase 1 Ini'!K1 -> Aannemer | L1: ='Fase 1 Ini'!L1 -> Directievoerder | N1: tblActiviteiten.omschr | O1: Documentomschrijving | P1: Documentsoort | Q1: Documentinhoud
A2: 02.01 | B2: Opdrachtgeving
A3: 02.01.010 | C3: Evalueren en bijstellen beleidsuitgangspunten project | D3: X | N3: Evalueren en bijstellen beleidsuitgangspunten project | O3: Projectbeleid fase Projectdefinitie | Q3: Inhoud: eventueel bijgestelde analyse huisvestingsproblematiek / relevant ondernemingsbeleid / relevant huisvestingsbeleid / projectdoelstellingen / projectresultaten / projectbudget / projectmijlpalen / uitbestedingsbeleid / beoordelingscriteria alternatieven / randvoorwaarden
A4: 02.01.020 | C4: Nemen besluiten over faseresultaten en voortgang | D4: X | N4: Nemen besluiten over faseresultaten en voortgang | O4: Besluiten fase Projectdefinitie | Q4: Inhoud: opsomming van besluiten over resultaten / formele vaststelling integraal Programma van Eisen / besluiten m.b.t. het vervolg van het project
A5: 02.02 | B5: Contracten
A6: 02.02.010 | C6: Voorbereiden contracteren van participanten | D6: X | N6: Opstellen/herijken aanbestedingsplan | O6: Aanbestedingsplan fase Projectdefinitie (en verder) | P6: Aanbestedingsplan | Q6: Inhoud*: opzet aanbesteding per participant / tijdschema
A7: 02.02.010 | C7: Voorbereiden contracteren van participanten | N7: Voorbereiden contracteren van eventuele aanvullende expertise | O7: Conceptcontracten aanvullende expertise fase Projectdefinitie (en verder) | P7: Model Basisopdracht DNR 2011 | Q7: Inhoud*: zie Model Basisopdracht De Nieuwe Regeling 2011
A8: 02.02.010 | C8: Voorbereiden contracteren van participanten | N8: Voorbereiden contracteren van participanten | O8: Verslagen contractbesprekingen fase Projectdefinitie (en verder) | P8: Verslag contractbe | Q8: Inhoud*: aanwezigen / agenda / besproken documenten / resultaten bespreking / afspraken
A9: 02.02.010 | C9: Voorbereiden contracteren van participanten | N9: Voorbereiden contracteren van participanten | O9: Conceptcontracten met participanten fase Projectdefinitie (en verder) | P9: Model Basisopdracht DNR 2011 | Q9: Inhoud*: zie Model Basisopdracht De Nieuwe Regeling 2011
A10: 02.02.010 | C10: Voorbereiden contracteren van participanten | N10: Organiseren contractvorming | O10: Uitbestedingsplan fase Projectdefinitie (en verder) | P10: Uitbestedingsplan | Q10: Inhoud*: gekozen uitbestedingsvorm / uitbestedingstactiek / eventueel te houden aanbestedingen van diensten
A11: 02.02.020 | C11: Formuleren gewenste werkzaamheden aanvullende expertise (M-taak) | D11: X | N11: Formuleren gewenste werkzaamheden aanvullende expertise | O11: Gewenste werkzaamheden aanvullende expertise fase Projectdefinitie | P11: Gewenste werkzaamheden | Q11: Inhoud*: taakspecificatie extern in te schakelen deskundigen
A12: 02.02.030 | C12: Contracteren van participanten | D12: X | N12: Contracteren van participanten | O12: Contracten met participanten fase Projectdefinitie (en verder) | P12: Contracten met participanten | Q12: Inhoud*: zie Model Basisopdracht De Nieuwe Regeling 2011
A13: 02.02.030 | C13: Contracteren van participanten | N13: Contracteren van participanten | O13: Rapport verleende opdrachten fase Projectdefinitie (en verder) | P13: Rapport verleende opdrachten | Q13: Inhoud*: opsomming verleende opdrachten
A14: 02.02.035 | C14: Contracteren aanvullende expertise | D14: X | N14: Contracteren aanvullende expertise | O14: Contracten aanvullende expertise fase Projectdefinitie | P14: Contracten aanvullende expertise | Q14: Inhoud*: zie Model Basisopdracht De Nieuwe Regeling 2011
A15: 02.03 | B15: Programma van Eisen
A16: 02.03.010 | C16: Analyseren te huisvesten organisatie | D16: X | N16: Analyseren te huisvesten organisatie | O16: Analyse te huisvesten organisatie fase Projectdefinitie | Q16: Inhoud: analyse van: aard van de organisatie, missie en doelstellingen, organisatiestructuur, ambities, medewerkers, werkprocessen, producten en diensten, cultuur, imago, toekomstverwachtingen
A17: 02.03.010 | C17: Analyseren te huisvesten organisatie | N17: Analyseren huisvestingsbeleid | O17: Analyse huisvestingsbeleid fase Projectdefinitie | Q17: Inhoud: bestaande situatie / organisatierichtlijnen / relatie huisvesting en onderneming / facilitaire normen / financiële normen / organisatie interne besluitvorming
A18: 02.03.010 | C18: Analyseren te huisvesten organisatie | N18: Analyseren ondernemingsbeleid | O18: Analyse ondernemingsbeleid fase Projectdefinitie | P18: Analyse ondernemingsbeleid | Q18: Inhoud*: beleid t.a.v.: markten, producten en/of diensten, groei of krimp, organisatiestructuur, inrichting primaire en ondersteunende processen, innovatie, imago, strategie en marketing
A19: 02.03.020 | C19: Analyseren locatiegegevens | D19: X | N19: Analyseren locatiegegevens | O19: Analyse locatiegegevens fase Projectdefinitie | Q19: Inhoud: Stedenbouwkundig plan, bestemmingsplan / Verkeersplan / Kadastrale gegevens / Ondergronds verkeer/ waardering bestaande bebouwing van de omgeving
A20: 02.03.030 | C20: Verzorgen inbreng expertise Architectuur/bouwkunde in PvE | E20: B | N20: Verzorgen inbreng expertise Architectuur/bouwkunde in PvE | O20: Inbreng expertise Architectuur/bouwkunde fase Projectdefinitie | Q20: Inhoud: (afhankelijk van het project): eisen en wensen m.b.t. stedenbouwkundige en architectonische inpassing / ambities en verwachtingen m.b.t. de architectonische verschijningsvorm / ruimtebehoefte van en relaties tussen gebruiksactiviteiten, inclusief routing en omvang van mensen- en goederenstromen / eisen m.b.t. flexibiliteit, uitbreidbaarheid, bereikbaarheid, toegankelijkheid en veiligheid
A21: 02.03.032 | C21: Verzorgen inbreng expertise Interieurarchitectuur in PvE | E21: B | N21: Verzorgen inbreng expertise Interieurarchitectuur in PvE | O21: Inbreng expertise Interieurarchitectuur fase Projectdefinitie | Q21: Inhoud: (afhankelijk van het project): ambities en verwachtingen m.b.t. de verschijningsvorm en materialisatie van het interieur / verwachtingen m.b.t. kleurgebruik / functionele eisen m.b.t. inrichting van werkplekken en algemene (representatieve) ruimten
A22: 02.03.034 | C22: Verzorgen inbreng expertise Landschapsarchitectuur in PvE | F22: B | N22: Verzorgen inbreng expertise Landschapsarchitectuur in PvE | O22: Inbreng expertise Landschapsarchitectuur fase Projectdefinitie | Q22: Inhoud: (afhankelijk van het project): eisen en wensen m.b.t. landschappelijke inpassing / gebruikseisen aan tuin, externe verblijfsruimten, toegankelijkheid en veiligheid terrein, parkeren, opslagmogelijkheden / ambities en verwachtingen m.b.t. de landschappelijke verschijningsvorm van de buitenruimte
A23: 02.03.036 | C23: Verzorgen inbreng expertise Bouwfysica in PvE | I23: B | N23: Verzorgen inbreng expertise Bouwfysica in PvE | O23: Inbreng expertise Bouwfysica fase Projectdefinitie | Q23: Inhoud: (afhankelijk van het project): eisen m.b.t. ruimtecondities (licht, lucht, temperatuur) / eisen aan energiegebruik (EPC), milieu en duurzaamheid / stedenbouwfysische eisen
A24: 02.03.038 | C24: Verzorgen inbreng expertise Akoestiek in PvE | I24: B | N24: Verzorgen inbreng expertise Akoestiek in PvE | O24: Inbreng expertise Akoestiek fase Projectdefinitie | Q24: Inhoud: (afhankelijk van project): eisen aan ruimteakoestiek van relevante ruimten / eisen m.b.t. interne en externe geluidsbelasting
A25: 02.03.040 | C25: Verzorgen inbreng expertise Constructies in PvE | G25: B | N25: Verzorgen inbreng expertise Constructies in PvE | O25: Inbreng expertise Constructies fase Projectdefinitie | Q25: Inhoud: (afhankelijk van het project) overzicht maximale vloerbelastingen in relatie tot gebruiksactiviteiten en ruimtefuncties / trillingseisen / geluidseisen
A26: 02.03.042 | C26: Verzorgen inbreng expertise Installaties in PvE | H26: X | N26: Verzorgen inbreng expertise Installaties in PvE | O26: Inbreng expertise Installaties fase Projectdefinitie | Q26: Inhoud: (afhankelijk van het project): eisen en/of uitgangspunten m.b.t. energievoorziening / eisen en/of uitgangspunten m.b.t. installatieconcepten
A27: 02.03.044 | C27: Verzorgen inbreng expertise Geotechniek in PvE | G27: B | N27: Verzorgen inbreng expertise Geotechniek in PvE | O27: Inbreng expertise Geotechniek in PvE | Q27: Inhoud: (afhankelijk van het project): eisen en/of uitgangspunten m.b.t. funderingsconstructies, waterhuishouding (grondwater, bemaling) en bouwput
A28: 02.03.050 | C28: Ontwikkelen integraal Programma van Eisen | D28: X | N28: Ontwikkelen integraal PvE / integreren inbreng expertise in integraal PvE | O28: Integraal Programma van Eisen fase Projectdefinitie | P28: PvE | Q28: Inhoud*: (afhankelijk van het project): eventueel gewijzigde en/of nader uitgewerkte eisen aan de locatie / eisen en wensen m.b.t. stedenbouwkundige, landschappelijke en architectonische inpassing / ambities en verwachtingen m.b.t. de architectonische verschijningsvorm, verschijningsvorm van interieur en buitenruimte / ruimtebehoefte van en relaties tussen gebruiksactiviteiten, inclusief routing en omvang van mensen- en goederenstromen / eisen m.b.t. flexibiliteit, uitbreidbaarheid, bereikbaarheid, toegankelijkheid en veiligheid / functionele eisen m.b.t. inrichting van werkplekken en algemene (representatieve) ruimten / gebruikseisen aan tuin, externe verblijfsruimten, toegankelijkheid en veiligheid terrein, parkeren, opslagmogelijkheden op het terrein / eisen m.b.t. ruimtecondities (licht, lucht, temperatuur) / eisen aan energiegebruik (EPC), milieu en duurzaamheid / stedenbouwfysische eisen / eisen aan ruimteakoestiek van relevante ruimten / eisen m.b.t. interne en externe geluidsbelasting / overzicht maximale vloerbelastingen in relatie tot gebruiksactiviteiten en ruimtefuncties / eisen en/of uitgangspunten m.b.t. energievoorziening / eisen en/of uitgangspunten m.b.t. installatieconcepten / eisen en/of uitgangspunten m.b.t. funderingsconstructies, waterhuishouding en bouwput / randvoorwaarden m.b.t. investeringskosten, exploitatie- en/of levensduurkosten, doorlooptijd, arbeidsomstandigheden, onderhoud en reiniging
A29: 02.04 | B29: Architectuur/ bouwkunde
A30: 02.04.010 | C30: Toetsen realiseerbaarheid PvE vanuit expertise Architectuur/bouwkunde | E30: X | N30: Toetsen realiseerbaarheid PvE vanuit expertise Architectuur/bouwkunde | O30: Toetsing realiseerbaarheid PvE vanuit expertise Architectuur/bouwkunde | Q30: Inhoud: beoordeling consistentie eisenpakket vanuit gezichtspunt architectuur/bouwkunde, bijvoorbeeld: verkenning mogelijkheden stedenbouwkundige inpassing in relatie tot de omvang programma, verkenning mogelijkheden bouwmassa in relatie tot budgetten, verkenning verhouding ambitieniveau architectuur en budgetten, toetsing eisenpakket op strijdigheid met bouwregelgeving t.a.v. veiligheid en bruikbaarheid / mogelijke programmatische knelpunten / conclusies / aanbevelingen
A31: 02.05 | B31: Interieur
A32: 02.05.010 | C32: Toetsen realiseerbaarheid PvE vanuit expertise Interieurarchitectuur | E32: X | N32: Toetsen realiseerbaarheid PvE vanuit expertise Interieurarchitectuur | O32: Toetsing realiseerbaarheid PvE vanuit expertise Interieurarchitectuur | Q32: Inhoud: beoordeling consistentie eisenpakket vanuit gezichtspunt interieur, bijvoorbeeld: verkenning verhouding ambitieniveau interieur en budgetten, toetsing eisenpakket op strijdigheid met bouwregelgeving t.a.v. veiligheid en bruikbaarheid / mogelijke programmatische knelpunten / conclusies / aanbevelingen
A33: 02.06 | B33: Landschap
A34: 02.06.010 | C34: Toetsen realiseerbaarheid PvE vanuit expertise Landschapsarchitectuur | F34: X | N34: Toetsen realiseerbaarheid PvE vanuit expertise Landschapsarchitectuur | O34: Toetsing realiseerbaarheid PvE vanuit expertise Landschapsarchitectuur | Q34: Inhoud: beoordeling consistentie eisenpakket vanuit gezichtspunt architectuurlandschap, bijvoorbeeld: verkenning mogelijkheden situatie en landschappelijke inpassing in relatie tot de omvang programma en bouwmassa, verkenning verhouding ambitieniveau landschapsarchitectuur en budgetten, toetsing eisenpakket op strijdigheid met bouwregelgeving t.a.v. veiligheid en bruikbaarheid / mogelijke programmatische knelpunten / conclusies / aanbevelingen
A35: 02.07 | B35: Bouwfysica, Akoestiek en Brandveiligheid
A36: 02.07.010 | C36: Toetsen realiseerbaarheid PvE vanuit expertise Bouwfysica | I36: X | N36: Toetsen realiseerbaarheid PvE vanuit expertise Bouwfysica | O36: Toetsing realiseerbaarheid PvE vanuit expertise Bouwfysica | Q36: Inhoud: beoordeling consistentie eisenpakket vanuit gezichtspunt bouwfysica, bijvoorbeeld: toetsing eisenpakket voor ruimtecondities op strijdigheid met bouwregelgeving t.a.v. veiligheid, gezondheid, energiezuinigheid en milieu / verkenning verhouding ambitieniveau binnenklimaat in relatie tot budgetten / mogelijke programmatische knelpunten / conclusies / aanbevelingen
A37: 02.07.020 | C37: Toetsen realiseerbaarheid PvE vanuit expertise Akoestiek | I37: X | N37: Toetsen realiseerbaarheid PvE vanuit expertise Akoestiek | O37: Toetsing realiseerbaarheid PvE vanuit expertise Akoestiek | Q37: Inhoud: beoordeling consistentie eisenpakket vanuit gezichtspunt akoestiek, bijvoorbeeld: toetsing eisenpakket akoestiek op strijdigheid met bouwregelgeving t.a.v. gezondheid en milieu, verkenning verhouding ambitieniveau akoestiek in relatie tot budgetten / mogelijke programmatische knelpunten / conclusies / aanbevelingen
A38: 02.08 | B38: Constructie
A39: 02.08.010 | C39: Toetsen realiseerbaarheid PvE vanuit expertise Constructies | G39: X | N39: Toetsen realiseerbaarheid PvE vanuit expertise Constructies | O39: Toetsing realiseerbaarheid PvE vanuit expertise Constructies | Q39: Inhoud: beoordeling consistentie eisenpakket vanuit gezichtspunt constructies, bijvoorbeeld: toetsing eisenpakket in relatie tot constructies op strijdigheid met bouwregelgeving t.a.v. (constructieve) veiligheid / verkenning verhouding ambitieniveau binnenklimaat in relatie tot budgetten / mogelijke programmatische knelpunten / conclusies / aanbevelingen
A40: 02.09 | B40: Installaties
...

Sheet Fase 3 SO
A1: Fase 3 Structuurontwerp | D1: ='Fase 1 Ini'!D1 -> TU/e - opdrachtgever | E1: ='Fase 1 Ini'!E1 -> Architect / Stedenbouw | F1: ='Fase 1 Ini'!F1 -> Landschapsarchitect | G1: ='Fase 1 Ini'!G1 -> Adviseur constructies | H1: ='Fase 1 Ini'!H1 -> Installatie adviseur | I1: ='Fase 1 Ini'!I1 -> Bouwfysicus en Adviseur | J1: ='Fase 1 Ini'!J1 -> Kostenadviseur | K1: ='Fase 1 Ini'!K1 -> Aannemer | L1: ='Fase 1 Ini'!L1 -> Directievoerder | N1: tblActiviteiten.omschr | O1: Documentomschrijving | P1: Documentsoort | Q1: Documentinhoud
A2: 03.01 | B2: Opdrachtgeving
A3: 03.01.010 | C3: Evalueren en bijstellen beleidsuitgangspunten project | D3: X | N3: Evalueren en bijstellen beleidsuitgangspunten project | O3: Projectbeleid fase Structuurontwerp | P3: Projectbeleid | Q3: Inhoud*: eventueel bijgestelde beleidsuitgangspunten: analyse huisvestingsproblematiek / relevant ondernemingsbeleid / relevant huisvestingsbeleid / projectdoelstellingen / projectresultaten / projectbudget / projectmijlpalen / uitbestedingsbeleid / beoordelingscriteria alternatieven / randvoorwaarden
A4: 03.01.020 | C4: Nemen besluiten over resultaten en voortgang | D4: X | N4: Nemen besluiten over resultaten en voortgang | O4: Besluiten fase Structuurontwerp | Q4: Inhoud: opsomming van besluiten over resultaten / formele vaststelling integraal Structuurontwerp / besluiten m.b.t. het vervolg van het project
A5: 03.02 | B5: Contracten
A6: 03.02.010 | C6: Voorbereiden contracteren van participanten | D6: X | N6: Opstellen aanbestedingsplan | O6: Aanbestedingsplan fase Structuurontwerp (en verder) | P6: Aanbestedingsplan | Q6: Inhoud*: opzet aanbesteding per participant / tijdschema
A7: 03.02.010 | C7: Voorbereiden contracteren van participanten | N7: Voorbereiden contracteren van participanten | O7: Conceptcontracten met participanten fase Structuurontwerp (en verder) | P7: Model Basisopdracht DNR 2011 | Q7: Inhoud*: zie Model Basisopdracht De Nieuwe Regeling 2011
A8: 03.02.010 | C8: Voorbereiden contracteren van participanten | N8: Voorbereiden contracteren van eventuele aanvullende expertise | O8: Conceptcontracten aanvullende expertise fase Structuurontwerp (en verder) | P8: Model Basisopdracht DNR 2011 | Q8: Inhoud*: zie Model Basisopdracht De Nieuwe Regeling 2011
A9: 03.02.010 | C9: Voorbereiden contracteren van participanten | N9: Voorbereiden contracteren van participanten | O9: Verslagen contractbesprekingen fase Structuurontwerp (en verder) | P9: Verslag contractbe | Q9: Inhoud*: aanwezigen / agenda / besproken documenten / resultaten bespreking / afspraken
A10: 03.02.010 | C10: Voorbereiden contracteren van participanten | N10: Organiseren contractvorming | O10: Uitbestedingsplan fase Structuurontwerp (en verder) | P10: Uitbestedingsplan | Q10: Inhoud*: gekozen uitbestedingsvorm / uitbestedingstactiek / eventueel te houden aanbestedingen van diensten
A11: 03.02.020 | C11: Formuleren gewenste werkzaamheden aanvullende expertise (M-taak) | D11: X | N11: Formuleren gewenste werkzaamheden aanvullende expertise | O11: Gewenste werkzaamheden aanvullende expertise fase Structuurontwerp (en verder) | P11: Gewenste werkzaamheden | Q11: Inhoud*: taakspecificatie extern in te schakelen deskundigen
A12: 03.02.030 | C12: Contracteren van participanten | D12: X | N12: Contracteren van participanten | O12: Rapport verleende opdrachten fase Structuurontwerp (en verder) | P12: Rapport verleende opdrachten | Q12: Inhoud*: opsomming verleende opdrachten
A13: 03.02.030 | C13: Contracteren van participanten | N13: Contracteren van participanten | O13: Contracten met participanten fase Structuurontwerp (en verder) | P13: Contracten met participanten | Q13: Inhoud*: zie Model Basisopdracht De Nieuwe Regeling 2011
A14: 03.02.035 | C14: Contracteren aanvullende expertise | D14: X | N14: Contracteren aanvullende expertise | O14: Contracten aanvullende expertise fase Structuurontwerp (en verder) | P14: Contracten aanvullende expertise | Q14: Inhoud*: zie Model Basisopdracht De Nieuwe Regeling 2011
A15: 03.03 | B15: Programma van Eisen
A16: 03.03.020 | C16: Herijken en uitwerken PvE | D16: X | E16: B | G16: B | H16: B | I16: B | N16: Herijken en uitwerken PvE | O16: PvE fase Structuurontwerp | P16: PvE | Q16: Inhoud*: (afhankelijk van het project): eventueel gewijzigde en/of nader uitgewerkte eisen aan de locatie / eisen en wensen m.b.t. stedenbouwkundige, landschappelijke en architectonische inpassing / ambities en verwachtingen m.b.t. de architectonische verschijningsvorm, verschijningsvorm van interieur en buitenruimte / ruimtebehoefte van en relaties tussen gebruiksactiviteiten, inclusief routing en omvang van mensen- en goederenstromen / eisen m.b.t. flexibiliteit, uitbreidbaarheid, bereikbaarheid, toegankelijkheid en veiligheid / functionele eisen m.b.t. inrichting van werkplekken en algemene (representatieve) ruimten / gebruikseisen aan tuin, externe verblijfsruimten, toegankelijkheid en veiligheid terrein, parkeren, opslagmogelijkheden op het terrein / eisen m.b.t. ruimtecondities (licht, lucht, temperatuur) / eisen aan energiegebruik (EPC), milieu en duurzaamheid / stedenbouwfysische eisen / eisen aan ruimteakoestiek van relevante ruimten / eisen m.b.t. interne en externe geluidsbelasting / overzicht maximale vloerbelastingen in relatie tot gebruiksactiviteiten en ruimtefuncties / eisen en/of uitgangspunten m.b.t. energievoorziening / eisen en/of uitgangspunten m.b.t. installatieconcepten / eisen en/of uitgangspunten m.b.t. funderingsconstructies, waterhuishouding en bouwput / randvoorwaarden m.b.t. investeringskosten, exploitatie- en/of levensduurkosten, doorlooptijd, arbeidsomstandigheden, onderhoud en reiniging
A17: 03.04 | B17: Architectuur/ bouwkunde
A18: 03.04.010 | C18: Interpreteren van locatie- en terreingegevens vanuit expertise Architectuur/bouwkunde | E18: X | N18: Analyseren van de ligging van het terrein vanuit expertise Architectuur/bouwkunde | O18: Analyse ligging terrein vanuit expertise Architectuur/bouwkunde | Q18: Inhoud: historie van de locatie / historie van de stedenbouwkundig-architectonische context / invloed van de ligging op de gebouwtypologie
A19: 03.04.010 | C19: Interpreteren van locatie- en terreingegevens vanuit expertise Architectuur/bouwkunde | N19: Bepalen van de kwaliteiten van het terrein vanuit expertise Architectuur/bouwkunde | O19: Kwaliteiten van het terrein vanuit Expertise Architectuur/bouwkunde | Q19: Inhoud: morfologische structuur omgeving / beeldtaal omgeving / gewenste architectonische structuur
A20: 03.04.020 | C20: Ontwikkelen visie Architectuur/bouwkunde | E20: X | N20: Ontwikkelen visie Architectuur/bouwkunde | O20: Visie Architectuur/bouwkunde | Q20: Inhoud: visie op de ontwerpopgave / conceptuele uitgangspunten voor het ontwerp
A21: 03.04.040 | C21: Maken Structuurontwerp Stedenbouw en Architectuur | E21: X | N21: Maken Stedenbouwkundig-architectonisch plan | O21: Stedenbouwkundig-architectonisch plan | Q21: Inhoud: onderzoek bebouwingscapaciteit locatie / zonering en morfologie bebouwing (1:1000/1:500) / functionele ordening op locatieniveau (‘stedenbouwkundig vlekkenplan’ 1:1000/1:500)
A22: 03.04.040 | C22: Maken Structuurontwerp Stedenbouw en Architectuur | N22: Ontwerpen hoofdvorm bebouwing | O22: Hoofdvorm bebouwing Structuurontwerp | Q22: Inhoud: hoofdmassa gebouw (1:500/1:200) / oriëntatie gebouw
A23: 03.04.040 | C23: Maken Structuurontwerp Stedenbouw en Architectuur | N23: Ontwerpen hoofdindeling bebouwing | O23: Hoofdindeling bebouwing Structuurontwerp | Q23: Inhoud: functionele ordening op gebouwniveau (‘vlekkenplan gebouw’ 1:500/1:200) / ontsluitingsprincipes gebouw / zonering horizontale en verticale verkeersruimten
A24: 03.04.050 | C24: Maken beeldkwaliteitplan Architectuur | D24: X | N24: Maken beeldkwaliteitplan Architectuur | O24: Beeldkwaliteitplan Architectuur | Q24: Inhoud: gewenste beeldtaal, sfeer en ambiance bebouwing / invloed gewenste imago op de architectuur / gewenste zichtbaarheid vanuit de omgeving / eerste indicatie materiaalgebruik
A25: 03.04.060 | C25: Maken V&G-risico-inventarisatie en -evaluatie Structuurontwerp | E25: X | N25: Maken V&G-risico-inventarisatie en -evaluatie Structuurontwerp | O25: V&G-risico-inventarisatie en –evaluatie fase Structuurontwerp | P25: V&G RI&E | Q25: Inhoud*: analyse veiligheids- en gezondheidsrisico’s in de uitvoeringsfase als gevolg van het ontwerp / eventuele maatregelen in het ontwerp
A26: 03.05 | B26: Interieur
A27: 03.05.010 | C27: Verzorgen inbreng Interieur in Structuurontwerp | E27: X | N27: Verzorgen inbreng Interieur in Structuurontwerp | O27: Inbreng Interieur fase Structuurontwerp | Q27: Inhoud: visie op de ontwerpopgave interieur / conceptuele uitgangspunten voor het interieurontwerp / gewenste beeldtaak, sfeer en ambiance interieur / invloed gewenste imago op het interieur / eerste indicatie materiaalgebruik
A28: 03.05.020 | C28: Bijdragen aan V&G-risico-inventarisatie en -evaluatie Structuurontwerp | N28: Bijdragen aan V&G-risico-inventarisatie en -evaluatie Structuurontwerp | O28: Bijdrage Interieur aan V&G-risico-inventarisatie en –evaluatie fase Structuurontwerp | P28: V&G RI&E | Q28: Inhoud*: analyse veiligheids- en gezondheidsrisico’s in de uitvoeringsfase als gevolg van het ontwerp / eventuele maatregelen in het ontwerp
A29: 03.06 | B29: Landschap
A30: 03.06.010 | C30: Interpreteren van locatie- en terreingegevens vanuit expertise Landschap | F30: X | N30: Analyseren van de ligging van het terrein vanuit expertise Landschap | O30: Analyse ligging terrein vanuit expertise Landschap | Q30: Inhoud: historie van het terrein / historie van de stedenbouwkundig-landschappelijke context / invloed van de ligging op de terreintypologie / landschappelijke inbedding / landschappelijke kwaliteiten van de locatie
A31: 03.06.010 | C31: Interpreteren van locatie- en terreingegevens vanuit expertise Landschap | N31: Bepalen van de kwaliteiten van het terrein vanuit expertise Landschap | O31: Kwaliteiten van het terrein vanuit Expertise Landschap | Q31: Inhoud: ontsluitingsprincipes terrein / parkeermogelijkheden / technisch-infrastructurele mogelijkheden / vormkwaliteiten / oriëntatiekwaliteiten / geofysische kwaliteiten
A32: 03.06.015 | C32: Ontwikkelen visie Landschap | F32: X | N32: Ontwikkelen visie Landschap | O32: Visie Landschap | Q32: Inhoud: visie op de ontwerpopgave / conceptuele uitgangspunten voor het ontwerp
A33: 03.06.020 | C33: Maken stedenbouwkundig-landschappelijk Structuurontwerp | F33: X | N33: Maken stedenbouwkundig-landschappelijk Structuurontwerp | O33: Stedenbouwkundig-landschappelijk Structuurontwerp | Q33: Inhoud: mogelijke ruimtelijke opbouw van het landschap (1:1000/1:500) / ontsluitingsprincipes terrein / functionele ordening Landschap (1:1000/1:500): parkeercapaciteit en –voorziening
A34: 03.06.040 | C34: Maken beeldkwaliteitplan Landschap | F34: X | N34: Maken beeldkwaliteitplan Landschap | O34: Beeldkwaliteitplan Landschap | Q34: Inhoud: gewenste beeldtaal, sfeer en ambiance Landschap / invloed gewenste imago op vormgeving Landschap / eerste indicatie sfeer beplanting en materiaalgebruik
A35: 03.06.050 | C35: Maken V&G-risico-inventarisatie en -evaluatie Landschap | F35: X | N35: Maken V&G-risico-inventarisatie en -evaluatie Landschap | O35: V&G-risico-inventarisatie en –evaluatie Landschap fase Structuurontwerp | P35: V&G RI&E | Q35: Inhoud*: analyse veiligheids- en gezondheidsrisico’s in de uitvoeringsfase als gevolg van het ontwerp / eventuele maatregelen in het ontwerp
A36: 03.07 | B36: Bouwfysica, Akoestiek en Brandveiligheid
A37: 03.07.010 | C37: Adviseren inzake Bouwfysica in Structuurontwerp | I37: X | N37: Adviseren inzake Bouwfysica | O37: Advies inzake Bouwfysica fase Structuurontwerp | Q37: Inhoud: adviezen ten aanzien van de stedenbouwfysische aspecten van het stedenbouwkundig-architectonisch plan / conclusies en aanbevelingen / adviezen voor eventuele nadere onderzoeken
A38: 03.07.020 | C38: Adviseren inzake Akoestiek in Structuurontwerp | I38: X | N38: Adviseren inzake Akoestiek | O38: Advies inzake Akoestiek fase Structuurontwerp | Q38: Inhoud: adviezen ten aanzien van de akoestische aspecten van het stedenbouwkundig-architectonisch plan / conclusies en aanbevelingen / adviezen voor eventuele nadere onderzoeken
A39: 03.07.030 | C39: Adviseren inzake Brandveiligheid in Structuurontwerp | I39: X | N39: Adviseren inzake Brandveiligheid | O39: Advies inzake Brandveiligheid fase Structuurontwerp | Q39: Inhoud: adviezen ten aanzien van brandveiligheidsaspecten van het stedenbouwkundig-architectonisch plan / conclusies en aanbevelingen / adviezen voor eventuele nadere onderzoeken
A40: 03.08 | B40: Constructie
...

Sheet Fase 4 VO
A1: Fase 4 Voorontwerp | D1: ='Fase 1 Ini'!D1 -> TU/e - opdrachtgever | E1: ='Fase 1 Ini'!E1 -> Architect / Stedenbouw | F1: ='Fase 1 Ini'!F1 -> Landschapsarchitect | G1: ='Fase 1 Ini'!G1 -> Adviseur constructies | H1: ='Fase 1 Ini'!H1 -> Installatie adviseur | I1: ='Fase 1 Ini'!I1 -> Bouwfysicus en Adviseur | J1: ='Fase 1 Ini'!J1 -> Kostenadviseur | K1: ='Fase 1 Ini'!K1 -> Aannemer | L1: ='Fase 1 Ini'!L1 -> Directievoerder | N1: tblActiviteiten.omschr | O1: Documentomschrijving | P1: Documentsoort | Q1: Documentinhoud
A2: 04.01 | B2: Opdrachtgeving
A3: 04.01.010 | C3: Evalueren en bijstellen beleidsuitgangspunten project | D3: X | N3: Evalueren en bijstellen beleidsuitgangspunten project | O3: Projectbeleid fase Voorontwerp | P3: Projectbeleid | Q3: Inhoud*: eventueel bijgestelde beleidsuitgangspunten: analyse huisvestingsproblematiek / relevant ondernemingsbeleid / relevant huisvestingsbeleid / projectdoelstellingen / projectresultaten / projectbudget / projectmijlpalen / uitbestedingsbeleid / beoordelingscriteria alternatieven / randvoorwaarden
A4: 04.01.020 | C4: Nemen besluiten over resultaten en voortgang | D4: X | N4: Nemen besluiten over resultaten en voortgang | O4: Besluiten fase Voorontwerp | Q4: Inhoud: opsomming van besluiten over resultaten / formele vaststelling integraal Voorontwerp / besluiten m.b.t. het vervolg van het project
A5: 04.02 | B5: Contracten
A6: 04.02.010 | C6: Voorbereiden contracteren van participanten | D6: X | N6: Organiseren contractvorming | O6: Uitbestedingsplan fase Voorontwerp (en verder) | P6: Uitbestedingsplan | Q6: Inhoud*: gekozen uitbestedingsvorm / uitbestedingstactiek / eventueel te houden aanbestedingen van diensten
A7: 04.02.010 | C7: Voorbereiden contracteren van participanten | N7: Opstellen aanbestedingsplan | O7: Aanbestedingsplan fase Voorontwerp (en verder) | P7: Aanbestedingsplan | Q7: Inhoud*: opzet aanbesteding per participant / tijdschema
A8: 04.02.010 | C8: Voorbereiden contracteren van participanten | N8: Voorbereiden contracteren van participanten | O8: Conceptcontracten met participanten fase Voorontwerp (en verder) | P8: Model Basisopdracht DNR 2011 | Q8: Inhoud*: zie Model Basisopdracht De Nieuwe Regeling 2011
A9: 04.02.010 | C9: Voorbereiden contracteren van participanten | N9: Voorbereiden contracteren van participanten | O9: Verslagen contractbesprekingen fase Voorontwerp (en verder) | P9: Verslag contractbe | Q9: Inhoud*: aanwezigen / agenda / besproken documenten / resultaten bespreking / afspraken
A10: 04.02.010 | C10: Voorbereiden contracteren van participanten | N10: Voorbereiden contracteren van eventuele aanvullende expertise | O10: Conceptcontracten aanvullende expertise fase Voorontwerp (en verder) | P10: Model Basisopdracht DNR 2011 | Q10: Inhoud*: zie Model Basisopdracht De Nieuwe Regeling 2011
A11: 04.02.020 | C11: Formuleren gewenste werkzaamheden aanvullende expertise (M-taak) | D11: X | N11: Formuleren gewenste werkzaamheden aanvullende expertise | O11: Gewenste werkzaamheden aanvullende expertise fase Voorontwerp (en verder) | P11: Gewenste werkzaamheden | Q11: Inhoud*: taakspecificatie extern in te schakelen deskundigen
A12: 04.02.030 | C12: Contracteren van participanten | D12: X | N12: Contracteren van participanten | O12: Rapport verleende opdrachten fase Voorontwerp (en verder) | P12: Rapport verleende opdrachten | Q12: Inhoud*: opsomming verleende opdrachten
A13: 04.02.030 | C13: Contracteren van participanten | N13: Contracteren van participanten | O13: Contracten met participanten fase Voorontwerp (en verder) | P13: Contracten met participanten | Q13: Inhoud*: zie Model Basisopdracht De Nieuwe Regeling 2011
A14: 04.02.035 | C14: Contracteren aanvullende expertise | D14: X | N14: Contracteren aanvullende expertise | O14: Contracten aanvullende expertise fase Voorontwerp (en verder) | P14: Contracten aanvullende expertise | Q14: Inhoud*: zie Model Basisopdracht De Nieuwe Regeling 2011
A15: 04.03 | B15: Programma van Eisen
A16: 04.03.020 | C16: Herijken en uitwerken PvE | D16: X | E16: B | G16: B | H16: B | I16: B | N16: Herijken en uitwerken PvE | O16: PvE fase Voorontwerp | P16: PvE | Q16: Inhoud*: (afhankelijk van het project): eventueel gewijzigde en/of nader uitgewerkte eisen aan de locatie / eisen en wensen m.b.t. stedenbouwkundige, landschappelijke en architectonische inpassing / ambities en verwachtingen m.b.t. de architectonische verschijningsvorm, verschijningsvorm van interieur en buitenruimte / ruimtebehoefte van en relaties tussen gebruiksactiviteiten, inclusief routing en omvang van mensen- en goederenstromen / eisen m.b.t. flexibiliteit, uitbreidbaarheid, bereikbaarheid, toegankelijkheid en veiligheid / functionele eisen m.b.t. inrichting van werkplekken en algemene (representatieve) ruimten / gebruikseisen aan tuin, externe verblijfsruimten, toegankelijkheid en veiligheid terrein, parkeren, opslagmogelijkheden op het terrein / eisen m.b.t. ruimtecondities (licht, lucht, temperatuur) / eisen aan energiegebruik (EPC), milieu en duurzaamheid / stedenbouwfysische eisen / eisen aan ruimteakoestiek van relevante ruimten / eisen m.b.t. interne en externe geluidsbelasting / overzicht maximale vloerbelastingen in relatie tot gebruiksactiviteiten en ruimtefuncties / eisen en/of uitgangspunten m.b.t. energievoorziening / eisen en/of uitgangspunten m.b.t. installatieconcepten / eisen en/of uitgangspunten m.b.t. funderingsconstructies, waterhuishouding en bouwput / randvoorwaarden m.b.t. investeringskosten, exploitatie- en/of levensduurkosten, doorlooptijd, arbeidsomstandigheden, onderhoud en reiniging
A17: 04.04 | B17: Architectuur/ bouwkunde
A18: 04.04.010 | C18: Digitaliseren tekeningen bestaand gebouw | N18: Digitaliseren tekeningen bestaand gebouw | O18: Gedigitaliseerde tekeningen bestaand gebouw | Q18: Inhoud: gedigitaliseerde tekeningen voor bestaand gebouw waarvoor wel papieren tekeningen, maar geen CAD-tekeningen beschikbaar zijn (in geval van renovatie en/of restauratie)
A19: 04.04.015 | C19: Gedetailleerd opmeten bestaand gebouw | N19: Gedetailleerd opmeten bestaand gebouw | O19: Gedetailleerde opmeting bestaand gebouw | Q19: Inhoud: meetgegevens, inclusief detailleringen, ter controle en aanvulling van bestaande tekeningen of – bij het ontbreken van bestaande tekeningen – het in tekening brengen van het bestaande gebouw (in geval van renovatie en/of restauratie)
A20: 04.04.015 | C20: Gedetailleerd opmeten bestaand gebouw | N20: Tekenen opmeting bestaande toestand gebouw | O20: Tekeningen bestaande toestand gebouw | Q20: Inhoud: plattegronden, doorsneden en gevels bestaande gebouw (1:100/1:50) / details (1:10/1:5)
A21: 04.04.018 | C21: Uitvoeren bouwtechnische inspectie bestaand gebouw | N21: Uitvoeren bouwtechnische inspectie bestaand gebouw | O21: Gebrekentekening met toelichting | Q21: Inhoud: plattegronden en eventuele doorsneden (1:100/1:50) bestaande situatie met daarop aangegeven locaties van technische gebreken / omschrijving technische gebreken
A22: 04.04.020 | C22: Uitwerken stedenbouwkundige inpassing gebouw in omgeving | E22: X | N22: Uitwerken stedenbouwkundige inpassing gebouw in omgeving | O22: Voorontwerp stedenbouwkundige inpassing gebouw | Q22: Inhoud: situatieschets (1:500): hoofdmassa gebouw / positionering gebouw op locatie / oriëntatie gebouw / hoofd- en neventoegangen
A23: 04.04.030 | C23: Ontwerpen functionele en ruimtelijke indeling gebouw | E23: X | N23: Ontwerpen functionele en ruimtelijke indeling gebouw | O23: Voorontwerp functionele en ruimtelijke indeling gebouw | Q23: Inhoud: plattegronden (1:200/1:100) met positionering van gebruikersfuncties in onderling verband en globale ruimtelijke indeling en compositie / m2 per ruimte / ruimtefuncties per ruimte / ruimtelijke reservering voor hoofddraagconstructies ruimtelijke reservering voor installaties, inclusief technische ruimten en schachten / doorsneden (1:200/1:100): per gebouw(deel) tenminste twee oriëntaties
A24: 04.04.035 | C24: Ontwerpen architectonische verschijningsvorm gebouw | E24: X | N24: Ontwerpen architectonische verschijningsvorm | O24: Voorontwerp architectonische verschijningsvorm gebouw | Q24: Inhoud: geveltekeningen (1:200/1:100): globale aanduiding van indeling, verschijningsvorm en materiaalgebruik
A25: 04.04.040 | C25: Bijdrage leveren aan V&G-risico-inventarisatie en -evaluatie, Architectuur/bouwkunde | E25: X | N25: Bijdrage leveren aan V&G-risico-inventarisatie en -evaluatie, Architectuur/bouwkunde | O25: Bijdrage Architectuur/bouwkunde aan V&G-risico-inventarisatie en –evaluatie fase Voorontwerp | P25: V&G RI&E | Q25: Inhoud*: analyse veiligheids- en gezondheidsrisico’s in de uitvoeringsfase als gevolg van het ontwerp / eventuele maatregelen in het ontwerp
A26: 04.04.050 | C26: Presenteren Voorontwerp Architectuur/bouwkunde | E26: X | N26: Presenteren Voorontwerp Architectuur/bouwkunde | O26: Presentatie Voorontwerp Architectuur/bouwkunde | Q26: Inhoud: presentatietekeningen
A27: 04.04.055 | C27: Maken schetsontwerp Architectuur/bouwkunde | E27: X | N27: Maken schetsontwerp Architectuur/bouwkunde (facultatief als eerste ontwerpstap) | O27: Schetsontwerp Architectuur/bouwkunde | Q27: Inhoud: schetsmatig ontwerp aan het begin van de fase Voorontwerp (1:200/1:100) ter communicatie met de opdrachtgever
A28: 04.04.080 | C28: Verwerken programmatische aanpassingen in Voorontwerp Architectuur/bouwkunde | E28: X | N28: Verwerken programmatische aanpassingen in Voorontwerp Architectuur/bouwkunde | O28: Programmatische aanpassingen op goedgekeurde faseresultaten in Voorontwerp Architectuur/bouwkunde | Q28: Inhoud: consequenties van wijzigingen en/of aanvullingen in het Programma van Eisen t.o.v. reeds door de opdrachtgever goedgekeurde resultaten verwerkt in toepasselijke projectdocumenten
A29: 04.04.090 | C29: Maken 3D-visualisaties Architectuur/bouwkunde | E29: X | N29: Maken 3D-visualisaties Architectuur/bouwkunde | O29: 3D-visualisaties Architectuur/bouwkunde fase Voorontwerp | P29: 3D visualisaties | Q29: Inhoud*: afhankelijk van contractuele afspraken: gerenderde 3D CAD-tekeningen, video- of digitale animaties, virtual reality presentatie
A30: 04.04.095 | C30: Maken maquette Architectuur/bouwkunde | E30: X | N30: Maken maquette Architectuur/bouwkunde | O30: Maquette Architectuur/bouwkunde fase Voorontwerp | P30: Maquette | Q30: Inhoud*: maquette op vooraf overeengekomen schaal en detailniveau
A31: 04.04.110 | C31: Maken schriftelijke toelichting/rapport Voorontwerp Architectuur/bouwkunde | E31: X | N31: Maken schriftelijke toelichting/rapport Voorontwerp Architectuur/bouwkunde | O31: Schriftelijke toelichting/rapport op Voorontwerp Architectuur/bouwkunde | Q31: Inhoud: uitgangspunten / achtergronden / beschrijving van het concept / verantwoording van en toelichting op gemaakte keuzen / verantwoording ten opzichte van eventueel Structuurontwerp
A32: 04.05 | B32: Interieur
A33: 04.05.010 | C33: Opstellen visie Voorontwerp Interieur | N33: Opstellen visie Voorontwerp Interieur | O33: Visie Voorontwerp Interieur | Q33: Inhoud: conceptuele uitgangspunten interieurontwerp / visie op de ontwerpopgave
A34: 04.05.020 | C34: Maken Voorontwerp Interieur | E34: X | N34: Maken Voorontwerp Interieur | O34: Voorontwerp Interieur | Q34: Inhoud: situatieschets geografische oriëntatie / plattegronden, doorsneden en aanzichten (1:100/1:50): ruimtelijke relaties, gebruiksfuncties, inzicht in de verschijningsvorm / hoofdopzet ruimte-, routing- of installatiebepalende functies en inrichtingselementen (1:100/1:50) / signalering noodzakelijke structurele aanpassingen
A35: 04.05.020 | C35: Maken Voorontwerp Interieur | N35: Presenteren Voorontwerp Interieur | O35: Presentatie Voorontwerp Interieur | Q35: Inhoud: presentatietekeningen
A36: 04.05.030 | C36: Bijdrage leveren aan V&G-risico-inventarisatie en -evaluatie, Interieur | N36: Bijdrage leveren aan V&G-risico-inventarisatie en -evaluatie, Interieur | O36: Bijdrage Interieur aan V&G-risico-inventarisatie en –evaluatie fase Voorontwerp | P36: V&G RI&E | Q36: Inhoud*: analyse veiligheids- en gezondheidsrisico’s in de uitvoeringsfase als gevolg van het ontwerp / eventuele maatregelen in het ontwerp
A37: 04.05.040 | C37: Maken 3D-visualisaties Interieur | N37: Maken 3D-visualisaties Interieur | O37: 3D-visualisaties Interieur fase Voorontwerp | P37: 3D visualisaties | Q37: Inhoud*: afhankelijk van contractuele afspraken: gerenderde 3D CAD-tekeningen, video- of digitale animaties, virtual reality presentatie
A38: 04.05.050 | C38: Maken maquette Interieur | N38: Maken maquette Interieur | O38: Maquette Interieur fase Voorontwerp | P38: Maquette | Q38: Inhoud*: maquette op vooraf overeengekomen schaal en detailniveau
A39: 04.05.060 | C39: Maken schriftelijke toelichting/rapport Voorontwerp Interieur | N39: Maken schriftelijke toelichting/rapport Voorontwerp Interieur | O39: Schriftelijke toelichting op Voorontwerp Interieur | P39: Toelichting | Q39: Inhoud*: uitgangspunten, achtergronden, beschrijving van het concept, verantwoording van en toelichting op gemaakte keuzen
A40: 04.06 | B40: Landschap
...

Sheet Fase 5 DO
A1: Fase 5 Definitief ontwerp | D1: ='Fase 1 Ini'!D1 -> TU/e - opdrachtgever | E1: ='Fase 1 Ini'!E1 -> Architect / Stedenbouw | F1: ='Fase 1 Ini'!F1 -> Landschapsarchitect | G1: ='Fase 1 Ini'!G1 -> Adviseur constructies | H1: ='Fase 1 Ini'!H1 -> Installatie adviseur | I1: ='Fase 1 Ini'!I1 -> Bouwfysicus en Adviseur | J1: ='Fase 1 Ini'!J1 -> Kostenadviseur | K1: ='Fase 1 Ini'!K1 -> Aannemer | L1: ='Fase 1 Ini'!L1 -> Directievoerder | N1: tblActiviteiten.omschr | O1: Documentomschrijving | P1: Documentsoort | Q1: Documentinhoud
A2: 05.01 | B2: Opdrachtgeving
A3: 05.01.010 | C3: Evalueren en bijstellen beleidsuitgangspunten project | D3: X | N3: Evalueren en bijstellen beleidsuitgangspunten project | O3: Projectbeleid fase Definitief ontwerp | P3: Projectbeleid | Q3: Inhoud*: eventueel bijgestelde beleidsuitgangspunten: analyse huisvestingsproblematiek / relevant ondernemingsbeleid / relevant huisvestingsbeleid / projectdoelstellingen / projectresultaten / projectbudget / projectmijlpalen / uitbestedingsbeleid / beoordelingscriteria alternatieven / randvoorwaarden
A4: 05.01.020 | C4: Nemen besluiten over resultaten en voortgang | D4: X | N4: Nemen besluiten over resultaten en voortgang | O4: Besluiten fase Definitief ontwerp | Q4: Inhoud: opsomming van besluiten over resultaten / formele vaststelling integraal Definitief Ontwerp / besluiten m.b.t. het vervolg van het project
A5: 05.02 | B5: Contracten
A6: 05.02.010 | C6: Voorbereiden contracteren van participanten | D6: X | N6: Organiseren contractvorming | O6: Uitbestedingsplan fase Definitief ontwerp (en verder) | P6: Uitbestedingsplan | Q6: Inhoud*: gekozen uitbestedingsvorm / uitbestedingstactiek / eventueel te houden aanbestedingen van diensten
A7: 05.02.010 | C7: Voorbereiden contracteren van participanten | N7: Voorbereiden contracteren van eventuele aanvullende expertise | O7: Conceptcontracten aanvullende expertise fase Definitief ontwerp (en verder) | P7: Model Basisopdracht DNR 2011 | Q7: Inhoud*: zie Model Basisopdracht De Nieuwe Regeling 2011
A8: 05.02.010 | C8: Voorbereiden contracteren van participanten | N8: Voorbereiden contracteren van participanten | O8: Verslagen contractbesprekingen fase Definitief ontwerp (en verder) | P8: Verslag contractbe | Q8: Inhoud*: aanwezigen / agenda / besproken documenten / resultaten bespreking / afspraken
A9: 05.02.010 | C9: Voorbereiden contracteren van participanten | N9: Herijken en uitwerken aanbestedingsplan | O9: Aanbestedingsplan fase Definitief ontwerp (en verder) | P9: Aanbestedingsplan | Q9: Inhoud*: opzet aanbesteding per participant / tijdschema
A10: 05.02.010 | C10: Voorbereiden contracteren van participanten | N10: Voorbereiden contracteren van participanten | O10: Conceptcontracten met participanten fase Definitief ontwerp (en verder) | P10: Model Basisopdracht DNR 2011 | Q10: Inhoud*: zie Model Basisopdracht De Nieuwe Regeling 2011
A11: 05.02.020 | C11: Formuleren gewenste werkzaamheden aanvullende expertise (M-taak) | D11: X | E11: B | N11: Formuleren gewenste werkzaamheden aanvullende expertise | O11: Gewenste werkzaamheden aanvullende expertise fase Definitief ontwerp (en verder) | P11: Gewenste werkzaamheden | Q11: Inhoud*: taakspecificatie extern in te schakelen deskundigen
A12: 05.02.030 | C12: Contracteren van participanten | D12: X | N12: Contracteren van participanten | O12: Rapport verleende opdrachten fase Definitief ontwerp | P12: Rapport verleende opdrachten | Q12: Inhoud*: opsomming verleende opdrachten
A13: 05.02.030 | C13: Contracteren van participanten | N13: Contracteren van participanten | O13: Contracten met participanten fase Definitief ontwerp (en verder) | P13: Contracten met participanten | Q13: Inhoud*: zie Model Basisopdracht De Nieuwe Regeling 2011
A14: 05.02.035 | C14: Contracteren aanvullende expertise | D14: X | N14: Contracteren aanvullende expertise | O14: Contracten aanvullende expertise fase Definitief ontwerp (en verder) | P14: Contracten aanvullende expertise | Q14: Inhoud*: zie Model Basisopdracht De Nieuwe Regeling 2011
A15: 05.03 | B15: Programma van Eisen
A16: 05.03.020 | C16: Herijken en uitwerken PvE | D16: X | E16: B | H16: B | N16: Herijken en uitwerken PvE | O16: PvE fase Definitief ontwerp | P16: PvE | Q16: Inhoud*: (afhankelijk van het project): eventueel gewijzigde en/of nader uitgewerkte eisen aan de locatie / eisen en wensen m.b.t. stedenbouwkundige, landschappelijke en architectonische inpassing / ambities en verwachtingen m.b.t. de architectonische verschijningsvorm, verschijningsvorm van interieur en buitenruimte / ruimtebehoefte van en relaties tussen gebruiksactiviteiten, inclusief routing en omvang van mensen- en goederenstromen / eisen m.b.t. flexibiliteit, uitbreidbaarheid, bereikbaarheid, toegankelijkheid en veiligheid / functionele eisen m.b.t. inrichting van werkplekken en algemene (representatieve) ruimten / gebruikseisen aan tuin, externe verblijfsruimten, toegankelijkheid en veiligheid terrein, parkeren, opslagmogelijkheden op het terrein / eisen m.b.t. ruimtecondities (licht, lucht, temperatuur) / eisen aan energiegebruik (EPC), milieu en duurzaamheid / stedenbouwfysische eisen / eisen aan ruimteakoestiek van relevante ruimten / eisen m.b.t. interne en externe geluidsbelasting / overzicht maximale vloerbelastingen in relatie tot gebruiksactiviteiten en ruimtefuncties / eisen en/of uitgangspunten m.b.t. energievoorziening / eisen en/of uitgangspunten m.b.t. installatieconcepten / eisen en/of uitgangspunten m.b.t. funderingsconstructies, waterhuishouding en bouwput / randvoorwaarden m.b.t. investeringskosten, exploitatie- en/of levensduurkosten, doorlooptijd, arbeidsomstandigheden, onderhoud en reiniging
A17: 05.04 | B17: Architectuur/ bouwkunde
A18: 05.04.020 | C18: Vastleggen definitieve stedenbouwkundige inpassing gebouw | E18: X | N18: Vastleggen definitieve stedenbouwkundige inpassing gebouw | O18: Definitieve stedenbouwkundige inpassing gebouw | Q18: Inhoud: situatietekening (1:500): definitieve positionering gebouw op locatie / definitieve oriëntatie gebouw / definitieve bouwmassa, bouwblokgrenzen, hoofd- en neventoegangen
A19: 05.04.030 | C19: Vastleggen functionele en ruimtelijke indeling gebouw | E19: X | N19: Vastleggen functionele en ruimtelijke indeling gebouw | O19: Definitief Ontwerp functionele en ruimtelijke indeling gebouw | Q19: Inhoud: plattegronden (1:100/1:200) met definitieve positionering van gebruikersfuncties in onderling verband, definitieve ruimtelijke structuur, vaste inrichtingselementen, ruimtenamen conform programma van eisen, m2 per ruimte en brandcompartimentering / plaats en afmetingen van bouwdelen / doorsneden (1:100/1:200): per gebouw(deel) tenminste twee oriëntaties / ruimtelijke integratie van constructies en installaties, inclusief globaal inrichtingsplan productie- en technische ruimten
A20: 05.04.035 | C20: Vastleggen architectonische verschijningsvorm gebouw | E20: X | N20: Vastleggen architectonische verschijningsvorm | O20: Definitief Ontwerp architectonische verschijningsvorm gebouw | Q20: Inhoud: geveltekeningen (1:200/1:100): aanzichten van alle gevels, inclusief eventuele aansluitingen op bestaande gebouwen, met plaats en afmetingen van bouwdelen
A21: 05.04.040 | C21: Ontwerpen globale materialisatie gebouw | E21: X | N21: Ontwerpen globale materialisatie gebouw | O21: Materialisatie Definitief Ontwerp Architectuur/bouwkunde | Q21: Inhoud: kenmerkende fragmenten in doorsneden, aanzichten en plafonds (1:50) en principedetails bouwkundig werk (1:5) met maatvoering en aanduiding van materialen, voor zover relevant voor de globale beeldvorming en bouwfysische en installatietechnische berekeningen / omschrijving van toe te passen materialen, afwerkingen en kleuren
