Workbook
Name Print_Area: 'Toelichting cellen'!$A$1:$R$36

Sheet Toelichting cellen
C1: Toelichting Model begroting
A2: Project: | C2: Projectnaam | O2: Datum: | P2: ………….
A3: Perceel: | C3: Naam van het perceel
A4: Werkpakket: | C4: Naam van het werkpakket
A5: Naam Bureau | C5: Naam van de inschrijver.
E6: uren per functiegroep
A7: volgnr. | B7: Beschrijving Activiteiten | D7: functiegroep | E7: A1 | F7: A2 | G7: A3 | H7: A4 | I7: A5 | J7: A6 | K7: A7 | L7: A8 | M7: A9 | O7: kosten van inzet
D9: tarief | E9: 9 | F9: 0 | G9: 0 | H9: 0 | I9: 0 | J9: 0 | K9: 0 | L9: 0 | M9: 0 | O9: fg-uren | P9: derden | Q9: TOTAAL
D10: vast | E10: 1 | O10: 3 | P10: 4 | Q10: 5
D11: vast | O11: 0 | P11: 0 | Q11: =SUM(O11:P11) -> 0
D12: vast | O12: 0 | P12: 0 | Q12: =SUM(O12:P12) -> 0
D13: vast | O13: 0 | P13: 0 | Q13: =SUM(O13:P13) -> 0
D14: vast | O14: 0 | P14: 0 | Q14: =SUM(O14:P14) -> 0
D15: vast | O15: 0 | P15: 0 | Q15: =SUM(O15:P15) -> 0
D16: vast | O16: 0 | P16: 0 | Q16: =SUM(O16:P16) -> 0
D17: vast | O17: 0 | P17: 0 | Q17: =SUM(O17:P17) -> 0
D18: vast | O18: 0 | P18: 0 | Q18: =SUM(O18:P18) -> 0
D19: vast | O19: 0 | P19: 0 | Q19: =SUM(O19:P19) -> 0
D20: vast | O20: 0 | P20: 0 | Q20: =SUM(O20:P20) -> 0
D21: vast | O21: 0 | P21: 0 | Q21: =SUM(O21:P21) -> 0
D22: vast | O22: 0 | P22: 0 | Q22: =SUM(O22:P22) -> 0
D23: vast | O23: 0 | P23: 0 | Q23: =SUM(O23:P23) -> 0
B24: Totaal uren per functiegroep VAST | E24: 2 | O24: 6 | P24: 7 | Q24: 8
B26: Toelichting cellen | I26: Alle groene velden op de volgende tabbladen dienen door gegadigde te worden ingevuld.
B27: 1 | C27: Totaal uren vast per activiteit tariefgroep A1
B28: 2 | C28: Totaal uren vast tariefgroep A1 voor alle activiteiten per werpakket cq alle werpakketten
B29: 3 | C29: Totaal uren x tarief vast per activiteit
B30: 4 | C30: Totaal kosten derden per activiteit
B31: 5 | C31: Totaal kosten activiteit
B32: 6 | C32: Totaal vaste kosten uit uren x tarief per werkpakket cq totaal werkpakketten
B33: 7 | C33: Totaal kosten derden per werkpakket cq totaal werkpakketten
B34: 8 | C34: Totaal vaste kosten per werkpakket cq totaal werkpakketten
B35: 9 | C35: Tarief gekoppeld aan de opgegeven tarieven tabblad functiegroepen.

Sheet Functiegroepen
A1: Functiegroepen
A3: Opgeven benodigde functionarissen en tarief
A4: De opleiding + ervaring informatie is ter indicatie
A6: TARIEF- GROEP | B6: OPLEIDING | C6: FUNCTIEBENAMING | E6: TAKEN | G6: VERANTWOORDELIJKHEDEN | H6: BEVOEGDHEDEN | M6: TARIEF **
B7: +
B8: Ervaringsjaren
B9: (jaren)
A10: A1 | M10: 0
A11: A2 | M11: 0
A12: A3 | M12: 0
A13: A4 | M13: 0
A14: A5 | M14: 0
A15: A6 | M15: 0
A16: A7 | M16: 0
A17: A8 | M17: 0
A18: A9 | M18: 0
A19: ** | B19: Tarieven all-in, incl. reis en verblijfskosten, automatiseringskosten AK/WR en alle overige kosten. Tarieven worden niet geïndexeerd, opnemen een gemiddeld tarief voor 2021 t/m 2025
B22: invullen door de opdrachtnemer

Sheet  WP A tm E
C1: ='Totaal Perceel'!C1:O1 -> Model begroting
A2: Project: | C2: Natuurwaardeninventarisaties spoorbermen | P2: Datum: | Q2: ….......
A3: Perceel nr: | C3: …........
A4: Werkpakket: | C4: Beheersen van de opdracht
A5: Naam Bureau | C5: …...........
G6: uren per functiegroep
E7: functiegroep | G7: A1 | H7: A2 | I7: A3 | J7: A4 | K7: A5 | L7: A6 | M7: A7 | N7: A8 | O7: A9 | P7: kosten van inzet
A9: werkpakket. | B9: Beschrijving Activiteiten | E9: tarief | G9: =Functiegroepen!M10 -> 0 | H9: =Functiegroepen!M11 -> 0 | I9: =Functiegroepen!M12 -> 0 | J9: =Functiegroepen!M13 -> 0 | K9: =Functiegroepen!M14 -> 0 | L9: =Functiegroepen!M15 -> 0 | M9: =Functiegroepen!M16 -> 0 | N9: =Functiegroepen!M17 -> 0 | O9: =Functiegroepen!M18 -> 0 | P9: fg-uren | Q9: derden | R9: TOTAAL
A10: A | B10: Tijdmanagement / planning van de Overeenkomst | F10: vast | P10: =O10*$O$9+N10*$N$9+M10*$M$9+L10*$L$9+K10*$K$9+J10*$J$9+I10*$I$9+H10*$H$9+G10*$G$9 -> 0 | Q10: 0 | R10: =SUM(P10:Q10) -> 0
A11: B | B11: Risicomanagement | F11: vast | P11: =O11*$O$9+N11*$N$9+M11*$M$9+L11*$L$9+K11*$K$9+J11*$J$9+I11*$I$9+H11*$H$9+G11*$G$9 -> 0 | R11: =SUM(P11:Q11) -> 0
A12: C | B12: Informeren van partijen | F12: vast | P12: =O12*$O$9+N12*$N$9+M12*$M$9+L12*$L$9+K12*$K$9+J12*$J$9+I12*$I$9+H12*$H$9+G12*$G$9 -> 0 | Q12: 0 | R12: =SUM(P12:Q12) -> 0
A13: D | B13: Evalueren van de opdracht | F13: vast | P13: =O13*$O$9+N13*$N$9+M13*$M$9+L13*$L$9+K13*$K$9+J13*$J$9+I13*$I$9+H13*$H$9+G13*$G$9 -> 0 | Q13: 0 | R13: =SUM(P13:Q13) -> 0
A14: E | B14: Veiligheidsmanagement van de eigen werkzaamheden van de opdrachtnemer | F14: vast | P14: =O14*$O$9+N14*$N$9+M14*$M$9+L14*$L$9+K14*$K$9+J14*$J$9+I14*$I$9+H14*$H$9+G14*$G$9 -> 0 | Q14: 0 | R14: =SUM(P14:Q14) -> 0
B15: Overige activiteiten t.b.v. dit werkpakket - door gegadigde vrij in te vullen
F16: vast | P16: =O16*$O$9+N16*$N$9+M16*$M$9+L16*$L$9+K16*$K$9+J16*$J$9+I16*$I$9+H16*$H$9+G16*$G$9 -> 0 | Q16: 0 | R16: =SUM(P16:Q16) -> 0
F17: vast | P17: =O17*$O$9+N17*$N$9+M17*$M$9+L17*$L$9+K17*$K$9+J17*$J$9+I17*$I$9+H17*$H$9+G17*$G$9 -> 0 | Q17: 0 | R17: =SUM(P17:Q17) -> 0
F18: vast | P18: =O18*$O$9+N18*$N$9+M18*$M$9+L18*$L$9+K18*$K$9+J18*$J$9+I18*$I$9+H18*$H$9+G18*$G$9 -> 0 | Q18: 0 | R18: =SUM(P18:Q18) -> 0
F19: vast | P19: =O19*$O$9+N19*$N$9+M19*$M$9+L19*$L$9+K19*$K$9+J19*$J$9+I19*$I$9+H19*$H$9+G19*$G$9 -> 0 | Q19: 0 | R19: =SUM(P19:Q19) -> 0
F20: vast | P20: =O20*$O$9+N20*$N$9+M20*$M$9+L20*$L$9+K20*$K$9+J20*$J$9+I20*$I$9+H20*$H$9+G20*$G$9 -> 0 | Q20: 0 | R20: =SUM(P20:Q20) -> 0
B21: ( regels toevoegen naar eigen behoefte ) | F21: vast | P21: =O21*$O$9+N21*$N$9+M21*$M$9+L21*$L$9+K21*$K$9+J21*$J$9+I21*$I$9+H21*$H$9+G21*$G$9 -> 0 | Q21: 0 | R21: =SUM(P21:Q21) -> 0
B22: Totaal uren per functiegroep VAST | G22: =SUM(G10:G21) -> 0 | H22: =SUM(H10:H21) -> 0 | I22: =SUM(I10:I21) -> 0 | J22: =SUM(J10:J21) -> 0 | K22: =SUM(K10:K21) -> 0 | L22: =SUM(L10:L21) -> 0 | M22: =SUM(M10:M21) -> 0 | N22: =SUM(N10:N21) -> 0 | ... R22: =SUM(R10:R21) -> 0
A24: invullen door de opdrachtnemer, let op tarieven komen van het tabblad Functiegroepen. | P24: Totaal functiegroep-uren VAST | R24: =SUM(G22:O22) -> 0
A25: Indien de post “derden” meer dan 10% bedraagt van de totaalsom van desbetreffend werkpakket, dient hiervan een onderbouwing te worden bijgeleverd
P26: Totaal van dit blad | R26: =R22 -> 0
A30: Indien dit bestand digitale formules en/of verwijzingen bevat, kunnen aan de werking hiervan geen rechten worden ontleend. De inschrijver is zelf verantwoordelijk voor de controle, juiste invulling en werking van dit bestand.

Sheet  WP 1
C1: ='Totaal Perceel'!C1:O1 -> Model begroting
A2: Project: | C2: =' WP A tm E'!C2 -> Natuurwaardeninventarisaties spoorbermen | P2: Datum: | Q2: =' WP A tm E'!Q2 -> ….......
A3: =' WP A tm E'!A3 -> Perceel nr: | C3: =' WP A tm E'!C3 -> …........
A4: Werkpakket: | C4: Werkpakket 1 Opstellen en actueel houden meerjarig monitoringsplan.
A5: Naam Bureau | C5: =' WP A tm E'!C5 -> …...........
G6: uren per functiegroep
E7: functiegroep | G7: A1 | H7: A2 | I7: A3 | J7: A4 | K7: A5 | L7: A6 | M7: A7 | N7: A8 | O7: A9 | P7: kosten van inzet
A9: Act. nr. | B9: Beschrijving Activiteiten | E9: tarief | G9: =Functiegroepen!M10 -> 0 | H9: =Functiegroepen!M11 -> 0 | I9: =Functiegroepen!M12 -> 0 | J9: =Functiegroepen!M13 -> 0 | K9: =Functiegroepen!M14 -> 0 | L9: =Functiegroepen!M15 -> 0 | M9: =Functiegroepen!M16 -> 0 | N9: =Functiegroepen!M17 -> 0 | O9: =Functiegroepen!M18 -> 0 | P9: fg-uren | Q9: derden | R9: TOTAAL
B10: Bronnenonderzoek, minimaal: - Data in de Nationale Databank Flora en Fauna (NDFF) - Databestand ProRail met habitatkartering en biotoopkartering - Jaarrapportage en monitoringsplannen inventarisatiecyclus 2021 - 2025 | F10: vast | P10: =O10*$O$9+N10*$N$9+M10*$M$9+L10*$L$9+K10*$K$9+J10*$J$9+I10*$I$9+H10*$H$9+G10*$G$9 -> 0 | Q10: 0 | R10: =SUM(P10:Q10) -> 0
B11: Analyse gegevens (jaarlijks in voorbereiding op veldseizoen) | F11: vast | P11: =O11*$O$9+N11*$N$9+M11*$M$9+L11*$L$9+K11*$K$9+J11*$J$9+I11*$I$9+H11*$H$9+G11*$G$9 -> 0 | Q11: 0 | R11: =SUM(P11:Q11) -> 0
B12: Opstellen monitoringplan 2026 - 2030 | F12: vast | P12: =O12*$O$9+N12*$N$9+M12*$M$9+L12*$L$9+K12*$K$9+J12*$J$9+I12*$I$9+H12*$H$9+G12*$G$9 -> 0 | Q12: 0 | R12: =SUM(P12:Q12) -> 0
B13: Actueel houden monitoringsplan | F13: vast | P13: =O13*$O$9+N13*$N$9+M13*$M$9+L13*$L$9+K13*$K$9+J13*$J$9+I13*$I$9+H13*$H$9+G13*$G$9 -> 0 | Q13: 0 | R13: =SUM(P13:Q13) -> 0
B14: Overige activiteiten t.b.v. dit werkpakket - door gegadigde vrij in/aan te vullen.
B15: ……………………………………. | F15: vast | P15: =O15*$O$9+N15*$N$9+M15*$M$9+L15*$L$9+K15*$K$9+J15*$J$9+I15*$I$9+H15*$H$9+G15*$G$9 -> 0 | Q15: 0 | R15: =SUM(P15:Q15) -> 0
B16: ……………………………………. | F16: vast | P16: =O16*$O$9+N16*$N$9+M16*$M$9+L16*$L$9+K16*$K$9+J16*$J$9+I16*$I$9+H16*$H$9+G16*$G$9 -> 0 | Q16: 0 | R16: =SUM(P16:Q16) -> 0
B17: ……………………………………. | F17: vast | P17: =O17*$O$9+N17*$N$9+M17*$M$9+L17*$L$9+K17*$K$9+J17*$J$9+I17*$I$9+H17*$H$9+G17*$G$9 -> 0 | Q17: 0 | R17: =SUM(P17:Q17) -> 0
B18: ……………………………………. | F18: vast | P18: =O18*$O$9+N18*$N$9+M18*$M$9+L18*$L$9+K18*$K$9+J18*$J$9+I18*$I$9+H18*$H$9+G18*$G$9 -> 0 | Q18: 0 | R18: =SUM(P18:Q18) -> 0
B19: ……………………………………. | F19: vast | P19: =O19*$O$9+N19*$N$9+M19*$M$9+L19*$L$9+K19*$K$9+J19*$J$9+I19*$I$9+H19*$H$9+G19*$G$9 -> 0 | Q19: 0 | R19: =SUM(P19:Q19) -> 0
B20: ……………………………………. | F20: vast | P20: =O20*$O$9+N20*$N$9+M20*$M$9+L20*$L$9+K20*$K$9+J20*$J$9+I20*$I$9+H20*$H$9+G20*$G$9 -> 0 | Q20: 0 | R20: =SUM(P20:Q20) -> 0
B21: ……………………………………. | F21: vast | P21: =O21*$O$9+N21*$N$9+M21*$M$9+L21*$L$9+K21*$K$9+J21*$J$9+I21*$I$9+H21*$H$9+G21*$G$9 -> 0 | Q21: 0 | R21: =SUM(P21:Q21) -> 0
B22: ( regels toevoegen naar eigen behoefte ) | F22: vast | P22: =O22*$O$9+N22*$N$9+M22*$M$9+L22*$L$9+K22*$K$9+J22*$J$9+I22*$I$9+H22*$H$9+G22*$G$9 -> 0 | Q22: 0 | R22: =SUM(P22:Q22) -> 0
F23: vast | P23: =O23*$O$9+N23*$N$9+M23*$M$9+L23*$L$9+K23*$K$9+J23*$J$9+I23*$I$9+H23*$H$9+G23*$G$9 -> 0 | Q23: 0 | R23: =SUM(P23:Q23) -> 0
B24: Totaal uren per functiegroep VAST | G24: =SUM(G10:G23) -> 0 | H24: =SUM(H10:H23) -> 0 | I24: =SUM(I10:I23) -> 0 | J24: =SUM(J10:J23) -> 0 | K24: =SUM(K10:K23) -> 0 | L24: =SUM(L10:L23) -> 0 | M24: =SUM(M10:M23) -> 0 | N24: =SUM(N10:N23) -> 0 | ... R24: =SUM(R10:R23) -> 0
A26: invullen door de opdrachtnemer, let op tarieven komen van het tabblad Functiegroepen. | P26: Totaal functiegroep-uren VAST | R26: =SUM(G24:O24) -> 0
A27: Indien de post “derden” meer dan 10% bedraagt van de totaalsom van desbetreffend werkpakket, dient hiervan een onderbouwing te worden bijgeleverd
P28: Totaal voor realisatie werkpakket 1 | R28: =R24 -> 0
A31: Indien dit bestand digitale formules en/of verwijzingen bevat, kunnen aan de werking hiervan geen rechten worden ontleend. De inschrijver is zelf verantwoordelijk voor de controle, juiste invulling en werking van dit bestand.

Sheet  WP 2
C1: ='Totaal Perceel'!C1:O1 -> Model begroting
A2: Project: | C2: =' WP A tm E'!C2 -> Natuurwaardeninventarisaties spoorbermen | P2: Datum: | Q2: =' WP A tm E'!Q2 -> ….......
A3: =' WP A tm E'!A3 -> Perceel nr: | C3: =' WP A tm E'!C3 -> …........
A4: Werkpakket: | C4: Werkpakket 2 Uitvoeren veldinventarisaties en verwerken gegevens
A5: Naam Bureau | C5: =' WP A tm E'!C5 -> …...........
G6: uren per functiegroep
E7: functiegroep | G7: A1 | H7: A2 | I7: A3 | J7: A4 | K7: A5 | L7: A6 | M7: A7 | N7: A8 | O7: A9 | P7: kosten van inzet
A9: Act. nr. | B9: Beschrijving Activiteiten | E9: tarief | G9: =Functiegroepen!M10 -> 0 | H9: =Functiegroepen!M11 -> 0 | I9: =Functiegroepen!M12 -> 0 | J9: =Functiegroepen!M13 -> 0 | K9: =Functiegroepen!M14 -> 0 | L9: =Functiegroepen!M15 -> 0 | M9: =Functiegroepen!M16 -> 0 | N9: =Functiegroepen!M17 -> 0 | O9: =Functiegroepen!M18 -> 0 | P9: fg-uren | Q9: derden | R9: TOTAAL
B10: Uitvoeren van veldinventarisaties (natuurwaardeninventarisaties) van beschermde soorten en/of de functionaliteit van de spoorberm voor beschermde soorten conform het goedgekeurde monitoringplan (product WP 1 Opstellen en actueel houden meerjarig monitoringplan) en het Protocol soorten- en habitatgeschiktheidskartering. | F10: vast | P10: =O10*$O$9+N10*$N$9+M10*$M$9+L10*$L$9+K10*$K$9+J10*$J$9+I10*$I$9+H10*$H$9+G10*$G$9 -> 0 | Q10: 0 | R10: =SUM(P10:Q10) -> 0
B11: Uitvoeren soortinventarisaties van bedreigde en sterk bedreigde Rode- Lijstsoorten en invasieve exoten (Unielijst) conform het Protocol soorten- en habitatgeschiktheidskartering.
B12: Uitvoeren van een habitatgeschiktheidskartering conform het Protocol soorten- en habitatgeschiktheidskartering. | F12: vast | P12: =O12*$O$9+N12*$N$9+M12*$M$9+L12*$L$9+K12*$K$9+J12*$J$9+I12*$I$9+H12*$H$9+G12*$G$9 -> 0 | Q12: 0 | R12: =SUM(P12:Q12) -> 0
B13: Invoeren inventarisatiegegevens in de NDFF. | F13: vast | P13: =O13*$O$9+N13*$N$9+M13*$M$9+L13*$L$9+K13*$K$9+J13*$J$9+I13*$I$9+H13*$H$9+G13*$G$9 -> 0 | Q13: 0 | R13: =SUM(P13:Q13) -> 0
B14: Afhandelen vragen m.b.t. validatieproces van de NDFF. | F14: vast | P14: =O14*$O$9+N14*$N$9+M14*$M$9+L14*$L$9+K14*$K$9+J14*$J$9+I14*$I$9+H14*$H$9+G14*$G$9 -> 0 | Q14: 0 | R14: =SUM(P14:Q14) -> 0
B15: Verwerken geo-informatie in de habitatgeschiktheidskartering. | F15: vast | P15: =O15*$O$9+N15*$N$9+M15*$M$9+L15*$L$9+K15*$K$9+J15*$J$9+I15*$I$9+H15*$H$9+G15*$G$9 -> 0 | Q15: 0 | R15: =SUM(P15:Q15) -> 0
B16: Opstellen van tussentijdse en jaarrapportages veldwerkzaamheden. | F16: vast | P16: =O16*$O$9+N16*$N$9+M16*$M$9+L16*$L$9+K16*$K$9+J16*$J$9+I16*$I$9+H16*$H$9+G16*$G$9 -> 0 | Q16: 0 | R16: =SUM(P16:Q16) -> 0
B17: Overige activiteiten t.b.v. dit werkpakket door gegadigde vrij in/aan te vullen | F17: vast | P17: =O17*$O$9+N17*$N$9+M17*$M$9+L17*$L$9+K17*$K$9+J17*$J$9+I17*$I$9+H17*$H$9+G17*$G$9 -> 0 | Q17: 0 | R17: =SUM(P17:Q17) -> 0
B18: ……………………………………. | F18: vast | P18: =O18*$O$9+N18*$N$9+M18*$M$9+L18*$L$9+K18*$K$9+J18*$J$9+I18*$I$9+H18*$H$9+G18*$G$9 -> 0 | Q18: 0 | R18: =SUM(P18:Q18) -> 0
B19: ……………………………………. | F19: vast | P19: =O19*$O$9+N19*$N$9+M19*$M$9+L19*$L$9+K19*$K$9+J19*$J$9+I19*$I$9+H19*$H$9+G19*$G$9 -> 0 | Q19: 0 | R19: =SUM(P19:Q19) -> 0
B20: ……………………………………. | F20: vast | P20: =O20*$O$9+N20*$N$9+M20*$M$9+L20*$L$9+K20*$K$9+J20*$J$9+I20*$I$9+H20*$H$9+G20*$G$9 -> 0 | Q20: 0 | R20: =SUM(P20:Q20) -> 0
B21: ……………………………………. | F21: vast | P21: =O21*$O$9+N21*$N$9+M21*$M$9+L21*$L$9+K21*$K$9+J21*$J$9+I21*$I$9+H21*$H$9+G21*$G$9 -> 0 | Q21: 0 | R21: =SUM(P21:Q21) -> 0
B22: ……………………………………. | F22: vast | P22: =O22*$O$9+N22*$N$9+M22*$M$9+L22*$L$9+K22*$K$9+J22*$J$9+I22*$I$9+H22*$H$9+G22*$G$9 -> 0 | Q22: 0 | R22: =SUM(P22:Q22) -> 0
B23: ……………………………………. | F23: vast | P23: =O23*$O$9+N23*$N$9+M23*$M$9+L23*$L$9+K23*$K$9+J23*$J$9+I23*$I$9+H23*$H$9+G23*$G$9 -> 0 | Q23: 0 | R23: =SUM(P23:Q23) -> 0
B24: ( regels toevoegen naar eigen behoefte ) | F24: vast | P24: =O24*$O$9+N24*$N$9+M24*$M$9+L24*$L$9+K24*$K$9+J24*$J$9+I24*$I$9+H24*$H$9+G24*$G$9 -> 0 | Q24: 0 | R24: =SUM(P24:Q24) -> 0
B25: koor- en eDNA-onderzoek per perceeel | F25: Regie | R25: 20000
B26: Totaal uren per functiegroep VAST | G26: =SUM(G10:G25) -> 0 | H26: =SUM(H10:H25) -> 0 | I26: =SUM(I10:I25) -> 0 | J26: =SUM(J10:J25) -> 0 | K26: =SUM(K10:K25) -> 0 | L26: =SUM(L10:L25) -> 0 | M26: =SUM(M10:M25) -> 0 | N26: =SUM(N10:N25) -> 0 | ... Q26: =SUM(Q10:Q25) -> 0 | R26: =SUM(R10:R24) -> 0
P28: Totaal functiegroep-uren VAST | R28: =SUM(G26:O26) -> 0
A29: invullen door de opdrachtnemer, let op tarieven komen van het tabblad Functiegroepen. | P29: Totaal voor realisatie Vast | R29: =R26 -> 0
A30: Indien de post “derden” meer dan 10% bedraagt van de totaalsom van desbetreffend werkpakket, dient hiervan een onderbouwing te worden bijgeleverd | P30: Totaal voor realisatie Regie | R30: =R25 -> 20000
P31: Totaal voor realisatie werkpakket 2 | R31: =R26+R30 -> 20000
A34: Indien dit bestand digitale formules en/of verwijzingen bevat, kunnen aan de werking hiervan geen rechten worden ontleend. De inschrijver is zelf verantwoordelijk voor de controle, juiste invulling en werking van dit bestand.

Sheet Totaal Perceel
C1: Model begroting
A2: Project: | C2: =' WP A tm E'!C2 -> Natuurwaardeninventarisaties spoorbermen | P2: Datum: | Q2: =' WP A tm E'!Q2 -> ….......
A3: Perceel: | C3: =' WP A tm E'!C3 -> …........
A4: Werkpakket: | C4: Totaal werkpakketten
A5: Naam Bureau | C5: =' WP A tm E'!C5 -> …...........
G6: uren per functiegroep
E7: functiegroep | G7: A1 | H7: A2 | I7: A3 | J7: A4 | K7: A5 | L7: A6 | M7: A7 | N7: A8 | O7: A9 | P7: kosten van inzet
A9: WP. nr. | B9: Beschrijving Werkpakketten | E9: tarief | G9: =Functiegroepen!M10 -> 0 | H9: =Functiegroepen!M11 -> 0 | I9: =Functiegroepen!M12 -> 0 | J9: =Functiegroepen!M13 -> 0 | K9: =Functiegroepen!M14 -> 0 | L9: =Functiegroepen!M15 -> 0 | M9: =Functiegroepen!M16 -> 0 | N9: =Functiegroepen!M17 -> 0 | O9: =Functiegroepen!M18 -> 0 | P9: fg-uren | Q9: derden | R9: TOTAAL
A10: A t/m E | B10: =' WP A tm E'!C4 -> Beheersen van de opdracht | F10: vast | G10: =' WP A tm E'!G22 -> 0 | H10: =' WP A tm E'!H22 -> 0 | I10: =' WP A tm E'!I22 -> 0 | J10: =' WP A tm E'!J22 -> 0 | K10: =' WP A tm E'!K22 -> 0 | L10: =' WP A tm E'!L22 -> 0 | M10: =' WP A tm E'!M22 -> 0 | N10: =' WP A tm E'!N22 -> 0 | ... R10: =' WP A tm E'!R22 -> 0
A12: 1 | B12: Werkpakket 1 Opstellen meerjarig monitoringsplan. | F12: vast | G12: =' WP 1'!G24 -> 0 | H12: =' WP 1'!H24 -> 0 | I12: =' WP 1'!I24 -> 0 | J12: =' WP 1'!J24 -> 0 | K12: =' WP 1'!K24 -> 0 | L12: =' WP 1'!L24 -> 0 | M12: =' WP 1'!M24 -> 0 | N12: =' WP 1'!N24 -> 0 | ... R12: =' WP 1'!R24 -> 0
A13: 2 | B13: Werkpakket 2 Uitvoeren veldinventarisaties | F13: vast | G13: =' WP 2'!G26 -> 0 | H13: =' WP 2'!H26 -> 0 | I13: =' WP 2'!I26 -> 0 | J13: =' WP 2'!J26 -> 0 | K13: =' WP 2'!K26 -> 0 | L13: =' WP 2'!L26 -> 0 | M13: =' WP 2'!M26 -> 0 | N13: =' WP 2'!N26 -> 0 | ... R13: =' WP 2'!R26 -> 0
A14: 3 | B14: Werkpakket 2 koor- en eDNA-onderzoek per perceeel | F14: Regie | G14: =' WP 2'!G27 -> 0 | H14: =' WP 2'!H27 -> 0 | I14: =' WP 2'!I27 -> 0 | J14: =' WP 2'!J27 -> 0 | K14: =' WP 2'!K27 -> 0 | L14: =' WP 2'!L27 -> 0 | M14: =' WP 2'!M27 -> 0 | N14: =' WP 2'!N27 -> 0 | ... Q14: =' WP 2'!Q27 -> 0 | R14: =' WP 2'!R25 -> 20000
B15: Totaal uren per functiegroep VAST | G15: =SUM(G10:G14) -> 0 | H15: =SUM(H10:H14) -> 0 | I15: =SUM(I10:I14) -> 0 | J15: =SUM(J10:J14) -> 0 | K15: =SUM(K10:K14) -> 0 | L15: =SUM(L10:L14) -> 0 | M15: =SUM(M10:M14) -> 0 | N15: =SUM(N10:N14) -> 0 | ... R15: =SUM(R10:R14) -> 20000
O19: Totaal functiegroep-uren VAST | R19: =SUM(G15:O15) -> 0
O21: Totaal Perceel nr: | Q21: =' WP A tm E'!C3 -> …........
O22: Totaal over te nemen op inschrijfbiljet | R22: =R15 -> 20000
A25: Indien dit bestand digitale formules en/of verwijzingen bevat, kunnen aan de werking hiervan geen rechten worden ontleend. De inschrijver is zelf verantwoordelijk voor de controle, juiste invulling en werking van dit bestand.
