Workbook

Sheet Voorblad
A1: Prijzenblad aanbesteding voeding, dranken en aanverwante producten
A2: Kenmerk: TN565910
A4: Naam inschrijver
A5: Plaats
A6: Datum:
A7: Naam rechtsgeldig ondertekenaar
A8: Functie rechtsgeldig ondertekenaar
A9: Handtekening
A11: 01: Food | B11: ='01 Food'!I12 -> 0
A12: 02: AGF | B12: ='02 AGF'!I15 -> 0
A13: 03: Non-food | B13: ='03 Non food'!I12 -> 0
A14: 04: Koelvers/zuivel/convenience | B14: ='04 Koelvers zuivel convenienc'!I12 -> 0
A15: 05: Slagerij | B15: ='05 Slagerij'!I12 -> 0
A16: 06: Vis | B16: ='06 Vis'!I13 -> 0
A17: 07: Poelier | B17: ='07 Poelier'!I12 -> 0
A18: 08: Diepvries | B18: ='08 Diepvries'!I13 -> 0
A19: 09: Wijn en gedestilleerd | B19: ='09 Wijn en gedestilleerd'!I12 -> 0
A20: 10: Patisserie | B20: ='10 Patisserie'!I12 -> 0
A21: Inschrijfprijs | B21: =SUM(B11:B20) -> 0

Sheet 01 Food
A1: Groep | B1: VP | C1: EENH | D1: INH | E1: Omschrijving | F1: Merk | G1: Gemiddelde afzet per jaar | H1: Prijs per eenheid exclusief btw | I1: Totaalprijs exclusief btw | J1: Btw percentage
A2: Bier | B2: FS | C2: L | D2: 20 | E2: BIER PILS ALL-IN-ONE | G2: 8 | I2: =G2*H2 -> 0
A3: Brood / zoetwaren | B3: ZAK | C3: GR | D3: 750 | E3: AMANDELPOEDER | G3: 11 | I3: =G3*H3 -> 0
A4: Brood / zoetwaren | B4: ZAK | C4: GR | D4: 600 | E4: WALNOTEN GEPELD USA | G4: 7 | I4: =G4*H4 -> 0
A5: Frisdrank | B5: KRT | C5: FL. | D5: 24 | E5: COCA COLA REGULAR GLAS 20CL | G5: 22 | I5: =G5*H5 -> 0
A6: Grutterswaren | B6: KF | C6: PK | D6: 6 | E6: PATENTBLOEM VOOR PATISSERIE 1KG | G6: 79 | I6: =G6*H6 -> 0
A7: Margarine vetten | B7: PK | C7: GR | D7: 250 | E7: ROOMBOTER ONGEZOUTEN | G7: 1060 | I7: =G7*H7 -> 0
A8: Margarine vetten | B8: FL. | C8: L | D8: 1 | E8: ZONNEBLOEMOLIE | G8: 309 | I8: =G8*H8 -> 0
A9: Margarine vetten | B9: EM | C9: L | D9: 10 | E9: FRITUURVET VLOEIBAAR | G9: 22 | I9: =G9*H9 -> 0
A10: Margarine vetten | B10: FL. | C10: ML | D10: 1000 | E10: OLIJFOLIE EXTRA VIRGEN | G10: 26 | I10: =G10*H10 -> 0
A11: Suiker, zout, koffie, enz | B11: PK | C11: KG | D11: 1 | E11: KRISTALSUIKER | G11: 212 | I11: =G11*H11 -> 0
H12: Inschrijfprijs 01 Food | I12: =SUM(I2:I11) -> 0

Sheet 02 AGF
A1: Groep | B1: VP | C1: EENH | D1: INH | E1: Omschrijving | F1: Merk | G1: Gemiddelde afzet per jaar | H1: Prijs per eenheid exclusief btw | I1: Totaalprijs exclusief btw | J1: Btw percentage
A2: Agf | B2: nvt | C2: ST | D2: 1 | E2: KOMKOMMER 400/500 KL1 | G2: 616 | I2: =G2*H2 -> 0
A3: Agf | B3: nvt | C3: KG | D3: 1 | E3: ASPERGE AA (20-28 MM) | G3: 66 | I3: =G3*H3 -> 0
A4: Agf | B4: nvt | C4: KG | D4: 1 | E4: TOMAAT POMODORO KL1 | G4: 130 | I4: =G4*H4 -> 0
A5: Agf | B5: BK | C5: GR | D5: 500 | E5: AARDBEI ELSANTA GROOT KL1 | G5: 91 | I5: =G5*H5 -> 0
A6: Agf | B6: ZAK | C6: KG | D6: 20 | E6: AARDAPPEL BONK (GEWASSEN) | G6: 19 | I6: =G6*H6 -> 0
A7: Agf | B7: nvt | C7: KG | D7: 1 | E7: SHIITAKE KG | G7: 18 | I7: =G7*H7 -> 0
A8: Agf | B8: nvt | C8: KG | D8: 1 | E8: SJALOT BANAAN (OVAAL) FRANKRIJK | G8: 101 | I8: =G8*H8 -> 0
A9: Agf | B9: PK | C9: GR | D9: 250 | E9: HARICOTS VERTS SCHOON | G9: 85 | I9: =G9*H9 -> 0
A10: Agf | B10: BK | C10: GR | D10: 150 | E10: FRAMBOOS KL1 | G10: 47 | I10: =G10*H10 -> 0
A11: Agf | B11: nvt | C11: KG | D11: 1 | E11: APPEL ELSTAR GROOT 80-85 KL1 | G11: 50 | I11: =G11*H11 -> 0
A12: Agf | B12: nvt | C12: KG | D12: 1 | E12: TOMAAT B KL1 | G12: 51 | I12: =G12*H12 -> 0
A13: Agf | B13: nvt | C13: KG | D13: 1 | E13: TOMAAT CHERRY TROS L'AMUSE KL1 | G13: 20 | I13: =G13*H13 -> 0
A14: Agf | B14: nvt | C14: KG | D14: 1 | E14: TOMAAT VLEES KL1 | G14: 2 | I14: =G14*H14 -> 0
H15: Inschrijfprijs 02 AGF | I15: =SUM(I2:I14) -> 0

Sheet 03 Non food
A1: Groep | B1: VP | C1: EENH | D1: INH | E1: Omschrijving | F1: Merk | G1: Gemiddelde afzet per jaar | H1: Prijs per eenheid exclusief btw | I1: Totaalprijs exclusief btw | J1: Btw percentage
A2: Bedrijfsbenodigheden | B2: nvt | C2: ST | D2: 1 | E2: SNIJPLANK GROEN 600X400X15 | G2: 3 | I2: =G2*H2 -> 0
A3: Bedrijfsbenodigheden | B3: DS | C3: ST | D3: 50 | E3: SLAGROOMPATRONEN | G3: 6 | I3: =G3*H3 -> 0
A4: Bedrijfsbenodigheden | B4: nvt | C4: ST | D4: 1 | E4: KNIJPFLACON 20CL HELDER | G4: 33 | I4: =G4*H4 -> 0
A5: Glas/ porcelein | B5: nvt | C5: ST | D5: 1 | E5: YPSILON WIJNKAN 1L HELDER | G5: 15 | I5: =G5*H5 -> 0
A6: Papier, servies | B6: PK | C6: ST | D6: 36 | E6: SERVET DUNILIN 48X48CM WIT | G6: 35 | I6: =G6*H6 -> 0
A7: Papier, servies | B7: KF | C7: ZAK | D7: 60 | E7: KOMO HUISVUILZAK 50L. 60X80CM | G7: 23 | I7: =G7*H7 -> 0
A8: Papier, servies | B8: PK | C8: ST | D8: 250 | E8: SERVET TISSUE 3LGS 24CM 1/4V WIT | G8: 11 | I8: =G8*H8 -> 0
A9: Papier, servies | B9: ROL | C9: ZAK | D9: 10 | E9: CONTAINERZAK 240L 114X140 | G9: 38 | I9: =G9*H9 -> 0
A10: Papier, servies | B10: DS | C10: ST | D10: 100 | E10: HANDSCHOEN SOFT NITRILE PV ZWART L | G10: 10 | I10: =G10*H10 -> 0
A11: Papier, servies | B11: DS | C11: ST | D11: 100 | E11: SPUITZAK disposeble 53X28CM | G11: 3 | I11: =G11*H11 -> 0
H12: Inschrijfprijs 03 Nonfood | I12: =SUM(I2:I11) -> 0

Sheet 04  Koelvers zuivel convenienc
A1: Groep | B1: VP | C1: EENH | D1: INH | E1: Omschrijving | F1: Merk | G1: Gemiddelde afzet per jaar | H1: Prijs per eenheid exclusief btw | I1: Totaalprijs exclusief btw | J1: Btw percentage
A2: Zuivel | B2: FL. | C2: L | D2: 2 | E2: SLAGROOM ZONDER SUIKER 35% | G2: 229 | I2: =G2*H2 -> 0
A3: Zuivel | B3: PK | C3: L | D3: 1 | E3: MELK VOLLE | G3: 854 | I3: =G3*H3 -> 0
A4: Zuivel | B4: PK | C4: L | D4: 1 | E4: CHOCOLADEMELK BIO FAIRTRADE | G4: 213 | I4: =G4*H4 -> 0
A5: Zuivel | B5: PK | C5: L | D5: 1 | E5: MELK VOL HOUDBAAR BIO | G5: 269 | I5: =G5*H5 -> 0
A6: Zuivel | B6: PK | C6: L | D6: 1 | E6: YOGHURT | G6: 65 | I6: =G6*H6 -> 0
A7: Koelvers | B7: CAN | C7: L | D7: 2 | E7: SINAASAPPELSAP DAGVERS | G7: 17 | I7: =G7*H7 -> 0
A8: Zuivel | B8: POT | C8: KG | D8: 1 | E8: CRÈME FRAÎCHE | G8: 10 | I8: =G8*H8 -> 0
A9: Koelvers | B9: DS | C9: ST | D9: 90 | E9: SCHARRELEIEREN S | G9: 1 | I9: =G9*H9 -> 0
A10: Zuivel | B10: BK | C10: CL | D10: 20 | E10: CRÈME FRAÎCHE | G10: 30 | I10: =G10*H10 -> 0
A11: Zuivel | B11: PK | C11: PL | D11: 30 | E11: KAASPLAKKEN JONG BELEGEN 25GR | G11: 27 | I11: =G11*H11 -> 0
H12: Inschrijfprijs 04: Koelvers/zuivel/convenience | I12: =SUM(I2:I11) -> 0

Sheet 05 Slagerij
A1: Groep | B1: VP | C1: EENH | D1: INH | E1: Omschrijving | F1: Merk | G1: Gemiddelde afzet per jaar | H1: Prijs per eenheid exclusief btw | I1: Totaalprijs exclusief btw | J1: Btw percentage
A2: Slagerij | B2: nvt | C2: KG | D2: 1 | E2: VARKENSGEHAKT REC.1 | G2: 2 | I2: =G2*H2 -> 0
A3: Slagerij | B3: nvt | C3: KG | D3: 1 | E3: KALFSOESTER CHATEAUBRIAND | G3: 10 | I3: =G3*H3 -> 0
A4: Slagerij | B4: nvt | C4: KG | D4: 1 | E4: RUNDERSUCADE CANADA | G4: 34 | I4: =G4*H4 -> 0
A5: Slagerij | B5: nvt | C5: KG | D5: 1 | E5: RUNDERHAAS Z/K 2,2KG SIMMENTALER | G5: 17 | I5: =G5*H5 -> 0
A6: Slagerij | B6: nvt | C6: KG | D6: 1 | E6: RUNDER RIB EYE GEP. GRAINF. VAARS EU | G6: 16 | I6: =G6*H6 -> 0
A7: Slagerij | B7: nvt | C7: KG | D7: 1 | E7: VARKENSGEHAKT ONGEKR. | G7: 2 | I7: =G7*H7 -> 0
A8: Slagerij | B8: nvt | C8: KG | D8: 1 | E8: KALFSBEEN GEZAAGD DV | G8: 23 | I8: =G8*H8 -> 0
A9: Slagerij | B9: nvt | C9: KG | D9: 1 | E9: RUNDERGEHAKT CA.1 KG | G9: 56 | I9: =G9*H9 -> 0
A10: Slagerij | B10: nvt | C10: KG | D10: 1 | E10: LAMSBOUT Z/B NIEUW ZEELAND | G10: 18 | I10: =G10*H10 -> 0
A11: Slagerij | B11: nvt | C11: KG | D11: 1 | E11: LAMSFILET GEVL. NIEUW ZEELAND | G11: 15 | I11: =G11*H11 -> 0
H12: Inschrijfprijs 05 Slagerij | I12: =SUM(I2:I11) -> 0

Sheet 06 Vis
A1: Groep | B1: VP | C1: EENH | D1: INH | E1: Omschrijving | F1: Merk | G1: Gemiddelde afzet per jaar | H1: Prijs per eenheid exclusief btw | I1: Totaalprijs exclusief btw | J1: Btw percentage
A2: Vis | B2: nvt | C2: KG | D2: 1 | E2: ZALMFILET ZONDER VEL UITSNIJ | G2: 43 | I2: =G2*H2 -> 0
A3: Vis | B3: nvt | C3: KG | D3: 1 | E3: ZEEBAARS KWEEK 400/600 GR | G3: 66 | I3: =G3*H3 -> 0
A4: Vis | B4: BK | C4: GR | D4: 500 | E4: HOLLANDSE GARNALEN HANDGEPELD 500 GR | G4: 20 | I4: =G4*H4 -> 0
A5: Vis | B5: nvt | C5: KG | D5: 1 | E5: ZEEBAARSFILET KWEEK 140/180 GR Z/GRAAT | G5: 13 | I5: =G5*H5 -> 0
A6: Vis | B6: nvt | C6: KG | D6: 1 | E6: Gamba's Easy Peel | G6: 13 | I6: =G6*H6 -> 0
A7: Vis | B7: nvt | C7: KG | D7: 1 | E7: ZALM GEROOKT ZIJDE HEEL ROYAL CATCH | G7: 38 | I7: =G7*H7 -> 0
A8: Vis | B8: nvt | C8: KG | D8: 1 | E8: ZALMFILET TRIM D M/V GESCHUBD PRE RIGOR | G8: 12 | I8: =G8*H8 -> 0
A9: Vis | B9: nvt | C9: KG | D9: 1 | E9: KOOLVISFILET ZWART M/V | G9: 24 | I9: =G9*H9 -> 0
A10: Vis | B10: nvt | C10: KG | D10: 1 | E10: SCHOLFILET VAN SCHOL 1 Z/V | G10: 8 | I10: =G10*H10 -> 0
A11: Vis | B11: nvt | C11: KG | D11: 1 | E11: DORADE ROYALE 400/600 GR | G11: 20 | I11: =G11*H11 -> 0
A12: Vis | B12: nvt | C12: KG | D12: 1 | E12: MAKREEL GROOT 500/600 GR | G12: 13 | I12: =G12*H12 -> 0
H13: Inschrijfprijs 06 Vis | I13: =SUM(I2:I12) -> 0

Sheet 07 Poelier
A1: Groep | B1: VP | C1: EENH | D1: INH | E1: Omschrijving | F1: Merk | G1: Gemiddelde afzet per jaar | H1: Prijs per eenheid exclusief btw | I1: Totaalprijs exclusief btw | J1: Btw percentage
A2: Poelier | B2: nvt | C2: KG | D2: 1 | E2: KIPFILET GEROOKT | G2: 49 | I2: =G2*H2 -> 0
A3: Poelier | B3: nvt | C3: KG | D3: 1 | E3: POUSSINS 400-450GR | G3: 55 | I3: =G3*H3 -> 0
A4: Poelier | B4: nvt | C4: KG | D4: 1 | E4: HERT BOVENBIL | G4: 22 | I4: =G4*H4 -> 0
A5: Poelier | B5: nvt | C5: KG | D5: 1 | E5: KIP DIJENVLEES VERPAKT | G5: 62 | I5: =G5*H5 -> 0
A6: Poelier | B6: EM | C6: L | D6: 5 | E6: GANZENVET 5 LITER | G6: 4 | I6: =G6*H6 -> 0
A7: Poelier | B7: nvt | C7: KG | D7: 1 | E7: SOEPKIP (2,5 KG) | G7: 17 | I7: =G7*H7 -> 0
A8: Poelier | B8: nvt | C8: KG | D8: 1 | E8: KIPFILET ENKEL 170-190 MET HAAS | G8: 8 | I8: =G8*H8 -> 0
A9: Poelier | B9: nvt | C9: KG | D9: 1 | E9: PARELHOEN PANKLAAR | G9: 17 | I9: =G9*H9 -> 0
A10: Poelier | B10: TR | C10: ST | D10: 18 | E10: KWARTELEIEREN (VERS) OEUFS FRAIS DE CAI | G10: 9 | I10: =G10*H10 -> 0
A11: Poelier | B11: nvt | C11: KG | D11: 1 | E11: MAGRET DE CANARD VANNES BRETAGNE | G11: 5 | I11: =G11*H11 -> 0
H12: Inschrijfprijs 07 Poelier | I12: =SUM(I2:I11) -> 0

Sheet 08 Diepvries
A1: Groep | B1: VP | C1: EENH | D1: INH | E1: Omschrijving | F1: Merk | G1: Gemiddelde afzet per jaar | H1: Prijs per eenheid exclusief btw | I1: Totaalprijs exclusief btw | J1: Btw percentage
A2: Diepvries | B2: DS | C2: ST | D2: 4 | E2: BROOD CASINO WIT GESNEDEN 800GR | G2: 35 | I2: =G2*H2 -> 0
A3: Diepvries | B3: DS | C3: ST | D3: 30 | E3: CIABATTA 250GR | G3: 11 | I3: =G3*H3 -> 0
A4: Diepvries | B4: DS | C4: PL | D4: 14 | E4: BLADERDEEG ROOMBOTER 1000GR | G4: 3 | I4: =G4*H4 -> 0
A5: Diepvries | B5: PAK | C5: GR | D5: 1000 | E5: PUREE FRAMBOOS | G5: 12 | I5: =G5*H5 -> 0
A6: Diepvries | B6: DS | C6: ST | D6: 150 | E6: DESEM MINI ASSORTI GEKRUID | G6: 3 | I6: =G6*H6 -> 0
A7: Diepvries | B7: DS | C7: ST | D7: 18 | E7: RUNDERHAMBURGER HALAL 95GR | G7: 4 | I7: =G7*H7 -> 0
A8: Diepvries | B8: ZAK | C8: GR | D8: 200 | E8: SURINAAMSE ROTI | G8: 35 | I8: =G8*H8 -> 0
A9: Diepvries | B9: PK | C9: PL | D9: 10 | E9: BLADERDEEG ROOMBOTER 450GR | G9: 18 | I9: =G9*H9 -> 0
A10: Diepvries | B10: PK | C10: GR | D10: 500 | E10: KOUSEBAND | G10: 29 | I10: =G10*H10 -> 0
A11: Diepvries | B11: PAK | C11: GR | D11: 1000 | E11: PUREE AARDBEI | G11: 6 | I11: =G11*H11 -> 0
A12: Diepvries | B12: DS | C12: ST | D12: 54 | E12: RUNDVLEES BITTERBAL 30GR | G12: 3 | I12: =G12*H12 -> 0
H13: Inschrijfprijs 08 Diepvries | I13: =SUM(I2:I12) -> 0

Sheet 09 Wijn en gedestilleerd
A1: Groep | B1: VP | C1: EENH | D1: INH | E1: Omschrijving | F1: Merk | G1: Gemiddelde afzet per jaar | H1: Prijs per eenheid exclusief btw | I1: Totaalprijs exclusief btw | J1: Btw percentage
A2: Aperitief wijnen | B2: FL. | C2: CL | D2: 75 | E2: Alcohol vrije Cava | G2: 115 | I2: =G2*H2 -> 0
A3: Aperitief wijnen | B3: FL. | C3: CL | D3: 75 | E3: SHERRY PEDRO XIMENEZ | G3: 5 | I3: =G3*H3 -> 0
A4: Aperitief wijnen | B4: FL. | C4: CL | D4: 75 | E4: NOILLY PRAT DRY | G4: 5 | I4: =G4*H4 -> 0
A5: Aperitief wijnen | B5: FL. | C5: CL | D5: 70 | E5: SIROOP PASSIEVRUCHT | G5: 4 | I5: =G5*H5 -> 0
A6: Aperitief wijnen | B6: FL. | C6: CL | D6: 70 | E6: SIROOP BLUE CURACAO | G6: 3 | I6: =G6*H6 -> 0
A7: Aperitief wijnen | B7: FL. | C7: CL | D7: 75 | E7: SPARKLING ROSE 0,0% | G7: 5 | I7: =G7*H7 -> 0
A8: Gedistilleerd | B8: FL. | C8: CL | D8: 70 | E8: WODKA | G8: 5 | I8: =G8*H8 -> 0
A9: Wijnen | B9: FL. | C9: CL | D9: 200 | E9: Kookwijn wit | G9: 24 | I9: =G9*H9 -> 0
A10: Wijnen | B10: FL. | C10: CL | D10: 200 | E10: Kookwijn rood | G10: 21 | I10: =G10*H10 -> 0
A11: Wijnen | B11: FL. | C11: CL | D11: 75 | E11: PRIMITIVO ROSSO | G11: 12 | I11: =G11*H11 -> 0
H12: Inschrijfprijs 09 Wijn en gedestilleerd | I12: =SUM(I2:I11) -> 0

Sheet 10 Patisserie
A1: Groep | B1: VP | C1: EENH | D1: INH | E1: Omschrijving | F1: Merk | G1: Gemiddelde afzet per jaar | H1: Prijs per eenheid exclusief btw | I1: Totaalprijs exclusief btw | J1: Btw percentage
A2: Patisserie | B2: ZAK | C2: GR | D2: 2500 | E2: CALLETS CHOCOLADE WIT 28% | G2: 13 | I2: =G2*H2 -> 0
A3: Patisserie | B3: BS | C3: GR | D3: 35 | E3: VANILLESTOKJES MADAGASCAR | G3: 6 | I3: =G3*H3 -> 0
A4: Patisserie | B4: ZAK | C4: GR | D4: 2500 | E4: CALLETS PUUR SELECT 54,5% CACAO | G4: 8 | I4: =G4*H4 -> 0
A5: Patisserie | B5: DS | C5: ST | D5: 54 | E5: CANAPES HARTIG VEGETARISCH | G5: 3 | I5: =G5*H5 -> 0
A6: Patisserie | B6: EM | C6: GR | D6: 2500 | E6: AMANDELSPIJS 1:1 | G6: 8 | I6: =G6*H6 -> 0
A7: Patisserie | B7: ZAK | C7: GR | D7: 2500 | E7: CALLETS WIT -CW2 SELECT 25,9% CACAO | G7: 3 | I7: =G7*H7 -> 0
A8: Patisserie | B8: ZAK | C8: GR | D8: 1000 | E8: CALLETS MELK | G8: 6 | I8: =G8*H8 -> 0
A9: Patisserie | B9: DS | C9: KG | D9: 1 | E9: GELATINE 500 BLAD 205 GOUD | G9: 2 | I9: =G9*H9 -> 0
A10: Patisserie | B10: EM | C10: GR | D10: 2500 | E10: AMANDEL MARSEPEIN | G10: 2 | I10: =G10*H10 -> 0
A11: Patisserie | B11: PK | C11: KG | D11: 1 | E11: GIST (vers) | G11: 14 | I11: =G11*H11 -> 0
H12: Inschrijfprijs 10 Patisserie | I12: =SUM(I2:I11) -> 0
