Workbook

Sheet Bijlage 13, Oogstgebieden
A1: Bijlage 13, Oogstgebieden
A2: Aanbesteding Houtoogstwerkzaamheden 2026
A3: NB. Aan de gegevens uit deze bijlage kunnen geen rechten worden ontleend.
A7: Geografisch Oogstgebied | B7: Provinciale eenheid | C7: Gemiddelde meerjaren prognose oogstvolume (m3/jaar) | D7: percentage van totale prognose oogstvolume | E7: garantievolume (ca. 75% van MJ-prognose oogstvolume) | G7: Geografisch Oogstgebied | H7: Perceel | I7: garantievolume (m3 /jaar)
A8: 1. Noord | B8: Groningen | C8: =2880 -> 2880 | D8: =C8/C12 -> 0.051687006 | E8: =C8*0.75 -> 2160 | G8: 1. Noord | H8: Noord 1 | I8: 10000
B9: Friesland | C9: =7340 -> 7340 | D9: =C9/C12 -> 0.13173008 | E9: =C9*0.75 -> 5505 | H9: Noord 2 | I9: 10000
B10: Drenthe | C10: =30680 -> 30680 | D10: =C10/C12 -> 0.55061019 | E10: =C10*0.75 -> 23010 | H10: Noord 3 | I10: 10000
B11: Overijssel | C11: =14820 -> 14820 | D11: =C11/C12 -> 0.26597272 | E11: =C11*0.75 -> 11115 | H11: Noord 4 | I11: 5000
B12: subtotaal | C12: =SUM(C8:C11) -> 55720 | D12: =SUM(D8:D11) -> 1 | E12: 41790 | H12: Noord 5 | I12: 5000
B13: Af: 10% zwaar hout | C13: =0.1*C12 -> 5572 | E13: =0.1*E12 -> 4179 | G13: totaal garantievolume | I13: 40000
B14: Totaal | C14: =C12*0.9 -> 50148 | E14: =E12-E13 -> 37611
A17: Geografisch Oogstgebied | B17: Provinciale eenheid | C17: Gemiddelde meerjaren prognose oogstvolume (m3/jaar) | D17: percentage van totale prognose oogstvolume | E17: garantievolume (ca. 75% van MJ-prognose oogstvolume) | G17: Geografisch Oogstgebied | H17: Perceel | I17: garantievolume (m3 /jaar)
A18: 2. Midden | B18: Gelderland | C18: =35000*0.76 -> 26600 | D18: =C18/C22 -> 0.50330745 | E18: =C18*0.75 -> 19950 | G18: 2. Midden | H18: Midden 1 | I18: 10000
B19: Utrecht | C19: =6980*0.76 -> 5304.8 | D19: =C19/C22 -> 0.10037389 | E19: =C19*0.75 -> 3978.6 | H19: Midden 2 | I19: 10000
B20: Flevoland | C20: =23510*0.76 -> 17867.6 | D20: =C20/C22 -> 0.3380788 | E20: =C20*0.75 -> 13400.7 | H20: Midden 3 | I20: 7500
B21: Noord Holland | C21: =4050*0.76 -> 3078 | D21: =C21/C22 -> 0.058239862 | E21: =C21*0.75 -> 2308.5 | H21: Midden 4 | I21: 2500
B22: subtotaal | C22: =SUM(C18:C21) -> 52850.4 | D22: =SUM(D18:D21) -> 1 | E22: =SUM(E18:E21) -> 39637.8 | H22: Midden 5 | I22: 2500
B23: Af: 15% zwaar hout | C23: =0.15*C22 -> 7927.56 | E23: =0.15*E22 -> 5945.67 | G23: totaal garantievolume | I23: =SUM(I18:I22) -> 32500
B24: Totaal | C24: =C22-C23 -> 44922.84 | E24: =E22-E23 -> 33692.13
A27: Geografisch Oogstgebied | B27: Provinciale eenheid | C27: Gemiddelde meerjaren prognose oogstvolume (m3/jaar) | D27: percentage van totale prognose oogstvolume | E27: garantievolume (ca. 75% van MJ-prognose oogstvolume) | G27: Geografisch Oogstgebied | H27: Perceel | I27: garantievolume (m3 /jaar)
A28: 3. Zuid | B28: Zeeland | C28: =5900*0.88 -> 5192 | D28: 0.15 | E28: =C28*0.75 -> 3894 | G28: 3. Zuid | H28: Zuid 1 | I28: 10000
B29: Noord Brabant | C29: =21610*0.88 -> 19016.8 | D29: 0.56 | E29: =C29*0.75 -> 14262.6 | H29: Zuid 2 | I29: 5000
B30: Limburg | C30: =7080*0.88 -> 6230.4 | D30: 0.19 | E30: =C30*0.75 -> 4672.8 | H30: Zuid 3 | I30: 2500
B31: Zuid Holland | C31: =3660*0.88 -> 3220.8 | D31: 0.1 | E31: =C31*0.75 -> 2415.6 | H31: Zuid 4 | I31: 2500
B32: subtotaal | C32: =SUM(C28:C31) -> 33660 | D32: 1 | E32: =SUM(E28:E31) -> 25245 | G32: totaal garantievolume | I32: 20000
B33: Af: 15% zwaar hout | C33: =C32*0.15 -> 5049 | E33: =0.15*E32 -> 3786.75
B34: Totaal | C34: =C32-C33 -> 28611 | E34: =E32-E33 -> 21458.25
A36: Specialistisch Oogstgebied | B36: Provinciale eenheid | C36: Gemiddelde meerjaren prognose oogstvolume (m3/jaar) | D36: percentage van totale prognose oogstvolume | E36: garantievolume (ca. 60% van MJ-prognose oogstvolume) | G36: Specialistisch Oogstgebied | H36: Perceel | I36: garantievolume (m3 /jaar)
A37: 4. Zware vellingen | B37: Landelijk | C37: 18500 | D37: 1 | E37: =C37*0.6 -> 11100 | G37: 4. Zware vellingen | H37: Zwaar 1 | I37: 5000
H38: Zwaar 2 | I38: 5000
G39: totaal garantievolume | I39: 10000
A41: Specialistisch Oogstgebied | B41: Provinciale eenheid | C41: Gemiddelde meerjaren prognose oogstvolume (m3/jaar) | D41: percentage van totale prognose oogstvolume | E41: garantievolume (ca. 75% van MJ-prognose oogstvolume) | G41: Specialistisch Oogstgebied | H41: perceel | I41: garantievolume (m3 /jaar)
A42: 5. Complexe vellingen - RECREATIEF | B42: Landelijk | C42: 0 | E42: 0 | G42: 5. Complexe vellingen - RECREATIEF | H42: Complex-R1 | I42: 0
H43: Complex-R2 | I43: 0
H44: Complex-R3 | I44: 0
H45: Complex-R4 | I45: 0
H46: Complex-R5 | I46: 0
G47: totaal garantievolume | I47: 0
A49: Specialistisch Oogstgebied | B49: Provinciale eenheid | C49: Gemiddelde meerjaren prognose oogstvolume (m3/jaar) | D49: percentage van totale prognose oogstvolume | E49: garantievolume (ca. 75% van MJ-prognose oogstvolume) | G49: Specialistisch Oogstgebied | H49: perceel | I49: garantievolume (m3 /jaar)
A50: 6. Complexe vellingen - ECOLOGISCH | B50: Landelijk | C50: 0 | E50: 0 | G50: 6. Complexe vellingen - ECOLOGISCH | H50: Complex-E1 | I50: 0
H51: Complex-E2 | I51: 0
H52: Complex-E3 | I52: 0
G53: totaal garantievolume | I53: 0
A56: Specialistisch Oogstgebied | B56: Provinciale eenheid | C56: Gemiddelde meerjaren prognose oogstvolume (m3/jaar) | D56: percentage van totale prognose oogstvolume | E56: garantievolume (ca. 75% van MJ-prognose oogstvolume) | G56: Specialistisch Oogstgebied | H56: perceel | I56: garantievolume (m3 /jaar)
A57: 7. Lichte vellingen | B57: Landelijk | C57: 3500 | G57: 7. Lichte vellingen | H57: Licht 1 | I57: 0
H58: Licht 2 | I58: 0
G59: totaal garantievolume | I59: 0
G62: Totaal garantievolume | I62: =I59+I53+I47+I39+I32+I23+I13 -> 102500

Sheet Bijlage 13a, omvang opdracht
A1: Bijlage 13a, Omvang opdracht
A2: Aanbesteding Houtoogstwerkzaamheden 2026
A3: Maximale oogstvolume in m3 Raamovereenkomsten per oogstgebied
A5: Oogstgebied | B5: Gemiddelde meerjaren prognose oogstvolume (m3/jaar) | C5: Gemiddelde garantievolume per jaar (75% van prognose oogstvolume) | D5: Maximale oogstvolume/jr (150% van prognose oogstvolume) | E5: looptijd overeenkomst in jaren | F5: totaal maximale oogstvolume (m3)
A6: 1. Noord | B6: ='Bijlage 13, Oogstgebieden'!C14 -> 50148 | C6: ='Bijlage 13, Oogstgebieden'!I13 -> 40000 | D6: =B6*1.5 -> 75222 | E6: 6 | F6: =E6*D6 -> 451332
A7: 2. Midden | B7: ='Bijlage 13, Oogstgebieden'!C24 -> 44922.84 | C7: ='Bijlage 13, Oogstgebieden'!I23 -> 32500 | D7: =B7*1.5 -> 67384.26 | E7: 6 | F7: =E7*D7 -> 404305.56
A8: 3. Zuid | B8: ='Bijlage 13, Oogstgebieden'!C34 -> 28611 | C8: ='Bijlage 13, Oogstgebieden'!I32 -> 20000 | D8: =B8*1.5 -> 42916.5 | E8: 6 | F8: =E8*D8 -> 257499
A9: 4. Zware vellingen | B9: ='Bijlage 13, Oogstgebieden'!C37 -> 18500 | C9: ='Bijlage 13, Oogstgebieden'!I39 -> 10000 | D9: =B9*1.5 -> 27750 | E9: 6 | F9: =E9*D9 -> 166500
A10: 5. Complexe vellingen recreatief | B10: 0 | C10: =B10*0.75 -> 0 | D10: =B10*1.5 -> 0 | E10: 6 | F10: =E10*D10 -> 0
A11: 6. Complexe vellingen ecologisch | B11: 0 | C11: 0 | D11: =B11*1.5 -> 0 | E11: 6 | F11: =E11*D11 -> 0
A12: 7. Lichte vellingen | B12: ='Bijlage 13, Oogstgebieden'!C57 -> 3500 | C12: ='Bijlage 13, Oogstgebieden'!I59 -> 0 | D12: =B12*1.5 -> 5250 | E12: 6 | F12: =E12*D12 -> 31500
A13: Totaal | B13: =SUM(B6:B12) -> 145681.84 | C13: =SUM(C6:C12) -> 102500 | D13: =SUM(D6:D12) -> 218522.76 | E13: 6 | F13: =SUM(F6:F12) -> 1311136.6
