Workbook
Name SCORE: 'Beoordelen open vragen'!$A$14:$A$19

Sheet Beoordelen open vragen
A1: Beoordeling open vragen
A2: Om de kwaliteit en toegevoegde waarde van de Inschrijver(s) te kunnen beoordelen dient Inschrijver haar kwaliteit aan te tonen en meerwaarde uit te werken conform onderstaande open vragen.
A3: Open vraag 1: Plan van aanpak implementatie
A4: Zie bijlage 6 kwaliteit
A5: Open vraag 2: Levering
A6: Zie bijlage 6 kwaliteit
A7: Open vraag 3: Duurzaamheid en circulariteit
A8: Zie bijlage 6 kwaliteit
A9: Open vraag 4: Gebruiksvriendelijkheid Kleding Management Systeem (KMS)
A10: Zie bijlage 6 kwaliteit
A11: Open vraag 5: Marktconforme prijzen
A12: Zie bijlage 6 kwaliteit
... A21: Dit onderdeel kent GEEN eigen beoordelingskader, maar kan leiden tot een aanpassing van een beoordeling van de beantwoording van de open vragen.

Sheet Beoordelaar 1
A1: Beoordelaar 1: <<>> | C1: Inschrijver 1 | F1: Inschrijver 2 | I1: Inschrijver 3
A2: Open vragen | C2: SCORE: | F2: SCORE: | I2: SCORE:
A3: ='Beoordelen open vragen'!A3 -> Open vraag 1: Plan van aanpak implementatie | C3: SCORE: | F3: SCORE: | I3: SCORE:
A4: ='Beoordelen open vragen'!A4 -> Zie bijlage 6 kwaliteit | C4: <MOTIVATIE> | F4: <MOTIVATIE> | I4: <MOTIVATIE>
A5: ='Beoordelen open vragen'!A5 -> Open vraag 2: Levering | C5: SCORE: | F5: SCORE: | I5: SCORE:
A6: ='Beoordelen open vragen'!A6 -> Zie bijlage 6 kwaliteit | C6: <MOTIVATIE> | F6: <MOTIVATIE> | I6: <MOTIVATIE>
A7: ='Beoordelen open vragen'!A7 -> Open vraag 3: Duurzaamheid en circulariteit | C7: SCORE: | F7: SCORE: | I7: SCORE:
A8: ='Beoordelen open vragen'!A8 -> Zie bijlage 6 kwaliteit | C8: <MOTIVATIE> | F8: <MOTIVATIE> | I8: <MOTIVATIE>
A9: ='Beoordelen open vragen'!A9 -> Open vraag 4: Gebruiksvriendelijkheid Kleding Management Systeem (KMS) | C9: SCORE: | F9: SCORE: | I9: SCORE:
A10: ='Beoordelen open vragen'!A10 -> Zie bijlage 6 kwaliteit | C10: <MOTIVATIE> | F10: <MOTIVATIE> | I10: <MOTIVATIE>
A11: ='Beoordelen open vragen'!A11 -> Open vraag 5: Marktconforme prijzen | C11: SCORE: | F11: SCORE: | I11: SCORE:
A12: ='Beoordelen open vragen'!A12 -> Zie bijlage 6 kwaliteit | C12: <MOTIVATIE> | F12: <MOTIVATIE> | I12: <MOTIVATIE>

Sheet Beoordelaar 2
A1: Beoordelaar 2: <<>> | C1: ='Beoordelaar 1'!C1 -> Inschrijver 1 | F1: ='Beoordelaar 1'!F1 -> Inschrijver 2 | I1: ='Beoordelaar 1'!I1 -> Inschrijver 3
A2: Open vragen | C2: SCORE: | F2: SCORE: | I2: SCORE:
A3: ='Beoordelen open vragen'!A3 -> Open vraag 1: Plan van aanpak implementatie | C3: SCORE: | F3: SCORE: | I3: SCORE:
A4: ='Beoordelen open vragen'!A4 -> Zie bijlage 6 kwaliteit | C4: <MOTIVATIE> | F4: <MOTIVATIE> | I4: <MOTIVATIE>
A5: ='Beoordelen open vragen'!A5 -> Open vraag 2: Levering | C5: SCORE: | F5: SCORE: | I5: SCORE:
A6: ='Beoordelen open vragen'!A6 -> Zie bijlage 6 kwaliteit | C6: <MOTIVATIE> | F6: <MOTIVATIE> | I6: <MOTIVATIE>
A7: ='Beoordelen open vragen'!A7 -> Open vraag 3: Duurzaamheid en circulariteit | C7: SCORE: | F7: SCORE: | I7: SCORE:
A8: ='Beoordelen open vragen'!A8 -> Zie bijlage 6 kwaliteit | C8: <MOTIVATIE> | F8: <MOTIVATIE> | I8: <MOTIVATIE>
A9: ='Beoordelen open vragen'!A9 -> Open vraag 4: Gebruiksvriendelijkheid Kleding Management Systeem (KMS) | C9: SCORE: | F9: SCORE: | I9: SCORE:
A10: ='Beoordelen open vragen'!A10 -> Zie bijlage 6 kwaliteit | C10: <MOTIVATIE> | F10: <MOTIVATIE> | I10: <MOTIVATIE>
A11: ='Beoordelen open vragen'!A11 -> Open vraag 5: Marktconforme prijzen | C11: SCORE: | F11: SCORE: | I11: SCORE:
A12: ='Beoordelen open vragen'!A12 -> Zie bijlage 6 kwaliteit | C12: <MOTIVATIE> | F12: <MOTIVATIE> | I12: <MOTIVATIE>

Sheet Beoordelaar 3
A1: Beoordelaar 3: <<>> | C1: ='Beoordelaar 1'!C1 -> Inschrijver 1 | F1: ='Beoordelaar 1'!F1 -> Inschrijver 2 | I1: ='Beoordelaar 1'!I1 -> Inschrijver 3
A2: Open vragen | C2: SCORE: | F2: SCORE: | I2: SCORE:
A3: ='Beoordelen open vragen'!A3 -> Open vraag 1: Plan van aanpak implementatie | C3: SCORE: | F3: SCORE: | I3: SCORE:
A4: ='Beoordelen open vragen'!A4 -> Zie bijlage 6 kwaliteit | C4: <MOTIVATIE> | F4: <MOTIVATIE> | I4: <MOTIVATIE>
A5: ='Beoordelen open vragen'!A5 -> Open vraag 2: Levering | C5: SCORE: | F5: SCORE: | I5: SCORE:
A6: ='Beoordelen open vragen'!A6 -> Zie bijlage 6 kwaliteit | C6: <MOTIVATIE> | F6: <MOTIVATIE> | I6: <MOTIVATIE>
A7: ='Beoordelen open vragen'!A7 -> Open vraag 3: Duurzaamheid en circulariteit | C7: SCORE: | F7: SCORE: | I7: SCORE:
A8: ='Beoordelen open vragen'!A8 -> Zie bijlage 6 kwaliteit | C8: <MOTIVATIE> | F8: <MOTIVATIE> | I8: <MOTIVATIE>
A9: ='Beoordelen open vragen'!A9 -> Open vraag 4: Gebruiksvriendelijkheid Kleding Management Systeem (KMS) | C9: SCORE: | F9: SCORE: | I9: SCORE:
A10: ='Beoordelen open vragen'!A10 -> Zie bijlage 6 kwaliteit | C10: <MOTIVATIE> | F10: <MOTIVATIE> | I10: <MOTIVATIE>
A11: ='Beoordelen open vragen'!A11 -> Open vraag 5: Marktconforme prijzen | C11: SCORE: | F11: SCORE: | I11: SCORE:
A12: ='Beoordelen open vragen'!A12 -> Zie bijlage 6 kwaliteit | C12: <MOTIVATIE> | F12: <MOTIVATIE> | I12: <MOTIVATIE>

Sheet Beoordelaar 4
A1: Beoordelaar 4: <<>> | C1: ='Beoordelaar 1'!C1 -> Inschrijver 1 | F1: ='Beoordelaar 1'!F1 -> Inschrijver 2 | I1: ='Beoordelaar 1'!I1 -> Inschrijver 3
A2: Open vragen | C2: SCORE: | F2: SCORE: | I2: SCORE:
A3: ='Beoordelen open vragen'!A3 -> Open vraag 1: Plan van aanpak implementatie | C3: SCORE: | F3: SCORE: | I3: SCORE:
A4: ='Beoordelen open vragen'!A4 -> Zie bijlage 6 kwaliteit | C4: <MOTIVATIE> | F4: <MOTIVATIE> | I4: <MOTIVATIE>
A5: ='Beoordelen open vragen'!A5 -> Open vraag 2: Levering | C5: SCORE: | F5: SCORE: | I5: SCORE:
A6: ='Beoordelen open vragen'!A6 -> Zie bijlage 6 kwaliteit | C6: <MOTIVATIE> | F6: <MOTIVATIE> | I6: <MOTIVATIE>
A7: ='Beoordelen open vragen'!A7 -> Open vraag 3: Duurzaamheid en circulariteit | C7: SCORE: | F7: SCORE: | I7: SCORE:
A8: ='Beoordelen open vragen'!A8 -> Zie bijlage 6 kwaliteit | C8: <MOTIVATIE> | F8: <MOTIVATIE> | I8: <MOTIVATIE>
A9: ='Beoordelen open vragen'!A9 -> Open vraag 4: Gebruiksvriendelijkheid Kleding Management Systeem (KMS) | C9: SCORE: | F9: SCORE: | I9: SCORE:
A10: ='Beoordelen open vragen'!A10 -> Zie bijlage 6 kwaliteit | C10: <MOTIVATIE> | F10: <MOTIVATIE> | I10: <MOTIVATIE>
A11: ='Beoordelen open vragen'!A11 -> Open vraag 5: Marktconforme prijzen | C11: SCORE: | F11: SCORE: | I11: SCORE:
A12: ='Beoordelen open vragen'!A12 -> Zie bijlage 6 kwaliteit | C12: <MOTIVATIE> | F12: <MOTIVATIE> | I12: <MOTIVATIE>

Sheet Beoordelaar 5
A1: Beoordelaar 5: <<>> | C1: ='Beoordelaar 1'!C1 -> Inschrijver 1 | F1: ='Beoordelaar 1'!F1 -> Inschrijver 2 | I1: ='Beoordelaar 1'!I1 -> Inschrijver 3
A2: Open vragen | C2: SCORE: | F2: SCORE: | I2: SCORE:
A3: ='Beoordelen open vragen'!A3 -> Open vraag 1: Plan van aanpak implementatie | C3: SCORE: | F3: SCORE: | I3: SCORE:
A4: ='Beoordelen open vragen'!A4 -> Zie bijlage 6 kwaliteit | C4: <MOTIVATIE> | F4: <MOTIVATIE> | I4: <MOTIVATIE>
A5: ='Beoordelen open vragen'!A5 -> Open vraag 2: Levering | C5: SCORE: | F5: SCORE: | I5: SCORE:
A6: ='Beoordelen open vragen'!A6 -> Zie bijlage 6 kwaliteit | C6: <MOTIVATIE> | F6: <MOTIVATIE> | I6: <MOTIVATIE>
A7: ='Beoordelen open vragen'!A7 -> Open vraag 3: Duurzaamheid en circulariteit | C7: SCORE: | F7: SCORE: | I7: SCORE:
A8: ='Beoordelen open vragen'!A8 -> Zie bijlage 6 kwaliteit | C8: <MOTIVATIE> | F8: <MOTIVATIE> | I8: <MOTIVATIE>
A9: ='Beoordelen open vragen'!A9 -> Open vraag 4: Gebruiksvriendelijkheid Kleding Management Systeem (KMS) | C9: SCORE: | F9: SCORE: | I9: SCORE:
A10: ='Beoordelen open vragen'!A10 -> Zie bijlage 6 kwaliteit | C10: <MOTIVATIE> | F10: <MOTIVATIE> | I10: <MOTIVATIE>
A11: ='Beoordelen open vragen'!A11 -> Open vraag 5: Marktconforme prijzen | C11: SCORE: | F11: SCORE: | I11: SCORE:
A12: ='Beoordelen open vragen'!A12 -> Zie bijlage 6 kwaliteit | C12: <MOTIVATIE> | F12: <MOTIVATIE> | I12: <MOTIVATIE>

Sheet Consensus
A1: Totaalwaardes | D1: ='Beoordelaar 1'!$C$1 -> Inschrijver 1 | G1: ='Beoordelaar 1'!$F$1 -> Inschrijver 2 | J1: ='Beoordelaar 1'!$I$1 -> Inschrijver 3
A3: OPEN VRAGEN | D3: ='Beoordelaar 1'!C1 -> Inschrijver 1 | E3: MOTIVATIE CONSENSUS | G3: ='Beoordelaar 1'!F1 -> Inschrijver 2 | H3: MOTIVATIE CONSENSUS | J3: ='Beoordelaar 1'!I1 -> Inschrijver 3 | K3: MOTIVATIE CONSENSUS
A4: ='Beoordelen open vragen'!A3 -> Open vraag 1: Plan van aanpak implementatie | B4: Beoordelaar 1 | D4: ='Beoordelaar 1'!C3 -> SCORE: | E4: <<motivatie CONSENSUS>> | G4: ='Beoordelaar 1'!F3 -> SCORE: | H4: <<motivatie CONSENSUS>> | J4: ='Beoordelaar 1'!I3 -> SCORE: | K4: <<motivatie CONSENSUS>>
B5: Beoordelaar 2 | D5: ='Beoordelaar 2'!C3 -> SCORE: | G5: ='Beoordelaar 2'!F3 -> SCORE: | J5: ='Beoordelaar 2'!I3 -> SCORE:
B6: Beoordelaar 3 | D6: ='Beoordelaar 3'!C3 -> SCORE: | G6: ='Beoordelaar 3'!F3 -> SCORE: | J6: ='Beoordelaar 3'!I3 -> SCORE:
B7: Beoordelaar 4 | D7: ='Beoordelaar 4'!C3 -> SCORE: | G7: ='Beoordelaar 4'!F3 -> SCORE: | J7: ='Beoordelaar 4'!I3 -> SCORE:
B8: Beoordelaar 5 | D8: ='Beoordelaar 5'!C3 -> SCORE: | G8: ='Beoordelaar 5'!F3 -> SCORE: | J8: ='Beoordelaar 5'!I3 -> SCORE:
A9: Consensus | D9: SCORE: | G9: SCORE: | J9: SCORE:
D10: =IF(D9="Uitmuntend","17,50",IF(D9="Goed","12,25",IF(D9="Voldoende","5,25",IF(D9="Matig","0",IF(D9="Onvoldoende","KO"," "))))) | G10: =IF(G9="Uitmuntend","17,50",IF(G9="Goed","12,25",IF(G9="Voldoende","5,25",IF(G9="Matig","0",IF(G9="Onvoldoende","KO"," "))))) | J10: =IF(J9="Uitmuntend","17,50",IF(J9="Goed","12,25",IF(J9="Voldoende","5,25",IF(J9="Matig","0",IF(J9="Onvoldoende","KO"," ")))))
A11: ='Beoordelen open vragen'!A5 -> Open vraag 2: Levering | B11: Beoordelaar 1 | D11: ='Beoordelaar 1'!C5 -> SCORE: | E11: <<motivatie CONSENSUS>> | G11: ='Beoordelaar 1'!F5 -> SCORE: | H11: <<motivatie CONSENSUS>> | J11: ='Beoordelaar 1'!I5 -> SCORE: | K11: <<motivatie CONSENSUS>>
B12: Beoordelaar 2 | D12: ='Beoordelaar 2'!C5 -> SCORE: | G12: ='Beoordelaar 2'!F5 -> SCORE: | J12: ='Beoordelaar 2'!I5 -> SCORE:
B13: Beoordelaar 3 | D13: ='Beoordelaar 3'!C5 -> SCORE: | G13: ='Beoordelaar 3'!F5 -> SCORE: | J13: ='Beoordelaar 3'!I5 -> SCORE:
B14: Beoordelaar 4 | D14: ='Beoordelaar 4'!C5 -> SCORE: | G14: ='Beoordelaar 4'!F5 -> SCORE: | J14: ='Beoordelaar 4'!I5 -> SCORE:
B15: Beoordelaar 5 | D15: ='Beoordelaar 5'!C5 -> SCORE: | G15: ='Beoordelaar 5'!F5 -> SCORE: | J15: ='Beoordelaar 5'!I5 -> SCORE:
A16: Consensus | D16: SCORE: | G16: SCORE: | J16: SCORE:
D17: =IF(D16="Uitmuntend","17,50",IF(D16="Goed","12,25",IF(D16="Voldoende","5,25",IF(D16="Matig","0",IF(D16="Onvoldoende","KO"," "))))) | G17: =IF(G16="Uitmuntend","17,50",IF(G16="Goed","12,25",IF(G16="Voldoende","5,25",IF(G16="Matig","0",IF(G16="Onvoldoende","KO"," "))))) | J17: =IF(J16="Uitmuntend","17,50",IF(J16="Goed","12,25",IF(J16="Voldoende","5,25",IF(J16="Matig","0",IF(J16="Onvoldoende","KO"," ")))))
A18: ='Beoordelen open vragen'!A7 -> Open vraag 3: Duurzaamheid en circulariteit | B18: Beoordelaar 1 | D18: ='Beoordelaar 1'!C7 -> SCORE: | E18: <<motivatie CONSENSUS>> | G18: ='Beoordelaar 1'!F7 -> SCORE: | H18: <<motivatie CONSENSUS>> | J18: ='Beoordelaar 1'!I7 -> SCORE: | K18: <<motivatie CONSENSUS>>
B19: Beoordelaar 2 | D19: ='Beoordelaar 2'!C7 -> SCORE: | G19: ='Beoordelaar 2'!F7 -> SCORE: | J19: ='Beoordelaar 2'!I7 -> SCORE:
B20: Beoordelaar 3 | D20: ='Beoordelaar 3'!C7 -> SCORE: | G20: ='Beoordelaar 3'!F7 -> SCORE: | J20: ='Beoordelaar 3'!I7 -> SCORE:
B21: Beoordelaar 4 | D21: ='Beoordelaar 4'!C7 -> SCORE: | G21: ='Beoordelaar 4'!F7 -> SCORE: | J21: ='Beoordelaar 4'!I7 -> SCORE:
B22: Beoordelaar 5 | D22: ='Beoordelaar 5'!C7 -> SCORE: | G22: ='Beoordelaar 5'!F7 -> SCORE: | J22: ='Beoordelaar 5'!I7 -> SCORE:
A23: Consensus | D23: SCORE: | G23: SCORE: | J23: SCORE:
D24: =IF(D23="Uitmuntend","10,50",IF(D23="Goed","7,35",IF(D23="Voldoende","3,15",IF(D23="Matig","0",IF(D23="Onvoldoende","KO"," "))))) | G24: =IF(G23="Uitmuntend","10,50",IF(G23="Goed","7,35",IF(G23="Voldoende","3,15",IF(G23="Matig","0",IF(G23="Onvoldoende","KO"," "))))) | J24: =IF(J23="Uitmuntend","10,50",IF(J23="Goed","7,35",IF(J23="Voldoende","3,15",IF(J23="Matig","0",IF(J23="Onvoldoende","KO"," ")))))
A25: ='Beoordelen open vragen'!A9 -> Open vraag 4: Gebruiksvriendelijkheid Kleding Management Systeem (KMS) | B25: Beoordelaar 1 | D25: ='Beoordelaar 1'!C9 -> SCORE: | E25: <<motivatie CONSENSUS>> | G25: ='Beoordelaar 1'!F9 -> SCORE: | H25: <<motivatie CONSENSUS>> | J25: ='Beoordelaar 1'!I9 -> SCORE: | K25: <<motivatie CONSENSUS>>
B26: Beoordelaar 2 | D26: ='Beoordelaar 2'!C9 -> SCORE: | G26: ='Beoordelaar 2'!F9 -> SCORE: | J26: ='Beoordelaar 2'!I9 -> SCORE:
B27: Beoordelaar 3 | D27: ='Beoordelaar 3'!C9 -> SCORE: | G27: ='Beoordelaar 3'!F9 -> SCORE: | J27: ='Beoordelaar 3'!I9 -> SCORE:
B28: Beoordelaar 4 | D28: ='Beoordelaar 4'!C9 -> SCORE: | G28: ='Beoordelaar 4'!F9 -> SCORE: | J28: ='Beoordelaar 4'!I9 -> SCORE:
B29: Beoordelaar 5 | D29: ='Beoordelaar 5'!C9 -> SCORE: | G29: ='Beoordelaar 5'!F9 -> SCORE: | J29: ='Beoordelaar 5'!I9 -> SCORE:
A30: Consensus | D30: SCORE: | G30: SCORE: | J30: SCORE:
D31: =IF(D30="Uitmuntend","14",IF(D30="Goed","9,8",IF(D30="Voldoende","4,2",IF(D30="Matig","0",IF(D30="Onvoldoende","KO"," "))))) | G31: =IF(G30="Uitmuntend","14",IF(G30="Goed","9,8",IF(G30="Voldoende","4,2",IF(G30="Matig","0",IF(G30="Onvoldoende","KO"," "))))) | J31: =IF(J30="Uitmuntend","14",IF(J30="Goed","9,8",IF(J30="Voldoende","4,2",IF(J30="Matig","0",IF(J30="Onvoldoende","KO"," ")))))
A32: ='Beoordelen open vragen'!A11 -> Open vraag 5: Marktconforme prijzen | B32: Beoordelaar 1 | D32: ='Beoordelaar 1'!C11 -> SCORE: | E32: <<motivatie CONSENSUS>> | G32: ='Beoordelaar 1'!F11 -> SCORE: | H32: <<motivatie CONSENSUS>> | J32: ='Beoordelaar 1'!I11 -> SCORE: | K32: <<motivatie CONSENSUS>>
B33: Beoordelaar 2 | D33: ='Beoordelaar 2'!C11 -> SCORE: | G33: ='Beoordelaar 2'!F11 -> SCORE: | J33: ='Beoordelaar 2'!I11 -> SCORE:
B34: Beoordelaar 3 | D34: ='Beoordelaar 3'!C11 -> SCORE: | G34: ='Beoordelaar 3'!F11 -> SCORE: | J34: ='Beoordelaar 3'!I11 -> SCORE:
B35: Beoordelaar 4 | D35: ='Beoordelaar 4'!C11 -> SCORE: | G35: ='Beoordelaar 4'!F11 -> SCORE: | J35: ='Beoordelaar 4'!I11 -> SCORE:
B36: Beoordelaar 5 | D36: ='Beoordelaar 5'!C11 -> SCORE: | G36: ='Beoordelaar 5'!F11 -> SCORE: | J36: ='Beoordelaar 5'!I11 -> SCORE:
A37: Consensus | D37: SCORE: | G37: SCORE: | J37: SCORE:
D38: =IF(D37="Uitmuntend","10,50",IF(D37="Goed","7,35",IF(D37="Voldoende","3,15",IF(D37="Matig","0",IF(D37="Onvoldoende","KO"," "))))) | G38: =IF(G37="Uitmuntend","10,50",IF(G37="Goed","7,35",IF(G37="Voldoende","3,15",IF(G37="Matig","0",IF(G37="Onvoldoende","KO"," "))))) | J38: =IF(J37="Uitmuntend","10,50",IF(J37="Goed","7,35",IF(J37="Voldoende","3,15",IF(J37="Matig","0",IF(J37="Onvoldoende","KO"," ")))))
A40: Totaal behaalde score open vragen: | D40: =D10+D17+D24+D31+D38 -> #VALUE! | G40: =G10+G17+G24+G31+G38 -> #VALUE! | J40: =J10+J17+J24+J31+J38 -> #VALUE!

Sheet Eindscores
A1: Totaalscore criterium kwaliteit
A2: Onderdeel | C2: ='Beoordelaar 1'!C1:D1 -> Inschrijver 1 | E2: ='Beoordelaar 1'!F1 -> Inschrijver 2 | G2: ='Beoordelaar 1'!I1 -> Inschrijver 3
A3: 6.1 Open vragen + toelichting | C3: =Consensus!D40 -> #VALUE! | E3: =Consensus!G40 -> #VALUE! | G3: =Consensus!J40 -> #VALUE!
A4: Totaal behaalde score criterium kwaliteit: | C4: =C3 -> #VALUE! | E4: =E3 -> #VALUE! | G4: =G3 -> #VALUE!
A6: Totaal behaalde score criterium prijs: | C6: 0 | E6: 0 | G6: 0
A8: FICTIEVE EINDWAARDE (prijs + kwaliteit): | C8: =C4+C6 -> #VALUE! | E8: =E4+E6 -> #VALUE! | G8: =G4+G6 -> #VALUE!
