Workbook
Name SCORE: 'Beoordelen kwaliteit'!$A$19:$A$19

Sheet Beoordelen kwaliteit
A1: OPEN VRAGEN EN INTERVIEW VRAGEN AERB-I26
A3: 7.1.1 DUURZAAMHEID EN MVO
A4: Zie bijlage 7 'kwaliteit'.
A5: 7.1.2 PLAN VAN AANPAK AANVANG DIENSTVERLENING
A6: Zie bijlage 7 'kwaliteit'.
A7: 7.1.3 CONCRETE DIENSTVERLENING
A8: Zie bijlage 7 'kwaliteit'.
A9: 7.1.4 CONCRETE DIENSTEN BIJ PROJECTEN EN WIJZIGINGEN
A10: Zie bijlage 7 'kwaliteit'.
A11: 7.1.5 CONCRETE DIENSTEN PRO-ACTIEF ADVISEREN
A12: Zie bijlage 7 'kwaliteit'.
A13: 7.1.6 KWALITTEIT PROCES/VEILIGHEID/AVG/CERTIFICERING
... A25: SCORE

Sheet Informatiemanager
A1: Beoordelaar 1: INFORMATIEMANAGER | C1: Inschrijver 1 | F1: Inschrijver 2 | I1: Inschrijver 3
A2: Open vragen
A3: =_xlfn.SINGLE('Beoordelen kwaliteit'!A3) -> 7.1.1 DUURZAAMHEID EN MVO | C3: SCORE | F3: SCORE | I3: SCORE
A4: =_xlfn.SINGLE('Beoordelen kwaliteit'!A4) -> Zie bijlage 7 'kwaliteit'. | C4: <MOTIVATIE> | F4: <MOTIVATIE> | I4: <MOTIVATIE>
A5: =_xlfn.SINGLE('Beoordelen kwaliteit'!A5) -> 7.1.2 PLAN VAN AANPAK AANVANG DIENSTVERLENING | C5: SCORE | F5: SCORE | I5: SCORE
A6: =_xlfn.SINGLE('Beoordelen kwaliteit'!A6) -> Zie bijlage 7 'kwaliteit'. | C6: <MOTIVATIE> | F6: <MOTIVATIE> | I6: <MOTIVATIE>
A7: ='Beoordelen kwaliteit'!A7 -> 7.1.3 CONCRETE DIENSTVERLENING | C7: SCORE | F7: SCORE | I7: SCORE
A8: ='Beoordelen kwaliteit'!A8 -> Zie bijlage 7 'kwaliteit'. | C8: <MOTIVATIE> | F8: <MOTIVATIE> | I8: <MOTIVATIE>
A9: ='Beoordelen kwaliteit'!A9 -> 7.1.4 CONCRETE DIENSTEN BIJ PROJECTEN EN WIJZIGINGEN | C9: SCORE | F9: SCORE | I9: SCORE
A10: ='Beoordelen kwaliteit'!A10 -> Zie bijlage 7 'kwaliteit'. | C10: <MOTIVATIE> | F10: <MOTIVATIE> | I10: <MOTIVATIE>
A11: ='Beoordelen kwaliteit'!A11 -> 7.1.5 CONCRETE DIENSTEN PRO-ACTIEF ADVISEREN | C11: SCORE | F11: SCORE | I11: SCORE
A12: ='Beoordelen kwaliteit'!A12 -> Zie bijlage 7 'kwaliteit'. | C12: <MOTIVATIE> | F12: <MOTIVATIE> | I12: <MOTIVATIE>
A13: ='Beoordelen kwaliteit'!A13 -> 7.1.6 KWALITTEIT PROCES/VEILIGHEID/AVG/CERTIFICERING | C13: SCORE | F13: SCORE | I13: SCORE
A14: ='Beoordelen kwaliteit'!A14 -> Zie bijlage 7 'kwaliteit'. | C14: <MOTIVATIE> | F14: <MOTIVATIE> | I14: <MOTIVATIE>
A15: Interview
A16: ='Beoordelen kwaliteit'!A15 -> 7.3 INTERVIEW VRAAG 1 | C16: SCORE | F16: SCORE | I16: SCORE
A17: ='Beoordelen kwaliteit'!A16 -> Zie bijlage 7 'kwaliteit'. | C17: <MOTIVATIE> | F17: <MOTIVATIE> | I17: <MOTIVATIE>
A18: ='Beoordelen kwaliteit'!A17 -> 7.3 INTERVIEW VRAAG 2 | C18: SCORE | F18: SCORE | I18: SCORE
A19: ='Beoordelen kwaliteit'!A18 -> Zie bijlage 7 'kwaliteit'. | C19: <MOTIVATIE> | F19: <MOTIVATIE> | I19: <MOTIVATIE>

Sheet Beheerder ICT en IAM
A1: Beoordelaar 2: BEHEERDER ICT EN IAM | C1: Inschrijver 1 | F1: Inschrijver 2 | I1: Inschrijver 3
A2: Open vragen
A3: =_xlfn.SINGLE('Beoordelen kwaliteit'!A3) -> 7.1.1 DUURZAAMHEID EN MVO | C3: SCORE | F3: SCORE | I3: SCORE
A4: =_xlfn.SINGLE('Beoordelen kwaliteit'!A4) -> Zie bijlage 7 'kwaliteit'. | C4: <MOTIVATIE> | F4: <MOTIVATIE> | I4: <MOTIVATIE>
A5: =_xlfn.SINGLE('Beoordelen kwaliteit'!A5) -> 7.1.2 PLAN VAN AANPAK AANVANG DIENSTVERLENING | C5: SCORE | F5: SCORE | I5: SCORE
A6: =_xlfn.SINGLE('Beoordelen kwaliteit'!A6) -> Zie bijlage 7 'kwaliteit'. | C6: <MOTIVATIE> | F6: <MOTIVATIE> | I6: <MOTIVATIE>
A7: ='Beoordelen kwaliteit'!A7 -> 7.1.3 CONCRETE DIENSTVERLENING | C7: SCORE | F7: SCORE | I7: SCORE
A8: ='Beoordelen kwaliteit'!A8 -> Zie bijlage 7 'kwaliteit'. | C8: <MOTIVATIE> | F8: <MOTIVATIE> | I8: <MOTIVATIE>
A9: ='Beoordelen kwaliteit'!A9 -> 7.1.4 CONCRETE DIENSTEN BIJ PROJECTEN EN WIJZIGINGEN | C9: SCORE | F9: SCORE | I9: SCORE
A10: ='Beoordelen kwaliteit'!A10 -> Zie bijlage 7 'kwaliteit'. | C10: <MOTIVATIE> | F10: <MOTIVATIE> | I10: <MOTIVATIE>
A11: ='Beoordelen kwaliteit'!A11 -> 7.1.5 CONCRETE DIENSTEN PRO-ACTIEF ADVISEREN | C11: SCORE | F11: SCORE | I11: SCORE
A12: ='Beoordelen kwaliteit'!A12 -> Zie bijlage 7 'kwaliteit'. | C12: <MOTIVATIE> | F12: <MOTIVATIE> | I12: <MOTIVATIE>
A13: ='Beoordelen kwaliteit'!A13 -> 7.1.6 KWALITTEIT PROCES/VEILIGHEID/AVG/CERTIFICERING | C13: SCORE | F13: SCORE | I13: SCORE
A14: ='Beoordelen kwaliteit'!A14 -> Zie bijlage 7 'kwaliteit'. | C14: <MOTIVATIE> | F14: <MOTIVATIE> | I14: <MOTIVATIE>
A15: Interview
A16: ='Beoordelen kwaliteit'!A15 -> 7.3 INTERVIEW VRAAG 1 | C16: SCORE | F16: SCORE | I16: SCORE
A17: ='Beoordelen kwaliteit'!A16 -> Zie bijlage 7 'kwaliteit'. | C17: <MOTIVATIE> | F17: <MOTIVATIE> | I17: <MOTIVATIE>
A18: ='Beoordelen kwaliteit'!A17 -> 7.3 INTERVIEW VRAAG 2 | C18: SCORE | F18: SCORE | I18: SCORE
A19: ='Beoordelen kwaliteit'!A18 -> Zie bijlage 7 'kwaliteit'. | C19: <MOTIVATIE> | F19: <MOTIVATIE> | I19: <MOTIVATIE>

Sheet Productowner IAM
A1: Beoordelaar 3: PRODUCTOWNER IAM EN INTERGRATIE-PLATFORM | C1: Inschrijver 1 | F1: Inschrijver 2 | I1: Inschrijver 3
A2: Open vragen
A3: =_xlfn.SINGLE('Beoordelen kwaliteit'!A3) -> 7.1.1 DUURZAAMHEID EN MVO | C3: SCORE | F3: SCORE | I3: SCORE
A4: =_xlfn.SINGLE('Beoordelen kwaliteit'!A4) -> Zie bijlage 7 'kwaliteit'. | C4: <MOTIVATIE> | F4: <MOTIVATIE> | I4: <MOTIVATIE>
A5: =_xlfn.SINGLE('Beoordelen kwaliteit'!A5) -> 7.1.2 PLAN VAN AANPAK AANVANG DIENSTVERLENING | C5: SCORE | F5: SCORE | I5: SCORE
A6: =_xlfn.SINGLE('Beoordelen kwaliteit'!A6) -> Zie bijlage 7 'kwaliteit'. | C6: <MOTIVATIE> | F6: <MOTIVATIE> | I6: <MOTIVATIE>
A7: ='Beoordelen kwaliteit'!A7 -> 7.1.3 CONCRETE DIENSTVERLENING | C7: SCORE | F7: SCORE | I7: SCORE
A8: ='Beoordelen kwaliteit'!A8 -> Zie bijlage 7 'kwaliteit'. | C8: <MOTIVATIE> | F8: <MOTIVATIE> | I8: <MOTIVATIE>
A9: ='Beoordelen kwaliteit'!A9 -> 7.1.4 CONCRETE DIENSTEN BIJ PROJECTEN EN WIJZIGINGEN | C9: SCORE | F9: SCORE | I9: SCORE
A10: ='Beoordelen kwaliteit'!A10 -> Zie bijlage 7 'kwaliteit'. | C10: <MOTIVATIE> | F10: <MOTIVATIE> | I10: <MOTIVATIE>
A11: ='Beoordelen kwaliteit'!A11 -> 7.1.5 CONCRETE DIENSTEN PRO-ACTIEF ADVISEREN | C11: SCORE | F11: SCORE | I11: SCORE
A12: ='Beoordelen kwaliteit'!A12 -> Zie bijlage 7 'kwaliteit'. | C12: <MOTIVATIE> | F12: <MOTIVATIE> | I12: <MOTIVATIE>
A13: ='Beoordelen kwaliteit'!A13 -> 7.1.6 KWALITTEIT PROCES/VEILIGHEID/AVG/CERTIFICERING | C13: SCORE | F13: SCORE | I13: SCORE
A14: ='Beoordelen kwaliteit'!A14 -> Zie bijlage 7 'kwaliteit'. | C14: <MOTIVATIE> | F14: <MOTIVATIE> | I14: <MOTIVATIE>
A15: Interview
A16: ='Beoordelen kwaliteit'!A15 -> 7.3 INTERVIEW VRAAG 1 | C16: SCORE | F16: SCORE | I16: SCORE
A17: ='Beoordelen kwaliteit'!A18 -> Zie bijlage 7 'kwaliteit'. | C17: <MOTIVATIE> | F17: <MOTIVATIE> | I17: <MOTIVATIE>
A18: ='Beoordelen kwaliteit'!A17 -> 7.3 INTERVIEW VRAAG 2 | C18: SCORE | F18: SCORE | I18: SCORE
A19: ='Beoordelen kwaliteit'!A18 -> Zie bijlage 7 'kwaliteit'. | C19: <MOTIVATIE> | F19: <MOTIVATIE> | I19: <MOTIVATIE>

Sheet Projectmanager
A1: Beoordelaar 4: PROJECTMANAGER | C1: Inschrijver 1 | F1: Inschrijver 2 | I1: Inschrijver 3
A2: Open vragen
A3: =_xlfn.SINGLE('Beoordelen kwaliteit'!A3) -> 7.1.1 DUURZAAMHEID EN MVO | C3: SCORE | F3: SCORE | I3: SCORE
A4: =_xlfn.SINGLE('Beoordelen kwaliteit'!A4) -> Zie bijlage 7 'kwaliteit'. | C4: <MOTIVATIE> | F4: <MOTIVATIE> | I4: <MOTIVATIE>
A5: =_xlfn.SINGLE('Beoordelen kwaliteit'!A5) -> 7.1.2 PLAN VAN AANPAK AANVANG DIENSTVERLENING | C5: SCORE | F5: SCORE | I5: SCORE
A6: =_xlfn.SINGLE('Beoordelen kwaliteit'!A6) -> Zie bijlage 7 'kwaliteit'. | C6: <MOTIVATIE> | F6: <MOTIVATIE> | I6: <MOTIVATIE>
A7: ='Beoordelen kwaliteit'!A7 -> 7.1.3 CONCRETE DIENSTVERLENING | C7: SCORE | F7: SCORE | I7: SCORE
A8: ='Beoordelen kwaliteit'!A8 -> Zie bijlage 7 'kwaliteit'. | C8: <MOTIVATIE> | F8: <MOTIVATIE> | I8: <MOTIVATIE>
A9: ='Beoordelen kwaliteit'!A9 -> 7.1.4 CONCRETE DIENSTEN BIJ PROJECTEN EN WIJZIGINGEN | C9: SCORE | F9: SCORE | I9: SCORE
A10: ='Beoordelen kwaliteit'!A10 -> Zie bijlage 7 'kwaliteit'. | C10: <MOTIVATIE> | F10: <MOTIVATIE> | I10: <MOTIVATIE>
A11: ='Beoordelen kwaliteit'!A11 -> 7.1.5 CONCRETE DIENSTEN PRO-ACTIEF ADVISEREN | C11: SCORE | F11: SCORE | I11: SCORE
A12: ='Beoordelen kwaliteit'!A12 -> Zie bijlage 7 'kwaliteit'. | C12: <MOTIVATIE> | F12: <MOTIVATIE> | I12: <MOTIVATIE>
A13: ='Beoordelen kwaliteit'!A13 -> 7.1.6 KWALITTEIT PROCES/VEILIGHEID/AVG/CERTIFICERING | C13: SCORE | F13: SCORE | I13: SCORE
A14: ='Beoordelen kwaliteit'!A14 -> Zie bijlage 7 'kwaliteit'. | C14: <MOTIVATIE> | F14: <MOTIVATIE> | I14: <MOTIVATIE>
A15: Interview
A16: ='Beoordelen kwaliteit'!A15 -> 7.3 INTERVIEW VRAAG 1 | C16: SCORE | F16: SCORE | I16: SCORE
A17: ='Beoordelen kwaliteit'!A18 -> Zie bijlage 7 'kwaliteit'. | C17: <MOTIVATIE> | F17: <MOTIVATIE> | I17: <MOTIVATIE>
A18: ='Beoordelen kwaliteit'!A17 -> 7.3 INTERVIEW VRAAG 2 | C18: SCORE | F18: SCORE | I18: SCORE
A19: ='Beoordelen kwaliteit'!A18 -> Zie bijlage 7 'kwaliteit'. | C19: <MOTIVATIE> | F19: <MOTIVATIE> | I19: <MOTIVATIE>

Sheet Consensus
A1: Totaalwaardes | D1: =Informatiemanager!C1 -> Inschrijver 1 | G1: =Informatiemanager!F1 -> Inschrijver 2 | J1: =Informatiemanager!I1 -> Inschrijver 3
A2: Open vragen
A3: ='Beoordelen kwaliteit'!A3 -> 7.1.1 DUURZAAMHEID EN MVO | B3: Informatiemanager | D3: =Informatiemanager!C3 -> SCORE | E3: <<motivatie CONSENSUS>> | G3: =Informatiemanager!F3 -> SCORE | H3: <<motivatie CONSENSUS>> | J3: =Informatiemanager!I3 -> SCORE | K3: <<motivatie CONSENSUS>>
B4: Beheerder ICT en IAM | D4: ='Beheerder ICT en IAM'!C3 -> SCORE | G4: ='Beheerder ICT en IAM'!F3 -> SCORE | J4: ='Beheerder ICT en IAM'!I3 -> SCORE
B5: Productowner IAM | D5: ='Productowner IAM'!C3 -> SCORE | G5: ='Productowner IAM'!F3 -> SCORE | J5: ='Productowner IAM'!I3 -> SCORE
B6: Projectmanager | D6: =Projectmanager!C3 -> SCORE | G6: =Projectmanager!F3 -> SCORE | J6: =Projectmanager!I3 -> SCORE
A7: Consensus | D7: SCORE | G7: SCORE | J7: SCORE
D8: =IF(D7="Uitmuntend","€ 7.500,00",IF(D7="Goed","€ 6.375,00",IF(D7="Voldoende","€ 0",IF(D7="Matig"," - € 22.500,00",IF(D7="Onvoldoende","-45.000,00"," "))))) | G8: =IF(G7="Uitmuntend","€ 7.500,00",IF(G7="Goed","€ 6.375,00",IF(G7="Voldoende","€ 0",IF(G7="Matig"," - € 22.500,00",IF(G7="Onvoldoende","-45.000,00"," "))))) | J8: =IF(J7="Uitmuntend","€ 7.500,00",IF(J7="Goed","€ 6.375,00",IF(J7="Voldoende","€ 0",IF(J7="Matig"," - € 22.500,00",IF(J7="Onvoldoende","-45.000,00"," ")))))
A9: ='Beoordelen kwaliteit'!A5 -> 7.1.2 PLAN VAN AANPAK AANVANG DIENSTVERLENING | B9: Informatiemanager | D9: =Informatiemanager!C5 -> SCORE | E9: <<motivatie CONSENSUS>> | G9: =Informatiemanager!F5 -> SCORE | H9: <<motivatie CONSENSUS>> | J9: =Informatiemanager!I5 -> SCORE | K9: <<motivatie CONSENSUS>>
B10: Beheerder ICT en IAM | D10: ='Beheerder ICT en IAM'!C5 -> SCORE | G10: ='Beheerder ICT en IAM'!F5 -> SCORE | J10: ='Beheerder ICT en IAM'!I5 -> SCORE
B11: Productowner IAM | D11: ='Productowner IAM'!C5 -> SCORE | G11: ='Productowner IAM'!F5 -> SCORE | J11: ='Productowner IAM'!I5 -> SCORE
B12: Projectmanager | D12: =Projectmanager!C5 -> SCORE | G12: =Projectmanager!F5 -> SCORE | J12: =Projectmanager!I5 -> SCORE
A13: Consensus | D13: SCORE | G13: SCORE | J13: SCORE
D14: =IF(D13="Uitmuntend","€ 15.000,00",IF(D13="Goed","€ 12.750,00",IF(D13="Voldoende","€ 0",IF(D13="Matig"," - € 45.000,00",IF(D13="Onvoldoende","KO"," "))))) | G14: =IF(G13="Uitmuntend","€ 15.000,00",IF(G13="Goed","€ 12.750,00",IF(G13="Voldoende","€ 0",IF(G13="Matig"," - € 45.000,00",IF(G13="Onvoldoende","KO"," "))))) | J14: =IF(J13="Uitmuntend","€ 15.000,00",IF(J13="Goed","€ 12.750,00",IF(J13="Voldoende","€ 0",IF(J13="Matig"," - € 45.000,00",IF(J13="Onvoldoende","KO"," ")))))
A15: ='Beoordelen kwaliteit'!A7 -> 7.1.3 CONCRETE DIENSTVERLENING | B15: Informatiemanager | D15: =Informatiemanager!C7 -> SCORE | E15: <<motivatie CONSENSUS>> | G15: =Informatiemanager!F7 -> SCORE | H15: <<motivatie CONSENSUS>> | J15: =Informatiemanager!I7 -> SCORE | K15: <<motivatie CONSENSUS>>
B16: Beheerder ICT en IAM | D16: ='Beheerder ICT en IAM'!C7 -> SCORE | G16: ='Beheerder ICT en IAM'!F7 -> SCORE | J16: ='Beheerder ICT en IAM'!I7 -> SCORE
B17: Productowner IAM | D17: ='Productowner IAM'!C7 -> SCORE | G17: ='Productowner IAM'!F7 -> SCORE | J17: ='Productowner IAM'!I7 -> SCORE
B18: Projectmanager | D18: =Projectmanager!C7 -> SCORE | G18: =Projectmanager!F7 -> SCORE | J18: =Projectmanager!I7 -> SCORE
A19: Consensus | D19: SCORE | G19: SCORE | J19: SCORE
D20: =IF(D19="Uitmuntend","€ 22.500,00",IF(D19="Goed","€ 19.125,00",IF(D19="Voldoende","€ 0",IF(D19="Matig"," - € 67.500,00",IF(D19="Onvoldoende","KO"," "))))) | G20: =IF(G19="Uitmuntend","€ 22.500,00",IF(G19="Goed","€ 19.125,00",IF(G19="Voldoende","€ 0",IF(G19="Matig"," - € 67.500,00",IF(G19="Onvoldoende","KO"," "))))) | J20: =IF(J19="Uitmuntend","€ 22.500,00",IF(J19="Goed","€ 19.125,00",IF(J19="Voldoende","€ 0",IF(J19="Matig"," - € 67.500,00",IF(J19="Onvoldoende","KO"," ")))))
A21: ='Beoordelen kwaliteit'!A9 -> 7.1.4 CONCRETE DIENSTEN BIJ PROJECTEN EN WIJZIGINGEN | B21: Informatiemanager | D21: =Informatiemanager!C9 -> SCORE | E21: <<motivatie CONSENSUS>> | G21: =Informatiemanager!F9 -> SCORE | H21: <<motivatie CONSENSUS>> | J21: =Informatiemanager!I9 -> SCORE | K21: <<motivatie CONSENSUS>>
B22: Beheerder ICT en IAM | D22: ='Beheerder ICT en IAM'!C9 -> SCORE | G22: ='Beheerder ICT en IAM'!F9 -> SCORE | J22: ='Beheerder ICT en IAM'!I9 -> SCORE
B23: Productowner IAM | D23: ='Productowner IAM'!C9 -> SCORE | G23: ='Productowner IAM'!F9 -> SCORE | J23: ='Productowner IAM'!I9 -> SCORE
B24: Projectmanager | D24: =Projectmanager!C9 -> SCORE | G24: =Projectmanager!F9 -> SCORE | J24: =Projectmanager!I9 -> SCORE
A25: Consensus | D25: SCORE | G25: SCORE | J25: SCORE
D26: =IF(D25="Uitmuntend","€ 30.000,00",IF(D25="Goed","€ 25.500,00",IF(D25="Voldoende","€ 0",IF(D25="Matig"," - € 90.000,00",IF(D25="Onvoldoende","KO"," "))))) | G26: =IF(G25="Uitmuntend","€ 30.000,00",IF(G25="Goed","€ 25.500,00",IF(G25="Voldoende","€ 0",IF(G25="Matig"," - € 90.000,00",IF(G25="Onvoldoende","KO"," "))))) | J26: =IF(J25="Uitmuntend","€ 30.000,00",IF(J25="Goed","€ 25.500,00",IF(J25="Voldoende","€ 0",IF(J25="Matig"," - € 90.000,00",IF(J25="Onvoldoende","KO"," ")))))
A27: ='Beoordelen kwaliteit'!A11 -> 7.1.5 CONCRETE DIENSTEN PRO-ACTIEF ADVISEREN | B27: Informatiemanager | D27: =Informatiemanager!C11 -> SCORE | E27: <<motivatie CONSENSUS>> | G27: =Informatiemanager!F11 -> SCORE | H27: <<motivatie CONSENSUS>> | J27: =Informatiemanager!I11 -> SCORE | K27: <<motivatie CONSENSUS>>
B28: Beheerder ICT en IAM | D28: ='Beheerder ICT en IAM'!C11 -> SCORE | G28: ='Beheerder ICT en IAM'!F11 -> SCORE | J28: ='Beheerder ICT en IAM'!I11 -> SCORE
B29: Productowner IAM | D29: ='Productowner IAM'!C11 -> SCORE | G29: ='Productowner IAM'!F11 -> SCORE | J29: ='Productowner IAM'!I11 -> SCORE
B30: Projectmanager | D30: =Projectmanager!C11 -> SCORE | G30: =Projectmanager!F11 -> SCORE | J30: =Projectmanager!I11 -> SCORE
A31: Consensus | D31: SCORE | G31: SCORE | J31: SCORE
D32: =IF(D31="Uitmuntend","€ 30.000,00",IF(D31="Goed","€ 25.500,00",IF(D31="Voldoende","€ 0",IF(D31="Matig"," - € 90.000,00",IF(D31="Onvoldoende","KO"," "))))) | G32: =IF(G31="Uitmuntend","€ 30.000,00",IF(G31="Goed","€ 25.500,00",IF(G31="Voldoende","€ 0",IF(G31="Matig"," - € 90.000,00",IF(G31="Onvoldoende","KO"," "))))) | J32: =IF(J31="Uitmuntend","€ 30.000,00",IF(J31="Goed","€ 25.500,00",IF(J31="Voldoende","€ 0",IF(J31="Matig"," - € 90.000,00",IF(J31="Onvoldoende","KO"," ")))))
A33: ='Beoordelen kwaliteit'!A13 -> 7.1.6 KWALITTEIT PROCES/VEILIGHEID/AVG/CERTIFICERING | B33: Informatiemanager | D33: =Informatiemanager!C13 -> SCORE | E33: <<motivatie CONSENSUS>> | G33: =Informatiemanager!F13 -> SCORE | H33: <<motivatie CONSENSUS>> | J33: =Informatiemanager!I13 -> SCORE | K33: <<motivatie CONSENSUS>>
B34: Beheerder ICT en IAM | D34: ='Beheerder ICT en IAM'!C13 -> SCORE | G34: ='Beheerder ICT en IAM'!F13 -> SCORE | J34: ='Beheerder ICT en IAM'!I13 -> SCORE
B35: Productowner IAM | D35: ='Productowner IAM'!C13 -> SCORE | G35: ='Productowner IAM'!F13 -> SCORE | J35: ='Productowner IAM'!I13 -> SCORE
B36: Projectmanager | D36: =Projectmanager!C13 -> SCORE | G36: =Projectmanager!F13 -> SCORE | J36: =Projectmanager!I13 -> SCORE
A37: Consensus | D37: SCORE | G37: SCORE | J37: SCORE
D38: =IF(D37="Uitmuntend","€ 15.000,00",IF(D37="Goed","€ 12.750,00",IF(D37="Voldoende","€ 0",IF(D37="Matig"," - € 45.000,00",IF(D37="Onvoldoende","KO"," "))))) | G38: =IF(G37="Uitmuntend","€ 15.000,00",IF(G37="Goed","€ 12.750,00",IF(G37="Voldoende","€ 0",IF(G37="Matig"," - € 45.000,00",IF(G37="Onvoldoende","KO"," "))))) | J38: =IF(J37="Uitmuntend","€ 15.000,00",IF(J37="Goed","€ 12.750,00",IF(J37="Voldoende","€ 0",IF(J37="Matig"," - € 45.000,00",IF(J37="Onvoldoende","KO"," ")))))
A39: Interview
A40: ='Beoordelen kwaliteit'!A15 -> 7.3 INTERVIEW VRAAG 1 | B40: Informatiemanager | D40: =Informatiemanager!C16 -> SCORE | E40: <<motivatie CONSENSUS>> | G40: =Informatiemanager!F16 -> SCORE | H40: <<motivatie CONSENSUS>> | J40: =Informatiemanager!I16 -> SCORE | K40: <<motivatie CONSENSUS>>
...

Sheet Eindscores
A1: Totaalwaarde criterium kwaliteit
A2: Onderdeel | C2: =Informatiemanager!C1:D1 -> Inschrijver 1 | E2: =Informatiemanager!F1 -> Inschrijver 2 | G2: =Informatiemanager!I1 -> Inschrijver 3
A3: Open vragen + toelichting en interview | C3: =Consensus!D53 -> #VALUE! | E3: =Consensus!G53 -> #VALUE! | G3: =Consensus!J53 -> #VALUE!
A4: Totaal behaalde waarde criterium kwaliteit: | C4: =C3 -> #VALUE! | E4: =E3 -> #VALUE! | G4: =G3 -> #VALUE!
A6: Totaal behaalde waarde criterium prijs: | C6: 0 | E6: 0 | G6: 0
A8: FICTIEVE EINDWAARDE (prijs -/- kwaliteit): | C8: =C6-C4 -> #VALUE! | E8: =E6-E4 -> #VALUE! | G8: =G6-G4 -> #VALUE!
