Workbook
Name SCORE: Beoordelen!$A$10:$A$14

Sheet Beoordelen
A1: Beoordeling kwaliteit GEBODEN DIGIBORDEN Wiskundeles VERSIE 11 juli 2025
A2: De werking ten behoeve van een natuurkundeles waaronder de tools voor het trekken van lijnen op het scherm gekoppeld aan het device van de docent. Deze docenten zullen met de eigen de device en software met het aangeboden digibord een proefles geven (zie bijlage 7c).
A3: Beoordelingskader geboden oplossing Wiskundeles
A4: 16. Mate van het kunnen maken van een aantekening op het digibord tijdens de les.
A5: 17. Mate van kunnen uitvoeren van de totale opgave.
A6: 18. Mate gebruik programma Phet, de line game i.r.t werking digibord.
A7: Totaalscore van de bovenstaande items (verkregen o.b.v. consensus)
A9: De afzonderlijke items zullen worden beoordeeld met:
A10: Beter | B10: dan de huidige oplossing
A11: Vergelijkbaar | B11: met de huidige oplossing
A12: Acceptabel verbeterpunt | B12: met de huidige oplossing
A13: Onacceptabel verbeterpunt | B13: met de huidige oplossing
A14: SCORE:

Sheet Beoordelaar 1
A1: Beoordelaar 1: <<>> | C1: Inschrijver 1 | F1: Inschrijver 2 | I1: Inschrijver 3
A2: =Beoordelen!A3 -> Beoordelingskader geboden oplossing Wiskundeles | C2: Score: | F2: Score: | I2: Score:
A3: =Beoordelen!A4 -> 16. Mate van het kunnen maken van een aantekening op het digibord tijdens de les. | C3: SCORE: | F3: SCORE: | I3: SCORE:
C4: <MOTIVATIE> | F4: <MOTIVATIE> | I4: <MOTIVATIE>
A5: =Beoordelen!A5 -> 17. Mate van kunnen uitvoeren van de totale opgave. | C5: SCORE: | F5: SCORE: | I5: SCORE:
C6: <MOTIVATIE> | F6: <MOTIVATIE> | I6: <MOTIVATIE>
A7: =Beoordelen!A6 -> 18. Mate gebruik programma Phet, de line game i.r.t werking digibord. | C7: SCORE: | F7: SCORE: | I7: SCORE:
C8: <MOTIVATIE> | F8: <MOTIVATIE> | I8: <MOTIVATIE>

Sheet Beoordelaar 2
A1: Beoordelaar 2: <<>> | C1: ='Beoordelaar 1'!C1:D1 -> Inschrijver 1 | F1: ='Beoordelaar 1'!F1:G1 -> Inschrijver 2 | I1: ='Beoordelaar 1'!I1:J1 -> Inschrijver 3
A2: =Beoordelen!A3:A3 -> Beoordelingskader geboden oplossing Wiskundeles | C2: Score: | F2: Score: | I2: Score:
A3: =Beoordelen!A4:A4 -> 16. Mate van het kunnen maken van een aantekening op het digibord tijdens de les. | C3: SCORE | F3: SCORE | I3: SCORE
C4: <MOTIVATIE> | F4: <MOTIVATIE> | I4: <MOTIVATIE>
A5: =Beoordelen!A5 -> 17. Mate van kunnen uitvoeren van de totale opgave. | C5: SCORE | F5: SCORE | I5: SCORE
C6: <MOTIVATIE> | F6: <MOTIVATIE> | I6: <MOTIVATIE>
A7: =Beoordelen!A6 -> 18. Mate gebruik programma Phet, de line game i.r.t werking digibord. | C7: SCORE | F7: SCORE | I7: SCORE
C8: <MOTIVATIE> | F8: <MOTIVATIE> | I8: <MOTIVATIE>

Sheet Beoordelaar 3
A1: Beoordelaar 3: <<>> | C1: ='Beoordelaar 1'!C1:D1 -> Inschrijver 1 | F1: ='Beoordelaar 1'!F1:G1 -> Inschrijver 2 | I1: ='Beoordelaar 1'!I1:J1 -> Inschrijver 3
A2: =Beoordelen!A3:A3 -> Beoordelingskader geboden oplossing Wiskundeles | C2: Score: | F2: Score: | I2: Score:
A3: =Beoordelen!A4:A4 -> 16. Mate van het kunnen maken van een aantekening op het digibord tijdens de les. | C3: SCORE | F3: SCORE | I3: SCORE
C4: <MOTIVATIE> | F4: <MOTIVATIE> | I4: <MOTIVATIE>
A5: =Beoordelen!A5:A5 -> 17. Mate van kunnen uitvoeren van de totale opgave. | C5: SCORE: | F5: SCORE | I5: SCORE
C6: <MOTIVATIE> | F6: <MOTIVATIE> | I6: <MOTIVATIE>
A7: =Beoordelen!A6:A6 -> 18. Mate gebruik programma Phet, de line game i.r.t werking digibord. | C7: SCORE: | F7: SCORE | I7: SCORE:
C8: <MOTIVATIE> | F8: <MOTIVATIE> | I8: <MOTIVATIE>

Sheet Eindscores
A1: Totaalwaardes GEBODEN AUDIOVISUELE OPLOSSING Wiskundeles
D2: ='Beoordelaar 1'!C1 -> Inschrijver 1 | E2: Motivatie consensus | G2: ='Beoordelaar 1'!F1 -> Inschrijver 2 | H2: Motivatie consensus | J2: ='Beoordelaar 1'!I1 -> Inschrijver 3 | K2: Motivatie consensus
A3: =Beoordelen!A4 -> 16. Mate van het kunnen maken van een aantekening op het digibord tijdens de les. | B3: Beoordelaar 1 | D3: ='Beoordelaar 1'!C3 -> SCORE: | E3: <<MOTIVATIE>> | G3: ='Beoordelaar 1'!F3 -> SCORE: | H3: <<MOTIVATIE>> | J3: ='Beoordelaar 1'!I3 -> SCORE: | K3: <<MOTIVATIE>>
B4: Beoordelaar 2 | D4: ='Beoordelaar 2'!C3 -> SCORE | G4: ='Beoordelaar 2'!F3 -> SCORE | J4: ='Beoordelaar 2'!I3 -> SCORE
B5: Beoordelaar 3 | D5: ='Beoordelaar 3'!C3 -> SCORE | G5: ='Beoordelaar 3'!F3 -> SCORE | J5: ='Beoordelaar 3'!I3 -> SCORE
A6: Consensus | D6: SCORE: | G6: SCORE: | J6: SCORE:
D7: =IF(D6="Beter","€12.000",IF(D6="Vergelijkbaar","€ 0",IF(D6="Acceptabel verbeterpunt","-€ 48.000",IF(D6="Onacceptabel verbeterpunt","UITSLUITING"," ")))) | G7: =IF(G6="Beter","€12.000",IF(G6="Vergelijkbaar","€ 0",IF(G6="Acceptabel verbeterpunt","-€ 48.000",IF(G6="Onacceptabel verbeterpunt","UITSLUITING"," ")))) | J7: =IF(J6="Beter","€12.000",IF(J6="Vergelijkbaar","€ 0",IF(J6="Acceptabel verbeterpunt","-€ 48.000",IF(J6="Onacceptabel verbeterpunt","UITSLUITING"," "))))
A8: =Beoordelen!A5 -> 17. Mate van kunnen uitvoeren van de totale opgave. | B8: Beoordelaar 1 | D8: ='Beoordelaar 1'!C5 -> SCORE: | E8: <<MOTIVATIE>> | G8: ='Beoordelaar 1'!F5 -> SCORE: | H8: <<MOTIVATIE>> | J8: ='Beoordelaar 1'!I5 -> SCORE: | K8: <<MOTIVATIE>>
B9: Beoordelaar 2 | D9: ='Beoordelaar 2'!C5 -> SCORE | G9: ='Beoordelaar 2'!F5 -> SCORE | J9: ='Beoordelaar 2'!I5 -> SCORE
B10: Beoordelaar 3 | D10: ='Beoordelaar 3'!C5 -> SCORE: | G10: ='Beoordelaar 3'!F5 -> SCORE | J10: ='Beoordelaar 3'!I5 -> SCORE
A11: Consensus | D11: SCORE: | G11: SCORE: | J11: SCORE:
D12: =IF(D11="Beter","€12.000",IF(D11="Vergelijkbaar","€ 0",IF(D11="Acceptabel verbeterpunt","-€ 48.000",IF(D11="Onacceptabel verbeterpunt","UITSLUITING"," ")))) | G12: =IF(G11="Beter","€12.000",IF(G11="Vergelijkbaar","€ 0",IF(G11="Acceptabel verbeterpunt","-€ 48.000",IF(G11="Onacceptabel verbeterpunt","UITSLUITING"," ")))) | J12: =IF(J11="Beter","€12.000",IF(J11="Vergelijkbaar","€ 0",IF(J11="Acceptabel verbeterpunt","-€ 48.000",IF(J11="Onacceptabel verbeterpunt","UITSLUITING"," "))))
A13: =Beoordelen!A6 -> 18. Mate gebruik programma Phet, de line game i.r.t werking digibord. | B13: Beoordelaar 1 | D13: ='Beoordelaar 1'!C7 -> SCORE: | E13: <<MOTIVATIE>> | G13: ='Beoordelaar 1'!F7 -> SCORE: | H13: <<MOTIVATIE>> | J13: ='Beoordelaar 1'!I7 -> SCORE: | K13: <<MOTIVATIE>>
B14: Beoordelaar 2 | D14: ='Beoordelaar 2'!C7 -> SCORE | G14: ='Beoordelaar 2'!F7 -> SCORE | J14: ='Beoordelaar 2'!I7 -> SCORE
B15: Beoordelaar 3 | D15: ='Beoordelaar 3'!C7 -> SCORE: | G15: ='Beoordelaar 3'!F7 -> SCORE | J15: ='Beoordelaar 3'!I7 -> SCORE:
A16: Consensus | D16: SCORE: | G16: SCORE: | J16: SCORE:
D17: =IF(D16="Beter","€ 16.000",IF(D16="Vergelijkbaar","€ 0",IF(D16="Acceptabel verbeterpunt","-€ 64.000",IF(D16="Onacceptabel verbeterpunt","UITSLUITING"," ")))) | G17: =IF(G16="Beter","€ 16.000",IF(G16="Vergelijkbaar","€ 0",IF(G16="Acceptabel verbeterpunt","-€ 64.000",IF(G16="Onacceptabel verbeterpunt","UITSLUITING"," ")))) | J17: =IF(J16="Beter","€ 16.000",IF(J16="Vergelijkbaar","€ 0",IF(J16="Acceptabel verbeterpunt","-€ 64.000",IF(J16="Onacceptabel verbeterpunt","UITSLUITING"," "))))
A18: Totaal behaalde waarde geboden oplossing: | D18: =D7+D12+D17 -> #VALUE! | G18: =G7+G12+G17 -> #VALUE! | J18: =J7+J12+J17 -> #VALUE!
