Workbook
Name SCORE: 'Proefopstelling aangeboden digi'!$A$19:$A$23

Sheet Proefopstelling aangeboden digi
A1: Beoordeling kwaliteit AANGEBODEN DIGIBORDEN VERSIE 11 juli 2025
A2: Uit de proefopstelling moet blijken dat de geboden oplossing minimaal kwalitatief voldoende is en geschikt voor de leslokalen en de lessen van de Opdrachtgever.
A3: Beoordelingskader aangeboden digibord
A4: 1. Eenvoud opstarten en snelheid digibord werkend gebruiken (beoordelaar sluit een eigen device (voor iedere inschrijver hetzelfde device) met de aangeboden draadloze oplossing aan en met bekabeling).
A5: 2. Werking van de digitale pen (beoordelaar schrijft en tekent op het bord).
A6: 3. Werking gumfunctie van de digitale pen.
A7: 4. Werking touch met hand/vinger (beoordelaar doet beide handelingen).
A8: 5. Werking digitaal whiteboard; schrijffunctie en eenvoud van de bediening vanaf een device (dit wordt getest binnen de whiteboardfunctionaliteit afkomstig van het eigen device).
A9: 6. Werking gumfunctie met hand/vinger (beoordelaar doet beide handelingen).
A10: 7. Werking ‘freezen’ scherm (zie ook programma van eisen) waarbij de docent nog kan werken op de eigen device.
A11: 8. Geluid (spraak en muziek) van de ingebouwde luidsprekers (spraak en muziek worden getest aan de hand van de video, de eerste 39 seconden).
A12: 9. Scherpte beeld tot 8,5 meter en invalshoeken vanuit de lessets in het lokaal (met en zonder zonlicht van buiten), voor iedere Inschrijver gelijke positie.
... A18: De afzonderlijke items zullen worden beoordeeld met:
A19: Beter | B19: dan de huidige oplossing
A20: Vergelijkbaar | B20: met de huidige oplossing
A21: Acceptabel verbeterpunt | B21: met de huidige oplossing
A22: Onacceptabel verbeterpunt | B22: met de huidige oplossing
A23: SCORE:

Sheet Beoordelaar 1
A1: Beoordelaar 1: <<>> | C1: Inschrijver 1 | F1: Inschrijver 2 | I1: Inschrijver 3
A2: ='Proefopstelling aangeboden digi'!A3 -> Beoordelingskader aangeboden digibord | C2: Score: | F2: Score: | I2: Score:
A3: ='Proefopstelling aangeboden digi'!A4 -> 1. Eenvoud opstarten en snelheid digibord werkend gebruiken (beoordelaar sluit een eigen device (voor iedere inschrijver hetzelfde device) met de aangeboden draadloze oplossing aan en met bekabeling). | C3: SCORE: | F3: SCORE: | I3: SCORE:
C4: <MOTIVATIE> | F4: <MOTIVATIE> | I4: <MOTIVATIE>
A5: ='Proefopstelling aangeboden digi'!A5 -> 2. Werking van de digitale pen (beoordelaar schrijft en tekent op het bord). | C5: SCORE: | F5: SCORE: | I5: SCORE:
C6: <MOTIVATIE> | F6: <MOTIVATIE> | I6: <MOTIVATIE>
A7: ='Proefopstelling aangeboden digi'!A6 -> 3. Werking gumfunctie van de digitale pen. | C7: SCORE: | F7: SCORE: | I7: SCORE:
C8: <MOTIVATIE> | F8: <MOTIVATIE> | I8: <MOTIVATIE>
A9: ='Proefopstelling aangeboden digi'!A7 -> 4. Werking touch met hand/vinger (beoordelaar doet beide handelingen). | C9: SCORE: | F9: SCORE: | I9: SCORE:
C10: <MOTIVATIE> | F10: <MOTIVATIE> | I10: <MOTIVATIE>
A11: ='Proefopstelling aangeboden digi'!A8 -> 5. Werking digitaal whiteboard; schrijffunctie en eenvoud van de bediening vanaf een device (dit wordt getest binnen de whiteboardfunctionaliteit afkomstig van het eigen device). | C11: SCORE: | F11: SCORE: | I11: SCORE:
C12: <MOTIVATIE> | F12: <MOTIVATIE> | I12: <MOTIVATIE>
A13: ='Proefopstelling aangeboden digi'!A9 -> 6. Werking gumfunctie met hand/vinger (beoordelaar doet beide handelingen). | C13: SCORE: | F13: SCORE: | I13: SCORE:
C14: <MOTIVATIE> | F14: <MOTIVATIE> | I14: <MOTIVATIE>
A15: ='Proefopstelling aangeboden digi'!A10 -> 7. Werking ‘freezen’ scherm (zie ook programma van eisen) waarbij de docent nog kan werken op de eigen device. | C15: SCORE: | F15: SCORE: | I15: SCORE:
C16: <MOTIVATIE> | F16: <MOTIVATIE> | I16: <MOTIVATIE>
A17: ='Proefopstelling aangeboden digi'!A11 -> 8. Geluid (spraak en muziek) van de ingebouwde luidsprekers (spraak en muziek worden getest aan de hand van de video, de eerste 39 seconden). | C17: SCORE: | F17: SCORE: | I17: SCORE:
C18: <MOTIVATIE> | F18: <MOTIVATIE> | I18: <MOTIVATIE>
A19: ='Proefopstelling aangeboden digi'!A12 -> 9. Scherpte beeld tot 8,5 meter en invalshoeken vanuit de lessets in het lokaal (met en zonder zonlicht van buiten), voor iedere Inschrijver gelijke positie. | C19: SCORE: | F19: SCORE: | I19: SCORE:
C20: <MOTIVATIE> | F20: <MOTIVATIE> | I20: <MOTIVATIE>
A21: ='Proefopstelling aangeboden digi'!A13 -> 10. Kwaliteit knoppen en toegankelijkheid (aan/uit/overige) door deze veelvuldig (minimaal 10x) te gebruiken.emen). | C21: SCORE: | F21: SCORE: | I21: SCORE:
C22: <MOTIVATIE> | F22: <MOTIVATIE> | I22: <MOTIVATIE>
A23: ='Proefopstelling aangeboden digi'!A14 -> 11. Kwaliteit glasplaat van het digibord, mate van gladheid (beoordelaar zal de glasplaat niet beschadigen). | C23: SCORE: | F23: SCORE: | I23: SCORE:
C24: <MOTIVATIE> | F24: <MOTIVATIE> | I24: <MOTIVATIE>
A25: ='Proefopstelling aangeboden digi'!A15 -> 12. Kwaliteit aansluitpunten toegankelijkheid (hoe makkelijk kun je erbij komen en hoe duidelijk is het welke stekker je waar in moet steken) en gebruikersvriendelijkheid (USB-A/HDMI). | C25: SCORE: | F25: SCORE: | I25: SCORE:
C26: <MOTIVATIE> | F26: <MOTIVATIE> | I26: <MOTIVATIE>
A27: ='Proefopstelling aangeboden digi'!A16 -> 13. Eenvoud en snelheid afsluiten (beoordelaar wil zo snel mogelijk afsluiten om naar een volgende les te kunnen gaan). | C27: SCORE: | F27: SCORE: | I27: SCORE:
C28: <MOTIVATIE> | F28: <MOTIVATIE> | I28: <MOTIVATIE>

Sheet Beoordelaar 2
A1: Beoordelaar 2: <<>> | C1: Inschrijver 1 | F1: Inschrijver 2 | I1: Inschrijver 3
A2: ='Proefopstelling aangeboden digi'!A3 -> Beoordelingskader aangeboden digibord | C2: Score: | F2: Score: | I2: Score:
A3: ='Proefopstelling aangeboden digi'!A4 -> 1. Eenvoud opstarten en snelheid digibord werkend gebruiken (beoordelaar sluit een eigen device (voor iedere inschrijver hetzelfde device) met de aangeboden draadloze oplossing aan en met bekabeling). | C3: SCORE: | F3: SCORE: | I3: SCORE:
C4: <MOTIVATIE> | F4: <MOTIVATIE> | I4: <MOTIVATIE>
A5: ='Proefopstelling aangeboden digi'!A5 -> 2. Werking van de digitale pen (beoordelaar schrijft en tekent op het bord). | C5: SCORE: | F5: SCORE: | I5: SCORE:
C6: <MOTIVATIE> | F6: <MOTIVATIE> | I6: <MOTIVATIE>
A7: ='Proefopstelling aangeboden digi'!A6 -> 3. Werking gumfunctie van de digitale pen. | C7: SCORE: | F7: SCORE: | I7: SCORE:
C8: <MOTIVATIE> | F8: <MOTIVATIE> | I8: <MOTIVATIE>
A9: ='Proefopstelling aangeboden digi'!A7 -> 4. Werking touch met hand/vinger (beoordelaar doet beide handelingen). | C9: SCORE: | F9: SCORE: | I9: SCORE:
C10: <MOTIVATIE> | F10: <MOTIVATIE> | I10: <MOTIVATIE>
A11: ='Proefopstelling aangeboden digi'!A8 -> 5. Werking digitaal whiteboard; schrijffunctie en eenvoud van de bediening vanaf een device (dit wordt getest binnen de whiteboardfunctionaliteit afkomstig van het eigen device). | C11: SCORE: | F11: SCORE: | I11: SCORE:
C12: <MOTIVATIE> | F12: <MOTIVATIE> | I12: <MOTIVATIE>
A13: ='Proefopstelling aangeboden digi'!A9 -> 6. Werking gumfunctie met hand/vinger (beoordelaar doet beide handelingen). | C13: SCORE: | F13: SCORE: | I13: SCORE:
C14: <MOTIVATIE> | F14: <MOTIVATIE> | I14: <MOTIVATIE>
A15: ='Proefopstelling aangeboden digi'!A10 -> 7. Werking ‘freezen’ scherm (zie ook programma van eisen) waarbij de docent nog kan werken op de eigen device. | C15: SCORE: | F15: SCORE: | I15: SCORE:
C16: <MOTIVATIE> | F16: <MOTIVATIE> | I16: <MOTIVATIE>
A17: ='Proefopstelling aangeboden digi'!A11 -> 8. Geluid (spraak en muziek) van de ingebouwde luidsprekers (spraak en muziek worden getest aan de hand van de video, de eerste 39 seconden). | C17: SCORE: | F17: SCORE: | I17: SCORE:
C18: <MOTIVATIE> | F18: <MOTIVATIE> | I18: <MOTIVATIE>
A19: ='Proefopstelling aangeboden digi'!A12 -> 9. Scherpte beeld tot 8,5 meter en invalshoeken vanuit de lessets in het lokaal (met en zonder zonlicht van buiten), voor iedere Inschrijver gelijke positie. | C19: SCORE: | F19: SCORE: | I19: SCORE:
C20: <MOTIVATIE> | F20: <MOTIVATIE> | I20: <MOTIVATIE>
A21: ='Proefopstelling aangeboden digi'!A13 -> 10. Kwaliteit knoppen en toegankelijkheid (aan/uit/overige) door deze veelvuldig (minimaal 10x) te gebruiken.emen). | C21: SCORE: | F21: SCORE: | I21: SCORE:
C22: <MOTIVATIE> | F22: <MOTIVATIE> | I22: <MOTIVATIE>
A23: ='Proefopstelling aangeboden digi'!A14 -> 11. Kwaliteit glasplaat van het digibord, mate van gladheid (beoordelaar zal de glasplaat niet beschadigen). | C23: SCORE: | F23: SCORE: | I23: SCORE:
C24: <MOTIVATIE> | F24: <MOTIVATIE> | I24: <MOTIVATIE>
A25: ='Proefopstelling aangeboden digi'!A15 -> 12. Kwaliteit aansluitpunten toegankelijkheid (hoe makkelijk kun je erbij komen en hoe duidelijk is het welke stekker je waar in moet steken) en gebruikersvriendelijkheid (USB-A/HDMI). | C25: SCORE: | F25: SCORE: | I25: SCORE:
C26: <MOTIVATIE> | F26: <MOTIVATIE> | I26: <MOTIVATIE>
A27: ='Proefopstelling aangeboden digi'!A16 -> 13. Eenvoud en snelheid afsluiten (beoordelaar wil zo snel mogelijk afsluiten om naar een volgende les te kunnen gaan). | C27: SCORE: | F27: SCORE: | I27: SCORE:
C28: <MOTIVATIE> | F28: <MOTIVATIE> | I28: <MOTIVATIE>

Sheet Beoordelaar 3
A1: Beoordelaar 3: <<>> | C1: Inschrijver 1 | F1: Inschrijver 2 | I1: Inschrijver 3
A2: ='Proefopstelling aangeboden digi'!A3 -> Beoordelingskader aangeboden digibord | C2: Score: | F2: Score: | I2: Score:
A3: ='Proefopstelling aangeboden digi'!A4 -> 1. Eenvoud opstarten en snelheid digibord werkend gebruiken (beoordelaar sluit een eigen device (voor iedere inschrijver hetzelfde device) met de aangeboden draadloze oplossing aan en met bekabeling). | C3: SCORE: | F3: SCORE: | I3: SCORE:
C4: <MOTIVATIE> | F4: <MOTIVATIE> | I4: <MOTIVATIE>
A5: ='Proefopstelling aangeboden digi'!A5 -> 2. Werking van de digitale pen (beoordelaar schrijft en tekent op het bord). | C5: SCORE: | F5: SCORE: | I5: SCORE:
C6: <MOTIVATIE> | F6: <MOTIVATIE> | I6: <MOTIVATIE>
A7: ='Proefopstelling aangeboden digi'!A6 -> 3. Werking gumfunctie van de digitale pen. | C7: SCORE: | F7: SCORE: | I7: SCORE:
C8: <MOTIVATIE> | F8: <MOTIVATIE> | I8: <MOTIVATIE>
A9: ='Proefopstelling aangeboden digi'!A7 -> 4. Werking touch met hand/vinger (beoordelaar doet beide handelingen). | C9: SCORE: | F9: SCORE: | I9: SCORE:
C10: <MOTIVATIE> | F10: <MOTIVATIE> | I10: <MOTIVATIE>
A11: ='Proefopstelling aangeboden digi'!A8 -> 5. Werking digitaal whiteboard; schrijffunctie en eenvoud van de bediening vanaf een device (dit wordt getest binnen de whiteboardfunctionaliteit afkomstig van het eigen device). | C11: SCORE: | F11: SCORE: | I11: SCORE:
C12: <MOTIVATIE> | F12: <MOTIVATIE> | I12: <MOTIVATIE>
A13: ='Proefopstelling aangeboden digi'!A9 -> 6. Werking gumfunctie met hand/vinger (beoordelaar doet beide handelingen). | C13: SCORE: | F13: SCORE: | I13: SCORE:
C14: <MOTIVATIE> | F14: <MOTIVATIE> | I14: <MOTIVATIE>
A15: ='Proefopstelling aangeboden digi'!A10 -> 7. Werking ‘freezen’ scherm (zie ook programma van eisen) waarbij de docent nog kan werken op de eigen device. | C15: SCORE: | F15: SCORE: | I15: SCORE:
C16: <MOTIVATIE> | F16: <MOTIVATIE> | I16: <MOTIVATIE>
A17: ='Proefopstelling aangeboden digi'!A11 -> 8. Geluid (spraak en muziek) van de ingebouwde luidsprekers (spraak en muziek worden getest aan de hand van de video, de eerste 39 seconden). | C17: SCORE: | F17: SCORE: | I17: SCORE:
C18: <MOTIVATIE> | F18: <MOTIVATIE> | I18: <MOTIVATIE>
A19: ='Proefopstelling aangeboden digi'!A12 -> 9. Scherpte beeld tot 8,5 meter en invalshoeken vanuit de lessets in het lokaal (met en zonder zonlicht van buiten), voor iedere Inschrijver gelijke positie. | C19: SCORE: | F19: SCORE: | I19: SCORE:
C20: <MOTIVATIE> | F20: <MOTIVATIE> | I20: <MOTIVATIE>
A21: ='Proefopstelling aangeboden digi'!A13 -> 10. Kwaliteit knoppen en toegankelijkheid (aan/uit/overige) door deze veelvuldig (minimaal 10x) te gebruiken.emen). | C21: SCORE: | F21: SCORE: | I21: SCORE:
C22: <MOTIVATIE> | F22: <MOTIVATIE> | I22: <MOTIVATIE>
A23: ='Proefopstelling aangeboden digi'!A14 -> 11. Kwaliteit glasplaat van het digibord, mate van gladheid (beoordelaar zal de glasplaat niet beschadigen). | C23: SCORE: | F23: SCORE: | I23: SCORE:
C24: <MOTIVATIE> | F24: <MOTIVATIE> | I24: <MOTIVATIE>
A25: ='Proefopstelling aangeboden digi'!A15 -> 12. Kwaliteit aansluitpunten toegankelijkheid (hoe makkelijk kun je erbij komen en hoe duidelijk is het welke stekker je waar in moet steken) en gebruikersvriendelijkheid (USB-A/HDMI). | C25: SCORE: | F25: SCORE: | I25: SCORE:
C26: <MOTIVATIE> | F26: <MOTIVATIE> | I26: <MOTIVATIE>
A27: ='Proefopstelling aangeboden digi'!A16 -> 13. Eenvoud en snelheid afsluiten (beoordelaar wil zo snel mogelijk afsluiten om naar een volgende les te kunnen gaan). | C27: SCORE: | F27: SCORE: | I27: SCORE:
C28: <MOTIVATIE> | F28: <MOTIVATIE> | I28: <MOTIVATIE>

Sheet Beoordelaar 4
A1: Beoordelaar 4: <<>> | C1: Inschrijver 1 | F1: Inschrijver 2 | I1: Inschrijver 3
A2: ='Proefopstelling aangeboden digi'!A3 -> Beoordelingskader aangeboden digibord | C2: Score: | F2: Score: | I2: Score:
A3: ='Proefopstelling aangeboden digi'!A4 -> 1. Eenvoud opstarten en snelheid digibord werkend gebruiken (beoordelaar sluit een eigen device (voor iedere inschrijver hetzelfde device) met de aangeboden draadloze oplossing aan en met bekabeling). | C3: SCORE: | F3: SCORE: | I3: SCORE:
C4: <MOTIVATIE> | F4: <MOTIVATIE> | I4: <MOTIVATIE>
A5: ='Proefopstelling aangeboden digi'!A5 -> 2. Werking van de digitale pen (beoordelaar schrijft en tekent op het bord). | C5: SCORE: | F5: SCORE: | I5: SCORE:
C6: <MOTIVATIE> | F6: <MOTIVATIE> | I6: <MOTIVATIE>
A7: ='Proefopstelling aangeboden digi'!A6 -> 3. Werking gumfunctie van de digitale pen. | C7: SCORE: | F7: SCORE: | I7: SCORE:
C8: <MOTIVATIE> | F8: <MOTIVATIE> | I8: <MOTIVATIE>
A9: ='Proefopstelling aangeboden digi'!A7 -> 4. Werking touch met hand/vinger (beoordelaar doet beide handelingen). | C9: SCORE: | F9: SCORE: | I9: SCORE:
C10: <MOTIVATIE> | F10: <MOTIVATIE> | I10: <MOTIVATIE>
A11: ='Proefopstelling aangeboden digi'!A8 -> 5. Werking digitaal whiteboard; schrijffunctie en eenvoud van de bediening vanaf een device (dit wordt getest binnen de whiteboardfunctionaliteit afkomstig van het eigen device). | C11: SCORE: | F11: SCORE: | I11: SCORE:
C12: <MOTIVATIE> | F12: <MOTIVATIE> | I12: <MOTIVATIE>
A13: ='Proefopstelling aangeboden digi'!A9 -> 6. Werking gumfunctie met hand/vinger (beoordelaar doet beide handelingen). | C13: SCORE: | F13: SCORE: | I13: SCORE:
C14: <MOTIVATIE> | F14: <MOTIVATIE> | I14: <MOTIVATIE>
A15: ='Proefopstelling aangeboden digi'!A10 -> 7. Werking ‘freezen’ scherm (zie ook programma van eisen) waarbij de docent nog kan werken op de eigen device. | C15: SCORE: | F15: SCORE: | I15: SCORE:
C16: <MOTIVATIE> | F16: <MOTIVATIE> | I16: <MOTIVATIE>
A17: ='Proefopstelling aangeboden digi'!A11 -> 8. Geluid (spraak en muziek) van de ingebouwde luidsprekers (spraak en muziek worden getest aan de hand van de video, de eerste 39 seconden). | C17: SCORE: | F17: SCORE: | I17: SCORE:
C18: <MOTIVATIE> | F18: <MOTIVATIE> | I18: <MOTIVATIE>
A19: ='Proefopstelling aangeboden digi'!A12 -> 9. Scherpte beeld tot 8,5 meter en invalshoeken vanuit de lessets in het lokaal (met en zonder zonlicht van buiten), voor iedere Inschrijver gelijke positie. | C19: SCORE: | F19: SCORE: | I19: SCORE:
C20: <MOTIVATIE> | F20: <MOTIVATIE> | I20: <MOTIVATIE>
A21: ='Proefopstelling aangeboden digi'!A13 -> 10. Kwaliteit knoppen en toegankelijkheid (aan/uit/overige) door deze veelvuldig (minimaal 10x) te gebruiken.emen). | C21: SCORE: | F21: SCORE: | I21: SCORE:
C22: <MOTIVATIE> | F22: <MOTIVATIE> | I22: <MOTIVATIE>
A23: ='Proefopstelling aangeboden digi'!A14 -> 11. Kwaliteit glasplaat van het digibord, mate van gladheid (beoordelaar zal de glasplaat niet beschadigen). | C23: SCORE: | F23: SCORE: | I23: SCORE:
C24: <MOTIVATIE> | F24: <MOTIVATIE> | I24: <MOTIVATIE>
A25: ='Proefopstelling aangeboden digi'!A15 -> 12. Kwaliteit aansluitpunten toegankelijkheid (hoe makkelijk kun je erbij komen en hoe duidelijk is het welke stekker je waar in moet steken) en gebruikersvriendelijkheid (USB-A/HDMI). | C25: SCORE: | F25: SCORE: | I25: SCORE:
C26: <MOTIVATIE> | F26: <MOTIVATIE> | I26: <MOTIVATIE>
A27: ='Proefopstelling aangeboden digi'!A16 -> 13. Eenvoud en snelheid afsluiten (beoordelaar wil zo snel mogelijk afsluiten om naar een volgende les te kunnen gaan). | C27: SCORE: | F27: SCORE: | I27: SCORE:
C28: <MOTIVATIE> | F28: <MOTIVATIE> | I28: <MOTIVATIE>

Sheet Beoordelaar 5
A1: Beoordelaar 5: <<>> | C1: Inschrijver 1 | F1: Inschrijver 2 | I1: Inschrijver 3
A2: ='Proefopstelling aangeboden digi'!A3 -> Beoordelingskader aangeboden digibord | C2: Score: | F2: Score: | I2: Score:
A3: ='Proefopstelling aangeboden digi'!A4 -> 1. Eenvoud opstarten en snelheid digibord werkend gebruiken (beoordelaar sluit een eigen device (voor iedere inschrijver hetzelfde device) met de aangeboden draadloze oplossing aan en met bekabeling). | C3: SCORE: | F3: SCORE: | I3: SCORE:
C4: <MOTIVATIE> | F4: <MOTIVATIE> | I4: <MOTIVATIE>
A5: ='Proefopstelling aangeboden digi'!A5 -> 2. Werking van de digitale pen (beoordelaar schrijft en tekent op het bord). | C5: SCORE: | F5: SCORE: | I5: SCORE:
C6: <MOTIVATIE> | F6: <MOTIVATIE> | I6: <MOTIVATIE>
A7: ='Proefopstelling aangeboden digi'!A6 -> 3. Werking gumfunctie van de digitale pen. | C7: SCORE: | F7: SCORE: | I7: SCORE:
C8: <MOTIVATIE> | F8: <MOTIVATIE> | I8: <MOTIVATIE>
A9: ='Proefopstelling aangeboden digi'!A7 -> 4. Werking touch met hand/vinger (beoordelaar doet beide handelingen). | C9: SCORE: | F9: SCORE: | I9: SCORE:
C10: <MOTIVATIE> | F10: <MOTIVATIE> | I10: <MOTIVATIE>
A11: ='Proefopstelling aangeboden digi'!A8 -> 5. Werking digitaal whiteboard; schrijffunctie en eenvoud van de bediening vanaf een device (dit wordt getest binnen de whiteboardfunctionaliteit afkomstig van het eigen device). | C11: SCORE: | F11: SCORE: | I11: SCORE:
C12: <MOTIVATIE> | F12: <MOTIVATIE> | I12: <MOTIVATIE>
A13: ='Proefopstelling aangeboden digi'!A9 -> 6. Werking gumfunctie met hand/vinger (beoordelaar doet beide handelingen). | C13: SCORE: | F13: SCORE: | I13: SCORE:
C14: <MOTIVATIE> | F14: <MOTIVATIE> | I14: <MOTIVATIE>
A15: ='Proefopstelling aangeboden digi'!A10 -> 7. Werking ‘freezen’ scherm (zie ook programma van eisen) waarbij de docent nog kan werken op de eigen device. | C15: SCORE: | F15: SCORE: | I15: SCORE:
C16: <MOTIVATIE> | F16: <MOTIVATIE> | I16: <MOTIVATIE>
A17: ='Proefopstelling aangeboden digi'!A11 -> 8. Geluid (spraak en muziek) van de ingebouwde luidsprekers (spraak en muziek worden getest aan de hand van de video, de eerste 39 seconden). | C17: SCORE: | F17: SCORE: | I17: SCORE:
C18: <MOTIVATIE> | F18: <MOTIVATIE> | I18: <MOTIVATIE>
A19: ='Proefopstelling aangeboden digi'!A12 -> 9. Scherpte beeld tot 8,5 meter en invalshoeken vanuit de lessets in het lokaal (met en zonder zonlicht van buiten), voor iedere Inschrijver gelijke positie. | C19: SCORE: | F19: SCORE: | I19: SCORE:
C20: <MOTIVATIE> | F20: <MOTIVATIE> | I20: <MOTIVATIE>
A21: ='Proefopstelling aangeboden digi'!A13 -> 10. Kwaliteit knoppen en toegankelijkheid (aan/uit/overige) door deze veelvuldig (minimaal 10x) te gebruiken.emen). | C21: SCORE: | F21: SCORE: | I21: SCORE:
C22: <MOTIVATIE> | F22: <MOTIVATIE> | I22: <MOTIVATIE>
A23: ='Proefopstelling aangeboden digi'!A14 -> 11. Kwaliteit glasplaat van het digibord, mate van gladheid (beoordelaar zal de glasplaat niet beschadigen). | C23: SCORE: | F23: SCORE: | I23: SCORE:
C24: <MOTIVATIE> | F24: <MOTIVATIE> | I24: <MOTIVATIE>
A25: ='Proefopstelling aangeboden digi'!A15 -> 12. Kwaliteit aansluitpunten toegankelijkheid (hoe makkelijk kun je erbij komen en hoe duidelijk is het welke stekker je waar in moet steken) en gebruikersvriendelijkheid (USB-A/HDMI). | C25: SCORE: | F25: SCORE: | I25: SCORE:
C26: <MOTIVATIE> | F26: <MOTIVATIE> | I26: <MOTIVATIE>
A27: ='Proefopstelling aangeboden digi'!A16 -> 13. Eenvoud en snelheid afsluiten (beoordelaar wil zo snel mogelijk afsluiten om naar een volgende les te kunnen gaan). | C27: SCORE: | F27: SCORE: | I27: SCORE:
C28: <MOTIVATIE> | F28: <MOTIVATIE> | I28: <MOTIVATIE>

Sheet Beoordelaar 6
A1: Beoordelaar 6: <<>> | C1: Inschrijver 1 | F1: Inschrijver 2 | I1: Inschrijver 3
A2: ='Proefopstelling aangeboden digi'!A3 -> Beoordelingskader aangeboden digibord | C2: Score: | F2: Score: | I2: Score:
A3: ='Proefopstelling aangeboden digi'!A4 -> 1. Eenvoud opstarten en snelheid digibord werkend gebruiken (beoordelaar sluit een eigen device (voor iedere inschrijver hetzelfde device) met de aangeboden draadloze oplossing aan en met bekabeling). | C3: SCORE: | F3: SCORE: | I3: SCORE:
C4: <MOTIVATIE> | F4: <MOTIVATIE> | I4: <MOTIVATIE>
A5: ='Proefopstelling aangeboden digi'!A5 -> 2. Werking van de digitale pen (beoordelaar schrijft en tekent op het bord). | C5: SCORE: | F5: SCORE: | I5: SCORE:
C6: <MOTIVATIE> | F6: <MOTIVATIE> | I6: <MOTIVATIE>
A7: ='Proefopstelling aangeboden digi'!A6 -> 3. Werking gumfunctie van de digitale pen. | C7: SCORE: | F7: SCORE: | I7: SCORE:
C8: <MOTIVATIE> | F8: <MOTIVATIE> | I8: <MOTIVATIE>
A9: ='Proefopstelling aangeboden digi'!A7 -> 4. Werking touch met hand/vinger (beoordelaar doet beide handelingen). | C9: SCORE: | F9: SCORE: | I9: SCORE:
C10: <MOTIVATIE> | F10: <MOTIVATIE> | I10: <MOTIVATIE>
A11: ='Proefopstelling aangeboden digi'!A8 -> 5. Werking digitaal whiteboard; schrijffunctie en eenvoud van de bediening vanaf een device (dit wordt getest binnen de whiteboardfunctionaliteit afkomstig van het eigen device). | C11: SCORE: | F11: SCORE: | I11: SCORE:
C12: <MOTIVATIE> | F12: <MOTIVATIE> | I12: <MOTIVATIE>
A13: ='Proefopstelling aangeboden digi'!A9 -> 6. Werking gumfunctie met hand/vinger (beoordelaar doet beide handelingen). | C13: SCORE: | F13: SCORE: | I13: SCORE:
C14: <MOTIVATIE> | F14: <MOTIVATIE> | I14: <MOTIVATIE>
A15: ='Proefopstelling aangeboden digi'!A10 -> 7. Werking ‘freezen’ scherm (zie ook programma van eisen) waarbij de docent nog kan werken op de eigen device. | C15: SCORE: | F15: SCORE: | I15: SCORE:
C16: <MOTIVATIE> | F16: <MOTIVATIE> | I16: <MOTIVATIE>
A17: ='Proefopstelling aangeboden digi'!A11 -> 8. Geluid (spraak en muziek) van de ingebouwde luidsprekers (spraak en muziek worden getest aan de hand van de video, de eerste 39 seconden). | C17: SCORE: | F17: SCORE: | I17: SCORE:
C18: <MOTIVATIE> | F18: <MOTIVATIE> | I18: <MOTIVATIE>
A19: ='Proefopstelling aangeboden digi'!A12 -> 9. Scherpte beeld tot 8,5 meter en invalshoeken vanuit de lessets in het lokaal (met en zonder zonlicht van buiten), voor iedere Inschrijver gelijke positie. | C19: SCORE: | F19: SCORE: | I19: SCORE:
C20: <MOTIVATIE> | F20: <MOTIVATIE> | I20: <MOTIVATIE>
A21: ='Proefopstelling aangeboden digi'!A13 -> 10. Kwaliteit knoppen en toegankelijkheid (aan/uit/overige) door deze veelvuldig (minimaal 10x) te gebruiken.emen). | C21: SCORE: | F21: SCORE: | I21: SCORE:
C22: <MOTIVATIE> | F22: <MOTIVATIE> | I22: <MOTIVATIE>
A23: ='Proefopstelling aangeboden digi'!A14 -> 11. Kwaliteit glasplaat van het digibord, mate van gladheid (beoordelaar zal de glasplaat niet beschadigen). | C23: SCORE: | F23: SCORE: | I23: SCORE:
C24: <MOTIVATIE> | F24: <MOTIVATIE> | I24: <MOTIVATIE>
A25: ='Proefopstelling aangeboden digi'!A15 -> 12. Kwaliteit aansluitpunten toegankelijkheid (hoe makkelijk kun je erbij komen en hoe duidelijk is het welke stekker je waar in moet steken) en gebruikersvriendelijkheid (USB-A/HDMI). | C25: SCORE: | F25: SCORE: | I25: SCORE:
C26: <MOTIVATIE> | F26: <MOTIVATIE> | I26: <MOTIVATIE>
A27: ='Proefopstelling aangeboden digi'!A16 -> 13. Eenvoud en snelheid afsluiten (beoordelaar wil zo snel mogelijk afsluiten om naar een volgende les te kunnen gaan). | C27: SCORE: | F27: SCORE: | I27: SCORE:
C28: <MOTIVATIE> | F28: <MOTIVATIE> | I28: <MOTIVATIE>

Sheet Beoordelaar 7
A1: Beoordelaar 7: <<>> | C1: Inschrijver 1 | F1: Inschrijver 2 | I1: Inschrijver 3
A2: ='Proefopstelling aangeboden digi'!A3 -> Beoordelingskader aangeboden digibord | C2: Score: | F2: Score: | I2: Score:
A3: ='Proefopstelling aangeboden digi'!A4 -> 1. Eenvoud opstarten en snelheid digibord werkend gebruiken (beoordelaar sluit een eigen device (voor iedere inschrijver hetzelfde device) met de aangeboden draadloze oplossing aan en met bekabeling). | C3: SCORE: | F3: SCORE: | I3: SCORE:
C4: <MOTIVATIE> | F4: <MOTIVATIE> | I4: <MOTIVATIE>
A5: ='Proefopstelling aangeboden digi'!A5 -> 2. Werking van de digitale pen (beoordelaar schrijft en tekent op het bord). | C5: SCORE: | F5: SCORE: | I5: SCORE:
C6: <MOTIVATIE> | F6: <MOTIVATIE> | I6: <MOTIVATIE>
A7: ='Proefopstelling aangeboden digi'!A6 -> 3. Werking gumfunctie van de digitale pen. | C7: SCORE: | F7: SCORE: | I7: SCORE:
C8: <MOTIVATIE> | F8: <MOTIVATIE> | I8: <MOTIVATIE>
A9: ='Proefopstelling aangeboden digi'!A7 -> 4. Werking touch met hand/vinger (beoordelaar doet beide handelingen). | C9: SCORE: | F9: SCORE: | I9: SCORE:
C10: <MOTIVATIE> | F10: <MOTIVATIE> | I10: <MOTIVATIE>
A11: ='Proefopstelling aangeboden digi'!A8 -> 5. Werking digitaal whiteboard; schrijffunctie en eenvoud van de bediening vanaf een device (dit wordt getest binnen de whiteboardfunctionaliteit afkomstig van het eigen device). | C11: SCORE: | F11: SCORE: | I11: SCORE:
C12: <MOTIVATIE> | F12: <MOTIVATIE> | I12: <MOTIVATIE>
A13: ='Proefopstelling aangeboden digi'!A9 -> 6. Werking gumfunctie met hand/vinger (beoordelaar doet beide handelingen). | C13: SCORE: | F13: SCORE: | I13: SCORE:
C14: <MOTIVATIE> | F14: <MOTIVATIE> | I14: <MOTIVATIE>
A15: ='Proefopstelling aangeboden digi'!A10 -> 7. Werking ‘freezen’ scherm (zie ook programma van eisen) waarbij de docent nog kan werken op de eigen device. | C15: SCORE: | F15: SCORE: | I15: SCORE:
C16: <MOTIVATIE> | F16: <MOTIVATIE> | I16: <MOTIVATIE>
A17: ='Proefopstelling aangeboden digi'!A11 -> 8. Geluid (spraak en muziek) van de ingebouwde luidsprekers (spraak en muziek worden getest aan de hand van de video, de eerste 39 seconden). | C17: SCORE: | F17: SCORE: | I17: SCORE:
C18: <MOTIVATIE> | F18: <MOTIVATIE> | I18: <MOTIVATIE>
A19: ='Proefopstelling aangeboden digi'!A12 -> 9. Scherpte beeld tot 8,5 meter en invalshoeken vanuit de lessets in het lokaal (met en zonder zonlicht van buiten), voor iedere Inschrijver gelijke positie. | C19: SCORE: | F19: SCORE: | I19: SCORE:
C20: <MOTIVATIE> | F20: <MOTIVATIE> | I20: <MOTIVATIE>
A21: ='Proefopstelling aangeboden digi'!A13 -> 10. Kwaliteit knoppen en toegankelijkheid (aan/uit/overige) door deze veelvuldig (minimaal 10x) te gebruiken.emen). | C21: SCORE: | F21: SCORE: | I21: SCORE:
C22: <MOTIVATIE> | F22: <MOTIVATIE> | I22: <MOTIVATIE>
A23: ='Proefopstelling aangeboden digi'!A14 -> 11. Kwaliteit glasplaat van het digibord, mate van gladheid (beoordelaar zal de glasplaat niet beschadigen). | C23: SCORE: | F23: SCORE: | I23: SCORE:
C24: <MOTIVATIE> | F24: <MOTIVATIE> | I24: <MOTIVATIE>
A25: ='Proefopstelling aangeboden digi'!A15 -> 12. Kwaliteit aansluitpunten toegankelijkheid (hoe makkelijk kun je erbij komen en hoe duidelijk is het welke stekker je waar in moet steken) en gebruikersvriendelijkheid (USB-A/HDMI). | C25: SCORE: | F25: SCORE: | I25: SCORE:
C26: <MOTIVATIE> | F26: <MOTIVATIE> | I26: <MOTIVATIE>
A27: ='Proefopstelling aangeboden digi'!A16 -> 13. Eenvoud en snelheid afsluiten (beoordelaar wil zo snel mogelijk afsluiten om naar een volgende les te kunnen gaan). | C27: SCORE: | F27: SCORE: | I27: SCORE:
C28: <MOTIVATIE> | F28: <MOTIVATIE> | I28: <MOTIVATIE>

Sheet Beoordelaar 8
A1: Beoordelaar 8: <<>> | C1: Inschrijver 1 | F1: Inschrijver 2 | I1: Inschrijver 3
A2: ='Proefopstelling aangeboden digi'!A3 -> Beoordelingskader aangeboden digibord | C2: Score: | F2: Score: | I2: Score:
A3: ='Proefopstelling aangeboden digi'!A4 -> 1. Eenvoud opstarten en snelheid digibord werkend gebruiken (beoordelaar sluit een eigen device (voor iedere inschrijver hetzelfde device) met de aangeboden draadloze oplossing aan en met bekabeling). | C3: SCORE: | F3: SCORE: | I3: SCORE:
C4: <MOTIVATIE> | F4: <MOTIVATIE> | I4: <MOTIVATIE>
A5: ='Proefopstelling aangeboden digi'!A5 -> 2. Werking van de digitale pen (beoordelaar schrijft en tekent op het bord). | C5: SCORE: | F5: SCORE: | I5: SCORE:
C6: <MOTIVATIE> | F6: <MOTIVATIE> | I6: <MOTIVATIE>
A7: ='Proefopstelling aangeboden digi'!A6 -> 3. Werking gumfunctie van de digitale pen. | C7: SCORE: | F7: SCORE: | I7: SCORE:
C8: <MOTIVATIE> | F8: <MOTIVATIE> | I8: <MOTIVATIE>
A9: ='Proefopstelling aangeboden digi'!A7 -> 4. Werking touch met hand/vinger (beoordelaar doet beide handelingen). | C9: SCORE: | F9: SCORE: | I9: SCORE:
C10: <MOTIVATIE> | F10: <MOTIVATIE> | I10: <MOTIVATIE>
A11: ='Proefopstelling aangeboden digi'!A8 -> 5. Werking digitaal whiteboard; schrijffunctie en eenvoud van de bediening vanaf een device (dit wordt getest binnen de whiteboardfunctionaliteit afkomstig van het eigen device). | C11: SCORE: | F11: SCORE: | I11: SCORE:
C12: <MOTIVATIE> | F12: <MOTIVATIE> | I12: <MOTIVATIE>
A13: ='Proefopstelling aangeboden digi'!A9 -> 6. Werking gumfunctie met hand/vinger (beoordelaar doet beide handelingen). | C13: SCORE: | F13: SCORE: | I13: SCORE:
C14: <MOTIVATIE> | F14: <MOTIVATIE> | I14: <MOTIVATIE>
A15: ='Proefopstelling aangeboden digi'!A10 -> 7. Werking ‘freezen’ scherm (zie ook programma van eisen) waarbij de docent nog kan werken op de eigen device. | C15: SCORE: | F15: SCORE: | I15: SCORE:
C16: <MOTIVATIE> | F16: <MOTIVATIE> | I16: <MOTIVATIE>
A17: ='Proefopstelling aangeboden digi'!A11 -> 8. Geluid (spraak en muziek) van de ingebouwde luidsprekers (spraak en muziek worden getest aan de hand van de video, de eerste 39 seconden). | C17: SCORE: | F17: SCORE: | I17: SCORE:
C18: <MOTIVATIE> | F18: <MOTIVATIE> | I18: <MOTIVATIE>
A19: ='Proefopstelling aangeboden digi'!A12 -> 9. Scherpte beeld tot 8,5 meter en invalshoeken vanuit de lessets in het lokaal (met en zonder zonlicht van buiten), voor iedere Inschrijver gelijke positie. | C19: SCORE: | F19: SCORE: | I19: SCORE:
C20: <MOTIVATIE> | F20: <MOTIVATIE> | I20: <MOTIVATIE>
A21: ='Proefopstelling aangeboden digi'!A13 -> 10. Kwaliteit knoppen en toegankelijkheid (aan/uit/overige) door deze veelvuldig (minimaal 10x) te gebruiken.emen). | C21: SCORE: | F21: SCORE: | I21: SCORE:
C22: <MOTIVATIE> | F22: <MOTIVATIE> | I22: <MOTIVATIE>
A23: ='Proefopstelling aangeboden digi'!A14 -> 11. Kwaliteit glasplaat van het digibord, mate van gladheid (beoordelaar zal de glasplaat niet beschadigen). | C23: SCORE: | F23: SCORE: | I23: SCORE:
C24: <MOTIVATIE> | F24: <MOTIVATIE> | I24: <MOTIVATIE>
A25: ='Proefopstelling aangeboden digi'!A15 -> 12. Kwaliteit aansluitpunten toegankelijkheid (hoe makkelijk kun je erbij komen en hoe duidelijk is het welke stekker je waar in moet steken) en gebruikersvriendelijkheid (USB-A/HDMI). | C25: SCORE: | F25: SCORE: | I25: SCORE:
C26: <MOTIVATIE> | F26: <MOTIVATIE> | I26: <MOTIVATIE>
A27: ='Proefopstelling aangeboden digi'!A16 -> 13. Eenvoud en snelheid afsluiten (beoordelaar wil zo snel mogelijk afsluiten om naar een volgende les te kunnen gaan). | C27: SCORE: | F27: SCORE: | I27: SCORE:
C28: <MOTIVATIE> | F28: <MOTIVATIE> | I28: <MOTIVATIE>

Sheet Beoordelaar 9
A1: Beoordelaar 9: <<>> | C1: Inschrijver 1 | F1: Inschrijver 2 | I1: Inschrijver 3
A2: ='Proefopstelling aangeboden digi'!A3 -> Beoordelingskader aangeboden digibord | C2: Score: | F2: Score: | I2: Score:
A3: ='Proefopstelling aangeboden digi'!A4 -> 1. Eenvoud opstarten en snelheid digibord werkend gebruiken (beoordelaar sluit een eigen device (voor iedere inschrijver hetzelfde device) met de aangeboden draadloze oplossing aan en met bekabeling). | C3: SCORE: | F3: SCORE: | I3: SCORE:
C4: <MOTIVATIE> | F4: <MOTIVATIE> | I4: <MOTIVATIE>
A5: ='Proefopstelling aangeboden digi'!A5 -> 2. Werking van de digitale pen (beoordelaar schrijft en tekent op het bord). | C5: SCORE: | F5: SCORE: | I5: SCORE:
C6: <MOTIVATIE> | F6: <MOTIVATIE> | I6: <MOTIVATIE>
A7: ='Proefopstelling aangeboden digi'!A6 -> 3. Werking gumfunctie van de digitale pen. | C7: SCORE: | F7: SCORE: | I7: SCORE:
C8: <MOTIVATIE> | F8: <MOTIVATIE> | I8: <MOTIVATIE>
A9: ='Proefopstelling aangeboden digi'!A7 -> 4. Werking touch met hand/vinger (beoordelaar doet beide handelingen). | C9: SCORE: | F9: SCORE: | I9: SCORE:
C10: <MOTIVATIE> | F10: <MOTIVATIE> | I10: <MOTIVATIE>
A11: ='Proefopstelling aangeboden digi'!A8 -> 5. Werking digitaal whiteboard; schrijffunctie en eenvoud van de bediening vanaf een device (dit wordt getest binnen de whiteboardfunctionaliteit afkomstig van het eigen device). | C11: SCORE: | F11: SCORE: | I11: SCORE:
C12: <MOTIVATIE> | F12: <MOTIVATIE> | I12: <MOTIVATIE>
A13: ='Proefopstelling aangeboden digi'!A9 -> 6. Werking gumfunctie met hand/vinger (beoordelaar doet beide handelingen). | C13: SCORE: | F13: SCORE: | I13: SCORE:
C14: <MOTIVATIE> | F14: <MOTIVATIE> | I14: <MOTIVATIE>
A15: ='Proefopstelling aangeboden digi'!A10 -> 7. Werking ‘freezen’ scherm (zie ook programma van eisen) waarbij de docent nog kan werken op de eigen device. | C15: SCORE: | F15: SCORE: | I15: SCORE:
C16: <MOTIVATIE> | F16: <MOTIVATIE> | I16: <MOTIVATIE>
A17: ='Proefopstelling aangeboden digi'!A11 -> 8. Geluid (spraak en muziek) van de ingebouwde luidsprekers (spraak en muziek worden getest aan de hand van de video, de eerste 39 seconden). | C17: SCORE: | F17: SCORE: | I17: SCORE:
C18: <MOTIVATIE> | F18: <MOTIVATIE> | I18: <MOTIVATIE>
A19: ='Proefopstelling aangeboden digi'!A12 -> 9. Scherpte beeld tot 8,5 meter en invalshoeken vanuit de lessets in het lokaal (met en zonder zonlicht van buiten), voor iedere Inschrijver gelijke positie. | C19: SCORE: | F19: SCORE: | I19: SCORE:
C20: <MOTIVATIE> | F20: <MOTIVATIE> | I20: <MOTIVATIE>
A21: ='Proefopstelling aangeboden digi'!A13 -> 10. Kwaliteit knoppen en toegankelijkheid (aan/uit/overige) door deze veelvuldig (minimaal 10x) te gebruiken.emen). | C21: SCORE: | F21: SCORE: | I21: SCORE:
C22: <MOTIVATIE> | F22: <MOTIVATIE> | I22: <MOTIVATIE>
A23: ='Proefopstelling aangeboden digi'!A14 -> 11. Kwaliteit glasplaat van het digibord, mate van gladheid (beoordelaar zal de glasplaat niet beschadigen). | C23: SCORE: | F23: SCORE: | I23: SCORE:
C24: <MOTIVATIE> | F24: <MOTIVATIE> | I24: <MOTIVATIE>
A25: ='Proefopstelling aangeboden digi'!A15 -> 12. Kwaliteit aansluitpunten toegankelijkheid (hoe makkelijk kun je erbij komen en hoe duidelijk is het welke stekker je waar in moet steken) en gebruikersvriendelijkheid (USB-A/HDMI). | C25: SCORE: | F25: SCORE: | I25: SCORE:
C26: <MOTIVATIE> | F26: <MOTIVATIE> | I26: <MOTIVATIE>
A27: ='Proefopstelling aangeboden digi'!A16 -> 13. Eenvoud en snelheid afsluiten (beoordelaar wil zo snel mogelijk afsluiten om naar een volgende les te kunnen gaan). | C27: SCORE: | F27: SCORE: | I27: SCORE:
C28: <MOTIVATIE> | F28: <MOTIVATIE> | I28: <MOTIVATIE>

Sheet Beoordelaar 10
A1: Beoordelaar 10: <<>> | C1: Inschrijver 1 | F1: Inschrijver 2 | I1: Inschrijver 3
A2: ='Proefopstelling aangeboden digi'!A3 -> Beoordelingskader aangeboden digibord | C2: Score: | F2: Score: | I2: Score:
A3: ='Proefopstelling aangeboden digi'!A4 -> 1. Eenvoud opstarten en snelheid digibord werkend gebruiken (beoordelaar sluit een eigen device (voor iedere inschrijver hetzelfde device) met de aangeboden draadloze oplossing aan en met bekabeling). | C3: SCORE: | F3: SCORE: | I3: SCORE:
C4: <MOTIVATIE> | F4: <MOTIVATIE> | I4: <MOTIVATIE>
A5: ='Proefopstelling aangeboden digi'!A5 -> 2. Werking van de digitale pen (beoordelaar schrijft en tekent op het bord). | C5: SCORE: | F5: SCORE: | I5: SCORE:
C6: <MOTIVATIE> | F6: <MOTIVATIE> | I6: <MOTIVATIE>
A7: ='Proefopstelling aangeboden digi'!A6 -> 3. Werking gumfunctie van de digitale pen. | C7: SCORE: | F7: SCORE: | I7: SCORE:
C8: <MOTIVATIE> | F8: <MOTIVATIE> | I8: <MOTIVATIE>
A9: ='Proefopstelling aangeboden digi'!A7 -> 4. Werking touch met hand/vinger (beoordelaar doet beide handelingen). | C9: SCORE: | F9: SCORE: | I9: SCORE:
C10: <MOTIVATIE> | F10: <MOTIVATIE> | I10: <MOTIVATIE>
A11: ='Proefopstelling aangeboden digi'!A8 -> 5. Werking digitaal whiteboard; schrijffunctie en eenvoud van de bediening vanaf een device (dit wordt getest binnen de whiteboardfunctionaliteit afkomstig van het eigen device). | C11: SCORE: | F11: SCORE: | I11: SCORE:
C12: <MOTIVATIE> | F12: <MOTIVATIE> | I12: <MOTIVATIE>
A13: ='Proefopstelling aangeboden digi'!A9 -> 6. Werking gumfunctie met hand/vinger (beoordelaar doet beide handelingen). | C13: SCORE: | F13: SCORE: | I13: SCORE:
C14: <MOTIVATIE> | F14: <MOTIVATIE> | I14: <MOTIVATIE>
A15: ='Proefopstelling aangeboden digi'!A10 -> 7. Werking ‘freezen’ scherm (zie ook programma van eisen) waarbij de docent nog kan werken op de eigen device. | C15: SCORE: | F15: SCORE: | I15: SCORE:
C16: <MOTIVATIE> | F16: <MOTIVATIE> | I16: <MOTIVATIE>
A17: ='Proefopstelling aangeboden digi'!A11 -> 8. Geluid (spraak en muziek) van de ingebouwde luidsprekers (spraak en muziek worden getest aan de hand van de video, de eerste 39 seconden). | C17: SCORE: | F17: SCORE: | I17: SCORE:
C18: <MOTIVATIE> | F18: <MOTIVATIE> | I18: <MOTIVATIE>
A19: ='Proefopstelling aangeboden digi'!A12 -> 9. Scherpte beeld tot 8,5 meter en invalshoeken vanuit de lessets in het lokaal (met en zonder zonlicht van buiten), voor iedere Inschrijver gelijke positie. | C19: SCORE: | F19: SCORE: | I19: SCORE:
C20: <MOTIVATIE> | F20: <MOTIVATIE> | I20: <MOTIVATIE>
A21: ='Proefopstelling aangeboden digi'!A13 -> 10. Kwaliteit knoppen en toegankelijkheid (aan/uit/overige) door deze veelvuldig (minimaal 10x) te gebruiken.emen). | C21: SCORE: | F21: SCORE: | I21: SCORE:
C22: <MOTIVATIE> | F22: <MOTIVATIE> | I22: <MOTIVATIE>
A23: ='Proefopstelling aangeboden digi'!A14 -> 11. Kwaliteit glasplaat van het digibord, mate van gladheid (beoordelaar zal de glasplaat niet beschadigen). | C23: SCORE: | F23: SCORE: | I23: SCORE:
C24: <MOTIVATIE> | F24: <MOTIVATIE> | I24: <MOTIVATIE>
A25: ='Proefopstelling aangeboden digi'!A15 -> 12. Kwaliteit aansluitpunten toegankelijkheid (hoe makkelijk kun je erbij komen en hoe duidelijk is het welke stekker je waar in moet steken) en gebruikersvriendelijkheid (USB-A/HDMI). | C25: SCORE: | F25: SCORE: | I25: SCORE:
C26: <MOTIVATIE> | F26: <MOTIVATIE> | I26: <MOTIVATIE>
A27: ='Proefopstelling aangeboden digi'!A16 -> 13. Eenvoud en snelheid afsluiten (beoordelaar wil zo snel mogelijk afsluiten om naar een volgende les te kunnen gaan). | C27: SCORE: | F27: SCORE: | I27: SCORE:
C28: <MOTIVATIE> | F28: <MOTIVATIE> | I28: <MOTIVATIE>

Sheet Eindscores
A1: Totaalwaardes AANGEBODEN DIGIBORD
D2: ='Beoordelaar 1'!C1 -> Inschrijver 1 | E2: Motivatie consensus | G2: ='Beoordelaar 1'!F1 -> Inschrijver 2 | H2: Motivatie consensus | J2: ='Beoordelaar 1'!I1 -> Inschrijver 3 | K2: Motivatie consensus
A3: ='Proefopstelling aangeboden digi'!A4 -> 1. Eenvoud opstarten en snelheid digibord werkend gebruiken (beoordelaar sluit een eigen device (voor iedere inschrijver hetzelfde device) met de aangeboden draadloze oplossing aan en met bekabeling). | B3: Beoordelaar 1 | D3: ='Beoordelaar 1'!C3 -> SCORE: | E3: <<MOTIVATIE>> | G3: ='Beoordelaar 1'!F3 -> SCORE: | H3: <<MOTIVATIE>> | J3: ='Beoordelaar 1'!I3 -> SCORE: | K3: <<MOTIVATIE>>
B4: Beoordelaar 2 | D4: ='Beoordelaar 2'!C3 -> SCORE: | G4: ='Beoordelaar 2'!F3 -> SCORE: | J4: ='Beoordelaar 2'!I3 -> SCORE:
B5: Beoordelaar 3 | D5: ='Beoordelaar 3'!C3 -> SCORE: | G5: ='Beoordelaar 3'!F3 -> SCORE: | J5: ='Beoordelaar 3'!I3 -> SCORE:
B6: Beoordelaar 4 | D6: ='Beoordelaar 4'!C3 -> SCORE: | G6: ='Beoordelaar 4'!F3 -> SCORE: | J6: ='Beoordelaar 4'!I3 -> SCORE:
B7: Beoordelaar 5 | D7: ='Beoordelaar 5'!C3 -> SCORE: | G7: ='Beoordelaar 5'!F3 -> SCORE: | J7: ='Beoordelaar 5'!I3 -> SCORE:
B8: Beoordelaar 6 | D8: ='Beoordelaar 6'!C3 -> SCORE: | G8: ='Beoordelaar 6'!F3 -> SCORE: | J8: ='Beoordelaar 6'!I3 -> SCORE:
B9: Beoordelaar 7 | D9: ='Beoordelaar 7'!C3 -> SCORE: | G9: ='Beoordelaar 7'!F3 -> SCORE: | J9: ='Beoordelaar 7'!I3 -> SCORE:
B10: Beoordelaar 8 | D10: ='Beoordelaar 8'!C3 -> SCORE: | G10: ='Beoordelaar 8'!F3 -> SCORE: | J10: ='Beoordelaar 8'!I3 -> SCORE:
B11: Beoordelaar 9 | D11: ='Beoordelaar 9'!C3 -> SCORE: | G11: ='Beoordelaar 9'!F3 -> SCORE: | J11: ='Beoordelaar 9'!I3 -> SCORE:
B12: Beoordelaar 10 | D12: ='Beoordelaar 10'!C3 -> SCORE: | G12: ='Beoordelaar 10'!F3 -> SCORE: | J12: ='Beoordelaar 10'!I3 -> SCORE:
A13: Consensus | D13: SCORE: | G13: SCORE: | J13: SCORE:
D14: =IF(D13="Beter","€ 5.000",IF(D13="Vergelijkbaar","€ 0",IF(D13="Acceptabel verbeterpunt","-€ 20.000",IF(D13="Onacceptabel verbeterpunt","UITSLUITING"," ")))) | G14: =IF(G13="Beter","€ 5.000",IF(G13="Vergelijkbaar","€ 0",IF(G13="Acceptabel verbeterpunt","-€ 20.000",IF(G13="Onacceptabel verbeterpunt","UITSLUITING"," ")))) | J14: =IF(J13="Beter","€ 5.000",IF(J13="Vergelijkbaar","€ 0",IF(J13="Acceptabel verbeterpunt","-€ 20.000",IF(J13="Onacceptabel verbeterpunt","UITSLUITING"," "))))
A15: ='Proefopstelling aangeboden digi'!A5 -> 2. Werking van de digitale pen (beoordelaar schrijft en tekent op het bord). | B15: Beoordelaar 1 | D15: ='Beoordelaar 1'!C5 -> SCORE: | E15: <<MOTIVATIE>> | G15: ='Beoordelaar 1'!F5 -> SCORE: | H15: <<MOTIVATIE>> | J15: ='Beoordelaar 1'!I5 -> SCORE:
B16: Beoordelaar 2 | D16: ='Beoordelaar 2'!C5 -> SCORE: | G16: ='Beoordelaar 2'!F5 -> SCORE: | J16: ='Beoordelaar 2'!I5 -> SCORE:
B17: Beoordelaar 3 | D17: ='Beoordelaar 3'!C5 -> SCORE: | G17: ='Beoordelaar 3'!F5 -> SCORE: | J17: ='Beoordelaar 3'!I5 -> SCORE:
B18: Beoordelaar 4 | D18: ='Beoordelaar 4'!C5 -> SCORE: | G18: ='Beoordelaar 4'!F5 -> SCORE: | J18: ='Beoordelaar 4'!I5 -> SCORE:
B19: Beoordelaar 5 | D19: ='Beoordelaar 5'!C5 -> SCORE: | G19: ='Beoordelaar 5'!F5 -> SCORE: | J19: ='Beoordelaar 5'!I5 -> SCORE:
B20: Beoordelaar 6 | D20: ='Beoordelaar 6'!C5 -> SCORE: | G20: ='Beoordelaar 6'!F5 -> SCORE: | J20: ='Beoordelaar 6'!I5 -> SCORE:
B21: Beoordelaar 7 | D21: ='Beoordelaar 7'!C5 -> SCORE: | G21: ='Beoordelaar 7'!F5 -> SCORE: | J21: ='Beoordelaar 7'!I5 -> SCORE:
B22: Beoordelaar 8 | D22: ='Beoordelaar 8'!C5 -> SCORE: | G22: ='Beoordelaar 8'!F5 -> SCORE: | J22: ='Beoordelaar 8'!I5 -> SCORE:
B23: Beoordelaar 9 | D23: ='Beoordelaar 9'!C5 -> SCORE: | G23: ='Beoordelaar 9'!F5 -> SCORE: | J23: ='Beoordelaar 9'!I5 -> SCORE:
B24: Beoordelaar 10 | D24: ='Beoordelaar 10'!C5 -> SCORE: | G24: ='Beoordelaar 10'!F5 -> SCORE: | J24: ='Beoordelaar 10'!I5 -> SCORE:
A25: Consensus | D25: SCORE: | G25: SCORE: | J25: SCORE:
D26: =IF(D25="Beter","€ 15.000",IF(D25="Vergelijkbaar","€ 0",IF(D25="Acceptabel verbeterpunt","-€ 60.000",IF(D25="Onacceptabel verbeterpunt","UITSLUITING"," ")))) | G26: =IF(G25="Beter","€ 15.000",IF(G25="Vergelijkbaar","€ 0",IF(G25="Acceptabel verbeterpunt","-€ 60.000",IF(G25="Onacceptabel verbeterpunt","UITSLUITING"," ")))) | J26: =IF(J25="Beter","€ 15.000",IF(J25="Vergelijkbaar","€ 0",IF(J25="Acceptabel verbeterpunt","-€ 60.000",IF(J25="Onacceptabel verbeterpunt","UITSLUITING"," "))))
A27: ='Proefopstelling aangeboden digi'!A6 -> 3. Werking gumfunctie van de digitale pen. | B27: Beoordelaar 1 | D27: ='Beoordelaar 1'!C7 -> SCORE: | E27: <<MOTIVATIE>> | G27: ='Beoordelaar 1'!F7 -> SCORE: | H27: <<MOTIVATIE>> | J27: ='Beoordelaar 1'!I7 -> SCORE: | K27: <<MOTIVATIE>>
B28: Beoordelaar 2 | D28: ='Beoordelaar 2'!C7 -> SCORE: | G28: ='Beoordelaar 2'!F7 -> SCORE: | J28: ='Beoordelaar 2'!I7 -> SCORE:
B29: Beoordelaar 3 | D29: ='Beoordelaar 3'!C7 -> SCORE: | G29: ='Beoordelaar 3'!F7 -> SCORE: | J29: ='Beoordelaar 3'!I7 -> SCORE:
B30: Beoordelaar 4 | D30: ='Beoordelaar 4'!C7 -> SCORE: | G30: ='Beoordelaar 4'!F7 -> SCORE: | J30: ='Beoordelaar 4'!I7 -> SCORE:
B31: Beoordelaar 5 | D31: ='Beoordelaar 5'!C7 -> SCORE: | G31: ='Beoordelaar 5'!F7 -> SCORE: | J31: ='Beoordelaar 5'!I7 -> SCORE:
B32: Beoordelaar 6 | D32: ='Beoordelaar 6'!C7 -> SCORE: | G32: ='Beoordelaar 6'!F7 -> SCORE: | J32: ='Beoordelaar 6'!I7 -> SCORE:
B33: Beoordelaar 7 | D33: ='Beoordelaar 7'!C7 -> SCORE: | G33: ='Beoordelaar 7'!F7 -> SCORE: | J33: ='Beoordelaar 7'!I7 -> SCORE:
B34: Beoordelaar 8 | D34: ='Beoordelaar 8'!C7 -> SCORE: | G34: ='Beoordelaar 8'!F7 -> SCORE: | J34: ='Beoordelaar 8'!I7 -> SCORE:
B35: Beoordelaar 9 | D35: ='Beoordelaar 9'!C7 -> SCORE: | G35: ='Beoordelaar 9'!F7 -> SCORE: | J35: ='Beoordelaar 9'!I7 -> SCORE:
B36: Beoordelaar 10 | D36: ='Beoordelaar 10'!C7 -> SCORE: | G36: ='Beoordelaar 10'!F7 -> SCORE: | J36: ='Beoordelaar 10'!I7 -> SCORE:
A37: Consensus | D37: SCORE: | G37: SCORE: | J37: SCORE:
D38: =IF(D37="Beter","€ 5.000",IF(D37="Vergelijkbaar","€ 0",IF(D37="Acceptabel verbeterpunt","-€ 20.000",IF(D37="Onacceptabel verbeterpunt","UITSLUITING"," ")))) | G38: =IF(G37="Beter","€ 5.000",IF(G37="Vergelijkbaar","€ 0",IF(G37="Acceptabel verbeterpunt","-€ 20.000",IF(G37="Onacceptabel verbeterpunt","UITSLUITING"," ")))) | J38: =IF(J37="Beter","€ 5.000",IF(J37="Vergelijkbaar","€ 0",IF(J37="Acceptabel verbeterpunt","-€ 20.000",IF(J37="Onacceptabel verbeterpunt","UITSLUITING"," "))))
A39: ='Proefopstelling aangeboden digi'!A7 -> 4. Werking touch met hand/vinger (beoordelaar doet beide handelingen). | B39: Beoordelaar 1 | D39: ='Beoordelaar 1'!C9 -> SCORE: | E39: <<MOTIVATIE>> | G39: ='Beoordelaar 1'!F9 -> SCORE: | H39: <<MOTIVATIE>> | J39: ='Beoordelaar 1'!I9 -> SCORE: | K39: <<MOTIVATIE>>
B40: Beoordelaar 2 | D40: ='Beoordelaar 2'!C9 -> SCORE: | G40: ='Beoordelaar 2'!F9 -> SCORE: | J40: ='Beoordelaar 2'!I9 -> SCORE:
...
