Workbook
Name SCORE: 'Proefopstelling aangeboden digi'!$A$19:$A$23

Sheet Proefopstelling aangeboden digi
A1: Beoordeling kwaliteit AANGEBODEN DIGIBORDEN VERSIE 11 juli 2025
A2: Uit de proefopstelling moet blijken dat de geboden oplossing minimaal kwalitatief voldoende is en geschikt voor de leslokalen en de lessen van de Opdrachtgever.
A3: Beoordelingskader aangeboden digibord
A4: 1. Eenvoud opstarten en snelheid digibord werkend gebruiken (beoordelaar sluit een eigen device (voor iedere inschrijver hetzelfde device) met de aangeboden draadloze oplossing aan en met bekabeling).
A5: 2. Werking van de digitale pen (beoordelaar schrijft en tekent op het bord).
A6: 3. Werking gumfunctie van de digitale pen.
A7: 4. Werking touch met hand/vinger (beoordelaar doet beide handelingen).
A8: 5. Werking digitaal whiteboard; schrijffunctie en eenvoud van de bediening vanaf een device (dit wordt getest binnen de whiteboardfunctionaliteit afkomstig van het eigen device).
A9: 6. Werking gumfunctie met hand/vinger (beoordelaar doet beide handelingen).
A10: 7. Werking ‘freezen’ scherm (zie ook programma van eisen) waarbij de docent nog kan werken op de eigen device.
A11: 8. Geluid (spraak en muziek) van de ingebouwde luidsprekers (spraak en muziek worden getest aan de hand van de video, de eerste 39 seconden).
A12: 9. Scherpte beeld tot 8,5 meter en invalshoeken vanuit de lessets in het lokaal (met en zonder zonlicht van buiten), voor iedere Inschrijver gelijke positie.
... A18: De afzonderlijke items zullen worden beoordeeld met:
A19: Beter | B19: dan de huidige oplossing
A20: Vergelijkbaar | B20: met de huidige oplossing
A21: Acceptabel verbeterpunt | B21: met de huidige oplossing
A22: Onacceptabel verbeterpunt | B22: met de huidige oplossing
A23: SCORE:

Sheet Beoordelaar 1
A1: Beoordelaar 1: <<>> | C1: Inschrijver 1 | F1: Inschrijver 2 | I1: Inschrijver 3
A2: ='Proefopstelling aangeboden digi'!A3 -> Beoordelingskader aangeboden digibord | C2: Score: | F2: Score: | I2: Score:
A3: ='Proefopstelling aangeboden digi'!A4 -> 1. Eenvoud opstarten en snelheid digibord werkend gebruiken (beoordelaar sluit een eigen device (voor iedere inschrijver hetzelfde device) met de aangeboden draadloze oplossing aan en met bekabeling). | C3: SCORE: | F3: SCORE: | I3: SCORE:
C4: <MOTIVATIE> | F4: <MOTIVATIE> | I4: <MOTIVATIE>
A5: ='Proefopstelling aangeboden digi'!A5 -> 2. Werking van de digitale pen (beoordelaar schrijft en tekent op het bord). | C5: SCORE: | F5: SCORE: | I5: SCORE:
C6: <MOTIVATIE> | F6: <MOTIVATIE> | I6: <MOTIVATIE>
A7: ='Proefopstelling aangeboden digi'!A6 -> 3. Werking gumfunctie van de digitale pen. | C7: SCORE: | F7: SCORE: | I7: SCORE:
C8: <MOTIVATIE> | F8: <MOTIVATIE> | I8: <MOTIVATIE>
A9: ='Proefopstelling aangeboden digi'!A7 -> 4. Werking touch met hand/vinger (beoordelaar doet beide handelingen). | C9: SCORE: | F9: SCORE: | I9: SCORE:
C10: <MOTIVATIE> | F10: <MOTIVATIE> | I10: <MOTIVATIE>
A11: ='Proefopstelling aangeboden digi'!A8 -> 5. Werking digitaal whiteboard; schrijffunctie en eenvoud van de bediening vanaf een device (dit wordt getest binnen de whiteboardfunctionaliteit afkomstig van het eigen device). | C11: SCORE: | F11: SCORE: | I11: SCORE:
C12: <MOTIVATIE> | F12: <MOTIVATIE> | I12: <MOTIVATIE>
A13: ='Proefopstelling aangeboden digi'!A9 -> 6. Werking gumfunctie met hand/vinger (beoordelaar doet beide handelingen). | C13: SCORE: | F13: SCORE: | I13: SCORE:
C14: <MOTIVATIE> | F14: <MOTIVATIE> | I14: <MOTIVATIE>
A15: ='Proefopstelling aangeboden digi'!A10 -> 7. Werking ‘freezen’ scherm (zie ook programma van eisen) waarbij de docent nog kan werken op de eigen device. | C15: SCORE: | F15: SCORE: | I15: SCORE:
C16: <MOTIVATIE> | F16: <MOTIVATIE> | I16: <MOTIVATIE>
A17: ='Proefopstelling aangeboden digi'!A11 -> 8. Geluid (spraak en muziek) van de ingebouwde luidsprekers (spraak en muziek worden getest aan de hand van de video, de eerste 39 seconden). | C17: SCORE: | F17: SCORE: | I17: SCORE:
C18: <MOTIVATIE> | F18: <MOTIVATIE> | I18: <MOTIVATIE>
A19: ='Proefopstelling aangeboden digi'!A12 -> 9. Scherpte beeld tot 8,5 meter en invalshoeken vanuit de lessets in het lokaal (met en zonder zonlicht van buiten), voor iedere Inschrijver gelijke positie. | C19: SCORE: | F19: SCORE: | I19: SCORE:
C20: <MOTIVATIE> | F20: <MOTIVATIE> | I20: <MOTIVATIE>
A21: ='Proefopstelling aangeboden digi'!A13 -> 10. Kwaliteit knoppen en toegankelijkheid (aan/uit/overige) door deze veelvuldig (minimaal 10x) te gebruiken.emen). | C21: SCORE: | F21: SCORE: | I21: SCORE:
C22: <MOTIVATIE> | F22: <MOTIVATIE> | I22: <MOTIVATIE>
A23: ='Proefopstelling aangeboden digi'!A14 -> 11. Kwaliteit glasplaat van het digibord, mate van gladheid (beoordelaar zal de glasplaat niet beschadigen). | C23: SCORE: | F23: SCORE: | I23: SCORE:
C24: <MOTIVATIE> | F24: <MOTIVATIE> | I24: <MOTIVATIE>
A25: ='Proefopstelling aangeboden digi'!A15 -> 12. Kwaliteit aansluitpunten toegankelijkheid (hoe makkelijk kun je erbij komen en hoe duidelijk is het welke stekker je waar in moet steken) en gebruikersvriendelijkheid (USB-A/HDMI). | C25: SCORE: | F25: SCORE: | I25: SCORE:
C26: <MOTIVATIE> | F26: <MOTIVATIE> | I26: <MOTIVATIE>
A27: ='Proefopstelling aangeboden digi'!A16 -> 13. Eenvoud en snelheid afsluiten (beoordelaar wil zo snel mogelijk afsluiten om naar een volgende les te kunnen gaan). | C27: SCORE: | F27: SCORE: | I27: SCORE:
C28: <MOTIVATIE> | F28: <MOTIVATIE> | I28: <MOTIVATIE>

Sheet Beoordelaar 2
A1: Beoordelaar 2: <<>> | C1: Inschrijver 1 | F1: Inschrijver 2 | I1: Inschrijver 3
A2: ='Proefopstelling aangeboden digi'!A3 -> Beoordelingskader aangeboden digibord | C2: Score: | F2: Score: | I2: Score:
A3: ='Proefopstelling aangeboden digi'!A4 -> 1. Eenvoud opstarten en snelheid digibord werkend gebruiken (beoordelaar sluit een eigen device (voor iedere inschrijver hetzelfde device) met de aangeboden draadloze oplossing aan en met bekabeling). | C3: SCORE: | F3: SCORE: | I3: SCORE:
C4: <MOTIVATIE> | F4: <MOTIVATIE> | I4: <MOTIVATIE>
A5: ='Proefopstelling aangeboden digi'!A5 -> 2. Werking van de digitale pen (beoordelaar schrijft en tekent op het bord). | C5: SCORE: | F5: SCORE: | I5: SCORE:
C6: <MOTIVATIE> | F6: <MOTIVATIE> | I6: <MOTIVATIE>
A7: ='Proefopstelling aangeboden digi'!A6 -> 3. Werking gumfunctie van de digitale pen. | C7: SCORE: | F7: SCORE: | I7: SCORE:
C8: <MOTIVATIE> | F8: <MOTIVATIE> | I8: <MOTIVATIE>
A9: ='Proefopstelling aangeboden digi'!A7 -> 4. Werking touch met hand/vinger (beoordelaar doet beide handelingen). | C9: SCORE: | F9: SCORE: | I9: SCORE:
C10: <MOTIVATIE> | F10: <MOTIVATIE> | I10: <MOTIVATIE>
A11: ='Proefopstelling aangeboden digi'!A8 -> 5. Werking digitaal whiteboard; schrijffunctie en eenvoud van de bediening vanaf een device (dit wordt getest binnen de whiteboardfunctionaliteit afkomstig van het eigen device). | C11: SCORE: | F11: SCORE: | I11: SCORE:
C12: <MOTIVATIE> | F12: <MOTIVATIE> | I12: <MOTIVATIE>
A13: ='Proefopstelling aangeboden digi'!A9 -> 6. Werking gumfunctie met hand/vinger (beoordelaar doet beide handelingen). | C13: SCORE: | F13: SCORE: | I13: SCORE:
C14: <MOTIVATIE> | F14: <MOTIVATIE> | I14: <MOTIVATIE>
A15: ='Proefopstelling aangeboden digi'!A10 -> 7. Werking ‘freezen’ scherm (zie ook programma van eisen) waarbij de docent nog kan werken op de eigen device. | C15: SCORE: | F15: SCORE: | I15: SCORE:
C16: <MOTIVATIE> | F16: <MOTIVATIE> | I16: <MOTIVATIE>
A17: ='Proefopstelling aangeboden digi'!A11 -> 8. Geluid (spraak en muziek) van de ingebouwde luidsprekers (spraak en muziek worden getest aan de hand van de video, de eerste 39 seconden). | C17: SCORE: | F17: SCORE: | I17: SCORE:
C18: <MOTIVATIE> | F18: <MOTIVATIE> | I18: <MOTIVATIE>
A19: ='Proefopstelling aangeboden digi'!A12 -> 9. Scherpte beeld tot 8,5 meter en invalshoeken vanuit de lessets in het lokaal (met en zonder zonlicht van buiten), voor iedere Inschrijver gelijke positie. | C19: SCORE: | F19: SCORE: | I19: SCORE:
C20: <MOTIVATIE> | F20: <MOTIVATIE> | I20: <MOTIVATIE>
A21: ='Proefopstelling aangeboden digi'!A13 -> 10. Kwaliteit knoppen en toegankelijkheid (aan/uit/overige) door deze veelvuldig (minimaal 10x) te gebruiken.emen). | C21: SCORE: | F21: SCORE: | I21: SCORE:
C22: <MOTIVATIE> | F22: <MOTIVATIE> | I22: <MOTIVATIE>
A23: ='Proefopstelling aangeboden digi'!A14 -> 11. Kwaliteit glasplaat van het digibord, mate van gladheid (beoordelaar zal de glasplaat niet beschadigen). | C23: SCORE: | F23: SCORE: | I23: SCORE:
C24: <MOTIVATIE> | F24: <MOTIVATIE> | I24: <MOTIVATIE>
A25: ='Proefopstelling aangeboden digi'!A15 -> 12. Kwaliteit aansluitpunten toegankelijkheid (hoe makkelijk kun je erbij komen en hoe duidelijk is het welke stekker je waar in moet steken) en gebruikersvriendelijkheid (USB-A/HDMI). | C25: SCORE: | F25: SCORE: | I25: SCORE:
C26: <MOTIVATIE> | F26: <MOTIVATIE> | I26: <MOTIVATIE>
A27: ='Proefopstelling aangeboden digi'!A16 -> 13. Eenvoud en snelheid afsluiten (beoordelaar wil zo snel mogelijk afsluiten om naar een volgende les te kunnen gaan). | C27: SCORE: | F27: SCORE: | I27: SCORE:
C28: <MOTIVATIE> | F28: <MOTIVATIE> | I28: <MOTIVATIE>

Sheet Beoordelaar 3
A1: Beoordelaar 3: <<>> | C1: Inschrijver 1 | F1: Inschrijver 2 | I1: Inschrijver 3
A2: ='Proefopstelling aangeboden digi'!A3 -> Beoordelingskader aangeboden digibord | C2: Score: | F2: Score: | I2: Score:
A3: ='Proefopstelling aangeboden digi'!A4 -> 1. Eenvoud opstarten en snelheid digibord werkend gebruiken (beoordelaar sluit een eigen device (voor iedere inschrijver hetzelfde device) met de aangeboden draadloze oplossing aan en met bekabeling). | C3: SCORE: | F3: SCORE: | I3: SCORE:
C4: <MOTIVATIE> | F4: <MOTIVATIE> | I4: <MOTIVATIE>
A5: ='Proefopstelling aangeboden digi'!A5 -> 2. Werking van de digitale pen (beoordelaar schrijft en tekent op het bord). | C5: SCORE: | F5: SCORE: | I5: SCORE:
C6: <MOTIVATIE> | F6: <MOTIVATIE> | I6: <MOTIVATIE>
A7: ='Proefopstelling aangeboden digi'!A6 -> 3. Werking gumfunctie van de digitale pen. | C7: SCORE: | F7: SCORE: | I7: SCORE:
C8: <MOTIVATIE> | F8: <MOTIVATIE> | I8: <MOTIVATIE>
A9: ='Proefopstelling aangeboden digi'!A7 -> 4. Werking touch met hand/vinger (beoordelaar doet beide handelingen). | C9: SCORE: | F9: SCORE: | I9: SCORE:
C10: <MOTIVATIE> | F10: <MOTIVATIE> | I10: <MOTIVATIE>
A11: ='Proefopstelling aangeboden digi'!A8 -> 5. Werking digitaal whiteboard; schrijffunctie en eenvoud van de bediening vanaf een device (dit wordt getest binnen de whiteboardfunctionaliteit afkomstig van het eigen device). | C11: SCORE: | F11: SCORE: | I11: SCORE:
C12: <MOTIVATIE> | F12: <MOTIVATIE> | I12: <MOTIVATIE>
A13: ='Proefopstelling aangeboden digi'!A9 -> 6. Werking gumfunctie met hand/vinger (beoordelaar doet beide handelingen). | C13: SCORE: | F13: SCORE: | I13: SCORE:
C14: <MOTIVATIE> | F14: <MOTIVATIE> | I14: <MOTIVATIE>
A15: ='Proefopstelling aangeboden digi'!A10 -> 7. Werking ‘freezen’ scherm (zie ook programma van eisen) waarbij de docent nog kan werken op de eigen device. | C15: SCORE: | F15: SCORE: | I15: SCORE:
C16: <MOTIVATIE> | F16: <MOTIVATIE> | I16: <MOTIVATIE>
A17: ='Proefopstelling aangeboden digi'!A11 -> 8. Geluid (spraak en muziek) van de ingebouwde luidsprekers (spraak en muziek worden getest aan de hand van de video, de eerste 39 seconden). | C17: SCORE: | F17: SCORE: | I17: SCORE:
C18: <MOTIVATIE> | F18: <MOTIVATIE> | I18: <MOTIVATIE>
A19: ='Proefopstelling aangeboden digi'!A12 -> 9. Scherpte beeld tot 8,5 meter en invalshoeken vanuit de lessets in het lokaal (met en zonder zonlicht van buiten), voor iedere Inschrijver gelijke positie. | C19: SCORE: | F19: SCORE: | I19: SCORE:
C20: <MOTIVATIE> | F20: <MOTIVATIE> | I20: <MOTIVATIE>
A21: ='Proefopstelling aangeboden digi'!A13 -> 10. Kwaliteit knoppen en toegankelijkheid (aan/uit/overige) door deze veelvuldig (minimaal 10x) te gebruiken.emen). | C21: SCORE: | F21: SCORE: | I21: SCORE:
C22: <MOTIVATIE> | F22: <MOTIVATIE> | I22: <MOTIVATIE>
A23: ='Proefopstelling aangeboden digi'!A14 -> 11. Kwaliteit glasplaat van het digibord, mate van gladheid (beoordelaar zal de glasplaat niet beschadigen). | C23: SCORE: | F23: SCORE: | I23: SCORE:
C24: <MOTIVATIE> | F24: <MOTIVATIE> | I24: <MOTIVATIE>
A25: ='Proefopstelling aangeboden digi'!A15 -> 12. Kwaliteit aansluitpunten toegankelijkheid (hoe makkelijk kun je erbij komen en hoe duidelijk is het welke stekker je waar in moet steken) en gebruikersvriendelijkheid (USB-A/HDMI). | C25: SCORE: | F25: SCORE: | I25: SCORE:
C26: <MOTIVATIE> | F26: <MOTIVATIE> | I26: <MOTIVATIE>
A27: ='Proefopstelling aangeboden digi'!A16 -> 13. Eenvoud en snelheid afsluiten (beoordelaar wil zo snel mogelijk afsluiten om naar een volgende les te kunnen gaan). | C27: SCORE: | F27: SCORE: | I27: SCORE:
C28: <MOTIVATIE> | F28: <MOTIVATIE> | I28: <MOTIVATIE>

Sheet Beoordelaar 4
A1: Beoordelaar 4: <<>> | C1: Inschrijver 1 | F1: Inschrijver 2 | I1: Inschrijver 3
A2: ='Proefopstelling aangeboden digi'!A3 -> Beoordelingskader aangeboden digibord | C2: Score: | F2: Score: | I2: Score:
A3: ='Proefopstelling aangeboden digi'!A4 -> 1. Eenvoud opstarten en snelheid digibord werkend gebruiken (beoordelaar sluit een eigen device (voor iedere inschrijver hetzelfde device) met de aangeboden draadloze oplossing aan en met bekabeling). | C3: SCORE: | F3: SCORE: | I3: SCORE:
C4: <MOTIVATIE> | F4: <MOTIVATIE> | I4: <MOTIVATIE>
A5: ='Proefopstelling aangeboden digi'!A5 -> 2. Werking van de digitale pen (beoordelaar schrijft en tekent op het bord). | C5: SCORE: | F5: SCORE: | I5: SCORE:
C6: <MOTIVATIE> | F6: <MOTIVATIE> | I6: <MOTIVATIE>
A7: ='Proefopstelling aangeboden digi'!A6 -> 3. Werking gumfunctie van de digitale pen. | C7: SCORE: | F7: SCORE: | I7: SCORE:
C8: <MOTIVATIE> | F8: <MOTIVATIE> | I8: <MOTIVATIE>
A9: ='Proefopstelling aangeboden digi'!A7 -> 4. Werking touch met hand/vinger (beoordelaar doet beide handelingen). | C9: SCORE: | F9: SCORE: | I9: SCORE:
C10: <MOTIVATIE> | F10: <MOTIVATIE> | I10: <MOTIVATIE>
A11: ='Proefopstelling aangeboden digi'!A8 -> 5. Werking digitaal whiteboard; schrijffunctie en eenvoud van de bediening vanaf een device (dit wordt getest binnen de whiteboardfunctionaliteit afkomstig van het eigen device). | C11: SCORE: | F11: SCORE: | I11: SCORE:
C12: <MOTIVATIE> | F12: <MOTIVATIE> | I12: <MOTIVATIE>
A13: ='Proefopstelling aangeboden digi'!A9 -> 6. Werking gumfunctie met hand/vinger (beoordelaar doet beide handelingen). | C13: SCORE: | F13: SCORE: | I13: SCORE:
C14: <MOTIVATIE> | F14: <MOTIVATIE> | I14: <MOTIVATIE>
A15: ='Proefopstelling aangeboden digi'!A10 -> 7. Werking ‘freezen’ scherm (zie ook programma van eisen) waarbij de docent nog kan werken op de eigen device. | C15: SCORE: | F15: SCORE: | I15: SCORE:
C16: <MOTIVATIE> | F16: <MOTIVATIE> | I16: <MOTIVATIE>
A17: ='Proefopstelling aangeboden digi'!A11 -> 8. Geluid (spraak en muziek) van de ingebouwde luidsprekers (spraak en muziek worden getest aan de hand van de video, de eerste 39 seconden). | C17: SCORE: | F17: SCORE: | I17: SCORE:
C18: <MOTIVATIE> | F18: <MOTIVATIE> | I18: <MOTIVATIE>
A19: ='Proefopstelling aangeboden digi'!A12 -> 9. Scherpte beeld tot 8,5 meter en invalshoeken vanuit de lessets in het lokaal (met en zonder zonlicht van buiten), voor iedere Inschrijver gelijke positie. | C19: SCORE: | F19: SCORE: | I19: SCORE:
C20: <MOTIVATIE> | F20: <MOTIVATIE> | I20: <MOTIVATIE>
A21: ='Proefopstelling aangeboden digi'!A13 -> 10. Kwaliteit knoppen en toegankelijkheid (aan/uit/overige) door deze veelvuldig (minimaal 10x) te gebruiken.emen). | C21: SCORE: | F21: SCORE: | I21: SCORE:
C22: <MOTIVATIE> | F22: <MOTIVATIE> | I22: <MOTIVATIE>
A23: ='Proefopstelling aangeboden digi'!A14 -> 11. Kwaliteit glasplaat van het digibord, mate van gladheid (beoordelaar zal de glasplaat niet beschadigen). | C23: SCORE: | F23: SCORE: | I23: SCORE:
C24: <MOTIVATIE> | F24: <MOTIVATIE> | I24: <MOTIVATIE>
A25: ='Proefopstelling aangeboden digi'!A15 -> 12. Kwaliteit aansluitpunten toegankelijkheid (hoe makkelijk kun je erbij komen en hoe duidelijk is het welke stekker je waar in moet steken) en gebruikersvriendelijkheid (USB-A/HDMI). | C25: SCORE: | F25: SCORE: | I25: SCORE:
C26: <MOTIVATIE> | F26: <MOTIVATIE> | I26: <MOTIVATIE>
A27: ='Proefopstelling aangeboden digi'!A16 -> 13. Eenvoud en snelheid afsluiten (beoordelaar wil zo snel mogelijk afsluiten om naar een volgende les te kunnen gaan). | C27: SCORE: | F27: SCORE: | I27: SCORE:
C28: <MOTIVATIE> | F28: <MOTIVATIE> | I28: <MOTIVATIE>

Sheet Beoordelaar 5
A1: Beoordelaar 5: <<>> | C1: Inschrijver 1 | F1: Inschrijver 2 | I1: Inschrijver 3
A2: ='Proefopstelling aangeboden digi'!A3 -> Beoordelingskader aangeboden digibord | C2: Score: | F2: Score: | I2: Score:
A3: ='Proefopstelling aangeboden digi'!A4 -> 1. Eenvoud opstarten en snelheid digibord werkend gebruiken (beoordelaar sluit een eigen device (voor iedere inschrijver hetzelfde device) met de aangeboden draadloze oplossing aan en met bekabeling). | C3: SCORE: | F3: SCORE: | I3: SCORE:
C4: <MOTIVATIE> | F4: <MOTIVATIE> | I4: <MOTIVATIE>
A5: ='Proefopstelling aangeboden digi'!A5 -> 2. Werking van de digitale pen (beoordelaar schrijft en tekent op het bord). | C5: SCORE: | F5: SCORE: | I5: SCORE:
C6: <MOTIVATIE> | F6: <MOTIVATIE> | I6: <MOTIVATIE>
A7: ='Proefopstelling aangeboden digi'!A6 -> 3. Werking gumfunctie van de digitale pen. | C7: SCORE: | F7: SCORE: | I7: SCORE:
C8: <MOTIVATIE> | F8: <MOTIVATIE> | I8: <MOTIVATIE>
A9: ='Proefopstelling aangeboden digi'!A7 -> 4. Werking touch met hand/vinger (beoordelaar doet beide handelingen). | C9: SCORE: | F9: SCORE: | I9: SCORE:
C10: <MOTIVATIE> | F10: <MOTIVATIE> | I10: <MOTIVATIE>
A11: ='Proefopstelling aangeboden digi'!A8 -> 5. Werking digitaal whiteboard; schrijffunctie en eenvoud van de bediening vanaf een device (dit wordt getest binnen de whiteboardfunctionaliteit afkomstig van het eigen device). | C11: SCORE: | F11: SCORE: | I11: SCORE:
C12: <MOTIVATIE> | F12: <MOTIVATIE> | I12: <MOTIVATIE>
A13: ='Proefopstelling aangeboden digi'!A9 -> 6. Werking gumfunctie met hand/vinger (beoordelaar doet beide handelingen). | C13: SCORE: | F13: SCORE: | I13: SCORE:
C14: <MOTIVATIE> | F14: <MOTIVATIE> | I14: <MOTIVATIE>
A15: ='Proefopstelling aangeboden digi'!A10 -> 7. Werking ‘freezen’ scherm (zie ook programma van eisen) waarbij de docent nog kan werken op de eigen device. | C15: SCORE: | F15: SCORE: | I15: SCORE:
C16: <MOTIVATIE> | F16: <MOTIVATIE> | I16: <MOTIVATIE>
A17: ='Proefopstelling aangeboden digi'!A11 -> 8. Geluid (spraak en muziek) van de ingebouwde luidsprekers (spraak en muziek worden getest aan de hand van de video, de eerste 39 seconden). | C17: SCORE: | F17: SCORE: | I17: SCORE:
C18: <MOTIVATIE> | F18: <MOTIVATIE> | I18: <MOTIVATIE>
A19: ='Proefopstelling aangeboden digi'!A12 -> 9. Scherpte beeld tot 8,5 meter en invalshoeken vanuit de lessets in het lokaal (met en zonder zonlicht van buiten), voor iedere Inschrijver gelijke positie. | C19: SCORE: | F19: SCORE: | I19: SCORE:
C20: <MOTIVATIE> | F20: <MOTIVATIE> | I20: <MOTIVATIE>
A21: ='Proefopstelling aangeboden digi'!A13 -> 10. Kwaliteit knoppen en toegankelijkheid (aan/uit/overige) door deze veelvuldig (minimaal 10x) te gebruiken.emen). | C21: SCORE: | F21: SCORE: | I21: SCORE:
C22: <MOTIVATIE> | F22: <MOTIVATIE> | I22: <MOTIVATIE>
A23: ='Proefopstelling aangeboden digi'!A14 -> 11. Kwaliteit glasplaat van het digibord, mate van gladheid (beoordelaar zal de glasplaat niet beschadigen). | C23: SCORE: | F23: SCORE: | I23: SCORE:
C24: <MOTIVATIE> | F24: <MOTIVATIE> | I24: <MOTIVATIE>
A25: ='Proefopstelling aangeboden digi'!A15 -> 12. Kwaliteit aansluitpunten toegankelijkheid (hoe makkelijk kun je erbij komen en hoe duidelijk is het welke stekker je waar in moet steken) en gebruikersvriendelijkheid (USB-A/HDMI). | C25: SCORE: | F25: SCORE: | I25: SCORE:
C26: <MOTIVATIE> | F26: <MOTIVATIE> | I26: <MOTIVATIE>
A27: ='Proefopstelling aangeboden digi'!A16 -> 13. Eenvoud en snelheid afsluiten (beoordelaar wil zo snel mogelijk afsluiten om naar een volgende les te kunnen gaan). | C27: SCORE: | F27: SCORE: | I27: SCORE:
C28: <MOTIVATIE> | F28: <MOTIVATIE> | I28: <MOTIVATIE>

Sheet Beoordelaar 6
A1: Beoordelaar 6: <<>> | C1: Inschrijver 1 | F1: Inschrijver 2 | I1: Inschrijver 3
A2: ='Proefopstelling aangeboden digi'!A3 -> Beoordelingskader aangeboden digibord | C2: Score: | F2: Score: | I2: Score:
A3: ='Proefopstelling aangeboden digi'!A4 -> 1. Eenvoud opstarten en snelheid digibord werkend gebruiken (beoordelaar sluit een eigen device (voor iedere inschrijver hetzelfde device) met de aangeboden draadloze oplossing aan en met bekabeling). | C3: SCORE: | F3: SCORE: | I3: SCORE:
C4: <MOTIVATIE> | F4: <MOTIVATIE> | I4: <MOTIVATIE>
A5: ='Proefopstelling aangeboden digi'!A5 -> 2. Werking van de digitale pen (beoordelaar schrijft en tekent op het bord). | C5: SCORE: | F5: SCORE: | I5: SCORE:
C6: <MOTIVATIE> | F6: <MOTIVATIE> | I6: <MOTIVATIE>
A7: ='Proefopstelling aangeboden digi'!A6 -> 3. Werking gumfunctie van de digitale pen. | C7: SCORE: | F7: SCORE: | I7: SCORE:
C8: <MOTIVATIE> | F8: <MOTIVATIE> | I8: <MOTIVATIE>
A9: ='Proefopstelling aangeboden digi'!A7 -> 4. Werking touch met hand/vinger (beoordelaar doet beide handelingen). | C9: SCORE: | F9: SCORE: | I9: SCORE:
C10: <MOTIVATIE> | F10: <MOTIVATIE> | I10: <MOTIVATIE>
A11: ='Proefopstelling aangeboden digi'!A8 -> 5. Werking digitaal whiteboard; schrijffunctie en eenvoud van de bediening vanaf een device (dit wordt getest binnen de whiteboardfunctionaliteit afkomstig van het eigen device). | C11: SCORE: | F11: SCORE: | I11: SCORE:
C12: <MOTIVATIE> | F12: <MOTIVATIE> | I12: <MOTIVATIE>
A13: ='Proefopstelling aangeboden digi'!A9 -> 6. Werking gumfunctie met hand/vinger (beoordelaar doet beide handelingen). | C13: SCORE: | F13: SCORE: | I13: SCORE:
C14: <MOTIVATIE> | F14: <MOTIVATIE> | I14: <MOTIVATIE>
A15: ='Proefopstelling aangeboden digi'!A10 -> 7. Werking ‘freezen’ scherm (zie ook programma van eisen) waarbij de docent nog kan werken op de eigen device. | C15: SCORE: | F15: SCORE: | I15: SCORE:
C16: <MOTIVATIE> | F16: <MOTIVATIE> | I16: <MOTIVATIE>
A17: ='Proefopstelling aangeboden digi'!A11 -> 8. Geluid (spraak en muziek) van de ingebouwde luidsprekers (spraak en muziek worden getest aan de hand van de video, de eerste 39 seconden). | C17: SCORE: | F17: SCORE: | I17: SCORE:
C18: <MOTIVATIE> | F18: <MOTIVATIE> | I18: <MOTIVATIE>
A19: ='Proefopstelling aangeboden digi'!A12 -> 9. Scherpte beeld tot 8,5 meter en invalshoeken vanuit de lessets in het lokaal (met en zonder zonlicht van buiten), voor iedere Inschrijver gelijke positie. | C19: SCORE: | F19: SCORE: | I19: SCORE:
C20: <MOTIVATIE> | F20: <MOTIVATIE> | I20: <MOTIVATIE>
A21: ='Proefopstelling aangeboden digi'!A13 -> 10. Kwaliteit knoppen en toegankelijkheid (aan/uit/overige) door deze veelvuldig (minimaal 10x) te gebruiken.emen). | C21: SCORE: | F21: SCORE: | I21: SCORE:
C22: <MOTIVATIE> | F22: <MOTIVATIE> | I22: <MOTIVATIE>
A23: ='Proefopstelling aangeboden digi'!A14 -> 11. Kwaliteit glasplaat van het digibord, mate van gladheid (beoordelaar zal de glasplaat niet beschadigen). | C23: SCORE: | F23: SCORE: | I23: SCORE:
C24: <MOTIVATIE> | F24: <MOTIVATIE> | I24: <MOTIVATIE>
A25: ='Proefopstelling aangeboden digi'!A15 -> 12. Kwaliteit aansluitpunten toegankelijkheid (hoe makkelijk kun je erbij komen en hoe duidelijk is het welke stekker je waar in moet steken) en gebruikersvriendelijkheid (USB-A/HDMI). | C25: SCORE: | F25: SCORE: | I25: SCORE:
C26: <MOTIVATIE> | F26: <MOTIVATIE> | I26: <MOTIVATIE>
A27: ='Proefopstelling aangeboden digi'!A16 -> 13. Eenvoud en snelheid afsluiten (beoordelaar wil zo snel mogelijk afsluiten om naar een volgende les te kunnen gaan). | C27: SCORE: | F27: SCORE: | I27: SCORE:
C28: <MOTIVATIE> | F28: <MOTIVATIE> | I28: <MOTIVATIE>

Sheet Beoordelaar 7
A1: Beoordelaar 7: <<>> | C1: Inschrijver 1 | F1: Inschrijver 2 | I1: Inschrijver 3
A2: ='Proefopstelling aangeboden digi'!A3 -> Beoordelingskader aangeboden digibord | C2: Score: | F2: Score: | I2: Score:
A3: ='Proefopstelling aangeboden digi'!A4 -> 1. Eenvoud opstarten en snelheid digibord werkend gebruiken (beoordelaar sluit een eigen device (voor iedere inschrijver hetzelfde device) met de aangeboden draadloze oplossing aan en met bekabeling). | C3: SCORE: | F3: SCORE: | I3: SCORE:
C4: <MOTIVATIE> | F4: <MOTIVATIE> | I4: <MOTIVATIE>
A5: ='Proefopstelling aangeboden digi'!A5 -> 2. Werking van de digitale pen (beoordelaar schrijft en tekent op het bord). | C5: SCORE: | F5: SCORE: | I5: SCORE:
C6: <MOTIVATIE> | F6: <MOTIVATIE> | I6: <MOTIVATIE>
A7: ='Proefopstelling aangeboden digi'!A6 -> 3. Werking gumfunctie van de digitale pen. | C7: SCORE: | F7: SCORE: | I7: SCORE:
C8: <MOTIVATIE> | F8: <MOTIVATIE> | I8: <MOTIVATIE>
A9: ='Proefopstelling aangeboden digi'!A7 -> 4. Werking touch met hand/vinger (beoordelaar doet beide handelingen). | C9: SCORE: | F9: SCORE: | I9: SCORE:
C10: <MOTIVATIE> | F10: <MOTIVATIE> | I10: <MOTIVATIE>
A11: ='Proefopstelling aangeboden digi'!A8 -> 5. Werking digitaal whiteboard; schrijffunctie en eenvoud van de bediening vanaf een device (dit wordt getest binnen de whiteboardfunctionaliteit afkomstig van het eigen device). | C11: SCORE: | F11: SCORE: | I11: SCORE:
C12: <MOTIVATIE> | F12: <MOTIVATIE> | I12: <MOTIVATIE>
A13: ='Proefopstelling aangeboden digi'!A9 -> 6. Werking gumfunctie met hand/vinger (beoordelaar doet beide handelingen). | C13: SCORE: | F13: SCORE: | I13: SCORE:
C14: <MOTIVATIE> | F14: <MOTIVATIE> | I14: <MOTIVATIE>
A15: ='Proefopstelling aangeboden digi'!A10 -> 7. Werking ‘freezen’ scherm (zie ook programma van eisen) waarbij de docent nog kan werken op de eigen device. | C15: SCORE: | F15: SCORE: | I15: SCORE:
C16: <MOTIVATIE> | F16: <MOTIVATIE> | I16: <MOTIVATIE>
A17: ='Proefopstelling aangeboden digi'!A11 -> 8. Geluid (spraak en muziek) van de ingebouwde luidsprekers (spraak en muziek worden getest aan de hand van de video, de eerste 39 seconden). | C17: SCORE: | F17: SCORE: | I17: SCORE:
C18: <MOTIVATIE> | F18: <MOTIVATIE> | I18: <MOTIVATIE>
A19: ='Proefopstelling aangeboden digi'!A12 -> 9. Scherpte beeld tot 8,5 meter en invalshoeken vanuit de lessets in het lokaal (met en zonder zonlicht van buiten), voor iedere Inschrijver gelijke positie. | C19: SCORE: | F19: SCORE: | I19: SCORE:
C20: <MOTIVATIE> | F20: <MOTIVATIE> | I20: <MOTIVATIE>
A21: ='Proefopstelling aangeboden digi'!A13 -> 10. Kwaliteit knoppen en toegankelijkheid (aan/uit/overige) door deze veelvuldig (minimaal 10x) te gebruiken.emen). | C21: SCORE: | F21: SCORE: | I21: SCORE:
C22: <MOTIVATIE> | F22: <MOTIVATIE> | I22: <MOTIVATIE>
A23: ='Proefopstelling aangeboden digi'!A14 -> 11. Kwaliteit glasplaat van het digibord, mate van gladheid (beoordelaar zal de glasplaat niet beschadigen). | C23: SCORE: | F23: SCORE: | I23: SCORE:
C24: <MOTIVATIE> | F24: <MOTIVATIE> | I24: <MOTIVATIE>
A25: ='Proefopstelling aangeboden digi'!A15 -> 12. Kwaliteit aansluitpunten toegankelijkheid (hoe makkelijk kun je erbij komen en hoe duidelijk is het welke stekker je waar in moet steken) en gebruikersvriendelijkheid (USB-A/HDMI). | C25: SCORE: | F25: SCORE: | I25: SCORE:
C26: <MOTIVATIE> | F26: <MOTIVATIE> | I26: <MOTIVATIE>
A27: ='Proefopstelling aangeboden digi'!A16 -> 13. Eenvoud en snelheid afsluiten (beoordelaar wil zo snel mogelijk afsluiten om naar een volgende les te kunnen gaan). | C27: SCORE: | F27: SCORE: | I27: SCORE:
C28: <MOTIVATIE> | F28: <MOTIVATIE> | I28: <MOTIVATIE>

Sheet Beoordelaar 8
A1: Beoordelaar 8: <<>> | C1: Inschrijver 1 | F1: Inschrijver 2 | I1: Inschrijver 3
A2: ='Proefopstelling aangeboden digi'!A3 -> Beoordelingskader aangeboden digibord | C2: Score: | F2: Score: | I2: Score:
A3: ='Proefopstelling aangeboden digi'!A4 -> 1. Eenvoud opstarten en snelheid digibord werkend gebruiken (beoordelaar sluit een eigen device (voor iedere inschrijver hetzelfde device) met de aangeboden draadloze oplossing aan en met bekabeling). | C3: SCORE: | F3: SCORE: | I3: SCORE:
C4: <MOTIVATIE> | F4: <MOTIVATIE> | I4: <MOTIVATIE>
A5: ='Proefopstelling aangeboden digi'!A5 -> 2. Werking van de digitale pen (beoordelaar schrijft en tekent op het bord). | C5: SCORE: | F5: SCORE: | I5: SCORE:
C6: <MOTIVATIE> | F6: <MOTIVATIE> | I6: <MOTIVATIE>
A7: ='Proefopstelling aangeboden digi'!A6 -> 3. Werking gumfunctie van de digitale pen. | C7: SCORE: | F7: SCORE: | I7: SCORE:
C8: <MOTIVATIE> | F8: <MOTIVATIE> | I8: <MOTIVATIE>
A9: ='Proefopstelling aangeboden digi'!A7 -> 4. Werking touch met hand/vinger (beoordelaar doet beide handelingen). | C9: SCORE: | F9: SCORE: | I9: SCORE:
C10: <MOTIVATIE> | F10: <MOTIVATIE> | I10: <MOTIVATIE>
A11: ='Proefopstelling aangeboden digi'!A8 -> 5. Werking digitaal whiteboard; schrijffunctie en eenvoud van de bediening vanaf een device (dit wordt getest binnen de whiteboardfunctionaliteit afkomstig van het eigen device). | C11: SCORE: | F11: SCORE: | I11: SCORE:
C12: <MOTIVATIE> | F12: <MOTIVATIE> | I12: <MOTIVATIE>
A13: ='Proefopstelling aangeboden digi'!A9 -> 6. Werking gumfunctie met hand/vinger (beoordelaar doet beide handelingen). | C13: SCORE: | F13: SCORE: | I13: SCORE:
C14: <MOTIVATIE> | F14: <MOTIVATIE> | I14: <MOTIVATIE>
A15: ='Proefopstelling aangeboden digi'!A10 -> 7. Werking ‘freezen’ scherm (zie ook programma van eisen) waarbij de docent nog kan werken op de eigen device. | C15: SCORE: | F15: SCORE: | I15: SCORE:
C16: <MOTIVATIE> | F16: <MOTIVATIE> | I16: <MOTIVATIE>
A17: ='Proefopstelling aangeboden digi'!A11 -> 8. Geluid (spraak en muziek) van de ingebouwde luidsprekers (spraak en muziek worden getest aan de hand van de video, de eerste 39 seconden). | C17: SCORE: | F17: SCORE: | I17: SCORE:
C18: <MOTIVATIE> | F18: <MOTIVATIE> | I18: <MOTIVATIE>
A19: ='Proefopstelling aangeboden digi'!A12 -> 9. Scherpte beeld tot 8,5 meter en invalshoeken vanuit de lessets in het lokaal (met en zonder zonlicht van buiten), voor iedere Inschrijver gelijke positie. | C19: SCORE: | F19: SCORE: | I19: SCORE:
C20: <MOTIVATIE> | F20: <MOTIVATIE> | I20: <MOTIVATIE>
A21: ='Proefopstelling aangeboden digi'!A13 -> 10. Kwaliteit knoppen en toegankelijkheid (aan/uit/overige) door deze veelvuldig (minimaal 10x) te gebruiken.emen). | C21: SCORE: | F21: SCORE: | I21: SCORE:
C22: <MOTIVATIE> | F22: <MOTIVATIE> | I22: <MOTIVATIE>
A23: ='Proefopstelling aangeboden digi'!A14 -> 11. Kwaliteit glasplaat van het digibord, mate van gladheid (beoordelaar zal de glasplaat niet beschadigen). | C23: SCORE: | F23: SCORE: | I23: SCORE:
C24: <MOTIVATIE> | F24: <MOTIVATIE> | I24: <MOTIVATIE>
A25: ='Proefopstelling aangeboden digi'!A15 -> 12. Kwaliteit aansluitpunten toegankelijkheid (hoe makkelijk kun je erbij komen en hoe duidelijk is het welke stekker je waar in moet steken) en gebruikersvriendelijkheid (USB-A/HDMI). | C25: SCORE: | F25: SCORE: | I25: SCORE:
C26: <MOTIVATIE> | F26: <MOTIVATIE> | I26: <MOTIVATIE>
A27: ='Proefopstelling aangeboden digi'!A16 -> 13. Eenvoud en snelheid afsluiten (beoordelaar wil zo snel mogelijk afsluiten om naar een volgende les te kunnen gaan). | C27: SCORE: | F27: SCORE: | I27: SCORE:
C28: <MOTIVATIE> | F28: <MOTIVATIE> | I28: <MOTIVATIE>

Sheet Beoordelaar 9
A1: Beoordelaar 9: <<>> | C1: Inschrijver 1 | F1: Inschrijver 2 | I1: Inschrijver 3
A2: ='Proefopstelling aangeboden digi'!A3 -> Beoordelingskader aangeboden digibord | C2: Score: | F2: Score: | I2: Score:
A3: ='Proefopstelling aangeboden digi'!A4 -> 1. Eenvoud opstarten en snelheid digibord werkend gebruiken (beoordelaar sluit een eigen device (voor iedere inschrijver hetzelfde device) met de aangeboden draadloze oplossing aan en met bekabeling). | C3: SCORE: | F3: SCORE: | I3: SCORE:
C4: <MOTIVATIE> | F4: <MOTIVATIE> | I4: <MOTIVATIE>
A5: ='Proefopstelling aangeboden digi'!A5 -> 2. Werking van de digitale pen (beoordelaar schrijft en tekent op het bord). | C5: SCORE: | F5: SCORE: | I5: SCORE:
C6: <MOTIVATIE> | F6: <MOTIVATIE> | I6: <MOTIVATIE>
A7: ='Proefopstelling aangeboden digi'!A6 -> 3. Werking gumfunctie van de digitale pen. | C7: SCORE: | F7: SCORE: | I7: SCORE:
C8: <MOTIVATIE> | F8: <MOTIVATIE> | I8: <MOTIVATIE>
A9: ='Proefopstelling aangeboden digi'!A7 -> 4. Werking touch met hand/vinger (beoordelaar doet beide handelingen). | C9: SCORE: | F9: SCORE: | I9: SCORE:
C10: <MOTIVATIE> | F10: <MOTIVATIE> | I10: <MOTIVATIE>
A11: ='Proefopstelling aangeboden digi'!A8 -> 5. Werking digitaal whiteboard; schrijffunctie en eenvoud van de bediening vanaf een device (dit wordt getest binnen de whiteboardfunctionaliteit afkomstig van het eigen device). | C11: SCORE: | F11: SCORE: | I11: SCORE:
C12: <MOTIVATIE> | F12: <MOTIVATIE> | I12: <MOTIVATIE>
A13: ='Proefopstelling aangeboden digi'!A9 -> 6. Werking gumfunctie met hand/vinger (beoordelaar doet beide handelingen). | C13: SCORE: | F13: SCORE: | I13: SCORE:
C14: <MOTIVATIE> | F14: <MOTIVATIE> | I14: <MOTIVATIE>
A15: ='Proefopstelling aangeboden digi'!A10 -> 7. Werking ‘freezen’ scherm (zie ook programma van eisen) waarbij de docent nog kan werken op de eigen device. | C15: SCORE: | F15: SCORE: | I15: SCORE:
C16: <MOTIVATIE> | F16: <MOTIVATIE> | I16: <MOTIVATIE>
A17: ='Proefopstelling aangeboden digi'!A11 -> 8. Geluid (spraak en muziek) van de ingebouwde luidsprekers (spraak en muziek worden getest aan de hand van de video, de eerste 39 seconden). | C17: SCORE: | F17: SCORE: | I17: SCORE:
C18: <MOTIVATIE> | F18: <MOTIVATIE> | I18: <MOTIVATIE>
A19: ='Proefopstelling aangeboden digi'!A12 -> 9. Scherpte beeld tot 8,5 meter en invalshoeken vanuit de lessets in het lokaal (met en zonder zonlicht van buiten), voor iedere Inschrijver gelijke positie. | C19: SCORE: | F19: SCORE: | I19: SCORE:
C20: <MOTIVATIE> | F20: <MOTIVATIE> | I20: <MOTIVATIE>
A21: ='Proefopstelling aangeboden digi'!A13 -> 10. Kwaliteit knoppen en toegankelijkheid (aan/uit/overige) door deze veelvuldig (minimaal 10x) te gebruiken.emen). | C21: SCORE: | F21: SCORE: | I21: SCORE:
C22: <MOTIVATIE> | F22: <MOTIVATIE> | I22: <MOTIVATIE>
A23: ='Proefopstelling aangeboden digi'!A14 -> 11. Kwaliteit glasplaat van het digibord, mate van gladheid (beoordelaar zal de glasplaat niet beschadigen). | C23: SCORE: | F23: SCORE: | I23: SCORE:
C24: <MOTIVATIE> | F24: <MOTIVATIE> | I24: <MOTIVATIE>
A25: ='Proefopstelling aangeboden digi'!A15 -> 12. Kwaliteit aansluitpunten toegankelijkheid (hoe makkelijk kun je erbij komen en hoe duidelijk is het welke stekker je waar in moet steken) en gebruikersvriendelijkheid (USB-A/HDMI). | C25: SCORE: | F25: SCORE: | I25: SCORE:
C26: <MOTIVATIE> | F26: <MOTIVATIE> | I26: <MOTIVATIE>
A27: ='Proefopstelling aangeboden digi'!A16 -> 13. Eenvoud en snelheid afsluiten (beoordelaar wil zo snel mogelijk afsluiten om naar een volgende les te kunnen gaan). | C27: SCORE: | F27: SCORE: | I27: SCORE:
C28: <MOTIVATIE> | F28: <MOTIVATIE> | I28: <MOTIVATIE>

Sheet Beoordelaar 10
A1: Beoordelaar 10: <<>> | C1: Inschrijver 1 | F1: Inschrijver 2 | I1: Inschrijver 3
A2: ='Proefopstelling aangeboden digi'!A3 -> Beoordelingskader aangeboden digibord | C2: Score: | F2: Score: | I2: Score:
A3: ='Proefopstelling aangeboden digi'!A4 -> 1. Eenvoud opstarten en snelheid digibord werkend gebruiken (beoordelaar sluit een eigen device (voor iedere inschrijver hetzelfde device) met de aangeboden draadloze oplossing aan en met bekabeling). | C3: SCORE: | F3: SCORE: | I3: SCORE:
C4: <MOTIVATIE> | F4: <MOTIVATIE> | I4: <MOTIVATIE>
A5: ='Proefopstelling aangeboden digi'!A5 -> 2. Werking van de digitale pen (beoordelaar schrijft en tekent op het bord). | C5: SCORE: | F5: SCORE: | I5: SCORE:
C6: <MOTIVATIE> | F6: <MOTIVATIE> | I6: <MOTIVATIE>
A7: ='Proefopstelling aangeboden digi'!A6 -> 3. Werking gumfunctie van de digitale pen. | C7: SCORE: | F7: SCORE: | I7: SCORE:
C8: <MOTIVATIE> | F8: <MOTIVATIE> | I8: <MOTIVATIE>
A9: ='Proefopstelling aangeboden digi'!A7 -> 4. Werking touch met hand/vinger (beoordelaar doet beide handelingen). | C9: SCORE: | F9: SCORE: | I9: SCORE:
C10: <MOTIVATIE> | F10: <MOTIVATIE> | I10: <MOTIVATIE>
A11: ='Proefopstelling aangeboden digi'!A8 -> 5. Werking digitaal whiteboard; schrijffunctie en eenvoud van de bediening vanaf een device (dit wordt getest binnen de whiteboardfunctionaliteit afkomstig van het eigen device). | C11: SCORE: | F11: SCORE: | I11: SCORE:
C12: <MOTIVATIE> | F12: <MOTIVATIE> | I12: <MOTIVATIE>
A13: ='Proefopstelling aangeboden digi'!A9 -> 6. Werking gumfunctie met hand/vinger (beoordelaar doet beide handelingen). | C13: SCORE: | F13: SCORE: | I13: SCORE:
C14: <MOTIVATIE> | F14: <MOTIVATIE> | I14: <MOTIVATIE>
A15: ='Proefopstelling aangeboden digi'!A10 -> 7. Werking ‘freezen’ scherm (zie ook programma van eisen) waarbij de docent nog kan werken op de eigen device. | C15: SCORE: | F15: SCORE: | I15: SCORE:
C16: <MOTIVATIE> | F16: <MOTIVATIE> | I16: <MOTIVATIE>
A17: ='Proefopstelling aangeboden digi'!A11 -> 8. Geluid (spraak en muziek) van de ingebouwde luidsprekers (spraak en muziek worden getest aan de hand van de video, de eerste 39 seconden). | C17: SCORE: | F17: SCORE: | I17: SCORE:
C18: <MOTIVATIE> | F18: <MOTIVATIE> | I18: <MOTIVATIE>
A19: ='Proefopstelling aangeboden digi'!A12 -> 9. Scherpte beeld tot 8,5 meter en invalshoeken vanuit de lessets in het lokaal (met en zonder zonlicht van buiten), voor iedere Inschrijver gelijke positie. | C19: SCORE: | F19: SCORE: | I19: SCORE:
C20: <MOTIVATIE> | F20: <MOTIVATIE> | I20: <MOTIVATIE>
A21: ='Proefopstelling aangeboden digi'!A13 -> 10. Kwaliteit knoppen en toegankelijkheid (aan/uit/overige) door deze veelvuldig (minimaal 10x) te gebruiken.emen). | C21: SCORE: | F21: SCORE: | I21: SCORE:
C22: <MOTIVATIE> | F22: <MOTIVATIE> | I22: <MOTIVATIE>
A23: ='Proefopstelling aangeboden digi'!A14 -> 11. Kwaliteit glasplaat van het digibord, mate van gladheid (beoordelaar zal de glasplaat niet beschadigen). | C23: SCORE: | F23: SCORE: | I23: SCORE:
C24: <MOTIVATIE> | F24: <MOTIVATIE> | I24: <MOTIVATIE>
A25: ='Proefopstelling aangeboden digi'!A15 -> 12. Kwaliteit aansluitpunten toegankelijkheid (hoe makkelijk kun je erbij komen en hoe duidelijk is het welke stekker je waar in moet steken) en gebruikersvriendelijkheid (USB-A/HDMI). | C25: SCORE: | F25: SCORE: | I25: SCORE:
C26: <MOTIVATIE> | F26: <MOTIVATIE> | I26: <MOTIVATIE>
A27: ='Proefopstelling aangeboden digi'!A16 -> 13. Eenvoud en snelheid afsluiten (beoordelaar wil zo snel mogelijk afsluiten om naar een volgende les te kunnen gaan). | C27: SCORE: | F27: SCORE: | I27: SCORE:
C28: <MOTIVATIE> | F28: <MOTIVATIE> | I28: <MOTIVATIE>

Sheet Eindscores
A1: Totaalwaardes AANGEBODEN DIGIBORD
D2: ='Beoordelaar 1'!C1 -> Inschrijver 1 | E2: Motivatie consensus | G2: ='Beoordelaar 1'!F1 -> Inschrijver 2 | H2: Motivatie consensus | J2: ='Beoordelaar 1'!I1 -> Inschrijver 3 | K2: Motivatie consensus
A3: ='Proefopstelling aangeboden digi'!A4 -> 1. Eenvoud opstarten en snelheid digibord werkend gebruiken (beoordelaar sluit een eigen device (voor iedere inschrijver hetzelfde device) met de aangeboden draadloze oplossing aan en met bekabeling). | B3: Beoordelaar 1 | D3: ='Beoordelaar 1'!C3 -> SCORE: | E3: <<MOTIVATIE>> | G3: ='Beoordelaar 1'!F3 -> SCORE: | H3: <<MOTIVATIE>> | J3: ='Beoordelaar 1'!I3 -> SCORE: | K3: <<MOTIVATIE>>
B4: Beoordelaar 2 | D4: ='Beoordelaar 2'!C3 -> SCORE: | G4: ='Beoordelaar 2'!F3 -> SCORE: | J4: ='Beoordelaar 2'!I3 -> SCORE:
B5: Beoordelaar 3 | D5: ='Beoordelaar 3'!C3 -> SCORE: | G5: ='Beoordelaar 3'!F3 -> SCORE: | J5: ='Beoordelaar 3'!I3 -> SCORE:
B6: Beoordelaar 4 | D6: ='Beoordelaar 4'!C3 -> SCORE: | G6: ='Beoordelaar 4'!F3 -> SCORE: | J6: ='Beoordelaar 4'!I3 -> SCORE:
B7: Beoordelaar 5 | D7: ='Beoordelaar 5'!C3 -> SCORE: | G7: ='Beoordelaar 5'!F3 -> SCORE: | J7: ='Beoordelaar 5'!I3 -> SCORE:
B8: Beoordelaar 6 | D8: ='Beoordelaar 6'!C3 -> SCORE: | G8: ='Beoordelaar 6'!F3 -> SCORE: | J8: ='Beoordelaar 6'!I3 -> SCORE:
B9: Beoordelaar 7 | D9: ='Beoordelaar 7'!C3 -> SCORE: | G9: ='Beoordelaar 7'!F3 -> SCORE: | J9: ='Beoordelaar 7'!I3 -> SCORE:
B10: Beoordelaar 8 | D10: ='Beoordelaar 8'!C3 -> SCORE: | G10: ='Beoordelaar 8'!F3 -> SCORE: | J10: ='Beoordelaar 8'!I3 -> SCORE:
B11: Beoordelaar 9 | D11: ='Beoordelaar 9'!C3 -> SCORE: | G11: ='Beoordelaar 9'!F3 -> SCORE: | J11: ='Beoordelaar 9'!I3 -> SCORE:
B12: Beoordelaar 10 | D12: ='Beoordelaar 10'!C3 -> SCORE: | G12: ='Beoordelaar 10'!F3 -> SCORE: | J12: ='Beoordelaar 10'!I3 -> SCORE:
A13: Consensus | D13: SCORE: | G13: SCORE: | J13: SCORE:
D14: =IF(D13="Beter","€ 5.000",IF(D13="Vergelijkbaar","€ 0",IF(D13="Acceptabel verbeterpunt","-€ 20.000",IF(D13="Onacceptabel verbeterpunt","UITSLUITING"," ")))) | G14: =IF(G13="Beter","€ 5.000",IF(G13="Vergelijkbaar","€ 0",IF(G13="Acceptabel verbeterpunt","-€ 20.000",IF(G13="Onacceptabel verbeterpunt","UITSLUITING"," ")))) | J14: =IF(J13="Beter","€ 5.000",IF(J13="Vergelijkbaar","€ 0",IF(J13="Acceptabel verbeterpunt","-€ 20.000",IF(J13="Onacceptabel verbeterpunt","UITSLUITING"," "))))
A15: ='Proefopstelling aangeboden digi'!A5 -> 2. Werking van de digitale pen (beoordelaar schrijft en tekent op het bord). | B15: Beoordelaar 1 | D15: ='Beoordelaar 1'!C5 -> SCORE: | E15: <<MOTIVATIE>> | G15: ='Beoordelaar 1'!F5 -> SCORE: | H15: <<MOTIVATIE>> | J15: ='Beoordelaar 1'!I5 -> SCORE:
B16: Beoordelaar 2 | D16: ='Beoordelaar 2'!C5 -> SCORE: | G16: ='Beoordelaar 2'!F5 -> SCORE: | J16: ='Beoordelaar 2'!I5 -> SCORE:
B17: Beoordelaar 3 | D17: ='Beoordelaar 3'!C5 -> SCORE: | G17: ='Beoordelaar 3'!F5 -> SCORE: | J17: ='Beoordelaar 3'!I5 -> SCORE:
B18: Beoordelaar 4 | D18: ='Beoordelaar 4'!C5 -> SCORE: | G18: ='Beoordelaar 4'!F5 -> SCORE: | J18: ='Beoordelaar 4'!I5 -> SCORE:
B19: Beoordelaar 5 | D19: ='Beoordelaar 5'!C5 -> SCORE: | G19: ='Beoordelaar 5'!F5 -> SCORE: | J19: ='Beoordelaar 5'!I5 -> SCORE:
B20: Beoordelaar 6 | D20: ='Beoordelaar 6'!C5 -> SCORE: | G20: ='Beoordelaar 6'!F5 -> SCORE: | J20: ='Beoordelaar 6'!I5 -> SCORE:
B21: Beoordelaar 7 | D21: ='Beoordelaar 7'!C5 -> SCORE: | G21: ='Beoordelaar 7'!F5 -> SCORE: | J21: ='Beoordelaar 7'!I5 -> SCORE:
B22: Beoordelaar 8 | D22: ='Beoordelaar 8'!C5 -> SCORE: | G22: ='Beoordelaar 8'!F5 -> SCORE: | J22: ='Beoordelaar 8'!I5 -> SCORE:
B23: Beoordelaar 9 | D23: ='Beoordelaar 9'!C5 -> SCORE: | G23: ='Beoordelaar 9'!F5 -> SCORE: | J23: ='Beoordelaar 9'!I5 -> SCORE:
B24: Beoordelaar 10 | D24: ='Beoordelaar 10'!C5 -> SCORE: | G24: ='Beoordelaar 10'!F5 -> SCORE: | J24: ='Beoordelaar 10'!I5 -> SCORE:
A25: Consensus | D25: SCORE: | G25: SCORE: | J25: SCORE:
D26: =IF(D25="Beter","€ 15.000",IF(D25="Vergelijkbaar","€ 0",IF(D25="Acceptabel verbeterpunt","-€ 60.000",IF(D25="Onacceptabel verbeterpunt","UITSLUITING"," ")))) | G26: =IF(G25="Beter","€ 15.000",IF(G25="Vergelijkbaar","€ 0",IF(G25="Acceptabel verbeterpunt","-€ 60.000",IF(G25="Onacceptabel verbeterpunt","UITSLUITING"," ")))) | J26: =IF(J25="Beter","€ 15.000",IF(J25="Vergelijkbaar","€ 0",IF(J25="Acceptabel verbeterpunt","-€ 60.000",IF(J25="Onacceptabel verbeterpunt","UITSLUITING"," "))))
A27: ='Proefopstelling aangeboden digi'!A6 -> 3. Werking gumfunctie van de digitale pen. | B27: Beoordelaar 1 | D27: ='Beoordelaar 1'!C7 -> SCORE: | E27: <<MOTIVATIE>> | G27: ='Beoordelaar 1'!F7 -> SCORE: | H27: <<MOTIVATIE>> | J27: ='Beoordelaar 1'!I7 -> SCORE: | K27: <<MOTIVATIE>>
B28: Beoordelaar 2 | D28: ='Beoordelaar 2'!C7 -> SCORE: | G28: ='Beoordelaar 2'!F7 -> SCORE: | J28: ='Beoordelaar 2'!I7 -> SCORE:
B29: Beoordelaar 3 | D29: ='Beoordelaar 3'!C7 -> SCORE: | G29: ='Beoordelaar 3'!F7 -> SCORE: | J29: ='Beoordelaar 3'!I7 -> SCORE:
B30: Beoordelaar 4 | D30: ='Beoordelaar 4'!C7 -> SCORE: | G30: ='Beoordelaar 4'!F7 -> SCORE: | J30: ='Beoordelaar 4'!I7 -> SCORE:
B31: Beoordelaar 5 | D31: ='Beoordelaar 5'!C7 -> SCORE: | G31: ='Beoordelaar 5'!F7 -> SCORE: | J31: ='Beoordelaar 5'!I7 -> SCORE:
B32: Beoordelaar 6 | D32: ='Beoordelaar 6'!C7 -> SCORE: | G32: ='Beoordelaar 6'!F7 -> SCORE: | J32: ='Beoordelaar 6'!I7 -> SCORE:
B33: Beoordelaar 7 | D33: ='Beoordelaar 7'!C7 -> SCORE: | G33: ='Beoordelaar 7'!F7 -> SCORE: | J33: ='Beoordelaar 7'!I7 -> SCORE:
B34: Beoordelaar 8 | D34: ='Beoordelaar 8'!C7 -> SCORE: | G34: ='Beoordelaar 8'!F7 -> SCORE: | J34: ='Beoordelaar 8'!I7 -> SCORE:
B35: Beoordelaar 9 | D35: ='Beoordelaar 9'!C7 -> SCORE: | G35: ='Beoordelaar 9'!F7 -> SCORE: | J35: ='Beoordelaar 9'!I7 -> SCORE:
B36: Beoordelaar 10 | D36: ='Beoordelaar 10'!C7 -> SCORE: | G36: ='Beoordelaar 10'!F7 -> SCORE: | J36: ='Beoordelaar 10'!I7 -> SCORE:
A37: Consensus | D37: SCORE: | G37: SCORE: | J37: SCORE:
D38: =IF(D37="Beter","€ 5.000",IF(D37="Vergelijkbaar","€ 0",IF(D37="Acceptabel verbeterpunt","-€ 20.000",IF(D37="Onacceptabel verbeterpunt","UITSLUITING"," ")))) | G38: =IF(G37="Beter","€ 5.000",IF(G37="Vergelijkbaar","€ 0",IF(G37="Acceptabel verbeterpunt","-€ 20.000",IF(G37="Onacceptabel verbeterpunt","UITSLUITING"," ")))) | J38: =IF(J37="Beter","€ 5.000",IF(J37="Vergelijkbaar","€ 0",IF(J37="Acceptabel verbeterpunt","-€ 20.000",IF(J37="Onacceptabel verbeterpunt","UITSLUITING"," "))))
A39: ='Proefopstelling aangeboden digi'!A7 -> 4. Werking touch met hand/vinger (beoordelaar doet beide handelingen). | B39: Beoordelaar 1 | D39: ='Beoordelaar 1'!C9 -> SCORE: | E39: <<MOTIVATIE>> | G39: ='Beoordelaar 1'!F9 -> SCORE: | H39: <<MOTIVATIE>> | J39: ='Beoordelaar 1'!I9 -> SCORE: | K39: <<MOTIVATIE>>
B40: Beoordelaar 2 | D40: ='Beoordelaar 2'!C9 -> SCORE: | G40: ='Beoordelaar 2'!F9 -> SCORE: | J40: ='Beoordelaar 2'!I9 -> SCORE:
B41: Beoordelaar 3 | D41: ='Beoordelaar 3'!C9 -> SCORE: | G41: ='Beoordelaar 3'!F9 -> SCORE: | J41: ='Beoordelaar 3'!I9 -> SCORE:
B42: Beoordelaar 4 | D42: ='Beoordelaar 4'!C9 -> SCORE: | G42: ='Beoordelaar 4'!F9 -> SCORE: | J42: ='Beoordelaar 4'!I9 -> SCORE:
B43: Beoordelaar 5 | D43: ='Beoordelaar 5'!C9 -> SCORE: | G43: ='Beoordelaar 5'!F9 -> SCORE: | J43: ='Beoordelaar 5'!I9 -> SCORE:
B44: Beoordelaar 6 | D44: ='Beoordelaar 6'!C9 -> SCORE: | G44: ='Beoordelaar 6'!F9 -> SCORE: | J44: ='Beoordelaar 6'!I9 -> SCORE:
B45: Beoordelaar 7 | D45: ='Beoordelaar 7'!C9 -> SCORE: | G45: ='Beoordelaar 7'!F9 -> SCORE: | J45: ='Beoordelaar 7'!I9 -> SCORE:
B46: Beoordelaar 8 | D46: ='Beoordelaar 8'!C9 -> SCORE: | G46: ='Beoordelaar 8'!F9 -> SCORE: | J46: ='Beoordelaar 8'!I9 -> SCORE:
B47: Beoordelaar 9 | D47: ='Beoordelaar 9'!C9 -> SCORE: | G47: ='Beoordelaar 9'!F9 -> SCORE: | J47: ='Beoordelaar 9'!I9 -> SCORE:
B48: Beoordelaar 10 | D48: ='Beoordelaar 10'!C9 -> SCORE: | G48: ='Beoordelaar 10'!F9 -> SCORE: | J48: ='Beoordelaar 10'!I9 -> SCORE:
A49: Consensus | D49: SCORE: | G49: SCORE: | J49: SCORE:
D50: =IF(D49="Beter","€ 20.000",IF(D49="Vergelijkbaar","€ 0",IF(D49="Acceptabel verbeterpunt","-€ 80.000",IF(D49="Onacceptabel verbeterpunt","UITSLUITING"," ")))) | F50: 0 | G50: =IF(G49="Beter","€ 20.000",IF(G49="Vergelijkbaar","€ 0",IF(G49="Acceptabel verbeterpunt","-€ 80.000",IF(G49="Onacceptabel verbeterpunt","UITSLUITING"," ")))) | J50: =IF(J49="Beter","€ 20.000",IF(J49="Vergelijkbaar","€ 0",IF(J49="Acceptabel verbeterpunt","-€ 80.000",IF(J49="Onacceptabel verbeterpunt","UITSLUITING"," "))))
A51: ='Proefopstelling aangeboden digi'!A8 -> 5. Werking digitaal whiteboard; schrijffunctie en eenvoud van de bediening vanaf een device (dit wordt getest binnen de whiteboardfunctionaliteit afkomstig van het eigen device). | B51: Beoordelaar 1 | D51: ='Beoordelaar 1'!C11 -> SCORE: | E51: <<MOTIVATIE>> | G51: ='Beoordelaar 1'!F11 -> SCORE: | H51: <<MOTIVATIE>> | J51: ='Beoordelaar 1'!I11 -> SCORE: | K51: <<MOTIVATIE>>
B52: Beoordelaar 2 | D52: ='Beoordelaar 2'!C11 -> SCORE: | G52: ='Beoordelaar 2'!F11 -> SCORE: | J52: ='Beoordelaar 2'!I11 -> SCORE:
B53: Beoordelaar 3 | D53: ='Beoordelaar 3'!C11 -> SCORE: | G53: ='Beoordelaar 3'!F11 -> SCORE: | J53: ='Beoordelaar 3'!I11 -> SCORE:
B54: Beoordelaar 4 | D54: ='Beoordelaar 4'!C11 -> SCORE: | G54: ='Beoordelaar 4'!F11 -> SCORE: | J54: ='Beoordelaar 4'!I11 -> SCORE:
B55: Beoordelaar 5 | D55: ='Beoordelaar 5'!C11 -> SCORE: | G55: ='Beoordelaar 5'!F11 -> SCORE: | J55: ='Beoordelaar 5'!I11 -> SCORE:
B56: Beoordelaar 6 | D56: ='Beoordelaar 6'!C11 -> SCORE: | G56: ='Beoordelaar 6'!F11 -> SCORE: | J56: ='Beoordelaar 6'!I11 -> SCORE:
B57: Beoordelaar 7 | D57: ='Beoordelaar 7'!C11 -> SCORE: | G57: ='Beoordelaar 7'!F11 -> SCORE: | J57: ='Beoordelaar 7'!I11 -> SCORE:
B58: Beoordelaar 8 | D58: ='Beoordelaar 8'!C11 -> SCORE: | G58: ='Beoordelaar 8'!F11 -> SCORE: | J58: ='Beoordelaar 8'!I11 -> SCORE:
B59: Beoordelaar 9 | D59: ='Beoordelaar 9'!C11 -> SCORE: | G59: ='Beoordelaar 9'!F11 -> SCORE: | J59: ='Beoordelaar 9'!I11 -> SCORE:
B60: Beoordelaar 10 | D60: ='Beoordelaar 10'!C11 -> SCORE: | G60: ='Beoordelaar 10'!F11 -> SCORE: | J60: ='Beoordelaar 10'!I11 -> SCORE:
A61: Consensus | D61: SCORE: | G61: SCORE: | J61: SCORE:
D62: =IF(D61="Beter","€ 5.000",IF(D61="Vergelijkbaar","€ 0",IF(D61="Acceptabel verbeterpunt","-€ 20.000",IF(D61="Onacceptabel verbeterpunt","UITSLUITING"," ")))) | G62: =IF(G61="Beter","€ 5.000",IF(G61="Vergelijkbaar","€ 0",IF(G61="Acceptabel verbeterpunt","-€ 20.000",IF(G61="Onacceptabel verbeterpunt","UITSLUITING"," ")))) | J62: =IF(J61="Beter","€ 5.000",IF(J61="Vergelijkbaar","€ 0",IF(J61="Acceptabel verbeterpunt","-€ 20.000",IF(J61="Onacceptabel verbeterpunt","UITSLUITING"," "))))
A63: ='Proefopstelling aangeboden digi'!A9 -> 6. Werking gumfunctie met hand/vinger (beoordelaar doet beide handelingen). | B63: Beoordelaar 1 | D63: ='Beoordelaar 1'!C13 -> SCORE: | E63: <<MOTIVATIE>> | G63: ='Beoordelaar 1'!F13 -> SCORE: | H63: <<MOTIVATIE>> | J63: ='Beoordelaar 1'!I13 -> SCORE: | K63: <<MOTIVATIE>>
B64: Beoordelaar 2 | D64: ='Beoordelaar 2'!C13 -> SCORE: | G64: ='Beoordelaar 2'!F13 -> SCORE: | J64: ='Beoordelaar 2'!I13 -> SCORE:
B65: Beoordelaar 3 | D65: ='Beoordelaar 3'!C13 -> SCORE: | G65: ='Beoordelaar 3'!F13 -> SCORE: | J65: ='Beoordelaar 3'!I13 -> SCORE:
B66: Beoordelaar 4 | D66: ='Beoordelaar 4'!C13 -> SCORE: | G66: ='Beoordelaar 4'!F13 -> SCORE: | J66: ='Beoordelaar 4'!I13 -> SCORE:
B67: Beoordelaar 5 | D67: ='Beoordelaar 5'!C13 -> SCORE: | G67: ='Beoordelaar 5'!F13 -> SCORE: | J67: ='Beoordelaar 5'!I13 -> SCORE:
B68: Beoordelaar 6 | D68: ='Beoordelaar 6'!C13 -> SCORE: | G68: ='Beoordelaar 6'!F13 -> SCORE: | J68: ='Beoordelaar 6'!I13 -> SCORE:
B69: Beoordelaar 7 | D69: ='Beoordelaar 7'!C13 -> SCORE: | G69: ='Beoordelaar 7'!F13 -> SCORE: | J69: ='Beoordelaar 7'!I13 -> SCORE:
B70: Beoordelaar 8 | D70: ='Beoordelaar 8'!C13 -> SCORE: | G70: ='Beoordelaar 8'!F13 -> SCORE: | J70: ='Beoordelaar 8'!I13 -> SCORE:
B71: Beoordelaar 9 | D71: ='Beoordelaar 9'!C13 -> SCORE: | G71: ='Beoordelaar 9'!F13 -> SCORE: | J71: ='Beoordelaar 9'!I13 -> SCORE:
B72: Beoordelaar 10 | D72: ='Beoordelaar 10'!C13 -> SCORE: | G72: ='Beoordelaar 10'!F13 -> SCORE: | J72: ='Beoordelaar 10'!I13 -> SCORE:
A73: Consensus | D73: SCORE: | G73: SCORE: | J73: SCORE:
D74: =IF(D73="Beter","€ 5.000",IF(D73="Vergelijkbaar","€ 0",IF(D73="Acceptabel verbeterpunt","-€ 20.000",IF(D73="Onacceptabel verbeterpunt","UITSLUITING"," ")))) | G74: =IF(G73="Beter","€ 5.000",IF(G73="Vergelijkbaar","€ 0",IF(G73="Acceptabel verbeterpunt","-€ 20.000",IF(G73="Onacceptabel verbeterpunt","UITSLUITING"," ")))) | J74: =IF(J73="Beter","€ 5.000",IF(J73="Vergelijkbaar","€ 0",IF(J73="Acceptabel verbeterpunt","-€ 20.000",IF(J73="Onacceptabel verbeterpunt","UITSLUITING"," "))))
A75: ='Proefopstelling aangeboden digi'!A10 -> 7. Werking ‘freezen’ scherm (zie ook programma van eisen) waarbij de docent nog kan werken op de eigen device. | B75: Beoordelaar 1 | D75: ='Beoordelaar 1'!C15 -> SCORE: | E75: <<MOTIVATIE>> | G75: ='Beoordelaar 1'!F15 -> SCORE: | H75: <<MOTIVATIE>> | J75: ='Beoordelaar 1'!I15 -> SCORE: | K75: <<MOTIVATIE>>
B76: Beoordelaar 2 | D76: ='Beoordelaar 2'!C15 -> SCORE: | G76: ='Beoordelaar 2'!F15 -> SCORE: | J76: ='Beoordelaar 2'!I15 -> SCORE:
B77: Beoordelaar 3 | D77: ='Beoordelaar 3'!C15 -> SCORE: | G77: ='Beoordelaar 3'!F15 -> SCORE: | J77: ='Beoordelaar 3'!I15 -> SCORE:
B78: Beoordelaar 4 | D78: ='Beoordelaar 4'!C15 -> SCORE: | G78: ='Beoordelaar 4'!F15 -> SCORE: | J78: ='Beoordelaar 4'!I15 -> SCORE:
B79: Beoordelaar 5 | D79: ='Beoordelaar 5'!C15 -> SCORE: | G79: ='Beoordelaar 5'!F15 -> SCORE: | J79: ='Beoordelaar 5'!I15 -> SCORE:
B80: Beoordelaar 6 | D80: ='Beoordelaar 6'!C15 -> SCORE: | G80: ='Beoordelaar 6'!F15 -> SCORE: | J80: ='Beoordelaar 6'!I15 -> SCORE:
B81: Beoordelaar 7 | D81: ='Beoordelaar 7'!C15 -> SCORE: | G81: ='Beoordelaar 7'!F15 -> SCORE: | J81: ='Beoordelaar 7'!I15 -> SCORE:
B82: Beoordelaar 8 | D82: ='Beoordelaar 8'!C15 -> SCORE: | G82: ='Beoordelaar 8'!F15 -> SCORE: | J82: ='Beoordelaar 8'!I15 -> SCORE:
B83: Beoordelaar 9 | D83: ='Beoordelaar 9'!C15 -> SCORE: | G83: ='Beoordelaar 9'!F15 -> SCORE: | J83: ='Beoordelaar 9'!I15 -> SCORE:
B84: Beoordelaar 10 | D84: ='Beoordelaar 10'!C15 -> SCORE: | G84: ='Beoordelaar 10'!F15 -> SCORE: | J84: ='Beoordelaar 10'!I15 -> SCORE:
A85: Consensus | D85: SCORE: | G85: SCORE: | J85: SCORE:
D86: =IF(D85="Beter","€ 5.000",IF(D85="Vergelijkbaar","€ 0",IF(D85="Acceptabel verbeterpunt","-€ 20.000",IF(D85="Onacceptabel verbeterpunt","UITSLUITING"," ")))) | G86: =IF(G85="Beter","€ 5.000",IF(G85="Vergelijkbaar","€ 0",IF(G85="Acceptabel verbeterpunt","-€ 20.000",IF(G85="Onacceptabel verbeterpunt","UITSLUITING"," ")))) | J86: =IF(J85="Beter","€ 5.000",IF(J85="Vergelijkbaar","€ 0",IF(J85="Acceptabel verbeterpunt","-€ 20.000",IF(J85="Onacceptabel verbeterpunt","UITSLUITING"," "))))
A87: ='Proefopstelling aangeboden digi'!A11 -> 8. Geluid (spraak en muziek) van de ingebouwde luidsprekers (spraak en muziek worden getest aan de hand van de video, de eerste 39 seconden). | B87: Beoordelaar 1 | D87: ='Beoordelaar 1'!C17 -> SCORE: | E87: <<MOTIVATIE>> | G87: ='Beoordelaar 1'!F17 -> SCORE: | H87: <<MOTIVATIE>> | J87: ='Beoordelaar 1'!I17 -> SCORE: | K87: <<MOTIVATIE>>
B88: Beoordelaar 2 | D88: ='Beoordelaar 2'!C17 -> SCORE: | G88: ='Beoordelaar 2'!F17 -> SCORE: | J88: ='Beoordelaar 2'!I17 -> SCORE:
B89: Beoordelaar 3 | D89: ='Beoordelaar 3'!C17 -> SCORE: | G89: ='Beoordelaar 3'!F17 -> SCORE: | J89: ='Beoordelaar 3'!I17 -> SCORE:
B90: Beoordelaar 4 | D90: ='Beoordelaar 4'!C17 -> SCORE: | G90: ='Beoordelaar 4'!F17 -> SCORE: | J90: ='Beoordelaar 4'!I17 -> SCORE:
B91: Beoordelaar 5 | D91: ='Beoordelaar 5'!C17 -> SCORE: | G91: ='Beoordelaar 5'!F17 -> SCORE: | J91: ='Beoordelaar 5'!I17 -> SCORE:
B92: Beoordelaar 6 | D92: ='Beoordelaar 6'!C17 -> SCORE: | G92: ='Beoordelaar 6'!F17 -> SCORE: | J92: ='Beoordelaar 6'!I17 -> SCORE:
B93: Beoordelaar 7 | D93: ='Beoordelaar 7'!C17 -> SCORE: | G93: ='Beoordelaar 7'!F17 -> SCORE: | J93: ='Beoordelaar 7'!I17 -> SCORE:
B94: Beoordelaar 8 | D94: ='Beoordelaar 8'!C17 -> SCORE: | G94: ='Beoordelaar 8'!F17 -> SCORE: | J94: ='Beoordelaar 8'!I17 -> SCORE:
B95: Beoordelaar 9 | D95: ='Beoordelaar 9'!C17 -> SCORE: | G95: ='Beoordelaar 9'!F17 -> SCORE: | J95: ='Beoordelaar 9'!I17 -> SCORE:
B96: Beoordelaar 10 | D96: ='Beoordelaar 10'!C17 -> SCORE: | G96: ='Beoordelaar 10'!F17 -> SCORE: | J96: ='Beoordelaar 10'!I17 -> SCORE:
A97: Consensus | D97: SCORE: | G97: SCORE: | J97: SCORE:
D98: =IF(D97="Beter","€ 15.000",IF(D97="Vergelijkbaar","€ 0",IF(D97="Acceptabel verbeterpunt","-€ 60.000",IF(D97="Onacceptabel verbeterpunt","UITSLUITING"," ")))) | G98: =IF(G97="Beter","€ 15.000",IF(G97="Vergelijkbaar","€ 0",IF(G97="Acceptabel verbeterpunt","-€ 60.000",IF(G97="Onacceptabel verbeterpunt","UITSLUITING"," ")))) | J98: =IF(J97="Beter","€ 15.000",IF(J97="Vergelijkbaar","€ 0",IF(J97="Acceptabel verbeterpunt","-€ 60.000",IF(J97="Onacceptabel verbeterpunt","UITSLUITING"," "))))
A99: ='Proefopstelling aangeboden digi'!A12 -> 9. Scherpte beeld tot 8,5 meter en invalshoeken vanuit de lessets in het lokaal (met en zonder zonlicht van buiten), voor iedere Inschrijver gelijke positie. | B99: Beoordelaar 1 | D99: ='Beoordelaar 1'!C19 -> SCORE: | E99: <<MOTIVATIE>> | G99: ='Beoordelaar 1'!F19 -> SCORE: | H99: <<MOTIVATIE>> | J99: ='Beoordelaar 1'!I19 -> SCORE: | K99: <<MOTIVATIE>>
B100: Beoordelaar 2 | D100: ='Beoordelaar 2'!C19 -> SCORE: | G100: ='Beoordelaar 2'!F19 -> SCORE: | J100: ='Beoordelaar 2'!I19 -> SCORE:
...
