Workbook
Name SCORE: 'Beoordelen kwaliteit'!$A$21:$A$26

Sheet Beoordelen kwaliteit
A1: Beoordeling KWALITEIT VAN DE BEANTWOORDING VAN DE OPEN VRAGEN
A2: Om de kwaliteit en toegevoegde waarde van de Inschrijver(s) te kunnen beoordelen dient Inschrijver zijn kwaliteit aan te tonen en meerwaarde uit te werken conform het onderstaande. Om de kwaliteit van een Inschrijver te kunnen beoordelen heeft de Aanbestedende dienst gekozen voor de beoordelingsmethodiek ‘gunnen op waarde’. Per item zal de beoordelingsgroep een waarde toekennen.
A3: OPEN VRAAG 7.1 PROJECTAANPAK TOTALE LEVERING
A4: SUB 1. Plan van Aanpak
A5: Zie bijlage 7a 'kwaliteit'.
A6: SUB 2. Meerwaarde
A7: Zie bijlage 7a 'kwaliteit'.
A8: SUB 4. Duurzaam en circulair inkopen
A9: Zie bijlage 7a 'kwaliteit'.
A10: OPEN VRAAG 7.2 SLA EN GARANTIE
A11: Zie bijlage 7a 'kwaliteit'.
A12: OPEN VRAAG 7.3 KWALITEIT VAN DIENSTVERLENING EN SERVICE
... A26: SCORE:

Sheet Beoordelaar 1
A1: Beoordelaar 1: <<>> | C1: Inschrijver 1 | F1: Inschrijver 2 | I1: Inschrijver 3
A2: ='Beoordelen kwaliteit'!A3 -> OPEN VRAAG 7.1 PROJECTAANPAK TOTALE LEVERING
A3: ='Beoordelen kwaliteit'!A4 -> SUB 1. Plan van Aanpak | C3: SCORE: | F3: SCORE: | I3: SCORE:
A4: ='Beoordelen kwaliteit'!A5:A5 -> Zie bijlage 7a 'kwaliteit'. | C4: <MOTIVATIE> | F4: <MOTIVATIE> | I4: <MOTIVATIE>
A5: ='Beoordelen kwaliteit'!A6:A6 -> SUB 2. Meerwaarde | C5: SCORE: | F5: SCORE: | I5: SCORE:
A6: ='Beoordelen kwaliteit'!A7:A7 -> Zie bijlage 7a 'kwaliteit'. | C6: <MOTIVATIE> | F6: <MOTIVATIE> | I6: <MOTIVATIE>
A7: ='Beoordelen kwaliteit'!A8:A8 -> SUB 4. Duurzaam en circulair inkopen | C7: SCORE: | F7: SCORE: | I7: SCORE:
A8: ='Beoordelen kwaliteit'!A9:A9 -> Zie bijlage 7a 'kwaliteit'. | C8: <MOTIVATIE> | F8: <MOTIVATIE> | I8: <MOTIVATIE>
A9: ='Beoordelen kwaliteit'!A10:A10 -> OPEN VRAAG 7.2 SLA EN GARANTIE | C9: SCORE: | F9: SCORE: | I9: SCORE:
A10: ='Beoordelen kwaliteit'!A11:A11 -> Zie bijlage 7a 'kwaliteit'. | C10: <MOTIVATIE> | F10: <MOTIVATIE> | I10: <MOTIVATIE>
A11: ='Beoordelen kwaliteit'!A12:A12 -> OPEN VRAAG 7.3 KWALITEIT VAN DIENSTVERLENING EN SERVICE | C11: SCORE: | F11: SCORE: | I11: SCORE:
A12: ='Beoordelen kwaliteit'!A13:A13 -> Zie bijlage 7a 'kwaliteit'. | C12: <MOTIVATIE> | F12: <MOTIVATIE> | I12: <MOTIVATIE>
A13: ='Beoordelen kwaliteit'!A14:A14 -> OPEN VRAAG 7.4 BEHEER, UPDATES EN UPGRADES/FIRMWARE | C13: SCORE: | F13: SCORE: | I13: SCORE:
A14: ='Beoordelen kwaliteit'!A15:A15 -> Zie bijlage 7a 'kwaliteit'. | C14: <MOTIVATIE> | F14: <MOTIVATIE> | I14: <MOTIVATIE>
A15: ='Beoordelen kwaliteit'!A16:A16 -> OPEN VRAAG 7.5 VEILIGHEID | C15: SCORE: | F15: SCORE: | I15: SCORE:
A16: ='Beoordelen kwaliteit'!A17:A17 -> Zie bijlage 7a 'kwaliteit'. | C16: <MOTIVATIE> | F16: <MOTIVATIE> | I16: <MOTIVATIE>

Sheet Beoordelaar 2
A1: Beoordelaar 2: <<>> | C1: ='Beoordelaar 1'!C1 -> Inschrijver 1 | F1: ='Beoordelaar 1'!F1 -> Inschrijver 2 | I1: ='Beoordelaar 1'!I1 -> Inschrijver 3
A2: ='Beoordelen kwaliteit'!A3 -> OPEN VRAAG 7.1 PROJECTAANPAK TOTALE LEVERING
A3: ='Beoordelen kwaliteit'!A4 -> SUB 1. Plan van Aanpak | C3: SCORE: | F3: SCORE: | I3: SCORE:
A4: ='Beoordelen kwaliteit'!A5:A5 -> Zie bijlage 7a 'kwaliteit'. | C4: <MOTIVATIE> | F4: <MOTIVATIE> | I4: <MOTIVATIE>
A5: ='Beoordelen kwaliteit'!A6:A6 -> SUB 2. Meerwaarde | C5: SCORE: | F5: SCORE: | I5: SCORE:
A6: ='Beoordelen kwaliteit'!A7:A7 -> Zie bijlage 7a 'kwaliteit'. | C6: <MOTIVATIE> | F6: <MOTIVATIE> | I6: <MOTIVATIE>
A7: ='Beoordelen kwaliteit'!A8:A8 -> SUB 4. Duurzaam en circulair inkopen | C7: SCORE: | F7: SCORE: | I7: SCORE:
A8: ='Beoordelen kwaliteit'!A9:A9 -> Zie bijlage 7a 'kwaliteit'. | C8: <MOTIVATIE> | F8: <MOTIVATIE> | I8: <MOTIVATIE>
A9: ='Beoordelen kwaliteit'!A10:A10 -> OPEN VRAAG 7.2 SLA EN GARANTIE | C9: SCORE: | F9: SCORE: | I9: SCORE:
A10: ='Beoordelen kwaliteit'!A11:A11 -> Zie bijlage 7a 'kwaliteit'. | C10: <MOTIVATIE> | F10: <MOTIVATIE> | I10: <MOTIVATIE>
A11: ='Beoordelen kwaliteit'!A12:A12 -> OPEN VRAAG 7.3 KWALITEIT VAN DIENSTVERLENING EN SERVICE | C11: SCORE: | F11: SCORE: | I11: SCORE:
A12: ='Beoordelen kwaliteit'!A13:A13 -> Zie bijlage 7a 'kwaliteit'. | C12: <MOTIVATIE> | F12: <MOTIVATIE> | I12: <MOTIVATIE>
A13: ='Beoordelen kwaliteit'!A14:A14 -> OPEN VRAAG 7.4 BEHEER, UPDATES EN UPGRADES/FIRMWARE | C13: SCORE: | F13: SCORE: | I13: SCORE:
A14: ='Beoordelen kwaliteit'!A15:A15 -> Zie bijlage 7a 'kwaliteit'. | C14: <MOTIVATIE> | F14: <MOTIVATIE> | I14: <MOTIVATIE>
A15: ='Beoordelen kwaliteit'!A16:A16 -> OPEN VRAAG 7.5 VEILIGHEID | C15: SCORE: | F15: SCORE: | I15: SCORE:
A16: ='Beoordelen kwaliteit'!A17:A17 -> Zie bijlage 7a 'kwaliteit'. | C16: <MOTIVATIE> | F16: <MOTIVATIE> | I16: <MOTIVATIE>

Sheet Beoordelaar 3
A1: Beoordelaar 3: <<>> | C1: ='Beoordelaar 1'!C1 -> Inschrijver 1 | F1: ='Beoordelaar 1'!F1 -> Inschrijver 2 | I1: ='Beoordelaar 1'!I1 -> Inschrijver 3
A2: ='Beoordelen kwaliteit'!A3 -> OPEN VRAAG 7.1 PROJECTAANPAK TOTALE LEVERING
A3: ='Beoordelen kwaliteit'!A4 -> SUB 1. Plan van Aanpak | C3: SCORE: | F3: SCORE: | I3: SCORE:
A4: ='Beoordelen kwaliteit'!A5:A5 -> Zie bijlage 7a 'kwaliteit'. | C4: <MOTIVATIE> | F4: <MOTIVATIE> | I4: <MOTIVATIE>
A5: ='Beoordelen kwaliteit'!A6:A6 -> SUB 2. Meerwaarde | C5: SCORE: | F5: SCORE: | I5: SCORE:
A6: ='Beoordelen kwaliteit'!A7:A7 -> Zie bijlage 7a 'kwaliteit'. | C6: <MOTIVATIE> | F6: <MOTIVATIE> | I6: <MOTIVATIE>
A7: ='Beoordelen kwaliteit'!A8:A8 -> SUB 4. Duurzaam en circulair inkopen | C7: SCORE: | F7: SCORE: | I7: SCORE:
A8: ='Beoordelen kwaliteit'!A9:A9 -> Zie bijlage 7a 'kwaliteit'. | C8: <MOTIVATIE> | F8: <MOTIVATIE> | I8: <MOTIVATIE>
A9: ='Beoordelen kwaliteit'!A10:A10 -> OPEN VRAAG 7.2 SLA EN GARANTIE | C9: SCORE: | F9: SCORE: | I9: SCORE:
A10: ='Beoordelen kwaliteit'!A11:A11 -> Zie bijlage 7a 'kwaliteit'. | C10: <MOTIVATIE> | F10: <MOTIVATIE> | I10: <MOTIVATIE>
A11: ='Beoordelen kwaliteit'!A12:A12 -> OPEN VRAAG 7.3 KWALITEIT VAN DIENSTVERLENING EN SERVICE | C11: SCORE: | F11: SCORE: | I11: SCORE:
A12: ='Beoordelen kwaliteit'!A13:A13 -> Zie bijlage 7a 'kwaliteit'. | C12: <MOTIVATIE> | F12: <MOTIVATIE> | I12: <MOTIVATIE>
A13: ='Beoordelen kwaliteit'!A14:A14 -> OPEN VRAAG 7.4 BEHEER, UPDATES EN UPGRADES/FIRMWARE | C13: SCORE: | F13: SCORE: | I13: SCORE:
A14: ='Beoordelen kwaliteit'!A15:A15 -> Zie bijlage 7a 'kwaliteit'. | C14: <MOTIVATIE> | F14: <MOTIVATIE> | I14: <MOTIVATIE>
A15: ='Beoordelen kwaliteit'!A16:A16 -> OPEN VRAAG 7.5 VEILIGHEID | C15: SCORE: | F15: SCORE: | I15: SCORE:
A16: ='Beoordelen kwaliteit'!A17:A17 -> Zie bijlage 7a 'kwaliteit'. | C16: <MOTIVATIE> | F16: <MOTIVATIE> | I16: <MOTIVATIE>

Sheet Beoordelaar 4
A1: Beoordelaar 4: <<>> | C1: ='Beoordelaar 1'!C1 -> Inschrijver 1 | F1: ='Beoordelaar 1'!F1 -> Inschrijver 2 | I1: ='Beoordelaar 1'!I1 -> Inschrijver 3
A2: ='Beoordelen kwaliteit'!A3 -> OPEN VRAAG 7.1 PROJECTAANPAK TOTALE LEVERING
A3: ='Beoordelen kwaliteit'!A4 -> SUB 1. Plan van Aanpak | C3: SCORE: | F3: SCORE: | I3: SCORE:
A4: ='Beoordelen kwaliteit'!A5:A5 -> Zie bijlage 7a 'kwaliteit'. | C4: <MOTIVATIE> | F4: <MOTIVATIE> | I4: <MOTIVATIE>
A5: ='Beoordelen kwaliteit'!A6:A6 -> SUB 2. Meerwaarde | C5: SCORE: | F5: SCORE: | I5: SCORE:
A6: ='Beoordelen kwaliteit'!A7:A7 -> Zie bijlage 7a 'kwaliteit'. | C6: <MOTIVATIE> | F6: <MOTIVATIE> | I6: <MOTIVATIE>
A7: ='Beoordelen kwaliteit'!A8:A8 -> SUB 4. Duurzaam en circulair inkopen | C7: SCORE: | F7: SCORE: | I7: SCORE:
A8: ='Beoordelen kwaliteit'!A9:A9 -> Zie bijlage 7a 'kwaliteit'. | C8: <MOTIVATIE> | F8: <MOTIVATIE> | I8: <MOTIVATIE>
A9: ='Beoordelen kwaliteit'!A10:A10 -> OPEN VRAAG 7.2 SLA EN GARANTIE | C9: SCORE: | F9: SCORE: | I9: SCORE:
A10: ='Beoordelen kwaliteit'!A11:A11 -> Zie bijlage 7a 'kwaliteit'. | C10: <MOTIVATIE> | F10: <MOTIVATIE> | I10: <MOTIVATIE>
A11: ='Beoordelen kwaliteit'!A12:A12 -> OPEN VRAAG 7.3 KWALITEIT VAN DIENSTVERLENING EN SERVICE | C11: SCORE: | F11: SCORE: | I11: SCORE:
A12: ='Beoordelen kwaliteit'!A13:A13 -> Zie bijlage 7a 'kwaliteit'. | C12: <MOTIVATIE> | F12: <MOTIVATIE> | I12: <MOTIVATIE>
A13: ='Beoordelen kwaliteit'!A14:A14 -> OPEN VRAAG 7.4 BEHEER, UPDATES EN UPGRADES/FIRMWARE | C13: SCORE: | F13: SCORE: | I13: SCORE:
A14: ='Beoordelen kwaliteit'!A15:A15 -> Zie bijlage 7a 'kwaliteit'. | C14: <MOTIVATIE> | F14: <MOTIVATIE> | I14: <MOTIVATIE>
A15: ='Beoordelen kwaliteit'!A16:A16 -> OPEN VRAAG 7.5 VEILIGHEID | C15: SCORE: | F15: SCORE: | I15: SCORE:
A16: ='Beoordelen kwaliteit'!A17:A17 -> Zie bijlage 7a 'kwaliteit'. | C16: <MOTIVATIE> | F16: <MOTIVATIE> | I16: <MOTIVATIE>

Sheet Beoordelaar 5
A1: Beoordelaar 5: <<>> | C1: ='Beoordelaar 1'!C1 -> Inschrijver 1 | F1: ='Beoordelaar 1'!F1 -> Inschrijver 2 | I1: ='Beoordelaar 1'!I1 -> Inschrijver 3
A2: ='Beoordelen kwaliteit'!A3 -> OPEN VRAAG 7.1 PROJECTAANPAK TOTALE LEVERING
A3: ='Beoordelen kwaliteit'!A4 -> SUB 1. Plan van Aanpak | C3: SCORE: | F3: SCORE: | I3: SCORE:
A4: ='Beoordelen kwaliteit'!A5:A5 -> Zie bijlage 7a 'kwaliteit'. | C4: <MOTIVATIE> | F4: <MOTIVATIE> | I4: <MOTIVATIE>
A5: ='Beoordelen kwaliteit'!A6:A6 -> SUB 2. Meerwaarde | C5: SCORE: | F5: SCORE: | I5: SCORE:
A6: ='Beoordelen kwaliteit'!A7:A7 -> Zie bijlage 7a 'kwaliteit'. | C6: <MOTIVATIE> | F6: <MOTIVATIE> | I6: <MOTIVATIE>
A7: ='Beoordelen kwaliteit'!A8:A8 -> SUB 4. Duurzaam en circulair inkopen | C7: SCORE: | F7: SCORE: | I7: SCORE:
A8: ='Beoordelen kwaliteit'!A9:A9 -> Zie bijlage 7a 'kwaliteit'. | C8: <MOTIVATIE> | F8: <MOTIVATIE> | I8: <MOTIVATIE>
A9: ='Beoordelen kwaliteit'!A10:A10 -> OPEN VRAAG 7.2 SLA EN GARANTIE | C9: SCORE: | F9: SCORE: | I9: SCORE:
A10: ='Beoordelen kwaliteit'!A11:A11 -> Zie bijlage 7a 'kwaliteit'. | C10: <MOTIVATIE> | F10: <MOTIVATIE> | I10: <MOTIVATIE>
A11: ='Beoordelen kwaliteit'!A12:A12 -> OPEN VRAAG 7.3 KWALITEIT VAN DIENSTVERLENING EN SERVICE | C11: SCORE: | F11: SCORE: | I11: SCORE:
A12: ='Beoordelen kwaliteit'!A13:A13 -> Zie bijlage 7a 'kwaliteit'. | C12: <MOTIVATIE> | F12: <MOTIVATIE> | I12: <MOTIVATIE>
A13: ='Beoordelen kwaliteit'!A14:A14 -> OPEN VRAAG 7.4 BEHEER, UPDATES EN UPGRADES/FIRMWARE | C13: SCORE: | F13: SCORE: | I13: SCORE:
A14: ='Beoordelen kwaliteit'!A15:A15 -> Zie bijlage 7a 'kwaliteit'. | C14: <MOTIVATIE> | F14: <MOTIVATIE> | I14: <MOTIVATIE>
A15: ='Beoordelen kwaliteit'!A16:A16 -> OPEN VRAAG 7.5 VEILIGHEID | C15: SCORE: | F15: SCORE: | I15: SCORE:
A16: ='Beoordelen kwaliteit'!A17:A17 -> Zie bijlage 7a 'kwaliteit'. | C16: <MOTIVATIE> | F16: <MOTIVATIE> | I16: <MOTIVATIE>

Sheet Beoordelaar 6
A1: Beoordelaar 6: <<>> | C1: Inschrijver 1 | F1: Inschrijver 2 | I1: Inschrijver 3
A2: ='Beoordelen kwaliteit'!A3 -> OPEN VRAAG 7.1 PROJECTAANPAK TOTALE LEVERING
A3: ='Beoordelen kwaliteit'!A4 -> SUB 1. Plan van Aanpak | C3: SCORE: | F3: SCORE: | I3: SCORE:
A4: ='Beoordelen kwaliteit'!A5:A5 -> Zie bijlage 7a 'kwaliteit'. | C4: <MOTIVATIE> | F4: <MOTIVATIE> | I4: <MOTIVATIE>
A5: ='Beoordelen kwaliteit'!A6:A6 -> SUB 2. Meerwaarde | C5: SCORE: | F5: SCORE: | I5: SCORE:
A6: ='Beoordelen kwaliteit'!A7:A7 -> Zie bijlage 7a 'kwaliteit'. | C6: <MOTIVATIE> | F6: <MOTIVATIE> | I6: <MOTIVATIE>
A7: ='Beoordelen kwaliteit'!A8:A8 -> SUB 4. Duurzaam en circulair inkopen | C7: SCORE: | F7: SCORE: | I7: SCORE:
A8: ='Beoordelen kwaliteit'!A9:A9 -> Zie bijlage 7a 'kwaliteit'. | C8: <MOTIVATIE> | F8: <MOTIVATIE> | I8: <MOTIVATIE>
A9: ='Beoordelen kwaliteit'!A10:A10 -> OPEN VRAAG 7.2 SLA EN GARANTIE | C9: SCORE: | F9: SCORE: | I9: SCORE:
A10: ='Beoordelen kwaliteit'!A11:A11 -> Zie bijlage 7a 'kwaliteit'. | C10: <MOTIVATIE> | F10: <MOTIVATIE> | I10: <MOTIVATIE>
A11: ='Beoordelen kwaliteit'!A12:A12 -> OPEN VRAAG 7.3 KWALITEIT VAN DIENSTVERLENING EN SERVICE | C11: SCORE: | F11: SCORE: | I11: SCORE:
A12: ='Beoordelen kwaliteit'!A13:A13 -> Zie bijlage 7a 'kwaliteit'. | C12: <MOTIVATIE> | F12: <MOTIVATIE> | I12: <MOTIVATIE>
A13: ='Beoordelen kwaliteit'!A14:A14 -> OPEN VRAAG 7.4 BEHEER, UPDATES EN UPGRADES/FIRMWARE | C13: SCORE: | F13: SCORE: | I13: SCORE:
A14: ='Beoordelen kwaliteit'!A15:A15 -> Zie bijlage 7a 'kwaliteit'. | C14: <MOTIVATIE> | F14: <MOTIVATIE> | I14: <MOTIVATIE>
A15: ='Beoordelen kwaliteit'!A16:A16 -> OPEN VRAAG 7.5 VEILIGHEID | C15: SCORE: | F15: SCORE: | I15: SCORE:
A16: ='Beoordelen kwaliteit'!A17:A17 -> Zie bijlage 7a 'kwaliteit'. | C16: <MOTIVATIE> | F16: <MOTIVATIE> | I16: <MOTIVATIE>

Sheet Beoordelaar 7
A1: Beoordelaar 7: <<>> | C1: Inschrijver 1 | F1: Inschrijver 2 | I1: Inschrijver 3
A2: ='Beoordelen kwaliteit'!A3 -> OPEN VRAAG 7.1 PROJECTAANPAK TOTALE LEVERING
A3: ='Beoordelen kwaliteit'!A4 -> SUB 1. Plan van Aanpak | C3: SCORE: | F3: SCORE: | I3: SCORE:
A4: ='Beoordelen kwaliteit'!A5:A5 -> Zie bijlage 7a 'kwaliteit'. | C4: <MOTIVATIE> | F4: <MOTIVATIE> | I4: <MOTIVATIE>
A5: ='Beoordelen kwaliteit'!A6:A6 -> SUB 2. Meerwaarde | C5: SCORE: | F5: SCORE: | I5: SCORE:
A6: ='Beoordelen kwaliteit'!A7:A7 -> Zie bijlage 7a 'kwaliteit'. | C6: <MOTIVATIE> | F6: <MOTIVATIE> | I6: <MOTIVATIE>
A7: ='Beoordelen kwaliteit'!A8:A8 -> SUB 4. Duurzaam en circulair inkopen | C7: SCORE: | F7: SCORE: | I7: SCORE:
A8: ='Beoordelen kwaliteit'!A9:A9 -> Zie bijlage 7a 'kwaliteit'. | C8: <MOTIVATIE> | F8: <MOTIVATIE> | I8: <MOTIVATIE>
A9: ='Beoordelen kwaliteit'!A10:A10 -> OPEN VRAAG 7.2 SLA EN GARANTIE | C9: SCORE: | F9: SCORE: | I9: SCORE:
A10: ='Beoordelen kwaliteit'!A11:A11 -> Zie bijlage 7a 'kwaliteit'. | C10: <MOTIVATIE> | F10: <MOTIVATIE> | I10: <MOTIVATIE>
A11: ='Beoordelen kwaliteit'!A12:A12 -> OPEN VRAAG 7.3 KWALITEIT VAN DIENSTVERLENING EN SERVICE | C11: SCORE: | F11: SCORE: | I11: SCORE:
A12: ='Beoordelen kwaliteit'!A13:A13 -> Zie bijlage 7a 'kwaliteit'. | C12: <MOTIVATIE> | F12: <MOTIVATIE> | I12: <MOTIVATIE>
A13: ='Beoordelen kwaliteit'!A14:A14 -> OPEN VRAAG 7.4 BEHEER, UPDATES EN UPGRADES/FIRMWARE | C13: SCORE: | F13: SCORE: | I13: SCORE:
A14: ='Beoordelen kwaliteit'!A15:A15 -> Zie bijlage 7a 'kwaliteit'. | C14: <MOTIVATIE> | F14: <MOTIVATIE> | I14: <MOTIVATIE>
A15: ='Beoordelen kwaliteit'!A16:A16 -> OPEN VRAAG 7.5 VEILIGHEID | C15: SCORE: | F15: SCORE: | I15: SCORE:
A16: ='Beoordelen kwaliteit'!A17:A17 -> Zie bijlage 7a 'kwaliteit'. | C16: <MOTIVATIE> | F16: <MOTIVATIE> | I16: <MOTIVATIE>

Sheet Beoordelaar 8
A1: Beoordelaar 8: <<>> | C1: Inschrijver 1 | F1: Inschrijver 2 | I1: Inschrijver 3
A2: ='Beoordelen kwaliteit'!A3 -> OPEN VRAAG 7.1 PROJECTAANPAK TOTALE LEVERING
A3: ='Beoordelen kwaliteit'!A4 -> SUB 1. Plan van Aanpak | C3: SCORE: | F3: SCORE: | I3: SCORE:
A4: ='Beoordelen kwaliteit'!A5:A5 -> Zie bijlage 7a 'kwaliteit'. | C4: <MOTIVATIE> | F4: <MOTIVATIE> | I4: <MOTIVATIE>
A5: ='Beoordelen kwaliteit'!A6:A6 -> SUB 2. Meerwaarde | C5: SCORE: | F5: SCORE: | I5: SCORE:
A6: ='Beoordelen kwaliteit'!A7:A7 -> Zie bijlage 7a 'kwaliteit'. | C6: <MOTIVATIE> | F6: <MOTIVATIE> | I6: <MOTIVATIE>
A7: ='Beoordelen kwaliteit'!A8:A8 -> SUB 4. Duurzaam en circulair inkopen | C7: SCORE: | F7: SCORE: | I7: SCORE:
A8: ='Beoordelen kwaliteit'!A9:A9 -> Zie bijlage 7a 'kwaliteit'. | C8: <MOTIVATIE> | F8: <MOTIVATIE> | I8: <MOTIVATIE>
A9: ='Beoordelen kwaliteit'!A10:A10 -> OPEN VRAAG 7.2 SLA EN GARANTIE | C9: SCORE: | F9: SCORE: | I9: SCORE:
A10: ='Beoordelen kwaliteit'!A11:A11 -> Zie bijlage 7a 'kwaliteit'. | C10: <MOTIVATIE> | F10: <MOTIVATIE> | I10: <MOTIVATIE>
A11: ='Beoordelen kwaliteit'!A12:A12 -> OPEN VRAAG 7.3 KWALITEIT VAN DIENSTVERLENING EN SERVICE | C11: SCORE: | F11: SCORE: | I11: SCORE:
A12: ='Beoordelen kwaliteit'!A13:A13 -> Zie bijlage 7a 'kwaliteit'. | C12: <MOTIVATIE> | F12: <MOTIVATIE> | I12: <MOTIVATIE>
A13: ='Beoordelen kwaliteit'!A14:A14 -> OPEN VRAAG 7.4 BEHEER, UPDATES EN UPGRADES/FIRMWARE | C13: SCORE: | F13: SCORE: | I13: SCORE:
A14: ='Beoordelen kwaliteit'!A15:A15 -> Zie bijlage 7a 'kwaliteit'. | C14: <MOTIVATIE> | F14: <MOTIVATIE> | I14: <MOTIVATIE>
A15: ='Beoordelen kwaliteit'!A16:A16 -> OPEN VRAAG 7.5 VEILIGHEID | C15: SCORE: | F15: SCORE: | I15: SCORE:
A16: ='Beoordelen kwaliteit'!A17:A17 -> Zie bijlage 7a 'kwaliteit'. | C16: <MOTIVATIE> | F16: <MOTIVATIE> | I16: <MOTIVATIE>

Sheet Beoordelaar 9
A1: Beoordelaar 9: <<>> | C1: Inschrijver 1 | F1: Inschrijver 2 | I1: Inschrijver 3
A2: ='Beoordelen kwaliteit'!A3 -> OPEN VRAAG 7.1 PROJECTAANPAK TOTALE LEVERING
A3: ='Beoordelen kwaliteit'!A4 -> SUB 1. Plan van Aanpak | C3: SCORE: | F3: SCORE: | I3: SCORE:
A4: ='Beoordelen kwaliteit'!A5:A5 -> Zie bijlage 7a 'kwaliteit'. | C4: <MOTIVATIE> | F4: <MOTIVATIE> | I4: <MOTIVATIE>
A5: ='Beoordelen kwaliteit'!A6:A6 -> SUB 2. Meerwaarde | C5: SCORE: | F5: SCORE: | I5: SCORE:
A6: ='Beoordelen kwaliteit'!A7:A7 -> Zie bijlage 7a 'kwaliteit'. | C6: <MOTIVATIE> | F6: <MOTIVATIE> | I6: <MOTIVATIE>
A7: ='Beoordelen kwaliteit'!A8:A8 -> SUB 4. Duurzaam en circulair inkopen | C7: SCORE: | F7: SCORE: | I7: SCORE:
A8: ='Beoordelen kwaliteit'!A9:A9 -> Zie bijlage 7a 'kwaliteit'. | C8: <MOTIVATIE> | F8: <MOTIVATIE> | I8: <MOTIVATIE>
A9: ='Beoordelen kwaliteit'!A10:A10 -> OPEN VRAAG 7.2 SLA EN GARANTIE | C9: SCORE: | F9: SCORE: | I9: SCORE:
A10: ='Beoordelen kwaliteit'!A11:A11 -> Zie bijlage 7a 'kwaliteit'. | C10: <MOTIVATIE> | F10: <MOTIVATIE> | I10: <MOTIVATIE>
A11: ='Beoordelen kwaliteit'!A12:A12 -> OPEN VRAAG 7.3 KWALITEIT VAN DIENSTVERLENING EN SERVICE | C11: SCORE: | F11: SCORE: | I11: SCORE:
A12: ='Beoordelen kwaliteit'!A13:A13 -> Zie bijlage 7a 'kwaliteit'. | C12: <MOTIVATIE> | F12: <MOTIVATIE> | I12: <MOTIVATIE>
A13: ='Beoordelen kwaliteit'!A14:A14 -> OPEN VRAAG 7.4 BEHEER, UPDATES EN UPGRADES/FIRMWARE | C13: SCORE: | F13: SCORE: | I13: SCORE:
A14: ='Beoordelen kwaliteit'!A15:A15 -> Zie bijlage 7a 'kwaliteit'. | C14: <MOTIVATIE> | F14: <MOTIVATIE> | I14: <MOTIVATIE>
A15: ='Beoordelen kwaliteit'!A16:A16 -> OPEN VRAAG 7.5 VEILIGHEID | C15: SCORE: | F15: SCORE: | I15: SCORE:
A16: ='Beoordelen kwaliteit'!A17:A17 -> Zie bijlage 7a 'kwaliteit'. | C16: <MOTIVATIE> | F16: <MOTIVATIE> | I16: <MOTIVATIE>

Sheet Beoordelaar 10
A1: Beoordelaar 10: <<>> | C1: Inschrijver 1 | F1: Inschrijver 2 | I1: Inschrijver 3
A2: ='Beoordelen kwaliteit'!A3 -> OPEN VRAAG 7.1 PROJECTAANPAK TOTALE LEVERING
A3: ='Beoordelen kwaliteit'!A4 -> SUB 1. Plan van Aanpak | C3: SCORE: | F3: SCORE: | I3: SCORE:
A4: ='Beoordelen kwaliteit'!A5:A5 -> Zie bijlage 7a 'kwaliteit'. | C4: <MOTIVATIE> | F4: <MOTIVATIE> | I4: <MOTIVATIE>
A5: ='Beoordelen kwaliteit'!A6:A6 -> SUB 2. Meerwaarde | C5: SCORE: | F5: SCORE: | I5: SCORE:
A6: ='Beoordelen kwaliteit'!A7:A7 -> Zie bijlage 7a 'kwaliteit'. | C6: <MOTIVATIE> | F6: <MOTIVATIE> | I6: <MOTIVATIE>
A7: ='Beoordelen kwaliteit'!A8:A8 -> SUB 4. Duurzaam en circulair inkopen | C7: SCORE: | F7: SCORE: | I7: SCORE:
A8: ='Beoordelen kwaliteit'!A9:A9 -> Zie bijlage 7a 'kwaliteit'. | C8: <MOTIVATIE> | F8: <MOTIVATIE> | I8: <MOTIVATIE>
A9: ='Beoordelen kwaliteit'!A10:A10 -> OPEN VRAAG 7.2 SLA EN GARANTIE | C9: SCORE: | F9: SCORE: | I9: SCORE:
A10: ='Beoordelen kwaliteit'!A11:A11 -> Zie bijlage 7a 'kwaliteit'. | C10: <MOTIVATIE> | F10: <MOTIVATIE> | I10: <MOTIVATIE>
A11: ='Beoordelen kwaliteit'!A12:A12 -> OPEN VRAAG 7.3 KWALITEIT VAN DIENSTVERLENING EN SERVICE | C11: SCORE: | F11: SCORE: | I11: SCORE:
A12: ='Beoordelen kwaliteit'!A13:A13 -> Zie bijlage 7a 'kwaliteit'. | C12: <MOTIVATIE> | F12: <MOTIVATIE> | I12: <MOTIVATIE>
A13: ='Beoordelen kwaliteit'!A14:A14 -> OPEN VRAAG 7.4 BEHEER, UPDATES EN UPGRADES/FIRMWARE | C13: SCORE: | F13: SCORE: | I13: SCORE:
A14: ='Beoordelen kwaliteit'!A15:A15 -> Zie bijlage 7a 'kwaliteit'. | C14: <MOTIVATIE> | F14: <MOTIVATIE> | I14: <MOTIVATIE>
A15: ='Beoordelen kwaliteit'!A16:A16 -> OPEN VRAAG 7.5 VEILIGHEID | C15: SCORE: | F15: SCORE: | I15: SCORE:
A16: ='Beoordelen kwaliteit'!A17:A17 -> Zie bijlage 7a 'kwaliteit'. | C16: <MOTIVATIE> | F16: <MOTIVATIE> | I16: <MOTIVATIE>

Sheet Beoordelaar 11
A1: Beoordelaar 11: <<>> | C1: Inschrijver 1 | F1: Inschrijver 2 | I1: Inschrijver 3
A2: ='Beoordelen kwaliteit'!A3 -> OPEN VRAAG 7.1 PROJECTAANPAK TOTALE LEVERING
A3: ='Beoordelen kwaliteit'!A4 -> SUB 1. Plan van Aanpak | C3: SCORE: | F3: SCORE: | I3: SCORE:
A4: ='Beoordelen kwaliteit'!A5:A5 -> Zie bijlage 7a 'kwaliteit'. | C4: <MOTIVATIE> | F4: <MOTIVATIE> | I4: <MOTIVATIE>
A5: ='Beoordelen kwaliteit'!A6:A6 -> SUB 2. Meerwaarde | C5: SCORE: | F5: SCORE: | I5: SCORE:
A6: ='Beoordelen kwaliteit'!A7:A7 -> Zie bijlage 7a 'kwaliteit'. | C6: <MOTIVATIE> | F6: <MOTIVATIE> | I6: <MOTIVATIE>
A7: ='Beoordelen kwaliteit'!A8:A8 -> SUB 4. Duurzaam en circulair inkopen | C7: SCORE: | F7: SCORE: | I7: SCORE:
A8: ='Beoordelen kwaliteit'!A9:A9 -> Zie bijlage 7a 'kwaliteit'. | C8: <MOTIVATIE> | F8: <MOTIVATIE> | I8: <MOTIVATIE>
A9: ='Beoordelen kwaliteit'!A10:A10 -> OPEN VRAAG 7.2 SLA EN GARANTIE | C9: SCORE: | F9: SCORE: | I9: SCORE:
A10: ='Beoordelen kwaliteit'!A11:A11 -> Zie bijlage 7a 'kwaliteit'. | C10: <MOTIVATIE> | F10: <MOTIVATIE> | I10: <MOTIVATIE>
A11: ='Beoordelen kwaliteit'!A12:A12 -> OPEN VRAAG 7.3 KWALITEIT VAN DIENSTVERLENING EN SERVICE | C11: SCORE: | F11: SCORE: | I11: SCORE:
A12: ='Beoordelen kwaliteit'!A13:A13 -> Zie bijlage 7a 'kwaliteit'. | C12: <MOTIVATIE> | F12: <MOTIVATIE> | I12: <MOTIVATIE>
A13: ='Beoordelen kwaliteit'!A14:A14 -> OPEN VRAAG 7.4 BEHEER, UPDATES EN UPGRADES/FIRMWARE | C13: SCORE: | F13: SCORE: | I13: SCORE:
A14: ='Beoordelen kwaliteit'!A15:A15 -> Zie bijlage 7a 'kwaliteit'. | C14: <MOTIVATIE> | F14: <MOTIVATIE> | I14: <MOTIVATIE>
A15: ='Beoordelen kwaliteit'!A16:A16 -> OPEN VRAAG 7.5 VEILIGHEID | C15: SCORE: | F15: SCORE: | I15: SCORE:
A16: ='Beoordelen kwaliteit'!A17:A17 -> Zie bijlage 7a 'kwaliteit'. | C16: <MOTIVATIE> | F16: <MOTIVATIE> | I16: <MOTIVATIE>

Sheet Eindscores
A1: Totaalwaardes Beantwoording open vragen
A2: ='Beoordelen kwaliteit'!A3 -> OPEN VRAAG 7.1 PROJECTAANPAK TOTALE LEVERING | D2: ='Beoordelaar 1'!C1 -> Inschrijver 1 | E2: Motivatie consensus: | G2: ='Beoordelaar 1'!F1 -> Inschrijver 2 | H2: Motivatie consensus: | J2: ='Beoordelaar 1'!I1 -> Inschrijver 3 | K2: Motivatie consensus:
A3: ='Beoordelen kwaliteit'!A4:A4 -> SUB 1. Plan van Aanpak | B3: Beoordelaar 1 | D3: ='Beoordelaar 1'!C3 -> SCORE: | E3: <<MOTIVATIE>> | G3: ='Beoordelaar 1'!F3 -> SCORE: | H3: <<MOTIVATIE>> | J3: ='Beoordelaar 1'!I3 -> SCORE: | K3: <<MOTIVATIE>>
B4: Beoordelaar 2 | D4: ='Beoordelaar 2'!C3 -> SCORE: | G4: ='Beoordelaar 2'!F3 -> SCORE: | J4: ='Beoordelaar 2'!I3 -> SCORE:
B5: Beoordelaar 3 | D5: ='Beoordelaar 3'!C3 -> SCORE: | G5: ='Beoordelaar 3'!F3 -> SCORE: | J5: ='Beoordelaar 3'!I3 -> SCORE:
B6: Beoordelaar 4 | D6: ='Beoordelaar 4'!C3 -> SCORE: | G6: ='Beoordelaar 4'!F3 -> SCORE: | J6: ='Beoordelaar 4'!I3 -> SCORE:
B7: Beoordelaar 5 | D7: ='Beoordelaar 5'!C3 -> SCORE: | G7: ='Beoordelaar 5'!F3 -> SCORE: | J7: ='Beoordelaar 5'!I3 -> SCORE:
B8: Beoordelaar 6 | D8: ='Beoordelaar 6'!C3 -> SCORE: | G8: ='Beoordelaar 6'!F3 -> SCORE: | J8: ='Beoordelaar 6'!I3 -> SCORE:
B9: Beoordelaar 7 | D9: ='Beoordelaar 7'!C3 -> SCORE: | G9: ='Beoordelaar 7'!F3 -> SCORE: | J9: ='Beoordelaar 7'!I3 -> SCORE:
B10: Beoordelaar 8 | D10: ='Beoordelaar 8'!C3 -> SCORE: | G10: ='Beoordelaar 8'!F3 -> SCORE: | J10: ='Beoordelaar 8'!I3 -> SCORE:
B11: Beoordelaar 9 | D11: ='Beoordelaar 9'!C3 -> SCORE: | G11: ='Beoordelaar 9'!F3 -> SCORE: | J11: ='Beoordelaar 9'!I3 -> SCORE:
B12: Beoordelaar 10 | D12: ='Beoordelaar 10'!C3 -> SCORE: | G12: ='Beoordelaar 10'!F3 -> SCORE: | J12: ='Beoordelaar 10'!I3 -> SCORE:
B13: Beoordelaar 11 | D13: ='Beoordelaar 11'!C3 -> SCORE: | G13: ='Beoordelaar 11'!F3 -> SCORE: | J13: ='Beoordelaar 11'!I3 -> SCORE:
A14: Consensus | D14: SCORE: | G14: SCORE: | J14: SCORE:
D15: =IF(D14="Uitmuntend","€ 4.000",IF(D14="Goed","€ 3.200",IF(D14="Voldoende","€ 0",IF(D14="Matig","-€ 8.000",IF(D14="Onvoldoende","UITSLUITING"," "))))) | G15: =IF(G14="Uitmuntend","€ 4.000",IF(G14="Goed","€ 3.200",IF(G14="Voldoende","€ 0",IF(G14="Matig","-€ 8.000",IF(G14="Onvoldoende","UITSLUITING"," "))))) | J15: =IF(J14="Uitmuntend","€ 4.000",IF(J14="Goed","€ 3.200",IF(J14="Voldoende","€ 0",IF(J14="Matig","-€ 8.000",IF(J14="Onvoldoende","UITSLUITING"," ")))))
A16: ='Beoordelen kwaliteit'!A6:A6 -> SUB 2. Meerwaarde | B16: Beoordelaar 1 | D16: ='Beoordelaar 1'!C5 -> SCORE: | E16: <<MOTIVATIE>> | G16: ='Beoordelaar 1'!F5 -> SCORE: | H16: <<MOTIVATIE>> | J16: ='Beoordelaar 1'!I5 -> SCORE: | K16: <<MOTIVATIE>>
B17: Beoordelaar 2 | D17: ='Beoordelaar 2'!C5 -> SCORE: | G17: ='Beoordelaar 2'!F5 -> SCORE: | J17: ='Beoordelaar 2'!I5 -> SCORE:
B18: Beoordelaar 3 | D18: ='Beoordelaar 3'!C5 -> SCORE: | G18: ='Beoordelaar 3'!F5 -> SCORE: | J18: ='Beoordelaar 3'!I5 -> SCORE:
B19: Beoordelaar 4 | D19: ='Beoordelaar 4'!C5 -> SCORE: | G19: ='Beoordelaar 4'!F5 -> SCORE: | J19: ='Beoordelaar 4'!I5 -> SCORE:
B20: Beoordelaar 5 | D20: ='Beoordelaar 5'!C5 -> SCORE: | G20: ='Beoordelaar 5'!F5 -> SCORE: | J20: ='Beoordelaar 5'!I5 -> SCORE:
B21: Beoordelaar 6 | D21: ='Beoordelaar 6'!C5 -> SCORE: | G21: ='Beoordelaar 6'!F5 -> SCORE: | J21: ='Beoordelaar 6'!I5 -> SCORE:
B22: Beoordelaar 7 | D22: ='Beoordelaar 7'!C5 -> SCORE: | G22: ='Beoordelaar 7'!F5 -> SCORE: | J22: ='Beoordelaar 7'!I5 -> SCORE:
B23: Beoordelaar 8 | D23: ='Beoordelaar 8'!C5 -> SCORE: | G23: ='Beoordelaar 8'!F5 -> SCORE: | J23: ='Beoordelaar 8'!I5 -> SCORE:
B24: Beoordelaar 9 | D24: ='Beoordelaar 9'!C5 -> SCORE: | G24: ='Beoordelaar 9'!F5 -> SCORE: | J24: ='Beoordelaar 9'!I5 -> SCORE:
B25: Beoordelaar 10 | D25: ='Beoordelaar 10'!C5 -> SCORE: | G25: ='Beoordelaar 10'!F5 -> SCORE: | J25: ='Beoordelaar 10'!I5 -> SCORE:
B26: Beoordelaar 11 | D26: ='Beoordelaar 11'!C5 -> SCORE: | G26: ='Beoordelaar 11'!F5 -> SCORE: | J26: ='Beoordelaar 11'!I5 -> SCORE:
A27: Consensus | D27: SCORE: | G27: SCORE: | J27: SCORE:
D28: =IF(D27="Uitmuntend","€ 4.000",IF(D27="Goed","€ 3.200",IF(D27="Voldoende","€ 0",IF(D27="Matig","-€ 8.000",IF(D27="Onvoldoende","UITSLUITING"," "))))) | G28: =IF(G27="Uitmuntend","€ 4.000",IF(G27="Goed","€ 3.200",IF(G27="Voldoende","€ 0",IF(G27="Matig","-€ 8.000",IF(G27="Onvoldoende","UITSLUITING"," "))))) | J28: =IF(J27="Uitmuntend","€ 4.000",IF(J27="Goed","€ 3.200",IF(J27="Voldoende","€ 0",IF(J27="Matig","-€ 8.000",IF(J27="Onvoldoende","UITSLUITING"," ")))))
A29: ='Beoordelen kwaliteit'!A8:A8 -> SUB 4. Duurzaam en circulair inkopen | B29: Beoordelaar 1 | D29: ='Beoordelaar 1'!C7 -> SCORE: | E29: <<MOTIVATIE>> | G29: ='Beoordelaar 1'!F7 -> SCORE: | H29: <<MOTIVATIE>> | J29: ='Beoordelaar 1'!I7 -> SCORE: | K29: <<MOTIVATIE>>
B30: Beoordelaar 2 | D30: ='Beoordelaar 2'!C7 -> SCORE: | G30: ='Beoordelaar 2'!F7 -> SCORE: | J30: ='Beoordelaar 2'!I7 -> SCORE:
B31: Beoordelaar 3 | D31: ='Beoordelaar 3'!C7 -> SCORE: | G31: ='Beoordelaar 3'!F7 -> SCORE: | J31: ='Beoordelaar 3'!I7 -> SCORE:
B32: Beoordelaar 4 | D32: ='Beoordelaar 4'!C7 -> SCORE: | G32: ='Beoordelaar 4'!F7 -> SCORE: | J32: ='Beoordelaar 4'!I7 -> SCORE:
B33: Beoordelaar 5 | D33: ='Beoordelaar 5'!C7 -> SCORE: | G33: ='Beoordelaar 5'!F7 -> SCORE: | J33: ='Beoordelaar 5'!I7 -> SCORE:
B34: Beoordelaar 6 | D34: ='Beoordelaar 6'!C7 -> SCORE: | G34: ='Beoordelaar 6'!F7 -> SCORE: | J34: ='Beoordelaar 6'!I7 -> SCORE:
B35: Beoordelaar 7 | D35: ='Beoordelaar 7'!C7 -> SCORE: | G35: ='Beoordelaar 7'!F7 -> SCORE: | J35: ='Beoordelaar 7'!I7 -> SCORE:
B36: Beoordelaar 8 | D36: ='Beoordelaar 8'!C7 -> SCORE: | G36: ='Beoordelaar 8'!F7 -> SCORE: | J36: ='Beoordelaar 8'!I7 -> SCORE:
B37: Beoordelaar 9 | D37: ='Beoordelaar 9'!C7 -> SCORE: | G37: ='Beoordelaar 9'!F7 -> SCORE: | J37: ='Beoordelaar 9'!I7 -> SCORE:
B38: Beoordelaar 10 | D38: ='Beoordelaar 10'!C7 -> SCORE: | G38: ='Beoordelaar 10'!F7 -> SCORE: | J38: ='Beoordelaar 10'!I7 -> SCORE:
B39: Beoordelaar 11 | D39: ='Beoordelaar 11'!C7 -> SCORE: | G39: ='Beoordelaar 11'!F7 -> SCORE: | J39: ='Beoordelaar 11'!I7 -> SCORE:
A40: Consensus | D40: SCORE: | G40: SCORE: | J40: SCORE:
...
