Workbook
Name SCORE: 'Beoordelen kwaliteit'!$A$21:$A$26

Sheet Beoordelen kwaliteit
A1: Beoordeling KWALITEIT VAN DE BEANTWOORDING VAN DE OPEN VRAGEN
A2: Om de kwaliteit en toegevoegde waarde van de Inschrijver(s) te kunnen beoordelen dient Inschrijver zijn kwaliteit aan te tonen en meerwaarde uit te werken conform het onderstaande. Om de kwaliteit van een Inschrijver te kunnen beoordelen heeft de Aanbestedende dienst gekozen voor de beoordelingsmethodiek ‘gunnen op waarde’. Per item zal de beoordelingsgroep een waarde toekennen.
A3: OPEN VRAAG 7.1 PROJECTAANPAK TOTALE LEVERING
A4: SUB 1. Plan van Aanpak
A5: Zie bijlage 7a 'kwaliteit'.
A6: SUB 2. Meerwaarde
A7: Zie bijlage 7a 'kwaliteit'.
A8: SUB 4. Duurzaam en circulair inkopen
A9: Zie bijlage 7a 'kwaliteit'.
A10: OPEN VRAAG 7.2 SLA EN GARANTIE
A11: Zie bijlage 7a 'kwaliteit'.
A12: OPEN VRAAG 7.3 KWALITEIT VAN DIENSTVERLENING EN SERVICE
... A26: SCORE:

Sheet Beoordelaar 1
A1: Beoordelaar 1: <<>> | C1: Inschrijver 1 | F1: Inschrijver 2 | I1: Inschrijver 3
A2: ='Beoordelen kwaliteit'!A3 -> OPEN VRAAG 7.1 PROJECTAANPAK TOTALE LEVERING
A3: ='Beoordelen kwaliteit'!A4 -> SUB 1. Plan van Aanpak | C3: SCORE: | F3: SCORE: | I3: SCORE:
A4: ='Beoordelen kwaliteit'!A5:A5 -> Zie bijlage 7a 'kwaliteit'. | C4: <MOTIVATIE> | F4: <MOTIVATIE> | I4: <MOTIVATIE>
A5: ='Beoordelen kwaliteit'!A6:A6 -> SUB 2. Meerwaarde | C5: SCORE: | F5: SCORE: | I5: SCORE:
A6: ='Beoordelen kwaliteit'!A7:A7 -> Zie bijlage 7a 'kwaliteit'. | C6: <MOTIVATIE> | F6: <MOTIVATIE> | I6: <MOTIVATIE>
A7: ='Beoordelen kwaliteit'!A8:A8 -> SUB 4. Duurzaam en circulair inkopen | C7: SCORE: | F7: SCORE: | I7: SCORE:
A8: ='Beoordelen kwaliteit'!A9:A9 -> Zie bijlage 7a 'kwaliteit'. | C8: <MOTIVATIE> | F8: <MOTIVATIE> | I8: <MOTIVATIE>
A9: ='Beoordelen kwaliteit'!A10:A10 -> OPEN VRAAG 7.2 SLA EN GARANTIE | C9: SCORE: | F9: SCORE: | I9: SCORE:
A10: ='Beoordelen kwaliteit'!A11:A11 -> Zie bijlage 7a 'kwaliteit'. | C10: <MOTIVATIE> | F10: <MOTIVATIE> | I10: <MOTIVATIE>
A11: ='Beoordelen kwaliteit'!A12:A12 -> OPEN VRAAG 7.3 KWALITEIT VAN DIENSTVERLENING EN SERVICE | C11: SCORE: | F11: SCORE: | I11: SCORE:
A12: ='Beoordelen kwaliteit'!A13:A13 -> Zie bijlage 7a 'kwaliteit'. | C12: <MOTIVATIE> | F12: <MOTIVATIE> | I12: <MOTIVATIE>
A13: ='Beoordelen kwaliteit'!A14:A14 -> OPEN VRAAG 7.4 BEHEER, UPDATES EN UPGRADES/FIRMWARE | C13: SCORE: | F13: SCORE: | I13: SCORE:
A14: ='Beoordelen kwaliteit'!A15:A15 -> Zie bijlage 7a 'kwaliteit'. | C14: <MOTIVATIE> | F14: <MOTIVATIE> | I14: <MOTIVATIE>
A15: ='Beoordelen kwaliteit'!A16:A16 -> OPEN VRAAG 7.5 VEILIGHEID | C15: SCORE: | F15: SCORE: | I15: SCORE:
A16: ='Beoordelen kwaliteit'!A17:A17 -> Zie bijlage 7a 'kwaliteit'. | C16: <MOTIVATIE> | F16: <MOTIVATIE> | I16: <MOTIVATIE>

Sheet Beoordelaar 2
A1: Beoordelaar 2: <<>> | C1: ='Beoordelaar 1'!C1 -> Inschrijver 1 | F1: ='Beoordelaar 1'!F1 -> Inschrijver 2 | I1: ='Beoordelaar 1'!I1 -> Inschrijver 3
A2: ='Beoordelen kwaliteit'!A3 -> OPEN VRAAG 7.1 PROJECTAANPAK TOTALE LEVERING
A3: ='Beoordelen kwaliteit'!A4 -> SUB 1. Plan van Aanpak | C3: SCORE: | F3: SCORE: | I3: SCORE:
A4: ='Beoordelen kwaliteit'!A5:A5 -> Zie bijlage 7a 'kwaliteit'. | C4: <MOTIVATIE> | F4: <MOTIVATIE> | I4: <MOTIVATIE>
A5: ='Beoordelen kwaliteit'!A6:A6 -> SUB 2. Meerwaarde | C5: SCORE: | F5: SCORE: | I5: SCORE:
A6: ='Beoordelen kwaliteit'!A7:A7 -> Zie bijlage 7a 'kwaliteit'. | C6: <MOTIVATIE> | F6: <MOTIVATIE> | I6: <MOTIVATIE>
A7: ='Beoordelen kwaliteit'!A8:A8 -> SUB 4. Duurzaam en circulair inkopen | C7: SCORE: | F7: SCORE: | I7: SCORE:
A8: ='Beoordelen kwaliteit'!A9:A9 -> Zie bijlage 7a 'kwaliteit'. | C8: <MOTIVATIE> | F8: <MOTIVATIE> | I8: <MOTIVATIE>
A9: ='Beoordelen kwaliteit'!A10:A10 -> OPEN VRAAG 7.2 SLA EN GARANTIE | C9: SCORE: | F9: SCORE: | I9: SCORE:
A10: ='Beoordelen kwaliteit'!A11:A11 -> Zie bijlage 7a 'kwaliteit'. | C10: <MOTIVATIE> | F10: <MOTIVATIE> | I10: <MOTIVATIE>
A11: ='Beoordelen kwaliteit'!A12:A12 -> OPEN VRAAG 7.3 KWALITEIT VAN DIENSTVERLENING EN SERVICE | C11: SCORE: | F11: SCORE: | I11: SCORE:
A12: ='Beoordelen kwaliteit'!A13:A13 -> Zie bijlage 7a 'kwaliteit'. | C12: <MOTIVATIE> | F12: <MOTIVATIE> | I12: <MOTIVATIE>
A13: ='Beoordelen kwaliteit'!A14:A14 -> OPEN VRAAG 7.4 BEHEER, UPDATES EN UPGRADES/FIRMWARE | C13: SCORE: | F13: SCORE: | I13: SCORE:
A14: ='Beoordelen kwaliteit'!A15:A15 -> Zie bijlage 7a 'kwaliteit'. | C14: <MOTIVATIE> | F14: <MOTIVATIE> | I14: <MOTIVATIE>
A15: ='Beoordelen kwaliteit'!A16:A16 -> OPEN VRAAG 7.5 VEILIGHEID | C15: SCORE: | F15: SCORE: | I15: SCORE:
A16: ='Beoordelen kwaliteit'!A17:A17 -> Zie bijlage 7a 'kwaliteit'. | C16: <MOTIVATIE> | F16: <MOTIVATIE> | I16: <MOTIVATIE>

Sheet Beoordelaar 3
A1: Beoordelaar 3: <<>> | C1: ='Beoordelaar 1'!C1 -> Inschrijver 1 | F1: ='Beoordelaar 1'!F1 -> Inschrijver 2 | I1: ='Beoordelaar 1'!I1 -> Inschrijver 3
A2: ='Beoordelen kwaliteit'!A3 -> OPEN VRAAG 7.1 PROJECTAANPAK TOTALE LEVERING
A3: ='Beoordelen kwaliteit'!A4 -> SUB 1. Plan van Aanpak | C3: SCORE: | F3: SCORE: | I3: SCORE:
A4: ='Beoordelen kwaliteit'!A5:A5 -> Zie bijlage 7a 'kwaliteit'. | C4: <MOTIVATIE> | F4: <MOTIVATIE> | I4: <MOTIVATIE>
A5: ='Beoordelen kwaliteit'!A6:A6 -> SUB 2. Meerwaarde | C5: SCORE: | F5: SCORE: | I5: SCORE:
A6: ='Beoordelen kwaliteit'!A7:A7 -> Zie bijlage 7a 'kwaliteit'. | C6: <MOTIVATIE> | F6: <MOTIVATIE> | I6: <MOTIVATIE>
A7: ='Beoordelen kwaliteit'!A8:A8 -> SUB 4. Duurzaam en circulair inkopen | C7: SCORE: | F7: SCORE: | I7: SCORE:
A8: ='Beoordelen kwaliteit'!A9:A9 -> Zie bijlage 7a 'kwaliteit'. | C8: <MOTIVATIE> | F8: <MOTIVATIE> | I8: <MOTIVATIE>
A9: ='Beoordelen kwaliteit'!A10:A10 -> OPEN VRAAG 7.2 SLA EN GARANTIE | C9: SCORE: | F9: SCORE: | I9: SCORE:
A10: ='Beoordelen kwaliteit'!A11:A11 -> Zie bijlage 7a 'kwaliteit'. | C10: <MOTIVATIE> | F10: <MOTIVATIE> | I10: <MOTIVATIE>
A11: ='Beoordelen kwaliteit'!A12:A12 -> OPEN VRAAG 7.3 KWALITEIT VAN DIENSTVERLENING EN SERVICE | C11: SCORE: | F11: SCORE: | I11: SCORE:
A12: ='Beoordelen kwaliteit'!A13:A13 -> Zie bijlage 7a 'kwaliteit'. | C12: <MOTIVATIE> | F12: <MOTIVATIE> | I12: <MOTIVATIE>
A13: ='Beoordelen kwaliteit'!A14:A14 -> OPEN VRAAG 7.4 BEHEER, UPDATES EN UPGRADES/FIRMWARE | C13: SCORE: | F13: SCORE: | I13: SCORE:
A14: ='Beoordelen kwaliteit'!A15:A15 -> Zie bijlage 7a 'kwaliteit'. | C14: <MOTIVATIE> | F14: <MOTIVATIE> | I14: <MOTIVATIE>
A15: ='Beoordelen kwaliteit'!A16:A16 -> OPEN VRAAG 7.5 VEILIGHEID | C15: SCORE: | F15: SCORE: | I15: SCORE:
A16: ='Beoordelen kwaliteit'!A17:A17 -> Zie bijlage 7a 'kwaliteit'. | C16: <MOTIVATIE> | F16: <MOTIVATIE> | I16: <MOTIVATIE>

Sheet Beoordelaar 4
A1: Beoordelaar 4: <<>> | C1: ='Beoordelaar 1'!C1 -> Inschrijver 1 | F1: ='Beoordelaar 1'!F1 -> Inschrijver 2 | I1: ='Beoordelaar 1'!I1 -> Inschrijver 3
A2: ='Beoordelen kwaliteit'!A3 -> OPEN VRAAG 7.1 PROJECTAANPAK TOTALE LEVERING
A3: ='Beoordelen kwaliteit'!A4 -> SUB 1. Plan van Aanpak | C3: SCORE: | F3: SCORE: | I3: SCORE:
A4: ='Beoordelen kwaliteit'!A5:A5 -> Zie bijlage 7a 'kwaliteit'. | C4: <MOTIVATIE> | F4: <MOTIVATIE> | I4: <MOTIVATIE>
A5: ='Beoordelen kwaliteit'!A6:A6 -> SUB 2. Meerwaarde | C5: SCORE: | F5: SCORE: | I5: SCORE:
A6: ='Beoordelen kwaliteit'!A7:A7 -> Zie bijlage 7a 'kwaliteit'. | C6: <MOTIVATIE> | F6: <MOTIVATIE> | I6: <MOTIVATIE>
A7: ='Beoordelen kwaliteit'!A8:A8 -> SUB 4. Duurzaam en circulair inkopen | C7: SCORE: | F7: SCORE: | I7: SCORE:
A8: ='Beoordelen kwaliteit'!A9:A9 -> Zie bijlage 7a 'kwaliteit'. | C8: <MOTIVATIE> | F8: <MOTIVATIE> | I8: <MOTIVATIE>
A9: ='Beoordelen kwaliteit'!A10:A10 -> OPEN VRAAG 7.2 SLA EN GARANTIE | C9: SCORE: | F9: SCORE: | I9: SCORE:
A10: ='Beoordelen kwaliteit'!A11:A11 -> Zie bijlage 7a 'kwaliteit'. | C10: <MOTIVATIE> | F10: <MOTIVATIE> | I10: <MOTIVATIE>
A11: ='Beoordelen kwaliteit'!A12:A12 -> OPEN VRAAG 7.3 KWALITEIT VAN DIENSTVERLENING EN SERVICE | C11: SCORE: | F11: SCORE: | I11: SCORE:
A12: ='Beoordelen kwaliteit'!A13:A13 -> Zie bijlage 7a 'kwaliteit'. | C12: <MOTIVATIE> | F12: <MOTIVATIE> | I12: <MOTIVATIE>
A13: ='Beoordelen kwaliteit'!A14:A14 -> OPEN VRAAG 7.4 BEHEER, UPDATES EN UPGRADES/FIRMWARE | C13: SCORE: | F13: SCORE: | I13: SCORE:
A14: ='Beoordelen kwaliteit'!A15:A15 -> Zie bijlage 7a 'kwaliteit'. | C14: <MOTIVATIE> | F14: <MOTIVATIE> | I14: <MOTIVATIE>
A15: ='Beoordelen kwaliteit'!A16:A16 -> OPEN VRAAG 7.5 VEILIGHEID | C15: SCORE: | F15: SCORE: | I15: SCORE:
A16: ='Beoordelen kwaliteit'!A17:A17 -> Zie bijlage 7a 'kwaliteit'. | C16: <MOTIVATIE> | F16: <MOTIVATIE> | I16: <MOTIVATIE>

Sheet Beoordelaar 5
A1: Beoordelaar 5: <<>> | C1: ='Beoordelaar 1'!C1 -> Inschrijver 1 | F1: ='Beoordelaar 1'!F1 -> Inschrijver 2 | I1: ='Beoordelaar 1'!I1 -> Inschrijver 3
A2: ='Beoordelen kwaliteit'!A3 -> OPEN VRAAG 7.1 PROJECTAANPAK TOTALE LEVERING
A3: ='Beoordelen kwaliteit'!A4 -> SUB 1. Plan van Aanpak | C3: SCORE: | F3: SCORE: | I3: SCORE:
A4: ='Beoordelen kwaliteit'!A5:A5 -> Zie bijlage 7a 'kwaliteit'. | C4: <MOTIVATIE> | F4: <MOTIVATIE> | I4: <MOTIVATIE>
A5: ='Beoordelen kwaliteit'!A6:A6 -> SUB 2. Meerwaarde | C5: SCORE: | F5: SCORE: | I5: SCORE:
A6: ='Beoordelen kwaliteit'!A7:A7 -> Zie bijlage 7a 'kwaliteit'. | C6: <MOTIVATIE> | F6: <MOTIVATIE> | I6: <MOTIVATIE>
A7: ='Beoordelen kwaliteit'!A8:A8 -> SUB 4. Duurzaam en circulair inkopen | C7: SCORE: | F7: SCORE: | I7: SCORE:
A8: ='Beoordelen kwaliteit'!A9:A9 -> Zie bijlage 7a 'kwaliteit'. | C8: <MOTIVATIE> | F8: <MOTIVATIE> | I8: <MOTIVATIE>
A9: ='Beoordelen kwaliteit'!A10:A10 -> OPEN VRAAG 7.2 SLA EN GARANTIE | C9: SCORE: | F9: SCORE: | I9: SCORE:
A10: ='Beoordelen kwaliteit'!A11:A11 -> Zie bijlage 7a 'kwaliteit'. | C10: <MOTIVATIE> | F10: <MOTIVATIE> | I10: <MOTIVATIE>
A11: ='Beoordelen kwaliteit'!A12:A12 -> OPEN VRAAG 7.3 KWALITEIT VAN DIENSTVERLENING EN SERVICE | C11: SCORE: | F11: SCORE: | I11: SCORE:
A12: ='Beoordelen kwaliteit'!A13:A13 -> Zie bijlage 7a 'kwaliteit'. | C12: <MOTIVATIE> | F12: <MOTIVATIE> | I12: <MOTIVATIE>
A13: ='Beoordelen kwaliteit'!A14:A14 -> OPEN VRAAG 7.4 BEHEER, UPDATES EN UPGRADES/FIRMWARE | C13: SCORE: | F13: SCORE: | I13: SCORE:
A14: ='Beoordelen kwaliteit'!A15:A15 -> Zie bijlage 7a 'kwaliteit'. | C14: <MOTIVATIE> | F14: <MOTIVATIE> | I14: <MOTIVATIE>
A15: ='Beoordelen kwaliteit'!A16:A16 -> OPEN VRAAG 7.5 VEILIGHEID | C15: SCORE: | F15: SCORE: | I15: SCORE:
A16: ='Beoordelen kwaliteit'!A17:A17 -> Zie bijlage 7a 'kwaliteit'. | C16: <MOTIVATIE> | F16: <MOTIVATIE> | I16: <MOTIVATIE>

Sheet Beoordelaar 6
A1: Beoordelaar 6: <<>> | C1: Inschrijver 1 | F1: Inschrijver 2 | I1: Inschrijver 3
A2: ='Beoordelen kwaliteit'!A3 -> OPEN VRAAG 7.1 PROJECTAANPAK TOTALE LEVERING
A3: ='Beoordelen kwaliteit'!A4 -> SUB 1. Plan van Aanpak | C3: SCORE: | F3: SCORE: | I3: SCORE:
A4: ='Beoordelen kwaliteit'!A5:A5 -> Zie bijlage 7a 'kwaliteit'. | C4: <MOTIVATIE> | F4: <MOTIVATIE> | I4: <MOTIVATIE>
A5: ='Beoordelen kwaliteit'!A6:A6 -> SUB 2. Meerwaarde | C5: SCORE: | F5: SCORE: | I5: SCORE:
A6: ='Beoordelen kwaliteit'!A7:A7 -> Zie bijlage 7a 'kwaliteit'. | C6: <MOTIVATIE> | F6: <MOTIVATIE> | I6: <MOTIVATIE>
A7: ='Beoordelen kwaliteit'!A8:A8 -> SUB 4. Duurzaam en circulair inkopen | C7: SCORE: | F7: SCORE: | I7: SCORE:
A8: ='Beoordelen kwaliteit'!A9:A9 -> Zie bijlage 7a 'kwaliteit'. | C8: <MOTIVATIE> | F8: <MOTIVATIE> | I8: <MOTIVATIE>
A9: ='Beoordelen kwaliteit'!A10:A10 -> OPEN VRAAG 7.2 SLA EN GARANTIE | C9: SCORE: | F9: SCORE: | I9: SCORE:
A10: ='Beoordelen kwaliteit'!A11:A11 -> Zie bijlage 7a 'kwaliteit'. | C10: <MOTIVATIE> | F10: <MOTIVATIE> | I10: <MOTIVATIE>
A11: ='Beoordelen kwaliteit'!A12:A12 -> OPEN VRAAG 7.3 KWALITEIT VAN DIENSTVERLENING EN SERVICE | C11: SCORE: | F11: SCORE: | I11: SCORE:
A12: ='Beoordelen kwaliteit'!A13:A13 -> Zie bijlage 7a 'kwaliteit'. | C12: <MOTIVATIE> | F12: <MOTIVATIE> | I12: <MOTIVATIE>
A13: ='Beoordelen kwaliteit'!A14:A14 -> OPEN VRAAG 7.4 BEHEER, UPDATES EN UPGRADES/FIRMWARE | C13: SCORE: | F13: SCORE: | I13: SCORE:
A14: ='Beoordelen kwaliteit'!A15:A15 -> Zie bijlage 7a 'kwaliteit'. | C14: <MOTIVATIE> | F14: <MOTIVATIE> | I14: <MOTIVATIE>
A15: ='Beoordelen kwaliteit'!A16:A16 -> OPEN VRAAG 7.5 VEILIGHEID | C15: SCORE: | F15: SCORE: | I15: SCORE:
A16: ='Beoordelen kwaliteit'!A17:A17 -> Zie bijlage 7a 'kwaliteit'. | C16: <MOTIVATIE> | F16: <MOTIVATIE> | I16: <MOTIVATIE>

Sheet Beoordelaar 7
A1: Beoordelaar 7: <<>> | C1: Inschrijver 1 | F1: Inschrijver 2 | I1: Inschrijver 3
A2: ='Beoordelen kwaliteit'!A3 -> OPEN VRAAG 7.1 PROJECTAANPAK TOTALE LEVERING
A3: ='Beoordelen kwaliteit'!A4 -> SUB 1. Plan van Aanpak | C3: SCORE: | F3: SCORE: | I3: SCORE:
A4: ='Beoordelen kwaliteit'!A5:A5 -> Zie bijlage 7a 'kwaliteit'. | C4: <MOTIVATIE> | F4: <MOTIVATIE> | I4: <MOTIVATIE>
A5: ='Beoordelen kwaliteit'!A6:A6 -> SUB 2. Meerwaarde | C5: SCORE: | F5: SCORE: | I5: SCORE:
A6: ='Beoordelen kwaliteit'!A7:A7 -> Zie bijlage 7a 'kwaliteit'. | C6: <MOTIVATIE> | F6: <MOTIVATIE> | I6: <MOTIVATIE>
A7: ='Beoordelen kwaliteit'!A8:A8 -> SUB 4. Duurzaam en circulair inkopen | C7: SCORE: | F7: SCORE: | I7: SCORE:
A8: ='Beoordelen kwaliteit'!A9:A9 -> Zie bijlage 7a 'kwaliteit'. | C8: <MOTIVATIE> | F8: <MOTIVATIE> | I8: <MOTIVATIE>
A9: ='Beoordelen kwaliteit'!A10:A10 -> OPEN VRAAG 7.2 SLA EN GARANTIE | C9: SCORE: | F9: SCORE: | I9: SCORE:
A10: ='Beoordelen kwaliteit'!A11:A11 -> Zie bijlage 7a 'kwaliteit'. | C10: <MOTIVATIE> | F10: <MOTIVATIE> | I10: <MOTIVATIE>
A11: ='Beoordelen kwaliteit'!A12:A12 -> OPEN VRAAG 7.3 KWALITEIT VAN DIENSTVERLENING EN SERVICE | C11: SCORE: | F11: SCORE: | I11: SCORE:
A12: ='Beoordelen kwaliteit'!A13:A13 -> Zie bijlage 7a 'kwaliteit'. | C12: <MOTIVATIE> | F12: <MOTIVATIE> | I12: <MOTIVATIE>
A13: ='Beoordelen kwaliteit'!A14:A14 -> OPEN VRAAG 7.4 BEHEER, UPDATES EN UPGRADES/FIRMWARE | C13: SCORE: | F13: SCORE: | I13: SCORE:
A14: ='Beoordelen kwaliteit'!A15:A15 -> Zie bijlage 7a 'kwaliteit'. | C14: <MOTIVATIE> | F14: <MOTIVATIE> | I14: <MOTIVATIE>
A15: ='Beoordelen kwaliteit'!A16:A16 -> OPEN VRAAG 7.5 VEILIGHEID | C15: SCORE: | F15: SCORE: | I15: SCORE:
A16: ='Beoordelen kwaliteit'!A17:A17 -> Zie bijlage 7a 'kwaliteit'. | C16: <MOTIVATIE> | F16: <MOTIVATIE> | I16: <MOTIVATIE>

Sheet Beoordelaar 8
A1: Beoordelaar 8: <<>> | C1: Inschrijver 1 | F1: Inschrijver 2 | I1: Inschrijver 3
A2: ='Beoordelen kwaliteit'!A3 -> OPEN VRAAG 7.1 PROJECTAANPAK TOTALE LEVERING
A3: ='Beoordelen kwaliteit'!A4 -> SUB 1. Plan van Aanpak | C3: SCORE: | F3: SCORE: | I3: SCORE:
A4: ='Beoordelen kwaliteit'!A5:A5 -> Zie bijlage 7a 'kwaliteit'. | C4: <MOTIVATIE> | F4: <MOTIVATIE> | I4: <MOTIVATIE>
A5: ='Beoordelen kwaliteit'!A6:A6 -> SUB 2. Meerwaarde | C5: SCORE: | F5: SCORE: | I5: SCORE:
A6: ='Beoordelen kwaliteit'!A7:A7 -> Zie bijlage 7a 'kwaliteit'. | C6: <MOTIVATIE> | F6: <MOTIVATIE> | I6: <MOTIVATIE>
A7: ='Beoordelen kwaliteit'!A8:A8 -> SUB 4. Duurzaam en circulair inkopen | C7: SCORE: | F7: SCORE: | I7: SCORE:
A8: ='Beoordelen kwaliteit'!A9:A9 -> Zie bijlage 7a 'kwaliteit'. | C8: <MOTIVATIE> | F8: <MOTIVATIE> | I8: <MOTIVATIE>
A9: ='Beoordelen kwaliteit'!A10:A10 -> OPEN VRAAG 7.2 SLA EN GARANTIE | C9: SCORE: | F9: SCORE: | I9: SCORE:
A10: ='Beoordelen kwaliteit'!A11:A11 -> Zie bijlage 7a 'kwaliteit'. | C10: <MOTIVATIE> | F10: <MOTIVATIE> | I10: <MOTIVATIE>
A11: ='Beoordelen kwaliteit'!A12:A12 -> OPEN VRAAG 7.3 KWALITEIT VAN DIENSTVERLENING EN SERVICE | C11: SCORE: | F11: SCORE: | I11: SCORE:
A12: ='Beoordelen kwaliteit'!A13:A13 -> Zie bijlage 7a 'kwaliteit'. | C12: <MOTIVATIE> | F12: <MOTIVATIE> | I12: <MOTIVATIE>
A13: ='Beoordelen kwaliteit'!A14:A14 -> OPEN VRAAG 7.4 BEHEER, UPDATES EN UPGRADES/FIRMWARE | C13: SCORE: | F13: SCORE: | I13: SCORE:
A14: ='Beoordelen kwaliteit'!A15:A15 -> Zie bijlage 7a 'kwaliteit'. | C14: <MOTIVATIE> | F14: <MOTIVATIE> | I14: <MOTIVATIE>
A15: ='Beoordelen kwaliteit'!A16:A16 -> OPEN VRAAG 7.5 VEILIGHEID | C15: SCORE: | F15: SCORE: | I15: SCORE:
A16: ='Beoordelen kwaliteit'!A17:A17 -> Zie bijlage 7a 'kwaliteit'. | C16: <MOTIVATIE> | F16: <MOTIVATIE> | I16: <MOTIVATIE>

Sheet Beoordelaar 9
A1: Beoordelaar 9: <<>> | C1: Inschrijver 1 | F1: Inschrijver 2 | I1: Inschrijver 3
A2: ='Beoordelen kwaliteit'!A3 -> OPEN VRAAG 7.1 PROJECTAANPAK TOTALE LEVERING
A3: ='Beoordelen kwaliteit'!A4 -> SUB 1. Plan van Aanpak | C3: SCORE: | F3: SCORE: | I3: SCORE:
A4: ='Beoordelen kwaliteit'!A5:A5 -> Zie bijlage 7a 'kwaliteit'. | C4: <MOTIVATIE> | F4: <MOTIVATIE> | I4: <MOTIVATIE>
A5: ='Beoordelen kwaliteit'!A6:A6 -> SUB 2. Meerwaarde | C5: SCORE: | F5: SCORE: | I5: SCORE:
A6: ='Beoordelen kwaliteit'!A7:A7 -> Zie bijlage 7a 'kwaliteit'. | C6: <MOTIVATIE> | F6: <MOTIVATIE> | I6: <MOTIVATIE>
A7: ='Beoordelen kwaliteit'!A8:A8 -> SUB 4. Duurzaam en circulair inkopen | C7: SCORE: | F7: SCORE: | I7: SCORE:
A8: ='Beoordelen kwaliteit'!A9:A9 -> Zie bijlage 7a 'kwaliteit'. | C8: <MOTIVATIE> | F8: <MOTIVATIE> | I8: <MOTIVATIE>
A9: ='Beoordelen kwaliteit'!A10:A10 -> OPEN VRAAG 7.2 SLA EN GARANTIE | C9: SCORE: | F9: SCORE: | I9: SCORE:
A10: ='Beoordelen kwaliteit'!A11:A11 -> Zie bijlage 7a 'kwaliteit'. | C10: <MOTIVATIE> | F10: <MOTIVATIE> | I10: <MOTIVATIE>
A11: ='Beoordelen kwaliteit'!A12:A12 -> OPEN VRAAG 7.3 KWALITEIT VAN DIENSTVERLENING EN SERVICE | C11: SCORE: | F11: SCORE: | I11: SCORE:
A12: ='Beoordelen kwaliteit'!A13:A13 -> Zie bijlage 7a 'kwaliteit'. | C12: <MOTIVATIE> | F12: <MOTIVATIE> | I12: <MOTIVATIE>
A13: ='Beoordelen kwaliteit'!A14:A14 -> OPEN VRAAG 7.4 BEHEER, UPDATES EN UPGRADES/FIRMWARE | C13: SCORE: | F13: SCORE: | I13: SCORE:
A14: ='Beoordelen kwaliteit'!A15:A15 -> Zie bijlage 7a 'kwaliteit'. | C14: <MOTIVATIE> | F14: <MOTIVATIE> | I14: <MOTIVATIE>
A15: ='Beoordelen kwaliteit'!A16:A16 -> OPEN VRAAG 7.5 VEILIGHEID | C15: SCORE: | F15: SCORE: | I15: SCORE:
A16: ='Beoordelen kwaliteit'!A17:A17 -> Zie bijlage 7a 'kwaliteit'. | C16: <MOTIVATIE> | F16: <MOTIVATIE> | I16: <MOTIVATIE>

Sheet Beoordelaar 10
A1: Beoordelaar 10: <<>> | C1: Inschrijver 1 | F1: Inschrijver 2 | I1: Inschrijver 3
A2: ='Beoordelen kwaliteit'!A3 -> OPEN VRAAG 7.1 PROJECTAANPAK TOTALE LEVERING
A3: ='Beoordelen kwaliteit'!A4 -> SUB 1. Plan van Aanpak | C3: SCORE: | F3: SCORE: | I3: SCORE:
A4: ='Beoordelen kwaliteit'!A5:A5 -> Zie bijlage 7a 'kwaliteit'. | C4: <MOTIVATIE> | F4: <MOTIVATIE> | I4: <MOTIVATIE>
A5: ='Beoordelen kwaliteit'!A6:A6 -> SUB 2. Meerwaarde | C5: SCORE: | F5: SCORE: | I5: SCORE:
A6: ='Beoordelen kwaliteit'!A7:A7 -> Zie bijlage 7a 'kwaliteit'. | C6: <MOTIVATIE> | F6: <MOTIVATIE> | I6: <MOTIVATIE>
A7: ='Beoordelen kwaliteit'!A8:A8 -> SUB 4. Duurzaam en circulair inkopen | C7: SCORE: | F7: SCORE: | I7: SCORE:
A8: ='Beoordelen kwaliteit'!A9:A9 -> Zie bijlage 7a 'kwaliteit'. | C8: <MOTIVATIE> | F8: <MOTIVATIE> | I8: <MOTIVATIE>
A9: ='Beoordelen kwaliteit'!A10:A10 -> OPEN VRAAG 7.2 SLA EN GARANTIE | C9: SCORE: | F9: SCORE: | I9: SCORE:
A10: ='Beoordelen kwaliteit'!A11:A11 -> Zie bijlage 7a 'kwaliteit'. | C10: <MOTIVATIE> | F10: <MOTIVATIE> | I10: <MOTIVATIE>
A11: ='Beoordelen kwaliteit'!A12:A12 -> OPEN VRAAG 7.3 KWALITEIT VAN DIENSTVERLENING EN SERVICE | C11: SCORE: | F11: SCORE: | I11: SCORE:
A12: ='Beoordelen kwaliteit'!A13:A13 -> Zie bijlage 7a 'kwaliteit'. | C12: <MOTIVATIE> | F12: <MOTIVATIE> | I12: <MOTIVATIE>
A13: ='Beoordelen kwaliteit'!A14:A14 -> OPEN VRAAG 7.4 BEHEER, UPDATES EN UPGRADES/FIRMWARE | C13: SCORE: | F13: SCORE: | I13: SCORE:
A14: ='Beoordelen kwaliteit'!A15:A15 -> Zie bijlage 7a 'kwaliteit'. | C14: <MOTIVATIE> | F14: <MOTIVATIE> | I14: <MOTIVATIE>
A15: ='Beoordelen kwaliteit'!A16:A16 -> OPEN VRAAG 7.5 VEILIGHEID | C15: SCORE: | F15: SCORE: | I15: SCORE:
A16: ='Beoordelen kwaliteit'!A17:A17 -> Zie bijlage 7a 'kwaliteit'. | C16: <MOTIVATIE> | F16: <MOTIVATIE> | I16: <MOTIVATIE>

Sheet Beoordelaar 11
A1: Beoordelaar 11: <<>> | C1: Inschrijver 1 | F1: Inschrijver 2 | I1: Inschrijver 3
A2: ='Beoordelen kwaliteit'!A3 -> OPEN VRAAG 7.1 PROJECTAANPAK TOTALE LEVERING
A3: ='Beoordelen kwaliteit'!A4 -> SUB 1. Plan van Aanpak | C3: SCORE: | F3: SCORE: | I3: SCORE:
A4: ='Beoordelen kwaliteit'!A5:A5 -> Zie bijlage 7a 'kwaliteit'. | C4: <MOTIVATIE> | F4: <MOTIVATIE> | I4: <MOTIVATIE>
A5: ='Beoordelen kwaliteit'!A6:A6 -> SUB 2. Meerwaarde | C5: SCORE: | F5: SCORE: | I5: SCORE:
A6: ='Beoordelen kwaliteit'!A7:A7 -> Zie bijlage 7a 'kwaliteit'. | C6: <MOTIVATIE> | F6: <MOTIVATIE> | I6: <MOTIVATIE>
A7: ='Beoordelen kwaliteit'!A8:A8 -> SUB 4. Duurzaam en circulair inkopen | C7: SCORE: | F7: SCORE: | I7: SCORE:
A8: ='Beoordelen kwaliteit'!A9:A9 -> Zie bijlage 7a 'kwaliteit'. | C8: <MOTIVATIE> | F8: <MOTIVATIE> | I8: <MOTIVATIE>
A9: ='Beoordelen kwaliteit'!A10:A10 -> OPEN VRAAG 7.2 SLA EN GARANTIE | C9: SCORE: | F9: SCORE: | I9: SCORE:
A10: ='Beoordelen kwaliteit'!A11:A11 -> Zie bijlage 7a 'kwaliteit'. | C10: <MOTIVATIE> | F10: <MOTIVATIE> | I10: <MOTIVATIE>
A11: ='Beoordelen kwaliteit'!A12:A12 -> OPEN VRAAG 7.3 KWALITEIT VAN DIENSTVERLENING EN SERVICE | C11: SCORE: | F11: SCORE: | I11: SCORE:
A12: ='Beoordelen kwaliteit'!A13:A13 -> Zie bijlage 7a 'kwaliteit'. | C12: <MOTIVATIE> | F12: <MOTIVATIE> | I12: <MOTIVATIE>
A13: ='Beoordelen kwaliteit'!A14:A14 -> OPEN VRAAG 7.4 BEHEER, UPDATES EN UPGRADES/FIRMWARE | C13: SCORE: | F13: SCORE: | I13: SCORE:
A14: ='Beoordelen kwaliteit'!A15:A15 -> Zie bijlage 7a 'kwaliteit'. | C14: <MOTIVATIE> | F14: <MOTIVATIE> | I14: <MOTIVATIE>
A15: ='Beoordelen kwaliteit'!A16:A16 -> OPEN VRAAG 7.5 VEILIGHEID | C15: SCORE: | F15: SCORE: | I15: SCORE:
A16: ='Beoordelen kwaliteit'!A17:A17 -> Zie bijlage 7a 'kwaliteit'. | C16: <MOTIVATIE> | F16: <MOTIVATIE> | I16: <MOTIVATIE>

Sheet Eindscores
A1: Totaalwaardes Beantwoording open vragen
A2: ='Beoordelen kwaliteit'!A3 -> OPEN VRAAG 7.1 PROJECTAANPAK TOTALE LEVERING | D2: ='Beoordelaar 1'!C1 -> Inschrijver 1 | E2: Motivatie consensus: | G2: ='Beoordelaar 1'!F1 -> Inschrijver 2 | H2: Motivatie consensus: | J2: ='Beoordelaar 1'!I1 -> Inschrijver 3 | K2: Motivatie consensus:
A3: ='Beoordelen kwaliteit'!A4:A4 -> SUB 1. Plan van Aanpak | B3: Beoordelaar 1 | D3: ='Beoordelaar 1'!C3 -> SCORE: | E3: <<MOTIVATIE>> | G3: ='Beoordelaar 1'!F3 -> SCORE: | H3: <<MOTIVATIE>> | J3: ='Beoordelaar 1'!I3 -> SCORE: | K3: <<MOTIVATIE>>
B4: Beoordelaar 2 | D4: ='Beoordelaar 2'!C3 -> SCORE: | G4: ='Beoordelaar 2'!F3 -> SCORE: | J4: ='Beoordelaar 2'!I3 -> SCORE:
B5: Beoordelaar 3 | D5: ='Beoordelaar 3'!C3 -> SCORE: | G5: ='Beoordelaar 3'!F3 -> SCORE: | J5: ='Beoordelaar 3'!I3 -> SCORE:
B6: Beoordelaar 4 | D6: ='Beoordelaar 4'!C3 -> SCORE: | G6: ='Beoordelaar 4'!F3 -> SCORE: | J6: ='Beoordelaar 4'!I3 -> SCORE:
B7: Beoordelaar 5 | D7: ='Beoordelaar 5'!C3 -> SCORE: | G7: ='Beoordelaar 5'!F3 -> SCORE: | J7: ='Beoordelaar 5'!I3 -> SCORE:
B8: Beoordelaar 6 | D8: ='Beoordelaar 6'!C3 -> SCORE: | G8: ='Beoordelaar 6'!F3 -> SCORE: | J8: ='Beoordelaar 6'!I3 -> SCORE:
B9: Beoordelaar 7 | D9: ='Beoordelaar 7'!C3 -> SCORE: | G9: ='Beoordelaar 7'!F3 -> SCORE: | J9: ='Beoordelaar 7'!I3 -> SCORE:
B10: Beoordelaar 8 | D10: ='Beoordelaar 8'!C3 -> SCORE: | G10: ='Beoordelaar 8'!F3 -> SCORE: | J10: ='Beoordelaar 8'!I3 -> SCORE:
B11: Beoordelaar 9 | D11: ='Beoordelaar 9'!C3 -> SCORE: | G11: ='Beoordelaar 9'!F3 -> SCORE: | J11: ='Beoordelaar 9'!I3 -> SCORE:
B12: Beoordelaar 10 | D12: ='Beoordelaar 10'!C3 -> SCORE: | G12: ='Beoordelaar 10'!F3 -> SCORE: | J12: ='Beoordelaar 10'!I3 -> SCORE:
B13: Beoordelaar 11 | D13: ='Beoordelaar 11'!C3 -> SCORE: | G13: ='Beoordelaar 11'!F3 -> SCORE: | J13: ='Beoordelaar 11'!I3 -> SCORE:
A14: Consensus | D14: SCORE: | G14: SCORE: | J14: SCORE:
D15: =IF(D14="Uitmuntend","€ 4.000",IF(D14="Goed","€ 3.200",IF(D14="Voldoende","€ 0",IF(D14="Matig","-€ 8.000",IF(D14="Onvoldoende","UITSLUITING"," "))))) | G15: =IF(G14="Uitmuntend","€ 4.000",IF(G14="Goed","€ 3.200",IF(G14="Voldoende","€ 0",IF(G14="Matig","-€ 8.000",IF(G14="Onvoldoende","UITSLUITING"," "))))) | J15: =IF(J14="Uitmuntend","€ 4.000",IF(J14="Goed","€ 3.200",IF(J14="Voldoende","€ 0",IF(J14="Matig","-€ 8.000",IF(J14="Onvoldoende","UITSLUITING"," ")))))
A16: ='Beoordelen kwaliteit'!A6:A6 -> SUB 2. Meerwaarde | B16: Beoordelaar 1 | D16: ='Beoordelaar 1'!C5 -> SCORE: | E16: <<MOTIVATIE>> | G16: ='Beoordelaar 1'!F5 -> SCORE: | H16: <<MOTIVATIE>> | J16: ='Beoordelaar 1'!I5 -> SCORE: | K16: <<MOTIVATIE>>
B17: Beoordelaar 2 | D17: ='Beoordelaar 2'!C5 -> SCORE: | G17: ='Beoordelaar 2'!F5 -> SCORE: | J17: ='Beoordelaar 2'!I5 -> SCORE:
B18: Beoordelaar 3 | D18: ='Beoordelaar 3'!C5 -> SCORE: | G18: ='Beoordelaar 3'!F5 -> SCORE: | J18: ='Beoordelaar 3'!I5 -> SCORE:
B19: Beoordelaar 4 | D19: ='Beoordelaar 4'!C5 -> SCORE: | G19: ='Beoordelaar 4'!F5 -> SCORE: | J19: ='Beoordelaar 4'!I5 -> SCORE:
B20: Beoordelaar 5 | D20: ='Beoordelaar 5'!C5 -> SCORE: | G20: ='Beoordelaar 5'!F5 -> SCORE: | J20: ='Beoordelaar 5'!I5 -> SCORE:
B21: Beoordelaar 6 | D21: ='Beoordelaar 6'!C5 -> SCORE: | G21: ='Beoordelaar 6'!F5 -> SCORE: | J21: ='Beoordelaar 6'!I5 -> SCORE:
B22: Beoordelaar 7 | D22: ='Beoordelaar 7'!C5 -> SCORE: | G22: ='Beoordelaar 7'!F5 -> SCORE: | J22: ='Beoordelaar 7'!I5 -> SCORE:
B23: Beoordelaar 8 | D23: ='Beoordelaar 8'!C5 -> SCORE: | G23: ='Beoordelaar 8'!F5 -> SCORE: | J23: ='Beoordelaar 8'!I5 -> SCORE:
B24: Beoordelaar 9 | D24: ='Beoordelaar 9'!C5 -> SCORE: | G24: ='Beoordelaar 9'!F5 -> SCORE: | J24: ='Beoordelaar 9'!I5 -> SCORE:
B25: Beoordelaar 10 | D25: ='Beoordelaar 10'!C5 -> SCORE: | G25: ='Beoordelaar 10'!F5 -> SCORE: | J25: ='Beoordelaar 10'!I5 -> SCORE:
B26: Beoordelaar 11 | D26: ='Beoordelaar 11'!C5 -> SCORE: | G26: ='Beoordelaar 11'!F5 -> SCORE: | J26: ='Beoordelaar 11'!I5 -> SCORE:
A27: Consensus | D27: SCORE: | G27: SCORE: | J27: SCORE:
D28: =IF(D27="Uitmuntend","€ 4.000",IF(D27="Goed","€ 3.200",IF(D27="Voldoende","€ 0",IF(D27="Matig","-€ 8.000",IF(D27="Onvoldoende","UITSLUITING"," "))))) | G28: =IF(G27="Uitmuntend","€ 4.000",IF(G27="Goed","€ 3.200",IF(G27="Voldoende","€ 0",IF(G27="Matig","-€ 8.000",IF(G27="Onvoldoende","UITSLUITING"," "))))) | J28: =IF(J27="Uitmuntend","€ 4.000",IF(J27="Goed","€ 3.200",IF(J27="Voldoende","€ 0",IF(J27="Matig","-€ 8.000",IF(J27="Onvoldoende","UITSLUITING"," ")))))
A29: ='Beoordelen kwaliteit'!A8:A8 -> SUB 4. Duurzaam en circulair inkopen | B29: Beoordelaar 1 | D29: ='Beoordelaar 1'!C7 -> SCORE: | E29: <<MOTIVATIE>> | G29: ='Beoordelaar 1'!F7 -> SCORE: | H29: <<MOTIVATIE>> | J29: ='Beoordelaar 1'!I7 -> SCORE: | K29: <<MOTIVATIE>>
B30: Beoordelaar 2 | D30: ='Beoordelaar 2'!C7 -> SCORE: | G30: ='Beoordelaar 2'!F7 -> SCORE: | J30: ='Beoordelaar 2'!I7 -> SCORE:
B31: Beoordelaar 3 | D31: ='Beoordelaar 3'!C7 -> SCORE: | G31: ='Beoordelaar 3'!F7 -> SCORE: | J31: ='Beoordelaar 3'!I7 -> SCORE:
B32: Beoordelaar 4 | D32: ='Beoordelaar 4'!C7 -> SCORE: | G32: ='Beoordelaar 4'!F7 -> SCORE: | J32: ='Beoordelaar 4'!I7 -> SCORE:
B33: Beoordelaar 5 | D33: ='Beoordelaar 5'!C7 -> SCORE: | G33: ='Beoordelaar 5'!F7 -> SCORE: | J33: ='Beoordelaar 5'!I7 -> SCORE:
B34: Beoordelaar 6 | D34: ='Beoordelaar 6'!C7 -> SCORE: | G34: ='Beoordelaar 6'!F7 -> SCORE: | J34: ='Beoordelaar 6'!I7 -> SCORE:
B35: Beoordelaar 7 | D35: ='Beoordelaar 7'!C7 -> SCORE: | G35: ='Beoordelaar 7'!F7 -> SCORE: | J35: ='Beoordelaar 7'!I7 -> SCORE:
B36: Beoordelaar 8 | D36: ='Beoordelaar 8'!C7 -> SCORE: | G36: ='Beoordelaar 8'!F7 -> SCORE: | J36: ='Beoordelaar 8'!I7 -> SCORE:
B37: Beoordelaar 9 | D37: ='Beoordelaar 9'!C7 -> SCORE: | G37: ='Beoordelaar 9'!F7 -> SCORE: | J37: ='Beoordelaar 9'!I7 -> SCORE:
B38: Beoordelaar 10 | D38: ='Beoordelaar 10'!C7 -> SCORE: | G38: ='Beoordelaar 10'!F7 -> SCORE: | J38: ='Beoordelaar 10'!I7 -> SCORE:
B39: Beoordelaar 11 | D39: ='Beoordelaar 11'!C7 -> SCORE: | G39: ='Beoordelaar 11'!F7 -> SCORE: | J39: ='Beoordelaar 11'!I7 -> SCORE:
A40: Consensus | D40: SCORE: | G40: SCORE: | J40: SCORE:
D41: =IF(D40="Uitmuntend","€ 4.000",IF(D40="Goed","€ 3.200",IF(D40="Voldoende","€ 0",IF(D40="Matig","-€ 8.000",IF(D40="Onvoldoende","UITSLUITING"," "))))) | G41: =IF(G40="Uitmuntend","€ 4.000",IF(G40="Goed","€ 3.200",IF(G40="Voldoende","€ 0",IF(G40="Matig","-€ 8.000",IF(G40="Onvoldoende","UITSLUITING"," "))))) | J41: =IF(J40="Uitmuntend","€ 4.000",IF(J40="Goed","€ 3.200",IF(J40="Voldoende","€ 0",IF(J40="Matig","-€ 8.000",IF(J40="Onvoldoende","UITSLUITING"," ")))))
A42: ='Beoordelen kwaliteit'!A10:A10 -> OPEN VRAAG 7.2 SLA EN GARANTIE | B42: Beoordelaar 1 | D42: ='Beoordelaar 1'!C9 -> SCORE: | E42: <<MOTIVATIE>> | G42: ='Beoordelaar 1'!F9 -> SCORE: | H42: <<MOTIVATIE>> | J42: ='Beoordelaar 1'!I9 -> SCORE: | K42: <<MOTIVATIE>>
B43: Beoordelaar 2 | D43: ='Beoordelaar 2'!C9 -> SCORE: | G43: ='Beoordelaar 2'!F9 -> SCORE: | J43: ='Beoordelaar 2'!I9 -> SCORE:
B44: Beoordelaar 3 | D44: ='Beoordelaar 3'!C9 -> SCORE: | G44: ='Beoordelaar 3'!F9 -> SCORE: | J44: ='Beoordelaar 3'!I9 -> SCORE:
B45: Beoordelaar 4 | D45: ='Beoordelaar 4'!C9 -> SCORE: | G45: ='Beoordelaar 4'!F9 -> SCORE: | J45: ='Beoordelaar 4'!I9 -> SCORE:
B46: Beoordelaar 5 | D46: ='Beoordelaar 5'!C9 -> SCORE: | G46: ='Beoordelaar 5'!F9 -> SCORE: | J46: ='Beoordelaar 5'!I9 -> SCORE:
B47: Beoordelaar 6 | D47: ='Beoordelaar 6'!C9 -> SCORE: | G47: ='Beoordelaar 6'!F9 -> SCORE: | J47: ='Beoordelaar 6'!I9 -> SCORE:
B48: Beoordelaar 7 | D48: ='Beoordelaar 7'!C9 -> SCORE: | G48: ='Beoordelaar 7'!F9 -> SCORE: | J48: ='Beoordelaar 7'!I9 -> SCORE:
B49: Beoordelaar 8 | D49: ='Beoordelaar 8'!C9 -> SCORE: | G49: ='Beoordelaar 8'!F9 -> SCORE: | J49: ='Beoordelaar 8'!I9 -> SCORE:
B50: Beoordelaar 9 | D50: ='Beoordelaar 9'!C9 -> SCORE: | G50: ='Beoordelaar 9'!F9 -> SCORE: | J50: ='Beoordelaar 9'!I9 -> SCORE:
B51: Beoordelaar 10 | D51: ='Beoordelaar 10'!C9 -> SCORE: | G51: ='Beoordelaar 10'!F9 -> SCORE: | J51: ='Beoordelaar 10'!I9 -> SCORE:
B52: Beoordelaar 11 | D52: ='Beoordelaar 11'!C9 -> SCORE: | G52: ='Beoordelaar 11'!F9 -> SCORE: | J52: ='Beoordelaar 11'!I9 -> SCORE:
A53: Consensus | D53: SCORE: | G53: SCORE: | J53: SCORE:
D54: =IF(D53="Uitmuntend","€ 8.000",IF(D53="Goed","€ 6.400",IF(D53="Voldoende","€ 0",IF(D53="Matig","-€ 16.000",IF(D53="Onvoldoende","UITSLUITING"," "))))) | G54: =IF(G53="Uitmuntend","€ 8.000",IF(G53="Goed","€ 6.400",IF(G53="Voldoende","€ 0",IF(G53="Matig","-€ 16.000",IF(G53="Onvoldoende","UITSLUITING"," "))))) | J54: =IF(J53="Uitmuntend","€ 8.000",IF(J53="Goed","€ 6.400",IF(J53="Voldoende","€ 0",IF(J53="Matig","-€ 16.000",IF(J53="Onvoldoende","UITSLUITING"," ")))))
A55: ='Beoordelen kwaliteit'!A12:A12 -> OPEN VRAAG 7.3 KWALITEIT VAN DIENSTVERLENING EN SERVICE | B55: Beoordelaar 1 | D55: ='Beoordelaar 1'!C11 -> SCORE: | E55: <<MOTIVATIE>> | G55: ='Beoordelaar 1'!F11 -> SCORE: | H55: <<MOTIVATIE>> | J55: ='Beoordelaar 1'!I11 -> SCORE: | K55: <<MOTIVATIE>>
B56: Beoordelaar 2 | D56: ='Beoordelaar 2'!C11 -> SCORE: | G56: ='Beoordelaar 2'!F11 -> SCORE: | J56: ='Beoordelaar 2'!I11 -> SCORE:
B57: Beoordelaar 3 | D57: ='Beoordelaar 3'!C11 -> SCORE: | G57: ='Beoordelaar 3'!F11 -> SCORE: | J57: ='Beoordelaar 3'!I11 -> SCORE:
B58: Beoordelaar 4 | D58: ='Beoordelaar 4'!C11 -> SCORE: | G58: ='Beoordelaar 4'!F11 -> SCORE: | J58: ='Beoordelaar 4'!I11 -> SCORE:
B59: Beoordelaar 5 | D59: ='Beoordelaar 5'!C11 -> SCORE: | G59: ='Beoordelaar 5'!F11 -> SCORE: | J59: ='Beoordelaar 5'!I11 -> SCORE:
B60: Beoordelaar 6 | D60: ='Beoordelaar 6'!C11 -> SCORE: | G60: ='Beoordelaar 6'!F11 -> SCORE: | J60: ='Beoordelaar 6'!I11 -> SCORE:
B61: Beoordelaar 7 | D61: ='Beoordelaar 7'!C11 -> SCORE: | G61: ='Beoordelaar 7'!F11 -> SCORE: | J61: ='Beoordelaar 7'!I11 -> SCORE:
B62: Beoordelaar 8 | D62: ='Beoordelaar 8'!C11 -> SCORE: | G62: ='Beoordelaar 8'!F11 -> SCORE: | J62: ='Beoordelaar 8'!I11 -> SCORE:
B63: Beoordelaar 9 | D63: ='Beoordelaar 9'!C11 -> SCORE: | G63: ='Beoordelaar 9'!F11 -> SCORE: | J63: ='Beoordelaar 9'!I11 -> SCORE:
B64: Beoordelaar 10 | D64: ='Beoordelaar 10'!C11 -> SCORE: | G64: ='Beoordelaar 10'!F11 -> SCORE: | J64: ='Beoordelaar 10'!I11 -> SCORE:
B65: Beoordelaar 11 | D65: ='Beoordelaar 11'!C11 -> SCORE: | G65: ='Beoordelaar 11'!F11 -> SCORE: | J65: ='Beoordelaar 11'!I11 -> SCORE:
A66: Consensus | D66: SCORE: | G66: SCORE: | J66: SCORE:
D67: =IF(D66="Uitmuntend","€ 12.000",IF(D66="Goed","€ 9.600",IF(D66="Voldoende","€ 0",IF(D66="Matig","-€ 24.000",IF(D66="Onvoldoende","UITSLUITING"," "))))) | G67: =IF(G66="Uitmuntend","€ 12.000",IF(G66="Goed","€ 9.600",IF(G66="Voldoende","€ 0",IF(G66="Matig","-€ 24.000",IF(G66="Onvoldoende","UITSLUITING"," "))))) | J67: =IF(J66="Uitmuntend","€ 12.000",IF(J66="Goed","€ 9.600",IF(J66="Voldoende","€ 0",IF(J66="Matig","-€ 24.000",IF(J66="Onvoldoende","UITSLUITING"," ")))))
A68: ='Beoordelen kwaliteit'!A14:A14 -> OPEN VRAAG 7.4 BEHEER, UPDATES EN UPGRADES/FIRMWARE | B68: Beoordelaar 1 | D68: ='Beoordelaar 1'!C13 -> SCORE: | E68: <<MOTIVATIE>> | G68: ='Beoordelaar 1'!F13 -> SCORE: | H68: <<MOTIVATIE>> | J68: ='Beoordelaar 1'!I13 -> SCORE: | K68: <<MOTIVATIE>>
B69: Beoordelaar 2 | D69: ='Beoordelaar 2'!C13 -> SCORE: | G69: ='Beoordelaar 2'!F13 -> SCORE: | J69: ='Beoordelaar 2'!I13 -> SCORE:
B70: Beoordelaar 3 | D70: ='Beoordelaar 3'!C13 -> SCORE: | G70: ='Beoordelaar 3'!F13 -> SCORE: | J70: ='Beoordelaar 3'!I13 -> SCORE:
B71: Beoordelaar 4 | D71: ='Beoordelaar 4'!C13 -> SCORE: | G71: ='Beoordelaar 4'!F13 -> SCORE: | J71: ='Beoordelaar 4'!I13 -> SCORE:
B72: Beoordelaar 5 | D72: ='Beoordelaar 5'!C13 -> SCORE: | G72: ='Beoordelaar 5'!F13 -> SCORE: | J72: ='Beoordelaar 5'!I13 -> SCORE:
B73: Beoordelaar 6 | D73: ='Beoordelaar 6'!C13 -> SCORE: | G73: ='Beoordelaar 6'!F13 -> SCORE: | J73: ='Beoordelaar 6'!I13 -> SCORE:
B74: Beoordelaar 7 | D74: ='Beoordelaar 7'!C13 -> SCORE: | G74: ='Beoordelaar 7'!F13 -> SCORE: | J74: ='Beoordelaar 7'!I13 -> SCORE:
B75: Beoordelaar 8 | D75: ='Beoordelaar 8'!C13 -> SCORE: | G75: ='Beoordelaar 8'!F13 -> SCORE: | J75: ='Beoordelaar 8'!I13 -> SCORE:
B76: Beoordelaar 9 | D76: ='Beoordelaar 9'!C13 -> SCORE: | G76: ='Beoordelaar 9'!F13 -> SCORE: | J76: ='Beoordelaar 9'!I13 -> SCORE:
B77: Beoordelaar 10 | D77: ='Beoordelaar 10'!C13 -> SCORE: | G77: ='Beoordelaar 10'!F13 -> SCORE: | J77: ='Beoordelaar 10'!I13 -> SCORE:
B78: Beoordelaar 11 | D78: ='Beoordelaar 11'!C13 -> SCORE: | G78: ='Beoordelaar 11'!F13 -> SCORE: | J78: ='Beoordelaar 11'!I13 -> SCORE:
A79: Consensus | D79: SCORE: | G79: SCORE: | J79: SCORE:
D80: =IF(D79="Uitmuntend","€ 4.000",IF(D79="Goed","€ 3.200",IF(D79="Voldoende","€ 0",IF(D79="Matig","-€ 8.000",IF(D79="Onvoldoende","UITSLUITING"," "))))) | G80: =IF(G79="Uitmuntend","€ 4.000",IF(G79="Goed","€ 3.200",IF(G79="Voldoende","€ 0",IF(G79="Matig","-€ 8.000",IF(G79="Onvoldoende","UITSLUITING"," "))))) | J80: =IF(J79="Uitmuntend","€ 4.000",IF(J79="Goed","€ 3.200",IF(J79="Voldoende","€ 0",IF(J79="Matig","-€ 8.000",IF(J79="Onvoldoende","UITSLUITING"," ")))))
A81: ='Beoordelen kwaliteit'!A16:A16 -> OPEN VRAAG 7.5 VEILIGHEID | B81: Beoordelaar 1 | D81: ='Beoordelaar 1'!C15 -> SCORE: | E81: <<MOTIVATIE>> | G81: ='Beoordelaar 1'!F15 -> SCORE: | H81: <<MOTIVATIE>> | J81: ='Beoordelaar 1'!I15 -> SCORE: | K81: <<MOTIVATIE>>
B82: Beoordelaar 2 | D82: ='Beoordelaar 2'!C15 -> SCORE: | G82: ='Beoordelaar 2'!F15 -> SCORE: | J82: ='Beoordelaar 2'!I15 -> SCORE:
B83: Beoordelaar 3 | D83: ='Beoordelaar 3'!C15 -> SCORE: | G83: ='Beoordelaar 3'!F15 -> SCORE: | J83: ='Beoordelaar 3'!I15 -> SCORE:
B84: Beoordelaar 4 | D84: ='Beoordelaar 4'!C15 -> SCORE: | G84: ='Beoordelaar 4'!F15 -> SCORE: | J84: ='Beoordelaar 4'!I15 -> SCORE:
B85: Beoordelaar 5 | D85: ='Beoordelaar 5'!C15 -> SCORE: | G85: ='Beoordelaar 5'!F15 -> SCORE: | J85: ='Beoordelaar 5'!I15 -> SCORE:
B86: Beoordelaar 6 | D86: ='Beoordelaar 6'!C15 -> SCORE: | G86: ='Beoordelaar 6'!F15 -> SCORE: | J86: ='Beoordelaar 6'!I15 -> SCORE:
B87: Beoordelaar 7 | D87: ='Beoordelaar 7'!C15 -> SCORE: | G87: ='Beoordelaar 7'!F15 -> SCORE: | J87: ='Beoordelaar 7'!I15 -> SCORE:
B88: Beoordelaar 8 | D88: ='Beoordelaar 8'!C15 -> SCORE: | G88: ='Beoordelaar 8'!F15 -> SCORE: | J88: ='Beoordelaar 8'!I15 -> SCORE:
B89: Beoordelaar 9 | D89: ='Beoordelaar 9'!C15 -> SCORE: | G89: ='Beoordelaar 9'!F15 -> SCORE: | J89: ='Beoordelaar 9'!I15 -> SCORE:
B90: Beoordelaar 10 | D90: ='Beoordelaar 10'!C15 -> SCORE: | G90: ='Beoordelaar 10'!F15 -> SCORE: | J90: ='Beoordelaar 10'!I15 -> SCORE:
B91: Beoordelaar 11 | D91: ='Beoordelaar 11'!C15 -> SCORE: | G91: ='Beoordelaar 11'!F15 -> SCORE: | J91: ='Beoordelaar 11'!I15 -> SCORE:
A92: Consensus | D92: SCORE: | G92: SCORE: | J92: SCORE:
D93: =IF(D92="Uitmuntend","€ 4.000",IF(D92="Goed","€ 3.200",IF(D92="Voldoende","€ 0",IF(D92="Matig","-€ 8.000",IF(D92="Onvoldoende","UITSLUITING"," "))))) | G93: =IF(G92="Uitmuntend","€ 4.000",IF(G92="Goed","€ 3.200",IF(G92="Voldoende","€ 0",IF(G92="Matig","-€ 8.000",IF(G92="Onvoldoende","UITSLUITING"," "))))) | J93: =IF(J92="Uitmuntend","€ 4.000",IF(J92="Goed","€ 3.200",IF(J92="Voldoende","€ 0",IF(J92="Matig","-€ 8.000",IF(J92="Onvoldoende","UITSLUITING"," ")))))
A94: Totaal behaalde waarde Beantwoording open vragen: | D94: =D15+D28+D41+D54+D67+D80+D93 -> #VALUE! | G94: =G15+G28+G41+G54+G67+G80+G93 -> #VALUE! | J94: =J15+J28+J41+J54+J67+J80+J93 -> #VALUE!
A98: OPEN VRAAG 7.1 Projectaanpak totale levering | D98: 0 | E98: indien ja geen waarde | G98: 0 | H98: indien ja geen waarde | J98: 0 | K98: indien ja geen waarde
E99: indien nee - 30.000 aftrek | H99: indien nee - 30.000 aftrek | K99: indien nee - 30.000 aftrek
A100: SUB 1. -
A101: Kan Inschrijver gebruik maken van alle bestaande wandbeugels (ongeacht het type)?
A104: Eindscore van alle open vragen | D104: =D94+D98 -> #VALUE! | G104: =G94+G98 -> #VALUE! | J104: =J94+J98 -> #VALUE!
