Workbook
Name aantalON: [1]dashboard!$B$5
Name asfaltMAXkorting: #REF!
Name bandenCIRCdrempel: #REF!
Name bandenCIRCfactor: #REF!
Name bandenCIRCkorting: #REF!
Name bandenCIRCplafond: #REF!
Name bandenMAXkorting: #REF!
Name bandenMKIdrempel: #REF!
Name bandenMKIfactor: #REF!
Name bandenMKIkorting: #REF!
Name bandenMKIplafond: #REF!
Name bandMKIdrempel: #REF!
Name bandMKIplafond: #REF!
Name besteksnummer: [1]dashboard!$B$3
Name betonMAXkorting: #REF!
Name buizenCIRCdrempel: #REF!
Name buizenCIRCfactor: #REF!
Name buizenCIRCkorting: #REF!
Name buizenCIRCplafond: #REF!
Name buizenMAXkorting: #REF!
Name buizenMKIdrempel: #REF!
Name buizenMKIfactor: #REF!
Name buizenMKIkorting: #REF!
Name buizenMKIplafond: #REF!
Name CAkorting: [1]dashboard!$B$9
Name deklaagCIRCdrempel: #REF!
Name deklaagCIRCdrempel2: [1]dashboard!$C$27
Name deklaagCIRCdrempel3: [1]dashboard!$D$27
Name deklaagCIRCdrempel4: [1]dashboard!$E$27
Name deklaagCIRCfactor: #REF!
Name deklaagCIRCkorting: #REF!
Name deklaagCIRCplafond: #REF!
Name deklaagCIRCplafond2: [1]dashboard!$C$28
Name deklaagCIRCplafond3: [1]dashboard!$D$28
Name deklaagCIRCplafond4: [1]dashboard!$E$28
Name deklaagGARdrempel: #REF!
Name deklaagGARdrempel2: [1]dashboard!$C$29
Name deklaagGARdrempel3: [1]dashboard!$D$29
Name deklaagGARdrempel4: [1]dashboard!$E$29
Name deklaagGARkorting: #REF!
Name deklaagGARplafond: #REF!
Name deklaagGARplafond2: [1]dashboard!$C$30
Name deklaagGARplafond3: [1]dashboard!$D$30
Name deklaagGARplafond4: [1]dashboard!$E$30
Name deklaagMAXkorting: #REF!
Name deklaagMKIdrempel: #REF!
Name deklaagMKIdrempel2: [1]dashboard!$C$25
Name deklaagMKIdrempel3: [1]dashboard!$D$25
Name deklaagMKIdrempel4: [1]dashboard!$E$25
Name deklaagMKIfactor: #REF!
Name deklaagMKIkorting: #REF!
Name deklaagMKIplafond: #REF!
Name deklaagMKIplafond2: [1]dashboard!$C$26
Name deklaagMKIplafond3: [1]dashboard!$D$26
Name deklaagMKIplafond4: [1]dashboard!$E$26
Name dpost1: [1]dashboard!$B$24
Name dpost2: [1]dashboard!$C$24
Name dpost3: [1]dashboard!$D$24
Name dpost4: [1]dashboard!$E$24
Name dsoort1: [1]dashboard!$B$23

Sheet gunningscriterium SEB
C1: Verkeersregelinstallaties (VRI)
C2: Invulformulier | D2: Schoon- en Emissieloos Bouwen
C4: Instructie | D4: De fictieve meerwaarde wordt berekend automatisch o.b.v. 'invulblad opdrachtnemer'.
C6: Inschrijver | D6: =IF('invulblad opdrachtnemer'!D77="","",'invulblad opdrachtnemer'!D77)
C8: Totale fictieve meerwaarde
C9: behaald | D9: =$J$23+$J$44+$J$56 -> 0
C10: maximaal te behalen | D10: 800000
C12: WERKTUIGEN | F12: contractjaar | G12: 1 | H12: contractjaar | I12: 2
C13: motor | D13: energiedrager | E13: weegfactor | F13: waardering | G13: totaal aantal uren inzet | H13: waardering | I13: totaal aantal uren inzet | J13: toale ficiteve meerwaarde
C14: elektromotor | D14: groene stroom | E14: 10 | F14: =IFERROR(($E14*G14),0) -> 0 | H14: =IFERROR(($E14*I14),0) -> 0 | I14: =SUMIFS('invulblad opdrachtnemer'!K$10:K$29,'invulblad opdrachtnemer'!$D$10:$D$29,'gunningscriterium SEB'!$C14,'invulblad opdrachtnemer'!$E$10:$E$29,'gunningscriterium SEB'!$D14) -> 0
C15: elektromotor | D15: groene waterstof | E15: 10 | F15: =IFERROR(($E15*G15),0) -> 0 | H15: =IFERROR(($E15*I15),0) -> 0 | I15: =SUMIFS('invulblad opdrachtnemer'!K$10:K$29,'invulblad opdrachtnemer'!$D$10:$D$29,'gunningscriterium SEB'!$C15,'invulblad opdrachtnemer'!$E$10:$E$29,'gunningscriterium SEB'!$D15) -> 0
C16: stage V | D16: biodiesel (HVO 100) of biobenzine (ASPEN) | E16: 6 | F16: =IFERROR(($E16*G16),0) -> 0 | G16: =SUMIFS('invulblad opdrachtnemer'!J$10:J$29,'invulblad opdrachtnemer'!$D$10:$D$29,'gunningscriterium SEB'!$C16,'invulblad opdrachtnemer'!$E$10:$E$29,'gunningscriterium SEB'!$D16) -> 0 | H16: =IFERROR(($E16*I16),0) -> 0 | I16: =SUMIFS('invulblad opdrachtnemer'!K$10:K$29,'invulblad opdrachtnemer'!$D$10:$D$29,'gunningscriterium SEB'!$C16,'invulblad opdrachtnemer'!$E$10:$E$29,'gunningscriterium SEB'!$D16) -> 0
C17: stage IV | D17: biodiesel (HVO 100) of biobenzine (ASPEN) | E17: 4 | F17: =IFERROR(($E17*G17),0) -> 0 | G17: =SUMIFS('invulblad opdrachtnemer'!J$10:J$29,'invulblad opdrachtnemer'!$D$10:$D$29,'gunningscriterium SEB'!$C17,'invulblad opdrachtnemer'!$E$10:$E$29,'gunningscriterium SEB'!$D17) -> 0 | H17: =IFERROR(($E17*I17),0) -> 0 | I17: =SUMIFS('invulblad opdrachtnemer'!K$10:K$29,'invulblad opdrachtnemer'!$D$10:$D$29,'gunningscriterium SEB'!$C17,'invulblad opdrachtnemer'!$E$10:$E$29,'gunningscriterium SEB'!$D17) -> 0
C18: stage IIIb | D18: biodiesel (HVO 100) of biobenzine (ASPEN) | E18: 2 | F18: =IFERROR(($E18*G18),0) -> 0 | H18: =IFERROR(($E18*I18),0) -> 0 | I18: =SUMIFS('invulblad opdrachtnemer'!K$10:K$29,'invulblad opdrachtnemer'!$D$10:$D$29,'gunningscriterium SEB'!$C18,'invulblad opdrachtnemer'!$E$10:$E$29,'gunningscriterium SEB'!$D18) -> 0
C19: stage V | D19: diesel | E19: 4 | F19: =IFERROR(($E19*G19),0) -> 0 | G19: =SUMIFS('invulblad opdrachtnemer'!J$10:J$29,'invulblad opdrachtnemer'!$D$10:$D$29,'gunningscriterium SEB'!$C19,'invulblad opdrachtnemer'!$E$10:$E$29,'gunningscriterium SEB'!$D19) -> 0 | H19: =IFERROR(($E19*I19),0) -> 0 | I19: =SUMIFS('invulblad opdrachtnemer'!K$10:K$29,'invulblad opdrachtnemer'!$D$10:$D$29,'gunningscriterium SEB'!$C19,'invulblad opdrachtnemer'!$E$10:$E$29,'gunningscriterium SEB'!$D19) -> 0
C20: stage IV | D20: diesel | E20: 0 | F20: =IFERROR(($E20*G20),0) -> 0 | G20: =SUMIFS('invulblad opdrachtnemer'!J$10:J$29,'invulblad opdrachtnemer'!$D$10:$D$29,'gunningscriterium SEB'!$C20,'invulblad opdrachtnemer'!$E$10:$E$29,'gunningscriterium SEB'!$D20) -> 0 | H20: =IFERROR(($E20*I20),0) -> 0 | I20: =SUMIFS('invulblad opdrachtnemer'!K$10:K$29,'invulblad opdrachtnemer'!$D$10:$D$29,'gunningscriterium SEB'!$C20,'invulblad opdrachtnemer'!$E$10:$E$29,'gunningscriterium SEB'!$D20) -> 0
C21: stage IIIb | D21: diesel | E21: 0 | F21: =IFERROR(($E21*G21),0) -> 0 | G21: =SUMIFS('invulblad opdrachtnemer'!J$10:J$29,'invulblad opdrachtnemer'!$D$10:$D$29,'gunningscriterium SEB'!$C21,'invulblad opdrachtnemer'!$E$10:$E$29,'gunningscriterium SEB'!$D21) -> 0 | H21: =IFERROR(($E21*I21),0) -> 0 | I21: =SUMIFS('invulblad opdrachtnemer'!K$10:K$29,'invulblad opdrachtnemer'!$D$10:$D$29,'gunningscriterium SEB'!$C21,'invulblad opdrachtnemer'!$E$10:$E$29,'gunningscriterium SEB'!$D21) -> 0
E22: totale ureninzet | F22: =SUM(F14:F21) -> 0 | G22: =SUM(G14:G21) -> 0 | H22: =SUM(H14:H21) -> 0 | I22: =SUM(I14:I21) -> 0
E23: behaalde fictieve meerwaarde | G23: =IFERROR(((F22/G22)/10)*G24,0) -> 0 | I23: =IFERROR(((H22/I22)/10)*I24,0) -> 0 | J23: =SUM(F23:I23) -> 0
E24: maximaal te behalen fictieve meerwaarde | G24: 200000 | I24: 200000 | J24: =SUM(F24:I24) -> 400000
C26: TRANSPORTMIDDELEN (N1, N2 en N3) | F26: contractjaar | G26: 1 | H26: contractjaar | I26: 2
C27: motor | D27: energiedrager | E27: weegfactor | F27: waardering | G27: ureninzet | H27: waardering | I27: daginzet | J27: totaal
C28: elektromotor | D28: groene stroom | E28: 10 | F28: =$E28*G28 -> 0 | G28: =SUMIFS('invulblad opdrachtnemer'!J$33:J$52,'invulblad opdrachtnemer'!$D$33:$D$52,'gunningscriterium SEB'!$C28,'invulblad opdrachtnemer'!$E$33:$E$52,'gunningscriterium SEB'!$D28) -> 0 | H28: =$E28*I28 -> 0 | I28: =SUMIFS('invulblad opdrachtnemer'!K$33:K$52,'invulblad opdrachtnemer'!$D$33:$D$52,'gunningscriterium SEB'!$C28,'invulblad opdrachtnemer'!$E$33:$E$52,'gunningscriterium SEB'!$D28) -> 0
C29: elektromotor | D29: groene waterstof | E29: 10 | F29: =$E29*G29 -> 0 | G29: =SUMIFS('invulblad opdrachtnemer'!J$33:J$52,'invulblad opdrachtnemer'!$D$33:$D$52,'gunningscriterium SEB'!$C29,'invulblad opdrachtnemer'!$E$33:$E$52,'gunningscriterium SEB'!$D29) -> 0 | H29: =$E29*I29 -> 0 | I29: =SUMIFS('invulblad opdrachtnemer'!K$33:K$52,'invulblad opdrachtnemer'!$D$33:$D$52,'gunningscriterium SEB'!$C29,'invulblad opdrachtnemer'!$E$33:$E$52,'gunningscriterium SEB'!$D29) -> 0
C30: verbrandingsmotor | D30: biodiesel (HVO 100) | E30: 7 | F30: =$E30*G30 -> 0 | G30: =SUMIFS('invulblad opdrachtnemer'!J$33:J$52,'invulblad opdrachtnemer'!$D$33:$D$52,'gunningscriterium SEB'!$C30,'invulblad opdrachtnemer'!$E$33:$E$52,'gunningscriterium SEB'!$D30) -> 0 | H30: =$E30*I30 -> 0 | I30: =SUMIFS('invulblad opdrachtnemer'!K$33:K$52,'invulblad opdrachtnemer'!$D$33:$D$52,'gunningscriterium SEB'!$C30,'invulblad opdrachtnemer'!$E$33:$E$52,'gunningscriterium SEB'!$D30) -> 0
C31: plug-in hybride | D31: groen gas (BNG/LBG) | E31: 5.5 | F31: =$E31*G31 -> 0 | G31: =SUMIFS('invulblad opdrachtnemer'!J$33:J$52,'invulblad opdrachtnemer'!$D$33:$D$52,'gunningscriterium SEB'!$C31,'invulblad opdrachtnemer'!$E$33:$E$52,'gunningscriterium SEB'!$D31) -> 0 | H31: =$E31*I31 -> 0 | I31: =SUMIFS('invulblad opdrachtnemer'!K$33:K$52,'invulblad opdrachtnemer'!$D$33:$D$52,'gunningscriterium SEB'!$C31,'invulblad opdrachtnemer'!$E$33:$E$52,'gunningscriterium SEB'!$D31) -> 0
C32: plug-in hybride | D32: aardgas (CNG/LNG) | E32: 4.5 | F32: =$E32*G32 -> 0 | G32: =SUMIFS('invulblad opdrachtnemer'!J$33:J$52,'invulblad opdrachtnemer'!$D$33:$D$52,'gunningscriterium SEB'!$C32,'invulblad opdrachtnemer'!$E$33:$E$52,'gunningscriterium SEB'!$D32) -> 0 | H32: =$E32*I32 -> 0 | I32: =SUMIFS('invulblad opdrachtnemer'!K$33:K$52,'invulblad opdrachtnemer'!$D$33:$D$52,'gunningscriterium SEB'!$C32,'invulblad opdrachtnemer'!$E$33:$E$52,'gunningscriterium SEB'!$D32) -> 0
C33: plug-in hybride | D33: biodieselblend/GTL | E33: 4.5 | F33: =$E33*G33 -> 0 | G33: =SUMIFS('invulblad opdrachtnemer'!J$33:J$52,'invulblad opdrachtnemer'!$D$33:$D$52,'gunningscriterium SEB'!$C33,'invulblad opdrachtnemer'!$E$33:$E$52,'gunningscriterium SEB'!$D33) -> 0 | H33: =$E33*I33 -> 0 | I33: =SUMIFS('invulblad opdrachtnemer'!K$33:K$52,'invulblad opdrachtnemer'!$D$33:$D$52,'gunningscriterium SEB'!$C33,'invulblad opdrachtnemer'!$E$33:$E$52,'gunningscriterium SEB'!$D33) -> 0
C34: plug-in hybride | D34: benzine/diesel | E34: 4 | F34: =$E34*G34 -> 0 | G34: =SUMIFS('invulblad opdrachtnemer'!J$33:J$52,'invulblad opdrachtnemer'!$D$33:$D$52,'gunningscriterium SEB'!$C34,'invulblad opdrachtnemer'!$E$33:$E$52,'gunningscriterium SEB'!$D34) -> 0 | H34: =$E34*I34 -> 0 | I34: =SUMIFS('invulblad opdrachtnemer'!K$33:K$52,'invulblad opdrachtnemer'!$D$33:$D$52,'gunningscriterium SEB'!$C34,'invulblad opdrachtnemer'!$E$33:$E$52,'gunningscriterium SEB'!$D34) -> 0
C35: hybride | D35: groen gas (BNG/LBG) | E35: 3.5 | F35: =$E35*G35 -> 0 | G35: =SUMIFS('invulblad opdrachtnemer'!J$33:J$52,'invulblad opdrachtnemer'!$D$33:$D$52,'gunningscriterium SEB'!$C35,'invulblad opdrachtnemer'!$E$33:$E$52,'gunningscriterium SEB'!$D35) -> 0 | H35: =$E35*I35 -> 0 | I35: =SUMIFS('invulblad opdrachtnemer'!K$33:K$52,'invulblad opdrachtnemer'!$D$33:$D$52,'gunningscriterium SEB'!$C35,'invulblad opdrachtnemer'!$E$33:$E$52,'gunningscriterium SEB'!$D35) -> 0
C36: hybride | D36: aardgas (CNG/LNG) | E36: 2.5 | F36: =$E36*G36 -> 0 | G36: =SUMIFS('invulblad opdrachtnemer'!J$33:J$52,'invulblad opdrachtnemer'!$D$33:$D$52,'gunningscriterium SEB'!$C36,'invulblad opdrachtnemer'!$E$33:$E$52,'gunningscriterium SEB'!$D36) -> 0 | H36: =$E36*I36 -> 0 | I36: =SUMIFS('invulblad opdrachtnemer'!K$33:K$52,'invulblad opdrachtnemer'!$D$33:$D$52,'gunningscriterium SEB'!$C36,'invulblad opdrachtnemer'!$E$33:$E$52,'gunningscriterium SEB'!$D36) -> 0
C37: hybride | D37: biodieselblend/GTL | E37: 2.5 | F37: =$E37*G37 -> 0 | G37: =SUMIFS('invulblad opdrachtnemer'!J$33:J$52,'invulblad opdrachtnemer'!$D$33:$D$52,'gunningscriterium SEB'!$C37,'invulblad opdrachtnemer'!$E$33:$E$52,'gunningscriterium SEB'!$D37) -> 0 | H37: =$E37*I37 -> 0 | I37: =SUMIFS('invulblad opdrachtnemer'!K$33:K$52,'invulblad opdrachtnemer'!$D$33:$D$52,'gunningscriterium SEB'!$C37,'invulblad opdrachtnemer'!$E$33:$E$52,'gunningscriterium SEB'!$D37) -> 0
C38: hybride | D38: benzine/diesel | E38: 2 | F38: =$E38*G38 -> 0 | G38: =SUMIFS('invulblad opdrachtnemer'!J$33:J$52,'invulblad opdrachtnemer'!$D$33:$D$52,'gunningscriterium SEB'!$C38,'invulblad opdrachtnemer'!$E$33:$E$52,'gunningscriterium SEB'!$D38) -> 0 | H38: =$E38*I38 -> 0 | I38: =SUMIFS('invulblad opdrachtnemer'!K$33:K$52,'invulblad opdrachtnemer'!$D$33:$D$52,'gunningscriterium SEB'!$C38,'invulblad opdrachtnemer'!$E$33:$E$52,'gunningscriterium SEB'!$D38) -> 0
C39: verbrandingsmotor | D39: groen gas (BNG/LBG) | E39: 2 | F39: =$E39*G39 -> 0 | G39: =SUMIFS('invulblad opdrachtnemer'!J$33:J$52,'invulblad opdrachtnemer'!$D$33:$D$52,'gunningscriterium SEB'!$C39,'invulblad opdrachtnemer'!$E$33:$E$52,'gunningscriterium SEB'!$D39) -> 0 | H39: =$E39*I39 -> 0 | I39: =SUMIFS('invulblad opdrachtnemer'!K$33:K$52,'invulblad opdrachtnemer'!$D$33:$D$52,'gunningscriterium SEB'!$C39,'invulblad opdrachtnemer'!$E$33:$E$52,'gunningscriterium SEB'!$D39) -> 0
... C42: verbrandingsmotor | D42: benzine/diesel | E42: 0 | F42: =$E42*G42 -> 0 | G42: =SUMIFS('invulblad opdrachtnemer'!J$33:J$52,'invulblad opdrachtnemer'!$D$33:$D$52,'gunningscriterium SEB'!$C42,'invulblad opdrachtnemer'!$E$33:$E$52,'gunningscriterium SEB'!$D42) -> 0 | H42: =$E42*I42 -> 0 | I42: =SUMIFS('invulblad opdrachtnemer'!K$33:K$52,'invulblad opdrachtnemer'!$D$33:$D$52,'gunningscriterium SEB'!$C42,'invulblad opdrachtnemer'!$E$33:$E$52,'gunningscriterium SEB'!$D42) -> 0
E43: totale dagen inzet | F43: =SUM(F28:F42) -> 0 | G43: =SUM(G28:G42) -> 0 | H43: =SUM(H28:H42) -> 0 | I43: =SUM(I28:I42) -> 0
E44: behaalde fictieve meerwaarde | G44: =IFERROR(((F43/G43)/10)*G45,0) -> 0 | I44: =IFERROR(((H43/I43)/10)*I45,0) -> 0 | J44: =SUM(F44:I44) -> 0
E45: maximaal te behalen fictieve meerwaarde | G45: 100000 | I45: 100000 | J45: =SUM(F45:I45) -> 200000
C47: GEREEDSCHAPPEN | F47: contractjaar | G47: 1 | H47: contractjaar | I47: 2
C48: motor | D48: energiedrager | E48: weegfactor | F48: waardering | G48: ureninzet | H48: waardering | I48: ureninzet | J48: totaal
C49: elektromotor | D49: groene stroom | E49: 10 | F49: =$E49*G49 -> 0 | G49: =SUMIFS('invulblad opdrachtnemer'!J$56:J$75,'invulblad opdrachtnemer'!$D$56:$D$75,'gunningscriterium SEB'!$C49,'invulblad opdrachtnemer'!$E$56:$E$75,'gunningscriterium SEB'!$D49) -> 0 | H49: =$E49*I49 -> 0 | I49: =SUMIFS('invulblad opdrachtnemer'!K$56:K$75,'invulblad opdrachtnemer'!$D$56:$D$75,'gunningscriterium SEB'!$C49,'invulblad opdrachtnemer'!$E$56:$E$75,'gunningscriterium SEB'!$D49) -> 0
C50: elektromotor | D50: groene waterstof | E50: 10 | F50: =$E50*G50 -> 0 | G50: =SUMIFS('invulblad opdrachtnemer'!J$56:J$75,'invulblad opdrachtnemer'!$D$56:$D$75,'gunningscriterium SEB'!$C50,'invulblad opdrachtnemer'!$E$56:$E$75,'gunningscriterium SEB'!$D50) -> 0 | H50: =$E50*I50 -> 0 | I50: =SUMIFS('invulblad opdrachtnemer'!K$56:K$75,'invulblad opdrachtnemer'!$D$56:$D$75,'gunningscriterium SEB'!$C50,'invulblad opdrachtnemer'!$E$56:$E$75,'gunningscriterium SEB'!$D50) -> 0
C51: verbrandingsmotor | D51: biodiesel (HVO 100) | E51: 4 | F51: =$E51*G51 -> 0 | G51: =SUMIFS('invulblad opdrachtnemer'!J$56:J$75,'invulblad opdrachtnemer'!$D$56:$D$75,'gunningscriterium SEB'!$C51,'invulblad opdrachtnemer'!$E$56:$E$75,'gunningscriterium SEB'!$D51) -> 0 | H51: =$E51*I51 -> 0 | I51: =SUMIFS('invulblad opdrachtnemer'!K$56:K$75,'invulblad opdrachtnemer'!$D$56:$D$75,'gunningscriterium SEB'!$C51,'invulblad opdrachtnemer'!$E$56:$E$75,'gunningscriterium SEB'!$D51) -> 0
C52: verbrandingsmotor | D52: biobenzine (ASPEN) | E52: 4 | F52: =$E52*G52 -> 0 | G52: =SUMIFS('invulblad opdrachtnemer'!J$56:J$75,'invulblad opdrachtnemer'!$D$56:$D$75,'gunningscriterium SEB'!$C52,'invulblad opdrachtnemer'!$E$56:$E$75,'gunningscriterium SEB'!$D52) -> 0 | H52: =$E52*I52 -> 0 | I52: =SUMIFS('invulblad opdrachtnemer'!K$56:K$75,'invulblad opdrachtnemer'!$D$56:$D$75,'gunningscriterium SEB'!$C52,'invulblad opdrachtnemer'!$E$56:$E$75,'gunningscriterium SEB'!$D52) -> 0
C53: verbrandingsmotor | D53: diesel | E53: 0 | F53: =$E53*G53 -> 0 | G53: =SUMIFS('invulblad opdrachtnemer'!J$56:J$75,'invulblad opdrachtnemer'!$D$56:$D$75,'gunningscriterium SEB'!$C53,'invulblad opdrachtnemer'!$E$56:$E$75,'gunningscriterium SEB'!$D53) -> 0 | H53: =$E53*I53 -> 0 | I53: =SUMIFS('invulblad opdrachtnemer'!K$56:K$75,'invulblad opdrachtnemer'!$D$56:$D$75,'gunningscriterium SEB'!$C53,'invulblad opdrachtnemer'!$E$56:$E$75,'gunningscriterium SEB'!$D53) -> 0
C54: verbrandingsmotor | D54: benzine | E54: 0 | F54: =$E54*G54 -> 0 | G54: =SUMIFS('invulblad opdrachtnemer'!J$56:J$75,'invulblad opdrachtnemer'!$D$56:$D$75,'gunningscriterium SEB'!$C54,'invulblad opdrachtnemer'!$E$56:$E$75,'gunningscriterium SEB'!$D54) -> 0 | H54: =$E54*I54 -> 0 | I54: =SUMIFS('invulblad opdrachtnemer'!K$56:K$75,'invulblad opdrachtnemer'!$D$56:$D$75,'gunningscriterium SEB'!$C54,'invulblad opdrachtnemer'!$E$56:$E$75,'gunningscriterium SEB'!$D54) -> 0
E55: totale ureninzet | F55: =SUM(F49:F54) -> 0 | G55: =SUM(G49:G54) -> 0 | H55: =SUM(H49:H54) -> 0 | I55: =SUM(I49:I54) -> 0
E56: behaalde fictieve meerwaarde | G56: =IFERROR(((F55/G55)/10)*G57,0) -> 0 | I56: =IFERROR(((H55/I55)/10)*I57,0) -> 0 | J56: =SUM(F56:I56) -> 0
E57: maximaal te behalen fictieve meerwaarde | G57: 100000 | I57: 100000 | J57: =SUM(F57:I57) -> 200000

Sheet invulblad opdrachtnemer
C1: ='gunningscriterium SEB'!C1 -> Verkeersregelinstallaties (VRI) | E1: #VALUE!
C2: Invulblad opdrachtnemer
C4: Instructie | D4: Inschrijver vult lichtblauwe velden in
C8: ='gunningscriterium SEB'!C12 -> WERKTUIGEN | D8: Vul in de tabel werktuigen alle gebruikte werktuigen in die tijdens het project worden ingezet. (Tevens wat wordt ingezet door onderaannemers). De gegevens dienen volledig te zijn bij inschrijving. | F8: contractjaar | G8: ='gunningscriterium SEB'!G12 -> 1 | H8: ='gunningscriterium SEB'!I12 -> 2 | J8: ='gunningscriterium SEB'!G12 -> 1 | K8: ='gunningscriterium SEB'!I12 -> 2
C9: omschrijving materieelstuk Kies waar mogelijk een optie uit de machinelijst SEB. Hiervoor kunt u gebruikmaken van de dropdown of in de lijst filteren door te typen. Mocht een materieelstuk niet in de lijst staan dan kunt u het toch opgeven, deze telt dan gewoon mee in de methodiek. | D9: motor | E9: energiedrager | F9: vermogens-klasse (kW) | G9: ureninzet | H9: ureninzet | J9: belofte ureninzet Deze waarde wordt gebruikt voor de gunning | K9: belofte ureninzet Deze waarde wordt gebruikt voor de gunning
B10: 1
B11: 2
B12: 3
B13: 4
B14: 5
B15: 6
B16: 7
B17: 8
B18: 9
B19: 10
B20: 11
B21: 12
... B29: 20
C31: ='gunningscriterium SEB'!C26 -> TRANSPORTMIDDELEN (N1, N2 en N3) | D31: Vul in de tabel Transportmiddelen alle gebruikte transportmiddelen in die tijdens het project worden ingezet. (Tevens wat wordt ingezet door onderaannemers). De gegevens dienen volledig te zijn bij inschrijving. | F31: contractjaar | G31: ='[2]gunningscriterium SEB'!G21 -> 1 | H31: ='[2]gunningscriterium SEB'!I21 -> 2 | J31: ='gunningscriterium SEB'!G26 -> 1 | K31: ='gunningscriterium SEB'!I26 -> 2
C32: omschrijving materieelstuk Kies waar mogelijk een optie uit de machinelijst SEB. Hiervoor kunt u gebruik maken van de dropdown of in de lijst filteren door te typen. Mocht een materieelstuk niet in de lijst staan dan kun u het toch opgeven, deze telt dan gewoon mee in de methodiek. | D32: motor | E32: energiedrager | F32: vermogens-klasse (kW) | G32: ureninzet | H32: ureninzet | J32: belofte dageninzet Deze waarde wordt gebruikt voor de gunning | K32: belofte dageninzet Deze waarde wordt gebruikt voor de gunning
B33: 1
B34: 2
B35: 3
B36: 4
B37: 5
B38: 6
B39: 7
B40: 8
B41: 9
B42: 10
B43: 11
B44: 12
... B52: 20
C54: ='gunningscriterium SEB'!C47 -> GEREEDSCHAPPEN | D54: Vul in de tabel gereedschappen alle gebruikte gereedschappen in die tijdens het project worden ingezet. (Tevens wat wordt ingezet door onderaannemers). De gegevens dienen volledig te zijn bij inschrijving. | F54: contractjaar | G54: ='gunningscriterium SEB'!G47 -> 1 | H54: ='gunningscriterium SEB'!I47 -> 2 | J54: ='gunningscriterium SEB'!G47 -> 1 | K54: ='gunningscriterium SEB'!I47 -> 2
C55: omschrijving materieelstuk Kies waar mogelijk een optie uit de machinelijst SEB. Hiervoor kunt u gebruik maken van de dropdown of in de lijst filteren door te typen. Mocht een materieelstuk niet in de lijst staan dan kun u het toch opgeven, deze telt dan gewoon mee in de methodiek. | D55: motor | E55: energiedrager | F55: vermogens-klasse (kW) | G55: ureninzet | H55: ureninzet | J55: belofte ureninzet | K55: belofte ureninzet
B56: 1
B57: 2
B58: 3
B59: 4
B60: 5
B61: 6
B62: 7
B63: 8
B64: 9
B65: 10
B66: 11
B67: 12
... B75: 20
C77: Inschrijver
C79: MKB
C81: gedaan op (datum)
C83: handtekening

Sheet logboek opdrachtnemer
C1: Calamiteitenbestek riool
C2: Logboek opdrachtnemer
C4: Instructie | D4: Opdrachtnemer vult alle lichtblauwe velden in | M4: *registreer voor werktuigen en gereedschappen het aantal uren dat het materieelstuk wordt ingezet en voor transportmiddelen het aantal dagen.
C6: Opdrachtnemer | D6: =IF('invulblad opdrachtnemer'!D77="","",'invulblad opdrachtnemer'!D77)
C8: ='gunningscriterium SEB'!C12 -> WERKTUIGEN | R8: contractjaar | S8: ='gunningscriterium SEB'!G12 -> 1 | T8: registratie inzet* | AD8: contractjaar | AE8: ='gunningscriterium SEB'!I12 -> 2 | AF8: registratie inzet* | AP8: contractjaar | AQ8: 3 | AR8: registratie inzet* | BB8: contractjaar | BC8: 4 | BD8: registratie inzet*
C9: omschrijving materieelstuk | D9: motor | E9: energiedrager | F9: vermogens-klasse (kW) | G9: vermogen (kW) | H9: merk | I9: kenteken of registratienr. | J9: SSEB subsidie verkregen? | K9: bouwjaar | L9: totale ureninzet | M9: jan | N9: feb | O9: mrt | P9: apr | Q9: mei | R9: jun | S9: jul | T9: aug | U9: sep | V9: okt | W9: nov | X9: dec | Y9: jan | Z9: feb | AA9: mrt | AB9: apr | AC9: mei | AD9: jun | AE9: jul | AF9: aug | AG9: sep | AH9: okt | AI9: nov | AJ9: dec | AK9: jan | AL9: feb | AM9: mrt | AN9: apr | AO9: mei | AP9: jun | AQ9: jul | AR9: aug | AS9: sep | AT9: okt | AU9: nov | AV9: dec | AW9: jan | AX9: feb | AY9: mrt | AZ9: apr | BA9: mei | BB9: jun | BC9: jul | BD9: aug | BE9: sep | BF9: okt | BG9: nov | BH9: dec
B10: 1 | C10: =IF('invulblad opdrachtnemer'!C10="","",'invulblad opdrachtnemer'!C10) | D10: =IF('invulblad opdrachtnemer'!D10="","",'invulblad opdrachtnemer'!D10) | E10: =IF('invulblad opdrachtnemer'!E10="","",'invulblad opdrachtnemer'!E10) | F10: =IF('invulblad opdrachtnemer'!F10="","",'invulblad opdrachtnemer'!F10) | L10: =SUM(M10:BH10) -> 0
B11: 2 | C11: =IF('invulblad opdrachtnemer'!C11="","",'invulblad opdrachtnemer'!C11) | D11: =IF('invulblad opdrachtnemer'!D11="","",'invulblad opdrachtnemer'!D11) | E11: =IF('invulblad opdrachtnemer'!E11="","",'invulblad opdrachtnemer'!E11) | F11: =IF('invulblad opdrachtnemer'!F11="","",'invulblad opdrachtnemer'!F11) | L11: =SUM(M11:BH11) -> 0
B12: 3 | C12: =IF('invulblad opdrachtnemer'!C12="","",'invulblad opdrachtnemer'!C12) | D12: =IF('invulblad opdrachtnemer'!D12="","",'invulblad opdrachtnemer'!D12) | E12: =IF('invulblad opdrachtnemer'!E12="","",'invulblad opdrachtnemer'!E12) | F12: =IF('invulblad opdrachtnemer'!F12="","",'invulblad opdrachtnemer'!F12) | L12: =SUM(M12:BH12) -> 0
B13: 4 | C13: =IF('invulblad opdrachtnemer'!C13="","",'invulblad opdrachtnemer'!C13) | D13: =IF('invulblad opdrachtnemer'!D13="","",'invulblad opdrachtnemer'!D13) | E13: =IF('invulblad opdrachtnemer'!E13="","",'invulblad opdrachtnemer'!E13) | F13: =IF('invulblad opdrachtnemer'!F13="","",'invulblad opdrachtnemer'!F13) | L13: =SUM(M13:BH13) -> 0
B14: 5 | C14: =IF('invulblad opdrachtnemer'!C14="","",'invulblad opdrachtnemer'!C14) | D14: =IF('invulblad opdrachtnemer'!D14="","",'invulblad opdrachtnemer'!D14) | E14: =IF('invulblad opdrachtnemer'!E14="","",'invulblad opdrachtnemer'!E14) | F14: =IF('invulblad opdrachtnemer'!F14="","",'invulblad opdrachtnemer'!F14) | L14: =SUM(M14:BH14) -> 0
B15: 6 | C15: =IF('invulblad opdrachtnemer'!C15="","",'invulblad opdrachtnemer'!C15) | D15: =IF('invulblad opdrachtnemer'!D15="","",'invulblad opdrachtnemer'!D15) | E15: =IF('invulblad opdrachtnemer'!E15="","",'invulblad opdrachtnemer'!E15) | F15: =IF('invulblad opdrachtnemer'!F15="","",'invulblad opdrachtnemer'!F15) | L15: =SUM(M15:BH15) -> 0
B16: 7 | C16: =IF('invulblad opdrachtnemer'!C16="","",'invulblad opdrachtnemer'!C16) | D16: =IF('invulblad opdrachtnemer'!D16="","",'invulblad opdrachtnemer'!D16) | E16: =IF('invulblad opdrachtnemer'!E16="","",'invulblad opdrachtnemer'!E16) | F16: =IF('invulblad opdrachtnemer'!F16="","",'invulblad opdrachtnemer'!F16) | L16: =SUM(M16:BH16) -> 0
B17: 8 | C17: =IF('invulblad opdrachtnemer'!C17="","",'invulblad opdrachtnemer'!C17) | D17: =IF('invulblad opdrachtnemer'!D17="","",'invulblad opdrachtnemer'!D17) | E17: =IF('invulblad opdrachtnemer'!E17="","",'invulblad opdrachtnemer'!E17) | F17: =IF('invulblad opdrachtnemer'!F17="","",'invulblad opdrachtnemer'!F17) | L17: =SUM(M17:BH17) -> 0
B18: 9 | C18: =IF('invulblad opdrachtnemer'!C18="","",'invulblad opdrachtnemer'!C18) | D18: =IF('invulblad opdrachtnemer'!D18="","",'invulblad opdrachtnemer'!D18) | E18: =IF('invulblad opdrachtnemer'!E18="","",'invulblad opdrachtnemer'!E18) | F18: =IF('invulblad opdrachtnemer'!F18="","",'invulblad opdrachtnemer'!F18) | L18: =SUM(M18:BH18) -> 0
B19: 10 | C19: =IF('invulblad opdrachtnemer'!C19="","",'invulblad opdrachtnemer'!C19) | D19: =IF('invulblad opdrachtnemer'!D19="","",'invulblad opdrachtnemer'!D19) | E19: =IF('invulblad opdrachtnemer'!E19="","",'invulblad opdrachtnemer'!E19) | F19: =IF('invulblad opdrachtnemer'!F19="","",'invulblad opdrachtnemer'!F19) | L19: =SUM(M19:BH19) -> 0
B20: 11 | C20: =IF('invulblad opdrachtnemer'!C20="","",'invulblad opdrachtnemer'!C20) | D20: =IF('invulblad opdrachtnemer'!D20="","",'invulblad opdrachtnemer'!D20) | E20: =IF('invulblad opdrachtnemer'!E20="","",'invulblad opdrachtnemer'!E20) | F20: =IF('invulblad opdrachtnemer'!F20="","",'invulblad opdrachtnemer'!F20) | L20: =SUM(M20:BH20) -> 0
B21: 12 | C21: =IF('invulblad opdrachtnemer'!C21="","",'invulblad opdrachtnemer'!C21) | D21: =IF('invulblad opdrachtnemer'!D21="","",'invulblad opdrachtnemer'!D21) | E21: =IF('invulblad opdrachtnemer'!E21="","",'invulblad opdrachtnemer'!E21) | F21: =IF('invulblad opdrachtnemer'!F21="","",'invulblad opdrachtnemer'!F21) | L21: =SUM(M21:BH21) -> 0
... B29: 20 | C29: =IF('invulblad opdrachtnemer'!C29="","",'invulblad opdrachtnemer'!C29) | D29: =IF('invulblad opdrachtnemer'!D29="","",'invulblad opdrachtnemer'!D29) | E29: =IF('invulblad opdrachtnemer'!E29="","",'invulblad opdrachtnemer'!E29) | F29: =IF('invulblad opdrachtnemer'!F29="","",'invulblad opdrachtnemer'!F29) | L29: =SUM(M29:BH29) -> 0
C31: ='gunningscriterium SEB'!C26 -> TRANSPORTMIDDELEN (N1, N2 en N3) | R31: contractjaar | S31: ='gunningscriterium SEB'!G26 -> 1 | T31: registratie inzet* | AD31: contractjaar | AE31: ='gunningscriterium SEB'!I26 -> 2 | AF31: registratie inzet* | AP31: contractjaar | AQ31: 3 | AR31: registratie inzet* | BB31: contractjaar | BC31: 4 | BD31: registratie inzet*
C32: omschrijving materieelstuk | D32: motor | E32: energiedrager | F32: vermogens-klasse (kW) | G32: vermogen (kW) | H32: merk | I32: kenteken of registratienr. | J32: SSEB subsidie verkregen? | K32: bouwjaar | L32: totale dageninzet | M32: jan | N32: feb | O32: mrt | P32: apr | Q32: mei | R32: jun | S32: jul | T32: aug | U32: sep | V32: okt | W32: nov | X32: dec | Y32: jan | Z32: feb | AA32: mrt | AB32: apr | AC32: mei | AD32: jun | AE32: jul | AF32: aug | AG32: sep | AH32: okt | AI32: nov | AJ32: dec | AK32: jan | AL32: feb | AM32: mrt | AN32: apr | AO32: mei | AP32: jun | AQ32: jul | AR32: aug | AS32: sep | AT32: okt | AU32: nov | AV32: dec | AW32: jan | AX32: feb | AY32: mrt | AZ32: apr | BA32: mei | BB32: jun | BC32: jul | BD32: aug | BE32: sep | BF32: okt | BG32: nov | BH32: dec
B33: 1 | C33: =IF('invulblad opdrachtnemer'!C33="","",'invulblad opdrachtnemer'!C33) | D33: =IF('invulblad opdrachtnemer'!D33="","",'invulblad opdrachtnemer'!D33) | E33: =IF('invulblad opdrachtnemer'!E33="","",'invulblad opdrachtnemer'!E33) | F33: =IF('invulblad opdrachtnemer'!F33="","",'invulblad opdrachtnemer'!F33) | L33: =SUM(M33:BH33) -> 0
B34: 2 | C34: =IF('invulblad opdrachtnemer'!C34="","",'invulblad opdrachtnemer'!C34) | D34: =IF('invulblad opdrachtnemer'!D34="","",'invulblad opdrachtnemer'!D34) | E34: =IF('invulblad opdrachtnemer'!E34="","",'invulblad opdrachtnemer'!E34) | F34: =IF('invulblad opdrachtnemer'!F34="","",'invulblad opdrachtnemer'!F34) | L34: =SUM(M34:BH34) -> 0
B35: 3 | C35: =IF('invulblad opdrachtnemer'!C35="","",'invulblad opdrachtnemer'!C35) | D35: =IF('invulblad opdrachtnemer'!D35="","",'invulblad opdrachtnemer'!D35) | E35: =IF('invulblad opdrachtnemer'!E35="","",'invulblad opdrachtnemer'!E35) | F35: =IF('invulblad opdrachtnemer'!F35="","",'invulblad opdrachtnemer'!F35) | L35: =SUM(M35:BH35) -> 0
B36: 4 | C36: =IF('invulblad opdrachtnemer'!C36="","",'invulblad opdrachtnemer'!C36) | D36: =IF('invulblad opdrachtnemer'!D36="","",'invulblad opdrachtnemer'!D36) | E36: =IF('invulblad opdrachtnemer'!E36="","",'invulblad opdrachtnemer'!E36) | F36: =IF('invulblad opdrachtnemer'!F36="","",'invulblad opdrachtnemer'!F36) | L36: =SUM(M36:BH36) -> 0
B37: 5 | C37: =IF('invulblad opdrachtnemer'!C37="","",'invulblad opdrachtnemer'!C37) | D37: =IF('invulblad opdrachtnemer'!D37="","",'invulblad opdrachtnemer'!D37) | E37: =IF('invulblad opdrachtnemer'!E37="","",'invulblad opdrachtnemer'!E37) | F37: =IF('invulblad opdrachtnemer'!F37="","",'invulblad opdrachtnemer'!F37) | L37: =SUM(M37:BH37) -> 0
B38: 6 | C38: =IF('invulblad opdrachtnemer'!C38="","",'invulblad opdrachtnemer'!C38) | D38: =IF('invulblad opdrachtnemer'!D38="","",'invulblad opdrachtnemer'!D38) | E38: =IF('invulblad opdrachtnemer'!E38="","",'invulblad opdrachtnemer'!E38) | F38: =IF('invulblad opdrachtnemer'!F38="","",'invulblad opdrachtnemer'!F38) | L38: =SUM(M38:BH38) -> 0
B39: 7 | C39: =IF('invulblad opdrachtnemer'!C39="","",'invulblad opdrachtnemer'!C39) | D39: =IF('invulblad opdrachtnemer'!D39="","",'invulblad opdrachtnemer'!D39) | E39: =IF('invulblad opdrachtnemer'!E39="","",'invulblad opdrachtnemer'!E39) | F39: =IF('invulblad opdrachtnemer'!F39="","",'invulblad opdrachtnemer'!F39) | L39: =SUM(M39:BH39) -> 0
B40: 8 | C40: =IF('invulblad opdrachtnemer'!C40="","",'invulblad opdrachtnemer'!C40) | D40: =IF('invulblad opdrachtnemer'!D40="","",'invulblad opdrachtnemer'!D40) | E40: =IF('invulblad opdrachtnemer'!E40="","",'invulblad opdrachtnemer'!E40) | F40: =IF('invulblad opdrachtnemer'!F40="","",'invulblad opdrachtnemer'!F40) | L40: =SUM(M40:BH40) -> 0
B41: 9 | C41: =IF('invulblad opdrachtnemer'!C41="","",'invulblad opdrachtnemer'!C41) | D41: =IF('invulblad opdrachtnemer'!D41="","",'invulblad opdrachtnemer'!D41) | E41: =IF('invulblad opdrachtnemer'!E41="","",'invulblad opdrachtnemer'!E41) | F41: =IF('invulblad opdrachtnemer'!F41="","",'invulblad opdrachtnemer'!F41) | L41: =SUM(M41:BH41) -> 0
B42: 10 | C42: =IF('invulblad opdrachtnemer'!C42="","",'invulblad opdrachtnemer'!C42) | D42: =IF('invulblad opdrachtnemer'!D42="","",'invulblad opdrachtnemer'!D42) | E42: =IF('invulblad opdrachtnemer'!E42="","",'invulblad opdrachtnemer'!E42) | F42: =IF('invulblad opdrachtnemer'!F42="","",'invulblad opdrachtnemer'!F42) | L42: =SUM(M42:BH42) -> 0
B43: 11 | C43: =IF('invulblad opdrachtnemer'!C43="","",'invulblad opdrachtnemer'!C43) | D43: =IF('invulblad opdrachtnemer'!D43="","",'invulblad opdrachtnemer'!D43) | E43: =IF('invulblad opdrachtnemer'!E43="","",'invulblad opdrachtnemer'!E43) | F43: =IF('invulblad opdrachtnemer'!F43="","",'invulblad opdrachtnemer'!F43) | L43: =SUM(M43:BH43) -> 0
B44: 12 | C44: =IF('invulblad opdrachtnemer'!C44="","",'invulblad opdrachtnemer'!C44) | D44: =IF('invulblad opdrachtnemer'!D44="","",'invulblad opdrachtnemer'!D44) | E44: =IF('invulblad opdrachtnemer'!E44="","",'invulblad opdrachtnemer'!E44) | F44: =IF('invulblad opdrachtnemer'!F44="","",'invulblad opdrachtnemer'!F44) | L44: =SUM(M44:BH44) -> 0
... B52: 20 | C52: =IF('invulblad opdrachtnemer'!C52="","",'invulblad opdrachtnemer'!C52) | D52: =IF('invulblad opdrachtnemer'!D52="","",'invulblad opdrachtnemer'!D52) | E52: =IF('invulblad opdrachtnemer'!E52="","",'invulblad opdrachtnemer'!E52) | F52: =IF('invulblad opdrachtnemer'!F52="","",'invulblad opdrachtnemer'!F52) | L52: =SUM(M52:BH52) -> 0
C54: ='gunningscriterium SEB'!C47 -> GEREEDSCHAPPEN | R54: contractjaar | S54: ='gunningscriterium SEB'!G47 -> 1 | T54: registratie inzet* | AD54: contractjaar | AE54: ='gunningscriterium SEB'!I47 -> 2 | AF54: registratie inzet* | AP54: contractjaar | AQ54: ='gunningscriterium SEB'!#REF! -> #REF! | AR54: registratie inzet* | BB54: contractjaar | BC54: ='gunningscriterium SEB'!#REF! -> #REF! | BD54: registratie inzet*
C55: omschrijving materieelstuk | D55: motor | E55: energiedrager | F55: vermogens-klasse (kW) | G55: vermogen (kW) | H55: merk | I55: registratienr. | J55: SSEB subsidie verkregen? | K55: bouwjaar | L55: totale ureninzet | M55: jan | N55: feb | O55: mrt | P55: apr | Q55: mei | R55: jun | S55: jul | T55: aug | U55: sep | V55: okt | W55: nov | X55: dec | Y55: jan | Z55: feb | AA55: mrt | AB55: apr | AC55: mei | AD55: jun | AE55: jul | AF55: aug | AG55: sep | AH55: okt | AI55: nov | AJ55: dec | AK55: jan | AL55: feb | AM55: mrt | AN55: apr | AO55: mei | AP55: jun | AQ55: jul | AR55: aug | AS55: sep | AT55: okt | AU55: nov | AV55: dec | AW55: jan | AX55: feb | AY55: mrt | AZ55: apr | BA55: mei | BB55: jun | BC55: jul | BD55: aug | BE55: sep | BF55: okt | BG55: nov | BH55: dec
B56: 1 | C56: =IF('invulblad opdrachtnemer'!C56="","",'invulblad opdrachtnemer'!C56) | D56: =IF('invulblad opdrachtnemer'!D56="","",'invulblad opdrachtnemer'!D56) | E56: =IF('invulblad opdrachtnemer'!E56="","",'invulblad opdrachtnemer'!E56) | F56: =IF('invulblad opdrachtnemer'!F56="","",'invulblad opdrachtnemer'!F56) | L56: =SUM(M56:BH56) -> 0
B57: 2 | C57: =IF('invulblad opdrachtnemer'!C57="","",'invulblad opdrachtnemer'!C57) | D57: =IF('invulblad opdrachtnemer'!D57="","",'invulblad opdrachtnemer'!D57) | E57: =IF('invulblad opdrachtnemer'!E57="","",'invulblad opdrachtnemer'!E57) | F57: =IF('invulblad opdrachtnemer'!F57="","",'invulblad opdrachtnemer'!F57) | L57: =SUM(M57:BH57) -> 0
B58: 3 | C58: =IF('invulblad opdrachtnemer'!C58="","",'invulblad opdrachtnemer'!C58) | D58: =IF('invulblad opdrachtnemer'!D58="","",'invulblad opdrachtnemer'!D58) | E58: =IF('invulblad opdrachtnemer'!E58="","",'invulblad opdrachtnemer'!E58) | F58: =IF('invulblad opdrachtnemer'!F58="","",'invulblad opdrachtnemer'!F58) | L58: =SUM(M58:BH58) -> 0
B59: 4 | C59: =IF('invulblad opdrachtnemer'!C59="","",'invulblad opdrachtnemer'!C59) | D59: =IF('invulblad opdrachtnemer'!D59="","",'invulblad opdrachtnemer'!D59) | E59: =IF('invulblad opdrachtnemer'!E59="","",'invulblad opdrachtnemer'!E59) | F59: =IF('invulblad opdrachtnemer'!F59="","",'invulblad opdrachtnemer'!F59) | L59: =SUM(M59:BH59) -> 0
B60: 5 | C60: =IF('invulblad opdrachtnemer'!C60="","",'invulblad opdrachtnemer'!C60) | D60: =IF('invulblad opdrachtnemer'!D60="","",'invulblad opdrachtnemer'!D60) | E60: =IF('invulblad opdrachtnemer'!E60="","",'invulblad opdrachtnemer'!E60) | F60: =IF('invulblad opdrachtnemer'!F60="","",'invulblad opdrachtnemer'!F60) | L60: =SUM(M60:BH60) -> 0
B61: 6 | C61: =IF('invulblad opdrachtnemer'!C61="","",'invulblad opdrachtnemer'!C61) | D61: =IF('invulblad opdrachtnemer'!D61="","",'invulblad opdrachtnemer'!D61) | E61: =IF('invulblad opdrachtnemer'!E61="","",'invulblad opdrachtnemer'!E61) | F61: =IF('invulblad opdrachtnemer'!F61="","",'invulblad opdrachtnemer'!F61) | L61: =SUM(M61:BH61) -> 0
B62: 7 | C62: =IF('invulblad opdrachtnemer'!C62="","",'invulblad opdrachtnemer'!C62) | D62: =IF('invulblad opdrachtnemer'!D62="","",'invulblad opdrachtnemer'!D62) | E62: =IF('invulblad opdrachtnemer'!E62="","",'invulblad opdrachtnemer'!E62) | F62: =IF('invulblad opdrachtnemer'!F62="","",'invulblad opdrachtnemer'!F62) | L62: =SUM(M62:BH62) -> 0
B63: 8 | C63: =IF('invulblad opdrachtnemer'!C63="","",'invulblad opdrachtnemer'!C63) | D63: =IF('invulblad opdrachtnemer'!D63="","",'invulblad opdrachtnemer'!D63) | E63: =IF('invulblad opdrachtnemer'!E63="","",'invulblad opdrachtnemer'!E63) | F63: =IF('invulblad opdrachtnemer'!F63="","",'invulblad opdrachtnemer'!F63) | L63: =SUM(M63:BH63) -> 0
B64: 9 | C64: =IF('invulblad opdrachtnemer'!C64="","",'invulblad opdrachtnemer'!C64) | D64: =IF('invulblad opdrachtnemer'!D64="","",'invulblad opdrachtnemer'!D64) | E64: =IF('invulblad opdrachtnemer'!E64="","",'invulblad opdrachtnemer'!E64) | F64: =IF('invulblad opdrachtnemer'!F64="","",'invulblad opdrachtnemer'!F64) | L64: =SUM(M64:BH64) -> 0
B65: 10 | C65: =IF('invulblad opdrachtnemer'!C65="","",'invulblad opdrachtnemer'!C65) | D65: =IF('invulblad opdrachtnemer'!D65="","",'invulblad opdrachtnemer'!D65) | E65: =IF('invulblad opdrachtnemer'!E65="","",'invulblad opdrachtnemer'!E65) | F65: =IF('invulblad opdrachtnemer'!F65="","",'invulblad opdrachtnemer'!F65) | L65: =SUM(M65:BH65) -> 0
B66: 11 | C66: =IF('invulblad opdrachtnemer'!C66="","",'invulblad opdrachtnemer'!C66) | D66: =IF('invulblad opdrachtnemer'!D66="","",'invulblad opdrachtnemer'!D66) | E66: =IF('invulblad opdrachtnemer'!E66="","",'invulblad opdrachtnemer'!E66) | F66: =IF('invulblad opdrachtnemer'!F66="","",'invulblad opdrachtnemer'!F66) | L66: =SUM(M66:BH66) -> 0
B67: 12 | C67: =IF('invulblad opdrachtnemer'!C67="","",'invulblad opdrachtnemer'!C67) | D67: =IF('invulblad opdrachtnemer'!D67="","",'invulblad opdrachtnemer'!D67) | E67: =IF('invulblad opdrachtnemer'!E67="","",'invulblad opdrachtnemer'!E67) | F67: =IF('invulblad opdrachtnemer'!F67="","",'invulblad opdrachtnemer'!F67) | L67: =SUM(M67:BH67) -> 0
... B75: 20 | C75: =IF('invulblad opdrachtnemer'!C75="","",'invulblad opdrachtnemer'!C75) | D75: =IF('invulblad opdrachtnemer'!D75="","",'invulblad opdrachtnemer'!D75) | E75: =IF('invulblad opdrachtnemer'!E75="","",'invulblad opdrachtnemer'!E75) | F75: =IF('invulblad opdrachtnemer'!F75="","",'invulblad opdrachtnemer'!F75) | L75: =SUM(M75:BH75) -> 0

Sheet subsidie opdrachtgever
C1: ='gunningscriterium SEB'!C1 -> Verkeersregelinstallaties (VRI) | K1: categorie | L1: vermogensklasse | M1: subsidie per dag
C2: Subsidie SPUK SEB | L2: t/m 7 kW | M2: 0
C3: Instructie | D3: Vernieuw de filter in de cel 'Krijgen we subsidie?' met een klik op het grijze vierkantje > ok. Vul alle lichtblauwe velden in. | K3: mini | L3: 8 t/m 18 kW | M3: 30
D4: CPV-code | E4: startdatum | F4: einddatum | G4: aanneemsom | H4: MKB | I4: schatting subsidie | K4: klein | L4: 19 t/m 55 kW | M4: 54
H5: =IF('invulblad opdrachtnemer'!D79="","",'invulblad opdrachtnemer'!D79) | I5: =SUM(H10:H29)+SUM(H33:H52)+SUM(H56:H75) -> 0 | K5: middel | L5: 56 t/m 129 kW | M5: 240
C6: Inschrijver | D6: =IF('invulblad opdrachtnemer'!D77="","",'invulblad opdrachtnemer'!D77) | K6: groot | L6: 130 kW + | M6: 450
C8: ='gunningscriterium SEB'!C12 -> WERKTUIGEN | K8: let op: dit is gebaseerd op de voorwaarden van 2025
C9: omschrijving materieelstuk | D9: motor | E9: energiedrager | F9: vermogens-klasse (kW) | G9: Krijgen we subsidie? | H9: schatting subsidiebedrag | I9: inzetdagen (min. 2 uur)
B10: 1 | C10: =IF('invulblad opdrachtnemer'!C10="","",'invulblad opdrachtnemer'!C10) | D10: =IF('invulblad opdrachtnemer'!D10="","",'invulblad opdrachtnemer'!D10) | E10: =IF('invulblad opdrachtnemer'!E10="","",'invulblad opdrachtnemer'!E10) | F10: =IF('invulblad opdrachtnemer'!F10="","",'invulblad opdrachtnemer'!F10) | G10: =IFERROR(IF(AND(COUNTIF(machinelijst,C10),D10="elektromotor",NOT(F10=$L$2)),"Ja","Nee"),"") -> Nee | H10: =IF(AND(COUNTIF(machinelijst,C10),D10="elektromotor",G10="ja"),_xlfn.XLOOKUP(F10,$L$2:$L$6,$M$2:$M$6)*I10,) -> 0 | I10: =IF(G10="ja",(SUM('invulblad opdrachtnemer'!J10:K10)/8),"")
B11: 2 | C11: =IF('invulblad opdrachtnemer'!C11="","",'invulblad opdrachtnemer'!C11) | D11: =IF('invulblad opdrachtnemer'!D11="","",'invulblad opdrachtnemer'!D11) | E11: =IF('invulblad opdrachtnemer'!E11="","",'invulblad opdrachtnemer'!E11) | F11: =IF('invulblad opdrachtnemer'!F11="","",'invulblad opdrachtnemer'!F11) | G11: =IFERROR(IF(AND(COUNTIF(machinelijst,C11),D11="elektromotor",NOT(F11=$L$2)),"Ja","Nee"),"") -> Nee | H11: =IF(AND(COUNTIF(machinelijst,C11),D11="elektromotor",G11="ja"),_xlfn.XLOOKUP(F11,$L$2:$L$6,$M$2:$M$6)*I11,) -> 0 | I11: =IF(G11="ja",(SUM('invulblad opdrachtnemer'!J11:K11)/8),"")
B12: 3 | C12: =IF('invulblad opdrachtnemer'!C12="","",'invulblad opdrachtnemer'!C12) | D12: =IF('invulblad opdrachtnemer'!D12="","",'invulblad opdrachtnemer'!D12) | E12: =IF('invulblad opdrachtnemer'!E12="","",'invulblad opdrachtnemer'!E12) | F12: =IF('invulblad opdrachtnemer'!F12="","",'invulblad opdrachtnemer'!F12) | G12: =IFERROR(IF(AND(COUNTIF(machinelijst,C12),D12="elektromotor",NOT(F12=$L$2)),"Ja","Nee"),"") -> Nee | H12: =IF(AND(COUNTIF(machinelijst,C12),D12="elektromotor",G12="ja"),_xlfn.XLOOKUP(F12,$L$2:$L$6,$M$2:$M$6)*I12,) -> 0 | I12: =IF(G12="ja",(SUM('invulblad opdrachtnemer'!J12:K12)/8),"")
B13: 4 | C13: =IF('invulblad opdrachtnemer'!C13="","",'invulblad opdrachtnemer'!C13) | D13: =IF('invulblad opdrachtnemer'!D13="","",'invulblad opdrachtnemer'!D13) | E13: =IF('invulblad opdrachtnemer'!E13="","",'invulblad opdrachtnemer'!E13) | F13: =IF('invulblad opdrachtnemer'!F13="","",'invulblad opdrachtnemer'!F13) | G13: =IFERROR(IF(AND(COUNTIF(machinelijst,C13),D13="elektromotor",NOT(F13=$L$2)),"Ja","Nee"),"") -> Nee | H13: =IF(AND(COUNTIF(machinelijst,C13),D13="elektromotor",G13="ja"),_xlfn.XLOOKUP(F13,$L$2:$L$6,$M$2:$M$6)*I13,) -> 0 | I13: =IF(G13="ja",(SUM('invulblad opdrachtnemer'!J13:K13)/8),"")
B14: 5 | C14: =IF('invulblad opdrachtnemer'!C14="","",'invulblad opdrachtnemer'!C14) | D14: =IF('invulblad opdrachtnemer'!D14="","",'invulblad opdrachtnemer'!D14) | E14: =IF('invulblad opdrachtnemer'!E14="","",'invulblad opdrachtnemer'!E14) | F14: =IF('invulblad opdrachtnemer'!F14="","",'invulblad opdrachtnemer'!F14) | G14: =IFERROR(IF(AND(COUNTIF(machinelijst,C14),D14="elektromotor",NOT(F14=$L$2)),"Ja","Nee"),"") -> Nee | H14: =IF(AND(COUNTIF(machinelijst,C14),D14="elektromotor",G14="ja"),_xlfn.XLOOKUP(F14,$L$2:$L$6,$M$2:$M$6)*I14,) -> 0 | I14: =IF(G14="ja",(SUM('invulblad opdrachtnemer'!J14:K14)/8),"")
B15: 6 | C15: =IF('invulblad opdrachtnemer'!C15="","",'invulblad opdrachtnemer'!C15) | D15: =IF('invulblad opdrachtnemer'!D15="","",'invulblad opdrachtnemer'!D15) | E15: =IF('invulblad opdrachtnemer'!E15="","",'invulblad opdrachtnemer'!E15) | F15: =IF('invulblad opdrachtnemer'!F15="","",'invulblad opdrachtnemer'!F15) | G15: =IFERROR(IF(AND(COUNTIF(machinelijst,C15),D15="elektromotor",NOT(F15=$L$2)),"Ja","Nee"),"") -> Nee | H15: =IF(AND(COUNTIF(machinelijst,C15),D15="elektromotor",G15="ja"),_xlfn.XLOOKUP(F15,$L$2:$L$6,$M$2:$M$6)*I15,) -> 0 | I15: =IF(G15="ja",(SUM('invulblad opdrachtnemer'!J15:K15)/8),"")
B16: 7 | C16: =IF('invulblad opdrachtnemer'!C16="","",'invulblad opdrachtnemer'!C16) | D16: =IF('invulblad opdrachtnemer'!D16="","",'invulblad opdrachtnemer'!D16) | E16: =IF('invulblad opdrachtnemer'!E16="","",'invulblad opdrachtnemer'!E16) | F16: =IF('invulblad opdrachtnemer'!F16="","",'invulblad opdrachtnemer'!F16) | G16: =IFERROR(IF(AND(COUNTIF(machinelijst,C16),D16="elektromotor",NOT(F16=$L$2)),"Ja","Nee"),"") -> Nee | H16: =IF(AND(COUNTIF(machinelijst,C16),D16="elektromotor",G16="ja"),_xlfn.XLOOKUP(F16,$L$2:$L$6,$M$2:$M$6)*I16,) -> 0 | I16: =IF(G16="ja",(SUM('invulblad opdrachtnemer'!J16:K16)/8),"")
B17: 8 | C17: =IF('invulblad opdrachtnemer'!C17="","",'invulblad opdrachtnemer'!C17) | D17: =IF('invulblad opdrachtnemer'!D17="","",'invulblad opdrachtnemer'!D17) | E17: =IF('invulblad opdrachtnemer'!E17="","",'invulblad opdrachtnemer'!E17) | F17: =IF('invulblad opdrachtnemer'!F17="","",'invulblad opdrachtnemer'!F17) | G17: =IFERROR(IF(AND(COUNTIF(machinelijst,C17),D17="elektromotor",NOT(F17=$L$2)),"Ja","Nee"),"") -> Nee | H17: =IF(AND(COUNTIF(machinelijst,C17),D17="elektromotor",G17="ja"),_xlfn.XLOOKUP(F17,$L$2:$L$6,$M$2:$M$6)*I17,) -> 0 | I17: =IF(G17="ja",(SUM('invulblad opdrachtnemer'!J17:K17)/8),"")
B18: 9 | C18: =IF('invulblad opdrachtnemer'!C18="","",'invulblad opdrachtnemer'!C18) | D18: =IF('invulblad opdrachtnemer'!D18="","",'invulblad opdrachtnemer'!D18) | E18: =IF('invulblad opdrachtnemer'!E18="","",'invulblad opdrachtnemer'!E18) | F18: =IF('invulblad opdrachtnemer'!F18="","",'invulblad opdrachtnemer'!F18) | G18: =IFERROR(IF(AND(COUNTIF(machinelijst,C18),D18="elektromotor",NOT(F18=$L$2)),"Ja","Nee"),"") -> Nee | H18: =IF(AND(COUNTIF(machinelijst,C18),D18="elektromotor",G18="ja"),_xlfn.XLOOKUP(F18,$L$2:$L$6,$M$2:$M$6)*I18,) -> 0 | I18: =IF(G18="ja",(SUM('invulblad opdrachtnemer'!J18:K18)/8),"")
B19: 10 | C19: =IF('invulblad opdrachtnemer'!C19="","",'invulblad opdrachtnemer'!C19) | D19: =IF('invulblad opdrachtnemer'!D19="","",'invulblad opdrachtnemer'!D19) | E19: =IF('invulblad opdrachtnemer'!E19="","",'invulblad opdrachtnemer'!E19) | F19: =IF('invulblad opdrachtnemer'!F19="","",'invulblad opdrachtnemer'!F19) | G19: =IFERROR(IF(AND(COUNTIF(machinelijst,C19),D19="elektromotor",NOT(F19=$L$2)),"Ja","Nee"),"") -> Nee | H19: =IF(AND(COUNTIF(machinelijst,C19),D19="elektromotor",G19="ja"),_xlfn.XLOOKUP(F19,$L$2:$L$6,$M$2:$M$6)*I19,) -> 0 | I19: =IF(G19="ja",(SUM('invulblad opdrachtnemer'!J19:K19)/8),"")
B20: 11 | C20: =IF('invulblad opdrachtnemer'!C20="","",'invulblad opdrachtnemer'!C20) | D20: =IF('invulblad opdrachtnemer'!D20="","",'invulblad opdrachtnemer'!D20) | E20: =IF('invulblad opdrachtnemer'!E20="","",'invulblad opdrachtnemer'!E20) | F20: =IF('invulblad opdrachtnemer'!F20="","",'invulblad opdrachtnemer'!F20) | G20: =IFERROR(IF(AND(COUNTIF(machinelijst,C20),D20="elektromotor",NOT(F20=$L$2)),"Ja","Nee"),"") -> Nee | H20: =IF(AND(COUNTIF(machinelijst,C20),D20="elektromotor",G20="ja"),_xlfn.XLOOKUP(F20,$L$2:$L$6,$M$2:$M$6)*I20,) -> 0 | I20: =IF(G20="ja",(SUM('invulblad opdrachtnemer'!J20:K20)/8),"")
B21: 12 | C21: =IF('invulblad opdrachtnemer'!C21="","",'invulblad opdrachtnemer'!C21) | D21: =IF('invulblad opdrachtnemer'!D21="","",'invulblad opdrachtnemer'!D21) | E21: =IF('invulblad opdrachtnemer'!E21="","",'invulblad opdrachtnemer'!E21) | F21: =IF('invulblad opdrachtnemer'!F21="","",'invulblad opdrachtnemer'!F21) | G21: =IFERROR(IF(AND(COUNTIF(machinelijst,C21),D21="elektromotor",NOT(F21=$L$2)),"Ja","Nee"),"") -> Nee | H21: =IF(AND(COUNTIF(machinelijst,C21),D21="elektromotor",G21="ja"),_xlfn.XLOOKUP(F21,$L$2:$L$6,$M$2:$M$6)*I21,) -> 0 | I21: =IF(G21="ja",(SUM('invulblad opdrachtnemer'!J21:K21)/8),"")
... B29: 20 | C29: =IF('invulblad opdrachtnemer'!C29="","",'invulblad opdrachtnemer'!C29) | D29: =IF('invulblad opdrachtnemer'!D29="","",'invulblad opdrachtnemer'!D29) | E29: =IF('invulblad opdrachtnemer'!E29="","",'invulblad opdrachtnemer'!E29) | F29: =IF('invulblad opdrachtnemer'!F29="","",'invulblad opdrachtnemer'!F29) | G29: =IFERROR(IF(AND(COUNTIF(machinelijst,C29),D29="elektromotor",NOT(F29=$L$2)),"Ja","Nee"),"") -> Nee | H29: =IF(AND(COUNTIF(machinelijst,C29),D29="elektromotor",G29="ja"),_xlfn.XLOOKUP(F29,$L$2:$L$6,$M$2:$M$6)*I29,) -> 0 | I29: =IF(G29="ja",(SUM('invulblad opdrachtnemer'!J29:K29)/8),"")
C31: ='gunningscriterium SEB'!C26 -> TRANSPORTMIDDELEN (N1, N2 en N3)
C32: omschrijving materieelstuk | D32: motor | E32: energiedrager | F32: vermogens-klasse (kW) | G32: Krijgen we subsidie? | H32: schatting subsidiebedrag | I32: inzetdagen (min. 2 uur)
B33: 1 | C33: =IF('invulblad opdrachtnemer'!C33="","",'invulblad opdrachtnemer'!C33) | D33: =IF('invulblad opdrachtnemer'!D33="","",'invulblad opdrachtnemer'!D33) | E33: =IF('invulblad opdrachtnemer'!E33="","",'invulblad opdrachtnemer'!E33) | F33: =IF('invulblad opdrachtnemer'!F33="","",'invulblad opdrachtnemer'!F33) | G33: =IFERROR(IF(AND(COUNTIF(machinelijst,C33),D33="elektromotor",NOT(F33=$L$2)),"Ja","Nee"),"") -> Nee | H33: =IF(AND(COUNTIF(machinelijst,C33),D33="elektromotor",G33="ja"),_xlfn.XLOOKUP(F33,$L$2:$L$6,$M$2:$M$6)*I33,) -> 0 | I33: =IF(G33="ja",(SUM('invulblad opdrachtnemer'!J33:K33)/8),"")
B34: 2 | C34: =IF('invulblad opdrachtnemer'!C34="","",'invulblad opdrachtnemer'!C34) | D34: =IF('invulblad opdrachtnemer'!D34="","",'invulblad opdrachtnemer'!D34) | E34: =IF('invulblad opdrachtnemer'!E34="","",'invulblad opdrachtnemer'!E34) | F34: =IF('invulblad opdrachtnemer'!F34="","",'invulblad opdrachtnemer'!F34) | G34: =IFERROR(IF(AND(COUNTIF(machinelijst,C34),D34="elektromotor",NOT(F34=$L$2)),"Ja","Nee"),"") -> Nee | H34: =IF(AND(COUNTIF(machinelijst,C34),D34="elektromotor",G34="ja"),_xlfn.XLOOKUP(F34,$L$2:$L$6,$M$2:$M$6)*I34,) -> 0 | I34: =IF(G34="ja",(SUM('invulblad opdrachtnemer'!J34:K34)/8),"")
B35: 3 | C35: =IF('invulblad opdrachtnemer'!C35="","",'invulblad opdrachtnemer'!C35) | D35: =IF('invulblad opdrachtnemer'!D35="","",'invulblad opdrachtnemer'!D35) | E35: =IF('invulblad opdrachtnemer'!E35="","",'invulblad opdrachtnemer'!E35) | F35: =IF('invulblad opdrachtnemer'!F35="","",'invulblad opdrachtnemer'!F35) | G35: =IFERROR(IF(AND(COUNTIF(machinelijst,C35),D35="elektromotor",NOT(F35=$L$2)),"Ja","Nee"),"") -> Nee | H35: =IF(AND(COUNTIF(machinelijst,C35),D35="elektromotor",G35="ja"),_xlfn.XLOOKUP(F35,$L$2:$L$6,$M$2:$M$6)*I35,) -> 0 | I35: =IF(G35="ja",(SUM('invulblad opdrachtnemer'!J35:K35)/8),"")
B36: 4 | C36: =IF('invulblad opdrachtnemer'!C36="","",'invulblad opdrachtnemer'!C36) | D36: =IF('invulblad opdrachtnemer'!D36="","",'invulblad opdrachtnemer'!D36) | E36: =IF('invulblad opdrachtnemer'!E36="","",'invulblad opdrachtnemer'!E36) | F36: =IF('invulblad opdrachtnemer'!F36="","",'invulblad opdrachtnemer'!F36) | G36: =IFERROR(IF(AND(COUNTIF(machinelijst,C36),D36="elektromotor",NOT(F36=$L$2)),"Ja","Nee"),"") -> Nee | H36: =IF(AND(COUNTIF(machinelijst,C36),D36="elektromotor",G36="ja"),_xlfn.XLOOKUP(F36,$L$2:$L$6,$M$2:$M$6)*I36,) -> 0 | I36: =IF(G36="ja",(SUM('invulblad opdrachtnemer'!J36:K36)/8),"")
B37: 5 | C37: =IF('invulblad opdrachtnemer'!C37="","",'invulblad opdrachtnemer'!C37) | D37: =IF('invulblad opdrachtnemer'!D37="","",'invulblad opdrachtnemer'!D37) | E37: =IF('invulblad opdrachtnemer'!E37="","",'invulblad opdrachtnemer'!E37) | F37: =IF('invulblad opdrachtnemer'!F37="","",'invulblad opdrachtnemer'!F37) | G37: =IFERROR(IF(AND(COUNTIF(machinelijst,C37),D37="elektromotor",NOT(F37=$L$2)),"Ja","Nee"),"") -> Nee | H37: =IF(AND(COUNTIF(machinelijst,C37),D37="elektromotor",G37="ja"),_xlfn.XLOOKUP(F37,$L$2:$L$6,$M$2:$M$6)*I37,) -> 0 | I37: =IF(G37="ja",(SUM('invulblad opdrachtnemer'!J37:K37)/8),"")
B38: 6 | C38: =IF('invulblad opdrachtnemer'!C38="","",'invulblad opdrachtnemer'!C38) | D38: =IF('invulblad opdrachtnemer'!D38="","",'invulblad opdrachtnemer'!D38) | E38: =IF('invulblad opdrachtnemer'!E38="","",'invulblad opdrachtnemer'!E38) | F38: =IF('invulblad opdrachtnemer'!F38="","",'invulblad opdrachtnemer'!F38) | G38: =IFERROR(IF(AND(COUNTIF(machinelijst,C38),D38="elektromotor",NOT(F38=$L$2)),"Ja","Nee"),"") -> Nee | H38: =IF(AND(COUNTIF(machinelijst,C38),D38="elektromotor",G38="ja"),_xlfn.XLOOKUP(F38,$L$2:$L$6,$M$2:$M$6)*I38,) -> 0 | I38: =IF(G38="ja",(SUM('invulblad opdrachtnemer'!J38:K38)/8),"")
B39: 7 | C39: =IF('invulblad opdrachtnemer'!C39="","",'invulblad opdrachtnemer'!C39) | D39: =IF('invulblad opdrachtnemer'!D39="","",'invulblad opdrachtnemer'!D39) | E39: =IF('invulblad opdrachtnemer'!E39="","",'invulblad opdrachtnemer'!E39) | F39: =IF('invulblad opdrachtnemer'!F39="","",'invulblad opdrachtnemer'!F39) | G39: =IFERROR(IF(AND(COUNTIF(machinelijst,C39),D39="elektromotor",NOT(F39=$L$2)),"Ja","Nee"),"") -> Nee | H39: =IF(AND(COUNTIF(machinelijst,C39),D39="elektromotor",G39="ja"),_xlfn.XLOOKUP(F39,$L$2:$L$6,$M$2:$M$6)*I39,) -> 0 | I39: =IF(G39="ja",(SUM('invulblad opdrachtnemer'!J39:K39)/8),"")
B40: 8 | C40: =IF('invulblad opdrachtnemer'!C40="","",'invulblad opdrachtnemer'!C40) | D40: =IF('invulblad opdrachtnemer'!D40="","",'invulblad opdrachtnemer'!D40) | E40: =IF('invulblad opdrachtnemer'!E40="","",'invulblad opdrachtnemer'!E40) | F40: =IF('invulblad opdrachtnemer'!F40="","",'invulblad opdrachtnemer'!F40) | G40: =IFERROR(IF(AND(COUNTIF(machinelijst,C40),D40="elektromotor",NOT(F40=$L$2)),"Ja","Nee"),"") -> Nee | H40: =IF(AND(COUNTIF(machinelijst,C40),D40="elektromotor",G40="ja"),_xlfn.XLOOKUP(F40,$L$2:$L$6,$M$2:$M$6)*I40,) -> 0 | I40: =IF(G40="ja",(SUM('invulblad opdrachtnemer'!J40:K40)/8),"")
B41: 9 | C41: =IF('invulblad opdrachtnemer'!C41="","",'invulblad opdrachtnemer'!C41) | D41: =IF('invulblad opdrachtnemer'!D41="","",'invulblad opdrachtnemer'!D41) | E41: =IF('invulblad opdrachtnemer'!E41="","",'invulblad opdrachtnemer'!E41) | F41: =IF('invulblad opdrachtnemer'!F41="","",'invulblad opdrachtnemer'!F41) | G41: =IFERROR(IF(AND(COUNTIF(machinelijst,C41),D41="elektromotor",NOT(F41=$L$2)),"Ja","Nee"),"") -> Nee | H41: =IF(AND(COUNTIF(machinelijst,C41),D41="elektromotor",G41="ja"),_xlfn.XLOOKUP(F41,$L$2:$L$6,$M$2:$M$6)*I41,) -> 0 | I41: =IF(G41="ja",(SUM('invulblad opdrachtnemer'!J41:K41)/8),"")
B42: 10 | C42: =IF('invulblad opdrachtnemer'!C42="","",'invulblad opdrachtnemer'!C42) | D42: =IF('invulblad opdrachtnemer'!D42="","",'invulblad opdrachtnemer'!D42) | E42: =IF('invulblad opdrachtnemer'!E42="","",'invulblad opdrachtnemer'!E42) | F42: =IF('invulblad opdrachtnemer'!F42="","",'invulblad opdrachtnemer'!F42) | G42: =IFERROR(IF(AND(COUNTIF(machinelijst,C42),D42="elektromotor",NOT(F42=$L$2)),"Ja","Nee"),"") -> Nee | H42: =IF(AND(COUNTIF(machinelijst,C42),D42="elektromotor",G42="ja"),_xlfn.XLOOKUP(F42,$L$2:$L$6,$M$2:$M$6)*I42,) -> 0 | I42: =IF(G42="ja",(SUM('invulblad opdrachtnemer'!J42:K42)/8),"")
B43: 11 | C43: =IF('invulblad opdrachtnemer'!C43="","",'invulblad opdrachtnemer'!C43) | D43: =IF('invulblad opdrachtnemer'!D43="","",'invulblad opdrachtnemer'!D43) | E43: =IF('invulblad opdrachtnemer'!E43="","",'invulblad opdrachtnemer'!E43) | F43: =IF('invulblad opdrachtnemer'!F43="","",'invulblad opdrachtnemer'!F43) | G43: =IFERROR(IF(AND(COUNTIF(machinelijst,C43),D43="elektromotor",NOT(F43=$L$2)),"Ja","Nee"),"") -> Nee | H43: =IF(AND(COUNTIF(machinelijst,C43),D43="elektromotor",G43="ja"),_xlfn.XLOOKUP(F43,$L$2:$L$6,$M$2:$M$6)*I43,) -> 0 | I43: =IF(G43="ja",(SUM('invulblad opdrachtnemer'!J43:K43)/8),"")
B44: 12 | C44: =IF('invulblad opdrachtnemer'!C44="","",'invulblad opdrachtnemer'!C44) | D44: =IF('invulblad opdrachtnemer'!D44="","",'invulblad opdrachtnemer'!D44) | E44: =IF('invulblad opdrachtnemer'!E44="","",'invulblad opdrachtnemer'!E44) | F44: =IF('invulblad opdrachtnemer'!F44="","",'invulblad opdrachtnemer'!F44) | G44: =IFERROR(IF(AND(COUNTIF(machinelijst,C44),D44="elektromotor",NOT(F44=$L$2)),"Ja","Nee"),"") -> Nee | H44: =IF(AND(COUNTIF(machinelijst,C44),D44="elektromotor",G44="ja"),_xlfn.XLOOKUP(F44,$L$2:$L$6,$M$2:$M$6)*I44,) -> 0 | I44: =IF(G44="ja",(SUM('invulblad opdrachtnemer'!J44:K44)/8),"")
... B52: 20 | C52: =IF('invulblad opdrachtnemer'!C52="","",'invulblad opdrachtnemer'!C52) | D52: =IF('invulblad opdrachtnemer'!D52="","",'invulblad opdrachtnemer'!D52) | E52: =IF('invulblad opdrachtnemer'!E52="","",'invulblad opdrachtnemer'!E52) | F52: =IF('invulblad opdrachtnemer'!F52="","",'invulblad opdrachtnemer'!F52) | G52: =IFERROR(IF(AND(COUNTIF(machinelijst,C52),D52="elektromotor",NOT(F52=$L$2)),"Ja","Nee"),"") -> Nee | H52: =IF(AND(COUNTIF(machinelijst,C52),D52="elektromotor",G52="ja"),_xlfn.XLOOKUP(F52,$L$2:$L$6,$M$2:$M$6)*I52,) -> 0 | I52: =IF(G52="ja",(SUM('invulblad opdrachtnemer'!J52:K52)/8),"")
C54: ='gunningscriterium SEB'!C47 -> GEREEDSCHAPPEN
C55: omschrijving materieelstuk | D55: motor | E55: energiedrager | F55: vermogens-klasse (kW) | G55: Krijgen we subsidie? | H55: schatting subsidiebedrag | I55: inzetdagen (min. 2 uur)
B56: 1 | C56: =IF('invulblad opdrachtnemer'!C56="","",'invulblad opdrachtnemer'!C56) | D56: =IF('invulblad opdrachtnemer'!D56="","",'invulblad opdrachtnemer'!D56) | E56: =IF('invulblad opdrachtnemer'!E56="","",'invulblad opdrachtnemer'!E56) | F56: =IF('invulblad opdrachtnemer'!F56="","",'invulblad opdrachtnemer'!F56) | G56: =IFERROR(IF(AND(COUNTIF(machinelijst,C56),D56="elektromotor",NOT(F56=$L$2)),"Ja","Nee"),"") -> Nee | H56: =IF(AND(COUNTIF(machinelijst,C56),D56="elektromotor",G56="ja"),_xlfn.XLOOKUP(F56,$L$2:$L$6,$M$2:$M$6)*I56,) -> 0 | I56: =IF(G56="ja",(SUM('invulblad opdrachtnemer'!J56:K56)/8),"")
B57: 2 | C57: =IF('invulblad opdrachtnemer'!C57="","",'invulblad opdrachtnemer'!C57) | D57: =IF('invulblad opdrachtnemer'!D57="","",'invulblad opdrachtnemer'!D57) | E57: =IF('invulblad opdrachtnemer'!E57="","",'invulblad opdrachtnemer'!E57) | F57: =IF('invulblad opdrachtnemer'!F57="","",'invulblad opdrachtnemer'!F57) | G57: =IFERROR(IF(AND(COUNTIF(machinelijst,C57),D57="elektromotor",NOT(F57=$L$2)),"Ja","Nee"),"") -> Nee | H57: =IF(AND(COUNTIF(machinelijst,C57),D57="elektromotor",G57="ja"),_xlfn.XLOOKUP(F57,$L$2:$L$6,$M$2:$M$6)*I57,) -> 0 | I57: =IF(G57="ja",(SUM('invulblad opdrachtnemer'!J57:K57)/8),"")
B58: 3 | C58: =IF('invulblad opdrachtnemer'!C58="","",'invulblad opdrachtnemer'!C58) | D58: =IF('invulblad opdrachtnemer'!D58="","",'invulblad opdrachtnemer'!D58) | E58: =IF('invulblad opdrachtnemer'!E58="","",'invulblad opdrachtnemer'!E58) | F58: =IF('invulblad opdrachtnemer'!F58="","",'invulblad opdrachtnemer'!F58) | G58: =IFERROR(IF(AND(COUNTIF(machinelijst,C58),D58="elektromotor",NOT(F58=$L$2)),"Ja","Nee"),"") -> Nee | H58: =IF(AND(COUNTIF(machinelijst,C58),D58="elektromotor",G58="ja"),_xlfn.XLOOKUP(F58,$L$2:$L$6,$M$2:$M$6)*I58,) -> 0 | I58: =IF(G58="ja",(SUM('invulblad opdrachtnemer'!J58:K58)/8),"")
B59: 4 | C59: =IF('invulblad opdrachtnemer'!C59="","",'invulblad opdrachtnemer'!C59) | D59: =IF('invulblad opdrachtnemer'!D59="","",'invulblad opdrachtnemer'!D59) | E59: =IF('invulblad opdrachtnemer'!E59="","",'invulblad opdrachtnemer'!E59) | F59: =IF('invulblad opdrachtnemer'!F59="","",'invulblad opdrachtnemer'!F59) | G59: =IFERROR(IF(AND(COUNTIF(machinelijst,C59),D59="elektromotor",NOT(F59=$L$2)),"Ja","Nee"),"") -> Nee | H59: =IF(AND(COUNTIF(machinelijst,C59),D59="elektromotor",G59="ja"),_xlfn.XLOOKUP(F59,$L$2:$L$6,$M$2:$M$6)*I59,) -> 0 | I59: =IF(G59="ja",(SUM('invulblad opdrachtnemer'!J59:K59)/8),"")
B60: 5 | C60: =IF('invulblad opdrachtnemer'!C60="","",'invulblad opdrachtnemer'!C60) | D60: =IF('invulblad opdrachtnemer'!D60="","",'invulblad opdrachtnemer'!D60) | E60: =IF('invulblad opdrachtnemer'!E60="","",'invulblad opdrachtnemer'!E60) | F60: =IF('invulblad opdrachtnemer'!F60="","",'invulblad opdrachtnemer'!F60) | G60: =IFERROR(IF(AND(COUNTIF(machinelijst,C60),D60="elektromotor",NOT(F60=$L$2)),"Ja","Nee"),"") -> Nee | H60: =IF(AND(COUNTIF(machinelijst,C60),D60="elektromotor",G60="ja"),_xlfn.XLOOKUP(F60,$L$2:$L$6,$M$2:$M$6)*I60,) -> 0 | I60: =IF(G60="ja",(SUM('invulblad opdrachtnemer'!J60:K60)/8),"")
B61: 6 | C61: =IF('invulblad opdrachtnemer'!C61="","",'invulblad opdrachtnemer'!C61) | D61: =IF('invulblad opdrachtnemer'!D61="","",'invulblad opdrachtnemer'!D61) | E61: =IF('invulblad opdrachtnemer'!E61="","",'invulblad opdrachtnemer'!E61) | F61: =IF('invulblad opdrachtnemer'!F61="","",'invulblad opdrachtnemer'!F61) | G61: =IFERROR(IF(AND(COUNTIF(machinelijst,C61),D61="elektromotor",NOT(F61=$L$2)),"Ja","Nee"),"") -> Nee | H61: =IF(AND(COUNTIF(machinelijst,C61),D61="elektromotor",G61="ja"),_xlfn.XLOOKUP(F61,$L$2:$L$6,$M$2:$M$6)*I61,) -> 0 | I61: =IF(G61="ja",(SUM('invulblad opdrachtnemer'!J61:K61)/8),"")
B62: 7 | C62: =IF('invulblad opdrachtnemer'!C62="","",'invulblad opdrachtnemer'!C62) | D62: =IF('invulblad opdrachtnemer'!D62="","",'invulblad opdrachtnemer'!D62) | E62: =IF('invulblad opdrachtnemer'!E62="","",'invulblad opdrachtnemer'!E62) | F62: =IF('invulblad opdrachtnemer'!F62="","",'invulblad opdrachtnemer'!F62) | G62: =IFERROR(IF(AND(COUNTIF(machinelijst,C62),D62="elektromotor",NOT(F62=$L$2)),"Ja","Nee"),"") -> Nee | H62: =IF(AND(COUNTIF(machinelijst,C62),D62="elektromotor",G62="ja"),_xlfn.XLOOKUP(F62,$L$2:$L$6,$M$2:$M$6)*I62,) -> 0 | I62: =IF(G62="ja",(SUM('invulblad opdrachtnemer'!J62:K62)/8),"")
B63: 8 | C63: =IF('invulblad opdrachtnemer'!C63="","",'invulblad opdrachtnemer'!C63) | D63: =IF('invulblad opdrachtnemer'!D63="","",'invulblad opdrachtnemer'!D63) | E63: =IF('invulblad opdrachtnemer'!E63="","",'invulblad opdrachtnemer'!E63) | F63: =IF('invulblad opdrachtnemer'!F63="","",'invulblad opdrachtnemer'!F63) | G63: =IFERROR(IF(AND(COUNTIF(machinelijst,C63),D63="elektromotor",NOT(F63=$L$2)),"Ja","Nee"),"") -> Nee | H63: =IF(AND(COUNTIF(machinelijst,C63),D63="elektromotor",G63="ja"),_xlfn.XLOOKUP(F63,$L$2:$L$6,$M$2:$M$6)*I63,) -> 0 | I63: =IF(G63="ja",(SUM('invulblad opdrachtnemer'!J63:K63)/8),"")
B64: 9 | C64: =IF('invulblad opdrachtnemer'!C64="","",'invulblad opdrachtnemer'!C64) | D64: =IF('invulblad opdrachtnemer'!D64="","",'invulblad opdrachtnemer'!D64) | E64: =IF('invulblad opdrachtnemer'!E64="","",'invulblad opdrachtnemer'!E64) | F64: =IF('invulblad opdrachtnemer'!F64="","",'invulblad opdrachtnemer'!F64) | G64: =IFERROR(IF(AND(COUNTIF(machinelijst,C64),D64="elektromotor",NOT(F64=$L$2)),"Ja","Nee"),"") -> Nee | H64: =IF(AND(COUNTIF(machinelijst,C64),D64="elektromotor",G64="ja"),_xlfn.XLOOKUP(F64,$L$2:$L$6,$M$2:$M$6)*I64,) -> 0 | I64: =IF(G64="ja",(SUM('invulblad opdrachtnemer'!J64:K64)/8),"")
B65: 10 | C65: =IF('invulblad opdrachtnemer'!C65="","",'invulblad opdrachtnemer'!C65) | D65: =IF('invulblad opdrachtnemer'!D65="","",'invulblad opdrachtnemer'!D65) | E65: =IF('invulblad opdrachtnemer'!E65="","",'invulblad opdrachtnemer'!E65) | F65: =IF('invulblad opdrachtnemer'!F65="","",'invulblad opdrachtnemer'!F65) | G65: =IFERROR(IF(AND(COUNTIF(machinelijst,C65),D65="elektromotor",NOT(F65=$L$2)),"Ja","Nee"),"") -> Nee | H65: =IF(AND(COUNTIF(machinelijst,C65),D65="elektromotor",G65="ja"),_xlfn.XLOOKUP(F65,$L$2:$L$6,$M$2:$M$6)*I65,) -> 0 | I65: =IF(G65="ja",(SUM('invulblad opdrachtnemer'!J65:K65)/8),"")
B66: 11 | C66: =IF('invulblad opdrachtnemer'!C66="","",'invulblad opdrachtnemer'!C66) | D66: =IF('invulblad opdrachtnemer'!D66="","",'invulblad opdrachtnemer'!D66) | E66: =IF('invulblad opdrachtnemer'!E66="","",'invulblad opdrachtnemer'!E66) | F66: =IF('invulblad opdrachtnemer'!F66="","",'invulblad opdrachtnemer'!F66) | G66: =IFERROR(IF(AND(COUNTIF(machinelijst,C66),D66="elektromotor",NOT(F66=$L$2)),"Ja","Nee"),"") -> Nee | H66: =IF(AND(COUNTIF(machinelijst,C66),D66="elektromotor",G66="ja"),_xlfn.XLOOKUP(F66,$L$2:$L$6,$M$2:$M$6)*I66,) -> 0 | I66: =IF(G66="ja",(SUM('invulblad opdrachtnemer'!J66:K66)/8),"")
B67: 12 | C67: =IF('invulblad opdrachtnemer'!C67="","",'invulblad opdrachtnemer'!C67) | D67: =IF('invulblad opdrachtnemer'!D67="","",'invulblad opdrachtnemer'!D67) | E67: =IF('invulblad opdrachtnemer'!E67="","",'invulblad opdrachtnemer'!E67) | F67: =IF('invulblad opdrachtnemer'!F67="","",'invulblad opdrachtnemer'!F67) | G67: =IFERROR(IF(AND(COUNTIF(machinelijst,C67),D67="elektromotor",NOT(F67=$L$2)),"Ja","Nee"),"") -> Nee | H67: =IF(AND(COUNTIF(machinelijst,C67),D67="elektromotor",G67="ja"),_xlfn.XLOOKUP(F67,$L$2:$L$6,$M$2:$M$6)*I67,) -> 0 | I67: =IF(G67="ja",(SUM('invulblad opdrachtnemer'!J67:K67)/8),"")
... B75: 20 | C75: =IF('invulblad opdrachtnemer'!C75="","",'invulblad opdrachtnemer'!C75) | D75: =IF('invulblad opdrachtnemer'!D75="","",'invulblad opdrachtnemer'!D75) | E75: =IF('invulblad opdrachtnemer'!E75="","",'invulblad opdrachtnemer'!E75) | F75: =IF('invulblad opdrachtnemer'!F75="","",'invulblad opdrachtnemer'!F75) | G75: =IFERROR(IF(AND(COUNTIF(machinelijst,C75),D75="elektromotor",NOT(F75=$L$2)),"Ja","Nee"),"") -> Nee | H75: =IF(AND(COUNTIF(machinelijst,C75),D75="elektromotor",G75="ja"),_xlfn.XLOOKUP(F75,$L$2:$L$6,$M$2:$M$6)*I75,) -> 0 | I75: =IF(G75="ja",(SUM('invulblad opdrachtnemer'!J75:K75)/8),"")
G76: Ja

Sheet beoordeling opdrachtgever
C1: ='gunningscriterium SEB'!C1 -> Verkeersregelinstallaties (VRI)
C2: Beoordelingsformulier
C4: aantal inschrijvers | F4: inschrijver 1 | H4: inschrijver 2 | J4: inschrijver 3 | L4: inschrijver 4 | N4: inschrijver 5
C6: ingevuld door | F6: [ bedrijfsnaam ] | H6: [ bedrijfsnaam ] | J6: [ bedrijfsnaam ] | L6: [ bedrijfsnaam ] | N6: [ bedrijfsnaam ]
C8: totale fictieve meerwaarde | D8: ='gunningscriterium SEB'!C12 -> WERKTUIGEN | F8: 0 | H8: 0 | J8: 0 | L8: 0 | N8: 0
C10: totale fictieve meerwaarde | D10: ='gunningscriterium SEB'!C26 -> TRANSPORTMIDDELEN (N1, N2 en N3) | F10: 0 | H10: 0 | J10: 0 | L10: 0 | N10: 0
C12: totale fictieve meerwaarde | D12: ='gunningscriterium SEB'!C47 -> GEREEDSCHAPPEN | F12: 0 | H12: 0 | J12: 0 | L12: 0 | N12: 0
C14: totale fictieve meerwaarde | D14: ='gunningscriterium SEB'!D2 -> Schoon- en Emissieloos Bouwen | F14: =SUM(F8:F12) -> 0 | H14: =SUM(H8:H12) -> 0 | J14: =SUM(J8:J12) -> 0 | L14: =SUM(L8:L12) -> 0 | N14: =SUM(N8:N12) -> 0
C16: inschrijvingssom | F16: 0 | H16: 0 | J16: 0 | L16: 0 | N16: 0
C18: evaluatieprijs | F18: =F16-F14 -> 0 | H18: =H16-H14 -> 0 | J18: =J16-J14 -> 0 | L18: =L16-L14 -> 0 | N18: =N16-N14 -> 0
C20: uitslag | F20: =IF($D$4=1,1,IF($D$4=2,RANK(F18,$F$18:$H$18,1),(IF($D$4=3,RANK(F18,$F$18:$J$18,1),IF($D$4=4,RANK(F18,$F$18:$L$18,1),IF($D$4=5,RANK(F18,$F$18:$N$18,1),"")))))) | H20: =IF($D$4=2,RANK(H18,$F$18:$H$18,1),(IF($D$4=3,RANK(H18,$F$18:$J$18,1),IF($D$4=4,RANK(H18,$F$18:$L$18,1),IF($D$4=5,RANK(H18,$F$18:$N$18,1),""))))) | J20: =IF($D$4=2,"",IF($D$4=3,RANK(J18,$F$18:$J$18,1),IF($D$4=4,RANK(J18,$F$18:$L$18,1),IF($D$4=5,RANK(J18,$F$18:$N$18,1),"")))) | L20: =IF($D$4=2,"",IF($D$4=3,"",IF($D$4=4,RANK(L18,$F$18:$L$18,1),IF($D$4=5,RANK(L18,$F$18:$N$18,1),"")))) | N20: =IF($D$4=2,"",IF($D$4=3,"",IF($D$4=4,"",IF($D$4=5,RANK(N18,$F$18:$N$18,1),""))))
C22: opmerking(en) voor publicatie
C24: handtekening
C26: datum

Sheet machinelijst SEB
A1: Machinelijst SPUK SEB versie november 2024
A4: A. Bouwwerktuigen | B4: A1. Mobiele machines
C5: A1.1 asfalt- / betonzagen (rijdend) | D5: J | E5: J
C6: A1.2 asfaltspreidmachine / asfaltwerkmachine | D6: J | E6: J
C7: A1.3 asfaltvoorlader | D7: J | E7: J
C8: A1.4 ballastafwerkmachine | D8: J | E8: J
C9: A1.5 bestratingsmachine (zelfrijdend) | D9: J | E9: J
C10: A1.6 beton- of mortelmachine / paver / mobiele 3D printer | D10: J | E10: J
C11: A1.7 beton- of bentonietpomp (stand-alone) | D11: J | E11: J
C12: A1.8 bodemstabiliseerder | D12: J | E12: J
C13: A1.9 bulldozer | D13: J | E13: J
C14: A1.10 emulsiespuitwagen | D14: J | E14: J
C15: A1.11 freesmachine voor asfalt of beton | D15: J | E15: J
C16: A1.12 sondeermachine / sondeertruck / sondeerrups | D16: J | E16: J
... C48: A1.46 boomverplantingsmachine | D48: J | E48: J
B49: A2. Vervoerbare industriële uitrustingen
C50: A2.2 aggregaat op wind- of zonne-energie voor off-grid stroomvoorziening (niet hybride met verbrandingsmotor) | D50: N | E50: J
C51: A2.3 aggregaat voor off-grid stroomvoorziening aangedreven door waterstof ofwaterstofdragers | D51: J | E51: N
C52: A2.4 hydraulisch aggregaat | D52: J | E52: N
C53: A2.5 lasaggregaat | D53: J | E53: J
C54: A2.6 lichtmastaggregaat/lichtmast (zelf aangedreven) | D54: J | E54: N
C55: A2.7 stationair batterijpakket voor off-grid stroomvoorziening vanaf 50 kWh | D55: J | E55: N
C56: A2.8 trilplaat / trilblok / stamper | D56: J | E56: N
C57: A2.9 mobiele (vuil)-waterpomp | D57: J | E57: N
C58: A2.10 pompen voor baggeren (DOP-pomp, jetpomp, booster-baggerstation) | D58: J | E58: N
C59: A2.11 verwisselbaar batterijpakket vanaf 50 kWh behorend bij een bouwwerktuig | D59: J | E59: N
C60: A2.12 vliegwiel als vermogensvoorziening | D60: J | E60: J1
C61: A2.13 DC (gelijkstroom) laadstation | D61: J | E61: N
A62: B. Hulpfuncties | B62: B1. elektrische aandrijfmotor met een brandstofcel of een niet loodhoudend accupakket voor aandrijving van de opbouw van een voertuig, oplegger of spoorvoertuig (inclusief vrachtauto- railvoertuig), zijnde een:
C63: B1.1 autolaadkraan | D63: J | E63: J
C64: B1.2 betonmixer | D64: J | E64: J
C65: B1.3 betonpomp | D65: J | E65: J
C66: B1.4 binnenlader | D66: J | E66: J
C67: B1.5 boor | D67: J | E67: J
C68: B1.6 front-end cylinder | D68: J | E68: J
C69: B1.7 haakarm | D69: J | E69: J
C70: B1.8 kabelsysteem | D70: J | E70: J
C71: B1.9 kettingsysteem | D71: J | E71: J
C72: B1.10 onderwaartse cylinder | D72: J | E72: J
C73: B1.11 portaalarmsysteem | D73: J | E73: J
C74: B1.12 mobiele kraan als hulpfunctie (telescoopkraan, torenkraan, rupshijskraan, ruwterreinkraan, draadkraan, minihijskraan)
B75: B3. elektrische aandrijfmotor met een brandstofcel of een niet loodhoudend accupakket voor aandrijving van hulpfunctie op een vaartuig, niet de voortstuwing, zijnde een: | D75: J | E75: J
C76: B3.1 grondpers | D76: J | E76: J
C77: B3.2 hei-installatie op een heischip | D77: J | E77: N
C78: B3.3 kraan | D78: J | E78: J
A79: C. Bouwvoertuigen (N2.N3)
C80: C1. betonmixer (carrosseriecode 15) | D80: J | E80: J
C81: C2. betonpompvoertuig (carrosseriecode 16) | D81: J | E81: J
C82: C3. boorwagen (carrosseriecode 28)
C83: C4. hoogwerker (carrosseriecode 27)
C84: C5. kieptruck (carrosseriecode 10)
C85: C6. kraanwagen (carrosseriecode 26 of aanduiding SF)
C86: C7. voertuig met haakarm (carrosseriecode 9)
