Workbook
Name Perceel: '4. Waardetabel'!$H$5:$H$1048576

Sheet 1. Scorecard
A1: Bijlage O Format KPI scorecard
A3: Europese aanbesteding Inhuur flexibele arbeidskrachten op basis van een uitzendovereenkomst ten behoeve van de Rijksschoonmaakorganisatie (IFA RSO 2026) Kenmerk IUC DJI/INEA/LS/2025
B4: KPI Scorecard inhuur flexibele arbeidskrachten
B5: Totaal overzicht
B6: 2026
B7: RSO Schoonmaakpersoneel 2026
B8: Rijksschoonmaakorganisatie
B9: n.v.t.
B10: KPI Indicatoren | C10: Leveranciers | D10: Q1 | F10: Q2 | H10: Q3 | J10: Q4 | L10: TOTAAL | N10: TARGET
B11: Uren | C11: {=IFERROR(INDEX('4. Waardetabel'!F:K,MATCH(1,('4. Waardetabel'!F:F=$B$7)*('4. Waardetabel'!G:G=$B$8)*('4. Waardetabel'!H:H=$B$9),0),4),"")} -> Leverancier 1 | D11: =SUMIFS('3. Data'!$G:$G,'3. Data'!$A:$A,$C11,'3. Data'!$B:$B,$B$7,'3. Data'!$C:$C,$B$6,'3. Data'!$D:$D,D$10,'3. Data'!$E:$E,$B$9,'3. Data'!$F:$F,$B$8) -> 0 | E11: =IF(D11=0,"",(D11/D$14)) | F11: =SUMIFS('3. Data'!$G:$G,'3. Data'!$A:$A,$C11,'3. Data'!$B:$B,$B$7,'3. Data'!$C:$C,$B$6,'3. Data'!$D:$D,F$10,'3. Data'!$E:$E,$B$9,'3. Data'!$F:$F,$B$8) -> 5000 | G11: =IF(F11=0,"",(F11/F$14)) -> 1 | H11: =SUMIFS('3. Data'!$G:$G,'3. Data'!$A:$A,$C11,'3. Data'!$B:$B,$B$7,'3. Data'!$C:$C,$B$6,'3. Data'!$D:$D,H$10,'3. Data'!$E:$E,$B$9,'3. Data'!$F:$F,$B$8) -> 3000 | I11: =IF(H11=0,"",(H11/H$14)) -> 1 | J11: =SUMIFS('3. Data'!$G:$G,'3. Data'!$A:$A,$C11,'3. Data'!$B:$B,$B$7,'3. Data'!$C:$C,$B$6,'3. Data'!$D:$D,J$10,'3. Data'!$E:$E,$B$9,'3. Data'!$F:$F,$B$8) -> 8000 | K11: =IF(J11=0,"",(J11/J$14)) -> 1 | L11: =IFERROR(SUM(D11+F11+H11+J11),0) -> 16000 | M11: =IF(L11=0,"",(L11/L$14)) -> 1
C12: {=IFERROR(INDEX('4. Waardetabel'!F:K,MATCH(1,('4. Waardetabel'!F:F=$B$7)*('4. Waardetabel'!G:G=$B$8)*('4. Waardetabel'!H:H=$B$9),0),5),"")} -> n.v.t. | D12: =SUMIFS('3. Data'!$G:$G,'3. Data'!$A:$A,$C12,'3. Data'!$B:$B,$B$7,'3. Data'!$C:$C,$B$6,'3. Data'!$D:$D,D$10,'3. Data'!$E:$E,$B$9,'3. Data'!$F:$F,$B$8) -> 0 | E12: =IF(D12=0,"",(D12/D$14)) | F12: =SUMIFS('3. Data'!$G:$G,'3. Data'!$A:$A,$C12,'3. Data'!$B:$B,$B$7,'3. Data'!$C:$C,$B$6,'3. Data'!$D:$D,F$10,'3. Data'!$E:$E,$B$9,'3. Data'!$F:$F,$B$8) -> 0 | G12: =IF(F12=0,"",(F12/F$14)) | H12: =SUMIFS('3. Data'!$G:$G,'3. Data'!$A:$A,$C12,'3. Data'!$B:$B,$B$7,'3. Data'!$C:$C,$B$6,'3. Data'!$D:$D,H$10,'3. Data'!$E:$E,$B$9,'3. Data'!$F:$F,$B$8) -> 0 | I12: =IF(H12=0,"",(H12/H$14)) | J12: =SUMIFS('3. Data'!$G:$G,'3. Data'!$A:$A,$C12,'3. Data'!$B:$B,$B$7,'3. Data'!$C:$C,$B$6,'3. Data'!$D:$D,J$10,'3. Data'!$E:$E,$B$9,'3. Data'!$F:$F,$B$8) -> 0 | K12: =IF(J12=0,"",(J12/J$14)) | L12: =IFERROR(SUM(D12+F12+H12+J12),0) -> 0 | M12: =IF(L12=0,"",(L12/L$14))
C13: {=IFERROR(INDEX('4. Waardetabel'!F:K,MATCH(1,('4. Waardetabel'!F:F=$B$7)*('4. Waardetabel'!G:G=$B$8)*('4. Waardetabel'!H:H=$B$9),0),6),"")} -> n.v.t. | D13: =SUMIFS('3. Data'!$G:$G,'3. Data'!$A:$A,$C13,'3. Data'!$B:$B,$B$7,'3. Data'!$C:$C,$B$6,'3. Data'!$D:$D,D$10,'3. Data'!$E:$E,$B$9,'3. Data'!$F:$F,$B$8) -> 0 | E13: =IF(D13=0,"",(D13/D$14)) | F13: =SUMIFS('3. Data'!$G:$G,'3. Data'!$A:$A,$C13,'3. Data'!$B:$B,$B$7,'3. Data'!$C:$C,$B$6,'3. Data'!$D:$D,F$10,'3. Data'!$E:$E,$B$9,'3. Data'!$F:$F,$B$8) -> 0 | G13: =IF(F13=0,"",(F13/F$14)) | H13: =SUMIFS('3. Data'!$G:$G,'3. Data'!$A:$A,$C13,'3. Data'!$B:$B,$B$7,'3. Data'!$C:$C,$B$6,'3. Data'!$D:$D,H$10,'3. Data'!$E:$E,$B$9,'3. Data'!$F:$F,$B$8) -> 0 | I13: =IF(H13=0,"",(H13/H$14)) | J13: =SUMIFS('3. Data'!$G:$G,'3. Data'!$A:$A,$C13,'3. Data'!$B:$B,$B$7,'3. Data'!$C:$C,$B$6,'3. Data'!$D:$D,J$10,'3. Data'!$E:$E,$B$9,'3. Data'!$F:$F,$B$8) -> 0 | K13: =IF(J13=0,"",(J13/J$14)) | L13: =IFERROR(SUM(D13+F13+H13+J13),0) -> 0 | M13: =IF(L13=0,"",(L13/L$14))
C14: Totaal | D14: =SUM(D11:D13) -> 0 | E14: =IF(D14=0,"",(SUM(E11:E13))) | F14: =SUM(F11:F13) -> 5000 | G14: =IF(F14=0,"",(SUM(G11:G13))) -> 1 | H14: =SUM(H11:H13) -> 3000 | I14: =IF(H14=0,"",(SUM(I11:I13))) -> 1 | J14: =SUM(J11:J13) -> 8000 | K14: =IF(J14=0,"",(SUM(K11:K13))) -> 1 | L14: =SUM(L11:L13) -> 16000 | M14: =IF(L14=0,"",(SUM(M11:M13))) -> 1
B15: Omzet uren | C15: {=IFERROR(INDEX('4. Waardetabel'!F:K,MATCH(1,('4. Waardetabel'!F:F=$B$7)*('4. Waardetabel'!G:G=$B$8)*('4. Waardetabel'!H:H=$B$9),0),4),"")} -> Leverancier 1 | D15: =SUMIFS('3. Data'!$H:$H,'3. Data'!$A:$A,$C15,'3. Data'!$B:$B,$B$7,'3. Data'!$C:$C,$B$6,'3. Data'!$D:$D,D$10,'3. Data'!$E:$E,$B$9,'3. Data'!$F:$F,$B$8) -> 0 | E15: =IF(D15=0,"",(D15/D$18)) | F15: =SUMIFS('3. Data'!$H:$H,'3. Data'!$A:$A,$C15,'3. Data'!$B:$B,$B$7,'3. Data'!$C:$C,$B$6,'3. Data'!$D:$D,F$10,'3. Data'!$E:$E,$B$9,'3. Data'!$F:$F,$B$8) -> 250000 | G15: =IF(F15=0,"",(F15/F$18)) -> 1 | H15: =SUMIFS('3. Data'!$H:$H,'3. Data'!$A:$A,$C15,'3. Data'!$B:$B,$B$7,'3. Data'!$C:$C,$B$6,'3. Data'!$D:$D,H$10,'3. Data'!$E:$E,$B$9,'3. Data'!$F:$F,$B$8) -> 150000 | I15: =IF(H15=0,"",(H15/H$18)) -> 1 | J15: =SUMIFS('3. Data'!$H:$H,'3. Data'!$A:$A,$C15,'3. Data'!$B:$B,$B$7,'3. Data'!$C:$C,$B$6,'3. Data'!$D:$D,J$10,'3. Data'!$E:$E,$B$9,'3. Data'!$F:$F,$B$8) -> 425000 | K15: =IF(J15=0,"",(J15/J$18)) -> 1 | L15: =IFERROR(SUM(D15+F15+H15+J15),0) -> 825000 | M15: =IF(L15=0,"",(L15/L$18)) -> 1
C16: {=IFERROR(INDEX('4. Waardetabel'!F:K,MATCH(1,('4. Waardetabel'!F:F=$B$7)*('4. Waardetabel'!G:G=$B$8)*('4. Waardetabel'!H:H=$B$9),0),5),"")} -> n.v.t. | D16: =SUMIFS('3. Data'!$H:$H,'3. Data'!$A:$A,$C16,'3. Data'!$B:$B,$B$7,'3. Data'!$C:$C,$B$6,'3. Data'!$D:$D,D$10,'3. Data'!$E:$E,$B$9,'3. Data'!$F:$F,$B$8) -> 0 | E16: =IF(D16=0,"",(D16/D$18)) | F16: =SUMIFS('3. Data'!$H:$H,'3. Data'!$A:$A,$C16,'3. Data'!$B:$B,$B$7,'3. Data'!$C:$C,$B$6,'3. Data'!$D:$D,F$10,'3. Data'!$E:$E,$B$9,'3. Data'!$F:$F,$B$8) -> 0 | G16: =IF(F16=0,"",(F16/F$18)) | H16: =SUMIFS('3. Data'!$H:$H,'3. Data'!$A:$A,$C16,'3. Data'!$B:$B,$B$7,'3. Data'!$C:$C,$B$6,'3. Data'!$D:$D,H$10,'3. Data'!$E:$E,$B$9,'3. Data'!$F:$F,$B$8) -> 0 | I16: =IF(H16=0,"",(H16/H$18)) | J16: =SUMIFS('3. Data'!$H:$H,'3. Data'!$A:$A,$C16,'3. Data'!$B:$B,$B$7,'3. Data'!$C:$C,$B$6,'3. Data'!$D:$D,J$10,'3. Data'!$E:$E,$B$9,'3. Data'!$F:$F,$B$8) -> 0 | K16: =IF(J16=0,"",(J16/J$18)) | L16: =IFERROR(SUM(D16+F16+H16+J16),0) -> 0 | M16: =IF(L16=0,"",(L16/L$18))
C17: {=IFERROR(INDEX('4. Waardetabel'!F:K,MATCH(1,('4. Waardetabel'!F:F=$B$7)*('4. Waardetabel'!G:G=$B$8)*('4. Waardetabel'!H:H=$B$9),0),6),"")} -> n.v.t. | D17: =SUMIFS('3. Data'!$H:$H,'3. Data'!$A:$A,$C17,'3. Data'!$B:$B,$B$7,'3. Data'!$C:$C,$B$6,'3. Data'!$D:$D,D$10,'3. Data'!$E:$E,$B$9,'3. Data'!$F:$F,$B$8) -> 0 | E17: =IF(D17=0,"",(D17/D$18)) | F17: =SUMIFS('3. Data'!$H:$H,'3. Data'!$A:$A,$C17,'3. Data'!$B:$B,$B$7,'3. Data'!$C:$C,$B$6,'3. Data'!$D:$D,F$10,'3. Data'!$E:$E,$B$9,'3. Data'!$F:$F,$B$8) -> 0 | G17: =IF(F17=0,"",(F17/F$18)) | H17: =SUMIFS('3. Data'!$H:$H,'3. Data'!$A:$A,$C17,'3. Data'!$B:$B,$B$7,'3. Data'!$C:$C,$B$6,'3. Data'!$D:$D,H$10,'3. Data'!$E:$E,$B$9,'3. Data'!$F:$F,$B$8) -> 0 | I17: =IF(H17=0,"",(H17/H$18)) | J17: =SUMIFS('3. Data'!$H:$H,'3. Data'!$A:$A,$C17,'3. Data'!$B:$B,$B$7,'3. Data'!$C:$C,$B$6,'3. Data'!$D:$D,J$10,'3. Data'!$E:$E,$B$9,'3. Data'!$F:$F,$B$8) -> 0 | K17: =IF(J17=0,"",(J17/J$18)) | L17: =IFERROR(SUM(D17+F17+H17+J17),0) -> 0 | M17: =IF(L17=0,"",(L17/L$18))
C18: Totaal | D18: =SUM(D15:D17) -> 0 | E18: =IF(D18=0,"",(SUM(E15:E17))) | F18: =SUM(F15:F17) -> 250000 | G18: =IF(F18=0,"",(SUM(G15:G17))) -> 1 | H18: =SUM(H15:H17) -> 150000 | I18: =IF(H18=0,"",(SUM(I15:I17))) -> 1 | J18: =SUM(J15:J17) -> 425000 | K18: =IF(J18=0,"",(SUM(K15:K17))) -> 1 | L18: =SUM(L15:L17) -> 825000 | M18: =IF(L18=0,"",(SUM(M15:M17))) -> 1
B19: Omzet vergoedingen | C19: {=IFERROR(INDEX('4. Waardetabel'!F:K,MATCH(1,('4. Waardetabel'!F:F=$B$7)*('4. Waardetabel'!G:G=$B$8)*('4. Waardetabel'!H:H=$B$9),0),4),"")} -> Leverancier 1 | D19: =SUMIFS('3. Data'!$I:$I,'3. Data'!$A:$A,$C19,'3. Data'!$B:$B,$B$7,'3. Data'!$C:$C,$B$6,'3. Data'!$D:$D,D$10,'3. Data'!$E:$E,$B$9,'3. Data'!$F:$F,$B$8) -> 0 | E19: =IF(D19=0,"",(D19/D$22)) | F19: =SUMIFS('3. Data'!$I:$I,'3. Data'!$A:$A,$C19,'3. Data'!$B:$B,$B$7,'3. Data'!$C:$C,$B$6,'3. Data'!$D:$D,F$10,'3. Data'!$E:$E,$B$9,'3. Data'!$F:$F,$B$8) -> 500.15 | G19: =IF(F19=0,"",(F19/F$22)) -> 1 | H19: =SUMIFS('3. Data'!$I:$I,'3. Data'!$A:$A,$C19,'3. Data'!$B:$B,$B$7,'3. Data'!$C:$C,$B$6,'3. Data'!$D:$D,H$10,'3. Data'!$E:$E,$B$9,'3. Data'!$F:$F,$B$8) -> 25014.3 | I19: =IF(H19=0,"",(H19/H$22)) -> 1 | J19: =SUMIFS('3. Data'!$I:$I,'3. Data'!$A:$A,$C19,'3. Data'!$B:$B,$B$7,'3. Data'!$C:$C,$B$6,'3. Data'!$D:$D,J$10,'3. Data'!$E:$E,$B$9,'3. Data'!$F:$F,$B$8) -> 14272.01 | K19: =IF(J19=0,"",(J19/J$22)) -> 1 | L19: =IFERROR(SUM(D19+F19+H19+J19),0) -> 39786.46 | M19: =IF(L19=0,"",(L19/L$22)) -> 1
C20: {=IFERROR(INDEX('4. Waardetabel'!F:K,MATCH(1,('4. Waardetabel'!F:F=$B$7)*('4. Waardetabel'!G:G=$B$8)*('4. Waardetabel'!H:H=$B$9),0),5),"")} -> n.v.t. | D20: =SUMIFS('3. Data'!$I:$I,'3. Data'!$A:$A,$C20,'3. Data'!$B:$B,$B$7,'3. Data'!$C:$C,$B$6,'3. Data'!$D:$D,D$10,'3. Data'!$E:$E,$B$9,'3. Data'!$F:$F,$B$8) -> 0 | E20: =IF(D20=0,"",(D20/D$22)) | F20: =SUMIFS('3. Data'!$I:$I,'3. Data'!$A:$A,$C20,'3. Data'!$B:$B,$B$7,'3. Data'!$C:$C,$B$6,'3. Data'!$D:$D,F$10,'3. Data'!$E:$E,$B$9,'3. Data'!$F:$F,$B$8) -> 0 | G20: =IF(F20=0,"",(F20/F$22)) | H20: =SUMIFS('3. Data'!$I:$I,'3. Data'!$A:$A,$C20,'3. Data'!$B:$B,$B$7,'3. Data'!$C:$C,$B$6,'3. Data'!$D:$D,H$10,'3. Data'!$E:$E,$B$9,'3. Data'!$F:$F,$B$8) -> 0 | I20: =IF(H20=0,"",(H20/H$22)) | J20: =SUMIFS('3. Data'!$I:$I,'3. Data'!$A:$A,$C20,'3. Data'!$B:$B,$B$7,'3. Data'!$C:$C,$B$6,'3. Data'!$D:$D,J$10,'3. Data'!$E:$E,$B$9,'3. Data'!$F:$F,$B$8) -> 0 | K20: =IF(J20=0,"",(J20/J$22)) | L20: =IFERROR(SUM(D20+F20+H20+J20),0) -> 0 | M20: =IF(L20=0,"",(L20/L$22))
C21: {=IFERROR(INDEX('4. Waardetabel'!F:K,MATCH(1,('4. Waardetabel'!F:F=$B$7)*('4. Waardetabel'!G:G=$B$8)*('4. Waardetabel'!H:H=$B$9),0),6),"")} -> n.v.t. | D21: =SUMIFS('3. Data'!$I:$I,'3. Data'!$A:$A,$C21,'3. Data'!$B:$B,$B$7,'3. Data'!$C:$C,$B$6,'3. Data'!$D:$D,D$10,'3. Data'!$E:$E,$B$9,'3. Data'!$F:$F,$B$8) -> 0 | E21: =IF(D21=0,"",(D21/D$22)) | F21: =SUMIFS('3. Data'!$I:$I,'3. Data'!$A:$A,$C21,'3. Data'!$B:$B,$B$7,'3. Data'!$C:$C,$B$6,'3. Data'!$D:$D,F$10,'3. Data'!$E:$E,$B$9,'3. Data'!$F:$F,$B$8) -> 0 | G21: =IF(F21=0,"",(F21/F$22)) | H21: =SUMIFS('3. Data'!$I:$I,'3. Data'!$A:$A,$C21,'3. Data'!$B:$B,$B$7,'3. Data'!$C:$C,$B$6,'3. Data'!$D:$D,H$10,'3. Data'!$E:$E,$B$9,'3. Data'!$F:$F,$B$8) -> 0 | I21: =IF(H21=0,"",(H21/H$22)) | J21: =SUMIFS('3. Data'!$I:$I,'3. Data'!$A:$A,$C21,'3. Data'!$B:$B,$B$7,'3. Data'!$C:$C,$B$6,'3. Data'!$D:$D,J$10,'3. Data'!$E:$E,$B$9,'3. Data'!$F:$F,$B$8) -> 0 | K21: =IF(J21=0,"",(J21/J$22)) | L21: =IFERROR(SUM(D21+F21+H21+J21),0) -> 0 | M21: =IF(L21=0,"",(L21/L$22))
C22: Totaal | D22: =SUM(D19:D21) -> 0 | E22: =IF(D22=0,"",(SUM(E19:E21))) | F22: =SUM(F19:F21) -> 500.15 | G22: =IF(F22=0,"",(SUM(G19:G21))) -> 1 | H22: =SUM(H19:H21) -> 25014.3 | I22: =IF(H22=0,"",(SUM(I19:I21))) -> 1 | J22: =SUM(J19:J21) -> 14272.01 | K22: =IF(J22=0,"",(SUM(K19:K21))) -> 1 | L22: =SUM(L19:L21) -> 39786.46 | M22: =IF(L22=0,"",(SUM(M19:M21))) -> 1
B23: Factuurbedrag totaal | C23: {=IFERROR(INDEX('4. Waardetabel'!F:K,MATCH(1,('4. Waardetabel'!F:F=$B$7)*('4. Waardetabel'!G:G=$B$8)*('4. Waardetabel'!H:H=$B$9),0),4),"")} -> Leverancier 1 | D23: =SUMIFS('3. Data'!$J:$J,'3. Data'!$A:$A,$C23,'3. Data'!$B:$B,$B$7,'3. Data'!$C:$C,$B$6,'3. Data'!$D:$D,D$10,'3. Data'!$E:$E,$B$9,'3. Data'!$F:$F,$B$8) -> 0 | E23: =IF(D23=0,"",(D23/D$26)) | F23: =SUMIFS('3. Data'!$J:$J,'3. Data'!$A:$A,$C23,'3. Data'!$B:$B,$B$7,'3. Data'!$C:$C,$B$6,'3. Data'!$D:$D,F$10,'3. Data'!$E:$E,$B$9,'3. Data'!$F:$F,$B$8) -> 250500.15 | G23: =IF(F23=0,"",(F23/F$26)) -> 1 | H23: =SUMIFS('3. Data'!$J:$J,'3. Data'!$A:$A,$C23,'3. Data'!$B:$B,$B$7,'3. Data'!$C:$C,$B$6,'3. Data'!$D:$D,H$10,'3. Data'!$E:$E,$B$9,'3. Data'!$F:$F,$B$8) -> 175014.3 | I23: =IF(H23=0,"",(H23/H$26)) -> 1 | J23: =SUMIFS('3. Data'!$J:$J,'3. Data'!$A:$A,$C23,'3. Data'!$B:$B,$B$7,'3. Data'!$C:$C,$B$6,'3. Data'!$D:$D,J$10,'3. Data'!$E:$E,$B$9,'3. Data'!$F:$F,$B$8) -> 439272.01 | K23: =IF(J23=0,"",(J23/J$26)) -> 1 | L23: =IFERROR(SUM(D23+F23+H23+J23),0) -> 864786.46 | M23: =IF(L23=0,"",(L23/L$26)) -> 1
C24: {=IFERROR(INDEX('4. Waardetabel'!F:K,MATCH(1,('4. Waardetabel'!F:F=$B$7)*('4. Waardetabel'!G:G=$B$8)*('4. Waardetabel'!H:H=$B$9),0),5),"")} -> n.v.t. | D24: =SUMIFS('3. Data'!$J:$J,'3. Data'!$A:$A,$C24,'3. Data'!$B:$B,$B$7,'3. Data'!$C:$C,$B$6,'3. Data'!$D:$D,D$10,'3. Data'!$E:$E,$B$9,'3. Data'!$F:$F,$B$8) -> 0 | E24: =IF(D24=0,"",(D24/D$26)) | F24: =SUMIFS('3. Data'!$J:$J,'3. Data'!$A:$A,$C24,'3. Data'!$B:$B,$B$7,'3. Data'!$C:$C,$B$6,'3. Data'!$D:$D,F$10,'3. Data'!$E:$E,$B$9,'3. Data'!$F:$F,$B$8) -> 0 | G24: =IF(F24=0,"",(F24/F$26)) | H24: =SUMIFS('3. Data'!$J:$J,'3. Data'!$A:$A,$C24,'3. Data'!$B:$B,$B$7,'3. Data'!$C:$C,$B$6,'3. Data'!$D:$D,H$10,'3. Data'!$E:$E,$B$9,'3. Data'!$F:$F,$B$8) -> 0 | I24: =IF(H24=0,"",(H24/H$26)) | J24: =SUMIFS('3. Data'!$J:$J,'3. Data'!$A:$A,$C24,'3. Data'!$B:$B,$B$7,'3. Data'!$C:$C,$B$6,'3. Data'!$D:$D,J$10,'3. Data'!$E:$E,$B$9,'3. Data'!$F:$F,$B$8) -> 0 | K24: =IF(J24=0,"",(J24/J$26)) | L24: =IFERROR(SUM(D24+F24+H24+J24),0) -> 0 | M24: =IF(L24=0,"",(L24/L$26))
C25: {=IFERROR(INDEX('4. Waardetabel'!F:K,MATCH(1,('4. Waardetabel'!F:F=$B$7)*('4. Waardetabel'!G:G=$B$8)*('4. Waardetabel'!H:H=$B$9),0),6),"")} -> n.v.t. | D25: =SUMIFS('3. Data'!$J:$J,'3. Data'!$A:$A,$C25,'3. Data'!$B:$B,$B$7,'3. Data'!$C:$C,$B$6,'3. Data'!$D:$D,D$10,'3. Data'!$E:$E,$B$9,'3. Data'!$F:$F,$B$8) -> 0 | E25: =IF(D25=0,"",(D25/D$26)) | F25: =SUMIFS('3. Data'!$J:$J,'3. Data'!$A:$A,$C25,'3. Data'!$B:$B,$B$7,'3. Data'!$C:$C,$B$6,'3. Data'!$D:$D,F$10,'3. Data'!$E:$E,$B$9,'3. Data'!$F:$F,$B$8) -> 0 | G25: =IF(F25=0,"",(F25/F$26)) | H25: =SUMIFS('3. Data'!$J:$J,'3. Data'!$A:$A,$C25,'3. Data'!$B:$B,$B$7,'3. Data'!$C:$C,$B$6,'3. Data'!$D:$D,H$10,'3. Data'!$E:$E,$B$9,'3. Data'!$F:$F,$B$8) -> 0 | I25: =IF(H25=0,"",(H25/H$26)) | J25: =SUMIFS('3. Data'!$J:$J,'3. Data'!$A:$A,$C25,'3. Data'!$B:$B,$B$7,'3. Data'!$C:$C,$B$6,'3. Data'!$D:$D,J$10,'3. Data'!$E:$E,$B$9,'3. Data'!$F:$F,$B$8) -> 0 | K25: =IF(J25=0,"",(J25/J$26)) | L25: =IFERROR(SUM(D25+F25+H25+J25),0) -> 0 | M25: =IF(L25=0,"",(L25/L$26))
C26: Totaal | D26: =SUM(D23:D25) -> 0 | E26: =IF(D26=0,"",(SUM(E23:E25))) | F26: =SUM(F23:F25) -> 250500.15 | G26: =IF(F26=0,"",(SUM(G23:G25))) -> 1 | H26: =SUM(H23:H25) -> 175014.3 | I26: =IF(H26=0,"",(SUM(I23:I25))) -> 1 | J26: =SUM(J23:J25) -> 439272.01 | K26: =IF(J26=0,"",(SUM(K23:K25))) -> 1 | L26: =SUM(L23:L25) -> 864786.46 | M26: =IF(L26=0,"",(SUM(M23:M25))) -> 1
B27: Ziekte % | C27: {=IFERROR(INDEX('4. Waardetabel'!F:K,MATCH(1,('4. Waardetabel'!F:F=$B$7)*('4. Waardetabel'!G:G=$B$8)*('4. Waardetabel'!H:H=$B$9),0),4),"")} -> Leverancier 1 | D27: =IFERROR(SUM(SUMIFS('3. Data'!$K:$K,'3. Data'!$A:$A,$C27,'3. Data'!$B:$B,$B$7,'3. Data'!$C:$C,$B$6,'3. Data'!$D:$D,D$10,'3. Data'!$E:$E,$B$9,'3. Data'!F:F,$B$8)/D11),"") | F27: =IFERROR(SUM(SUMIFS('3. Data'!$K:$K,'3. Data'!$A:$A,$C27,'3. Data'!$B:$B,$B$7,'3. Data'!$C:$C,$B$6,'3. Data'!$D:$D,F$10,'3. Data'!$E:$E,$B$9,'3. Data'!F:F,$B$8)/F11),"") -> 0.0026 | H27: =IFERROR(SUM(SUMIFS('3. Data'!$K:$K,'3. Data'!$A:$A,$C27,'3. Data'!$B:$B,$B$7,'3. Data'!$C:$C,$B$6,'3. Data'!$D:$D,H$10,'3. Data'!$E:$E,$B$9,'3. Data'!F:F,$B$8)/H11),"") -> 0.0033333333 | J27: =IFERROR(SUM(SUMIFS('3. Data'!$K:$K,'3. Data'!$A:$A,$C27,'3. Data'!$B:$B,$B$7,'3. Data'!$C:$C,$B$6,'3. Data'!$D:$D,J$10,'3. Data'!$E:$E,$B$9,'3. Data'!F:F,$B$8)/J11),"") -> 0.005125 | L27: =IFERROR(SUM(SUMIFS('3. Data'!$K:$K,'3. Data'!$A:$A,$C27,'3. Data'!$B:$B,$B$7,'3. Data'!$C:$C,$B$6,'3. Data'!$E:$E,$B$9,'3. Data'!$F:$F,$B$8)/L11),0) -> 0.004
C28: {=IFERROR(INDEX('4. Waardetabel'!F:K,MATCH(1,('4. Waardetabel'!F:F=$B$7)*('4. Waardetabel'!G:G=$B$8)*('4. Waardetabel'!H:H=$B$9),0),5),"")} -> n.v.t. | L28: =IFERROR(SUM(SUMIFS('3. Data'!$K:$K,'3. Data'!$A:$A,$C28,'3. Data'!$B:$B,$B$7,'3. Data'!$C:$C,$B$6,'3. Data'!$E:$E,$B$9,'3. Data'!$F:$F,$B$8)/L12),0) -> 0
C29: {=IFERROR(INDEX('4. Waardetabel'!F:K,MATCH(1,('4. Waardetabel'!F:F=$B$7)*('4. Waardetabel'!G:G=$B$8)*('4. Waardetabel'!H:H=$B$9),0),6),"")} -> n.v.t. | L29: =IFERROR(SUM(SUMIFS('3. Data'!$K:$K,'3. Data'!$A:$A,$C29,'3. Data'!$B:$B,$B$7,'3. Data'!$C:$C,$B$6,'3. Data'!$E:$E,$B$9,'3. Data'!$F:$F,$B$8)/L13),0) -> 0
C30: Totaal | D30: =IFERROR(SUM((SUMIFS('3. Data'!$K:$K,'3. Data'!$A:$A,$C27,'3. Data'!$B:$B,$B$7,'3. Data'!$C:$C,$B$6,'3. Data'!$D:$D,D$10,'3. Data'!$E:$E,$B$9,'3. Data'!$F:$F,$B$8)+SUMIFS('3. Data'!$K:$K,'3. Data'!$A:$A,$C28,'3. Data'!$B:$B,$B$7,'3. Data'!$C:$C,$B$6,'3. Data'!$D:$D,D$10,'3. Data'!$E:$E,$B$9,'3. Data'!$F:$F,$B$8)+SUMIFS('3. Data'!$K:$K,'3. Data'!$A:$A,$C29,'3. Data'!$B:$B,$B$7,'3. Data'!$C:$C,$B$6,'3. Data'!$D:$D,D$10,'3. Data'!$E:$E,$B$9,'3. Data'!$F:$F,$B$8))/D14),"") | F30: =IFERROR(SUM((SUMIFS('3. Data'!$K:$K,'3. Data'!$A:$A,$C27,'3. Data'!$B:$B,$B$7,'3. Data'!$C:$C,$B$6,'3. Data'!$D:$D,F$10,'3. Data'!$E:$E,$B$9,'3. Data'!$F:$F,$B$8)+SUMIFS('3. Data'!$K:$K,'3. Data'!$A:$A,$C28,'3. Data'!$B:$B,$B$7,'3. Data'!$C:$C,$B$6,'3. Data'!$D:$D,F$10,'3. Data'!$E:$E,$B$9,'3. Data'!$F:$F,$B$8)+SUMIFS('3. Data'!$K:$K,'3. Data'!$A:$A,$C29,'3. Data'!$B:$B,$B$7,'3. Data'!$C:$C,$B$6,'3. Data'!$D:$D,F$10,'3. Data'!$E:$E,$B$9,'3. Data'!$F:$F,$B$8))/F14),"") -> 0.0026 | H30: =IFERROR(SUM((SUMIFS('3. Data'!$K:$K,'3. Data'!$A:$A,$C27,'3. Data'!$B:$B,$B$7,'3. Data'!$C:$C,$B$6,'3. Data'!$D:$D,H$10,'3. Data'!$E:$E,$B$9,'3. Data'!$F:$F,$B$8)+SUMIFS('3. Data'!$K:$K,'3. Data'!$A:$A,$C28,'3. Data'!$B:$B,$B$7,'3. Data'!$C:$C,$B$6,'3. Data'!$D:$D,H$10,'3. Data'!$E:$E,$B$9,'3. Data'!$F:$F,$B$8)+SUMIFS('3. Data'!$K:$K,'3. Data'!$A:$A,$C29,'3. Data'!$B:$B,$B$7,'3. Data'!$C:$C,$B$6,'3. Data'!$D:$D,H$10,'3. Data'!$E:$E,$B$9,'3. Data'!$F:$F,$B$8))/H14),"") -> 0.0033333333 | J30: =IFERROR(SUM((SUMIFS('3. Data'!$K:$K,'3. Data'!$A:$A,$C27,'3. Data'!$B:$B,$B$7,'3. Data'!$C:$C,$B$6,'3. Data'!$D:$D,J$10,'3. Data'!$E:$E,$B$9,'3. Data'!$F:$F,$B$8)+SUMIFS('3. Data'!$K:$K,'3. Data'!$A:$A,$C28,'3. Data'!$B:$B,$B$7,'3. Data'!$C:$C,$B$6,'3. Data'!$D:$D,J$10,'3. Data'!$E:$E,$B$9,'3. Data'!$F:$F,$B$8)+SUMIFS('3. Data'!$K:$K,'3. Data'!$A:$A,$C29,'3. Data'!$B:$B,$B$7,'3. Data'!$C:$C,$B$6,'3. Data'!$D:$D,J$10,'3. Data'!$E:$E,$B$9,'3. Data'!$F:$F,$B$8))/J14),"") -> 0.005125 | L30: =IFERROR(SUM((SUMIFS('3. Data'!$K:$K,'3. Data'!$A:$A,$C27,'3. Data'!$B:$B,$B$7,'3. Data'!$E:$E,$B$9,'3. Data'!$F:$F,$B$8)+SUMIFS('3. Data'!$K:$K,'3. Data'!$A:$A,$C28,'3. Data'!$B:$B,$B$7,'3. Data'!$E:$E,$B$9,'3. Data'!$F:$F,$B$8)+SUMIFS('3. Data'!$K:$K,'3. Data'!$A:$A,$C29,'3. Data'!$B:$B,$B$7,'3. Data'!$E:$E,$B$9,'3. Data'!$F:$F,$B$8))/L14),"") -> 0.004
B31: Aangevraagde Diensten (bruto) | C31: {=IFERROR(INDEX('4. Waardetabel'!F:K,MATCH(1,('4. Waardetabel'!F:F=$B$7)*('4. Waardetabel'!G:G=$B$8)*('4. Waardetabel'!H:H=$B$9),0),4),"")} -> Leverancier 1 | D31: =SUMIFS('3. Data'!$L:$L,'3. Data'!$A:$A,$C31,'3. Data'!$B:$B,$B$7,'3. Data'!$C:$C,$B$6,'3. Data'!$D:$D,D$10,'3. Data'!$E:$E,$B$9,'3. Data'!$F:$F,$B$8) -> 0 | F31: =SUMIFS('3. Data'!$L:$L,'3. Data'!$A:$A,$C31,'3. Data'!$B:$B,$B$7,'3. Data'!$C:$C,$B$6,'3. Data'!$D:$D,F$10,'3. Data'!$E:$E,$B$9,'3. Data'!$F:$F,$B$8) -> 1600 | H31: =SUMIFS('3. Data'!$L:$L,'3. Data'!$A:$A,$C31,'3. Data'!$B:$B,$B$7,'3. Data'!$C:$C,$B$6,'3. Data'!$D:$D,H$10,'3. Data'!$E:$E,$B$9,'3. Data'!$F:$F,$B$8) -> 2000 | J31: =SUMIFS('3. Data'!$L:$L,'3. Data'!$A:$A,$C31,'3. Data'!$B:$B,$B$7,'3. Data'!$C:$C,$B$6,'3. Data'!$D:$D,J$10,'3. Data'!$E:$E,$B$9,'3. Data'!$F:$F,$B$8) -> 2400 | L31: =IFERROR(SUM(D31+F31+H31+J31),0) -> 6000
C32: {=IFERROR(INDEX('4. Waardetabel'!F:K,MATCH(1,('4. Waardetabel'!F:F=$B$7)*('4. Waardetabel'!G:G=$B$8)*('4. Waardetabel'!H:H=$B$9),0),5),"")} -> n.v.t. | L32: =IFERROR(SUM(D32+F32+H32+J32),0) -> 0
C33: {=IFERROR(INDEX('4. Waardetabel'!F:K,MATCH(1,('4. Waardetabel'!F:F=$B$7)*('4. Waardetabel'!G:G=$B$8)*('4. Waardetabel'!H:H=$B$9),0),6),"")} -> n.v.t. | L33: =IFERROR(SUM(D33+F33+H33+J33),0) -> 0
C34: Totaal | D34: =(MAX(D31:D33)) -> 0 | F34: =(MAX(F31:F33)) -> 1600 | H34: =(MAX(H31:H33)) -> 2000 | J34: =(MAX(J31:J33)) -> 2400 | L34: =(MAX(L31:L33)) -> 6000
B35: Ingetrokken Diensten | C35: {=IFERROR(INDEX('4. Waardetabel'!F:K,MATCH(1,('4. Waardetabel'!F:F=$B$7)*('4. Waardetabel'!G:G=$B$8)*('4. Waardetabel'!H:H=$B$9),0),4),"")} -> Leverancier 1 | D35: =SUMIFS('3. Data'!$M:$M,'3. Data'!$A:$A,$C35,'3. Data'!$B:$B,$B$7,'3. Data'!$C:$C,$B$6,'3. Data'!$D:$D,D$10,'3. Data'!$E:$E,$B$9,'3. Data'!$F:$F,$B$8) -> 0 | F35: =SUMIFS('3. Data'!$M:$M,'3. Data'!$A:$A,$C35,'3. Data'!$B:$B,$B$7,'3. Data'!$C:$C,$B$6,'3. Data'!$D:$D,F$10,'3. Data'!$E:$E,$B$9,'3. Data'!$F:$F,$B$8) -> 50 | H35: =SUMIFS('3. Data'!$M:$M,'3. Data'!$A:$A,$C35,'3. Data'!$B:$B,$B$7,'3. Data'!$C:$C,$B$6,'3. Data'!$D:$D,H$10,'3. Data'!$E:$E,$B$9,'3. Data'!$F:$F,$B$8) -> 65 | J35: =SUMIFS('3. Data'!$M:$M,'3. Data'!$A:$A,$C35,'3. Data'!$B:$B,$B$7,'3. Data'!$C:$C,$B$6,'3. Data'!$D:$D,J$10,'3. Data'!$E:$E,$B$9,'3. Data'!$F:$F,$B$8) -> 90 | L35: =IFERROR(SUM(D35+F35+H35+J35),0) -> 205
C36: {=IFERROR(INDEX('4. Waardetabel'!F:K,MATCH(1,('4. Waardetabel'!F:F=$B$7)*('4. Waardetabel'!G:G=$B$8)*('4. Waardetabel'!H:H=$B$9),0),5),"")} -> n.v.t.
C37: {=IFERROR(INDEX('4. Waardetabel'!F:K,MATCH(1,('4. Waardetabel'!F:F=$B$7)*('4. Waardetabel'!G:G=$B$8)*('4. Waardetabel'!H:H=$B$9),0),6),"")} -> n.v.t.
C38: Totaal | D38: =(MAX(D35:D37)) -> 0 | F38: =(MAX(F35:F37)) -> 50 | H38: =(MAX(H35:H37)) -> 65 | J38: =(MAX(J35:J37)) -> 90 | L38: =(MAX(L35:L37)) -> 205
B39: Aangevraade Diensten (netto) | C39: {=IFERROR(INDEX('4. Waardetabel'!F:K,MATCH(1,('4. Waardetabel'!F:F=$B$7)*('4. Waardetabel'!G:G=$B$8)*('4. Waardetabel'!H:H=$B$9),0),4),"")} -> Leverancier 1 | D39: =SUMIFS('3. Data'!$N:$N,'3. Data'!$A:$A,$C39,'3. Data'!$B:$B,$B$7,'3. Data'!$C:$C,$B$6,'3. Data'!$D:$D,D$10,'3. Data'!$E:$E,$B$9,'3. Data'!$F:$F,$B$8) -> 0 | F39: =SUMIFS('3. Data'!$N:$N,'3. Data'!$A:$A,$C39,'3. Data'!$B:$B,$B$7,'3. Data'!$C:$C,$B$6,'3. Data'!$D:$D,F$10,'3. Data'!$E:$E,$B$9,'3. Data'!$F:$F,$B$8) -> 1550 | H39: =SUMIFS('3. Data'!$N:$N,'3. Data'!$A:$A,$C39,'3. Data'!$B:$B,$B$7,'3. Data'!$C:$C,$B$6,'3. Data'!$D:$D,H$10,'3. Data'!$E:$E,$B$9,'3. Data'!$F:$F,$B$8) -> 1935 | J39: =SUMIFS('3. Data'!$N:$N,'3. Data'!$A:$A,$C39,'3. Data'!$B:$B,$B$7,'3. Data'!$C:$C,$B$6,'3. Data'!$D:$D,J$10,'3. Data'!$E:$E,$B$9,'3. Data'!$F:$F,$B$8) -> 2310 | L39: =IFERROR(SUM(D39+F39+H39+J39),0) -> 5795
C40: {=IFERROR(INDEX('4. Waardetabel'!F:K,MATCH(1,('4. Waardetabel'!F:F=$B$7)*('4. Waardetabel'!G:G=$B$8)*('4. Waardetabel'!H:H=$B$9),0),5),"")} -> n.v.t. | L40: =IFERROR(SUM(D40+F40+H40+J40),0) -> 0
C41: {=IFERROR(INDEX('4. Waardetabel'!F:K,MATCH(1,('4. Waardetabel'!F:F=$B$7)*('4. Waardetabel'!G:G=$B$8)*('4. Waardetabel'!H:H=$B$9),0),6),"")} -> n.v.t. | L41: =IFERROR(SUM(D41+F41+H41+J41),0) -> 0
...

Sheet 2. Definities
A1: Bijlage O Format KPI scorecard
A3: Europese aanbesteding Inhuur flexibele arbeidskrachten op basis van een uitzendovereenkomst ten behoeve van de Rijksschoonmaakorganisatie (IFA RSO 2026) Kenmerk IUC DJI/INEA/LS/2025
B4: Rapportdefinities Scorecard
B5: Overzicht van alle afgesproken KPI's verdeeld naar de diverse onderdelen
B6: Definitie | C6: Omschrijving | D6: Voorbeeld/toelichting | E6: Methodiek opleveren (dataregel)
B7: Uren | C7: Het totaal aantal in het desbetreffende kwartaal gefactureerde uren. Dit betreft normale uren, overwerk uren en ploeguren (mits de ploeguren niet al zijn meegeteld in de normale uren). | D7: Stel een flexkracht heeft in een week in totaal voor 8 uur recht op een ploegentoeslag van 25%. Het is dan afhankelijk van hoe je dit in het verloningssysteem verwerkt of je dit uur wel of niet mee telt: Voorbeeld 1: 8 x Normaal uur 100%+ 8 x Ploegentoeslag 25% Dan dien je alleen het normale uur en niet de ploegentoeslaguren mee te tellen; Voorbeeld 2: 8 x 125% ploegentoeslag Dan dien je de ploegentoeslaguren wel mee te tellen. | E7: Zie voorbeelden
B8: Omzet uren | C8: Het omzettotaal van het in het desbetreffende kwartaal totaal aantal gefactureerde uren, exclusief btw.
B9: Omzet vergoedingen | C9: Het omzettotaal van het totaal aantal gefactureerde vergoedingen in het desbetreffende kwartaal, exclusief btw. | D9: Toeslag onregelmatige dienst (TOD), terugwerkende kracht verrekeningen (TWK), dienstreizen etc.
B10: Factuurbedrag totaal | C10: De som van omzet uren en omzet vergoedingen, excl. btw.
B11: Ziekte% | C11: Het ziektepercentage in het desbetreffende kwartaal. Let op: dit wordt aangeleverd o.b.v. het totaal aantal ziekte uren dat verwerkt is in desbetreffende kwartaal. | D11: Stel je hebt 2 medewerkers, waarvan ieder normaliter 32 uur per week werken. 1 van de medewerkers is de hele week ziek (32 uur) en de andere werkt de volle 32 uur. Wanneer je de ziekte uren zou delen door de gefactureerde uren (32/32) kom je uit op 100% ziekte. Dat is niet correct. De berekening is als volgt: 32 ziekteuren / (32 gefactureerde uren + 32 ziekteuren) = 50% ziekte | E11: Het totaal aantal ziekte uren gedeeld door het totaal aantal gefactureerde uren + het aantal ziekteuren in het desbetreffende kwartaal.
B12: Aangevraagde Diensten (Bruto) | C12: Het totaal aantal aangevraagde Diensten in het desbetreffende kwartaal.
B13: Ingetrokken Diensten | C13: Het totaal aantal door Deelnemer aangevraagde en vervolgens ingetrokken Diensten in het desbetreffende kwartaal. | D13: Voorbeeld: Er wordt 1 aanvraag voor 10 Diensten ingetrokken, dan dient men dit als 10 ingetrokken Diensten te tellen. Indien men de aanvraag aanpast naar bijvoorbeeld 8 Diensten, dan worden er 2 Diensten ingetrokken. | E13: Het totaal aantal ingetrokken Diensten.
B14: Aangevraagde Diensten (Netto) | C14: Het verschil van het totaal aantal bruto aangevraagde Diensten minus het totaal aantal ingetrokken regulier Diensten; in het desbetreffende kwartaal. | D14: De KPI scores worden berekend over het netto aantal Diensten. | E14: Het verschil van het bruto aantal bruto aangevraagde Diensten minus het totaalaantaal ingetrokken Diensten in het desbetreffende kwartaal.
B15: Opkomst Diensten | C15: Het totaal aantal door Opdrachtnemer geleverde aangevraagde Diensten in het desbetreffende kwartaal. | E15: Let op: je levert alleen het totaal aantal geleverde aangevraagde Diensten op, dus niet het percentage!
B16: KPI Opkomstpercentage | C16: Het totaal behaalde Opkomstpercentage in het desbetreffende kwartaal. Dit percentage geeft de verhouding weer tussen: a) het netto aantal uitgevraagde Diensten en b) het aantal geleverde Diensten. | D16: Voorbeeld: Er worden 750 Diensten uitgevraagd. Daarvan worden er 20 ingetrokken, dan is er een netto aantal uit te voeren Diensten van 730. Daarvan worden 700 Diensten geleverd, dan is de score 96%. Er is sprake van een niet-levering wanneer Opdrachtnemer geen Diensten aan kan bieden binnen de gestelde opleveringsquote/termijn (een ingetrokken dienst telt niet mee voor de KPI Opkomstpercentage). Zie onderstaande lijst 'motiveringen' die behoren bij een no-show: Oorzaken no show: 1) Te specifieke eisen om kandidaat binnen overeengekomen opleveringstermijn in te zetten; 2) Geen geschikte Uitzendkracht gekoppeld aan de dienst binnen overeengekomen termijn; 3) Uitzendkracht komt niet opdagen bij de dienst; 4) Niet kunnen tonen van een VOG en/of geldig identiteitsbewijs (zie eis 2.6 Programma van Eisen); 5) Overig. | E16: Inclusief een motivering. De motivering wordt aangegeven in tab 5. Aanvullende informatie.

Sheet 3. Data
A1: Bijlage O Format KPI scorecard
A3: Europese aanbesteding Inhuur flexibele arbeidskrachten op basis van een uitzendovereenkomst ten behoeve van de Rijksschoonmaakorganisatie (IFA RSO 2026) Kenmerk IUC DJI/INEA/LS/2025
A4: Leverancier | B4: Raamovereenkomst | C4: Jaar | D4: Kwartaal | E4: Perceel | F4: Deelnemer | G4: Uren | H4: Omzet uren | I4: Omzet vergoeding | J4: Factuurbedrag totaal | K4: Ziekteuren | L4: Aangevraagde Diensten (Bruto) | M4: Ingetrokken Diensten | N4: Aangevraagde Diensten (Netto) | O4: Opkomst Diensten | P4: Aantal niet-geleverde Diensten
A5: Leverancier 1 | B5: RSO Schoonmaakpersoneel 2026 | C5: 2026 | D5: Q2 | E5: n.v.t. | F5: Rijksschoonmaakorganisatie | G5: 5000 | H5: 250000 | I5: 500.15 | J5: 250500.15 | K5: 13 | L5: 1600 | M5: 50 | N5: 1550 | O5: 1520 | P5: 30
A6: Leverancier 1 | B6: RSO Schoonmaakpersoneel 2026 | C6: 2026 | D6: Q3 | E6: n.v.t. | F6: Rijksschoonmaakorganisatie | G6: 3000 | H6: 150000 | I6: 25014.3 | J6: 175014.3 | K6: 10 | L6: 2000 | M6: 65 | N6: 1935 | O6: 1899 | P6: 36
A7: Leverancier 1 | B7: RSO Schoonmaakpersoneel 2026 | C7: 2026 | D7: Q4 | E7: n.v.t. | F7: Rijksschoonmaakorganisatie | G7: 8000 | H7: 425000 | I7: 14272.01 | J7: 439272.01 | K7: 41 | L7: 2400 | M7: 90 | N7: 2310 | O7: 2297 | P7: 13
A14: OP DE INGEVULDE DATA DIENT VÓÓR OPLEVERING ALTIJD EERST EEN ZORGVULDIGHEIDSCHECK GEDAAN TE WORDEN.
A15: DIT DOE JE DOOR DE DATA EXACT IN TE VULLEN VOLGEND DE BIJBEHORENDE DEFINITIES/METHODIEK (TABBLAD 2).
A16: TEST HET TABBLAD 'SCORECARD' (TABBLAD 1) ALTIJD EERST ALVORENS DE DATAREGEL AAN CATEGORIEMANAGEMENT WORDT OPGELEVERD.
A17: LET OP: DE DATA DIENT ALTIJD EXACT OVEREEN TE KOMEN MET DE WAARDETABEL (TABBLAD 4)
A19: Goed voorbeeld: | C19: Fout voorbeeld: | F19: Conclusie:
A20: Perceel 1 | C20: 1 | F20: Perceel' ontbreekt

Sheet 4. Waardetabel
A1: Bijlage O Format KPI scorecard
A3: Europese aanbesteding Inhuur flexibele arbeidskrachten op basis van een uitzendovereenkomst ten behoeve van de Rijksschoonmaakorganisatie (IFA RSO 2026) Kenmerk IUC DJI/INEA/LS/2025
A4: Selecteer Raamovereenkomst | B4: Selecteer Deelnemer | C4: Selecteer Perceel | D4: Selecteer Jaar | F4: Raamovereenkomst | G4: Deelnemer | H4: Perceel | I4: Leverancier 1 | J4: Leverancier 2 | K4: Leverancier 3 | L4: KPI Opkomstpercentage
A5: RSO Schoonmaakpersoneel 2026 | B5: Rijksschoonmaakorganisatie | C5: n.v.t. | D5: 2026 | F5: RSO Schoonmaakpersoneel 2026 | G5: Rijksschoonmaakorganisatie | H5: n.v.t. | I5: Leverancier 1 | J5: n.v.t. | K5: n.v.t. | L5: 0.95
D6: 2027
D7: 2028
D8: 2029

Sheet 5. Aanvullende informatie
A1: ='[1]1. Scorecard'!A1 -> Bijlage O Format KPI scorecard
A3: Europese aanbesteding Inhuur Flexibele arbeidskrachten op basis van een uitzendovereenkomst ten behoeve van de Rijksschoonmaakorganisatie (IFA RSO 2026). Kenmerk IUC DJI/INEA/LS/2025
A5: Niet-geleverde Diensten 2026 | B5: Q1 | C5: Q2 | D5: Q3 | E5: Q4
A6: 1) Te specifieke eisen om kandidaat binnen overeengekomen termijn in te zetten;
A7: 2) Geen geschikte Uitzendkracht gekoppeld aan de dienst binnen overeengekomen termijn;
A8: 3) Uitzendkracht komt niet opdagen bij de dienst;
A9: 4) Niet kunnen tonen van een VOG en/of geldig identiteitsbewijs (zie eis 2.6 Programma van Eisen);
A10: 5) Overig;
A13: Niet-geleverde Diensten 2027 | B13: Q1 | C13: Q2 | D13: Q3 | E13: Q4
A14: 1) Te specifieke eisen om kandidaat binnen overeengekomen termijn in te zetten;
A15: 2) Geen geschikte Uitzendkracht gekoppeld aan de dienst binnen overeengekomen termijn;
A16: 3) Uitzendkracht komt niet opdagen bij de dienst;
A17: 4) Niet kunnen tonen van een VOG en/of geldig identiteitsbewijs (zie eis 2.6 Programma van Eisen);
A18: 5) Overig;
A21: Niet-geleverde Diensten 2028 | B21: Q1 | C21: Q2 | D21: Q3 | E21: Q4
A22: 1) Te specifieke eisen om kandidaat binnen overeengekomen termijn in te zetten;
A23: 2) Geen geschikte Uitzendkracht gekoppeld aan de dienst binnen overeengekomen termijn;
A24: 3) Uitzendkracht komt niet opdagen bij de dienst;
A25: 4) Niet kunnen tonen van een VOG en/of geldig identiteitsbewijs (zie eis 2.6 Programma van Eisen);
A26: 5) Overig;
A29: Niet-geleverde Diensten 2029 | B29: Q1 | C29: Q2 | D29: Q3 | E29: Q4
A30: 1) Te specifieke eisen om kandidaat binnen overeengekomen termijn in te zetten;
A31: 2) Geen geschikte Uitzendkracht gekoppeld aan de dienst binnen overeengekomen termijn;
A32: 3) Uitzendkracht komt niet opdagen bij de dienst;
A33: 4) Niet kunnen tonen van een VOG en/of geldig identiteitsbewijs (zie eis 2.6 Programma van Eisen);
A34: 5) Overig;
