Workbook
Name Haalbaar: 'Open vragen '!$B$4:$D$4
Name Score1: 'Open vragen '!$B$3:$G$3
Name Score2: 'Open vragen '!$B$5:$F$5

Sheet Open vragen 
A1: 7.1 A OPEN VRAGEN
A2: Om de kwaliteit en toegevoegde waarde van de Inschrijver(s) te kunnen beoordelen dient Inschrijver zijn kwaliteit aan te tonen en meerwaarde uit te werken conform onderstaande criteria.
A3: 1. PLAN VAN AANPAK/AANVANG DIENSTVERLENING ALGEMEEN | B3: Score: | C3: Uitmuntend | D3: Goed | E3: Voldoende | F3: Matig | G3: Onvoldoende
A4: Zie bijlage 7 'kwaliteit'. | B4: Score: | C4: Haalbaar | D4: Niet haalbaar
A5: 2. MARKTCONFORME PRIJSSTELLING | B5: Score: | C5: Goed | D5: Voldoende | E5: Matig | F5: Onvoldoende
A6: Zie bijlage 7 'kwaliteit'.
A7: 3. WIJZIGING VORMGEVING
A8: Zie bijlage 7 'kwaliteit'.
A9: 4. DE OPDRACHT: ‘WERVINGSCAMPAGNE’
A10: 1. Mate van begrip van de opdracht.
A11: Zie bijlage 7 'kwaliteit'.
A12: 2. Mate van het bereiken van de doelstelling.
A13: Zie bijlage 7 'kwaliteit'.
A14: 3. Mate van realistisch/juist voorstel in relatie tot het budget.
A15: Zie bijlage 7 'kwaliteit'.
A16: 4. Mate van realistisch/juist voorstel in relatie tot de tijdsplanning.
A17: Zie bijlage 7 'kwaliteit'.
... A39: De persoonlijke toelichting kan ertoe leiden dat de individuele beoordeling van de beoordelaar(s) op de beantwoording van de open vragen positief of negatief aangepast wordt.

Sheet Directeur Marketing-
A1: Beoordelaar 1: Directeur Marketing, Communicatie en Public Affairs | C1: Naam Inschrijver | F1: Naam Inschrijver | I1: Naam Inschrijver
A2: ='Open vragen '!$A$1 -> 7.1 A OPEN VRAGEN | C2: Score: | F2: Score: | I2: Score:
A3: ='Open vragen '!$A$3 -> 1. PLAN VAN AANPAK/AANVANG DIENSTVERLENING ALGEMEEN | C3: SCORE | F3: SCORE | I3: SCORE
A4: ='Open vragen '!$A$4 -> Zie bijlage 7 'kwaliteit'. | C4: <MOTIVATIE> | F4: <MOTIVATIE> | I4: <MOTIVATIE>
A5: ='Open vragen '!$A$5 -> 2. MARKTCONFORME PRIJSSTELLING | C5: SCORE | F5: SCORE | I5: SCORE
A6: ='Open vragen '!$A$6 -> Zie bijlage 7 'kwaliteit'. | C6: <MOTIVATIE> | F6: <MOTIVATIE> | I6: <MOTIVATIE>
A7: ='Open vragen '!A7 -> 3. WIJZIGING VORMGEVING | C7: SCORE | F7: SCORE | I7: SCORE
A8: ='Open vragen '!A8 -> Zie bijlage 7 'kwaliteit'. | C8: <MOTIVATIE> | F8: <MOTIVATIE> | I8: <MOTIVATIE>
A9: ='Open vragen '!A9 -> 4. DE OPDRACHT: ‘WERVINGSCAMPAGNE’
A10: ='Open vragen '!A10 -> 1. Mate van begrip van de opdracht. | C10: SCORE | F10: SCORE | I10: SCORE
A11: ='Open vragen '!A11 -> Zie bijlage 7 'kwaliteit'. | C11: <MOTIVATIE> | F11: <MOTIVATIE> | I11: <MOTIVATIE>
A12: ='Open vragen '!A12 -> 2. Mate van het bereiken van de doelstelling. | C12: SCORE | F12: SCORE | I12: SCORE
A13: ='Open vragen '!A13 -> Zie bijlage 7 'kwaliteit'. | C13: <MOTIVATIE> | F13: <MOTIVATIE> | I13: <MOTIVATIE>
A14: ='Open vragen '!A14 -> 3. Mate van realistisch/juist voorstel in relatie tot het budget. | C14: SCORE | F14: SCORE | I14: SCORE
A15: ='Open vragen '!A15 -> Zie bijlage 7 'kwaliteit'. | C15: <MOTIVATIE> | F15: <MOTIVATIE> | I15: <MOTIVATIE>
A16: ='Open vragen '!A16 -> 4. Mate van realistisch/juist voorstel in relatie tot de tijdsplanning. | C16: SCORE | F16: SCORE | I16: SCORE
A17: ='Open vragen '!A17 -> Zie bijlage 7 'kwaliteit'. | C17: <MOTIVATIE> | F17: <MOTIVATIE> | I17: <MOTIVATIE>
A18: ='Open vragen '!A18 -> 5. Mate van begrip van de doelgroep in relatie tot de voorgestelde concept/beeldtaal/tekstueel/campagne en realisatie van de doelstelling. | C18: SCORE | F18: SCORE | I18: SCORE
A19: ='Open vragen '!A19 -> Zie bijlage 7 'kwaliteit'. | C19: <MOTIVATIE> | F19: <MOTIVATIE> | I19: <MOTIVATIE>
A20: ='Open vragen '!A20 -> 6. Mate van begrip van de doelgroep in relatie tot de middelenmix/inzet crossmediale inzet. | C20: SCORE | F20: SCORE | I20: SCORE
A21: ='Open vragen '!A21 -> Zie bijlage 7 'kwaliteit'. | C21: <MOTIVATIE> | F21: <MOTIVATIE> | I21: <MOTIVATIE>
... A35: ='Open vragen '!A35 -> Zie bijlage 7 'kwaliteit'. | C35: <MOTIVATIE> | F35: <MOTIVATIE> | I35: <MOTIVATIE>

Sheet Teamleider Marketing-
A1: Beoordelaar 2: Teamleider Marketingcommunicatie | C1: ='Directeur Marketing-'!C1 -> Naam Inschrijver | F1: Naam Inschrijver | I1: Naam Inschrijver
A2: ='Open vragen '!$A$1 -> 7.1 A OPEN VRAGEN | C2: Score: | F2: Score: | I2: Score:
A3: ='Open vragen '!$A$3 -> 1. PLAN VAN AANPAK/AANVANG DIENSTVERLENING ALGEMEEN | C3: SCORE | F3: SCORE | I3: SCORE
A4: ='Open vragen '!$A$4 -> Zie bijlage 7 'kwaliteit'. | C4: <MOTIVATIE> | F4: <MOTIVATIE> | I4: <MOTIVATIE>
A5: ='Open vragen '!$A$5 -> 2. MARKTCONFORME PRIJSSTELLING | C5: SCORE | F5: SCORE | I5: SCORE
A6: ='Open vragen '!$A$6 -> Zie bijlage 7 'kwaliteit'. | C6: <MOTIVATIE> | F6: <MOTIVATIE> | I6: <MOTIVATIE>
A7: ='Open vragen '!A7 -> 3. WIJZIGING VORMGEVING | C7: SCORE | F7: SCORE | I7: SCORE
A8: ='Open vragen '!A8 -> Zie bijlage 7 'kwaliteit'. | C8: <MOTIVATIE> | F8: <MOTIVATIE> | I8: <MOTIVATIE>
A9: ='Open vragen '!A9 -> 4. DE OPDRACHT: ‘WERVINGSCAMPAGNE’
A10: ='Open vragen '!A10 -> 1. Mate van begrip van de opdracht. | C10: SCORE | F10: SCORE | I10: SCORE
A11: ='Open vragen '!A11 -> Zie bijlage 7 'kwaliteit'. | C11: <MOTIVATIE> | F11: <MOTIVATIE> | I11: <MOTIVATIE>
A12: ='Open vragen '!A12 -> 2. Mate van het bereiken van de doelstelling. | C12: SCORE | F12: SCORE | I12: SCORE
A13: ='Open vragen '!A13 -> Zie bijlage 7 'kwaliteit'. | C13: <MOTIVATIE> | F13: <MOTIVATIE> | I13: <MOTIVATIE>
A14: ='Open vragen '!A14 -> 3. Mate van realistisch/juist voorstel in relatie tot het budget. | C14: SCORE | F14: SCORE | I14: SCORE
A15: ='Open vragen '!A15 -> Zie bijlage 7 'kwaliteit'. | C15: <MOTIVATIE> | F15: <MOTIVATIE> | I15: <MOTIVATIE>
A16: ='Open vragen '!A16 -> 4. Mate van realistisch/juist voorstel in relatie tot de tijdsplanning. | C16: SCORE | F16: SCORE | I16: SCORE
A17: ='Open vragen '!A17 -> Zie bijlage 7 'kwaliteit'. | C17: <MOTIVATIE> | F17: <MOTIVATIE> | I17: <MOTIVATIE>
A18: ='Open vragen '!A18 -> 5. Mate van begrip van de doelgroep in relatie tot de voorgestelde concept/beeldtaal/tekstueel/campagne en realisatie van de doelstelling. | C18: SCORE | F18: SCORE | I18: SCORE
A19: ='Open vragen '!A19 -> Zie bijlage 7 'kwaliteit'. | C19: <MOTIVATIE> | F19: <MOTIVATIE> | I19: <MOTIVATIE>
A20: ='Open vragen '!A20 -> 6. Mate van begrip van de doelgroep in relatie tot de middelenmix/inzet crossmediale inzet. | C20: SCORE | F20: SCORE | I20: SCORE
A21: ='Open vragen '!A21 -> Zie bijlage 7 'kwaliteit'. | C21: <MOTIVATIE> | F21: <MOTIVATIE> | I21: <MOTIVATIE>
... A35: ='Open vragen '!A35 -> Zie bijlage 7 'kwaliteit'. | C35: <MOTIVATIE> | F35: <MOTIVATIE> | I35: <MOTIVATIE>

Sheet Teamleider Corporatie-
A1: Beoordelaar 3: Teamleider Corporatie communicatie | C1: ='Directeur Marketing-'!C1 -> Naam Inschrijver | F1: Naam Inschrijver | I1: Naam Inschrijver
A2: ='Open vragen '!$A$1 -> 7.1 A OPEN VRAGEN | C2: Score: | F2: Score: | I2: Score:
A3: ='Open vragen '!$A$3 -> 1. PLAN VAN AANPAK/AANVANG DIENSTVERLENING ALGEMEEN | C3: SCORE | F3: SCORE | I3: SCORE
A4: ='Open vragen '!$A$4 -> Zie bijlage 7 'kwaliteit'. | C4: <MOTIVATIE> | F4: <MOTIVATIE> | I4: <MOTIVATIE>
A5: ='Open vragen '!$A$5 -> 2. MARKTCONFORME PRIJSSTELLING | C5: SCORE | F5: SCORE | I5: SCORE
A6: ='Open vragen '!$A$6 -> Zie bijlage 7 'kwaliteit'. | C6: <MOTIVATIE> | F6: <MOTIVATIE> | I6: <MOTIVATIE>
A7: ='Open vragen '!A7 -> 3. WIJZIGING VORMGEVING | C7: SCORE | F7: SCORE | I7: SCORE
A8: ='Open vragen '!A8 -> Zie bijlage 7 'kwaliteit'. | C8: <MOTIVATIE> | F8: <MOTIVATIE> | I8: <MOTIVATIE>
A9: ='Open vragen '!A9 -> 4. DE OPDRACHT: ‘WERVINGSCAMPAGNE’
A10: ='Open vragen '!A10 -> 1. Mate van begrip van de opdracht. | C10: SCORE | F10: SCORE | I10: SCORE
A11: ='Open vragen '!A11 -> Zie bijlage 7 'kwaliteit'. | C11: <MOTIVATIE> | F11: <MOTIVATIE> | I11: <MOTIVATIE>
A12: ='Open vragen '!A12 -> 2. Mate van het bereiken van de doelstelling. | C12: SCORE | F12: SCORE | I12: SCORE
A13: ='Open vragen '!A13 -> Zie bijlage 7 'kwaliteit'. | C13: <MOTIVATIE> | F13: <MOTIVATIE> | I13: <MOTIVATIE>
A14: ='Open vragen '!A14 -> 3. Mate van realistisch/juist voorstel in relatie tot het budget. | C14: SCORE | F14: SCORE | I14: SCORE
A15: ='Open vragen '!A15 -> Zie bijlage 7 'kwaliteit'. | C15: <MOTIVATIE> | F15: <MOTIVATIE> | I15: <MOTIVATIE>
A16: ='Open vragen '!A16 -> 4. Mate van realistisch/juist voorstel in relatie tot de tijdsplanning. | C16: SCORE | F16: SCORE | I16: SCORE
A17: ='Open vragen '!A17 -> Zie bijlage 7 'kwaliteit'. | C17: <MOTIVATIE> | F17: <MOTIVATIE> | I17: <MOTIVATIE>
A18: ='Open vragen '!A18 -> 5. Mate van begrip van de doelgroep in relatie tot de voorgestelde concept/beeldtaal/tekstueel/campagne en realisatie van de doelstelling. | C18: SCORE | F18: SCORE | I18: SCORE
A19: ='Open vragen '!A19 -> Zie bijlage 7 'kwaliteit'. | C19: <MOTIVATIE> | F19: <MOTIVATIE> | I19: <MOTIVATIE>
A20: ='Open vragen '!A20 -> 6. Mate van begrip van de doelgroep in relatie tot de middelenmix/inzet crossmediale inzet. | C20: SCORE | F20: SCORE | I20: SCORE
A21: ='Open vragen '!A21 -> Zie bijlage 7 'kwaliteit'. | C21: <MOTIVATIE> | F21: <MOTIVATIE> | I21: <MOTIVATIE>
... A35: ='Open vragen '!A35 -> Zie bijlage 7 'kwaliteit'. | C35: <MOTIVATIE> | F35: <MOTIVATIE> | I35: <MOTIVATIE>

Sheet Adviseur Marketing -
A1: Beoordelaar 4: Adviseur Marketing en Communicatie | C1: ='Directeur Marketing-'!C1 -> Naam Inschrijver | F1: Naam Inschrijver | I1: Naam Inschrijver
A2: ='Open vragen '!$A$1 -> 7.1 A OPEN VRAGEN | C2: Score: | F2: Score: | I2: Score:
A3: ='Open vragen '!$A$3 -> 1. PLAN VAN AANPAK/AANVANG DIENSTVERLENING ALGEMEEN | C3: SCORE | F3: SCORE | I3: SCORE
A4: ='Open vragen '!$A$4 -> Zie bijlage 7 'kwaliteit'. | C4: <MOTIVATIE> | F4: <MOTIVATIE> | I4: <MOTIVATIE>
A5: ='Open vragen '!$A$5 -> 2. MARKTCONFORME PRIJSSTELLING | C5: SCORE | F5: SCORE | I5: SCORE
A6: ='Open vragen '!$A$6 -> Zie bijlage 7 'kwaliteit'. | C6: <MOTIVATIE> | F6: <MOTIVATIE> | I6: <MOTIVATIE>
A7: ='Open vragen '!A7 -> 3. WIJZIGING VORMGEVING | C7: SCORE | F7: SCORE | I7: SCORE
A8: ='Open vragen '!A8 -> Zie bijlage 7 'kwaliteit'. | C8: <MOTIVATIE> | F8: <MOTIVATIE> | I8: <MOTIVATIE>
A9: ='Open vragen '!A9 -> 4. DE OPDRACHT: ‘WERVINGSCAMPAGNE’
A10: ='Open vragen '!A10 -> 1. Mate van begrip van de opdracht. | C10: SCORE | F10: SCORE | I10: SCORE
A11: ='Open vragen '!A11 -> Zie bijlage 7 'kwaliteit'. | C11: <MOTIVATIE> | F11: <MOTIVATIE> | I11: <MOTIVATIE>
A12: ='Open vragen '!A12 -> 2. Mate van het bereiken van de doelstelling. | C12: SCORE | F12: SCORE | I12: SCORE
A13: ='Open vragen '!A13 -> Zie bijlage 7 'kwaliteit'. | C13: <MOTIVATIE> | F13: <MOTIVATIE> | I13: <MOTIVATIE>
A14: ='Open vragen '!A14 -> 3. Mate van realistisch/juist voorstel in relatie tot het budget. | C14: SCORE | F14: SCORE | I14: SCORE
A15: ='Open vragen '!A15 -> Zie bijlage 7 'kwaliteit'. | C15: <MOTIVATIE> | F15: <MOTIVATIE> | I15: <MOTIVATIE>
A16: ='Open vragen '!A16 -> 4. Mate van realistisch/juist voorstel in relatie tot de tijdsplanning. | C16: SCORE | F16: SCORE | I16: SCORE
A17: ='Open vragen '!A17 -> Zie bijlage 7 'kwaliteit'. | C17: <MOTIVATIE> | F17: <MOTIVATIE> | I17: <MOTIVATIE>
A18: ='Open vragen '!A18 -> 5. Mate van begrip van de doelgroep in relatie tot de voorgestelde concept/beeldtaal/tekstueel/campagne en realisatie van de doelstelling. | C18: SCORE | F18: SCORE | I18: SCORE
A19: ='Open vragen '!A19 -> Zie bijlage 7 'kwaliteit'. | C19: <MOTIVATIE> | F19: <MOTIVATIE> | I19: <MOTIVATIE>
A20: ='Open vragen '!A20 -> 6. Mate van begrip van de doelgroep in relatie tot de middelenmix/inzet crossmediale inzet. | C20: SCORE | F20: SCORE | I20: SCORE
A21: ='Open vragen '!A21 -> Zie bijlage 7 'kwaliteit'. | C21: <MOTIVATIE> | F21: <MOTIVATIE> | I21: <MOTIVATIE>
... A35: ='Open vragen '!A35 -> Zie bijlage 7 'kwaliteit'. | C35: <MOTIVATIE> | F35: <MOTIVATIE> | I35: <MOTIVATIE>

Sheet Adviseur Corporatie-
A1: Beoordelaar 5: Adviseur Corporatie communicatie | C1: ='Directeur Marketing-'!C1 -> Naam Inschrijver | F1: Naam Inschrijver | I1: Naam Inschrijver
A2: ='Open vragen '!$A$1 -> 7.1 A OPEN VRAGEN | C2: Score: | F2: Score: | I2: Score:
A3: ='Open vragen '!$A$3 -> 1. PLAN VAN AANPAK/AANVANG DIENSTVERLENING ALGEMEEN | C3: SCORE | F3: SCORE | I3: SCORE
A4: ='Open vragen '!$A$4 -> Zie bijlage 7 'kwaliteit'. | C4: <MOTIVATIE> | F4: <MOTIVATIE> | I4: <MOTIVATIE>
A5: ='Open vragen '!$A$5 -> 2. MARKTCONFORME PRIJSSTELLING | C5: SCORE | F5: SCORE | I5: SCORE
A6: ='Open vragen '!$A$6 -> Zie bijlage 7 'kwaliteit'. | C6: <MOTIVATIE> | F6: <MOTIVATIE> | I6: <MOTIVATIE>
A7: ='Open vragen '!A7 -> 3. WIJZIGING VORMGEVING | C7: SCORE | F7: SCORE | I7: SCORE
A8: ='Open vragen '!A8 -> Zie bijlage 7 'kwaliteit'. | C8: <MOTIVATIE> | F8: <MOTIVATIE> | I8: <MOTIVATIE>
A9: ='Open vragen '!A9 -> 4. DE OPDRACHT: ‘WERVINGSCAMPAGNE’
A10: ='Open vragen '!A10 -> 1. Mate van begrip van de opdracht. | C10: SCORE | F10: SCORE | I10: SCORE
A11: ='Open vragen '!A11 -> Zie bijlage 7 'kwaliteit'. | C11: <MOTIVATIE> | F11: <MOTIVATIE> | I11: <MOTIVATIE>
A12: ='Open vragen '!A12 -> 2. Mate van het bereiken van de doelstelling. | C12: SCORE | F12: SCORE | I12: SCORE
A13: ='Open vragen '!A13 -> Zie bijlage 7 'kwaliteit'. | C13: <MOTIVATIE> | F13: <MOTIVATIE> | I13: <MOTIVATIE>
A14: ='Open vragen '!A14 -> 3. Mate van realistisch/juist voorstel in relatie tot het budget. | C14: SCORE | F14: SCORE | I14: SCORE
A15: ='Open vragen '!A15 -> Zie bijlage 7 'kwaliteit'. | C15: <MOTIVATIE> | F15: <MOTIVATIE> | I15: <MOTIVATIE>
A16: ='Open vragen '!A16 -> 4. Mate van realistisch/juist voorstel in relatie tot de tijdsplanning. | C16: SCORE | F16: SCORE | I16: SCORE
A17: ='Open vragen '!A17 -> Zie bijlage 7 'kwaliteit'. | C17: <MOTIVATIE> | F17: <MOTIVATIE> | I17: <MOTIVATIE>
A18: ='Open vragen '!A18 -> 5. Mate van begrip van de doelgroep in relatie tot de voorgestelde concept/beeldtaal/tekstueel/campagne en realisatie van de doelstelling. | C18: SCORE | F18: SCORE | I18: SCORE
A19: ='Open vragen '!A19 -> Zie bijlage 7 'kwaliteit'. | C19: <MOTIVATIE> | F19: <MOTIVATIE> | I19: <MOTIVATIE>
A20: ='Open vragen '!A20 -> 6. Mate van begrip van de doelgroep in relatie tot de middelenmix/inzet crossmediale inzet. | C20: SCORE | F20: SCORE | I20: SCORE
A21: ='Open vragen '!A21 -> Zie bijlage 7 'kwaliteit'. | C21: <MOTIVATIE> | F21: <MOTIVATIE> | I21: <MOTIVATIE>
... A35: ='Open vragen '!A35 -> Zie bijlage 7 'kwaliteit'. | C35: <MOTIVATIE> | F35: <MOTIVATIE> | I35: <MOTIVATIE>

Sheet Consensus
A1: Totaalwaardes | D1: ='Directeur Marketing-'!C1 -> Naam Inschrijver | G1: ='Directeur Marketing-'!F1 -> Naam Inschrijver | J1: ='Directeur Marketing-'!I1 -> Naam Inschrijver
A2: Totaalwaardes | E2: Motivatie consensus: | H2: Motivatie consensus: | K2: Motivatie consensus:
A3: ='Open vragen '!A3 -> 1. PLAN VAN AANPAK/AANVANG DIENSTVERLENING ALGEMEEN | B3: ='Directeur Marketing-'!A1 -> Beoordelaar 1: Directeur Marketing, Communicatie en Public Affairs | D3: ='Directeur Marketing-'!C3 -> SCORE | E3: <MOTIVATIE> | G3: ='Directeur Marketing-'!F3 -> SCORE | H3: <MOTIVATIE> | J3: ='Directeur Marketing-'!I3 -> SCORE | K3: <MOTIVATIE>
B4: ='Teamleider Marketing-'!A1 -> Beoordelaar 2: Teamleider Marketingcommunicatie | D4: ='Teamleider Marketing-'!C3 -> SCORE | G4: ='Teamleider Marketing-'!F3 -> SCORE | J4: ='Teamleider Marketing-'!I3 -> SCORE
B5: ='Teamleider Corporatie-'!A1 -> Beoordelaar 3: Teamleider Corporatie communicatie | D5: ='Teamleider Corporatie-'!C3 -> SCORE | G5: ='Teamleider Corporatie-'!F3 -> SCORE | J5: ='Teamleider Corporatie-'!I3 -> SCORE
B6: ='Adviseur Marketing -'!A1 -> Beoordelaar 4: Adviseur Marketing en Communicatie | D6: ='Adviseur Marketing -'!C3 -> SCORE | G6: ='Adviseur Marketing -'!F3 -> SCORE | J6: ='Adviseur Marketing -'!I3 -> SCORE
B7: ='Adviseur Corporatie-'!A1 -> Beoordelaar 5: Adviseur Corporatie communicatie | D7: ='Adviseur Corporatie-'!C3 -> SCORE | G7: ='Adviseur Corporatie-'!F3 -> SCORE | J7: ='Adviseur Corporatie-'!I3 -> SCORE
A8: Consensus | D8: Score: | G8: Score: | J8: Score:
D9: =IF(D8="Uitmuntend","€ 28.875",IF(D8="Goed","€ 14.437,50",IF(D8="Voldoende","€ 0",IF(D8="Matig","-€ 43.312,50",IF(D8="Onvoldoende","KNOCK OUT"," "))))) | G9: =IF(G8="Uitmuntend","€ 28.875",IF(G8="Goed","€ 14.437,50",IF(G8="Voldoende","€ 0",IF(G8="Matig","-€ 43.312,50",IF(G8="Onvoldoende","KNOCK OUT"," "))))) | J9: =IF(J8="Uitmuntend","€ 28.875",IF(J8="Goed","€ 14.437,50",IF(J8="Voldoende","€ 0",IF(J8="Matig","-€ 43.312,50",IF(J8="Onvoldoende","KNOCK OUT"," ")))))
A10: ='Open vragen '!A5 -> 2. MARKTCONFORME PRIJSSTELLING | B10: =$B$3 -> Beoordelaar 1: Directeur Marketing, Communicatie en Public Affairs | D10: ='Directeur Marketing-'!C5 -> SCORE | E10: <MOTIVATIE> | G10: ='Directeur Marketing-'!F5 -> SCORE | H10: <MOTIVATIE> | J10: ='Directeur Marketing-'!I5 -> SCORE | K10: <MOTIVATIE>
B11: =$B$4 -> Beoordelaar 2: Teamleider Marketingcommunicatie | D11: ='Teamleider Marketing-'!C5 -> SCORE | G11: ='Teamleider Marketing-'!F5 -> SCORE | J11: ='Teamleider Marketing-'!I5 -> SCORE
B12: =$B$5 -> Beoordelaar 3: Teamleider Corporatie communicatie | D12: ='Teamleider Corporatie-'!C5 -> SCORE | G12: ='Teamleider Corporatie-'!F5 -> SCORE | J12: ='Teamleider Corporatie-'!I5 -> SCORE
B13: =$B$6 -> Beoordelaar 4: Adviseur Marketing en Communicatie | D13: ='Adviseur Marketing -'!C5 -> SCORE | G13: ='Adviseur Marketing -'!F5 -> SCORE | J13: ='Adviseur Marketing -'!I5 -> SCORE
B14: ='Adviseur Corporatie-'!A1 -> Beoordelaar 5: Adviseur Corporatie communicatie | D14: ='Adviseur Corporatie-'!C5 -> SCORE | G14: ='Adviseur Corporatie-'!F5 -> SCORE | J14: ='Adviseur Corporatie-'!I5 -> SCORE
A15: Consensus | D15: Score: | G15: Score: | J15: Score:
D16: =IF(D15="Uitmuntend","€ 20.625",IF(D15="Goed","€ 10.312,50",IF(D15="Voldoende","€ 0",IF(D15="Matig","-€ 30.937,50",IF(D15="Onvoldoende","KNOCK OUT"," "))))) | G16: =IF(G15="Uitmuntend","€ 20.625",IF(G15="Goed","€ 10.312,50",IF(G15="Voldoende","€ 0",IF(G15="Matig","-€ 30.937,50",IF(G15="Onvoldoende","KNOCK OUT"," "))))) | J16: =IF(J15="Uitmuntend","€ 20.625",IF(J15="Goed","€ 10.312,50",IF(J15="Voldoende","€ 0",IF(J15="Matig","-€ 30.937,50",IF(J15="Onvoldoende","KNOCK OUT"," ")))))
A17: ='Open vragen '!A7 -> 3. WIJZIGING VORMGEVING | B17: =$B$3 -> Beoordelaar 1: Directeur Marketing, Communicatie en Public Affairs | D17: ='Directeur Marketing-'!C7 -> SCORE | E17: <MOTIVATIE> | G17: ='Directeur Marketing-'!F7 -> SCORE | H17: <MOTIVATIE> | J17: ='Directeur Marketing-'!I7 -> SCORE | K17: <MOTIVATIE>
B18: =$B$4 -> Beoordelaar 2: Teamleider Marketingcommunicatie | D18: ='Teamleider Marketing-'!C7 -> SCORE | G18: ='Teamleider Marketing-'!F7 -> SCORE | J18: ='Teamleider Marketing-'!I7 -> SCORE
B19: =$B$5 -> Beoordelaar 3: Teamleider Corporatie communicatie | D19: ='Teamleider Corporatie-'!C7 -> SCORE | G19: ='Teamleider Corporatie-'!F7 -> SCORE | J19: ='Teamleider Corporatie-'!I7 -> SCORE
B20: =$B$6 -> Beoordelaar 4: Adviseur Marketing en Communicatie | D20: ='Adviseur Marketing -'!C7 -> SCORE | G20: ='Adviseur Marketing -'!F7 -> SCORE | J20: ='Adviseur Marketing -'!I7 -> SCORE
B21: ='Adviseur Corporatie-'!A1 -> Beoordelaar 5: Adviseur Corporatie communicatie | D21: ='Adviseur Corporatie-'!C7 -> SCORE | G21: ='Adviseur Corporatie-'!F7 -> SCORE | J21: ='Adviseur Corporatie-'!I7 -> SCORE
A22: Consensus | D22: Score: | G22: Score: | J22: Score:
D23: =IF(D22="Uitmuntend","€ 8.250",IF(D22="Goed","€ 4.125",IF(D22="Voldoende","0",IF(D22="Matig","-€ 12.375",IF(D22="Onvoldoende","KNOCK OUT"," "))))) | G23: =IF(G22="Uitmuntend","€ 8.250",IF(G22="Goed","€ 4.125",IF(G22="Voldoende","0",IF(G22="Matig","-€ 12.375",IF(G22="Onvoldoende","KNOCK OUT"," "))))) | J23: =IF(J22="Uitmuntend","€ 8.250",IF(J22="Goed","€ 4.125",IF(J22="Voldoende","0",IF(J22="Matig","-€ 12.375",IF(J22="Onvoldoende","KNOCK OUT"," ")))))
A24: ='Open vragen '!A9 -> 4. DE OPDRACHT: ‘WERVINGSCAMPAGNE’
A25: ='Open vragen '!A10 -> 1. Mate van begrip van de opdracht. | B25: =$B$3 -> Beoordelaar 1: Directeur Marketing, Communicatie en Public Affairs | D25: ='Directeur Marketing-'!C10 -> SCORE | E25: <MOTIVATIE> | G25: ='Directeur Marketing-'!F10 -> SCORE | H25: <MOTIVATIE> | J25: ='Directeur Marketing-'!I10 -> SCORE | K25: <MOTIVATIE>
B26: =$B$4 -> Beoordelaar 2: Teamleider Marketingcommunicatie | D26: ='Teamleider Marketing-'!C10 -> SCORE | G26: ='Teamleider Marketing-'!F10 -> SCORE | J26: ='Teamleider Marketing-'!I10 -> SCORE
B27: =$B$5 -> Beoordelaar 3: Teamleider Corporatie communicatie | D27: ='Teamleider Corporatie-'!C10 -> SCORE | G27: ='Teamleider Corporatie-'!F10 -> SCORE | J27: ='Teamleider Corporatie-'!I10 -> SCORE
B28: =$B$6 -> Beoordelaar 4: Adviseur Marketing en Communicatie | D28: ='Adviseur Marketing -'!C10 -> SCORE | G28: ='Adviseur Marketing -'!F10 -> SCORE | J28: ='Adviseur Marketing -'!I10 -> SCORE
B29: ='Adviseur Corporatie-'!A1 -> Beoordelaar 5: Adviseur Corporatie communicatie | D29: ='Adviseur Corporatie-'!C10 -> SCORE | G29: ='Adviseur Corporatie-'!F10 -> SCORE | J29: ='Adviseur Corporatie-'!I10 -> SCORE
A30: Consensus | D30: Score: | G30: Score: | J30: Score:
D31: =IF(D30="Uitmuntend","€ 12.375",IF(D30="Goed","€ 10.518,75",IF(D30="Voldoende","€ 0",IF(D30="Matig","-€ 61.875",IF(D30="Onvoldoende","KNOCK OUT"," "))))) | G31: =IF(G30="Uitmuntend","€ 12.375",IF(G30="Goed","€ 10.518,75",IF(G30="Voldoende","€ 0",IF(G30="Matig","-€ 61.875",IF(G30="Onvoldoende","KNOCK OUT"," "))))) | J31: =IF(J30="Uitmuntend","€ 12.375",IF(J30="Goed","€ 10.518,75",IF(J30="Voldoende","€ 0",IF(J30="Matig","-€ 61.875",IF(J30="Onvoldoende","KNOCK OUT"," ")))))
A32: ='Open vragen '!A12 -> 2. Mate van het bereiken van de doelstelling. | B32: =$B$3 -> Beoordelaar 1: Directeur Marketing, Communicatie en Public Affairs | D32: ='Directeur Marketing-'!C12 -> SCORE | E32: <MOTIVATIE> | G32: ='Directeur Marketing-'!F12 -> SCORE | H32: <MOTIVATIE> | J32: ='Directeur Marketing-'!I12 -> SCORE | K32: <MOTIVATIE>
B33: =$B$4 -> Beoordelaar 2: Teamleider Marketingcommunicatie | D33: ='Teamleider Marketing-'!C12 -> SCORE | G33: ='Teamleider Marketing-'!F12 -> SCORE | J33: ='Teamleider Marketing-'!I12 -> SCORE
B34: =$B$5 -> Beoordelaar 3: Teamleider Corporatie communicatie | D34: ='Teamleider Corporatie-'!C12 -> SCORE | G34: ='Teamleider Corporatie-'!F12 -> SCORE | J34: ='Teamleider Corporatie-'!I12 -> SCORE
B35: =$B$6 -> Beoordelaar 4: Adviseur Marketing en Communicatie | D35: ='Adviseur Marketing -'!C12 -> SCORE | G35: ='Adviseur Marketing -'!F12 -> SCORE | J35: ='Adviseur Marketing -'!I12 -> SCORE
B36: ='Adviseur Corporatie-'!A1 -> Beoordelaar 5: Adviseur Corporatie communicatie | D36: ='Adviseur Corporatie-'!C12 -> SCORE | G36: ='Adviseur Corporatie-'!F12 -> SCORE | J36: ='Adviseur Corporatie-'!I12 -> SCORE
A37: Consensus | D37: Score: | G37: Score: | J37: Score:
D38: =IF(D37="Uitmuntend","€ 4.125",IF(D37="Goed","€ 3.506,25",IF(D37="Voldoende","€ 0",IF(D37="Matig","-€ 20.625",IF(D37="Onvoldoende","KNOCK OUT"," "))))) | G38: =IF(G37="Uitmuntend","€ 4.125",IF(G37="Goed","€ 3.506,25",IF(G37="Voldoende","€ 0",IF(G37="Matig","-€ 20.625",IF(G37="Onvoldoende","KNOCK OUT"," "))))) | J38: =IF(G37="Uitmuntend","€ 4.125",IF(G37="Goed","€ 3.506,25",IF(G37="Voldoende","€ 0",IF(G37="Matig","-€ 20.625",IF(G37="Onvoldoende","KNOCK OUT"," ")))))
A39: ='Open vragen '!A14 -> 3. Mate van realistisch/juist voorstel in relatie tot het budget. | B39: =$B$3 -> Beoordelaar 1: Directeur Marketing, Communicatie en Public Affairs | D39: ='Directeur Marketing-'!C14 -> SCORE | E39: <MOTIVATIE> | G39: ='Directeur Marketing-'!F14 -> SCORE | H39: <MOTIVATIE> | J39: ='Directeur Marketing-'!I14 -> SCORE | K39: <MOTIVATIE>
B40: =$B$4 -> Beoordelaar 2: Teamleider Marketingcommunicatie | D40: ='Teamleider Marketing-'!C14 -> SCORE | G40: ='Teamleider Marketing-'!F14 -> SCORE | J40: ='Teamleider Marketing-'!I14 -> SCORE
...

Sheet Eindscores
A1: Totaalwaarde criterium kwaliteit
A2: Onderdeel | C2: Inschrijver 1 | E2: Inschrijver 2 | G2: Inschrijver 2
A3: ='Open vragen '!A1 -> 7.1 A OPEN VRAGEN | C3: =Consensus!D117 -> #VALUE! | E3: =Consensus!G117 -> #VALUE! | G3: =Consensus!J117 -> #VALUE!
A4: Totaal behaalde waarde criterium kwaliteit: | C4: =C3 -> #VALUE! | E4: =E3 -> #VALUE! | G4: =G3 -> #VALUE!
A6: Totaal behaalde waarde criterium prijs: | C6: 0 | E6: 0 | G6: 0
A8: FICTIEVE EINDWAARDE (prijs -/- kwaliteit): | C8: =C6-C4 -> #VALUE! | E8: =E6-E4 -> #VALUE! | G8: =G6-G4 -> #VALUE!
