Workbook

Sheet Invulblad uurtarieven
A1: Advieskosten renovatie stadhuis gemeente Venlo
A3: Instructie gebruik:
A4: * Onderstaande blauwgekleurde omkaderde cellen dienen door de inschrijver te worden ingevuld!
A5: * Ingevulde uurtarieven worden vervolgens automatisch overgenomen in het tabblad 'rekenblad kosten per fase'.
A6: * Op het tabblad 'rekenblad kosten per fase' dienen vervolgens de uren per fase en per discipline te worden ingevuld.
A7: * Een resumé van de advieskosten wordt automatsich gegenereerd op dit blad.
A9: Vakdiscipline | E9: uurtarief
A11: Projectmanager | D11: € | G11: uurtarief invullen
A12: Werkvoorbereider | D12: € | G12: uurtarief invullen
A13: Adviseur constructies | D13: € | G13: uurtarief invullen
A14: Adviseur installaties E/W | D14: € | G14: uurtarief invullen
A15: Adviseur bouwkosten | D15: € | G15: uurtarief invullen
A16: Administratieve ondersteuning | D16: € | G16: uurtarief invullen
A18: * Voornoemde uurtarieven zijn inclusief opslagen en bijkomende kosten, doch exclusief verschuldigde omzetbelasting.
A19: * Uurtarieven zijn vast voor de duur van het gehele project, prijsstijgingen en loonindexeringen zijn niet van toepassing.
A20: * Vermelde uurtarieven betreft een gemiddeld uurtarief, de inschrijver bepaald dit tarief aan de hand van de benodigde tijdsbesteding per functie.
A23: Resumé advieskosten
A25: ='Rekenblad kosten per fase'!$A$7 -> Ontwerp | D25: € | E25: ='Rekenblad kosten per fase'!I7 -> 0
A26: ='Rekenblad kosten per fase'!A15 -> Technisch Ontwerp | D26: € | E26: ='Rekenblad kosten per fase'!I15 -> 0
A27: ='Rekenblad kosten per fase'!A23 -> Prijsvorming | D27: € | E27: ='Rekenblad kosten per fase'!I23 -> 0
A28: ='Rekenblad kosten per fase'!A31 -> Uitvoeringsgereed | D28: € | E28: ='Rekenblad kosten per fase'!I31 -> 0
A30: Totaal project | D30: € | E30: =SUM(E25:E29) -> 0
A33: De inschrijver verklaart door ondertekening dat voornoemde uurtarieven en advieskosten per fase van toepassing zijn op de verbouwing fase 2 van het Theater a/h Vrijthof;
A35: Bedrijf:
A37: Naam:
A39: Datum:
A41: Handtekening:

Sheet Rekenblad kosten per fase
A1: Advieskosten renovatie stadhuis gemeente Venlo
A3: Onderstaande blauwgekleurde omkaderde cellen dienen door de inschrijver te worden ingevuld!
A5: Fase/ discipline | E5: uur | G5: €/u | I5: € totaal
A7: Ontwerp | I7: =SUM(I8:I13) -> 0
A8: Projectmanager | G8: ='Invulblad uurtarieven'!$E$11 -> 0 | I8: =E8*G8 -> 0 | K8: aantal uren invullen
A9: Werkvoorbereider | G9: ='Invulblad uurtarieven'!$E$12 -> 0 | I9: =E9*G9 -> 0 | K9: aantal uren invullen
A10: Adviseur constructies | G10: ='Invulblad uurtarieven'!$E$13 -> 0 | I10: =E10*G10 -> 0 | K10: aantal uren invullen
A11: Adviseur installaties E/W | G11: ='Invulblad uurtarieven'!$E$14 -> 0 | I11: =E11*G11 -> 0 | K11: aantal uren invullen
A12: Adviseur bouwkosten | G12: ='Invulblad uurtarieven'!$E$15 -> 0 | I12: =E12*G12 -> 0 | K12: aantal uren invullen
A13: Administratieve ondersteuning | G13: ='Invulblad uurtarieven'!$E$16 -> 0 | I13: =E13*G13 -> 0 | K13: aantal uren invullen
A15: Technisch Ontwerp | I15: =SUM(I16:I21) -> 0
A16: Projectmanager | G16: ='Invulblad uurtarieven'!$E$11 -> 0 | I16: =E16*G16 -> 0 | K16: aantal uren invullen
A17: Werkvoorbereider | G17: ='Invulblad uurtarieven'!$E$12 -> 0 | I17: =E17*G17 -> 0 | K17: aantal uren invullen
A18: Adviseur constructies | G18: ='Invulblad uurtarieven'!$E$13 -> 0 | I18: =E18*G18 -> 0 | K18: aantal uren invullen
A19: Adviseur installaties E/W | G19: ='Invulblad uurtarieven'!$E$14 -> 0 | I19: =E19*G19 -> 0 | K19: aantal uren invullen
A20: Adviseur bouwkosten | G20: ='Invulblad uurtarieven'!$E$15 -> 0 | I20: =E20*G20 -> 0 | K20: aantal uren invullen
A21: Administratieve ondersteuning | G21: ='Invulblad uurtarieven'!$E$16 -> 0 | I21: =E21*G21 -> 0 | K21: aantal uren invullen
A23: Prijsvorming | I23: =SUM(I24:I29) -> 0
A24: Projectmanager | G24: ='Invulblad uurtarieven'!$E$11 -> 0 | I24: =E24*G24 -> 0 | K24: aantal uren invullen
A25: Werkvoorbereider | G25: ='Invulblad uurtarieven'!$E$12 -> 0 | I25: =E25*G25 -> 0 | K25: aantal uren invullen
A26: Adviseur constructies | G26: ='Invulblad uurtarieven'!$E$13 -> 0 | I26: =E26*G26 -> 0 | K26: aantal uren invullen
A27: Adviseur installaties E/W | G27: ='Invulblad uurtarieven'!$E$14 -> 0 | I27: =E27*G27 -> 0 | K27: aantal uren invullen
A28: Adviseur bouwkosten | G28: ='Invulblad uurtarieven'!$E$15 -> 0 | I28: =E28*G28 -> 0 | K28: aantal uren invullen
A29: Administratieve ondersteuning | G29: ='Invulblad uurtarieven'!$E$16 -> 0 | I29: =E29*G29 -> 0 | K29: aantal uren invullen
A31: Uitvoeringsgereed | I31: =SUM(I32:I37) -> 0
A32: Projectmanager | G32: ='Invulblad uurtarieven'!$E$11 -> 0 | I32: =E32*G32 -> 0 | K32: aantal uren invullen
A33: Werkvoorbereider | G33: ='Invulblad uurtarieven'!$E$12 -> 0 | I33: =E33*G33 -> 0 | K33: aantal uren invullen
A34: Adviseur constructies | G34: ='Invulblad uurtarieven'!$E$13 -> 0 | I34: =E34*G34 -> 0 | K34: aantal uren invullen
A35: Adviseur installaties E/W | G35: ='Invulblad uurtarieven'!$E$14 -> 0 | I35: =E35*G35 -> 0 | K35: aantal uren invullen
A36: Adviseur bouwkosten | G36: ='Invulblad uurtarieven'!$E$15 -> 0 | I36: =E36*G36 -> 0 | K36: aantal uren invullen
A37: Administratieve ondersteuning | G37: ='Invulblad uurtarieven'!$E$16 -> 0 | I37: =E37*G37 -> 0 | K37: aantal uren invullen
A40: Totaalkosten advisering project alle fasen, excl BTW | I40: =SUM(I7:I39)/2 -> 0
