Workbook

Sheet Totaalblad
B1: Europese aanbesteding voor Inhuur flexibele arbeidskrachten - Perceel 3 - Beheer buitendienst
B2: Bijlage 3.A - Prijzenblad perceel 1 behorende bij 009668/ET d.d. 12 juni 2025
B4: Uitzendkrachten
B5: U dient alle witte cellen in te vullen.
B6: Alle door de aanbestedende dienst in dit prijzenblad genoemde aantallen zijn indicatief, hieraan kunnen géén rechten worden ontleend.
B8: Kostprijsfactor - Uitzenden
C9: Fase A | D9: Fase BC
B10: Flexibele arbeidskrachten | C10: ='Uitzenden - Factor Fase A'!D47/'Uitzenden - Factor Fase A'!D11 -> 1 | D10: ='Uitzenden - Factor Fase BC'!D44/'Uitzenden - Factor Fase BC'!D11 -> 1
B12: Berekening - Uitzenden
B13: Soort uren | C13: 1 | E13: Gewogen kostprijsfactor
C14: 0.6 | D14: 0.4
B15: Flexibele arbeidskrachten | C15: =C10*C$14 -> 0.6 | D15: =D10*D$14 -> 0.4 | E15: =C15+D15 -> 1
B17: Bureaumarge in euro's - Uitzenden
C18: Fase A-B-C
B20: Flexibele arbeidskrachten | C20: ='Uitzenden - Bureaumarge'!B10 -> 0
C22: Berekening totaalprijs voor 1 jaar uitzenden
C23: Aangeboden door inschrijver | D23: Gem. bruto uurloon | E23: Fictief aantal uren
B24: Gewogen kostprijsfactor - Uitzenden | C24: =E15 -> 1 | D24: =('Uitzenden - Factor Fase A'!D11*C14)+('Uitzenden - Factor Fase BC'!D11*Totaalblad!D14) -> 20.4 | E24: 16100 | F24: =(C24*D24)*E24 -> 328440
B25: Bureaumarge in Euro's - Uitzenden | C25: =C20 -> 0 | E25: 16100 | F25: =C25*E25 -> 0
F26: =SUM(F24:F25) -> 328440 | G26: --> Totaalprijs
B28: Inschrijver verklaart bijgaand prijzenblad naar waarheid te hebben ingevuld.
B29: Naam
B30: Functie
B31: Onderneming
B32: Handtekening
B35: Plaats en datum

Sheet Uitzenden - Factor Fase A
A1: Europese aanbesteding voor Inhuur flexibele arbeidskrachten - Perceel 3 - Beheer buitendienst
A2: Bijlage 3.A - Prijzenblad perceel 1 behorende bij 009668/ET d.d. 12 juni 2025
A4: Uitzendkrachten
A5: U dient alle witte cellen in te vullen.
A6: Alle door de aanbestedende dienst in dit prijzenblad genoemde aantallen zijn indicatief, hieraan kunnen géén rechten worden ontleend.
A8: Kostprijsfactor - Flexibele arbeidskrachten Fase A - Uitzenden
C9: Werkelijk % reservering in kostprijsfactor | D9: Opbouw kostprijs
A10: Basis
A11: Bruto uurloon | C11: 1 | D11: 20
A12: Wachtdagcompensatie | C12: 0 | D12: =C12*C11 -> 0 | E12: Grondslag = Bruto loon
A13: Subtotaal | C13: =SUM(C11:C12) -> 1 | D13: =C13*D11 -> 20
A15: Reserveringen
A16: Vakantiedagen | C16: 0 | E16: Grondslag = bruto loon + wachtdagcompensatie
A17: Feestdagen | C17: 0 | E17: Grondslag = bruto loon + wachtdagcompensatie
A18: Buitengewoon verlof | C18: 0 | E18: Grondslag = bruto loon + wachtdagcompensatie
A19: Kort verzuim | C19: 0
A20: Ziekte | C20: 0 | E20: Grondslag = bruto loon + wachtdagcompensatie
A21: Leegloop | C21: 0
A22: Subtotaal | C22: =SUM(C16:C21) -> 0 | D22: =C22*D13+D13 -> 20
A24: Toeslagen
A25: Vakantietoeslag | C25: 0
A26: Eindejaarsuitkering | C26: 0
A27: Subtotaal | C27: =SUM(C25:C26) -> 0 | D27: =C27*D22+D22 -> 20
A29: Werkgeverslasten
A30: ZVW bijdrage | C30: 0 | E30: Grondslag = Bruto loon + wachtdagcompensatie + reserveringen
A31: Aanvullende ziektewet (AZW) | C31: 0
A32: WW premie | C32: 0
A33: (S)PAWW premie | C33: 0
A34: Sociaal fonds | C34: 0
A35: WA whk premie | C35: 0 | E35: Grondslag = Bruto loon + wachtdagcompensatie + reserveringen
A36: WAO Aof O&O afdracht | C36: 0 | E36: Grondslag = Bruto loon + wachtdagcompensatie + reserveringen
A37: Pensioen | C37: 0 | E37: Grondslag = Bruto loon + wachtdagcompensatie + reserveringen
A38: Opleiding / Duurzame inzetbaarheid | C38: 0
A39: Subtotaal | C39: =SUM(C30:C38) -> 0 | D39: =C39*D27+D27 -> 20
A41: Directe lasten
A42: Overige directe lasten* | E42: Grondslag = Bruto loon + wachtdagcompensatie + reserveringen + Wg Lasten
C43: 0
C44: 0
A45: Subtotaal | C45: =SUM(C43:C44) -> 0 | D45: =C45*D39+D39 -> 20
A47: Kostprijs % excl. BTW | D47: =D45 -> 20
...

Sheet Uitzenden - Factor Fase BC
A1: Europese aanbesteding voor Inhuur flexibele arbeidskrachten - Perceel 3 - Beheer buitendienst
A2: Bijlage 3.A - Prijzenblad perceel 1 behorende bij 009668/ET d.d. 12 juni 2025
A4: Uitzendkrachten
A5: U dient alle witte cellen in te vullen.
A6: Alle door de aanbestedende dienst in dit prijzenblad genoemde aantallen zijn indicatief, hieraan kunnen géén rechten worden ontleend.
A8: Kostprijsfactor - Flexibele arbeidskrachten Fase B-C Uitzenden
C9: Werkelijk % reservering in kostprijsfactor | D9: Opbouw kostprijs
A10: Basis
A11: Brutoloon | C11: 1 | D11: 21
A12: Wachtdagcompensatie | C12: 0 | D12: =C12*C11 -> 0 | E12: Grondslag = Bruto loon
A13: Subtotaal | C13: =SUM(C11:C12) -> 1 | D13: =C13*D11 -> 21
A15: Reserveringen
A16: Vakantiedagen | C16: 0 | E16: Grondslag = bruto loon + wachtdagcompensatie
A17: Feestdagen | C17: 0 | E17: Grondslag = bruto loon + wachtdagcompensatie
A18: Buitengewoon verlof | C18: 0
A19: Kort verzuim | C19: 0 | E19: Grondslag = bruto loon + wachtdagcompensatie
A20: Ziekte | C20: 0 | E20: Grondslag = bruto loon + wachtdagcompensatie
A21: Leegloop | C21: 0
A22: Subtotaal | C22: =SUM(C16:C21) -> 0 | D22: =C22*D13+D13 -> 21
A24: Vakantietoeslag | C24: 0
A25: Eindejaarsuitkering | C25: 0
A26: Subtotaal | C26: =SUM(C24:C25) -> 0 | D26: =C26*D22+D22 -> 21
A28: Werkgeverslasten
A29: ZVW bijdrage | C29: 0 | E29: Grondslag = Bruto loon + wachtdagcompensatie + reserveringen
A30: Aanvullende ziektewet (AZW) | C30: 0
A31: WW premie | C31: 0
A32: (S)PAWW premie | C32: 0
A33: Sociaal fonds | C33: 0
A34: WA whk premie | C34: 0 | E34: Grondslag = Bruto loon + wachtdagcompensatie + reserveringen
A35: WAO Aof O&O afdracht | C35: 0 | E35: Grondslag = Bruto loon + wachtdagcompensatie + reserveringen
A36: Pensioen | C36: 0 | E36: Grondslag = Bruto loon + wachtdagcompensatie + reserveringen
A37: Duurzame inzetbaarheid | C37: 0
A38: Subtotaal | C38: =SUM(C29:C37) -> 0 | D38: =C38*D26+D26 -> 21
A40: Directe lasten
A41: Overige directe lasten* | E41: Grondslag = Bruto loon + wachtdagcompensatie + reserveringen + Wg Lasten
A42: Subtotaal | C42: 0 | D42: =C42*D38+D38 -> 21
C43: 0
A44: Kostprijsfactor excl. BTW | D44: =D42 -> 21
A46: * Overige directe lasten mogen enkel de uniek bij de functie behorende directe lasten te betreffen. En dienen expliciet geen lasten te zijn die behoren tot de bureaumarge.
A47: De aanbestedende dienst is gerechtigd een nadere uitsplitsing van de directe lasten op te vragen. Mocht naar mening van de aanbestedende dienst
...

Sheet Uitzenden - Bureaumarge
A1: =Totaalblad!B1 -> Europese aanbesteding voor Inhuur flexibele arbeidskrachten - Perceel 3 - Beheer buitendienst
A2: =Totaalblad!B2 -> Bijlage 3.A - Prijzenblad perceel 1 behorende bij 009668/ET d.d. 12 juni 2025
A5: =Totaalblad!B5 -> U dient alle witte cellen in te vullen.
A6: =Totaalblad!B6 -> Alle door de aanbestedende dienst in dit prijzenblad genoemde aantallen zijn indicatief, hieraan kunnen géén rechten worden ontleend.
B8: Bureaumarge per uur in euro's
B9: Fase A-B-C
B10: 0
A12: Inschrijver
A13: Naam
A14: Functie
A15: Onderneming
A16: Handtekening
A19: Plaats en datum
