Workbook
Name _______DAT1: #REF!
Name _______DAT1: #REF!
Name _______DAT1: #REF!
Name _______DAT1: #REF!
Name _______DAT1: #REF!
Name _______DAT1: #REF!
Name _______DAT10: #REF!
Name _______DAT10: #REF!
Name _______DAT10: #REF!
Name _______DAT10: #REF!
Name _______DAT11: #REF!
Name _______DAT11: #REF!
Name _______DAT11: #REF!
Name _______DAT11: #REF!
Name _______DAT12: #REF!
Name _______DAT12: #REF!
Name _______DAT12: #REF!
Name _______DAT12: #REF!
Name _______DAT13: #REF!
Name _______DAT13: #REF!
Name _______DAT13: #REF!
Name _______DAT13: #REF!
Name _______DAT14: #REF!
Name _______DAT14: #REF!
Name _______DAT14: #REF!
Name _______DAT14: #REF!
Name _______DAT15: #REF!
Name _______DAT15: #REF!
Name _______DAT15: #REF!
Name _______DAT15: #REF!
Name _______DAT16: #REF!
Name _______DAT16: #REF!
Name _______DAT16: #REF!
Name _______DAT16: #REF!
Name _______DAT17: #REF!
Name _______DAT17: #REF!
Name _______DAT17: #REF!
Name _______DAT17: #REF!
Name _______DAT18: #REF!
Name _______DAT18: #REF!
Name _______DAT18: #REF!
Name _______DAT18: #REF!
Name _______DAT19: #REF!
Name _______DAT19: #REF!
Name _______DAT19: #REF!
Name _______DAT19: #REF!
Name _______DAT2: #REF!
Name _______DAT2: #REF!
Name _______DAT2: #REF!
Name _______DAT2: #REF!
Name _______DAT20: #REF!
Name _______DAT20: #REF!
Name _______DAT20: #REF!
Name _______DAT20: #REF!
Name _______DAT21: #REF!
Name _______DAT21: #REF!
Name _______DAT21: #REF!
Name _______DAT21: #REF!
Name _______DAT22: #REF!
Name _______DAT22: #REF!

Sheet Voorblad
B1: Bijlage A - Prijzenblad (incl. Doelgroepenlijst)
B3: Europese openbare aanbesteding
B4: Broker inhuur externen
B6: Instructie:
B7: 1. Format en indeling niet wijzigen
B8: 2. Vul de lichtblauwe velden in.
B9: 3. Inschrijvers dienen deze Bijlage, het Prijzenblad, volledig in te vullen.
B10: 4. Alle prijzen: exclusief BTW
B11: 5. Prijzenblad dient rechtsgeldig (digitaal) ondertekend te worden door een tekenbevoegd persoon (op deze pagina)
B13: Copyright ©2025 Samenwerking Beroepsonderwijs Bedrijfsleven (SBB)
B14: Niets uit deze uitgave mag worden verveelvoudigd, opgeslagen in een geautomatiseerd gegevensbestand, of openbaar gemaakt, in enige vorm of op enige wijze, hetzij elektronisch, mechanisch, door fotokopieën, opnamen of enig andere manier, zonder voorafgaande schriftelijke toestemming van Samenwerking Beroepsonderwijs Bedrijfsleven (SBB).
B16: Classificatie: vertrouwelijk
B20: Naam Inschrijver | D20: Naam tekenbevoegd persoon:
B21: <Naam> | D21: <Naam>
B23: Datum: | D23: Handtekening tekenbevoegd persoon:
B24: <Datum>

Sheet 1.Algemene info
B1: Toelichting tariefopbouw (vereenvoudigde weergave)
C4: Opslag type 1 | D4: Opslag type 2
B6: Opslag | C6: Opslag Intermediaire dienst inclusief contractmngt < 800 uur Inclusief alle kosten voor Diensten zoals systemen en portals. Voor de eerste 800 te factureren uren per Nadere Overeenkomst. Ook van toepassing voor Zzp-opdrachten. (incl contract service) - tot 800 uren | D6: ='2.Invulblad Opslagen'!C7 -> Opslag Contractmanagement (Contract Service) migratie contracten en > 800 gefactureerde uren. Inclusief alle kosten voor Diensten zoals systemen en portals. Voor alle uren, na 800 uur. Ook van toepassing voor Zzp-opdrachten > 800 uur. | F6: Inhuurtarief (facturatie)
B7: Uurtarief | C7: Overeengekomen Uurtarief per uur. Richtlijntarieven van toepassing. | D7: Overeengekomen Inhuurtarief per uur. Richtlijntarieven van toepassing, niet voor gemigreerde contracten.
C15: Inhuurprofessionals | D15: Inhuurprofessionals
C17: Er kan maximaal 1 Opslag per Nadere Overeenkomst (inzet) worden toegepast.
C19: Copyright ©2025 Samenwerking Beroepsonderwijs Bedrijfsleven. Niets uit deze uitgave mag worden verveelvoudigd zonder toestemming van Samenwerking Beroepsonderwijs Bedrijfsleven.

Sheet 2.Invulblad Opslagen
C1: Invulblad Opslagen
C3: Vul de blauwe velden in (verplichting)!
C5: Type Opslag | D5: Korte toelichting | E5: Opslag te betalen door Opdrachtgever* | F5: Minimale Opslag te betalen door Opdrachtgever (begrenzing) | G5: Maximale Opslag te betalen door Opdrachtgever (begrenzing)
B6: 1 | C6: Opslag Intermediaire dienst inclusief contractmngt < 800 uur Inclusief alle kosten voor Diensten zoals systemen en portals. Voor de eerste 800 te factureren uren per Nadere Overeenkomst. Ook van toepassing voor Zzp-opdrachten. (incl contract service) - tot 800 uren | D6: Als Opslag op het Uurtarief van Toeleveranciers. Inclusief de kosten voor sourcing, contractmanagement, implementatie, exit, etc. Een vaste absolute Opslag per gefactureerd uur. Deze Opslag geldt voor de periode < 800 ingezette uren. | F6: 2 | G6: 3.5
B7: 2 | C7: Opslag Contractmanagement (Contract Service) migratie contracten en > 800 gefactureerde uren. Inclusief alle kosten voor Diensten zoals systemen en portals. Voor alle uren, na 800 uur. Ook van toepassing voor Zzp-opdrachten > 800 uur. | D7: Idem aan 1 echter bedoeld voor de, ten tijde van definitieve gunning, actieve Nadere Overeenkomsten welke bij Inschrijver worden ondergebracht (gemigreerd) alsook voor de periode > 800 ingezette uren. | F7: 1 | G7: 2
C10: * Let op! Opslagen worden afgerond op 2 decimalen achter de komma.
C11: * Let op! Uw inschrijving is ongeldig en wordt niet verder in behandeling genomen indien de inschrijfprijs onder of boven de grenswaarde ligt.
C12: Bedragen exclusief btw
C14: Copyright ©2025 Samenwerking Beroepsonderwijs Bedrijfsleven (SBB). Niets uit deze uitgave mag worden verveelvoudigd zonder toestemming van Samenwerking Beroepsonderwijs Bedrijfsleven (SBB).

Sheet 3. Invulblad Doel%
B1: Invulblad Doelstellingspercentage per doelgroep
B3: Toelichting
B4: Van Inschrijver wordt verwacht dat hij per doelgroep, opgenomen in de Richtlijntarieven zoals bijgesloten in het tabblad 6. Richtlijntarieven, aangeeft met welk percentage
B5: onder, op of boven de maximale eindschaal Inschrijver in staat is om de Aanvragen te vervullen. Het ingevoerde percentage per doelgroep wordt gewogen berekend
B6: op basis van het inhuurvolume per doelgroep en zal als gewogen percentage gebruikt worden voor de aanpassing van het fictieve inhuurtarief ten behoeve van het
B7: bepalen van de Inschrijfprijs.
B9: Door Opdrachtgever zijn de toe te passen percentages begrenst op een maximale verlaging van -10% en en maximale verhoging van 5%.
B11: Lager dan wel hoger inschalen dan de vooraf bepaalde percentages door Opdrachtgever is niet toegestaan (o.a. in verband met juiste beloning conform wet- en regelgeving)
B13: Vul de lichtblauwe velden in (verplichting)
B14: Nr. | C14: Doelgroep | D14: Voorbeeldfuncties (gebaseerd op huidige inhuurbestand, niet uitputtend) | E14: Doelstellings-percentage Inschijver | F14: Percentage van de totale inhuurbehoefte | G14: Gewogen ter berekening van totaal gewogen percentage
B15: 1 | C15: Advies | D15: Adviseur Praktijleren , Consultant etc. | F15: 0.075 | G15: =F15*E15 -> 0
B16: 2 | C16: Beleid en bestuur | D16: Beleidsmedewerkers Expertisepunt SV etc. | F16: 0.025 | G16: =F16*E16 -> 0
B17: 3 | C17: Communicatie | D17: Communicatie adviseur, Manager Communicatie, Medior Communicatie adviseur, Sr. Communicatie adviseur Actieplan etc. | F17: 0.125 | G17: =F17*E17 -> 0
B18: 4 | C18: Data analytics | D18: Data-specialist/Analist, Informatie analist, Informatiespecialist, Onderzoeker , Onderzoeker Klantwaardering, Trendonderzoeker etc. | F18: 0.25 | G18: =F18*E18 -> 0
B19: 5 | C19: HR | D19: Beleidsadviseur arbeidsvoorwaarden en medezeggenschap , HR Adviseur, HR Medewerker, Manager HR, Recruiter, Senior HR Adviseur, Senior HR Adviseur Arbeidsvoorwaarden etc. | F19: 0.2 | G19: =F19*E19 -> 0
B20: 6 | C20: Inkoop | D20: Junior Inkoopadviseur, Senior Inkoopadviseur etc. | F20: 0.05 | G20: =F20*E20 -> 0
B21: 7 | C21: IT beheer | D21: Functioneel Applicatie Beheerder, Functioneel Beheerder AFAS etc. | F21: 0.1 | G21: =F21*E21 -> 0
B22: 8 | C22: Juridisch | D22: Jurist etc. | F22: 0.025 | G22: =F22*E22 -> 0
B23: 9 | C23: Programma- en projectmanagement | D23: Adviseur met Projectervaring, Pilotbegeleider, Portfoliomanager, Programmamanager WaU, Projectleider Expertisepunt SV, Projectleider Innovatieve dienstverlening etc. | F23: 0.15 | G23: =F23*E23 -> 0
D24: Totaal gewogen percentage (ter berekening van Inschrijfprijs) | E24: =SUM(G15:G23) -> 0 | F24: =SUM(F15:F23) -> 1
F25: =COUNTA(B15:B23) -> 9
C27: Zie tabblad 6. Richtlijntarieven voor de maximale richtlijntarieven per doelgroep
C28: Aangeboden Doelstellingspercentages worden opgenomen in de KPI-rapportage en jaarlijks middels een resultaatmeting getoetst.
C30: Copyright ©2025 Samenwerking Beroepsonderwijs Bedrijfsleven (SBB). Niets uit deze uitgave mag worden verveelvoudigd zonder toestemming van Samenwerking Beroepsonderwijs Bedrijfsleven (SBB).

Sheet 4.Berekening Inschrijfprijs
B1: Inschrijfprijs (in te vullen door Opdrachtgever)
B3: Berekening van de Inschrijfprijs | C3: Uren* | D3: Tarief** | E3: Aangeboden Broker-opslag | F3: Aangeboden gewogen doelstellings percentage | G3: Aangepast tarief* o.b.v. doelstellings percentage | H3: Inschrijfprijs
B4: Opslag Intermediaire dienst inclusief contractmngt < 800 uur | C4: =78749.14/2 -> 39374.57 | D4: 99.96 | E4: ='2.Invulblad Opslagen'!E6 -> 0 | F4: ='3. Invulblad Doel%'!E24 -> 0 | G4: =D4*(1+F4) -> 99.96 | H4: =IF(E4=0,0,(C4*G4)+(C4*E4)) -> 0
B5: Opslag Contractmanagement migratie contracten en > 800 gefactureerde uren | C5: 39374.57 | D5: 99.96 | E5: ='2.Invulblad Opslagen'!E7 -> 0 | F5: ='3. Invulblad Doel%'!E24 -> 0 | G5: =D5*(1+F5) -> 99.96 | H5: =IF(E5=0,0,(C5*G5)+(C5*E5)) -> 0
F6: Totaal Inschrijfprijs | H6: =ROUND(SUM(H4:H5),0) -> 0
B7: *Bevat fictieve data om inschrijvingen te kunnen vergelijken en strategisch inschrijven te voorkomen.
B8: **Bevat een gemiddeld gewogen inhuurtarief obv huidige inhuurpopulatie binnen SBB periode 1-01-2022 tot 31-12-2025
B10: Copyright ©2025 Samenwerking Beroepsonderwijs Bedrijfsleven (SBB). Niets uit deze uitgave mag worden verveelvoudigd zonder toestemming van Samenwerking Beroepsonderwijs Bedrijfsleven (SBB).

Sheet 5.Prijsscore
B1: Prijsscore (in te vullen door Opdrachtgever)
B4: Inschrijfprijs | C4: Prijs van Inschrijver | D4: Minimale Inschrijfprijs | E4: Maximale Inschrijfprijs
B5: Uw totale inschrijfprijs | C5: ='4.Berekening Inschrijfprijs'!H6 -> 0 | D5: 7202711 | E5: 8481912
B6: Uw totale inschrijfprijs (controleveld) | C6: =IF(C5>E5,"Prijs is buiten de bandbreedte en is een ongeldige Inschrijving",IF(C5<D5,"Prijs is buiten de bandbreedte en is een ongeldige Inschrijving",C5:C5)) -> Prijs is buiten de bandbreedte en is een ongeldige Inschrijving
B9: Omschrijving | C9: Bandbreedte | D9: Punten Prijs
B10: Maximale Inschrijfprijs | C10: =E5 -> 8481912 | D10: 0
B11: Minimale Inschrijfprijs | C11: =D5 -> 7202711 | D11: 30
B13: Punten Inschrijver Subgunningscriterium Prijs | D13: =IFERROR(D11 - (C6 - C11)/(C10-C11)*(D11),0) -> 0
B36: 1.0425693e+08 | C36: 1.0781653e+08

Sheet Richtlijntarieven (totaal)
B1: Richtlijntarieven Inhuur Professionals
C3: Richtlijntarieven | H3: Doelgroep | J3: Advies | O3: Richtlijntarieven
D5: Begin | G5: Midden | J5: Eind
C6: Schaal | D6: Minimum Richttarief | E6: Maximum Richttarief | G6: Minimum Richttarief | H6: Maximum Richttarief | J6: Minimum Richttarief | K6: Maximum Richttarief | N6: Uurtarieven inclusief loonkosten, vaste nominale Marktopslag per schaal, reis/ autokosten en opleidingskosten. Voor deze Functiegroepen geldt geen overwerk EXCLUSIEF BTW
C7: 9 | D7: 62.75 | E7: 69 | G7: 70.75 | H7: 77 | J7: 79 | K7: 85
C8: 10 | D8: 69 | E8: 76.25 | G8: 78.5 | H8: 85.75 | J8: 88 | K8: 95.5
C9: 11 | D9: 77.5 | E9: 86 | G9: 88.5 | H9: 97 | J9: 99.75 | K9: 107.5
C10: 12 | D10: 88.5 | E10: 98.5 | G10: 101.25 | H10: 109.75 | J10: 113 | K10: 121.5
C11: 13 | D11: 103.25 | E11: 112.75 | G11: 116 | H11: 125.5 | J11: 129 | K11: 138.5
C12: 14 | D12: 113.25 | E12: 123.5 | G12: 127.25 | H12: 137.75 | J12: 141.75 | K12: 152.25
C13: 15 | D13: 124 | E13: 135.25 | G13: 139.25 | H13: 150.5 | J13: 155 | K13: 166
C16: Richtlijntarieven | H16: Doelgroep | J16: Beleid en bestuur | O16: Richtlijntarieven
D18: Begin | G18: Midden | J18: Eind
C19: Schaal | D19: Minimum Richttarief | E19: Maximum Richttarief | G19: Minimum Richttarief | H19: Maximum Richttarief | J19: Minimum Richttarief | K19: Maximum Richttarief | N19: Uurtarieven inclusief loonkosten, vaste nominale Marktopslag per schaal, reis/ autokosten en opleidingskosten. Voor deze Functiegroepen geldt geen overwerk EXCLUSIEF BTW
C20: 9 | D20: 63.25 | E20: 69.25 | G20: 71.25 | H20: 77.25 | J20: 79.5 | K20: 85.5
C21: 10 | D21: 69.5 | E21: 76.75 | G21: 78.75 | H21: 86.25 | J21: 88.5 | K21: 96
C22: 11 | D22: 78 | E22: 86.5 | G22: 89 | H22: 97.75 | J22: 100.5 | K22: 108
C23: 12 | D23: 89 | E23: 99 | G23: 101.75 | H23: 110.5 | J23: 113.5 | K23: 122.25
C24: 13 | D24: 103.75 | E24: 113.25 | G24: 116.75 | H24: 126.25 | J24: 129.75 | K24: 139.5
C25: 14 | D25: 113.75 | E25: 124.25 | G25: 128 | H25: 138.5 | J25: 142.5 | K25: 153
C26: 15 | D26: 123 | E26: 134.25 | G26: 138.25 | H26: 149.5 | J26: 154 | K26: 165
C29: Richtlijntarieven | H29: Doelgroep | J29: Communicatie | O29: Richtlijntarieven
D31: Begin | G31: Midden | J31: Eind
C32: Schaal | D32: Minimum Richttarief | E32: Maximum Richttarief | G32: Minimum Richttarief | H32: Maximum Richttarief | J32: Minimum Richttarief | K32: Maximum Richttarief | N32: Uurtarieven inclusief loonkosten, vaste nominale Marktopslag per schaal, reis/ autokosten en opleidingskosten. Voor deze Functiegroepen geldt geen overwerk EXCLUSIEF BTW
C33: 9 | D33: 59.75 | E33: 65.75 | G33: 67.25 | H33: 73.5 | J33: 75 | K33: 81.25
C34: 10 | D34: 65.5 | E34: 72.75 | G34: 74.5 | H34: 81.75 | J34: 83.75 | K34: 91
C35: 11 | D35: 73.5 | E35: 82 | G35: 84 | H35: 92.5 | J35: 94.75 | K35: 102.25
C36: 12 | D36: 83.75 | E36: 93.75 | G36: 96 | H36: 104.75 | J36: 107.25 | K36: 115.75
C37: 13 | D37: 98 | E37: 107.5 | G37: 110 | H37: 119.5 | J37: 122.5 | K37: 132
C38: 14 | D38: 107.25 | E38: 117.75 | G38: 120.75 | H38: 131.25 | J38: 134.5 | K38: 145
C39: 15 | D39: 116 | E39: 127 | G39: 130.25 | H39: 141.5 | J39: 145.25 | K39: 156
C42: Richtlijntarieven | H42: Doelgroep | J42: Data analytics | O42: Richtlijntarieven
D44: Begin | G44: Midden | J44: Eind
C45: Schaal | D45: Minimum Richttarief | E45: Maximum Richttarief | G45: Minimum Richttarief | H45: Maximum Richttarief | J45: Minimum Richttarief | K45: Maximum Richttarief | N45: Uurtarieven inclusief loonkosten, vaste nominale Marktopslag per schaal, reis/ autokosten en opleidingskosten. Voor deze Functiegroepen geldt geen overwerk EXCLUSIEF BTW
C46: 9 | D46: 63.75 | E46: 69.75 | G46: 71.75 | H46: 77.75 | J46: 80 | K46: 86.25
C47: 10 | D47: 70.25 | E47: 77.5 | G47: 79.75 | H47: 87.25 | J47: 89.5 | K47: 97
C48: 11 | D48: 80 | E48: 88.5 | G48: 91.25 | H48: 99.75 | J48: 102.75 | K48: 110.25
C49: 12 | D49: 91.25 | E49: 101 | G49: 104.25 | H49: 112.75 | J49: 116.25 | K49: 124.75
C50: 13 | D50: 106.25 | E50: 115.75 | G50: 119.5 | H50: 129 | J50: 133 | K50: 142.5
C51: 14 | D51: 116.5 | E51: 127 | G51: 131 | H51: 141.5 | J51: 146 | K51: 156.5
C52: 15 | D52: 125.25 | E52: 136.5 | G52: 140.75 | H52: 152 | J52: 156.75 | K52: 167.75
C55: Richtlijntarieven | H55: Doelgroep | J55: HR | O55: Richtlijntarieven
D57: Begin | G57: Midden | J57: Eind
C58: Schaal | D58: Minimum Richttarief | E58: Maximum Richttarief | G58: Minimum Richttarief | H58: Maximum Richttarief | J58: Minimum Richttarief | K58: Maximum Richttarief | N58: Uurtarieven inclusief loonkosten, vaste nominale Marktopslag per schaal, reis/ autokosten en opleidingskosten. Voor deze Functiegroepen geldt geen overwerk EXCLUSIEF BTW
C59: 9 | D59: 60.5 | E59: 66.75 | G59: 68.25 | H59: 74.5 | J59: 76.25 | K59: 82.25
C60: 10 | D60: 66.5 | E60: 73.75 | G60: 75.5 | H60: 83 | J60: 85 | K60: 92.25
C61: 11 | D61: 74.5 | E61: 83.25 | G61: 85.25 | H61: 93.75 | J61: 96.25 | K61: 103.75
C62: 12 | D62: 85.25 | E62: 95 | G62: 97.5 | H62: 106 | J62: 108.75 | K62: 117.5
C63: 13 | D63: 99.5 | E63: 109 | G63: 111.75 | H63: 121.25 | J63: 124.5 | K63: 134
C64: 14 | D64: 109 | E64: 119.5 | G64: 122.5 | H64: 133 | J64: 136.5 | K64: 147
C65: 15 | D65: 117.75 | E65: 129 | G65: 132.5 | H65: 143.5 | J65: 147.5 | K65: 158.25
C68: Richtlijntarieven | H68: Doelgroep | J68: Inkoop | O68: Richtlijntarieven
D70: Begin | G70: Midden | J70: Eind
C71: Schaal | D71: Minimum Richttarief | E71: Maximum Richttarief | G71: Minimum Richttarief | H71: Maximum Richttarief | J71: Minimum Richttarief | K71: Maximum Richttarief | N71: Uurtarieven inclusief loonkosten, vaste nominale Marktopslag per schaal, reis/ autokosten en opleidingskosten. Voor deze Functiegroepen geldt geen overwerk EXCLUSIEF BTW
C72: 9 | D72: 62.75 | E72: 69 | G72: 70.75 | H72: 77 | J72: 79 | K72: 85
C73: 10 | D73: 69 | E73: 76.25 | G73: 78.25 | H73: 85.5 | J73: 88 | K73: 95.25
C74: 11 | D74: 78 | E74: 86.5 | G74: 89 | H74: 97.5 | J74: 100.5 | K74: 108
C75: 12 | D75: 89 | E75: 99 | G75: 101.75 | H75: 110.5 | J75: 113.75 | K75: 122.25
C76: 13 | D76: 102.25 | E76: 111.75 | G76: 114.75 | H76: 124.25 | J76: 127.75 | K76: 137.25
C77: 14 | D77: 113 | E77: 123.5 | G77: 127 | H77: 137.5 | J77: 141.5 | K77: 152
C78: 15 | D78: 122 | E78: 133.25 | G78: 137.25 | H78: 148.5 | J78: 152.75 | K78: 163.75
C81: Richtlijntarieven | H81: Doelgroep | J81: IT beheer | O81: Richtlijntarieven
D83: Begin | G83: Midden | J83: Eind
C84: Schaal | D84: Minimum Richttarief | E84: Maximum Richttarief | G84: Minimum Richttarief | H84: Maximum Richttarief | J84: Minimum Richttarief | K84: Maximum Richttarief | N84: Uurtarieven inclusief loonkosten, vaste nominale Marktopslag per schaal, reis/ autokosten en opleidingskosten. Voor deze Functiegroepen geldt geen overwerk EXCLUSIEF BTW
C85: 9 | D85: 62 | E85: 68 | G85: 69.75 | H85: 76 | J85: 77.75 | K85: 84
C86: 10 | D86: 68 | E86: 75.25 | G86: 77.25 | H86: 84.5 | J86: 86.75 | K86: 94.25
C87: 11 | D87: 76.25 | E87: 85 | G87: 87.25 | H87: 95.75 | J87: 98.5 | K87: 106
C88: 12 | D88: 87.25 | E88: 97 | G88: 99.75 | H88: 108.25 | J88: 111.25 | K88: 119.75
C89: 13 | D89: 101.75 | E89: 111.25 | G89: 114.25 | H89: 123.75 | J89: 127.25 | K89: 136.75
C90: 14 | D90: 111.5 | E90: 122 | G90: 125.5 | H90: 135.75 | J90: 139.75 | K90: 150.25
C91: 15 | D91: 120.5 | E91: 131.75 | G91: 135.5 | H91: 146.75 | J91: 151 | K91: 161.75
C94: Richtlijntarieven | H94: Doelgroep | J94: Juridisch | O94: Richtlijntarieven
D96: Begin | G96: Midden | J96: Eind
C97: Schaal | D97: Minimum Richttarief | E97: Maximum Richttarief | G97: Minimum Richttarief | H97: Maximum Richttarief | J97: Minimum Richttarief | K97: Maximum Richttarief | N97: Uurtarieven inclusief loonkosten, vaste nominale Marktopslag per schaal, reis/ autokosten en opleidingskosten. Voor deze Functiegroepen geldt geen overwerk EXCLUSIEF BTW
C98: 9 | D98: 62.5 | E98: 68.5 | G98: 70.5 | H98: 76.5 | J98: 78.5 | K98: 84.75
C99: 10 | D99: 68.5 | E99: 75.75 | G99: 77.75 | H99: 85.25 | J99: 87.5 | K99: 94.75
C100: 11 | D100: 78.5 | E100: 87 | G100: 89.5 | H100: 98.25 | J100: 101 | K100: 108.5
C101: 12 | D101: 89.25 | E101: 99.25 | G101: 102 | H101: 110.5 | J101: 113.75 | K101: 122.5
C102: 13 | D102: 103.75 | E102: 113.25 | G102: 116.5 | H102: 126 | J102: 129.75 | K102: 139.25
C103: 14 | D103: 113.5 | E103: 124 | G103: 127.5 | H103: 138 | J103: 142 | K103: 152.5
C104: 15 | D104: 122.5 | E104: 133.75 | G104: 137.5 | H104: 148.75 | J104: 153.25 | K104: 164.25
C107: Richtlijntarieven | H107: Doelgroep | J107: Programma- en projectmanagement | O107: Richtlijntarieven
D109: Begin | G109: Midden | J109: Eind
C110: Schaal | D110: Minimum Richttarief | E110: Maximum Richttarief | G110: Minimum Richttarief | H110: Maximum Richttarief | J110: Minimum Richttarief | K110: Maximum Richttarief | N110: Uurtarieven inclusief loonkosten, vaste nominale Marktopslag per schaal, reis/ autokosten en opleidingskosten. Voor deze Functiegroepen geldt geen overwerk EXCLUSIEF BTW
C111: 9 | D111: 63.25 | E111: 69.5 | G111: 71.25 | H111: 77.5 | J111: 79.5 | K111: 85.75
C112: 10 | D112: 69.5 | E112: 76.75 | G112: 79 | H112: 86.25 | J112: 88.75 | K112: 96
C113: 11 | D113: 79.75 | E113: 88.25 | G113: 91 | H113: 99.5 | J113: 102.5 | K113: 110
C114: 12 | D114: 89.25 | E114: 99 | G114: 102 | H114: 110.5 | J114: 113.75 | K114: 122.25
C115: 13 | D115: 104 | E115: 113.5 | G115: 116.75 | H115: 126.25 | J115: 130 | K115: 139.5
C116: 14 | D116: 114 | E116: 124.5 | G116: 128.25 | H116: 138.75 | J116: 142.75 | K116: 153.25
C117: 15 | D117: 123.25 | E117: 134.5 | G117: 138.5 | H117: 149.75 | J117: 154.25 | K117: 165.25
