Workbook
Name SCORE: 'Beoordelen open vragen'!$A$7:$A$12

Sheet Beoordelen open vragen
A1: Beantwoording open vragen
A2: Om de kwaliteit en toegevoegde waarde van de inschrijver(s) te kunnen beoordelen dient inschrijver haar kwaliteit aan te tonen en meerwaarde uit te werken conform onderstaande open vragen.
A3: OPEN VRAAG 1 Milieu en duurzaamheid
A4: Zie bijlage 7b 'kwaliteit' Perceel 2.
A5: OPEN VRAAG 2 Uitvoering dienstverlening
A6: Zie bijlage 7b 'kwaliteit' Perceel 2.
A7: Score:
A8: Uitmuntend
A9: Goed
A10: Voldoende
A11: Matig
A12: Onvoldoende

Sheet Beoordelaar 1
A1: Beoordelaar 1: <<>> | C1: Inschrijver 1 | F1: Inschrijver 2 | I1: Inschrijver 3
A3: ='Beoordelen open vragen'!A3 -> OPEN VRAAG 1 Milieu en duurzaamheid | C3: Score: | F3: Score: | I3: Score:
A4: ='Beoordelen open vragen'!A4 -> Zie bijlage 7b 'kwaliteit' Perceel 2. | C4: <MOTIVATIE> | F4: <MOTIVATIE> | I4: <MOTIVATIE>
A5: ='Beoordelen open vragen'!A5 -> OPEN VRAAG 2 Uitvoering dienstverlening | C5: Score: | F5: Score: | I5: Score:
A6: ='Beoordelen open vragen'!A6 -> Zie bijlage 7b 'kwaliteit' Perceel 2. | C6: <MOTIVATIE> | F6: <MOTIVATIE> | I6: <MOTIVATIE>

Sheet Beoordelaar 2
A1: Beoordelaar 2: <<>> | C1: ='Beoordelaar 1'!C1 -> Inschrijver 1 | F1: ='Beoordelaar 1'!F1 -> Inschrijver 2 | I1: ='Beoordelaar 1'!I1 -> Inschrijver 3
A3: ='Beoordelen open vragen'!A3 -> OPEN VRAAG 1 Milieu en duurzaamheid | C3: Score: | F3: Score: | I3: Score:
A4: ='Beoordelen open vragen'!A4 -> Zie bijlage 7b 'kwaliteit' Perceel 2. | C4: <MOTIVATIE> | F4: <MOTIVATIE> | I4: <MOTIVATIE>
A5: ='Beoordelen open vragen'!A5 -> OPEN VRAAG 2 Uitvoering dienstverlening | C5: Score: | F5: Score: | I5: Score:
A6: ='Beoordelen open vragen'!A6 -> Zie bijlage 7b 'kwaliteit' Perceel 2. | C6: <MOTIVATIE> | F6: <MOTIVATIE> | I6: <MOTIVATIE>

Sheet Beoordelaar 3
A1: Beoordelaar 3: <<>> | C1: ='Beoordelaar 1'!C1 -> Inschrijver 1 | F1: ='Beoordelaar 1'!F1 -> Inschrijver 2 | I1: ='Beoordelaar 1'!I1 -> Inschrijver 3
A3: ='Beoordelen open vragen'!A3 -> OPEN VRAAG 1 Milieu en duurzaamheid | C3: Score: | F3: Score: | I3: Score:
A4: ='Beoordelen open vragen'!A4 -> Zie bijlage 7b 'kwaliteit' Perceel 2. | C4: <MOTIVATIE> | F4: <MOTIVATIE> | I4: <MOTIVATIE>
A5: ='Beoordelen open vragen'!A5 -> OPEN VRAAG 2 Uitvoering dienstverlening | C5: Score: | F5: Score: | I5: Score:
A6: ='Beoordelen open vragen'!A6 -> Zie bijlage 7b 'kwaliteit' Perceel 2. | C6: <MOTIVATIE> | F6: <MOTIVATIE> | I6: <MOTIVATIE>

Sheet Beoordelaar 4
A1: Beoordelaar 4: <<>> | C1: ='Beoordelaar 1'!C1 -> Inschrijver 1 | F1: ='Beoordelaar 1'!F1 -> Inschrijver 2 | I1: ='Beoordelaar 1'!I1 -> Inschrijver 3
A3: ='Beoordelen open vragen'!A3 -> OPEN VRAAG 1 Milieu en duurzaamheid | C3: Score: | F3: Score: | I3: Score:
A4: ='Beoordelen open vragen'!A4 -> Zie bijlage 7b 'kwaliteit' Perceel 2. | C4: <MOTIVATIE> | F4: <MOTIVATIE> | I4: <MOTIVATIE>
A5: ='Beoordelen open vragen'!A5 -> OPEN VRAAG 2 Uitvoering dienstverlening | C5: Score: | F5: Score: | I5: Score:
A6: ='Beoordelen open vragen'!A6 -> Zie bijlage 7b 'kwaliteit' Perceel 2. | C6: <MOTIVATIE> | F6: <MOTIVATIE> | I6: <MOTIVATIE>

Sheet Beoordelaar 5
A1: Beoordelaar 5: <<>> | C1: ='Beoordelaar 1'!C1 -> Inschrijver 1 | F1: ='Beoordelaar 1'!F1 -> Inschrijver 2 | I1: ='Beoordelaar 1'!I1 -> Inschrijver 3
A3: ='Beoordelen open vragen'!A3 -> OPEN VRAAG 1 Milieu en duurzaamheid | C3: Score: | F3: Score: | I3: Score:
A4: ='Beoordelen open vragen'!A4 -> Zie bijlage 7b 'kwaliteit' Perceel 2. | C4: <MOTIVATIE> | F4: <MOTIVATIE> | I4: <MOTIVATIE>
A5: ='Beoordelen open vragen'!A5 -> OPEN VRAAG 2 Uitvoering dienstverlening | C5: Score: | F5: Score: | I5: Score:
A6: ='Beoordelen open vragen'!A6 -> Zie bijlage 7b 'kwaliteit' Perceel 2. | C6: <MOTIVATIE> | F6: <MOTIVATIE> | I6: <MOTIVATIE>

Sheet Beoordelaar 6
A1: Beoordelaar 6: <<>> | C1: ='Beoordelaar 1'!C1 -> Inschrijver 1 | F1: ='Beoordelaar 1'!F1 -> Inschrijver 2 | I1: ='Beoordelaar 1'!I1 -> Inschrijver 3
A3: ='Beoordelen open vragen'!A3 -> OPEN VRAAG 1 Milieu en duurzaamheid | C3: Score: | F3: Score: | I3: Score:
A4: ='Beoordelen open vragen'!A4 -> Zie bijlage 7b 'kwaliteit' Perceel 2. | C4: <MOTIVATIE> | F4: <MOTIVATIE> | I4: <MOTIVATIE>
A5: ='Beoordelen open vragen'!A5 -> OPEN VRAAG 2 Uitvoering dienstverlening | C5: Score: | F5: Score: | I5: Score:
A6: ='Beoordelen open vragen'!A6 -> Zie bijlage 7b 'kwaliteit' Perceel 2. | C6: <MOTIVATIE> | F6: <MOTIVATIE> | I6: <MOTIVATIE>

Sheet Consensus
A1: Totaalwaardes
D2: ='Beoordelaar 1'!C1 -> Inschrijver 1 | E2: MOTIVATIE CONSENSUS | G2: ='Beoordelaar 1'!F1 -> Inschrijver 2 | H2: MOTIVATIE CONSENSUS | J2: ='Beoordelaar 1'!I1 -> Inschrijver 3 | K2: MOTIVATIE CONSENSUS
A3: ='Beoordelen open vragen'!A3 -> OPEN VRAAG 1 Milieu en duurzaamheid | B3: Beoordelaar 1 | D3: ='Beoordelaar 1'!C3 -> Score: | E3: <<motivatie CONSENSUS>> | G3: ='Beoordelaar 1'!F3 -> Score: | H3: <<motivatie CONSENSUS>> | J3: ='Beoordelaar 1'!I3 -> Score: | K3: <<motivatie CONSENSUS>>
B4: Beoordelaar 2 | D4: ='Beoordelaar 2'!C3 -> Score: | G4: ='Beoordelaar 2'!F3 -> Score: | J4: ='Beoordelaar 2'!I3 -> Score:
B5: Beoordelaar 3 | D5: ='Beoordelaar 3'!C3 -> Score: | G5: ='Beoordelaar 3'!F3 -> Score: | J5: ='Beoordelaar 3'!I3 -> Score:
B6: Beoordelaar 4 | D6: ='Beoordelaar 4'!C3 -> Score: | G6: ='Beoordelaar 4'!F3 -> Score: | J6: ='Beoordelaar 4'!I3 -> Score:
B7: Beoordelaar 5 | D7: ='Beoordelaar 5'!C3 -> Score: | G7: ='Beoordelaar 5'!F3 -> Score: | J7: ='Beoordelaar 5'!I3 -> Score:
B8: Beoordelaar 6 | D8: ='Beoordelaar 6'!C3 -> Score: | G8: ='Beoordelaar 6'!F3 -> Score: | J8: ='Beoordelaar 6'!I3 -> Score:
A9: Consensus | D9: Score: | G9: Score: | J9: Score:
D10: =IF(D9="Uitmuntend","€ 5.000",IF(D9="Goed","€ 3.750",IF(D9="Voldoende","€ 0",IF(D9="Matig","-€ 10.000",IF(D9="Onvoldoende","KNOCK OUT"," "))))) | G10: =IF(G9="Uitmuntend","€ 5.000",IF(G9="Goed","€ 3.750",IF(G9="Voldoende","€ 0",IF(G9="Matig","-€ 10.000",IF(G9="Onvoldoende","KNOCK OUT"," "))))) | J10: =IF(J9="Uitmuntend","€ 5.000",IF(J9="Goed","€ 3.750",IF(J9="Voldoende","€ 0",IF(J9="Matig","-€ 10.000",IF(J9="Onvoldoende","KNOCK OUT"," ")))))
A11: ='Beoordelen open vragen'!A5 -> OPEN VRAAG 2 Uitvoering dienstverlening | B11: =B3 -> Beoordelaar 1 | D11: ='Beoordelaar 1'!C5 -> Score: | E11: <<motivatie CONSENSUS>> | G11: ='Beoordelaar 1'!F5 -> Score: | H11: <<motivatie CONSENSUS>> | J11: ='Beoordelaar 1'!I5 -> Score: | K11: <<motivatie CONSENSUS>>
B12: =B4 -> Beoordelaar 2 | D12: ='Beoordelaar 2'!C5 -> Score: | G12: ='Beoordelaar 2'!F5 -> Score: | J12: ='Beoordelaar 2'!I5 -> Score:
B13: =B5 -> Beoordelaar 3 | D13: ='Beoordelaar 3'!C5 -> Score: | G13: ='Beoordelaar 3'!F5 -> Score: | J13: ='Beoordelaar 3'!I5 -> Score:
B14: =B6 -> Beoordelaar 4 | D14: ='Beoordelaar 4'!C5 -> Score: | G14: ='Beoordelaar 4'!F5 -> Score: | J14: ='Beoordelaar 4'!I5 -> Score:
B15: =B7 -> Beoordelaar 5 | D15: ='Beoordelaar 5'!C5 -> Score: | G15: ='Beoordelaar 5'!F5 -> Score: | J15: ='Beoordelaar 5'!I5 -> Score:
B16: =B8 -> Beoordelaar 6 | D16: ='Beoordelaar 6'!C5 -> Score: | G16: ='Beoordelaar 6'!F5 -> Score: | J16: ='Beoordelaar 6'!I5 -> Score:
D17: Score: | G17: Score: | J17: Score:
D18: =IF(D17="Uitmuntend","€ 15.000",IF(D17="Goed","€ 11.250",IF(D17="Voldoende","€ 0",IF(D17="Matig","-€ 30.000",IF(D17="Onvoldoende","KNOCK OUT"," "))))) | G18: =IF(G17="Uitmuntend","€ 15.000",IF(G17="Goed","€ 11.250",IF(G17="Voldoende","€ 0",IF(G17="Matig","-€ 30.000",IF(G17="Onvoldoende","KNOCK OUT"," "))))) | J18: =IF(J17="Uitmuntend","€ 15.000",IF(J17="Goed","€ 11.250",IF(J17="Voldoende","€ 0",IF(J17="Matig","-€ 30.000",IF(J17="Onvoldoende","KNOCK OUT"," ")))))
A20: Totaal behaalde waarde open vragen: | D20: =D18+D10 -> #VALUE! | G20: =G18+G10 -> #VALUE! | J20: =J18+J10 -> #VALUE!
D21: Indien inschrijver tweemaal 'matig scoort zal zij worden uitgesloten van verdere deelname.

Sheet Eindscores
A1: Totaalwaarde criterium kwaliteit
A2: Onderdeel | C2: ='Beoordelaar 1'!C1:D1 -> Inschrijver 1 | E2: ='Beoordelaar 1'!F1 -> Inschrijver 2 | G2: ='Beoordelaar 1'!I1 -> Inschrijver 3
A3: Open vragen | C3: =Consensus!D20 -> #VALUE! | E3: =Consensus!G20 -> #VALUE! | G3: =Consensus!J20 -> #VALUE!
A4: Totaal behaalde waarde criterium kwaliteit: | C4: =C3 -> #VALUE! | E4: =E3 -> #VALUE! | G4: =G3 -> #VALUE!
A6: Totaal behaalde waarde criterium prijs: | C6: 0 | E6: 0 | G6: 0
A8: FICTIEVE EINDWAARDE (prijs -/- kwaliteit): | C8: =C6-C4 -> #VALUE! | E8: =E6-E4 -> #VALUE! | G8: =G6-G4 -> #VALUE!
