Workbook

Sheet 0. Toelichting
B2: Formulier C. Prijsopgaveformulier EUA Sanitaire Hygiëne oplossingen
B3: Datum: 26 juni 2025 (versie Nota van inlichtingen 1)
B5: Algemene aanwijzingen
B6: Wijze van invullen:
B7: * | C7: U dient in alle tabbladen in de tabellen alleen de gele velden in te vullen. Deze velden zijn onbeveiligd.
B8: * | C8: Overige velden kunnen en mogen niet worden ingevuld of gewijzigd. Deze velden zijn beveiligd.
B9: * | C9: U mag geen negatieve aantallen en/of prijzen opgeven.
B10: * | C10: U dient alle gele velden in te vullen; u mag geen velden leeg laten.
B11: * | C11: Manipulatief inschrijven en/of aanpassen van het prijzenblad leidt tot uitsluiting.

Sheet G.1.1 Jaarkosten verbruik
B2: ='0. Toelichting'!B2 -> Formulier C. Prijsopgaveformulier EUA Sanitaire Hygiëne oplossingen
B3: ='0. Toelichting'!B3 -> Datum: 26 juni 2025 (versie Nota van inlichtingen 1)
B5: Naam inschrijver | C5: <naam invullen in tabblad 1>
B7: Artikelnummer CWS | C7: Artikelomschrijving CWS | D7: Verbruikstype | E7: Aantal | F7: Levereenheid | G7: Artikelnummer Inschrijver | H7: Artikelomschrijving Inschrijver | I7: Prijs per stuk | J7: Kosten per jaar
B8: 1700426 | C8: Foam Soap Hygiene + 500ml | D8: levering | E8: 172 | F8: Flacon 500 ml | J8: =E8*I8 -> 0
B9: 1701486 | C9: Bamboi Toiletpaper Maxi 2-Ply | D9: levering | E9: 144 | F9: Doos met 24 rollen | J9: =E9*I9 -> 0
B10: 4711000 | C10: Comfort Line Body Hair 300ml | D10: levering | E10: 67 | F10: Flacon 300 ml | J10: =E10*I10 -> 0
B11: 5468000 | C11: Best Handlotion 500ml | D11: levering | E11: 3 | F11: Flacon 500 ml | J11: =E11*I11 -> 0
B12: 5480000 | C12: Foam Soap Best Standard 500ml | D12: levering | E12: 851 | F12: Flacon 500 ml | J12: =E12*I12 -> 0
B13: 8831000 | C13: Schoonloopmat Sparkling Grey 115x200cm | D13: service | E13: 52 | F13: Wisseling | J13: =E13*I13 -> 0
B14: 8831000 | C14: Schoonloopmat Sparkling Grey 150x200cm | D14: service | E14: 235 | F14: Wisseling | J14: =E14*I14 -> 0
B15: 8831000 | C15: Schoonloopmat Sparkling Grey 150x250cm | D15: service | E15: 38 | F15: Wisseling | J15: =E15*I15 -> 0
B16: C151000 | C16: Towel Roll Standard White 27cm | D16: levering | E16: 15234 | F16: Wisseling (rol) | J16: =E16*I16 -> 0
B17: C152000 | C17: Towel Roll Standard Blue 27cm | D17: levering | E17: 514 | F17: Wisseling (rol) | J17: =E17*I17 -> 0
B18: C153000 | C18: Towel Roll Uno Duo White 21cm | D18: levering | E18: 1225 | F18: Wisseling (rol) | J18: =E18*I18 -> 0
B19: C272300 | C19: Folded Paper Frottee Extra Recycling C-Fold 2-Ply White | D19: levering | E19: 4820 | F19: Wikkel (144 stuks) | J19: =E19*I19 -> 0
B20: C475000 | C20: Hand Cleaner Abrasiva Standard 2l | D20: levering | E20: 35 | F20: Flacon 2000 ml | J20: =E20*I20 -> 0
B21: C570000 | C21: Hygiene Box Maxi | D21: service | E21: 1701 | F21: Wisseling | J21: =E21*I21 -> 0
B22: C575000 | C22: Hygiene Box Paradise | D22: service | E22: 3437 | F22: Wisseling | J22: =E22*I22 -> 0
B23: C626100 | C23: Toilet Brush With Movable Rondel White | D23: levering | E23: 754 | F23: Borstel | J23: =E23*I23 -> 0
B24: C633000 | C24: Fragrance Ocean Fresh Air Bar | D24: service | E24: 442 | F24: 2 Stuks geurcartridge 80 ml (2 per automaat voor 6 maanden) | J24: =E24*I24 -> 0
B25: C638000 | C25: Fragrance Magic Fruit Air Bar | D25: service | E25: 21 | F25: 2 Stuks geurcartridge 80 ml (2 per automaat voor 6 maanden) | J25: =E25*I25 -> 0
B26: X000812 | C26: Toilet Paper Crepe 1-Ply 150M White | D26: levering | E26: 3456 | F26: Doos met 24 rollen | J26: =E26*I26 -> 0
B27: X000833 | C27: Cleaning Paper Midi Rolls Recycling 1-Ply White | D27: levering | E27: 1686 | F27: Rol | J27: =E27*I27 -> 0
... B30: X130019 | C30: Hand Disinfection Gel 1l | D30: levering | E30: 1 | F30: Flacon 1000 ml | J30: =E30*I30 -> 0
B31: Totaal | J31: =SUM(J8:J30) -> 0
B33: Te beoordelen G.1.1 Jaarkosten verbruik | J33: =J31 -> 0

Sheet G.1.2 Jaarkosten huur
B2: ='0. Toelichting'!B2 -> Formulier C. Prijsopgaveformulier EUA Sanitaire Hygiëne oplossingen
B3: ='0. Toelichting'!B3 -> Datum: 26 juni 2025 (versie Nota van inlichtingen 1)
B5: Naam inschrijver | C5: ='G.1.1 Jaarkosten verbruik'!C5 -> <naam invullen in tabblad 1>
B7: Artikelnummer CWS | C7: Artikelomschrijving CWS | D7: Aantal | E7: Artikelnummer Inschrijver | F7: Artikelomschrijving Inschrijver | G7: Huurprijs per stuk, per maand | H7: Huurprijs per maand | I7: Huurprijs per jaar
B8: 4012010 | C8: Soap Dispenser Paradise Foam Slim W/O Panel | D8: 361 | H8: =D8*G8 -> 0 | I8: =12*H8 -> 0
B9: 4022000 | C9: Soap Dispenser Paradise Antibact Slim Panel White | D9: 8 | H9: =D9*G9 -> 0 | I9: =12*H9 -> 0
B10: 4026000 | C10: Paradise Disinfect Nt White | D10: 44 | H10: =D10*G10 -> 0 | I10: =12*H10 -> 0
B11: 4032010 | C11: Dispenser Paradise Handlotion Slim W/O Panel | D11: 4 | H11: =D11*G11 -> 0 | I11: =12*H11 -> 0
B12: 4302000 | C12: Paper Bin Paradise 23l | D12: 2 | H12: =D12*G12 -> 0 | I12: =12*H12 -> 0
B13: 4502010 | C13: Towel Dispenser Paradise Dry Slim W/O Panel | D13: 28 | H13: =D13*G13 -> 0 | I13: =12*H13 -> 0
B14: 4604010 | C14: Toiletpaper Dispenser Paradise W/O Panel | D14: 377 | H14: =D14*G14 -> 0 | I14: =12*H14 -> 0
B15: 4622010 | C15: Folded Paper Dispenser Paradise Slim With Lock W/O Panel | D15: 87 | H15: =D15*G15 -> 0 | I15: =12*H15 -> 0
B16: 4663010 | C16: Fragrance Dispenser Paradise Air Bar W/O Panel | D16: 228 | H16: =D16*G16 -> 0 | I16: =12*H16 -> 0
B17: 4700000 | C17: Holder Comfort Line White | D17: 14 | H17: =D17*G17 -> 0 | I17: =12*H17 -> 0
B18: 8831000 | C18: Schoonloopmat Sparkling Grey 115x200cm | D18: 5 | H18: =D18*G18 -> 0 | I18: =12*H18 -> 0
B19: 8831000 | C19: Schoonloopmat Sparkling Grey 150x200cm | D19: 20 | H19: =D19*G19 -> 0 | I19: =12*H19 -> 0
... B22: 8831000 | C22: Schoonloopmat Sparkling Grey 85x300cm | D22: 1 | H22: =D22*G22 -> 0 | I22: =12*H22 -> 0
B23: C102000 | C23: Towel Dispenser Heavy Duty | D23: 232 | H23: =D23*G23 -> 0 | I23: =12*H23 -> 0
B24: C570000 | C24: Hygiene Box Maxi | D24: 81 | H24: =D24*G24 -> 0 | I24: =12*H24 -> 0
B25: C575000 | C25: Hygiene Box Paradise | D25: 176 | H25: =D25*G25 -> 0 | I25: =12*H25 -> 0
B26: C626100 | C26: Toilet Brush With Movable Rondel White | D26: 377 | H26: =D26*G26 -> 0 | I26: =12*H26 -> 0
B27: I411000 | C27: Soap Dispenser Cream Jumbo With Lock | D27: 18 | H27: =D27*G27 -> 0 | I27: =12*H27 -> 0
B28: X000822 | C28: Paper Roll Dispenser Cell Box For Midi Rolls | D28: 121 | H28: =D28*G28 -> 0 | I28: =12*H28 -> 0
B29: X107660 | C29: Universal Dispenser Pro. 500ml | D29: 44 | H29: =D29*G29 -> 0 | I29: =12*H29 -> 0
B30: X108160 | C30: Universal Dispenser Pro V-Pump Aluminium 1l | D30: 2 | H30: =D30*G30 -> 0 | I30: =12*H30 -> 0
B31: Totaal | H31: =SUM(H8:H30) -> 0 | I31: =SUM(I8:I30) -> 0
B33: Te beoordelen G.1.2 Jaarkosten huur | I33: =I31 -> 0
