Workbook

Sheet toelichting invulling prijs
A1: Aanbesteding MFP2025 Rechtspraak
A3: Toelichting en invulinstructie

Sheet 1 huurprijs
A1: Bijlage 2 prijsinvulblad
E2: =668/614 -> 1.0879479
A3: Looptijd initieel contract leaseprijzen | B3: 48 | C3: maanden
B4: 4
A5: Type machne (zie bijlage XX) | B5: Type | C5: Aantal eenheden | E5: Opgave huurprijs per maand, per eenheid | G5: Totaal per jaar | I5: ="Totaal "&$B$3&" maanden" -> Totaal 48 maanden
A6: MFP Type 1 fabrieksnieuw | B6: professionele kantoorkleuren kleurenprinter, minimaal 35 ppmin, tot 15000 ppmnd | C6: 460 | G6: =SUM(C6*E6)*12 -> 0 | I6: =G6*4 -> 0
A7: MFP Type 2 fabrieksnieuw | B7: professionele kantoorkleuren kleurenprinter, minimaal 70 ppmin, tot 40000 ppmnd | C7: 208 | G7: =SUM(C7*E7)*12 -> 0 | I7: =G7*4 -> 0
A8: MFP Type 3 fabrieksnieuw | B8: klein tafelmodel mfp kleuren laserprinter, A4, minimaal 30 ppmin tot 2000 ppmnd | C8: 53 | G8: =SUM(C8*E8)*12 -> 0 | I8: =G8*4 -> 0
A9: NWP Type 4 fabrieksnieuw | B9: klein tafelmodel zwart-wit laserprinter, A4, minimaal 30 ppmin, tot 2000 ppmnd | C9: 443 | G9: =SUM(C9*E9)*12 -> 0 | I9: =G9*4 -> 0
A10: MFP Type 1 gebruikt conform WDU.1 | B10: professionele kantoorkleuren kleurenprinter, minimaal 35 ppmin, tot 15000 ppmnd | G10: =SUM(C10*E10)*12 -> 0 | I10: =G10*4 -> 0
A11: MFP Type 2 gebruikt conform WDU.1 | B11: professionele kantoorkleuren kleurenprinter, minimaal 70 ppmin, tot 40000 ppmnd | G11: =SUM(C11*E11)*12 -> 0 | I11: =G11*4 -> 0
A12: MFP Type 3 gebruikt conform WDU.1 | B12: klein tafelmodel mfp kleuren laserprinter, A4, minimaal 30 ppmin tot 2000 ppmnd | G12: =SUM(C12*E12)*12 -> 0 | I12: =G12*4 -> 0
A13: NWP Type 4 gebruikt cconform WDU.1 | B13: klein tafelmodel zwart-wit laserprinter, A4, minimaal 30 ppmin, tot 2000 ppmnd | G13: =SUM(C13*E13)*12 -> 0 | I13: =G13*4 -> 0
A14: Repro hoog volume MFC zwart type 1 | B14: professionele hoogvolume zwart/wit repromachine, minimaal 130 ppmin | C14: 14 | G14: =SUM(C14*E14)*12 -> 0 | I14: =G14*4 -> 0
A15: Repro hoog volume MFC kleur type 2 | B15: professionele hoogvolume kleuren repromachine, minimaal 90 ppmin | C15: 24 | G15: =SUM(C15*E15)*12 -> 0 | I15: =G15*4 -> 0
A16: Totaal aantal machines | C16: =SUM(C6:C15) -> 1202
A18: OPTIES : MFP Type 1 | B18: Type | C18: Aantal eenheden | E18: Opgave huurprijs per maand, per eenheid | G18: Totaal per jaar | I18: ="Totaal "&$B$3&" maanden" -> Totaal 48 maanden
A19: 5e invoerlade minimaal 1.500 vel A4 | C19: 20 | G19: =SUM(C19*E19)*12 -> 0 | I19: =G19*4 -> 0
A20: Perforeer module | C20: 20 | G20: =SUM(C20*E20)*12 -> 0 | I20: =G20*4 -> 0
A21: Enveloppen module | C21: 7 | G21: =SUM(C21*E21)*12 -> 0 | I21: =G21*4 -> 0
A22: Boekjesmaker module | C22: 5 | G22: =SUM(C22*E22)*12 -> 0 | I22: =G22*4 -> 0
A23: V & Z vouw module | C23: 2 | G23: =SUM(C23*E23)*12 -> 0 | I23: =G23*4 -> 0
A24: Finisher minimaal 500 vel | C24: 20 | G24: =SUM(C24*E24)*12 -> 0 | I24: =G24*4 -> 0
A25: Finisher minimaal 2.000 vel | C25: 20 | G25: =SUM(C25*E25)*12 -> 0 | I25: =G25*4 -> 0
A26: Onderkast om printer op te plaatsen, zodat de gebruiker op stahoogte bij de printer kan; de hoogte van de printer inclusief onderstel is dan ongeveer 90 cm hoog | C26: 5 | G26: =SUM(C26*E26)*12 -> 0 | I26: =G26*4 -> 0
A27: OPTIES : MFP Type 2 | B27: Type | C27: Aantal eenheden | E27: Opgave huurprijs per maand, per eenheid | G27: Totaal per jaar | I27: ="Totaal "&$B$3&" maanden" -> Totaal 48 maanden
A28: 5e invoerlade minimaal 1.500 vel A4 | C28: 20 | G28: =SUM(C28*E28)*12 -> 0 | I28: =G28*4 -> 0
A29: Perforeer module | C29: 20 | G29: =SUM(C29*E29)*12 -> 0 | I29: =G29*4 -> 0
A30: Enveloppen module | C30: 8 | G30: =SUM(C30*E30)*12 -> 0 | I30: =G30*4 -> 0
A31: Boekjesmaker module | C31: 5 | G31: =SUM(C31*E31)*12 -> 0 | I31: =G31*4 -> 0
A32: V & Z vouw module | C32: 3 | G32: =SUM(C32*E32)*12 -> 0 | I32: =G32*4 -> 0
A33: Finisher minimaal 500 vel | C33: 20 | G33: =SUM(C33*E33)*12 -> 0 | I33: =G33*4 -> 0
A34: Finisher minimaal 2.000 vel | C34: 20 | G34: =SUM(C34*E34)*12 -> 0 | I34: =G34*4 -> 0
A35: Onderkast om printer op te plaatsen, zodat de gebruiker op stahoogte bij de printer kan; de hoogte van de printer inclusief onderstel is dan ongeveer 90 cm hoog | C35: 5 | G35: =SUM(C35*E35)*12 -> 0 | I35: =G35*4 -> 0
A36: OPTIE typen MFP 3 | C36: Aantal eenheden | E36: Opgave huurprijs per maand, per eenheid | G36: Totaal per jaar | I36: ="Totaal "&$B$3&" maanden" -> Totaal 48 maanden
A37: Onderkast om printer op te plaatsen, zodat de gebruiker op stahoogte bij de printer kan; de hoogte van de printer inclusief onderstel is dan ongeveer 90 cm hoog | C37: 5 | G37: =SUM(C37*E37)*12 -> 0 | I37: =G37*4 -> 0
A38: OPTIE typen NWP type 4 | C38: Aantal eenheden | E38: Opgave huurprijs per maand, per eenheid | G38: Totaal per jaar | I38: ="Totaal "&$B$3&" maanden" -> Totaal 48 maanden
A39: Onderkast om printer op te plaatsen, zodat de gebruiker op stahoogte bij de printer kan; de hoogte van de printer inclusief onderstel is dan ongeveer 90 cm hoog | C39: 35 | G39: =SUM(C39*E39)*12 -> 0 | I39: =G39*4 -> 0
A40: OPTIES Repro MFC type 1 en Repro MFC type 2 | B40: Type | C40: Aantal eenheden | E40: Opgave huurprijs per maand, per eenheid | G40: Totaal per jaar | I40: ="Totaal "&$B$3&" maanden" -> Totaal 48 maanden
A41: Afzuigplenum | C41: 20 | G41: =SUM(C41*E41)*12 -> 0 | I41: =G41*$B$4 -> 0
A42: Bookfolder | C42: 10 | G42: =SUM(C42*E42)*12 -> 0 | I42: =G42*$B$4 -> 0
A43: Booklet maker | C43: 5 | G43: =SUM(C43*E43)*12 -> 0 | I43: =G43*$B$4 -> 0
A44: Bookletfinisher | C44: 5 | G44: =SUM(C44*E44)*12 -> 0 | I44: =G44*$B$4 -> 0
A45: Bookletfinisher (2.000 vel) | C45: 15 | G45: =SUM(C45*E45)*12 -> 0 | I45: =G45*$B$4 -> 0
A46: Bypass tray | C46: 20 | G46: =SUM(C46*E46)*12 -> 0 | I46: =G46*$B$4 -> 0
A47: Kaft inserter | C47: 20 | G47: =SUM(C47*E47)*12 -> 0 | I47: =G47*$B$4 -> 0
A48: Ontkrul unit | C48: 20 | G48: =SUM(C48*E48)*12 -> 0 | I48: =G48*$B$4 -> 0
A49: Inbind Unit | C49: 20 | G49: =SUM(C49*E49)*12 -> 0 | I49: =G49*$B$4 -> 0
A50: Spectrofotometer | C50: 5 | G50: =SUM(C50*E50)*12 -> 0 | I50: =G50*$B$4 -> 0
A51: Finisher (3000 vel/100 vel nieten) | C51: 20 | G51: =SUM(C51*E51)*12 -> 0 | I51: =G51*$B$4 -> 0
A52: Inserter | C52: 25 | G52: =SUM(C52*E52)*12 -> 0 | I52: =G52*$B$4 -> 0
... A60: C-/ Z-fold eenheid | C60: 5 | G60: =SUM(C60*E60)*12 -> 0 | I60: =G60*$B$4 -> 0
A63: Repro hoog volume printer verhuizen tussen vestigingen van opdrachtgever | C63: 10 | G63: =SUM(C63*E63) -> 0 | I63: =G63*$B$4 -> 0
A64: MFP of NWP verhuizen tussen vestigingen van opdrachtgever | C64: 10 | G64: =SUM(C64*E64) -> 0 | I64: =G64*$B$4 -> 0
A65: Voorbewerkingssoftware voor Repro printers | C65: 20 | G65: =SUM(C65*E65) -> 0 | I65: =G65*$B$4 -> 0
A67: OPTIES : Type 7 | B67: Type | C67: Aantal eenheden | E67: Opgave huurprijs per maand, per eenheid | G67: Totaal per jaar | I67: ="Totaal "&$B$3&" maanden" -> Totaal 48 maanden
A68: Optie 1 | C68: 1 | G68: =SUM(C68*E68)*12 -> 0 | I68: =G68*$B$4 -> 0
A69: Optie 2 | C69: 1 | G69: =SUM(C69*E69)*12 -> 0 | I69: =G69*$B$4 -> 0
A70: Optie 3 | C70: 1 | G70: =SUM(C70*E70)*12 -> 0 | I70: =G70*$B$4 -> 0
A71: Optie 4 | C71: 1 | G71: =SUM(C71*E71)*12 -> 0 | I71: =G71*$B$4 -> 0
A72: Optie 5 | C72: 1 | G72: =SUM(C72*E72)*12 -> 0 | I72: =G72*$B$4 -> 0
A73: Optie 6 | C73: 1 | G73: =SUM(C73*E73)*12 -> 0 | I73: =G73*$B$4 -> 0
G76: totaal | I76: =SUM(I6:I64) -> 0

Sheet 2 fleetmanagement
A1: Prijsopgave vaste kosten per maand
A5: type machine | B5: Aantal | C5: fleetmanagement | D5: aansluiting platform | F5: prijs per maand | H5: kosten 96 maanden
A6: MFP type 1 en 2 | B6: ='1 huurprijs'!C6+'1 huurprijs'!C7 -> 668 | F6: =D6+C6 -> 0 | H6: =F6*96*B6 -> 0
A7: MFP type 3 en NWP type 4 | B7: ='1 huurprijs'!C9+'1 huurprijs'!C8 -> 496 | F7: =D7+C7 -> 0 | H7: =F7*96*B7 -> 0
A10: totale kosten fleetmanagemen onderhoud | H10: =SUM(H6:H9) -> 0

Sheet 3 tikprijzen
A1: Prijsopgave kosten per afdruk
A6: Omschrijving | C6: Aantal eenheden per jaar | E6: Opgave prijs per tik | G6: Totaal per jaar | I6: ="Totaal "&$B$3&" 96 maanden" -> Totaal 96 maanden
A7: zwart afdrukken - MFP type 1 en 2 | B7: prijs per tik | C7: 80000000 | G7: =E7*C7 -> 0 | I7: =G7*8 -> 0
A8: full color afdrukken - MFP type 1 en 2 | B8: prijs per tik | C8: 30000000 | G8: =E8*C8 -> 0 | I8: =G8*8 -> 0
A9: zwart afdrukken - MFP type 3 en NWP type 4 | B9: prijs per tik | C9: 850000 | G9: =E9*C9 -> 0 | I9: =G9*8 -> 0
A10: full color afdrukken - MFP type 3 | B10: prijs per tik | C10: 90000 | G10: =E10*C10 -> 0 | I10: =G10*8 -> 0
A11: full color afdrukken - HVP | B11: prijs per tik | C11: 9000000 | G11: =E11*C11 -> 0 | I11: =G11*8 -> 0
A12: zwart afdrukken op full color HVP | B12: prijs per tik | C12: 14000000 | G12: =E12*C12 -> 0 | I12: =G12*8 -> 0
A13: zwart afdrukken - HVP | B13: prijs per tik | C13: 10000000 | G13: =E13*C13 -> 0 | I13: =G13*8 -> 0
A15: Totale tik kosten gedurende 8 jaar | I15: =SUM(I7:I13) -> 0

Sheet 4 kosten platform
A1: Prijsopgave kosten platform
G3: 96 maanden
A4: Print- en Scanmanagement software, vaste maandelijkse kosten | B4: Totaal | C4: 1 | D4: per maand | G4: =E4*96 -> 0
A5: Uurtarief functionele verbetering | B5: aanname | C5: 1000 | D5: per uur | G5: =E5*C5 -> 0
A6: Eenmalige inrichting | C6: 1 | D6: eenmalig | G6: =E6 -> 0
A7: Print- en Scanmanagement software, kosten per machine | B7: Prijs per subscriptie | C7: ='1 huurprijs'!C16-'1 huurprijs'!C15-'1 huurprijs'!C14 -> 1164 | D7: per maand | G7: =C7*E7*96 -> 0
A8: Voorbewerkingssoftware voor Repro printers | B8: per workstation | C8: 25 | D8: per maand | G8: =C8*E8*96 -> 0
A9: totale kosten platform | G9: =SUM(G4:G8) -> 0

Sheet Totaal
C1: Totaal
A2: Leasekosten 48 maanden | G2: ='1 huurprijs'!I76 -> 0
A3: fleetmanagement onderhoud en platform licentie | G3: ='2 fleetmanagement'!H10 -> 0
A4: variabele afdrukkosten | G4: ='3 tikprijzen'!I15 -> 0
A5: Kosten platform | G5: ='4 kosten platform'!G9 -> 0
A6: Totaal generaal | G6: =SUM(G2:G5) -> 0
