Workbook

Sheet Inschrijfbiljet
A1: Inschrijfformulieren provincie Noord-Brabant
A2: Inspanningsgericht onderhoud E&W-installaties
A4: De hierna te noemen inschrijver
A5: gevestigd te
B7: verklaart zich door ondertekening van dit inschrijvingsbiljet bereid tot het inspanningsgericht onderhoud E&W-installaties van het provincie Noord-Brabant te 's-Hertogenbosch conform Beschrijvend document met casenummer: C2364293
B11: en overeenkomstig de Nota('s) van inlichtingen, resp. Staten van Aanvulling en Wijzigingen.
A14: in het 1e contractjaar (2026) aan te nemen voor de volgende bedragen en verrekenprijzen:
B16: Kosten preventief OH | H16: ='Verzamelblad per gebouw'!Y11 -> 0
B17: Kosten beheer + aanwezigheid + energie-auditrapportage | H17: ='Verzamelblad per gebouw'!Z11+'Verzamelblad per gebouw'!AA11+'Verzamelblad per gebouw'!AB11 -> 0
B18: Totaal inschrijving | H18: =SUM(H16:H17) -> 0
B20: Inschrijving (op basis van berekening vanuit calculatieschema B) | H20: =Rekenblad!D4 -> 0
B21: Inschrijving (op basis van berekening vanuit calculatieschema proj. C) | H21: =Rekenblad!D5 -> 0
B22: Totaal 'gewogen' inschrijving | H22: =Rekenblad!D7 -> 0
A25: De bedragen zijn exclusief btw met prijspeil 2026
A28: Voorts verklaart de inschrijver dat de door hem ingevulde en onderstaand vermelde bijlagen
A29: deel uitmaken van dit inschrijvingsbiljet:
B31: - bijlage A Inventaris | F31: - bijlage C calc. schema proj
B32: - bijlage B cac. schema | F32: - bijlage D voorst. subco.
A35: Gedaan te | G35: datum:
A37: De inschrijver,
A39: Handtekening: | H39: Firmastempel:

Sheet Verzamelblad per gebouw
B1: =Inschrijfbiljet!A1 -> Inschrijfformulieren provincie Noord-Brabant
G3: 0 | H3: 51 | I3: 52 | J3: 53 | K3: 54 | L3: 55 | M3: 56 | N3: 57 | O3: 59 | P3: 61 | Q3: 62 | R3: 63 | S3: 64 | T3: 65
A4: Naam | B4: Straat naam + nr. | C4: Postcode | D4: Stad | E4: Circa (m2), BVO | F4: in inventaris | G4: Algemeen | H4: Warmteopwekking | I4: Afvoeren | J4: Water | K4: Gassen | L4: Koude-opwekking en distributie | M4: Warmtedistributie | N4: Luchtbehandeling | O4: Brandveiligheid | P4: Centrale elektrotechnische voorzieningen | Q4: Krachtstroom | R4: Verlichting | S4: Communicatie | T4: Beveiliging | Y4: Totaal preventief onderhoud | Z4: Beheer (zoals omschreven in paragraaf 3.3 en 3.4 van het onderhoudsbestek) | AA4: Extra kosten fysieke aanwezigheid | AB4: Kosten opstellen Energie-audit-rapport
A5: Provinciehuis (hoofdgebouw) | B5: Brabantlaan 1 | C5: 5216TV | D5: 's-Hertogenbosch | E5: 43300 | F5: Ja | G5: =Draaitabel!C5 -> 0 | H5: =Draaitabel!D5 -> 0 | I5: =Draaitabel!E5 -> 0 | J5: =Draaitabel!F5 -> 0 | K5: =Draaitabel!G5 -> 0 | L5: =Draaitabel!H5 -> 0 | M5: =Draaitabel!I5 -> 0 | N5: =Draaitabel!J5 -> 0 | ... T5: =Draaitabel!P5 -> 0 | Y5: =SUM(G5:X5) -> 0
A6: Provinciehuis (N-gebouw) | B6: Brabantlaan 3 | C6: 5216TV | D6: 's-Hertogenbosch | E6: 6000 | F6: Ja | H6: =Draaitabel!D6 -> 0 | J6: =Draaitabel!F6 -> 0 | L6: =Draaitabel!H6 -> 0 | M6: =Draaitabel!I6 -> 0 | N6: =Draaitabel!J6 -> 0 | O6: =Draaitabel!K6 -> 0 | P6: =Draaitabel!L6 -> 0 | Q6: =Draaitabel!M6 -> 0 | R6: =Draaitabel!N6 -> 0 | S6: =Draaitabel!O6 -> 0 | T6: =Draaitabel!P6 -> 0 | Y6: =SUM(G6:X6) -> 0
A7: Museumkwartier (Het Noordbrabants Museum) | B7: Verwersstraat 41 | C7: 5211HT | D7: 's-Hertogenbosch | E7: 5785 | F7: Ja | H7: =Draaitabel!D7 -> 0 | I7: =Draaitabel!E7 -> 0 | J7: =Draaitabel!F7 -> 0 | L7: =Draaitabel!H7 -> 0 | M7: =Draaitabel!I7 -> 0 | N7: =Draaitabel!J7 -> 0 | O7: =Draaitabel!K7 -> 0 | P7: =Draaitabel!L7 -> 0 | T7: =Draaitabel!P7 -> 0 | Y7: =SUM(G7:X7) -> 0
A8: Museumkwartier (Griffie) | B8: Waterstraat 16 | C8: 5211HV | D8: 's-Hertogenbosch | E8: 5465 | F8: Ja | H8: =Draaitabel!D8 -> 0 | J8: =Draaitabel!F8 -> 0 | L8: =Draaitabel!H8 -> 0 | M8: =Draaitabel!I8 -> 0 | N8: =Draaitabel!J8 -> 0 | P8: =Draaitabel!L8 -> 0 | T8: =Draaitabel!P8 -> 0 | Y8: =SUM(G8:X8) -> 0
A9: Museumkwartier (Design Museum) | B9: De Mortel 4 | C9: 5211HV | D9: 's-Hertogenbosch | E9: 4125 | F9: Ja | I9: =Draaitabel!E9 -> 0 | J9: =Draaitabel!F9 -> 0 | L9: =Draaitabel!H9 -> 0 | M9: =Draaitabel!I9 -> 0 | N9: =Draaitabel!J9 -> 0 | P9: =Draaitabel!L9 -> 0 | T9: =Draaitabel!P9 -> 0 | Y9: =SUM(G9:X9) -> 0
A11: in het 1e contractjaar (2026) aan te nemen voor de volgende bedragen en verrekenprijzen: | F11: Totalen | G11: =SUM(G5:G9) -> 0 | H11: =SUM(H5:H9) -> 0 | I11: =SUM(I5:I9) -> 0 | J11: =SUM(J5:J9) -> 0 | K11: =SUM(K5:K9) -> 0 | L11: =SUM(L5:L9) -> 0 | M11: =SUM(M5:M9) -> 0 | N11: =SUM(N5:N9) -> 0 | ... AB11: =SUM(AB5:AB9) -> 0
B14: Gedaan te | C14: =Inschrijfbiljet!D35 -> 0 | Y14: =Inschrijfbiljet!H35 -> 0
B16: De inschrijver, | C16: =Inschrijfbiljet!D37 -> 0
B19: Handtekening:

Sheet A Inventaris
A1: ID | B1: Type vastgoed | C1: Gebouwnaam | D1: Adres | E1: Plaats | F1: Bouwlaag / Component locatie | G1: Hoofdelementomschrijving | H1: Hoofdelement- code | I1: Subelement- code | J1: Subelementomschrijving | K1: Component omschrijving | L1: Component fabrikant | M1: Component type | N1: Component capaciteit | O1: Component aantal | P1: Eenheid | Q1: Component bouwjaar | R1: Vigerende regelgeving | S1: Aanvullende info. | T1: kosten prev OH | U1: Conditie | V1: Conditie gewenst | W1: Conditie aanvang contract 2015 | X1: Conditie score kaart aanwezig
A2: 51.11.001 | B2: Kantoor | C2: Griffie | D2: Waterstraat 16 | E2: s-Hertogenbosch | F2: 2e verdieping - Griffie- Waterstraat / W-R2.01 Ketelhuis | G2: Warmteopwekking | H2: 51 | I2: 51.11 | J2: warmte-opwekking, lokaal | K2: Atm.gasketel | L2: Remeha | M2: Gas 610 eco 2x 7 leden | N2: 896 kW | O2: 1 | P2: st | Q2: 2010 | S2: Mach.nr 1015909201901/02
A3: 51.11.002 | B3: Bijeenkomst | C3: Het Noordbrabants Museum | D3: Verwersstraat 41 | E3: s-Hertogenbosch | F3: 1e verdieping / Ketelhuis | G3: Warmteopwekking | H3: 51 | I3: 51.11 | J3: warmte-opwekking, lokaal | K3: Atm.gasketel 1 | L3: Remeha | M3: gas 310 eco 7 leden | N3: 427 kW | O3: 1 | P3: st | Q3: 2011 | S3: Mach.nr. 1129403202800
A4: 51.11.003 | B4: Bijeenkomst | C4: Het Noordbrabants Museum | D4: Verwersstraat 41 | E4: s-Hertogenbosch | F4: 2e verdieping - Paleis / P.2.10 TR | G4: Warmteopwekking | H4: 51 | I4: 51.11 | J4: warmte-opwekking, lokaal | K4: Atm.gasketel 1 | L4: Remeha | M4: gas 310 eco, 5 leden | N4: 269 kW | O4: 1 | P4: st | Q4: 2011 | S4: Mach.nr 1124402802600
A5: 51.11.004 | B5: Bijeenkomst | C5: Het Noordbrabants Museum | D5: Verwersstraat 41 | E5: s-Hertogenbosch | F5: 2e verdieping - Paleis / P.2.10 TR | G5: Warmteopwekking | H5: 51 | I5: 51.11 | J5: warmte-opwekking, lokaal | K5: Atm.gasketel 2 | L5: Remeha | M5: gas 310 eco, 5 leden | N5: 269 kW | O5: 1 | P5: st | Q5: 2011 | S5: Mach.nr 1124402802590
A6: 51.11.005 | B6: Bijeenkomst | C6: Het Noordbrabants Museum | D6: Verwersstraat 41 | E6: s-Hertogenbosch | F6: 1e verdieping / Ketelhuis | G6: Warmteopwekking | H6: 51 | I6: 51.11 | J6: warmte-opwekking, lokaal | K6: Atm.gasketel 2 | L6: Remeha | M6: gas 310 eco, 8 leden | N6: 499 kW | O6: 1 | P6: st | Q6: 2011 | S6: Mach.nr. 1129403202820
A7: 51.11.006 | B7: Kantoor | C7: Provinciehuis | D7: Brabantlaan 1 | E7: s-Hertogenbosch | F7: PH-01-K-K.005 (Ketelhuis) | G7: Warmteopwekking | H7: 51 | I7: 51.11 | J7: warmte-opwekking, lokaal | K7: CV ketel 1 | L7: Novum Oss | M7: Novutherm HRC 1602A | N7: 2000 Kw | O7: 1 | P7: st | Q7: 1998 | R7: SCIOS
A8: 51.11.007 | B8: Kantoor | C8: Provinciehuis | D8: Brabantlaan 1 | E8: s-Hertogenbosch | F8: PH-01-K-K.005 (Ketelhuis) | G8: Warmteopwekking | H8: 51 | I8: 51.11 | J8: warmte-opwekking, lokaal | K8: CV-ketel 2 | L8: Viessmann | M8: Vitocrossal 300 type CI3 | N8: 640 kW | O8: 1 | P8: st | Q8: 2024 | R8: SCIOS
A9: 51.11.008 | B9: Kantoor | C9: Provinciehuis | D9: Brabantlaan 1 | E9: s-Hertogenbosch | F9: PH-01-K-K.005 (Ketelhuis) | G9: Warmteopwekking | H9: 51 | I9: 51.11 | J9: warmte-opwekking, lokaal | K9: CV-ketel 3 | L9: Viessmann | M9: Vitocrossal 300 type CI3 | N9: 640 kW | O9: 1 | P9: st | Q9: 2024 | R9: SCIOS
A10: 51.11.009 | B10: Kantoor | C10: Provinciehuis | D10: Brabantlaan 1 | E10: s-Hertogenbosch | F10: PH-01-K-K.005 (Ketelhuis) | G10: Warmteopwekking | H10: 51 | I10: 51.11 | J10: warmte-opwekking, lokaal | K10: CV-ketel 4 | L10: Viessmann | M10: Vitocrossal 300 type CI3 | N10: 640 kW | O10: 1 | P10: st | Q10: 2024 | R10: SCIOS
A11: 51.11.010 | B11: Bijeenkomst | C11: Het Noordbrabants Museum | D11: Verwersstraat 41 | E11: s-Hertogenbosch | F11: Woonhuis | G11: Warmteopwekking | H11: 51 | I11: 51.11 | J11: warmte-opwekking, lokaal | K11: Ketel woonhuis | L11: Remeha | M11: Avanta 35C | N11: 35kW | O11: 1 | P11: st | Q11: 2011
A12: 51.11.011 | B12: Kantoor | C12: N-gebouw | D12: Brabantlaan 3 | E12: s-Hertogenbosch | F12: PH-02-0-72 (Garage) | G12: Warmteopwekking | H12: 51 | I12: 51.11 | J12: warmte-opwekking, lokaal | K12: luchtverhitters; 0.72 garage | L12: Flaktgroup | M12: GEA Happel type 54122/43K | O12: 2 | P12: st | Q12: 2023
A13: 51.51.001 | B13: Kantoor | C13: Provinciehuis | D13: Brabantlaan 1 | E13: s-Hertogenbosch | F13: PH-01-K-K.005 (Ketelhuis) | G13: Warmteopwekking | H13: 51 | I13: 51.51 | J13: warmte-opwekking, bijzonder, warmtepomp | K13: Warmtepomp WKO systeem | L13: Carrier | M13: 30RW-245-A0191-PE | O13: 1 | P13: st | Q13: 2015 | R13: F-gassen besluit, F-gassen richtlijn EU, EPBD-richtlijn EU, Regeling Energieprestatie, Besluit Energieprestatie. | S13: 2 x 19 kg 407C
A14: 51.51.002 | B14: Kantoor | C14: N-gebouw | D14: Brabantlaan 3 | E14: s-Hertogenbosch | F14: Nieuwbouw - TR BG 0.71 | G14: Warmteopwekking | H14: 51 | I14: 51.51 | J14: warmte-opwekking, bijzonder, warmtepomp | K14: Warmtepomp water-water hoog temperatuur | L14: Western | M14: Tetris W REV OH 15.2 | N14: R410A 13kG | O14: 1 | P14: st | Q14: 2023 | R14: F-gassen besluit, F-gassen richtlijn EU, EPBD-richtlijn EU, Regeling Energieprestatie, Besluit Energieprestatie.
A15: 51.51.003 | B15: Kantoor | C15: N-gebouw | D15: Brabantlaan 3 | E15: s-Hertogenbosch | F15: Nieuwbouw - dak | G15: Warmteopwekking | H15: 51 | I15: 51.51 | J15: warmte-opwekking, bijzonder, warmtepomp | K15: Warmtepomp lucht-water hoogtemperatuur | L15: Western | M15: ZETA REV HP XT 18.4 | N15: R410A | O15: 1 | P15: st | Q15: 2023 | R15: F-gassen besluit, F-gassen richtlijn EU, EPBD-richtlijn EU, Regeling Energieprestatie, Besluit Energieprestatie.
A16: 51.51.004 | B16: Kantoor | C16: N-gebouw | D16: Brabantlaan 3 | E16: s-Hertogenbosch | F16: Nieuwbouw - dak | G16: Warmteopwekking | H16: 51 | I16: 51.51 | J16: warmte-opwekking, bijzonder, warmtepomp | K16: Warmtepomp lucht-water hoogtemperatuur | L16: Western | M16: ZETA REV HP XT 18.4 | N16: R410A | O16: 1 | P16: st | Q16: 2023 | R16: F-gassen besluit, F-gassen richtlijn EU, EPBD-richtlijn EU, Regeling Energieprestatie, Besluit Energieprestatie.
A17: 52.32.001 | B17: Kantoor | C17: Provinciehuis | D17: Brabantlaan 1 | E17: s-Hertogenbosch | F17: PH-03--1-P Oost (Parkeerterrein Oost) | G17: Afvoeren | H17: 52 | I17: 52.32 | J17: afvoeren, afvalwater, bedrijfsafval | K17: Vetput afvoer warme keuken en spoelkeuken | O17: 1 | P17: st | Q17: 2023 | R17: Activiteitenbesluit 3.131, NEN1825-1/2
A18: 52.32.002 | B18: Bijeenkomst | C18: Het Noordbrabants Museum | D18: Verwersstraat 41 | E18: s-Hertogenbosch | F18: NBM | H18: 52 | I18: 52.32 | J18: afvoeren, afvalwater, pompsysteem | K18: Vetvangput NBM | L18: Onbekend | M18: SRC50ZJ-S | N18: Onbekend | O18: 1 | P18: st | Q18: 2011
A19: 52.36.001 | B19: Kantoor | C19: Provinciehuis | D19: Brabantlaan 1 | E19: s-Hertogenbosch | F19: PH-03-0-T Noord (Tuin Noord) | G19: Afvoeren | H19: 52 | I19: 52.36 | J19: afvoeren, afvalwater, pompsysteem | K19: Vuilwaterpomp in put bij oud ijzer ruimte | M19: RW2DRK1215-2NW100X4 | O19: 1 | P19: st | Q19: 1996
A20: 52.36.002 | B20: Kantoor | C20: Provinciehuis | D20: Brabantlaan 1 | E20: s-Hertogenbosch | F20: PH-01-PCC | G20: Afvoeren | H20: 52 | I20: 52.36 | J20: afvoeren, afvalwater, pompsysteem | K20: Vuilwaterpomp in put Bunker | M20: VW1 DRV 68-2 110 | O20: 1 | P20: st | Q20: 2017
A21: 52.36.003 | B21: Kantoor | C21: Provinciehuis | D21: Brabantlaan 1 | E21: s-Hertogenbosch | F21: PH-03--1-P Noord (Parkeerterrein Noord) | G21: Afvoeren | H21: 52 | I21: 52.36 | J21: afvoeren, afvalwater, pompsysteem | K21: Vuilwaterpomp in put garage dienstauto's | M21: RW1 DRV1026-2 NW100X3 | O21: 1 | P21: st | Q21: 2002
A22: 52.36.004 | B22: Kantoor | C22: Provinciehuis | D22: Brabantlaan 1 | E22: s-Hertogenbosch | F22: PH-01-K-K.005 (Ketelhuis) | G22: Afvoeren | H22: 52 | I22: 52.36 | J22: afvoeren, afvalwater, pompsysteem | K22: Vuilwaterpomp in put ketelhuis | M22: VW2 VRD17.5-508 | O22: 1 | P22: st | Q22: 1995
A23: 52.36.005 | B23: Kantoor | C23: Provinciehuis | D23: Brabantlaan 1 | E23: s-Hertogenbosch | F23: PH-01-K-K.012b (Magazijn) | G23: Afvoeren | H23: 52 | I23: 52.36 | J23: afvoeren, afvalwater, pompsysteem | K23: Vuilwaterpomp in put meubelopslag | M23: RW1 DRV66-2 100 2" | O23: 1 | P23: st | Q23: 2007
A24: 52.36.006 | B24: Kantoor | C24: Provinciehuis | D24: Brabantlaan 1 | E24: s-Hertogenbosch | F24: PH-02-0-72 (Garage) | G24: Afvoeren | H24: 52 | I24: 52.36 | J24: afvoeren, afvalwater, pompsysteem | K24: Vuilwaterpomp in put milieugarage | M24: RW2 DRV630-2 VL NW80X3 | O24: 1 | P24: st | Q24: 1994
A25: 52.36.007 | B25: Kantoor | C25: Provinciehuis | D25: Brabantlaan 1 | E25: s-Hertogenbosch | F25: PH-03--1-P West (Parkeerterrein West) | G25: Afvoeren | H25: 52 | I25: 52.36 | J25: afvoeren, afvalwater, pompsysteem | K25: Vuilwaterpomp in straatkolk | M25: VW1 DRV611-2 W 130 | O25: 1 | P25: st | Q25: 2006
A26: 52.36.008 | B26: Bijeenkomst | C26: Design Museum | D26: De Mortel 4 | E26: s-Hertogenbosch | F26: Kelder | H26: 52 | I26: 52.36 | J26: afvoeren, afvalwater, pompsysteem | K26: Vuilwaterpomp TR kelder | L26: Duyvelaar | M26: VW2 DVV76DLC.2 | O26: 1 | P26: st | Q26: 2012
A27: 52.36.009 | B27: Kantoor | C27: Provinciehuis | D27: Brabantlaan 1 | E27: s-Hertogenbosch | G27: Afvoeren | H27: 52 | I27: 52.36 | J27: afvoeren, afvalwater, pompsysteem | K27: Vuilwaterpomp: keuken omroep Brabantn ; -1. Omroep Brabant | L27: Sanibraur | N27: Sani vite 3 | O27: 1 | P27: st
A28: 52.51.001 | B28: Kantoor | C28: Provinciehuis | D28: Brabantlaan 1 | E28: s-Hertogenbosch | F28: PH-03--1-P Noord (Parkeerterrein Noord) | G28: Afvoeren | H28: 52 | I28: 52.51 | J28: afvoeren, speciaal, chemisch verontreinigd afvalwater | K28: Benzine afscheider 2 | O28: 1 | P28: st | R28: Activiteitenbesluit, Milieubeheer 2013, NEN-EN 858
A29: 52.51.002 | B29: Kantoor | C29: Provinciehuis | D29: Brabantlaan 1 | E29: s-Hertogenbosch | F29: PH-03--1-P Noord (Parkeerterrein Noord) | G29: Afvoeren | H29: 52 | I29: 52.51 | J29: afvoeren, speciaal, chemisch verontreinigd afvalwater | K29: Benzine afscheider 3 | O29: 1 | P29: st | R29: Activiteitenbesluit, Milieubeheer 2013, NEN-EN 858
A30: 52.51.003 | B30: Kantoor | C30: Provinciehuis | D30: Brabantlaan 1 | E30: s-Hertogenbosch | F30: PH-03--1-P Noord (Parkeerterrein Noord) | G30: Afvoeren | H30: 52 | I30: 52.51 | J30: afvoeren, speciaal, chemisch verontreinigd afvalwater | K30: Benzine-afscheider 1 | O30: 1 | P30: st | R30: Activiteitenbesluit, Milieubeheer 2013, NEN-EN 858
A31: 53.0.001 | B31: Kantoor | C31: Provinciehuis | D31: Brabantlaan 1 | E31: s-Hertogenbosch | G31: Water | H31: 53 | I31: 53.0 | J31: water; algemeen | K31: Vijver pomp installatie; terrein ; kunstwerk bloeien en stromen | L31: Samengestelde installatie 1x pomp inst 1x waterfilter 1x rotspartij 2x verlichtings spot | M31: Kunst | N31: Water ornament | O31: 1 | P31: st
A32: 53.11.001 | B32: Kantoor | C32: N-gebouw | D32: Brabantlaan 3 | E32: s-Hertogenbosch | F32: PH-02-0-FLEX (Flexwerkplek) | G32: Water | H32: 53 | I32: 53.11 | J32: water, drinkwater, netaansluiting | K32: Drinkwater installatie tappunten Nieuwbouw | O32: 5 | P32: st | R32: Waterleidingwet, Waterleidingbesluit, Arbowet, ISSO 55.1
A33: 53.11.002 | B33: Kantoor | C33: Provinciehuis | D33: Brabantlaan 1 | E33: s-Hertogenbosch | F33: PH-01-Alg. | G33: Water | H33: 53 | I33: 53.11 | J33: water, drinkwater, netaansluiting | K33: Drinkwaterinstallatie tappunten hoofdgebouw | O33: 34 | P33: st | R33: Waterleidingwet, Waterleidingbesluit, Arbowet, ISSO 55.1 | S33: Datum keuringsrapport 15-02 -2018
A34: 53.11.003 | B34: Kantoor | C34: Provinciehuis | D34: Brabantlaan 1 | E34: s-Hertogenbosch | F34: PH-01-PCC | G34: Water | H34: 53 | I34: 53.11 | J34: water, drinkwater, netaansluiting | K34: Keerkleppen | O34: 359 | P34: st | R34: Waterleidingwet, Waterleidingbesluit, Arbowet, ISSO 55.1
A35: 53.11.004 | B35: Kantoor | C35: Provinciehuis | D35: Brabantlaan 1 | E35: s-Hertogenbosch | F35: PH-03--1-P Noord (Parkeerterrein Noord) | G35: Water | H35: 53 | I35: 53.11 | J35: water, drinkwater, netaansluiting | K35: Netaansluiting Brabant water | O35: 1 | P35: st | R35: Waterleidingwet, Waterleidingbesluit, Arbowet, ISSO 55.1
A36: 53.12.001 | B36: Kantoor | C36: Provinciehuis | D36: Brabantlaan 1 | E36: s-Hertogenbosch | F36: PH-03--1-P Noord (Parkeerterrein Noord) | G36: Water | H36: 53 | I36: 53.12 | J36: water, drinkwater, bronaansluiting | K36: WKO provinciehuis hoofdgebouw | O36: 1 | P36: st | R36: Wijzigingsbesluit bodemenergiesystemen
A37: 53.12.002 | B37: Kantoor | C37: N-gebouw | D37: Brabantlaan 3 | E37: s-Hertogenbosch | F37: PH-03--1-P Noord (Parkeerterrein Noord) | G37: Water | H37: 53 | I37: 53.12 | J37: water, drinkwater, bronaansluiting | K37: WKO provinciehuis nieuwbouw | O37: 1 | P37: st | R37: Wijzigingsbesluit bodemenergiesystemen
A38: 53.14.001 | B38: Bijeenkomst | C38: Het Noordbrabants Museum | D38: Verwersstraat 41 | E38: s-Hertogenbosch | F38: BG / Vleugel N | G38: Water | H38: 53 | I38: 53.14 | J38: water, drinkwater, drukverhoging | K38: Hydrofoor | L38: Duyvelaar | M38: HU2 DPVME6/4 C 1x6/4 | O38: 1 | P38: st | Q38: 2011 | S38: Mach.nr. 12607153
A39: 53.14.002 | B39: Kantoor | C39: Griffie | D39: Waterstraat 16 | E39: s-Hertogenbosch | F39: Kelder - Griffie- Waterstraat / W-R01.2 | G39: Water | H39: 53 | I39: 53.14 | J39: water, drinkwater, drukverhoging | K39: Hydrofoor | L39: Duyvelaar | M39: HU2 DPVME/4B | O39: 1 | P39: st | Q39: 2011 | S39: mach.nr. 10195412
A40: 53.14.003 | B40: Kantoor | C40: Provinciehuis | D40: Brabantlaan 1 | E40: s-Hertogenbosch | F40: PH-01-P-P.005 (Ketelhuis) | G40: Water | H40: 53 | I40: 53.14 | J40: water, drinkwater, drukverhoging | K40: Hydrofoor 1 | L40: Duijvelaar | M40: HU3 Premium Line DPV6/8 | O40: 1 | P40: st | Q40: 2022
...

Sheet B calc schema
B1: =Inschrijfbiljet!A1 -> Inschrijfformulieren provincie Noord-Brabant
A3: Calculatieschema en uurtarieven voor onderhoud
A4: Voor verrekenbaar correctief onderhoud en regie werkzaamheden op afroep
C6: Inschrijver: | E6: =Inschrijfbiljet!E4 -> 0
A8: De inschrijver verklaart de verrekenbare correctieve onderhoudswerkzaamheden
A9: en regie werkzaamheden op afroep ten behoeve van de te onderhouden installaties, conform de bepalingen
A10: in het beschrijvend document te zullen uitvoeren op basis van onderstaand calculatieschema en uurtarieven:
A13: 1) | B13: Calculatieschema
B14: • | C14: Netto materiaalprijs | G14: € | H14: A
B15: • | C15: Toeslag op groot materiaal: > € 1.000,00 | G15: % € | H15: A1 | CB15: =5000*(1+(F15/100)*EXP(50*((F15/100)-0.01))) -> 5000
C16: Toeslag op klein materiaal: < € 1.000,00 | G16: % € | H16: A2 | CB16: =2500*(1+(F16/100)*EXP(50*((F16/100)-0.01))) -> 2500
G17: € | H17: A1 + A2 = | I17: X
B18: Werk derden: | G18: € | H18: B
B19: Toeslag op werk derden: | G19: % € | H19: C | CB19: =10000*(1+(F19/100)*EXP(50*((F19/100)-0.01))) -> 10000
G20: € | H20: B + C = | I20: Y
B21: Lonen: Manuren a) x manuurtarief 2): | I21: Z
B22: Totaalbedrag incl. projectleiding, werkvoorbereiding, calculatie, engineering, aanleveren revisiegegevens en winst & risico
I23: X + Y + Z | CB23: =SUM(CB40:CB42,CB35:CB38,CB19,CB15:CB16) -> 17500
B25: a) | C25: Voor de calculatie van manuren zal waar mogelijk worden uitgegaan van de UNETO-normen, resp. Gustav Ende
C26: met de volgende correctiefactoren:
C27: • UNETO x | D27: 1
C28: • G.E. x | D28: 1
A30: 2) | B30: Manuurtarieven voor onderhoud:
B31: MANUURTARIEVEN
F32: Werkdagen | G32: Werkdagen | H32: Werkdagen | I32: Zon- en
F33: 7.00 - 19.00 | G33: 19.00 - 24:00 | H33: 's nachts + | I33: feest-
F34: uur | G34: uur | H34: zaterdagen | I34: dagen
B35: • | C35: Servicemonteur / technicus E | G35: Tarief + 25% | H35: Tarief + 50% | I35: Tarief + 75% | CB35: =500*(F35*EXP(0.04*(F35-60))) -> 0
B36: • | C36: Servicemonteur / technicus W | G36: Tarief + 25% | H36: Tarief + 50% | I36: Tarief + 75% | CB36: =500*(F36*EXP(0.04*(F36-60))) -> 0
B37: • | C37: Monteur / technicus E | G37: Tarief + 25% | H37: Tarief + 50% | I37: Tarief + 75% | CB37: =500*(F37*EXP(0.04*(F37-60))) -> 0
B38: • | C38: Monteur / technicus W | G38: Tarief + 25% | H38: Tarief + 50% | I38: Tarief + 75% | CB38: =500*(F38*EXP(0.04*(F38-60))) -> 0
B39: • | C39: Servicespecialist
C40: – Stookinstallaties | G40: Tarief + 25% | H40: Tarief + 50% | I40: Tarief + 75% | CB40: =200*(F40*EXP(0.04*(F40-60))) -> 0
C41: – Koeltechniek | G41: Tarief + 25% | H41: Tarief + 50% | I41: Tarief + 75% | CB41: =200*(F41*EXP(0.04*(F41-60))) -> 0
B42: • | C42: Installatieverantwoordelijke | G42: Tarief + 25% | H42: Tarief + 50% | I42: Tarief + 75% | CB42: =100*(F42*EXP(0.04*(F42-60))) -> 0
B44: Alle bedragen zijn exclusief btw.
B45: Voorrijkosten, reisuren en reiskosten zijn niet verrekenbaar, doch in de tarieven inbegrepen.
A48: Gedaan te | D48: =Inschrijfbiljet!D35 -> 0 | F48: datum: | G48: =Inschrijfbiljet!H35 -> 0
A50: De inschrijver, | D50: =Inschrijfbiljet!D37:G37 -> 0
A52: Handtekening: | H52: Firmastempel:

Sheet C calc schema proj
B1: =Inschrijfbiljet!A1 -> Inschrijfformulieren provincie Noord-Brabant
A3: Calculatieschema en uurtarieven voor projecten e.d. tot € 150.000
D4: Voor projecten, uitbreidingen en wijzigingen
C6: Inschrijver: | E6: =Inschrijfbiljet!E4:H4 -> 0
A8: De inschrijver verklaart klussen, projecten, modificaties, enz. welke op basis van offerte met open begroting zullen worden gegund,
A9: aan te zullen bieden op basis van onderstaand calculatieschema en uurtarieven. Zij verklaart dit schema en uurtarieven
A10: bovendien als maximum te zullen hanteren bij aanbestedingen boven € 150.000.
A12: 1) | B12: Calculatieschema
B13: • | C13: Netto materiaalprijs | G13: € | H13: A
B14: • | C14: Toeslag op groot materiaal: > € 1.000,00 | G14: % € | H14: A1 | CC14: =5000*(1+(F14/100)*EXP(50*((F14/100)-0.01))) -> 5000
C15: Toeslag op klein materiaal: < € 1.000,00 | G15: % € | H15: A2 | CC15: =3000*(1+(F15/100)*EXP(50*((F15/100)-0.01))) -> 3000
G16: € | H16: A1 + A2 = | I16: X
B17: Werk derden: | G17: € | H17: B
B18: Toeslag op werk derden: | G18: % € | H18: C | CC18: =5000*(1+(F18/100)*EXP(50*((F18/100)-0.01))) -> 5000
G19: € | H19: B + C = | I19: Y
B20: Lonen: uren a) x tarief betreffende monteur / technicus en of specialist | I20: Z
B21: Subtotaal exclusief eventuele engineering | I21: X + Y + Z
B22: Toeslag voor engineering / ontwerp b) | I22: F
B23: Totaalbedrag incl. projectleiding, werkvoorbereiding, calculatie, revisietek en winst & risico
I24: X+Y+Z+F | CC24: =CC14+CC15+CC18+CC38*CC30+CC39*CC30+CC40*CC29+CC41*CC29 -> 13000 | CD24: =CC24*CF30 -> 13000
B26: a) | C26: Voor de calculatie van manuren zal waar mogelijk | F26: b) toeslag voor engineering / ontwerp:
C27: worden uitgegaan van de UNETO-normen, | F27: Bij volledig uitgewerkte uitvraag | I27: % | CD27: =H27%+1 -> 1 | CF27: =(1+(H27/100)*EXP(50*((H27/100)-0.1))) -> 1
C28: resp. Gustav Ende met de volgende correctiefactoren: | F28: Bij een uitvraag obv richtlijnen | I28: % | CD28: =H28%+1 -> 1 | CF28: =(1+(H28/100)*EXP(50*((H28/100)-0.08))) -> 1
C29: • UNETO x | F29: Bij volledige engineering door inschrijver | I29: % | CC29: =D29 -> 0 | CD29: =H29%+1 -> 1 | CF29: =(1+(H29/100)*EXP(50*((H29/100)-0.06))) -> 1
C30: • G.E. x | CC30: =D30 -> 0 | CD30: =SUM(CD27:CD29) -> 3 | CE30: =CD30/3 -> 1 | CF30: =SUM(CF27:CF29)/3 -> 1
A33: 2) | B33: Manuurtarieven voor projecten e.d.:
B34: MANUURTARIEVEN
F35: Werkdagen | G35: Werkdagen | H35: Werkdagen | I35: Zon- en
F36: 8.00 - 17.00 | G36: 17.00 - 24.00 | H36: 's nachts + | I36: feest-
F37: uur | G37: uur | H37: zaterdagen | I37: dagen
B38: • | C38: Monteur / technicus E | G38: Tarief + 25% | H38: Tarief + 50% | I38: Tarief + 75% | CC38: =500*(F38*EXP(0.04*(F38-60))) -> 0
B39: • | C39: Monteur / technicus W | G39: Tarief + 25% | H39: Tarief + 50% | I39: Tarief + 75% | CC39: =500*(F39*EXP(0.04*(F39-60))) -> 0
B40: • | C40: Specialist E technische installaties | G40: Tarief + 25% | H40: Tarief + 50% | I40: Tarief + 75% | CC40: =500*(F40*EXP(0.04*(F40-60))) -> 0
B41: • | C41: Specialist W technische installaties | G41: Tarief + 25% | H41: Tarief + 50% | I41: Tarief + 75% | CC41: =500*(F41*EXP(0.04*(F41-60))) -> 0
B43: Alle bedragen zijn exclusief btw.
B44: Voorrijkosten, reisuren en reiskosten zijn niet verrekenbaar, doch in de tarieven inbegrepen.
A47: Gedaan te | D47: =Inschrijfbiljet!D35:F35 -> 0 | F47: datum: | G47: =Inschrijfbiljet!H35 -> 0
A49: De inschrijver,
D50: =Inschrijfbiljet!D37:G37 -> 0
A51: Handtekening: | H51: Firmastempel:

Sheet D voorst subco
B3: =Inschrijfbiljet!A1 -> Inschrijfformulieren provincie Noord-Brabant
B5: Voorstel onderaannemers
B7: Inschrijver: | D7: =Inschrijfbiljet!E4 -> 0
B11: Installatie / Installatiedeel | E11: Onderaannemer
E12: Naam | H12: Plaats
A39: Gedaan te | C39: =Inschrijfbiljet!D35 -> 0 | G39: datum: | H39: =Inschrijfbiljet!H35 -> 0
A41: De inschrijver, | C41: =Inschrijfbiljet!D37 -> 0
A43: Handtekening: | G43: Firmastempel:

Sheet Rekenblad
B2: Weging | F2: Weging
B3: 1 | C3: Kosten vanuit verzamelblad per gebouw (Totaal) | D3: =Inschrijfbiljet!H18 -> 0 | E3: = | F3: =D3*B3 -> 0
B4: ,2 | C4: Inschrijving (op basis van berekening calculatieschema B) | D4: =('B calc schema'!CB23/100000)*D3 -> 0 | E4: = | F4: =D4*B4 -> 0
B5: ,2 | C5: Inschrijving (op basis van berekening calculatieschema proj. C) | D5: =('C calc schema proj'!CD24)/100000*D3 -> 0 | E5: = | F5: =D5*B5 -> 0
C7: Totaal 'gewogen' inschrijving incl. B&C | D7: =SUM(F3:F5) -> 0

Sheet Draaitabel
B3: Som van kosten prev OH | C3: Kolomlabels
B4: Rijlabels | C4: 0 | D4: 51 | E4: 52 | F4: 53 | G4: 54 | H4: 55 | I4: 56 | J4: 57 | K4: 59 | L4: 61 | M4: 62 | N4: 63 | O4: 64 | P4: 65 | Q4: Eindtotaal
B5: Provinciehuis
B6: N-gebouw
B7: Het Noordbrabants Museum
B8: Griffie
B9: Design Museum
B10: Eindtotaal
