Workbook

Sheet 1. Voorblad
C3: Bijlage 3- Prijzenblad Verkiezingsdrukwerk en bezorging
C6: Toelichting:
C7: In dit prijzenblad vult u uw definitieve prijzen in voor uw Inschrijving. De genoemde aantallen zijn fictief en zijn opgesteld voor een goed prijsvergelijk. Hier kunnen dan ook geen rechten aan ontleend worden.
C9: Legenda:
C10: Tekst | D10: Invoer SWO De Wolden Hoogeveen. Niet wijzigen.
C11: Invoer | D11: Cellen bestemd voor uw invoer. Inschrijver dient deze cellen in dit prijzenblad in te vullen. Het niet of niet op juiste wijze invullen van dit prijzenblad kan leiden tot uitsluiting van deze aanbesteding.
C12: Berekening | D12: Berekeningen in werkblad. Niet wijzigen.
C13: Opmerkingen | D13: Ruimte voor uw opmerkingen of toelichting.
C14: Totalen | D14: Berekeningen van totalen in werkblad. Niet wijzigen.
C15: Uw fictieve Inschrijfprijs | D15: Berekening van uw fictieve Inschrijfprijs. Niet wijzigen.
C17: Noten:
C18: 1) De inschrijfprijs staat niet gelijk aan de opdrachtwaarde zoals deze is vermeld in hoofdstuk 1 van het aanbestedingsdocument. 2) Inschrijver geeft zijn prijzen op exclusief btw. 3) Inschrijver is slechts gerechtigd om bedragen te factureren die opgenomen zijn in dit prijzenblad. SWO De Wolden Hoogeveen wenst niet geconfronteerd te worden met onverwachte meerkosten. 4) Inschrijver dient de prijzen af te ronden naar vier (4) cijfers achter de komma.
C20: Recapitulatie:
C21: CONTACTGEGEVENS INSCHRIJVER
C22: Onderneming:
C23: Functie:
C24: Naam rechtsgeldig ondertekenaar:
C25: Datum:
C26: Handtekening:
C28: TOTAAL KOSTEN
C29: Verkiezingen | E29: Drukkosten | F29: Bezorgkosten | G29: Totaal per verkiezing
C30: ='2. Drukwerk'!C5 -> 1. Gemeenteraad (2026) | E30: ='2. Drukwerk'!G27 -> 0 | F30: ='3. Bezorging'!G12 -> 0 | G30: =E30+F30 -> 0
C31: ='2. Drukwerk'!C29 -> 2. Provinciale Staten (2027) | E31: ='2. Drukwerk'!G51 -> 0 | F31: Verwerkt in '3' Waterschappen | G31: =E31 -> 0
C32: ='2. Drukwerk'!C53 -> 3. Waterschappen (2027) | E32: ='2. Drukwerk'!G75 -> 0 | F32: ='3. Bezorging'!G21 -> 0 | G32: =E32+F32 -> 0
C33: ='2. Drukwerk'!C77 -> 4. Europees Parlement (2029) | E33: ='2. Drukwerk'!G99 -> 0 | F33: ='3. Bezorging'!G30 -> 0 | G33: =E33+F33 -> 0
C34: ='2. Drukwerk'!C101 -> 5. Tweede Kamer (2029) | E34: ='2. Drukwerk'!G123 -> 0 | F34: ='3. Bezorging'!G39 -> 0 | G34: =E34+F34 -> 0
F36: TOTALE KOSTEN | G36: =SUM(G30:H35) -> 0
C38: UW TOTALE FICTIEVE INSCHRIJFPRIJS | G38: =G36 -> 0

Sheet 2. Drukwerk
C3: Bijlage - Prijzenblad Verkiezingspost
C5: 1. Gemeenteraad (2026)
C6: Nr. | D6: Omschrijving | E6: Fictieve afname | F6: Prijs per stuk | G6: Subtotaal per verkiezing
C7: 1.1 | D7: Printen envelop A5 voor stempassen met logo | E7: 70000 | G7: =F7*E7 -> 0
C8: 1.2 | D8: Printen stempas met NAW-gegevens en logo en couverteren in A5 envelop | E8: 70000 | G8: =F8*E8 -> 0
C9: 1.3 | D9: Stempas (blanco) incl. losse bedrukte envelop | E9: 500 | G9: =F9*E9 -> 0
C10: 1.4 | D10: Kiezerspas (blanco) incl. losse envelop | E10: 400 | G10: =F10*E10 -> 0
C11: 1.5 | D11: Blanco L11 Kieswet volmacht incl. losse envelop | E11: 400 | G11: =F11*E11 -> 0
C12: 1.6 | D12: Printen envelop A5 met logo bedrukt voor kandidatenlijst | E12: 40000 | G12: =F12*E12 -> 0
C13: 1.7 | D13: Printen kandidatenlijst en couverteren in A5 envelop | E13: 40000 | G13: =F13*E13 -> 0
C14: 1.8 | D14: printen Stembiljet | E14: 70000 | G14: =F14*E14 -> 0
C15: 1.9 | D15: Kandidatenlijst in braille | E15: 2 | G15: =F15*E15 -> 0
C16: 1.10 | D16: Vergrote kandidatenlijsten-A1 formaat | E16: 60 | G16: =F16*E16 -> 0
C17: 1.11 | D17: model P 2a- Nieuwe zitting gemeentelijk stembureau | E17: 4 | G17: =F17*E17 -> 0
C18: 1.12 | D18: N 5 – Overdrachtsdocument Gemeentelijk stembureau boxen en enveloppen | E18: 4 | G18: =F18*E18 -> 0
... C26: 1.20 | D26: CSO VOX Verzamellijst | E26: 80 | G26: =F26*E26 -> 0
E27: Subtotaal drukkosten GR | G27: =SUM(G7:G26) -> 0
C29: 2. Provinciale Staten (2027)
C30: Nr. | D30: Omschrijving | E30: Fictieve afname | F30: Prijs per stuk | G30: Subtotaal per verkiezing
C31: 1.1 | D31: Printen envelop A5 voor stempassen met logo | E31: 63000 | G31: =F31*E31 -> 0
C32: 1.2 | D32: Printen stempas met NAW-gegevens en logo en couverteren in A5 envelop | E32: 63000 | G32: =F32*E32 -> 0
C33: 1.3 | D33: Stempas (blanco) incl. losse bedrukte envelop | E33: 500 | G33: =F33*E33 -> 0
C34: 1.4 | D34: Kiezerspas (blanco) incl. losse envelop | E34: 400 | G34: =F34*E34 -> 0
C35: 1.5 | D35: Blanco L11 Kieswet volmacht incl. losse envelop | E35: 400 | G35: =F35*E35 -> 0
C36: 1.6 | D36: Printen envelop A5 met logo bedrukt voor kandidatenlijst | E36: 40000 | G36: =F36*E36 -> 0
C37: 1.7 | D37: Printen kandidatenlijst en couverteren in A5 envelop | E37: 40000 | G37: =F37*E37 -> 0
C38: 1.8 | D38: printen Stembiljet | E38: 63000 | G38: =F38*E38 -> 0
C39: 1.9 | D39: Kandidatenlijst in braille | E39: 2 | G39: =F39*E39 -> 0
C40: 1.10 | D40: Vergrote kandidatenlijsten-A1 formaat | E40: 60 | G40: =F40*E40 -> 0
C41: 1.11 | D41: model P 2a- Nieuwe zitting gemeentelijk stembureau | E41: 4 | G41: =F41*E41 -> 0
C42: 1.12 | D42: N 5 – Overdrachtsdocument Gemeentelijk stembureau boxen en enveloppen | E42: 4 | G42: =F42*E42 -> 0
... C50: 1.20 | D50: CSO VOX Verzamellijst | E50: 80 | G50: =F50*E50 -> 0
E51: Subtotaal drukkosten PS | G51: =SUM(G31:G50) -> 0
C53: 3. Waterschappen (2027)
C54: Nr. | D54: Omschrijving | E54: Fictieve afname | F54: Prijs per stuk | G54: Subtotaal per verkiezing
C55: 1.1 | D55: Printen envelop A5 voor stempassen met logo | E55: 66000 | G55: =F55*E55 -> 0
C56: 1.2 | D56: Printen stempas met NAW-gegevens en logo en couverteren in A5 envelop | E56: 66000 | G56: =F56*E56 -> 0
C57: 1.3 | D57: Stempas (blanco) incl. losse bedrukte envelop | E57: 500 | G57: =F57*E57 -> 0
C58: 1.4 | D58: Kiezerspas (blanco) incl. losse envelop | E58: 400 | G58: =F58*E58 -> 0
C59: 1.5 | D59: Blanco L11 Kieswet volmacht incl. losse envelop | E59: 400 | G59: =F59*E59 -> 0
...

Sheet 3. Bezorging
C3: Bijlage - PrijzenbladVerkiezingspost
C5: 1. Gemeenteraad (2026)
C6: Nr. | D6: Omschrijving | E6: Fictieve afname | F6: Prijs per stuk | G6: Subtotaal per verkiezing
C7: 1.1 | D7: Bezorging kandidatenlijsten | E7: 40000 | G7: =F7*E7 -> 0
C8: 1.2 | D8: Optioneel: totaalkorting partijenpost/voordeelgebied kandidatenlijsten | G8: =F8*E8 -> 0
C9: 1.3 | D9: Bezorging stempassen | E9: 70000 | G9: =F9*E9 -> 0
C10: 1.4 | D10: Optioneel: totaalkorting partijenpost/voordeelgebied stempassen | G10: =F10*E10 -> 0
C11: 1.5 | D11: Transport stembiljetten naar locaties opdrachtgever (postcodegebied 7901/7921) | G11: =F11*E11 -> 0
E12: Subtotaal bezorgkosten GR | G12: =SUM(G7:G11) -> 0
C14: 3. Waterschappen 2027 (incl. Provinciale staten)
C15: Nr. | D15: Omschrijving | E15: Fictieve afname | F15: Prijs per stuk | G15: Subtotaal per verkiezing
C16: 3.1 | D16: =D7 -> Bezorging kandidatenlijsten | E16: 40000 | G16: =F16*E16 -> 0
C17: 3.2 | D17: Optioneel: totaalkorting partijenpost/voordeelgebied kandidatenlijsten | G17: =F17*E17 -> 0
C18: 3.3 | D18: =D9 -> Bezorging stempassen | E18: 63000 | G18: =F18*E18 -> 0
C19: 3.4 | D19: Optioneel: totaalkorting partijenpost/voordeelgebied stempassen | G19: =F19*E19 -> 0
C20: 3.5 | D20: Transport stembiljetten naar locaties opdrachtgever (postcodegebied 7901/7921) | G20: =F20*E20 -> 0
E21: Subtotaal bezorgkosten WS en PS | G21: =SUM(G16:G20) -> 0
C23: 4. Eurpees Parlement (2029)
C24: Nr. | D24: Omschrijving | E24: Fictieve afname | F24: Prijs per stuk | G24: Subtotaal per verkiezing
C25: 4.1 | D25: =D16 -> Bezorging kandidatenlijsten | E25: 40000 | G25: =F25*E25 -> 0
C26: 4.2 | D26: Optioneel: totaalkorting partijenpost/voordeelgebied kandidatenlijsten | G26: =F26*E26 -> 0
C27: 4.3 | D27: =D18 -> Bezorging stempassen | E27: 68000 | G27: =F27*E27 -> 0
C28: 4.4 | D28: Optioneel: totaalkorting partijenpost/voordeelgebied stempassen | G28: =F28*E28 -> 0
C29: 4.5 | D29: Transport stembiljetten naar locaties opdrachtgever (postcodegebied 7901/7921) | G29: =F29*E29 -> 0
E30: Subtotaal bezorgkosten EP | G30: =SUM(G25:G29) -> 0
C32: 5. Tweede Kamer (2029)
C33: Nr. | D33: Omschrijving | E33: Fictieve afname | F33: Prijs per stuk | G33: Subtotaal per verkiezing
C34: 5.1 | D34: =D25 -> Bezorging kandidatenlijsten | E34: 40000 | G34: =F34*E34 -> 0
C35: 5.2 | D35: Optioneel: totaalkorting partijenpost/voordeelgebied kandidatenlijsten | G35: =F35*E35 -> 0
C36: 5.3 | D36: =D27 -> Bezorging stempassen | E36: 66000 | G36: =F36*E36 -> 0
C37: 5.4 | D37: Optioneel: totaalkorting partijenpost/voordeelgebied stempassen | G37: =F37*E37 -> 0
C38: 5.5 | D38: Transport stembiljetten naar locaties opdrachtgever (postcodegebied 7901/7921) | G38: =F38*E38 -> 0
E39: Subtotaal bezorgkosten TK | G39: =SUM(G34:G38) -> 0
