Workbook
Name aantalON: [1]dashboard!$B$5
Name asfaltMAXkorting: #REF!
Name bandenCIRCdrempel: #REF!
Name bandenCIRCfactor: #REF!
Name bandenCIRCkorting: #REF!
Name bandenCIRCplafond: #REF!
Name bandenMAXkorting: #REF!
Name bandenMKIdrempel: #REF!
Name bandenMKIfactor: #REF!
Name bandenMKIkorting: #REF!
Name bandenMKIplafond: #REF!
Name bandMKIdrempel: #REF!
Name bandMKIplafond: #REF!
Name besteksnummer: [1]dashboard!$B$3
Name betonMAXkorting: #REF!
Name buizenCIRCdrempel: #REF!
Name buizenCIRCfactor: #REF!
Name buizenCIRCkorting: #REF!
Name buizenCIRCplafond: #REF!
Name buizenMAXkorting: #REF!
Name buizenMKIdrempel: #REF!
Name buizenMKIfactor: #REF!
Name buizenMKIkorting: #REF!
Name buizenMKIplafond: #REF!
Name CAkorting: [1]dashboard!$B$9
Name deklaagCIRCdrempel: #REF!
Name deklaagCIRCdrempel2: [1]dashboard!$C$27
Name deklaagCIRCdrempel3: [1]dashboard!$D$27
Name deklaagCIRCdrempel4: [1]dashboard!$E$27
Name deklaagCIRCfactor: #REF!
Name deklaagCIRCkorting: #REF!
Name deklaagCIRCplafond: #REF!
Name deklaagCIRCplafond2: [1]dashboard!$C$28
Name deklaagCIRCplafond3: [1]dashboard!$D$28
Name deklaagCIRCplafond4: [1]dashboard!$E$28
Name deklaagGARdrempel: #REF!
Name deklaagGARdrempel2: [1]dashboard!$C$29
Name deklaagGARdrempel3: [1]dashboard!$D$29
Name deklaagGARdrempel4: [1]dashboard!$E$29
Name deklaagGARkorting: #REF!
Name deklaagGARplafond: #REF!
Name deklaagGARplafond2: [1]dashboard!$C$30
Name deklaagGARplafond3: [1]dashboard!$D$30
Name deklaagGARplafond4: [1]dashboard!$E$30
Name deklaagMAXkorting: #REF!
Name deklaagMKIdrempel: #REF!
Name deklaagMKIdrempel2: [1]dashboard!$C$25
Name deklaagMKIdrempel3: [1]dashboard!$D$25
Name deklaagMKIdrempel4: [1]dashboard!$E$25
Name deklaagMKIfactor: #REF!
Name deklaagMKIkorting: #REF!
Name deklaagMKIplafond: #REF!
Name deklaagMKIplafond2: [1]dashboard!$C$26
Name deklaagMKIplafond3: [1]dashboard!$D$26
Name deklaagMKIplafond4: [1]dashboard!$E$26
Name dpost1: [1]dashboard!$B$24
Name dpost2: [1]dashboard!$C$24
Name dpost3: [1]dashboard!$D$24
Name dpost4: [1]dashboard!$E$24
Name dsoort1: [1]dashboard!$B$23

Sheet gunningscriterium SEB
C1: EUROPESE AANBESTEDING KAP EN HERPLANT
C2: Invulformulier | D2: Schoon- en Emissieloos Bouwen
C4: Instructie | D4: De fictieve meerwaarde wordt berekend automatisch o.b.v. 'invulblad opdrachtnemer'.
C6: Inschrijver | D6: =IF('invulblad opdrachtnemer'!D34="","",'invulblad opdrachtnemer'!D34)
C8: Totale fictieve meerwaarde
C9: behaald | D9: =$N$18+$N$35 -> 0
C10: maximaal te behalen | D10: =$N$19+$N$36 -> 1425000
C12: WERKTUIGEN | F12: contractjaar | G12: 1 | H12: contractjaar | I12: 2 | J12: contractjaar | K12: 3 | L12: contractjaar | M12: 4 | P12: EIS
C13: motor | D13: energiedrager | E13: weegfactor | F13: waardering | G13: ureninzet | H13: waardering | I13: ureninzet | J13: waardering | K13: ureninzet | L13: waardering | M13: ureninzet | N13: totaal | P13: Werktuigen: | Q13: per 1 jan 2025 | R13: per 1 jan 2026 | S13: per 1 jan 2027
C14: elektromotor | D14: groene stroom | E14: 10 | F14: =IFERROR(($E14*G14),0) -> 0 | G14: =SUMIFS('invulblad opdrachtnemer'!G$10:G$19,'invulblad opdrachtnemer'!$D$10:$D$19,'gunningscriterium SEB'!$C14,'invulblad opdrachtnemer'!$E$10:$E$19,'gunningscriterium SEB'!$D14) -> 0 | H14: =IFERROR(($E14*I14),0) -> 0 | I14: =SUMIFS('invulblad opdrachtnemer'!H$10:H$19,'invulblad opdrachtnemer'!$D$10:$D$19,'gunningscriterium SEB'!$C14,'invulblad opdrachtnemer'!$E$10:$E$19,'gunningscriterium SEB'!$D14) -> 0 | J14: =IFERROR(($E14*K14),0) -> 0 | K14: =SUMIFS('invulblad opdrachtnemer'!I$10:I$19,'invulblad opdrachtnemer'!$D$10:$D$19,'gunningscriterium SEB'!$C14,'invulblad opdrachtnemer'!$E$10:$E$19,'gunningscriterium SEB'!$D14) -> 0 | L14: =IFERROR(($E14*M14),0) -> 0 | M14: =SUMIFS('invulblad opdrachtnemer'!J$10:J$19,'invulblad opdrachtnemer'!$D$10:$D$19,'gunningscriterium SEB'!$C14,'invulblad opdrachtnemer'!$E$10:$E$19,'gunningscriterium SEB'!$D14) -> 0 | P14: Licht: tot 56kW | Q14: Stage V + HVO 100 | R14: 100% Zero Emissie | S14: 100% Zero Emissie
C15: elektromotor | D15: groene waterstof | E15: 10 | F15: =IFERROR(($E15*G15),0) -> 0 | G15: =SUMIFS('invulblad opdrachtnemer'!G$10:G$19,'invulblad opdrachtnemer'!$D$10:$D$19,'gunningscriterium SEB'!$C15,'invulblad opdrachtnemer'!$E$10:$E$19,'gunningscriterium SEB'!$D15) -> 0 | H15: =IFERROR(($E15*I15),0) -> 0 | I15: =SUMIFS('invulblad opdrachtnemer'!H$10:H$19,'invulblad opdrachtnemer'!$D$10:$D$19,'gunningscriterium SEB'!$C15,'invulblad opdrachtnemer'!$E$10:$E$19,'gunningscriterium SEB'!$D15) -> 0 | J15: =IFERROR(($E15*K15),0) -> 0 | K15: =SUMIFS('invulblad opdrachtnemer'!I$10:I$19,'invulblad opdrachtnemer'!$D$10:$D$19,'gunningscriterium SEB'!$C15,'invulblad opdrachtnemer'!$E$10:$E$19,'gunningscriterium SEB'!$D15) -> 0 | L15: =IFERROR(($E15*M15),0) -> 0 | M15: =SUMIFS('invulblad opdrachtnemer'!J$10:J$19,'invulblad opdrachtnemer'!$D$10:$D$19,'gunningscriterium SEB'!$C15,'invulblad opdrachtnemer'!$E$10:$E$19,'gunningscriterium SEB'!$D15) -> 0 | P15: Middel: 56 tot 130kW | R15: stage V + HVO 100
C16: stage V | D16: biodiesel (HVO 100) | E16: 0 | F16: =IFERROR(($E16*G16),0) -> 0 | G16: =SUMIFS('invulblad opdrachtnemer'!G$10:G$19,'invulblad opdrachtnemer'!$D$10:$D$19,'gunningscriterium SEB'!$C16,'invulblad opdrachtnemer'!$E$10:$E$19,'gunningscriterium SEB'!$D16) -> 0 | H16: =IFERROR(($E16*I16),0) -> 0 | I16: =SUMIFS('invulblad opdrachtnemer'!H$10:H$19,'invulblad opdrachtnemer'!$D$10:$D$19,'gunningscriterium SEB'!$C16,'invulblad opdrachtnemer'!$E$10:$E$19,'gunningscriterium SEB'!$D16) -> 0 | J16: =IFERROR(($E16*K16),0) -> 0 | K16: =SUMIFS('invulblad opdrachtnemer'!I$10:I$19,'invulblad opdrachtnemer'!$D$10:$D$19,'gunningscriterium SEB'!$C16,'invulblad opdrachtnemer'!$E$10:$E$19,'gunningscriterium SEB'!$D16) -> 0 | L16: =IFERROR(($E16*M16),0) -> 0 | M16: =SUMIFS('invulblad opdrachtnemer'!J$10:J$19,'invulblad opdrachtnemer'!$D$10:$D$19,'gunningscriterium SEB'!$C16,'invulblad opdrachtnemer'!$E$10:$E$19,'gunningscriterium SEB'!$D16) -> 0 | P16: Zwaar: vanaf 130kW
E17: totaal | F17: =SUM(F14:F16) -> 0 | G17: =SUM(G14:G16) -> 0 | H17: =SUM(H14:H16) -> 0 | I17: =SUM(I14:I16) -> 0 | J17: =SUM(J14:J16) -> 0 | K17: =SUM(K14:K16) -> 0 | L17: =SUM(L14:L16) -> 0 | M17: =SUM(M14:M16) -> 0
E18: behaalde fictieve meerwaarde | G18: =IFERROR(((F17/G17)/10)*G19,0) -> 0 | I18: =IFERROR(((H17/I17)/10)*I19,0) -> 0 | K18: =IFERROR(((J17/K17)/10)*K19,0) -> 0 | M18: =IFERROR(((L17/M17)/10)*M19,0) -> 0 | N18: =SUM(F18:M18) -> 0
E19: maximaal te behalen fictieve meerwaarde | G19: 70000 | I19: 70000 | K19: 72500 | M19: 72500 | N19: =SUM(F19:M19) -> 285000
C21: TRANSPORTMIDDELEN (N1, N2 en N3) | F21: contractjaar | G21: 1 | H21: contractjaar | I21: 2 | J21: contractjaar | K21: 3 | L21: contractjaar | M21: 4 | P21: EIS
C22: motor | D22: energiedrager | E22: weegfactor | F22: waardering | G22: daginzet | H22: waardering | I22: daginzet | J22: waardering | K22: daginzet | L22: waardering | M22: daginzet | N22: totaal | P22: Transportmiddelen: | Q22: per 1 jan 2025 | R22: per 1 jan 2026 | S22: per 1 jan 2027
C23: elektromotor | D23: groene stroom | E23: 10 | F23: =$E23*G23 -> 0 | G23: =SUMIFS('invulblad opdrachtnemer'!G$23:G$32,'invulblad opdrachtnemer'!$D$23:$D$32,'gunningscriterium SEB'!$C23,'invulblad opdrachtnemer'!$E$23:$E$32,'gunningscriterium SEB'!$D23) -> 0 | H23: =$E23*I23 -> 0 | I23: =SUMIFS('invulblad opdrachtnemer'!H$23:H$32,'invulblad opdrachtnemer'!$D$23:$D$32,'gunningscriterium SEB'!$C23,'invulblad opdrachtnemer'!$E$23:$E$32,'gunningscriterium SEB'!$D23) -> 0 | J23: =$E23*K23 -> 0 | K23: =SUMIFS('invulblad opdrachtnemer'!I$23:I$32,'invulblad opdrachtnemer'!$D$23:$D$32,'gunningscriterium SEB'!$C23,'invulblad opdrachtnemer'!$E$23:$E$32,'gunningscriterium SEB'!$D23) -> 0 | L23: =$E23*M23 -> 0 | M23: =SUMIFS('invulblad opdrachtnemer'!J$23:J$32,'invulblad opdrachtnemer'!$D$23:$D$32,'gunningscriterium SEB'!$C23,'invulblad opdrachtnemer'!$E$23:$E$32,'gunningscriterium SEB'!$D23) -> 0 | P23: N1: tot 3.500kg N2: 3.500kg tot 12.000kg N3: vanaf 12.000kg | Q23: Emissieklasse 6 of hoger + HVO 100. Nieuwe transportmiddelen die vanaf 1 januari 2025 op kenteken worden gezet, moeten uitstootvrij zijn om toegang te krijgen tot de zero-emissiezone.
C24: elektromotor | D24: groene waterstof | E24: 10 | F24: =$E24*G24 -> 0 | G24: =SUMIFS('invulblad opdrachtnemer'!G$23:G$32,'invulblad opdrachtnemer'!$D$23:$D$32,'gunningscriterium SEB'!$C24,'invulblad opdrachtnemer'!$E$23:$E$32,'gunningscriterium SEB'!$D24) -> 0 | H24: =$E24*I24 -> 0 | I24: =SUMIFS('invulblad opdrachtnemer'!H$23:H$32,'invulblad opdrachtnemer'!$D$23:$D$32,'gunningscriterium SEB'!$C24,'invulblad opdrachtnemer'!$E$23:$E$32,'gunningscriterium SEB'!$D24) -> 0 | J24: =$E24*K24 -> 0 | K24: =SUMIFS('invulblad opdrachtnemer'!I$23:I$32,'invulblad opdrachtnemer'!$D$23:$D$32,'gunningscriterium SEB'!$C24,'invulblad opdrachtnemer'!$E$23:$E$32,'gunningscriterium SEB'!$D24) -> 0 | L24: =$E24*M24 -> 0 | M24: =SUMIFS('invulblad opdrachtnemer'!J$23:J$32,'invulblad opdrachtnemer'!$D$23:$D$32,'gunningscriterium SEB'!$C24,'invulblad opdrachtnemer'!$E$23:$E$32,'gunningscriterium SEB'!$D24) -> 0
C25: plug-in hybride | D25: groen gas (BNG/LBG) | E25: 5.5 | F25: =$E25*G25 -> 0 | G25: =SUMIFS('invulblad opdrachtnemer'!G$23:G$32,'invulblad opdrachtnemer'!$D$23:$D$32,'gunningscriterium SEB'!$C25,'invulblad opdrachtnemer'!$E$23:$E$32,'gunningscriterium SEB'!$D25) -> 0 | H25: =$E25*I25 -> 0 | I25: =SUMIFS('invulblad opdrachtnemer'!H$23:H$32,'invulblad opdrachtnemer'!$D$23:$D$32,'gunningscriterium SEB'!$C25,'invulblad opdrachtnemer'!$E$23:$E$32,'gunningscriterium SEB'!$D25) -> 0 | J25: =$E25*K25 -> 0 | K25: =SUMIFS('invulblad opdrachtnemer'!I$23:I$32,'invulblad opdrachtnemer'!$D$23:$D$32,'gunningscriterium SEB'!$C25,'invulblad opdrachtnemer'!$E$23:$E$32,'gunningscriterium SEB'!$D25) -> 0 | L25: =$E25*M25 -> 0 | M25: =SUMIFS('invulblad opdrachtnemer'!J$23:J$32,'invulblad opdrachtnemer'!$D$23:$D$32,'gunningscriterium SEB'!$C25,'invulblad opdrachtnemer'!$E$23:$E$32,'gunningscriterium SEB'!$D25) -> 0
C26: plug-in hybride | D26: aardgas (CNG/LNG) | E26: 4.5 | F26: =$E26*G26 -> 0 | G26: =SUMIFS('invulblad opdrachtnemer'!G$23:G$32,'invulblad opdrachtnemer'!$D$23:$D$32,'gunningscriterium SEB'!$C26,'invulblad opdrachtnemer'!$E$23:$E$32,'gunningscriterium SEB'!$D26) -> 0 | H26: =$E26*I26 -> 0 | I26: =SUMIFS('invulblad opdrachtnemer'!H$23:H$32,'invulblad opdrachtnemer'!$D$23:$D$32,'gunningscriterium SEB'!$C26,'invulblad opdrachtnemer'!$E$23:$E$32,'gunningscriterium SEB'!$D26) -> 0 | J26: =$E26*K26 -> 0 | K26: =SUMIFS('invulblad opdrachtnemer'!I$23:I$32,'invulblad opdrachtnemer'!$D$23:$D$32,'gunningscriterium SEB'!$C26,'invulblad opdrachtnemer'!$E$23:$E$32,'gunningscriterium SEB'!$D26) -> 0 | L26: =$E26*M26 -> 0 | M26: =SUMIFS('invulblad opdrachtnemer'!J$23:J$32,'invulblad opdrachtnemer'!$D$23:$D$32,'gunningscriterium SEB'!$C26,'invulblad opdrachtnemer'!$E$23:$E$32,'gunningscriterium SEB'!$D26) -> 0
C27: plug-in hybride | D27: biodiesel (HVO 100) | E27: 4.5 | F27: =$E27*G27 -> 0 | G27: =SUMIFS('invulblad opdrachtnemer'!G$23:G$32,'invulblad opdrachtnemer'!$D$23:$D$32,'gunningscriterium SEB'!$C27,'invulblad opdrachtnemer'!$E$23:$E$32,'gunningscriterium SEB'!$D27) -> 0 | H27: =$E27*I27 -> 0 | I27: =SUMIFS('invulblad opdrachtnemer'!H$23:H$32,'invulblad opdrachtnemer'!$D$23:$D$32,'gunningscriterium SEB'!$C27,'invulblad opdrachtnemer'!$E$23:$E$32,'gunningscriterium SEB'!$D27) -> 0 | J27: =$E27*K27 -> 0 | K27: =SUMIFS('invulblad opdrachtnemer'!I$23:I$32,'invulblad opdrachtnemer'!$D$23:$D$32,'gunningscriterium SEB'!$C27,'invulblad opdrachtnemer'!$E$23:$E$32,'gunningscriterium SEB'!$D27) -> 0 | L27: =$E27*M27 -> 0 | M27: =SUMIFS('invulblad opdrachtnemer'!J$23:J$32,'invulblad opdrachtnemer'!$D$23:$D$32,'gunningscriterium SEB'!$C27,'invulblad opdrachtnemer'!$E$23:$E$32,'gunningscriterium SEB'!$D27) -> 0
C28: hybride | D28: groen gas (BNG/LBG) | E28: 3.5 | F28: =$E28*G28 -> 0 | G28: =SUMIFS('invulblad opdrachtnemer'!G$23:G$32,'invulblad opdrachtnemer'!$D$23:$D$32,'gunningscriterium SEB'!$C28,'invulblad opdrachtnemer'!$E$23:$E$32,'gunningscriterium SEB'!$D28) -> 0 | H28: =$E28*I28 -> 0 | I28: =SUMIFS('invulblad opdrachtnemer'!H$23:H$32,'invulblad opdrachtnemer'!$D$23:$D$32,'gunningscriterium SEB'!$C28,'invulblad opdrachtnemer'!$E$23:$E$32,'gunningscriterium SEB'!$D28) -> 0 | J28: =$E28*K28 -> 0 | K28: =SUMIFS('invulblad opdrachtnemer'!I$23:I$32,'invulblad opdrachtnemer'!$D$23:$D$32,'gunningscriterium SEB'!$C28,'invulblad opdrachtnemer'!$E$23:$E$32,'gunningscriterium SEB'!$D28) -> 0 | L28: =$E28*M28 -> 0 | M28: =SUMIFS('invulblad opdrachtnemer'!J$23:J$32,'invulblad opdrachtnemer'!$D$23:$D$32,'gunningscriterium SEB'!$C28,'invulblad opdrachtnemer'!$E$23:$E$32,'gunningscriterium SEB'!$D28) -> 0
C29: hybride | D29: aardgas (CNG/LNG) | E29: 2.5 | F29: =$E29*G29 -> 0 | G29: =SUMIFS('invulblad opdrachtnemer'!G$23:G$32,'invulblad opdrachtnemer'!$D$23:$D$32,'gunningscriterium SEB'!$C29,'invulblad opdrachtnemer'!$E$23:$E$32,'gunningscriterium SEB'!$D29) -> 0 | H29: =$E29*I29 -> 0 | I29: =SUMIFS('invulblad opdrachtnemer'!H$23:H$32,'invulblad opdrachtnemer'!$D$23:$D$32,'gunningscriterium SEB'!$C29,'invulblad opdrachtnemer'!$E$23:$E$32,'gunningscriterium SEB'!$D29) -> 0 | J29: =$E29*K29 -> 0 | K29: =SUMIFS('invulblad opdrachtnemer'!I$23:I$32,'invulblad opdrachtnemer'!$D$23:$D$32,'gunningscriterium SEB'!$C29,'invulblad opdrachtnemer'!$E$23:$E$32,'gunningscriterium SEB'!$D29) -> 0 | L29: =$E29*M29 -> 0 | M29: =SUMIFS('invulblad opdrachtnemer'!J$23:J$32,'invulblad opdrachtnemer'!$D$23:$D$32,'gunningscriterium SEB'!$C29,'invulblad opdrachtnemer'!$E$23:$E$32,'gunningscriterium SEB'!$D29) -> 0
C30: hybride | D30: biodiesel (HVO 100) | E30: 2.5 | F30: =$E30*G30 -> 0 | G30: =SUMIFS('invulblad opdrachtnemer'!G$23:G$32,'invulblad opdrachtnemer'!$D$23:$D$32,'gunningscriterium SEB'!$C30,'invulblad opdrachtnemer'!$E$23:$E$32,'gunningscriterium SEB'!$D30) -> 0 | H30: =$E30*I30 -> 0 | I30: =SUMIFS('invulblad opdrachtnemer'!H$23:H$32,'invulblad opdrachtnemer'!$D$23:$D$32,'gunningscriterium SEB'!$C30,'invulblad opdrachtnemer'!$E$23:$E$32,'gunningscriterium SEB'!$D30) -> 0 | J30: =$E30*K30 -> 0 | K30: =SUMIFS('invulblad opdrachtnemer'!I$23:I$32,'invulblad opdrachtnemer'!$D$23:$D$32,'gunningscriterium SEB'!$C30,'invulblad opdrachtnemer'!$E$23:$E$32,'gunningscriterium SEB'!$D30) -> 0 | L30: =$E30*M30 -> 0 | M30: =SUMIFS('invulblad opdrachtnemer'!J$23:J$32,'invulblad opdrachtnemer'!$D$23:$D$32,'gunningscriterium SEB'!$C30,'invulblad opdrachtnemer'!$E$23:$E$32,'gunningscriterium SEB'!$D30) -> 0
C31: verbrandingsmotor | D31: groen gas (BNG/LBG) | E31: 2 | F31: =$E31*G31 -> 0 | G31: =SUMIFS('invulblad opdrachtnemer'!G$23:G$32,'invulblad opdrachtnemer'!$D$23:$D$32,'gunningscriterium SEB'!$C31,'invulblad opdrachtnemer'!$E$23:$E$32,'gunningscriterium SEB'!$D31) -> 0 | H31: =$E31*I31 -> 0 | I31: =SUMIFS('invulblad opdrachtnemer'!H$23:H$32,'invulblad opdrachtnemer'!$D$23:$D$32,'gunningscriterium SEB'!$C31,'invulblad opdrachtnemer'!$E$23:$E$32,'gunningscriterium SEB'!$D31) -> 0 | J31: =$E31*K31 -> 0 | K31: =SUMIFS('invulblad opdrachtnemer'!I$23:I$32,'invulblad opdrachtnemer'!$D$23:$D$32,'gunningscriterium SEB'!$C31,'invulblad opdrachtnemer'!$E$23:$E$32,'gunningscriterium SEB'!$D31) -> 0 | L31: =$E31*M31 -> 0 | M31: =SUMIFS('invulblad opdrachtnemer'!J$23:J$32,'invulblad opdrachtnemer'!$D$23:$D$32,'gunningscriterium SEB'!$C31,'invulblad opdrachtnemer'!$E$23:$E$32,'gunningscriterium SEB'!$D31) -> 0
C32: verbrandingsmotor | D32: aardgas (CNG/LNG) | E32: 0.5 | F32: =$E32*G32 -> 0 | G32: =SUMIFS('invulblad opdrachtnemer'!G$23:G$32,'invulblad opdrachtnemer'!$D$23:$D$32,'gunningscriterium SEB'!$C32,'invulblad opdrachtnemer'!$E$23:$E$32,'gunningscriterium SEB'!$D32) -> 0 | H32: =$E32*I32 -> 0 | I32: =SUMIFS('invulblad opdrachtnemer'!H$23:H$32,'invulblad opdrachtnemer'!$D$23:$D$32,'gunningscriterium SEB'!$C32,'invulblad opdrachtnemer'!$E$23:$E$32,'gunningscriterium SEB'!$D32) -> 0 | J32: =$E32*K32 -> 0 | K32: =SUMIFS('invulblad opdrachtnemer'!I$23:I$32,'invulblad opdrachtnemer'!$D$23:$D$32,'gunningscriterium SEB'!$C32,'invulblad opdrachtnemer'!$E$23:$E$32,'gunningscriterium SEB'!$D32) -> 0 | L32: =$E32*M32 -> 0 | M32: =SUMIFS('invulblad opdrachtnemer'!J$23:J$32,'invulblad opdrachtnemer'!$D$23:$D$32,'gunningscriterium SEB'!$C32,'invulblad opdrachtnemer'!$E$23:$E$32,'gunningscriterium SEB'!$D32) -> 0
C33: verbrandingsmotor | D33: biodiesel (HVO 100) | E33: 0 | F33: =$E33*G33 -> 0 | G33: =SUMIFS('invulblad opdrachtnemer'!G$23:G$32,'invulblad opdrachtnemer'!$D$23:$D$32,'gunningscriterium SEB'!$C33,'invulblad opdrachtnemer'!$E$23:$E$32,'gunningscriterium SEB'!$D33) -> 0 | H33: =$E33*I33 -> 0 | I33: =SUMIFS('invulblad opdrachtnemer'!H$23:H$32,'invulblad opdrachtnemer'!$D$23:$D$32,'gunningscriterium SEB'!$C33,'invulblad opdrachtnemer'!$E$23:$E$32,'gunningscriterium SEB'!$D33) -> 0 | J33: =$E33*K33 -> 0 | K33: =SUMIFS('invulblad opdrachtnemer'!I$23:I$32,'invulblad opdrachtnemer'!$D$23:$D$32,'gunningscriterium SEB'!$C33,'invulblad opdrachtnemer'!$E$23:$E$32,'gunningscriterium SEB'!$D33) -> 0 | L33: =$E33*M33 -> 0 | M33: =SUMIFS('invulblad opdrachtnemer'!J$23:J$32,'invulblad opdrachtnemer'!$D$23:$D$32,'gunningscriterium SEB'!$C33,'invulblad opdrachtnemer'!$E$23:$E$32,'gunningscriterium SEB'!$D33) -> 0
E34: totaal | F34: =SUM(F23:F33) -> 0 | G34: =SUM(G23:G33) -> 0 | H34: =SUM(H23:H33) -> 0 | I34: =SUM(I23:I33) -> 0 | J34: =SUM(J23:J33) -> 0 | K34: =SUM(K23:K33) -> 0 | L34: =SUM(L23:L33) -> 0 | M34: =SUM(M23:M33) -> 0
E35: behaalde fictieve meerwaarde | G35: =IFERROR(((F34/G34)/10)*G36,0) -> 0 | I35: =IFERROR(((H34/I34)/10)*I36,0) -> 0 | K35: =IFERROR(((J34/K34)/10)*K36,0) -> 0 | M35: =IFERROR(((L34/M34)/10)*M36,0) -> 0 | N35: =SUM(F35:M35) -> 0
E36: maximaal te behalen fictieve meerwaarde | G36: 250000 | I36: 275000 | K36: 300000 | M36: 315000 | N36: =SUM(F36:M36) -> 1140000
C38: GEREEDSCHAPPEN | P38: EIS
Q39: per 1 jan 2025 | R39: per 1 jan 2026 | S39: per 1 jan 2027
P40: Gereedschappen, aggregaten en bronbemaling | Q40: 100% Zero Emissie

Sheet invulblad opdrachtnemer
C1: ='gunningscriterium SEB'!C1 -> EUROPESE AANBESTEDING KAP EN HERPLANT
C2: Invulblad opdrachtnemer
C4: Instructie | D4: Inschrijver vult lichtblauwe velden in
C8: ='gunningscriterium SEB'!C12 -> WERKTUIGEN | D8: Vul in de tabel werktuigen alle werktuigen in die tijdens het project worden ingezet. Tevens wat wordt ingezet door onderaannemers. De gegevens dienen volledig te zijn bij inschrijving. | F8: contractjaar | G8: ='gunningscriterium SEB'!G12 -> 1 | H8: ='gunningscriterium SEB'!I12 -> 2 | I8: ='gunningscriterium SEB'!K12 -> 3 | J8: ='gunningscriterium SEB'!M12 -> 4
C9: omschrijving materieelstuk Kies waar mogelijk een optie uit de machinelijst SEB. Hiervoor kunt u gebruikmaken van de dropdown of in de lijst filteren door te typen. Mocht een materieelstuk niet in de lijst staan dan dient u het toch opgeven, deze telt gewoon mee in de methodiek. | D9: motor | E9: energiedrager | F9: vermogens-klasse (kW) | G9: belofte ureninzet Deze waarde wordt gebruikt voor de gunning | H9: belofte ureninzet Deze waarde wordt gebruikt voor de gunning | I9: belofte ureninzet Deze waarde wordt gebruikt voor de gunning | J9: belofte ureninzet Deze waarde wordt gebruikt voor de gunning
B10: 1
B11: 2
B12: 3
B13: 4
B14: 5
B15: 6
B16: 7
B17: 8
B18: 9
B19: 10
C21: ='gunningscriterium SEB'!C21 -> TRANSPORTMIDDELEN (N1, N2 en N3) | D21: Vul in de tabel Transportmiddelen alle transportmiddelen in die tijdens het project worden ingezet. Tevens wat wordt ingezet door onderaannemers. De gegevens dienen volledig te zijn bij inschrijving. | F21: contractjaar | G21: ='gunningscriterium SEB'!G21 -> 1 | H21: ='gunningscriterium SEB'!I21 -> 2 | I21: ='gunningscriterium SEB'!K21 -> 3 | J21: ='gunningscriterium SEB'!M21 -> 4
C22: omschrijving materieelstuk Kies waar mogelijk een optie uit de machinelijst SEB. Hiervoor kunt u gebruik maken van de dropdown of in de lijst filteren door te typen. Mocht een materieelstuk niet in de lijst staan dan dient u het toch op te geven, deze telt gewoon mee in de methodiek. | D22: motor | E22: energiedrager | F22: vermogens-klasse (kW) | G22: belofte dageninzet Deze waarde wordt gebruikt voor de gunning | H22: belofte dageninzet Deze waarde wordt gebruikt voor de gunning | I22: belofte dageninzet Deze waarde wordt gebruikt voor de gunning | J22: belofte dageninzet Deze waarde wordt gebruikt voor de gunning
B23: 1
B24: 2
B25: 3
B26: 4
B27: 5
B28: 6
B29: 7
B30: 8
B31: 9
B32: 10
C34: Inschrijver
C36: MKB
C38: gedaan op (datum)
C40: handtekening

Sheet logboek opdrachtnemer
C1: ='gunningscriterium SEB'!C1 -> EUROPESE AANBESTEDING KAP EN HERPLANT
C2: Logboek opdrachtnemer
C4: Instructie | D4: Opdrachtnemer vult alle lichtblauwe velden in
C6: Opdrachtnemer | D6: =IF('invulblad opdrachtnemer'!D34="","",'invulblad opdrachtnemer'!D34)
C8: ='gunningscriterium SEB'!C12 -> WERKTUIGEN | N8: contractjaar | R8: ='gunningscriterium SEB'!G12 -> 1 | S8: Registreer het aantal dagen dat het materieelstuk aanwezig is. Bijvoorbeeld materieelstuk is 2 weken aanwezig van ma t/m vr: vul 2x5 = 10 in. | AG8: contractjaar | AH8: ='gunningscriterium SEB'!I12 -> 2 | AU8: contractjaar | AV8: ='gunningscriterium SEB'!K12 -> 3 | BI8: contractjaar | BJ8: ='gunningscriterium SEB'!M12 -> 4
C9: omschrijving materieelstuk | D9: motor | E9: energiedrager | F9: vermogensklasse (kW) | G9: vermogen (kW) | H9: merk | I9: kenteken of registratienr. | J9: SSEB subsidie verkregen? | K9: bouwjaar | L9: belofte | M9: totale inzet | N9: jan | O9: feb | P9: mrt | Q9: apr | R9: mei | S9: jun | T9: jul | U9: aug | V9: sep | W9: okt | X9: nov | Y9: dec | Z9: belofte | AA9: totale ureninzet | AB9: jan | AC9: feb | AD9: mrt | AE9: apr | AF9: mei | AG9: jun | AH9: jul | AI9: aug | AJ9: sep | AK9: okt | AL9: nov | AM9: dec | AN9: belofte | AO9: totale ureninzet | AP9: jan | AQ9: feb | AR9: mrt | AS9: apr | AT9: mei | AU9: jun | AV9: jul | AW9: aug | AX9: sep | AY9: okt | AZ9: nov | BA9: dec | BB9: belofte | BC9: totale ureninzet | BD9: jan | BE9: feb | BF9: mrt | BG9: apr | BH9: mei | BI9: jun | BJ9: jul | BK9: aug | BL9: sep | BM9: okt | BN9: nov | BO9: dec
B10: 1 | C10: =IF('invulblad opdrachtnemer'!C10="","",'invulblad opdrachtnemer'!C10) | D10: =IF('invulblad opdrachtnemer'!D10="","",'invulblad opdrachtnemer'!D10) | E10: =IF('invulblad opdrachtnemer'!E10="","",'invulblad opdrachtnemer'!E10) | F10: =IF('invulblad opdrachtnemer'!F10="","",'invulblad opdrachtnemer'!F10) | L10: ='invulblad opdrachtnemer'!G10 -> 0 | M10: =SUM(N10:Y10) -> 0 | Z10: ='invulblad opdrachtnemer'!H10 -> 0 | AA10: =SUM(AB10:AM10) -> 0 | AN10: ='invulblad opdrachtnemer'!I10 -> 0 | AO10: =SUM(AP10:BA10) -> 0 | BB10: ='invulblad opdrachtnemer'!J10 -> 0 | BC10: =SUM(BD10:BO10) -> 0
B11: 2 | C11: =IF('invulblad opdrachtnemer'!C11="","",'invulblad opdrachtnemer'!C11) | D11: =IF('invulblad opdrachtnemer'!D11="","",'invulblad opdrachtnemer'!D11) | E11: =IF('invulblad opdrachtnemer'!E11="","",'invulblad opdrachtnemer'!E11) | F11: =IF('invulblad opdrachtnemer'!F11="","",'invulblad opdrachtnemer'!F11) | L11: ='invulblad opdrachtnemer'!G11 -> 0 | M11: =SUM(N11:Y11) -> 0 | Z11: ='invulblad opdrachtnemer'!H11 -> 0 | AA11: =SUM(AB11:CC11) -> 0 | AN11: ='invulblad opdrachtnemer'!I11 -> 0 | AO11: =SUM(AP11:CQ11) -> 0 | BB11: ='invulblad opdrachtnemer'!J11 -> 0 | BC11: =SUM(BD11:DE11) -> 0
B12: 3 | C12: =IF('invulblad opdrachtnemer'!C12="","",'invulblad opdrachtnemer'!C12) | D12: =IF('invulblad opdrachtnemer'!D12="","",'invulblad opdrachtnemer'!D12) | E12: =IF('invulblad opdrachtnemer'!E12="","",'invulblad opdrachtnemer'!E12) | F12: =IF('invulblad opdrachtnemer'!F12="","",'invulblad opdrachtnemer'!F12) | L12: ='invulblad opdrachtnemer'!G12 -> 0 | M12: =SUM(N12:Y12) -> 0 | Z12: ='invulblad opdrachtnemer'!H12 -> 0 | AA12: =SUM(AB12:CC12) -> 0 | AN12: ='invulblad opdrachtnemer'!I12 -> 0 | AO12: =SUM(AP12:CQ12) -> 0 | BB12: ='invulblad opdrachtnemer'!J12 -> 0 | BC12: =SUM(BD12:DE12) -> 0
B13: 4 | C13: =IF('invulblad opdrachtnemer'!C13="","",'invulblad opdrachtnemer'!C13) | D13: =IF('invulblad opdrachtnemer'!D13="","",'invulblad opdrachtnemer'!D13) | E13: =IF('invulblad opdrachtnemer'!E13="","",'invulblad opdrachtnemer'!E13) | F13: =IF('invulblad opdrachtnemer'!F13="","",'invulblad opdrachtnemer'!F13) | L13: ='invulblad opdrachtnemer'!G13 -> 0 | M13: =SUM(N13:Y13) -> 0 | Z13: ='invulblad opdrachtnemer'!H13 -> 0 | AA13: =SUM(AB13:CC13) -> 0 | AN13: ='invulblad opdrachtnemer'!I13 -> 0 | AO13: =SUM(AP13:CQ13) -> 0 | BB13: ='invulblad opdrachtnemer'!J13 -> 0 | BC13: =SUM(BD13:DE13) -> 0
B14: 5 | C14: =IF('invulblad opdrachtnemer'!C14="","",'invulblad opdrachtnemer'!C14) | D14: =IF('invulblad opdrachtnemer'!D14="","",'invulblad opdrachtnemer'!D14) | E14: =IF('invulblad opdrachtnemer'!E14="","",'invulblad opdrachtnemer'!E14) | F14: =IF('invulblad opdrachtnemer'!F14="","",'invulblad opdrachtnemer'!F14) | L14: ='invulblad opdrachtnemer'!G14 -> 0 | M14: =SUM(N14:Y14) -> 0 | Z14: ='invulblad opdrachtnemer'!H14 -> 0 | AA14: =SUM(AB14:CC14) -> 0 | AN14: ='invulblad opdrachtnemer'!I14 -> 0 | AO14: =SUM(AP14:CQ14) -> 0 | BB14: ='invulblad opdrachtnemer'!J14 -> 0 | BC14: =SUM(BD14:DE14) -> 0
B15: 6 | C15: =IF('invulblad opdrachtnemer'!C15="","",'invulblad opdrachtnemer'!C15) | D15: =IF('invulblad opdrachtnemer'!D15="","",'invulblad opdrachtnemer'!D15) | E15: =IF('invulblad opdrachtnemer'!E15="","",'invulblad opdrachtnemer'!E15) | F15: =IF('invulblad opdrachtnemer'!F15="","",'invulblad opdrachtnemer'!F15) | L15: ='invulblad opdrachtnemer'!G15 -> 0 | M15: =SUM(N15:Y15) -> 0 | Z15: ='invulblad opdrachtnemer'!H15 -> 0 | AA15: =SUM(AB15:CC15) -> 0 | AN15: ='invulblad opdrachtnemer'!I15 -> 0 | AO15: =SUM(AP15:CQ15) -> 0 | BB15: ='invulblad opdrachtnemer'!J15 -> 0 | BC15: =SUM(BD15:DE15) -> 0
B16: 7 | C16: =IF('invulblad opdrachtnemer'!C16="","",'invulblad opdrachtnemer'!C16) | D16: =IF('invulblad opdrachtnemer'!D16="","",'invulblad opdrachtnemer'!D16) | E16: =IF('invulblad opdrachtnemer'!E16="","",'invulblad opdrachtnemer'!E16) | F16: =IF('invulblad opdrachtnemer'!F16="","",'invulblad opdrachtnemer'!F16) | L16: ='invulblad opdrachtnemer'!G16 -> 0 | M16: =SUM(N16:Y16) -> 0 | Z16: ='invulblad opdrachtnemer'!H16 -> 0 | AA16: =SUM(AB16:CC16) -> 0 | AN16: ='invulblad opdrachtnemer'!I16 -> 0 | AO16: =SUM(AP16:CQ16) -> 0 | BB16: ='invulblad opdrachtnemer'!J16 -> 0 | BC16: =SUM(BD16:DE16) -> 0
B17: 8 | C17: =IF('invulblad opdrachtnemer'!C17="","",'invulblad opdrachtnemer'!C17) | D17: =IF('invulblad opdrachtnemer'!D17="","",'invulblad opdrachtnemer'!D17) | E17: =IF('invulblad opdrachtnemer'!E17="","",'invulblad opdrachtnemer'!E17) | F17: =IF('invulblad opdrachtnemer'!F17="","",'invulblad opdrachtnemer'!F17) | L17: ='invulblad opdrachtnemer'!G17 -> 0 | M17: =SUM(N17:Y17) -> 0 | Z17: ='invulblad opdrachtnemer'!H17 -> 0 | AA17: =SUM(AB17:CC17) -> 0 | AN17: ='invulblad opdrachtnemer'!I17 -> 0 | AO17: =SUM(AP17:CQ17) -> 0 | BB17: ='invulblad opdrachtnemer'!J17 -> 0 | BC17: =SUM(BD17:DE17) -> 0
B18: 9 | C18: =IF('invulblad opdrachtnemer'!C18="","",'invulblad opdrachtnemer'!C18) | D18: =IF('invulblad opdrachtnemer'!D18="","",'invulblad opdrachtnemer'!D18) | E18: =IF('invulblad opdrachtnemer'!E18="","",'invulblad opdrachtnemer'!E18) | F18: =IF('invulblad opdrachtnemer'!F18="","",'invulblad opdrachtnemer'!F18) | L18: ='invulblad opdrachtnemer'!G18 -> 0 | M18: =SUM(N18:Y18) -> 0 | Z18: ='invulblad opdrachtnemer'!H18 -> 0 | AA18: =SUM(AB18:CC18) -> 0 | AN18: ='invulblad opdrachtnemer'!I18 -> 0 | AO18: =SUM(AP18:CQ18) -> 0 | BB18: ='invulblad opdrachtnemer'!J18 -> 0 | BC18: =SUM(BD18:DE18) -> 0
B19: 10 | C19: =IF('invulblad opdrachtnemer'!C19="","",'invulblad opdrachtnemer'!C19) | D19: =IF('invulblad opdrachtnemer'!D19="","",'invulblad opdrachtnemer'!D19) | E19: =IF('invulblad opdrachtnemer'!E19="","",'invulblad opdrachtnemer'!E19) | F19: =IF('invulblad opdrachtnemer'!F19="","",'invulblad opdrachtnemer'!F19) | L19: ='invulblad opdrachtnemer'!G19 -> 0 | M19: =SUM(N19:Y19) -> 0 | Z19: ='invulblad opdrachtnemer'!H19 -> 0 | AA19: =SUM(AB19:CC19) -> 0 | AN19: ='invulblad opdrachtnemer'!I19 -> 0 | AO19: =SUM(AP19:CQ19) -> 0 | BB19: ='invulblad opdrachtnemer'!J19 -> 0 | BC19: =SUM(BD19:DE19) -> 0
C21: ='gunningscriterium SEB'!C21 -> TRANSPORTMIDDELEN (N1, N2 en N3) | N21: contractjaar | R21: ='gunningscriterium SEB'!G21 -> 1 | S21: Registreer het aantal dagen dat het materieelstuk aanwezig is. Bijvoorbeeld materieelstuk is 2 weken aanwezig van ma t/m vr: vul 2x5 = 10 in. | AG21: contractjaar | AH21: ='gunningscriterium SEB'!I21 -> 2 | AU21: contractjaar | AV21: ='gunningscriterium SEB'!K21 -> 3 | BI21: contractjaar | BJ21: ='gunningscriterium SEB'!M21 -> 4
C22: omschrijving materieelstuk | D22: motor | E22: energiedrager | F22: vermogensklasse (kW) | G22: vermogen (kW) | H22: merk | I22: kenteken of registratienr. | J22: SSEB subsidie verkregen? | K22: bouwjaar | L22: belofte | M22: totale dageninzet | N22: jan | O22: feb | P22: mrt | Q22: apr | R22: mei | S22: jun | T22: jul | U22: aug | V22: sep | W22: okt | X22: nov | Y22: dec | Z22: belofte | AA22: totale dageninzet | AB22: jan | AC22: feb | AD22: mrt | AE22: apr | AF22: mei | AG22: jun | AH22: jul | AI22: aug | AJ22: sep | AK22: okt | AL22: nov | AM22: dec | AN22: belofte | AO22: totale dageninzet | AP22: jan | AQ22: feb | AR22: mrt | AS22: apr | AT22: mei | AU22: jun | AV22: jul | AW22: aug | AX22: sep | AY22: okt | AZ22: nov | BA22: dec | BB22: belofte | BC22: totale dageninzet | BD22: jan | BE22: feb | BF22: mrt | BG22: apr | BH22: mei | BI22: jun | BJ22: jul | BK22: aug | BL22: sep | BM22: okt | BN22: nov | BO22: dec
B23: 1 | C23: =IF('invulblad opdrachtnemer'!C23="","",'invulblad opdrachtnemer'!C23) | D23: =IF('invulblad opdrachtnemer'!D23="","",'invulblad opdrachtnemer'!D23) | E23: =IF('invulblad opdrachtnemer'!E23="","",'invulblad opdrachtnemer'!E23) | F23: =IF('invulblad opdrachtnemer'!F23="","",'invulblad opdrachtnemer'!F23) | L23: ='invulblad opdrachtnemer'!G23 -> 0 | M23: =SUM(N23:Y23) -> 0 | Z23: ='invulblad opdrachtnemer'!H23 -> 0 | AA23: =SUM(AB23:CC23) -> 0 | AN23: ='invulblad opdrachtnemer'!I23 -> 0 | AO23: =SUM(AP23:CQ23) -> 0 | BB23: ='invulblad opdrachtnemer'!J23 -> 0 | BC23: =SUM(BD23:DE23) -> 0
B24: 2 | C24: =IF('invulblad opdrachtnemer'!C24="","",'invulblad opdrachtnemer'!C24) | D24: =IF('invulblad opdrachtnemer'!D24="","",'invulblad opdrachtnemer'!D24) | E24: =IF('invulblad opdrachtnemer'!E24="","",'invulblad opdrachtnemer'!E24) | F24: =IF('invulblad opdrachtnemer'!F24="","",'invulblad opdrachtnemer'!F24) | L24: ='invulblad opdrachtnemer'!G24 -> 0 | M24: =SUM(N24:Y24) -> 0 | Z24: ='invulblad opdrachtnemer'!H24 -> 0 | AA24: =SUM(AB24:CC24) -> 0 | AN24: ='invulblad opdrachtnemer'!I24 -> 0 | AO24: =SUM(AP24:CQ24) -> 0 | BB24: ='invulblad opdrachtnemer'!J24 -> 0 | BC24: =SUM(BD24:DE24) -> 0
B25: 3 | C25: =IF('invulblad opdrachtnemer'!C25="","",'invulblad opdrachtnemer'!C25) | D25: =IF('invulblad opdrachtnemer'!D25="","",'invulblad opdrachtnemer'!D25) | E25: =IF('invulblad opdrachtnemer'!E25="","",'invulblad opdrachtnemer'!E25) | F25: =IF('invulblad opdrachtnemer'!F25="","",'invulblad opdrachtnemer'!F25) | L25: ='invulblad opdrachtnemer'!G25 -> 0 | M25: =SUM(N25:Y25) -> 0 | Z25: ='invulblad opdrachtnemer'!H25 -> 0 | AA25: =SUM(AB25:CC25) -> 0 | AN25: ='invulblad opdrachtnemer'!I25 -> 0 | AO25: =SUM(AP25:CQ25) -> 0 | BB25: ='invulblad opdrachtnemer'!J25 -> 0 | BC25: =SUM(BD25:DE25) -> 0
B26: 4 | C26: =IF('invulblad opdrachtnemer'!C26="","",'invulblad opdrachtnemer'!C26) | D26: =IF('invulblad opdrachtnemer'!D26="","",'invulblad opdrachtnemer'!D26) | E26: =IF('invulblad opdrachtnemer'!E26="","",'invulblad opdrachtnemer'!E26) | F26: =IF('invulblad opdrachtnemer'!F26="","",'invulblad opdrachtnemer'!F26) | L26: ='invulblad opdrachtnemer'!G26 -> 0 | M26: =SUM(N26:Y26) -> 0 | Z26: ='invulblad opdrachtnemer'!H26 -> 0 | AA26: =SUM(AB26:CC26) -> 0 | AN26: ='invulblad opdrachtnemer'!I26 -> 0 | AO26: =SUM(AP26:CQ26) -> 0 | BB26: ='invulblad opdrachtnemer'!J26 -> 0 | BC26: =SUM(BD26:DE26) -> 0
B27: 5 | C27: =IF('invulblad opdrachtnemer'!C27="","",'invulblad opdrachtnemer'!C27) | D27: =IF('invulblad opdrachtnemer'!D27="","",'invulblad opdrachtnemer'!D27) | E27: =IF('invulblad opdrachtnemer'!E27="","",'invulblad opdrachtnemer'!E27) | F27: =IF('invulblad opdrachtnemer'!F27="","",'invulblad opdrachtnemer'!F27) | L27: ='invulblad opdrachtnemer'!G27 -> 0 | M27: =SUM(N27:Y27) -> 0 | Z27: ='invulblad opdrachtnemer'!H27 -> 0 | AA27: =SUM(AB27:CC27) -> 0 | AN27: ='invulblad opdrachtnemer'!I27 -> 0 | AO27: =SUM(AP27:CQ27) -> 0 | BB27: ='invulblad opdrachtnemer'!J27 -> 0 | BC27: =SUM(BD27:DE27) -> 0
B28: 6 | C28: =IF('invulblad opdrachtnemer'!C28="","",'invulblad opdrachtnemer'!C28) | D28: =IF('invulblad opdrachtnemer'!D28="","",'invulblad opdrachtnemer'!D28) | E28: =IF('invulblad opdrachtnemer'!E28="","",'invulblad opdrachtnemer'!E28) | F28: =IF('invulblad opdrachtnemer'!F28="","",'invulblad opdrachtnemer'!F28) | L28: ='invulblad opdrachtnemer'!G28 -> 0 | M28: =SUM(N28:Y28) -> 0 | Z28: ='invulblad opdrachtnemer'!H28 -> 0 | AA28: =SUM(AB28:CC28) -> 0 | AN28: ='invulblad opdrachtnemer'!I28 -> 0 | AO28: =SUM(AP28:CQ28) -> 0 | BB28: ='invulblad opdrachtnemer'!J28 -> 0 | BC28: =SUM(BD28:DE28) -> 0
B29: 7 | C29: =IF('invulblad opdrachtnemer'!C29="","",'invulblad opdrachtnemer'!C29) | D29: =IF('invulblad opdrachtnemer'!D29="","",'invulblad opdrachtnemer'!D29) | E29: =IF('invulblad opdrachtnemer'!E29="","",'invulblad opdrachtnemer'!E29) | F29: =IF('invulblad opdrachtnemer'!F29="","",'invulblad opdrachtnemer'!F29) | L29: ='invulblad opdrachtnemer'!G29 -> 0 | M29: =SUM(N29:Y29) -> 0 | Z29: ='invulblad opdrachtnemer'!H29 -> 0 | AA29: =SUM(AB29:CC29) -> 0 | AN29: ='invulblad opdrachtnemer'!I29 -> 0 | AO29: =SUM(AP29:CQ29) -> 0 | BB29: ='invulblad opdrachtnemer'!J29 -> 0 | BC29: =SUM(BD29:DE29) -> 0
B30: 8 | C30: =IF('invulblad opdrachtnemer'!C30="","",'invulblad opdrachtnemer'!C30) | D30: =IF('invulblad opdrachtnemer'!D30="","",'invulblad opdrachtnemer'!D30) | E30: =IF('invulblad opdrachtnemer'!E30="","",'invulblad opdrachtnemer'!E30) | F30: =IF('invulblad opdrachtnemer'!F30="","",'invulblad opdrachtnemer'!F30) | L30: ='invulblad opdrachtnemer'!G30 -> 0 | M30: =SUM(N30:Y30) -> 0 | Z30: ='invulblad opdrachtnemer'!H30 -> 0 | AA30: =SUM(AB30:CC30) -> 0 | AN30: ='invulblad opdrachtnemer'!I30 -> 0 | AO30: =SUM(AP30:CQ30) -> 0 | BB30: ='invulblad opdrachtnemer'!J30 -> 0 | BC30: =SUM(BD30:DE30) -> 0
B31: 9 | C31: =IF('invulblad opdrachtnemer'!C31="","",'invulblad opdrachtnemer'!C31) | D31: =IF('invulblad opdrachtnemer'!D31="","",'invulblad opdrachtnemer'!D31) | E31: =IF('invulblad opdrachtnemer'!E31="","",'invulblad opdrachtnemer'!E31) | F31: =IF('invulblad opdrachtnemer'!F31="","",'invulblad opdrachtnemer'!F31) | L31: ='invulblad opdrachtnemer'!G31 -> 0 | M31: =SUM(N31:Y31) -> 0 | Z31: ='invulblad opdrachtnemer'!H31 -> 0 | AA31: =SUM(AB31:CC31) -> 0 | AN31: ='invulblad opdrachtnemer'!I31 -> 0 | AO31: =SUM(AP31:CQ31) -> 0 | BB31: ='invulblad opdrachtnemer'!J31 -> 0 | BC31: =SUM(BD31:DE31) -> 0
B32: 10 | C32: =IF('invulblad opdrachtnemer'!C32="","",'invulblad opdrachtnemer'!C32) | D32: =IF('invulblad opdrachtnemer'!D32="","",'invulblad opdrachtnemer'!D32) | E32: =IF('invulblad opdrachtnemer'!E32="","",'invulblad opdrachtnemer'!E32) | F32: =IF('invulblad opdrachtnemer'!F32="","",'invulblad opdrachtnemer'!F32) | L32: ='invulblad opdrachtnemer'!G32 -> 0 | M32: =SUM(N32:Y32) -> 0 | Z32: ='invulblad opdrachtnemer'!H32 -> 0 | AA32: =SUM(AB32:CC32) -> 0 | AN32: ='invulblad opdrachtnemer'!I32 -> 0 | AO32: =SUM(AP32:CQ32) -> 0 | BB32: ='invulblad opdrachtnemer'!J32 -> 0 | BC32: =SUM(BD32:DE32) -> 0
C34: GEREEDSCHAPPEN (>8kW) | D34: Kies waar mogelijk een optie uit de machinelijst SEB. Hiervoor kunt u gebruikmaken van de dropdown of in de lijst filteren door te typen. Mocht een materieelstuk niet in de lijst staan, dan hoeft u deze niet op te geven. | L34: U rekent vanaf de 1e tot en met de laatste inzetdag van machines die voor de betreffende bouwwerkzaamheid aanwezig zijn. | N34: contractjaar | R34: =$R$21 -> 1 | S34: Registreer het aantal dagen dat het materieelstuk aanwezig is. Bijvoorbeeld materieelstuk is 2 weken aanwezig van ma t/m vr: vul 2x5 = 10 in. | AG34: contractjaar | AH34: =AH21 -> 2 | AU34: contractjaar | AV34: =AV21 -> 3 | BI34: contractjaar | BJ34: =$BJ$21 -> 4
C35: omschrijving gereedschap | F35: vermogensklasse (kW) | H35: merk | L35: inschatting dagen inzet | M35: totale dageninzet | N35: jan | O35: feb | P35: mrt | Q35: apr | R35: mei | S35: jun | T35: jul | U35: aug | V35: sep | W35: okt | X35: nov | Y35: dec | Z35: inschatting dagen inzet | AA35: totale dageninzet | AB35: jan | AC35: feb | AD35: mrt | AE35: apr | AF35: mei | AG35: jun | AH35: jul | AI35: aug | AJ35: sep | AK35: okt | AL35: nov | AM35: dec | AN35: inschatting dagen inzet | AO35: totale dageninzet | AP35: jan | AQ35: feb | AR35: mrt | AS35: apr | AT35: mei | AU35: jun | AV35: jul | AW35: aug | AX35: sep | AY35: okt | AZ35: nov | BA35: dec | BB35: inschatting dagen inzet | BC35: totale dageninzet | BD35: jan | BE35: feb | BF35: mrt | BG35: apr | BH35: mei | BI35: jun | BJ35: jul | BK35: aug | BL35: sep | BM35: okt | BN35: nov | BO35: dec
B36: 1 | M36: =SUM(N36:Y36) -> 0 | AA36: =SUM(AB36:AM36) -> 0 | AO36: =SUM(AP36:BA36) -> 0 | BC36: =SUM(BD36:BO36) -> 0
B37: 2 | M37: =SUM(N37:Y37) -> 0 | AA37: =SUM(AB37:AM37) -> 0 | AO37: =SUM(AP37:BA37) -> 0 | BC37: =SUM(BD37:BO37) -> 0
B38: 3 | M38: =SUM(N38:Y38) -> 0 | AA38: =SUM(AB38:AM38) -> 0 | AO38: =SUM(AP38:BA38) -> 0 | BC38: =SUM(BD38:BO38) -> 0
B39: 4 | M39: =SUM(N39:Y39) -> 0 | AA39: =SUM(AB39:AM39) -> 0 | AO39: =SUM(AP39:BA39) -> 0 | BC39: =SUM(BD39:BO39) -> 0
B40: 5 | M40: =SUM(N40:Y40) -> 0 | AA40: =SUM(AB40:AM40) -> 0 | AO40: =SUM(AP40:BA40) -> 0 | BC40: =SUM(BD40:BO40) -> 0
C42: AGGREGAAT OF BATTERIJPAKKET | L42: U rekent vanaf de 1e tot en met de laatste inzetdag van machines die voor de betreffende bouwwerkzaamheid moeten opladen. | N42: contractjaar | R42: =$R$21 -> 1 | S42: Registreer het aantal dagen dat het materieelstuk aanwezig is. Bijvoorbeeld materieelstuk is 2 weken aanwezig van ma t/m vr: vul 2x5 = 10 in. | AG42: contractjaar | AH42: =$AH$21 -> 2 | AU42: contractjaar | AV42: =$AV$21 -> 3 | BI42: contractjaar | BJ42: =$BJ$21 -> 4
C43: omschrijving gereedschap | F43: batterijcapaciteit (kWh) | H43: merk | L43: inschatting dagen inzet | M43: totale dageninzet | N43: jan | O43: feb | P43: mrt | Q43: apr | R43: mei | S43: jun | T43: jul | U43: aug | V43: sep | W43: okt | X43: nov | Y43: dec | Z43: inschatting dagen inzet | AA43: totale dageninzet | AB43: jan | AC43: feb | AD43: mrt | AE43: apr | AF43: mei | AG43: jun | AH43: jul | AI43: aug | AJ43: sep | AK43: okt | AL43: nov | AM43: dec | AN43: inschatting dagen inzet | AO43: totale dageninzet | AP43: jan | AQ43: feb | AR43: mrt | AS43: apr | AT43: mei | AU43: jun | AV43: jul | AW43: aug | AX43: sep | AY43: okt | AZ43: nov | BA43: dec | BB43: inschatting dagen inzet | BC43: totale dageninzet | BD43: jan | BE43: feb | BF43: mrt | BG43: apr | BH43: mei | BI43: jun | BJ43: jul | BK43: aug | BL43: sep | BM43: okt | BN43: nov | BO43: dec
B44: 1 | M44: =SUM(N44:Y44) -> 0 | AA44: =SUM(AB44:AM44) -> 0 | AO44: =SUM(AP44:BA44) -> 0 | BC44: =SUM(BD44:BO44) -> 0
B45: 2 | M45: =SUM(N45:Y45) -> 0 | AA45: =SUM(AB45:AM45) -> 0 | AO45: =SUM(AP45:BA45) -> 0 | BC45: =SUM(BD45:BO45) -> 0
B46: 3 | M46: =SUM(N46:Y46) -> 0 | AA46: =SUM(AB46:AM46) -> 0 | AO46: =SUM(AP46:BA46) -> 0 | BC46: =SUM(BD46:BO46) -> 0
...

Sheet subsidie opdrachtgever
C1: ='gunningscriterium SEB'!C1 -> EUROPESE AANBESTEDING KAP EN HERPLANT | K1: categorie | L1: vermogensklasse | M1: subsidie per dag | O1: vermogensklasse | P1: subsidie per dag
C2: Subsidie SPUK SEB | L2: t/m 7 kW | M2: 0 | O2: t/m 19 kW | P2: 0
C3: Instructie | D3: Vernieuw de filter in de cel 'Krijgen we subsidie?' met een klik op het grijze vierkantje > ok. Vul alle lichtblauwe velden in. | K3: mini | L3: 8 t/m 18 kW | M3: 30 | O3: 20 t/m 49 kW | P3: 13
D4: CPV-code | E4: startdatum | F4: einddatum | G4: aanneemsom | H4: MKB | I4: schatting subsidie | K4: klein | L4: 19 t/m 55 kW | M4: 54 | O4: 50 t/m 149 kW | P4: 32
H5: =IF('invulblad opdrachtnemer'!D36="","",'invulblad opdrachtnemer'!D36) | I5: =SUM(H10:H19)+SUM(H23:H32)+SUM(H36:H56) -> 0 | K5: middel | L5: 56 t/m 129 kW | M5: 240 | O5: 150 t/m 224 kW | P5: 93
C6: Inschrijver | D6: =IF('invulblad opdrachtnemer'!D34="","",'invulblad opdrachtnemer'!D34) | K6: groot | L6: 130 kW + | M6: 450 | O6: 225 t/m 349 kW | P6: 138
O7: 350 t/m 599 kW | P7: 208
C8: ='gunningscriterium SEB'!C12 -> WERKTUIGEN | O8: 600 kW + | P8: 352
C9: omschrijving materieelstuk | D9: motor | E9: energiedrager | F9: vermogensklasse (kW) | G9: Krijgen we subsidie? | H9: schatting subsidiebedrag | I9: inzetdagen (min. 2 uur)
B10: 1 | C10: =IF('invulblad opdrachtnemer'!C10="","",'invulblad opdrachtnemer'!C10) | D10: =IF('invulblad opdrachtnemer'!D10="","",'invulblad opdrachtnemer'!D10) | E10: =IF('invulblad opdrachtnemer'!E10="","",'invulblad opdrachtnemer'!E10) | F10: =IF('invulblad opdrachtnemer'!F10="","",'invulblad opdrachtnemer'!F10) | G10: =IFERROR(IF(AND(COUNTIF(machinelijst,C10),D10="elektromotor",NOT(F10=$L$2)),"Ja","Nee"),"") -> Nee | H10: =IF(AND(COUNTIF(machinelijst,C10),D10="elektromotor",G10="ja"),_xlfn.XLOOKUP(F10,$L$2:$L$6,$M$2:$M$6)*I10,) -> 0 | I10: =IF(G10="ja",(_xlfn.CEILING.MATH(SUM('invulblad opdrachtnemer'!G10:J10)/8)),"")
B11: 2 | C11: =IF('invulblad opdrachtnemer'!C11="","",'invulblad opdrachtnemer'!C11) | D11: =IF('invulblad opdrachtnemer'!D11="","",'invulblad opdrachtnemer'!D11) | E11: =IF('invulblad opdrachtnemer'!E11="","",'invulblad opdrachtnemer'!E11) | F11: =IF('invulblad opdrachtnemer'!F11="","",'invulblad opdrachtnemer'!F11) | G11: =IFERROR(IF(AND(COUNTIF(machinelijst,C11),D11="elektromotor",NOT(F11=$L$2)),"Ja","Nee"),"") -> Nee | H11: =IF(AND(COUNTIF(machinelijst,C11),D11="elektromotor",G11="ja"),_xlfn.XLOOKUP(F11,$L$2:$L$6,$M$2:$M$6)*I11,) -> 0 | I11: =IF(G11="ja",(_xlfn.CEILING.MATH(SUM('invulblad opdrachtnemer'!G11:J11)/8)),"")
B12: 3 | C12: =IF('invulblad opdrachtnemer'!C12="","",'invulblad opdrachtnemer'!C12) | D12: =IF('invulblad opdrachtnemer'!D12="","",'invulblad opdrachtnemer'!D12) | E12: =IF('invulblad opdrachtnemer'!E12="","",'invulblad opdrachtnemer'!E12) | F12: =IF('invulblad opdrachtnemer'!F12="","",'invulblad opdrachtnemer'!F12) | G12: =IFERROR(IF(AND(COUNTIF(machinelijst,C12),D12="elektromotor",NOT(F12=$L$2)),"Ja","Nee"),"") -> Nee | H12: =IF(AND(COUNTIF(machinelijst,C12),D12="elektromotor",G12="ja"),_xlfn.XLOOKUP(F12,$L$2:$L$6,$M$2:$M$6)*I12,) -> 0 | I12: =IF(G12="ja",(_xlfn.CEILING.MATH(SUM('invulblad opdrachtnemer'!G12:J12)/8)),"")
B13: 4 | C13: =IF('invulblad opdrachtnemer'!C13="","",'invulblad opdrachtnemer'!C13) | D13: =IF('invulblad opdrachtnemer'!D13="","",'invulblad opdrachtnemer'!D13) | E13: =IF('invulblad opdrachtnemer'!E13="","",'invulblad opdrachtnemer'!E13) | F13: =IF('invulblad opdrachtnemer'!F13="","",'invulblad opdrachtnemer'!F13) | G13: =IFERROR(IF(AND(COUNTIF(machinelijst,C13),D13="elektromotor",NOT(F13=$L$2)),"Ja","Nee"),"") -> Nee | H13: =IF(AND(COUNTIF(machinelijst,C13),D13="elektromotor",G13="ja"),_xlfn.XLOOKUP(F13,$L$2:$L$6,$M$2:$M$6)*I13,) -> 0 | I13: =IF(G13="ja",(_xlfn.CEILING.MATH(SUM('invulblad opdrachtnemer'!G13:J13)/8)),"")
B14: 5 | C14: =IF('invulblad opdrachtnemer'!C14="","",'invulblad opdrachtnemer'!C14) | D14: =IF('invulblad opdrachtnemer'!D14="","",'invulblad opdrachtnemer'!D14) | E14: =IF('invulblad opdrachtnemer'!E14="","",'invulblad opdrachtnemer'!E14) | F14: =IF('invulblad opdrachtnemer'!F14="","",'invulblad opdrachtnemer'!F14) | G14: =IFERROR(IF(AND(COUNTIF(machinelijst,C14),D14="elektromotor",NOT(F14=$L$2)),"Ja","Nee"),"") -> Nee | H14: =IF(AND(COUNTIF(machinelijst,C14),D14="elektromotor",G14="ja"),_xlfn.XLOOKUP(F14,$L$2:$L$6,$M$2:$M$6)*I14,) -> 0 | I14: =IF(G14="ja",(_xlfn.CEILING.MATH(SUM('invulblad opdrachtnemer'!G14:J14)/8)),"")
B15: 6 | C15: =IF('invulblad opdrachtnemer'!C15="","",'invulblad opdrachtnemer'!C15) | D15: =IF('invulblad opdrachtnemer'!D15="","",'invulblad opdrachtnemer'!D15) | E15: =IF('invulblad opdrachtnemer'!E15="","",'invulblad opdrachtnemer'!E15) | F15: =IF('invulblad opdrachtnemer'!F15="","",'invulblad opdrachtnemer'!F15) | G15: =IFERROR(IF(AND(COUNTIF(machinelijst,C15),D15="elektromotor",NOT(F15=$L$2)),"Ja","Nee"),"") -> Nee | H15: =IF(AND(COUNTIF(machinelijst,C15),D15="elektromotor",G15="ja"),_xlfn.XLOOKUP(F15,$L$2:$L$6,$M$2:$M$6)*I15,) -> 0 | I15: =IF(G15="ja",(_xlfn.CEILING.MATH(SUM('invulblad opdrachtnemer'!G15:J15)/8)),"")
B16: 7 | C16: =IF('invulblad opdrachtnemer'!C16="","",'invulblad opdrachtnemer'!C16) | D16: =IF('invulblad opdrachtnemer'!D16="","",'invulblad opdrachtnemer'!D16) | E16: =IF('invulblad opdrachtnemer'!E16="","",'invulblad opdrachtnemer'!E16) | F16: =IF('invulblad opdrachtnemer'!F16="","",'invulblad opdrachtnemer'!F16) | G16: =IFERROR(IF(AND(COUNTIF(machinelijst,C16),D16="elektromotor",NOT(F16=$L$2)),"Ja","Nee"),"") -> Nee | H16: =IF(AND(COUNTIF(machinelijst,C16),D16="elektromotor",G16="ja"),_xlfn.XLOOKUP(F16,$L$2:$L$6,$M$2:$M$6)*I16,) -> 0 | I16: =IF(G16="ja",(_xlfn.CEILING.MATH(SUM('invulblad opdrachtnemer'!G16:J16)/8)),"")
B17: 8 | C17: =IF('invulblad opdrachtnemer'!C17="","",'invulblad opdrachtnemer'!C17) | D17: =IF('invulblad opdrachtnemer'!D17="","",'invulblad opdrachtnemer'!D17) | E17: =IF('invulblad opdrachtnemer'!E17="","",'invulblad opdrachtnemer'!E17) | F17: =IF('invulblad opdrachtnemer'!F17="","",'invulblad opdrachtnemer'!F17) | G17: =IFERROR(IF(AND(COUNTIF(machinelijst,C17),D17="elektromotor",NOT(F17=$L$2)),"Ja","Nee"),"") -> Nee | H17: =IF(AND(COUNTIF(machinelijst,C17),D17="elektromotor",G17="ja"),_xlfn.XLOOKUP(F17,$L$2:$L$6,$M$2:$M$6)*I17,) -> 0 | I17: =IF(G17="ja",(_xlfn.CEILING.MATH(SUM('invulblad opdrachtnemer'!G17:J17)/8)),"")
B18: 9 | C18: =IF('invulblad opdrachtnemer'!C18="","",'invulblad opdrachtnemer'!C18) | D18: =IF('invulblad opdrachtnemer'!D18="","",'invulblad opdrachtnemer'!D18) | E18: =IF('invulblad opdrachtnemer'!E18="","",'invulblad opdrachtnemer'!E18) | F18: =IF('invulblad opdrachtnemer'!F18="","",'invulblad opdrachtnemer'!F18) | G18: =IFERROR(IF(AND(COUNTIF(machinelijst,C18),D18="elektromotor",NOT(F18=$L$2)),"Ja","Nee"),"") -> Nee | H18: =IF(AND(COUNTIF(machinelijst,C18),D18="elektromotor",G18="ja"),_xlfn.XLOOKUP(F18,$L$2:$L$6,$M$2:$M$6)*I18,) -> 0 | I18: =IF(G18="ja",(_xlfn.CEILING.MATH(SUM('invulblad opdrachtnemer'!G18:J18)/8)),"")
B19: 10 | C19: =IF('invulblad opdrachtnemer'!C19="","",'invulblad opdrachtnemer'!C19) | D19: =IF('invulblad opdrachtnemer'!D19="","",'invulblad opdrachtnemer'!D19) | E19: =IF('invulblad opdrachtnemer'!E19="","",'invulblad opdrachtnemer'!E19) | F19: =IF('invulblad opdrachtnemer'!F19="","",'invulblad opdrachtnemer'!F19) | G19: =IFERROR(IF(AND(COUNTIF(machinelijst,C19),D19="elektromotor",NOT(F19=$L$2)),"Ja","Nee"),"") -> Nee | H19: =IF(AND(COUNTIF(machinelijst,C19),D19="elektromotor",G19="ja"),_xlfn.XLOOKUP(F19,$L$2:$L$6,$M$2:$M$6)*I19,) -> 0 | I19: =IF(G19="ja",(_xlfn.CEILING.MATH(SUM('invulblad opdrachtnemer'!G19:J19)/8)),"")
C21: ='gunningscriterium SEB'!C21 -> TRANSPORTMIDDELEN (N1, N2 en N3)
C22: omschrijving materieelstuk | D22: motor | E22: energiedrager | F22: vermogensklasse (kW) | G22: Krijgen we subsidie? | H22: schatting subsidiebedrag | I22: inzetdagen (min. 2 uur)
B23: 1 | C23: =IF('invulblad opdrachtnemer'!C23="","",'invulblad opdrachtnemer'!C23) | D23: =IF('invulblad opdrachtnemer'!D23="","",'invulblad opdrachtnemer'!D23) | E23: =IF('invulblad opdrachtnemer'!E23="","",'invulblad opdrachtnemer'!E23) | F23: =IF('invulblad opdrachtnemer'!F23="","",'invulblad opdrachtnemer'!F23) | G23: =IFERROR(IF(AND(COUNTIF(machinelijst,C23),D23="elektromotor",NOT(F23=$L$2)),"Ja","Nee"),"") -> Nee | H23: =IF(AND(COUNTIF(machinelijst,C23),D23="elektromotor",G23="ja"),_xlfn.XLOOKUP(F23,$L$2:$L$6,$M$2:$M$6)*I23,) -> 0 | I23: =IF(G23="ja",(SUM('invulblad opdrachtnemer'!G23:J23)),"")
B24: 2 | C24: =IF('invulblad opdrachtnemer'!C24="","",'invulblad opdrachtnemer'!C24) | D24: =IF('invulblad opdrachtnemer'!D24="","",'invulblad opdrachtnemer'!D24) | E24: =IF('invulblad opdrachtnemer'!E24="","",'invulblad opdrachtnemer'!E24) | F24: =IF('invulblad opdrachtnemer'!F24="","",'invulblad opdrachtnemer'!F24) | G24: =IFERROR(IF(AND(COUNTIF(machinelijst,C24),D24="elektromotor",NOT(F24=$L$2)),"Ja","Nee"),"") -> Nee | H24: =IF(AND(COUNTIF(machinelijst,C24),D24="elektromotor",G24="ja"),_xlfn.XLOOKUP(F24,$L$2:$L$6,$M$2:$M$6)*I24,) -> 0 | I24: =IF(G24="ja",(SUM('invulblad opdrachtnemer'!G24:J24)),"")
B25: 3 | C25: =IF('invulblad opdrachtnemer'!C25="","",'invulblad opdrachtnemer'!C25) | D25: =IF('invulblad opdrachtnemer'!D25="","",'invulblad opdrachtnemer'!D25) | E25: =IF('invulblad opdrachtnemer'!E25="","",'invulblad opdrachtnemer'!E25) | F25: =IF('invulblad opdrachtnemer'!F25="","",'invulblad opdrachtnemer'!F25) | G25: =IFERROR(IF(AND(COUNTIF(machinelijst,C25),D25="elektromotor",NOT(F25=$L$2)),"Ja","Nee"),"") -> Nee | H25: =IF(AND(COUNTIF(machinelijst,C25),D25="elektromotor",G25="ja"),_xlfn.XLOOKUP(F25,$L$2:$L$6,$M$2:$M$6)*I25,) -> 0 | I25: =IF(G25="ja",(SUM('invulblad opdrachtnemer'!G25:J25)),"")
B26: 4 | C26: =IF('invulblad opdrachtnemer'!C26="","",'invulblad opdrachtnemer'!C26) | D26: =IF('invulblad opdrachtnemer'!D26="","",'invulblad opdrachtnemer'!D26) | E26: =IF('invulblad opdrachtnemer'!E26="","",'invulblad opdrachtnemer'!E26) | F26: =IF('invulblad opdrachtnemer'!F26="","",'invulblad opdrachtnemer'!F26) | G26: =IFERROR(IF(AND(COUNTIF(machinelijst,C26),D26="elektromotor",NOT(F26=$L$2)),"Ja","Nee"),"") -> Nee | H26: =IF(AND(COUNTIF(machinelijst,C26),D26="elektromotor",G26="ja"),_xlfn.XLOOKUP(F26,$L$2:$L$6,$M$2:$M$6)*I26,) -> 0 | I26: =IF(G26="ja",(SUM('invulblad opdrachtnemer'!G26:J26)),"")
B27: 5 | C27: =IF('invulblad opdrachtnemer'!C27="","",'invulblad opdrachtnemer'!C27) | D27: =IF('invulblad opdrachtnemer'!D27="","",'invulblad opdrachtnemer'!D27) | E27: =IF('invulblad opdrachtnemer'!E27="","",'invulblad opdrachtnemer'!E27) | F27: =IF('invulblad opdrachtnemer'!F27="","",'invulblad opdrachtnemer'!F27) | G27: =IFERROR(IF(AND(COUNTIF(machinelijst,C27),D27="elektromotor",NOT(F27=$L$2)),"Ja","Nee"),"") -> Nee | H27: =IF(AND(COUNTIF(machinelijst,C27),D27="elektromotor",G27="ja"),_xlfn.XLOOKUP(F27,$L$2:$L$6,$M$2:$M$6)*I27,) -> 0 | I27: =IF(G27="ja",(SUM('invulblad opdrachtnemer'!G27:J27)),"")
B28: 6 | C28: =IF('invulblad opdrachtnemer'!C28="","",'invulblad opdrachtnemer'!C28) | D28: =IF('invulblad opdrachtnemer'!D28="","",'invulblad opdrachtnemer'!D28) | E28: =IF('invulblad opdrachtnemer'!E28="","",'invulblad opdrachtnemer'!E28) | F28: =IF('invulblad opdrachtnemer'!F28="","",'invulblad opdrachtnemer'!F28) | G28: =IFERROR(IF(AND(COUNTIF(machinelijst,C28),D28="elektromotor",NOT(F28=$L$2)),"Ja","Nee"),"") -> Nee | H28: =IF(AND(COUNTIF(machinelijst,C28),D28="elektromotor",G28="ja"),_xlfn.XLOOKUP(F28,$L$2:$L$6,$M$2:$M$6)*I28,) -> 0 | I28: =IF(G28="ja",(SUM('invulblad opdrachtnemer'!G28:J28)),"")
B29: 7 | C29: =IF('invulblad opdrachtnemer'!C29="","",'invulblad opdrachtnemer'!C29) | D29: =IF('invulblad opdrachtnemer'!D29="","",'invulblad opdrachtnemer'!D29) | E29: =IF('invulblad opdrachtnemer'!E29="","",'invulblad opdrachtnemer'!E29) | F29: =IF('invulblad opdrachtnemer'!F29="","",'invulblad opdrachtnemer'!F29) | G29: =IFERROR(IF(AND(COUNTIF(machinelijst,C29),D29="elektromotor",NOT(F29=$L$2)),"Ja","Nee"),"") -> Nee | H29: =IF(AND(COUNTIF(machinelijst,C29),D29="elektromotor",G29="ja"),_xlfn.XLOOKUP(F29,$L$2:$L$6,$M$2:$M$6)*I29,) -> 0 | I29: =IF(G29="ja",(SUM('invulblad opdrachtnemer'!G29:J29)),"")
B30: 8 | C30: =IF('invulblad opdrachtnemer'!C30="","",'invulblad opdrachtnemer'!C30) | D30: =IF('invulblad opdrachtnemer'!D30="","",'invulblad opdrachtnemer'!D30) | E30: =IF('invulblad opdrachtnemer'!E30="","",'invulblad opdrachtnemer'!E30) | F30: =IF('invulblad opdrachtnemer'!F30="","",'invulblad opdrachtnemer'!F30) | G30: =IFERROR(IF(AND(COUNTIF(machinelijst,C30),D30="elektromotor",NOT(F30=$L$2)),"Ja","Nee"),"") -> Nee | H30: =IF(AND(COUNTIF(machinelijst,C30),D30="elektromotor",G30="ja"),_xlfn.XLOOKUP(F30,$L$2:$L$6,$M$2:$M$6)*I30,) -> 0 | I30: =IF(G30="ja",(SUM('invulblad opdrachtnemer'!G30:J30)),"")
B31: 9 | C31: =IF('invulblad opdrachtnemer'!C31="","",'invulblad opdrachtnemer'!C31) | D31: =IF('invulblad opdrachtnemer'!D31="","",'invulblad opdrachtnemer'!D31) | E31: =IF('invulblad opdrachtnemer'!E31="","",'invulblad opdrachtnemer'!E31) | F31: =IF('invulblad opdrachtnemer'!F31="","",'invulblad opdrachtnemer'!F31) | G31: =IFERROR(IF(AND(COUNTIF(machinelijst,C31),D31="elektromotor",NOT(F31=$L$2)),"Ja","Nee"),"") -> Nee | H31: =IF(AND(COUNTIF(machinelijst,C31),D31="elektromotor",G31="ja"),_xlfn.XLOOKUP(F31,$L$2:$L$6,$M$2:$M$6)*I31,) -> 0 | I31: =IF(G31="ja",(SUM('invulblad opdrachtnemer'!G31:J31)),"")
B32: 10 | C32: =IF('invulblad opdrachtnemer'!C32="","",'invulblad opdrachtnemer'!C32) | D32: =IF('invulblad opdrachtnemer'!D32="","",'invulblad opdrachtnemer'!D32) | E32: =IF('invulblad opdrachtnemer'!E32="","",'invulblad opdrachtnemer'!E32) | F32: =IF('invulblad opdrachtnemer'!F32="","",'invulblad opdrachtnemer'!F32) | G32: =IFERROR(IF(AND(COUNTIF(machinelijst,C32),D32="elektromotor",NOT(F32=$L$2)),"Ja","Nee"),"") -> Nee | H32: =IF(AND(COUNTIF(machinelijst,C32),D32="elektromotor",G32="ja"),_xlfn.XLOOKUP(F32,$L$2:$L$6,$M$2:$M$6)*I32,) -> 0 | I32: =IF(G32="ja",(SUM('invulblad opdrachtnemer'!G32:J32)),"")
C34: GEREEDSCHAPPEN
C35: omschrijving materieelstuk | F35: vermogensklasse (kW) | G35: Krijgen we subsidie? | H35: schatting subsidiebedrag | I35: inzetdagen (min. 2 uur)
B36: 1 | C36: =IF('logboek opdrachtnemer'!C36="","",'logboek opdrachtnemer'!C36) | F36: =IF('logboek opdrachtnemer'!F36="","",'logboek opdrachtnemer'!F36) | G36: =IFERROR(IF(AND(COUNTIF(machinelijst,C36),NOT(C36=""),NOT(F36=$L$2)),"Ja","Nee"),"") -> Nee | H36: =IF(AND(COUNTIF(machinelijst,C36),G36="Ja"),_xlfn.XLOOKUP(F36,$L$2:$L$6,$M$2:$M$6)*I36,0) -> 0 | I36: =IF(G36="ja",(SUM('logboek opdrachtnemer'!L36)),"")
B37: 2 | C37: =IF('logboek opdrachtnemer'!C37="","",'logboek opdrachtnemer'!C37) | F37: =IF('logboek opdrachtnemer'!F37="","",'logboek opdrachtnemer'!F37) | G37: =IFERROR(IF(AND(COUNTIF(machinelijst,C37),NOT(C37=""),NOT(F37=$L$2)),"Ja","Nee"),"") -> Nee | H37: =IF(AND(COUNTIF(machinelijst,C37),G37="Ja"),_xlfn.XLOOKUP(F37,$L$2:$L$6,$M$2:$M$6)*I37,0) -> 0 | I37: =IF(G37="ja",(SUM('logboek opdrachtnemer'!L37)),"")
B38: 3 | C38: =IF('logboek opdrachtnemer'!C38="","",'logboek opdrachtnemer'!C38) | F38: =IF('logboek opdrachtnemer'!F38="","",'logboek opdrachtnemer'!F38) | G38: =IFERROR(IF(AND(COUNTIF(machinelijst,C38),NOT(C38=""),NOT(F38=$L$2)),"Ja","Nee"),"") -> Nee | H38: =IF(AND(COUNTIF(machinelijst,C38),G38="Ja"),_xlfn.XLOOKUP(F38,$L$2:$L$6,$M$2:$M$6)*I38,0) -> 0 | I38: =IF(G38="ja",(SUM('logboek opdrachtnemer'!L38)),"")
B39: 4 | C39: =IF('logboek opdrachtnemer'!C39="","",'logboek opdrachtnemer'!C39) | F39: =IF('logboek opdrachtnemer'!F39="","",'logboek opdrachtnemer'!F39) | G39: =IFERROR(IF(AND(COUNTIF(machinelijst,C39),NOT(C39=""),NOT(F39=$L$2)),"Ja","Nee"),"") -> Nee | H39: =IF(AND(COUNTIF(machinelijst,C39),G39="Ja"),_xlfn.XLOOKUP(F39,$L$2:$L$6,$M$2:$M$6)*I39,0) -> 0 | I39: =IF(G39="ja",(SUM('logboek opdrachtnemer'!L39)),"")
B40: 5 | C40: =IF('logboek opdrachtnemer'!C40="","",'logboek opdrachtnemer'!C40) | F40: =IF('logboek opdrachtnemer'!F40="","",'logboek opdrachtnemer'!F40) | G40: =IFERROR(IF(AND(COUNTIF(machinelijst,C40),NOT(C40=""),NOT(F40=$L$2)),"Ja","Nee"),"") -> Nee | H40: =IF(AND(COUNTIF(machinelijst,C40),G40="Ja"),_xlfn.XLOOKUP(F40,$L$2:$L$6,$M$2:$M$6)*I40,0) -> 0 | I40: =IF(G40="ja",(SUM('logboek opdrachtnemer'!L40)),"")
G41: Ja
C42: AGGREGAAT OF BATTERIJPAKKET
...

Sheet beoordeling opdrachtgever
C1: ='gunningscriterium SEB'!C1 -> EUROPESE AANBESTEDING KAP EN HERPLANT
C2: Beoordelingsformulier
C4: aantal inschrijvers | F4: inschrijver 1 | H4: inschrijver 2 | J4: inschrijver 3 | L4: inschrijver 4 | N4: inschrijver 5
C6: ingevuld door | F6: [ bedrijfsnaam ] | H6: [ bedrijfsnaam ] | J6: [ bedrijfsnaam ] | L6: [ bedrijfsnaam ] | N6: [ bedrijfsnaam ]
C8: totale fictieve meerwaarde | D8: ='gunningscriterium SEB'!C12 -> WERKTUIGEN | H8: 0 | J8: 0 | L8: 0 | N8: 0
C10: totale fictieve meerwaarde | D10: ='gunningscriterium SEB'!C21 -> TRANSPORTMIDDELEN (N1, N2 en N3) | H10: 0 | J10: 0 | L10: 0 | N10: 0
C12: totale fictieve meerwaarde | D12: ='gunningscriterium SEB'!D2 -> Schoon- en Emissieloos Bouwen | F12: =SUM(F8:F10) -> 0 | H12: =SUM(H8:H10) -> 0 | J12: =SUM(J8:J10) -> 0 | L12: =SUM(L8:L10) -> 0 | N12: =SUM(N8:N10) -> 0
C14: inschrijvingssom | F14: 0 | H14: 0 | J14: 0 | L14: 0 | N14: 0
C16: evaluatieprijs | F16: =F14-F12 -> 0 | H16: =H14-H12 -> 0 | J16: =J14-J12 -> 0 | L16: =L14-L12 -> 0 | N16: =N14-N12 -> 0
C18: uitslag | F18: =IF($D$4=1,1,IF($D$4=2,RANK(F16,$F$16:$H$16,1),(IF($D$4=3,RANK(F16,$F$16:$J$16,1),IF($D$4=4,RANK(F16,$F$16:$L$16,1),IF($D$4=5,RANK(F16,$F$16:$N$16,1),"")))))) | H18: =IF($D$4=2,RANK(H16,$F$16:$H$16,1),(IF($D$4=3,RANK(H16,$F$16:$J$16,1),IF($D$4=4,RANK(H16,$F$16:$L$16,1),IF($D$4=5,RANK(H16,$F$16:$N$16,1),""))))) | J18: =IF($D$4=2,"",IF($D$4=3,RANK(J16,$F$16:$J$16,1),IF($D$4=4,RANK(J16,$F$16:$L$16,1),IF($D$4=5,RANK(J16,$F$16:$N$16,1),"")))) | L18: =IF($D$4=2,"",IF($D$4=3,"",IF($D$4=4,RANK(L16,$F$16:$L$16,1),IF($D$4=5,RANK(L16,$F$16:$N$16,1),"")))) | N18: =IF($D$4=2,"",IF($D$4=3,"",IF($D$4=4,"",IF($D$4=5,RANK(N16,$F$16:$N$16,1),""))))
C20: opmerking(en) voor publicatie
C22: handtekening
C24: datum

Sheet machinelijst SEB
B2: Machinelijst SPUK SEB versie november 2024
B5: A. Bouwwerktuigen
C6: A1. Mobiele machines
D7: A1.1 asfalt- / betonzagen (rijdend) | E7: J | F7: J
D8: A1.2 asfaltspreidmachine / asfaltwerkmachine | E8: J | F8: J
D9: A1.3 asfaltvoorlader | E9: J | F9: J
D10: A1.4 ballastafwerkmachine | E10: J | F10: J
D11: A1.5 bestratingsmachine (zelfrijdend) | E11: J | F11: J
D12: A1.6 beton- of mortelmachine / paver / mobiele 3D printer | E12: J | F12: J
D13: A1.7 beton- of bentonietpomp (stand-alone) | E13: J | F13: J
D14: A1.8 bodemstabiliseerder | E14: J | F14: J
D15: A1.9 bulldozer | E15: J | F15: J
D16: A1.10 emulsiespuitwagen | E16: J | F16: J
D17: A1.11 freesmachine voor asfalt of beton | E17: J | F17: J
D18: A1.12 sondeermachine / sondeertruck / sondeerrups | E18: J | F18: J
... D50: A1.46 boomverplantingsmachine | E50: J | F50: J
C51: A2. Vervoerbare industriële uitrustingen
D52: A2.3 aggregaat voor off-grid stroomvoorziening aangedreven door waterstof ofwaterstofdragers | E52: J | F52: N
D53: A2.5 lasaggregaat | E53: J | F53: J
D54: A2.6 lichtmastaggregaat/lichtmast (zelf aangedreven) | E54: J | F54: N
D55: A2.8 trilplaat / trilblok / stamper | E55: J | F55: N
D56: A2.9 mobiele (vuil)-waterpomp | E56: J | F56: N
D57: A2.10 pompen voor baggeren (DOP-pomp, jetpomp, booster-baggerstation) | E57: J | F57: N
D58: A2.12 vliegwiel als vermogensvoorziening | E58: J | F58: J1
C59: A2. Vervoerbare industriële uitrustingen (aggregaten, batterijpakketten, DC-laadstations)
D60: A2.2 aggregaat op wind- of zonne-energie voor off-grid stroomvoorziening (niet hybride met verbrandingsmotor)
D61: A2.4 hydraulisch aggregaat
D62: A2.7 stationair batterijpakket voor off-grid stroomvoorziening vanaf 50 kWh
D63: A2.11 verwisselbaar batterijpakket vanaf 50 kWh behorend bij een bouwwerktuig
D64: A2.13 DC (gelijkstroom) laadstation
B65: B. Hulpfuncties
C66: B1. elektrische aandrijfmotor met een brandstofcel of een niet loodhoudend accupakket voor aandrijving van de opbouw van een voertuig, oplegger of spoorvoertuig (inclusief vrachtautorailvoertuig), zijnde een:
D67: B1.1 autolaadkraan | E67: J | F67: J
D68: B1.2 betonmixer | E68: J | F68: J
D69: B1.3 betonpomp | E69: J | F69: J
D70: B1.4 binnenlader | E70: J | F70: J
D71: B1.5 boor | E71: J | F71: J
D72: B1.6 front-end cylinder | E72: J | F72: J
D73: B1.7 haakarm | E73: J | F73: J
D74: B1.8 kabelsysteem | E74: J | F74: J
...
