Workbook
Name MaxPnt: 'P 1'!$B$11
Name MaxPnt: 'P 2'!$B$11
Name MaxPnt: 'P 3'!$B$11
Name MaxPnt: 'P 4'!$B$11
Name MaxPnt: 'P 5'!$B$11
Name MaxPnt: 'P 6'!$B$11
Name MaxPnt: #REF!
Name PrIn: 'P 1'!$B$14
Name PrIn: 'P 2'!$B$14
Name PrIn: 'P 3'!$B$14
Name PrIn: 'P 4'!$B$14
Name PrIn: 'P 5'!$B$14
Name PrIn: 'P 6'!$B$14
Name PrIn: #REF!
Name PrKn: 'P 1'!$B$8
Name PrKn: 'P 2'!$B$8
Name PrKn: 'P 3'!$B$8
Name PrKn: 'P 4'!$B$8
Name PrKn: 'P 5'!$B$8
Name PrKn: 'P 6'!$B$8
Name PrKn: #REF!
Name PrMax: 'P 1'!$B$10
Name PrMax: 'P 2'!$B$10
Name PrMax: 'P 3'!$B$10
Name PrMax: 'P 4'!$B$10
Name PrMax: 'P 5'!$B$10
Name PrMax: 'P 6'!$B$10
Name PrMax: #REF!
Name PuKn: 'P 1'!$B$9
Name PuKn: 'P 2'!$B$9
Name PuKn: 'P 3'!$B$9
Name PuKn: 'P 4'!$B$9
Name PuKn: 'P 5'!$B$9
Name PuKn: 'P 6'!$B$9
Name PuKn: #REF!

Sheet Inschrijfprijs
B2: Bijlage Prijzenblad - Sanitaire voorzieningen en verbruiksartikelen
A4: # | B4: ARTIKEL | C4: AANTALLEN in stuks per jaar | D4: VERPAKKINGSEENHEID | E4: ARTIKEL OMSCHRIJVING | F4: ARTIKEL NUMMER | G4: VERPAKKINGSEENHEID | H4: EENHEID | I4: PRIJS PER STUK EXCL. BTW | J4: PRIJS PER STUK INCL. BTW | K4: Maximale punten | L4: TOTALEN | M4: Gescoorde punten
A5: P1 | B5: Papieren handdoekjes | C5: 7100 | D5: 1 doos (25 pakjes x 160 handdoekjes) | H5: 1 handdoekje | J5: =(I5*1.21) -> 0 | K5: =(700/100)*50 -> 350 | L5: =((25*160)*C5)*I5 -> 0 | M5: Tabblad P1
A6: P2 | B6: Jumbo toiletrollen | C6: 4000 | D6: 1 wikkel (12 rollen x 150 meter) | H6: 1 meter | J6: =(I6*1.21) -> 0 | K6: =(700/100)*10 -> 70 | L6: =((12*150)*C6)*I6 -> 0 | M6: Tabblad P2
A7: P3 | B7: Vloeibare handzeep | C7: 1000 | D7: 1 doos (6 flacons x 1 liter) | H7: 1 liter | J7: =(I7*1.21) -> 0 | K7: 55 | L7: =((6*1)*C7)*I7 -> 0 | M7: Tabblad P3
A8: P4 | B8: Standaard toiletrollen | C8: 350 | D8: 1 wikkel (40 rollen x 20 meter) | H8: 1 meter | J8: =(I8*1.21) -> 0 | K8: 25 | L8: =((40*20)*C8)*I8 -> 0 | M8: Tabblad P4
A9: P5 | B9: Hygiene box | C9: 561 | D9: n.v.t. | H9: wisselprijs 1x 2 weken | J9: =(I9*1.21) -> 0 | K9: =(700/100)*25 -> 175 | L9: =(C9*I9)*26 -> 0 | M9: Tabblad P5
A10: P6 | B10: Droogloopmat | C10: 5 | D10: n.v.t. | H10: wisselprijs 1x maand | J10: =(I10*1.21) -> 0 | K10: 25 | L10: =(C10*I10)*12 -> 0 | M10: Tabblad P6
J11: Inschrijfprijs exclusief BTW | L11: =SUM(L5:L10) -> 0
J12: Totaal aantal punten onderdeel Prijs = som P1 t/m P6
B14: Rechtsgeldige ondertekening | I14: Toelichting: prijsplafond per artikel
B15: Naam | I15: # | J15: ARTIKEL | K15: Prijsplafond (= Prijsmax)
B17: Functie | I17: P1 | J17: Papieren handdoekjes | K17: 154100
I18: P2 | J18: Jumbo toiletrollen | K18: 30350
B19: Plaats | I19: P3 | J19: Vloeibare handzeep | K19: 20000
I20: P4 | J20: Standaard toiletrollen | K20: 2400
B21: Datum | I21: P5 | J21: Hygiene box | K21: 75000
I22: P6 | J22: Droogloopmat | K22: 750
B23: Handtekening

Sheet P 1
A2: Rekenblad gunningscriterium P1
A4: Naam | B4: Papieren handdoekjes
A7: Gegevens perceel | I7: x | J7: y
A8: Prijsknippunt | B8: 128400 | C8: euro | D8: PrKn | I8: 0 | J8: =PrKn -> 128400 | K8: =PrMax -> 154100 | M8: =PrIn -> 0
A9: Puntenknippunt | B9: 350 | C9: punten | D9: PuKn | I9: =MaxPnt -> 350 | J9: =PuKn -> 350 | K9: 0 | M9: =IF(PrIn<=PrMax,A24,0) -> 350
A10: Maximale prijs | B10: 154100 | C10: euro | D10: PrMax
A11: Maximum pnt | B11: 350 | C11: punten | L11: 0 | M11: =PrKn -> 128400 | N11: =PrKn -> 128400
L12: =PuKn -> 350 | M12: =PuKn -> 350 | N12: 0
A13: Gegevens inschrijver
A14: Inschrijvingsprijs | B14: =Inschrijfprijs!L5 -> 0 | C14: euro
A16: Berekende gegevens grafiek
A17: Grafiekformule: Punten = A x Inschrijvingsprijs + B
B19: A | C19: B
A20: Deel 1 | B20: =(PuKn-MaxPnt)/PrKn -> 0 | C20: =MaxPnt -> 350
A21: Deel 2 | B21: =(0-PuKn)/(PrMax-PrKn) -> -0.013618677 | C21: =PrMax*PuKn/(PrMax-PrKn) -> 2098.6381
A23: Score
A24: =IF(PrIn<=PrKn,ROUND((PuKn-MaxPnt)/PrKn*PrIn+MaxPnt,3),IF(PrIn>=PrMax,"0",ROUND(((0-PuKn)/(PrMax-PrKn))*PrIn+PrMax*PuKn/(PrMax-PrKn),3))) -> 350
A26: punten
A29: Grafiekformule is:
A30: Punten = A x Inschrijfprijs + B
A32: Formule voor A en B is:
A33: A | B33: (0-PuKn)/(PrMax-PrKn)
A34: B | B34: PrMax*PuKn/(PrMax-PrKn)

Sheet P 2
A2: Rekenblad gunningscriterium P2
A4: Naam | B4: Jumbo toiletrollen
A7: Gegevens perceel | I7: x | J7: y
A8: Prijsknippunt | B8: 25300 | C8: euro | D8: PrKn | I8: 0 | J8: =PrKn -> 25300 | K8: =PrMax -> 30350 | M8: =PrIn -> 0
A9: Puntenknippunt | B9: 70 | C9: punten | D9: PuKn | I9: =MaxPnt -> 70 | J9: =PuKn -> 70 | K9: 0 | M9: =IF(PrIn<=PrMax,A24,0) -> 70
A10: Maximale prijs | B10: 30350 | C10: euro | D10: PrMax
A11: Maximum pnt | B11: 70 | C11: punten | L11: 0 | M11: =PrKn -> 25300 | N11: =PrKn -> 25300
L12: =PuKn -> 70 | M12: =PuKn -> 70 | N12: 0
A13: Gegevens inschrijver
A14: Inschrijvingsprijs | B14: =Inschrijfprijs!L6 -> 0 | C14: euro
A16: Berekende gegevens grafiek
A17: Grafiekformule: Punten = A x Inschrijvingsprijs + B
B19: A | C19: B
A20: Deel 1 | B20: =(PuKn-MaxPnt)/PrKn -> 0 | C20: =MaxPnt -> 70
A21: Deel 2 | B21: =(0-PuKn)/(PrMax-PrKn) -> -0.013861386 | C21: =PrMax*PuKn/(PrMax-PrKn) -> 420.69307
A23: Score
A24: =IF(PrIn<=PrKn,ROUND((PuKn-MaxPnt)/PrKn*PrIn+MaxPnt,3),IF(PrIn>=PrMax,"0",ROUND(((0-PuKn)/(PrMax-PrKn))*PrIn+PrMax*PuKn/(PrMax-PrKn),3))) -> 70
A26: punten
A29: Grafiekformule is:
A30: Punten = A x Inschrijfprijs + B
A32: Formule voor A en B is:
A33: A | B33: (0-PuKn)/(PrMax-PrKn)
A34: B | B34: PrMax*PuKn/(PrMax-PrKn)

Sheet P 3
A2: Rekenblad gunningscriterium P3
A4: Naam | B4: Vloeibare handzeep
A7: Gegevens perceel | I7: x | J7: y
A8: Prijsknippunt | B8: 13050 | C8: euro | D8: PrKn | I8: 0 | J8: =PrKn -> 13050 | K8: =PrMax -> 20000 | M8: =PrIn -> 0
A9: Puntenknippunt | B9: 55 | C9: punten | D9: PuKn | I9: =MaxPnt -> 55 | J9: =PuKn -> 55 | K9: 0 | M9: =IF(PrIn<=PrMax,A24,0) -> 55
A10: Maximale prijs | B10: =20000 -> 20000 | C10: euro | D10: PrMax
A11: Maximum pnt | B11: 55 | C11: punten | L11: 0 | M11: =PrKn -> 13050 | N11: =PrKn -> 13050
L12: =PuKn -> 55 | M12: =PuKn -> 55 | N12: 0
A13: Gegevens inschrijver
A14: Inschrijvingsprijs | B14: =Inschrijfprijs!L7 -> 0 | C14: euro
A16: Berekende gegevens grafiek
A17: Grafiekformule: Punten = A x Inschrijvingsprijs + B
B19: A | C19: B
A20: Deel 1 | B20: =(PuKn-MaxPnt)/PrKn -> 0 | C20: =MaxPnt -> 55
A21: Deel 2 | B21: =(0-PuKn)/(PrMax-PrKn) -> -0.0079136691 | C21: =PrMax*PuKn/(PrMax-PrKn) -> 158.27338
A23: Score
A24: =IF(PrIn<=PrKn,ROUND((PuKn-MaxPnt)/PrKn*PrIn+MaxPnt,3),IF(PrIn>=PrMax,"0",ROUND(((0-PuKn)/(PrMax-PrKn))*PrIn+PrMax*PuKn/(PrMax-PrKn),3))) -> 55
A26: punten
A29: Grafiekformule is:
A30: Punten = A x Inschrijfprijs + B
A32: Formule voor A en B is:
A33: A | B33: (0-PuKn)/(PrMax-PrKn)
A34: B | B34: PrMax*PuKn/(PrMax-PrKn)

Sheet P 4
A2: Rekenblad gunningscriterium P4
A4: Naam | B4: Standaard toiletrollen
A7: Gegevens perceel | I7: x | J7: y
A8: Prijsknippunt | B8: 2035 | C8: euro | D8: PrKn | I8: 0 | J8: =PrKn -> 2035 | K8: =PrMax -> 2400 | M8: =PrIn -> 0
A9: Puntenknippunt | B9: 25 | C9: punten | D9: PuKn | I9: =MaxPnt -> 25 | J9: =PuKn -> 25 | K9: 0 | M9: =IF(PrIn<=PrMax,A24,0) -> 25
A10: Maximale prijs | B10: 2400 | C10: euro | D10: PrMax
A11: Maximum pnt | B11: 25 | C11: punten | L11: 0 | M11: =PrKn -> 2035 | N11: =PrKn -> 2035
L12: =PuKn -> 25 | M12: =PuKn -> 25 | N12: 0
A13: Gegevens inschrijver
A14: Inschrijvingsprijs | B14: =Inschrijfprijs!L8 -> 0 | C14: euro
A16: Berekende gegevens grafiek
A17: Grafiekformule: Punten = A x Inschrijvingsprijs + B
B19: A | C19: B
A20: Deel 1 | B20: =(PuKn-MaxPnt)/PrKn -> 0 | C20: =MaxPnt -> 25
A21: Deel 2 | B21: =(0-PuKn)/(PrMax-PrKn) -> -0.068493151 | C21: =PrMax*PuKn/(PrMax-PrKn) -> 164.38356
A23: Score
A24: =IF(PrIn<=PrKn,ROUND((PuKn-MaxPnt)/PrKn*PrIn+MaxPnt,3),IF(PrIn>=PrMax,"0",ROUND(((0-PuKn)/(PrMax-PrKn))*PrIn+PrMax*PuKn/(PrMax-PrKn),3))) -> 25
A26: punten
A29: Grafiekformule is:
A30: Punten = A x Inschrijfprijs + B
A32: Formule voor A en B is:
A33: A | B33: (0-PuKn)/(PrMax-PrKn)
A34: B | B34: PrMax*PuKn/(PrMax-PrKn)

Sheet P 5
A2: Rekenblad gunningscriterium P5
A4: Naam | B4: Hygiene box
A7: Gegevens perceel | I7: x | J7: y
A8: Prijsknippunt | B8: 49285 | C8: euro | D8: PrKn | I8: 0 | J8: =PrKn -> 49285 | K8: =PrMax -> 75000 | M8: =PrIn -> 0
A9: Puntenknippunt | B9: 175 | C9: punten | D9: PuKn | I9: =MaxPnt -> 175 | J9: =PuKn -> 175 | K9: 0 | M9: =IF(PrIn<=PrMax,A24,0) -> 175
A10: Maximale prijs | B10: 75000 | C10: euro | D10: PrMax
A11: Maximum pnt | B11: 175 | C11: punten | L11: 0 | M11: =PrKn -> 49285 | N11: =PrKn -> 49285
L12: =PuKn -> 175 | M12: =PuKn -> 175 | N12: 0
A13: Gegevens inschrijver
A14: Inschrijvingsprijs | B14: =Inschrijfprijs!L9 -> 0 | C14: euro
A16: Berekende gegevens grafiek
A17: Grafiekformule: Punten = A x Inschrijvingsprijs + B
B19: A | C19: B
A20: Deel 1 | B20: =(PuKn-MaxPnt)/PrKn -> 0 | C20: =MaxPnt -> 175
A21: Deel 2 | B21: =(0-PuKn)/(PrMax-PrKn) -> -0.0068053665 | C21: =PrMax*PuKn/(PrMax-PrKn) -> 510.40249
A23: Score
A24: =IF(PrIn<=PrKn,ROUND((PuKn-MaxPnt)/PrKn*PrIn+MaxPnt,3),IF(PrIn>=PrMax,"0",ROUND(((0-PuKn)/(PrMax-PrKn))*PrIn+PrMax*PuKn/(PrMax-PrKn),3))) -> 175
A26: punten
A29: Grafiekformule is:
A30: Punten = A x Inschrijfprijs + B
A32: Formule voor A en B is:
A33: A | B33: (0-PuKn)/(PrMax-PrKn)
A34: B | B34: PrMax*PuKn/(PrMax-PrKn)

Sheet P 6
A2: Rekenblad gunningscriterium P6
A4: Naam | B4: Droogloopmat
A7: Gegevens perceel | I7: x | J7: y
A8: Prijsknippunt | B8: 635 | C8: euro | D8: PrKn | I8: 0 | J8: =PrKn -> 635 | K8: =PrMax -> 750 | M8: =PrIn -> 0
A9: Puntenknippunt | B9: 25 | C9: punten | D9: PuKn | I9: =MaxPnt -> 25 | J9: =PuKn -> 25 | K9: 0 | M9: =IF(PrIn<=PrMax,A24,0) -> 25
A10: Maximale prijs | B10: 750 | C10: euro | D10: PrMax
A11: Maximum pnt | B11: 25 | C11: punten | L11: 0 | M11: =PrKn -> 635 | N11: =PrKn -> 635
L12: =PuKn -> 25 | M12: =PuKn -> 25 | N12: 0
A13: Gegevens inschrijver
A14: Inschrijvingsprijs | B14: =Inschrijfprijs!L10 -> 0 | C14: euro
A16: Berekende gegevens grafiek
A17: Grafiekformule: Punten = A x Inschrijvingsprijs + B
B19: A | C19: B
A20: Deel 1 | B20: =(PuKn-MaxPnt)/PrKn -> 0 | C20: =MaxPnt -> 25
A21: Deel 2 | B21: =(0-PuKn)/(PrMax-PrKn) -> -0.2173913 | C21: =PrMax*PuKn/(PrMax-PrKn) -> 163.04348
A23: Score
A24: =IF(PrIn<=PrKn,ROUND((PuKn-MaxPnt)/PrKn*PrIn+MaxPnt,3),IF(PrIn>=PrMax,"0",ROUND(((0-PuKn)/(PrMax-PrKn))*PrIn+PrMax*PuKn/(PrMax-PrKn),3))) -> 25
A26: punten
A29: Grafiekformule is:
A30: Punten = A x Inschrijfprijs + B
A32: Formule voor A en B is:
A33: A | B33: (0-PuKn)/(PrMax-PrKn)
A34: B | B34: PrMax*PuKn/(PrMax-PrKn)
