Workbook

Sheet SROI rapportage
B1: Rapportage SROI-verplichting
B3: Vul alleen de eerste keer de blauwe cellen in. Vul bij elke volgende rapportage alleen de drie witte cellen in.
B4: Naam/nummer contract: | H4: Loonsom / contractwaarde | N4: INVUL INSTRUCTIE
B5: Bedrijfsnaam: | H5: SROI-percentage
B6: Contactpersoon: | H6: Waarde SROI-verplichting | J6: =J5*J4 -> 0 | N6: Voorblad SROI Rapportage (dit Blad)
B7: Contactpersoon RVB: | H7: SROI-gerealiseerde waarde | J7: =F29 -> 0 | O7: Vul de eerste keer alle blauwe cellen in.
B8: Begindatum contract: | D8: Einddatum contract: | F8: Raamcontract: | H8: Behaald percentage | J8: =IF(J6=0,"",J7/J6) | O8: Vul na elke periode alleen de 3 witte cellen in.
B9: Datum rapportage: | D9: Tot en met periode: | F9: Aantal bijlagen: | G9: 0 | H9: Openstaand/Overschot | J9: =J6-J7 -> 0 | O9: Overige cellen worden gegenereerd na invulling Periode-bladen P1 t/m P13.
B11: Resultaten SROI-waarde uit eventuele voorgaande rapportages: | H11: Aantal kalenderdagen | N11: Reultaten-blad
H12: Contractperiode | J12: =IF(OR(C8="",E8=""),"",E8-C8+1) | O12: Geen invulling nodig, wordt gegenereerd.
B13: Resultaten SROI-waarde tot datum deze rapportage:
B14: Kandidaten inzet | D14: Overige inzet | H14: Aantal kalenderdagen
B15: Periode 1 | C15: ='P1'!J15 -> 0 | E15: ='P1'!J16 -> 0 | H15: Gepasseerd in contractperiode | J15: =IF(OR(J12="",C9=""),"",C9-C8+1) | N15: Kandidaten-blad
B16: Periode 2 | C16: ='P2'!J15 -> 0 | E16: ='P2'!J16 -> 0 | H16: Percentage | O16: Vul (eenmalig) alleen de witte cellen in, waar van toepassing.
B17: Periode 3 | C17: ='P3'!J15 -> 0 | E17: ='P3'!J16 -> 0 | H17: contractperiode gepasseerd | J17: =IF(J15="","",J15/J12) | O17: De in te vullen bedragen zijn vooraf overeengekomen met opdrachtgever.
B18: Periode 4 | C18: ='P4'!J15 -> 0 | E18: ='P4'!J16 -> 0
B19: Periode 5 | C19: ='P5'!J15 -> 0 | E19: ='P5'!J16 -> 0 | N19: Perioden-bladen P1 t/m P13
B20: Periode 6 | C20: ='P6'!J15 -> 0 | E20: ='P6'!J16 -> 0 | O20: Vul alleen de witte cellen in, waar van toepassing.
B21: Periode 7 | C21: ='P7'!J15 -> 0 | E21: ='P7'!J16 -> 0 | O21: Normaliter worden perioden van 4 weken aangehouden.
B22: Periode 8 | C22: ='P8'!J15 -> 0 | E22: ='P8'!J16 -> 0 | O22: Rapportage ierdere 4 weken updaten en versturen,
B23: Periode 9 | C23: ='P9'!J15 -> 0 | E23: ='P9'!J16 -> 0 | O23: tenzij anders overeengekomen.
B24: Periode 10 | C24: ='P10'!J15 -> 0 | E24: ='P10'!J16 -> 0 | O24: Categorie "Overig" kan alleen in overeenstenmming met de opdrachtgever
B25: Periode 11 | C25: ='P11'!J15 -> 0 | E25: ='P11'!J16 -> 0 | O25: worden ingevuld.
B26: Periode 12 | C26: ='P12'!J15 -> 0 | E26: ='P12'!J16 -> 0
B27: Periode 13 | C27: ='P13'!J15 -> 0 | E27: ='P13'!J16 -> 0
C28: =SUM(C15:C27) -> 0 | E28: =SUM(E15:E27) -> 0 | F28: =C28+E28 -> 0
C29: Totaal resultaat contract tot datum rapporage: | F29: =F11+F28 -> 0

Sheet Resultaten
B2: RESULTATEN per kandidaat over periode P1 t/m P13
J4: Aantal opgegeven werkdagen per periode
D5: ='P1'!F5 -> 0 | E5: ='P2'!F5 -> 0 | F5: ='P3'!F5 -> 0 | G5: ='P4'!F5 -> 0 | H5: ='P5'!F5 -> 0 | I5: ='P6'!F5 -> 0 | J5: ='P7'!F5 -> 0 | K5: ='P8'!F5 -> 0 | L5: ='P9'!F5 -> 0 | M5: ='P10'!F5 -> 0 | N5: ='P11'!F5 -> 0 | O5: ='P12'!F5 -> 0 | P5: ='P13'!F5 -> 0
B7: Kandidaat | C7: 1 | D7: Uren Periode 1 | E7: Uren Periode 2 | F7: Uren Periode 3 | G7: Uren Periode 4 | H7: Uren Periode 5 | I7: Uren Periode 6 | J7: Uren Periode 7 | K7: Uren Periode 8 | L7: Uren Periode 9 | M7: Uren Periode 10 | N7: Uren Periode 11 | O7: Uren Periode 12 | P7: Uren Periode 13 | Q7: Totalen | R7: Overeengekomen tariefwaarde in € | S7: SROI-waarde | T7: Totaal
B8: Aantal gewerkte uren kandidaat | D8: ='P1'!D8 -> 0 | E8: ='P2'!D8 -> 0 | F8: ='P3'!D8 -> 0 | G8: ='P4'!D8 -> 0 | H8: ='P5'!D8 -> 0 | I8: ='P6'!D8 -> 0 | J8: ='P7'!D8 -> 0 | K8: ='P8'!D8 -> 0 | L8: ='P9'!D8 -> 0 | M8: ='P10'!D8 -> 0 | N8: ='P11'!D8 -> 0 | O8: ='P12'!D8 -> 0 | P8: ='P13'!D8 -> 0 | Q8: =SUM(D8:P8) -> 0 | R8: =Kandidaten!D8 -> 0 | S8: =Q8*R8 -> 0
B9: Aantal begeleidingsuren kandidaat | D9: ='P1'!D9 -> 0 | E9: ='P2'!D9 -> 0 | F9: ='P3'!D9 -> 0 | G9: ='P4'!D9 -> 0 | H9: ='P5'!D9 -> 0 | I9: ='P6'!D9 -> 0 | J9: ='P7'!D9 -> 0 | K9: ='P8'!D9 -> 0 | L9: ='P9'!D9 -> 0 | M9: ='P10'!D9 -> 0 | N9: ='P11'!D9 -> 0 | O9: ='P12'!D9 -> 0 | P9: ='P13'!D9 -> 0 | Q9: =SUM(D9:P9) -> 0 | R9: =Kandidaten!D9 -> 0 | S9: =Q9*R9 -> 0
B10: Bijkomende kosten kadidaat (per uur) | R10: =Kandidaten!D10 -> 0 | S10: =Q8*R10 -> 0
B11: Bijkomende kosten per periode | R11: =Kandidaten!D11 -> 0 | S11: =R11 -> 0
B12: Gemiddels aantal uren/dag | D12: =IF(D$5=0,"",D8/D$5) | E12: =IF(E$5=0,"",E8/E$5) | F12: =IF(F$5=0,"",F8/F$5) | G12: =IF(G$5=0,"",G8/G$5) | H12: =IF(H$5=0,"",H8/H$5) | I12: =IF(I$5=0,"",I8/I$5) | J12: =IF(J$5=0,"",J8/J$5) | K12: =IF(K$5=0,"",K8/K$5) | ... P12: =IF(P$5=0,"",P8/P$5) | R12: Toale SROI-waarde P1 t/m P13: | T12: =SUM(S8:S11) -> 0
B14: Kandidaat | C14: =C7+1 -> 2 | D14: Uren Periode 1 | E14: Uren Periode 2 | F14: Uren Periode 3 | G14: Uren Periode 4 | H14: Uren Periode 5 | I14: Uren Periode 6 | J14: Uren Periode 7 | K14: Uren Periode 8 | L14: Uren Periode 9 | M14: Uren Periode 10 | N14: Uren Periode 11 | O14: Uren Periode 12 | P14: Uren Periode 13 | Q14: Totalen | R14: Overeengekomen tariefwaarde in € | S14: SROI-waarde | T14: Totaal
B15: Aantal gewerkte uren kandidaat | D15: ='P1'!D15 -> 0 | E15: ='P2'!D15 -> 0 | F15: ='P3'!D15 -> 0 | G15: ='P4'!D15 -> 0 | H15: ='P5'!D15 -> 0 | I15: ='P6'!D15 -> 0 | J15: ='P7'!D15 -> 0 | K15: ='P8'!D15 -> 0 | L15: ='P9'!D15 -> 0 | M15: ='P10'!D15 -> 0 | N15: ='P11'!D15 -> 0 | O15: ='P12'!D15 -> 0 | P15: ='P13'!D15 -> 0 | Q15: =SUM(D15:P15) -> 0 | R15: =Kandidaten!D15 -> 0 | S15: =Q15*R15 -> 0
B16: Aantal begeleidingsuren kandidaat | D16: ='P1'!D16 -> 0 | E16: ='P2'!D16 -> 0 | F16: ='P3'!D16 -> 0 | G16: ='P4'!D16 -> 0 | H16: ='P5'!D16 -> 0 | I16: ='P6'!D16 -> 0 | J16: ='P7'!D16 -> 0 | K16: ='P8'!D16 -> 0 | L16: ='P9'!D16 -> 0 | M16: ='P10'!D16 -> 0 | N16: ='P11'!D16 -> 0 | O16: ='P12'!D16 -> 0 | P16: ='P13'!D16 -> 0 | Q16: =SUM(D16:P16) -> 0 | R16: =Kandidaten!D16 -> 0 | S16: =Q16*R16 -> 0
B17: Bijkomende kosten kadidaat (per uur) | R17: =Kandidaten!D17 -> 0 | S17: =Q15*R17 -> 0
B18: Bijkomende kosten per periode | R18: =Kandidaten!D18 -> 0 | S18: =R18 -> 0
B19: Gemiddels aantal uren/dag | D19: =IF(D$5=0,"",D15/D$5) | E19: =IF(E$5=0,"",E15/E$5) | F19: =IF(F$5=0,"",F15/F$5) | G19: =IF(G$5=0,"",G15/G$5) | H19: =IF(H$5=0,"",H15/H$5) | I19: =IF(I$5=0,"",I15/I$5) | J19: =IF(J$5=0,"",J15/J$5) | K19: =IF(K$5=0,"",K15/K$5) | ... P19: =IF(P$5=0,"",P15/P$5) | R19: Toale SROI-waarde P1 t/m P13: | T19: =SUM(S15:S18) -> 0
B21: Kandidaat | C21: =C14+1 -> 3 | D21: Uren Periode 1 | E21: Uren Periode 2 | F21: Uren Periode 3 | G21: Uren Periode 4 | H21: Uren Periode 5 | I21: Uren Periode 6 | J21: Uren Periode 7 | K21: Uren Periode 8 | L21: Uren Periode 9 | M21: Uren Periode 10 | N21: Uren Periode 11 | O21: Uren Periode 12 | P21: Uren Periode 13 | Q21: Totalen | R21: Overeengekomen tariefwaarde in € | S21: SROI-waarde | T21: Totaal
B22: Aantal gewerkte uren kandidaat | D22: ='P1'!D22 -> 0 | E22: ='P2'!D22 -> 0 | F22: ='P3'!D22 -> 0 | G22: ='P4'!D22 -> 0 | H22: ='P5'!D22 -> 0 | I22: ='P6'!D22 -> 0 | J22: ='P7'!D22 -> 0 | K22: ='P8'!D22 -> 0 | L22: ='P9'!D22 -> 0 | M22: ='P10'!D22 -> 0 | N22: ='P11'!D22 -> 0 | O22: ='P12'!D22 -> 0 | P22: ='P13'!D22 -> 0 | Q22: =SUM(D22:P22) -> 0 | R22: =Kandidaten!D22 -> 0 | S22: =Q22*R22 -> 0
B23: Aantal begeleidingsuren kandidaat | D23: ='P1'!D23 -> 0 | E23: ='P2'!D23 -> 0 | F23: ='P3'!D23 -> 0 | G23: ='P4'!D23 -> 0 | H23: ='P5'!D23 -> 0 | I23: ='P6'!D23 -> 0 | J23: ='P7'!D23 -> 0 | K23: ='P8'!D23 -> 0 | L23: ='P9'!D23 -> 0 | M23: ='P10'!D23 -> 0 | N23: ='P11'!D23 -> 0 | O23: ='P12'!D23 -> 0 | P23: ='P13'!D23 -> 0 | Q23: =SUM(D23:P23) -> 0 | R23: =Kandidaten!D23 -> 0 | S23: =Q23*R23 -> 0
B24: Bijkomende kosten kadidaat (per uur) | R24: =Kandidaten!D24 -> 0 | S24: =Q22*R24 -> 0
B25: Bijkomende kosten per periode | R25: =Kandidaten!D25 -> 0 | S25: =R25 -> 0
B26: Gemiddels aantal uren/dag | D26: =IF(D$5=0,"",D22/D$5) | E26: =IF(E$5=0,"",E22/E$5) | F26: =IF(F$5=0,"",F22/F$5) | G26: =IF(G$5=0,"",G22/G$5) | H26: =IF(H$5=0,"",H22/H$5) | I26: =IF(I$5=0,"",I22/I$5) | J26: =IF(J$5=0,"",J22/J$5) | K26: =IF(K$5=0,"",K22/K$5) | ... P26: =IF(P$5=0,"",P22/P$5) | R26: Toale SROI-waarde P1 t/m P13: | T26: =SUM(S22:S25) -> 0
B28: Kandidaat | C28: =C21+1 -> 4 | D28: Uren Periode 1 | E28: Uren Periode 2 | F28: Uren Periode 3 | G28: Uren Periode 4 | H28: Uren Periode 5 | I28: Uren Periode 6 | J28: Uren Periode 7 | K28: Uren Periode 8 | L28: Uren Periode 9 | M28: Uren Periode 10 | N28: Uren Periode 11 | O28: Uren Periode 12 | P28: Uren Periode 13 | Q28: Totalen | R28: Overeengekomen tariefwaarde in € | S28: SROI-waarde | T28: Totaal
B29: Aantal gewerkte uren kandidaat | D29: ='P1'!D29 -> 0 | E29: ='P2'!D29 -> 0 | F29: ='P3'!D29 -> 0 | G29: ='P4'!D29 -> 0 | H29: ='P5'!D29 -> 0 | I29: ='P6'!D29 -> 0 | J29: ='P7'!D29 -> 0 | K29: ='P8'!D29 -> 0 | L29: ='P9'!D29 -> 0 | M29: ='P10'!D29 -> 0 | N29: ='P11'!D29 -> 0 | O29: ='P12'!D29 -> 0 | P29: ='P13'!D29 -> 0 | Q29: =SUM(D29:P29) -> 0 | R29: =Kandidaten!D29 -> 0 | S29: =Q29*R29 -> 0
B30: Aantal begeleidingsuren kandidaat | D30: ='P1'!D30 -> 0 | E30: ='P2'!D30 -> 0 | F30: ='P3'!D30 -> 0 | G30: ='P4'!D30 -> 0 | H30: ='P5'!D30 -> 0 | I30: ='P6'!D30 -> 0 | J30: ='P7'!D30 -> 0 | K30: ='P8'!D30 -> 0 | L30: ='P9'!D30 -> 0 | M30: ='P10'!D30 -> 0 | N30: ='P11'!D30 -> 0 | O30: ='P12'!D30 -> 0 | P30: ='P13'!D30 -> 0 | Q30: =SUM(D30:P30) -> 0 | R30: =Kandidaten!D30 -> 0 | S30: =Q30*R30 -> 0
B31: Bijkomende kosten kadidaat (per uur) | R31: =Kandidaten!D31 -> 0 | S31: =Q29*R31 -> 0
B32: Bijkomende kosten per periode | R32: =Kandidaten!D32 -> 0 | S32: =R32 -> 0
B33: Gemiddels aantal uren/dag | D33: =IF(D$5=0,"",D29/D$5) | E33: =IF(E$5=0,"",E29/E$5) | F33: =IF(F$5=0,"",F29/F$5) | G33: =IF(G$5=0,"",G29/G$5) | H33: =IF(H$5=0,"",H29/H$5) | I33: =IF(I$5=0,"",I29/I$5) | J33: =IF(J$5=0,"",J29/J$5) | K33: =IF(K$5=0,"",K29/K$5) | ... P33: =IF(P$5=0,"",P29/P$5) | R33: Toale SROI-waarde P1 t/m P13: | T33: =SUM(S29:S32) -> 0
B35: Kandidaat | C35: =C28+1 -> 5 | D35: Uren Periode 1 | E35: Uren Periode 2 | F35: Uren Periode 3 | G35: Uren Periode 4 | H35: Uren Periode 5 | I35: Uren Periode 6 | J35: Uren Periode 7 | K35: Uren Periode 8 | L35: Uren Periode 9 | M35: Uren Periode 10 | N35: Uren Periode 11 | O35: Uren Periode 12 | P35: Uren Periode 13 | Q35: Totalen | R35: Overeengekomen tariefwaarde in € | S35: SROI-waarde | T35: Totaal
B36: Aantal gewerkte uren kandidaat | D36: ='P1'!D36 -> 0 | E36: ='P2'!D36 -> 0 | F36: ='P3'!D36 -> 0 | G36: ='P4'!D36 -> 0 | H36: ='P5'!D36 -> 0 | I36: ='P6'!D36 -> 0 | J36: ='P7'!D36 -> 0 | K36: ='P8'!D36 -> 0 | L36: ='P9'!D36 -> 0 | M36: ='P10'!D36 -> 0 | N36: ='P11'!D36 -> 0 | O36: ='P12'!D36 -> 0 | P36: ='P13'!D36 -> 0 | Q36: =SUM(D36:P36) -> 0 | R36: =Kandidaten!D36 -> 0 | S36: =Q36*R36 -> 0
B37: Aantal begeleidingsuren kandidaat | D37: ='P1'!D37 -> 0 | E37: ='P2'!D37 -> 0 | F37: ='P3'!D37 -> 0 | G37: ='P4'!D37 -> 0 | H37: ='P5'!D37 -> 0 | I37: ='P6'!D37 -> 0 | J37: ='P7'!D37 -> 0 | K37: ='P8'!D37 -> 0 | L37: ='P9'!D37 -> 0 | M37: ='P10'!D37 -> 0 | N37: ='P11'!D37 -> 0 | O37: ='P12'!D37 -> 0 | P37: ='P13'!D37 -> 0 | Q37: =SUM(D37:P37) -> 0 | R37: =Kandidaten!D37 -> 0 | S37: =Q37*R37 -> 0
B38: Bijkomende kosten kadidaat (per uur) | R38: =Kandidaten!D38 -> 0 | S38: =Q36*R38 -> 0
B39: Bijkomende kosten per periode | R39: =Kandidaten!D39 -> 0 | S39: =R39 -> 0
B40: Gemiddels aantal uren/dag | D40: =IF(D$5=0,"",D36/D$5) | E40: =IF(E$5=0,"",E36/E$5) | F40: =IF(F$5=0,"",F36/F$5) | G40: =IF(G$5=0,"",G36/G$5) | H40: =IF(H$5=0,"",H36/H$5) | I40: =IF(I$5=0,"",I36/I$5) | J40: =IF(J$5=0,"",J36/J$5) | K40: =IF(K$5=0,"",K36/K$5) | ... P40: =IF(P$5=0,"",P36/P$5) | R40: Toale SROI-waarde P1 t/m P13: | T40: =SUM(S36:S39) -> 0
B42: Kandidaat | C42: =C35+1 -> 6 | D42: Uren Periode 1 | E42: Uren Periode 2 | F42: Uren Periode 3 | G42: Uren Periode 4 | H42: Uren Periode 5 | I42: Uren Periode 6 | J42: Uren Periode 7 | K42: Uren Periode 8 | L42: Uren Periode 9 | M42: Uren Periode 10 | N42: Uren Periode 11 | O42: Uren Periode 12 | P42: Uren Periode 13 | Q42: Totalen | R42: Overeengekomen tariefwaarde in € | S42: SROI-waarde | T42: Totaal
B43: Aantal gewerkte uren kandidaat | D43: ='P1'!D43 -> 0 | E43: ='P2'!D43 -> 0 | F43: ='P3'!D43 -> 0 | G43: ='P4'!D43 -> 0 | H43: ='P5'!D43 -> 0 | I43: ='P6'!D43 -> 0 | J43: ='P7'!D43 -> 0 | K43: ='P8'!D43 -> 0 | L43: ='P9'!D43 -> 0 | M43: ='P10'!D43 -> 0 | N43: ='P11'!D43 -> 0 | O43: ='P12'!D43 -> 0 | P43: ='P13'!D43 -> 0 | Q43: =SUM(D43:P43) -> 0 | R43: =Kandidaten!D43 -> 0 | S43: =Q43*R43 -> 0
B44: Aantal begeleidingsuren kandidaat | D44: ='P1'!D44 -> 0 | E44: ='P2'!D44 -> 0 | F44: ='P3'!D44 -> 0 | G44: ='P4'!D44 -> 0 | H44: ='P5'!D44 -> 0 | I44: ='P6'!D44 -> 0 | J44: ='P7'!D44 -> 0 | K44: ='P8'!D44 -> 0 | L44: ='P9'!D44 -> 0 | M44: ='P10'!D44 -> 0 | N44: ='P11'!D44 -> 0 | O44: ='P12'!D44 -> 0 | P44: ='P13'!D44 -> 0 | Q44: =SUM(D44:P44) -> 0 | R44: =Kandidaten!D44 -> 0 | S44: =Q44*R44 -> 0
B45: Bijkomende kosten kadidaat (per uur) | R45: =Kandidaten!D45 -> 0 | S45: =Q43*R45 -> 0
B46: Bijkomende kosten per periode | R46: =Kandidaten!D46 -> 0 | S46: =R46 -> 0
B47: Gemiddels aantal uren/dag | D47: =IF(D$5=0,"",D43/D$5) | E47: =IF(E$5=0,"",E43/E$5) | F47: =IF(F$5=0,"",F43/F$5) | G47: =IF(G$5=0,"",G43/G$5) | H47: =IF(H$5=0,"",H43/H$5) | I47: =IF(I$5=0,"",I43/I$5) | J47: =IF(J$5=0,"",J43/J$5) | K47: =IF(K$5=0,"",K43/K$5) | ... P47: =IF(P$5=0,"",P43/P$5) | R47: Toale SROI-waarde P1 t/m P13: | T47: =SUM(S43:S46) -> 0
B49: Kandidaat | C49: =C42+1 -> 7 | D49: Uren Periode 1 | E49: Uren Periode 2 | F49: Uren Periode 3 | G49: Uren Periode 4 | H49: Uren Periode 5 | I49: Uren Periode 6 | J49: Uren Periode 7 | K49: Uren Periode 8 | L49: Uren Periode 9 | M49: Uren Periode 10 | N49: Uren Periode 11 | O49: Uren Periode 12 | P49: Uren Periode 13 | Q49: Totalen | R49: Overeengekomen tariefwaarde in € | S49: SROI-waarde | T49: Totaal
...

Sheet Kandidaten
B2: Overeengekomen waarden | F2: Invul instructie | H2: Gegevens
B3: Tarieven en kosten kandidaten | F3: Vul (eenmalig) alleen de witte cellen in (waar van toepassing). | H3: Kandidaten
F4: Alle waarden moeten zijn overeengekomen met de opdrachtgever.
B7: Kandidaat | C7: 1 | D7: Overeengekomen waarde in € | F7: Eventuele opmerkingen bij mutaties t.o.v. vorige rapportage. Alleen in te vullen als dit met opdrachtgever is overeengekomen. | H7: Kenmerk kandidaat | I7: xxxx
B8: Uurtarief kandidaat | H8: Geboortedatum
B9: Uurtarief begeleiding kandidaat | H9: Woonplaats
B10: Bijkomende kosten kadidaat (per uur) | H10: Soort uitkering of stageopleiding
B11: Bijkomende kosten per periode | H11: Startdatum inzet
H12: Beoogde einddatum inzet
B14: Kandidaat | C14: =C7+1 -> 2 | D14: Overeengekomen waarde in € | F14: Eventuele opmerkingen bij mutaties t.o.v. vorige rapportage. Alleen in te vullen als dit met opdrachtgever is overeengekomen. | H14: Kenmerk kandidaat | I14: xxxx
B15: Uurtarief kandidaat | H15: Geboortedatum
B16: Uurtarief begeleiding kandidaat | H16: Woonplaats
B17: Bijkomende kosten kadidaat (per uur) | H17: Soort uitkering of stageopleiding
B18: Bijkomende kosten per periode | H18: Startdatum inzet
H19: Beoogde einddatum inzet
B21: Kandidaat | C21: =C14+1 -> 3 | D21: Overeengekomen waarde in € | F21: Eventuele opmerkingen bij mutaties t.o.v. vorige rapportage. Alleen in te vullen als dit met opdrachtgever is overeengekomen. | H21: Kenmerk kandidaat | I21: xxxx
B22: Uurtarief kandidaat | H22: Geboortedatum
B23: Uurtarief begeleiding kandidaat | H23: Woonplaats
B24: Bijkomende kosten kadidaat (per uur) | H24: Soort uitkering of stageopleiding
B25: Bijkomende kosten per periode | H25: Startdatum inzet
H26: Beoogde einddatum inzet
B28: Kandidaat | C28: =C21+1 -> 4 | D28: Overeengekomen waarde in € | F28: Eventuele opmerkingen bij mutaties t.o.v. vorige rapportage. Alleen in te vullen als dit met opdrachtgever is overeengekomen. | H28: Kenmerk kandidaat | I28: xxxx
B29: Uurtarief kandidaat | H29: Geboortedatum
B30: Uurtarief begeleiding kandidaat | H30: Woonplaats
B31: Bijkomende kosten kadidaat (per uur) | H31: Soort uitkering of stageopleiding
B32: Bijkomende kosten per periode | H32: Startdatum inzet
H33: Beoogde einddatum inzet
B35: Kandidaat | C35: =C28+1 -> 5 | D35: Overeengekomen waarde in € | F35: Eventuele opmerkingen bij mutaties t.o.v. vorige rapportage. Alleen in te vullen als dit met opdrachtgever is overeengekomen. | H35: Kenmerk kandidaat | I35: xxxx
B36: Uurtarief kandidaat | H36: Geboortedatum
B37: Uurtarief begeleiding kandidaat | H37: Woonplaats
B38: Bijkomende kosten kadidaat (per uur) | H38: Soort uitkering of stageopleiding
B39: Bijkomende kosten per periode | H39: Startdatum inzet
H40: Beoogde einddatum inzet
B42: Kandidaat | C42: =C35+1 -> 6 | D42: Overeengekomen waarde in € | F42: Eventuele opmerkingen bij mutaties t.o.v. vorige rapportage. Alleen in te vullen als dit met opdrachtgever is overeengekomen. | H42: Kenmerk kandidaat | I42: xxxx
B43: Uurtarief kandidaat | H43: Geboortedatum
B44: Uurtarief begeleiding kandidaat | H44: Woonplaats
B45: Bijkomende kosten kadidaat (per uur) | H45: Soort uitkering of stageopleiding
B46: Bijkomende kosten per periode | H46: Startdatum inzet
H47: Beoogde einddatum inzet
B49: Kandidaat | C49: =C42+1 -> 7 | D49: Overeengekomen waarde in € | F49: Eventuele opmerkingen bij mutaties t.o.v. vorige rapportage. Alleen in te vullen als dit met opdrachtgever is overeengekomen. | H49: Kenmerk kandidaat | I49: xxxx
...

Sheet P1
B2: PERIODE 1 | F2: Periode | I2: Invul instructie
E3: Startdatum: | G3: xx-xx-xx | I3: Vul alleen de witte cellen in (waar van toepassing).
B4: Vul alleen de witte cellen in | E4: Einddatum: | G4: xx-xx-xx | I4: De waarde in de categorie "Overig" kan alleen worden ingevuld als dat met
E5: Aantal werkdagen: | I5: de opdrachtgever is overeengekomen (bijvoorbeeld sociaal inkopen, of een bonus) .
B7: Kandidaat | C7: 1 | D7: Uren | E7: Overeengekomen tariefwaarde in € | F7: SROI-waarde | G7: Totaal | I7: Categorie "Overig" (niet kandidaat gebonden)
B8: Aantal gewerkte uren kandidaat | E8: =Kandidaten!D8 -> 0 | F8: =D8*E8 -> 0 | I8: Overeengekomen extra gerealiseerde waarde in de deze periode in €
B9: Aantal begeleidingsuren kandidaat | E9: =Kandidaten!D9 -> 0 | F9: =D9*E9 -> 0 | I9: Omschrijving SROI-inzet categorie "Overig":
B10: Bijkomende kosten kadidaat (per uur) | E10: =Kandidaten!D10 -> 0 | F10: =D8*E10 -> 0
B11: Bijkomende kosten per periode | E11: =Kandidaten!D11 -> 0 | F11: =IF(D8>0,E11,0) -> 0
B12: Totaal SROI-waarde kandidaat deze periode | G12: =SUM(F8:F11) -> 0
B14: Kandidaat | C14: =C7+1 -> 2 | D14: Uren | E14: Overeengekomen tariefwaarde in € | F14: SROI-waarde | G14: Totaal | I14: Totaal gerealiseerde waarde deze periode
B15: Aantal gewerkte uren kandidaat | E15: =Kandidaten!D15 -> 0 | F15: =D15*E15 -> 0 | I15: Kandidaten | J15: =SUM(G7:G355) -> 0
B16: Aantal begeleidingsuren kandidaat | E16: =Kandidaten!D16 -> 0 | F16: =D16*E16 -> 0 | I16: Overig | J16: =J8 -> 0
B17: Bijkomende kosten kadidaat (per uur) | E17: =Kandidaten!D17 -> 0 | F17: =D15*E17 -> 0
B18: Bijkomende kosten per periode | E18: =Kandidaten!D18 -> 0 | F18: =IF(D15>0,E18,0) -> 0
B19: Totaal SROI-waarde kandidaat deze periode | G19: =SUM(F15:F18) -> 0 | I19: Totaal | J19: =J15+J16 -> 0
B21: Kandidaat | C21: =C14+1 -> 3 | D21: Uren | E21: Overeengekomen tariefwaarde in € | F21: SROI-waarde | G21: Totaal
B22: Aantal gewerkte uren kandidaat | E22: =Kandidaten!D22 -> 0 | F22: =D22*E22 -> 0
B23: Aantal begeleidingsuren kandidaat | E23: =Kandidaten!D23 -> 0 | F23: =D23*E23 -> 0
B24: Bijkomende kosten kadidaat (per uur) | E24: =Kandidaten!D24 -> 0 | F24: =D22*E24 -> 0
B25: Bijkomende kosten per periode | E25: =Kandidaten!D25 -> 0 | F25: =IF(D22>0,E25,0) -> 0
B26: Totaal SROI-waarde kandidaat deze periode | G26: =SUM(F22:F25) -> 0
B28: Kandidaat | C28: =C21+1 -> 4 | D28: Uren | E28: Overeengekomen tariefwaarde in € | F28: SROI-waarde | G28: Totaal
B29: Aantal gewerkte uren kandidaat | E29: =Kandidaten!D29 -> 0 | F29: =D29*E29 -> 0
B30: Aantal begeleidingsuren kandidaat | E30: =Kandidaten!D30 -> 0 | F30: =D30*E30 -> 0
B31: Bijkomende kosten kadidaat (per uur) | E31: =Kandidaten!D31 -> 0 | F31: =D29*E31 -> 0
B32: Bijkomende kosten per periode | E32: =Kandidaten!D32 -> 0 | F32: =IF(D29>0,E32,0) -> 0
B33: Totaal SROI-waarde kandidaat deze periode | G33: =SUM(F29:F32) -> 0
B35: Kandidaat | C35: =C28+1 -> 5 | D35: Uren | E35: Overeengekomen tariefwaarde in € | F35: SROI-waarde | G35: Totaal
B36: Aantal gewerkte uren kandidaat | E36: =Kandidaten!D36 -> 0 | F36: =D36*E36 -> 0
B37: Aantal begeleidingsuren kandidaat | E37: =Kandidaten!D37 -> 0 | F37: =D37*E37 -> 0
B38: Bijkomende kosten kadidaat (per uur) | E38: =Kandidaten!D38 -> 0 | F38: =D36*E38 -> 0
B39: Bijkomende kosten per periode | E39: =Kandidaten!D39 -> 0 | F39: =IF(D36>0,E39,0) -> 0
B40: Totaal SROI-waarde kandidaat deze periode | G40: =SUM(F36:F39) -> 0
B42: Kandidaat | C42: =C35+1 -> 6 | D42: Uren | E42: Overeengekomen tariefwaarde in € | F42: SROI-waarde | G42: Totaal
B43: Aantal gewerkte uren kandidaat | E43: =Kandidaten!D43 -> 0 | F43: =D43*E43 -> 0
B44: Aantal begeleidingsuren kandidaat | E44: =Kandidaten!D44 -> 0 | F44: =D44*E44 -> 0
B45: Bijkomende kosten kadidaat (per uur) | E45: =Kandidaten!D45 -> 0 | F45: =D43*E45 -> 0
B46: Bijkomende kosten per periode | E46: =Kandidaten!D46 -> 0 | F46: =IF(D43>0,E46,0) -> 0
B47: Totaal SROI-waarde kandidaat deze periode | G47: =SUM(F43:F46) -> 0
...

Sheet P2
B2: PERIODE 2 | F2: Periode | I2: Invul instructie
E3: Startdatum: | G3: xx-xx-xx | I3: Vul alleen de witte cellen in (waar van toepassing).
B4: Vul alleen de witte cellen in | E4: Einddatum: | G4: xx-xx-xx | I4: De waarde in de categorie "Overig" kan alleen worden ingevuld als dat met
E5: Aantal werkdagen: | I5: de opdrachtgever is overeengekomen (bijvoorbeeld sociaal inkopen, of een bonus) .
B7: Kandidaat | C7: 1 | D7: Uren | E7: Overeengekomen tariefwaarde in € | F7: SROI-waarde | G7: Totaal | I7: Categorie "Overig" (niet kandidaat gebonden)
B8: Aantal gewerkte uren kandidaat | E8: =Kandidaten!D8 -> 0 | F8: =D8*E8 -> 0 | I8: Overeengekomen extra gerealiseerde waarde in de deze periode in €
B9: Aantal begeleidingsuren kandidaat | E9: =Kandidaten!D9 -> 0 | F9: =D9*E9 -> 0 | I9: Omschrijving SROI-inzet categorie "Overig":
B10: Bijkomende kosten kadidaat (per uur) | E10: =Kandidaten!D10 -> 0 | F10: =D8*E10 -> 0
B11: Bijkomende kosten per periode | E11: =Kandidaten!D11 -> 0 | F11: =IF(D8>0,E11,0) -> 0
B12: Totaal SROI-waarde kandidaat deze periode | G12: =SUM(F8:F11) -> 0
B14: Kandidaat | C14: =C7+1 -> 2 | D14: Uren | E14: Overeengekomen tariefwaarde in € | F14: SROI-waarde | G14: Totaal | I14: Totaal gerealiseerde waarde deze periode
B15: Aantal gewerkte uren kandidaat | E15: =Kandidaten!D15 -> 0 | F15: =D15*E15 -> 0 | I15: Kandidaten | J15: =SUM(G7:G355) -> 0
B16: Aantal begeleidingsuren kandidaat | E16: =Kandidaten!D16 -> 0 | F16: =D16*E16 -> 0 | I16: Overig | J16: =J8 -> 0
B17: Bijkomende kosten kadidaat (per uur) | E17: =Kandidaten!D17 -> 0 | F17: =D15*E17 -> 0
B18: Bijkomende kosten per periode | E18: =Kandidaten!D18 -> 0 | F18: =IF(D15>0,E18,0) -> 0
B19: Totaal SROI-waarde kandidaat deze periode | G19: =SUM(F15:F18) -> 0 | I19: Totaal | J19: =J15+J16 -> 0
B21: Kandidaat | C21: =C14+1 -> 3 | D21: Uren | E21: Overeengekomen tariefwaarde in € | F21: SROI-waarde | G21: Totaal
B22: Aantal gewerkte uren kandidaat | E22: =Kandidaten!D22 -> 0 | F22: =D22*E22 -> 0
B23: Aantal begeleidingsuren kandidaat | E23: =Kandidaten!D23 -> 0 | F23: =D23*E23 -> 0
B24: Bijkomende kosten kadidaat (per uur) | E24: =Kandidaten!D24 -> 0 | F24: =D22*E24 -> 0
B25: Bijkomende kosten per periode | E25: =Kandidaten!D25 -> 0 | F25: =IF(D22>0,E25,0) -> 0
B26: Totaal SROI-waarde kandidaat deze periode | G26: =SUM(F22:F25) -> 0
B28: Kandidaat | C28: =C21+1 -> 4 | D28: Uren | E28: Overeengekomen tariefwaarde in € | F28: SROI-waarde | G28: Totaal
B29: Aantal gewerkte uren kandidaat | E29: =Kandidaten!D29 -> 0 | F29: =D29*E29 -> 0
B30: Aantal begeleidingsuren kandidaat | E30: =Kandidaten!D30 -> 0 | F30: =D30*E30 -> 0
B31: Bijkomende kosten kadidaat (per uur) | E31: =Kandidaten!D31 -> 0 | F31: =D29*E31 -> 0
B32: Bijkomende kosten per periode | E32: =Kandidaten!D32 -> 0 | F32: =IF(D29>0,E32,0) -> 0
B33: Totaal SROI-waarde kandidaat deze periode | G33: =SUM(F29:F32) -> 0
B35: Kandidaat | C35: =C28+1 -> 5 | D35: Uren | E35: Overeengekomen tariefwaarde in € | F35: SROI-waarde | G35: Totaal
B36: Aantal gewerkte uren kandidaat | E36: =Kandidaten!D36 -> 0 | F36: =D36*E36 -> 0
B37: Aantal begeleidingsuren kandidaat | E37: =Kandidaten!D37 -> 0 | F37: =D37*E37 -> 0
B38: Bijkomende kosten kadidaat (per uur) | E38: =Kandidaten!D38 -> 0 | F38: =D36*E38 -> 0
B39: Bijkomende kosten per periode | E39: =Kandidaten!D39 -> 0 | F39: =IF(D36>0,E39,0) -> 0
B40: Totaal SROI-waarde kandidaat deze periode | G40: =SUM(F36:F39) -> 0
B42: Kandidaat | C42: =C35+1 -> 6 | D42: Uren | E42: Overeengekomen tariefwaarde in € | F42: SROI-waarde | G42: Totaal
B43: Aantal gewerkte uren kandidaat | E43: =Kandidaten!D43 -> 0 | F43: =D43*E43 -> 0
B44: Aantal begeleidingsuren kandidaat | E44: =Kandidaten!D44 -> 0 | F44: =D44*E44 -> 0
B45: Bijkomende kosten kadidaat (per uur) | E45: =Kandidaten!D45 -> 0 | F45: =D43*E45 -> 0
B46: Bijkomende kosten per periode | E46: =Kandidaten!D46 -> 0 | F46: =IF(D43>0,E46,0) -> 0
B47: Totaal SROI-waarde kandidaat deze periode | G47: =SUM(F43:F46) -> 0
...

Sheet P3
B2: PERIODE 3 | F2: Periode | I2: Invul instructie
E3: Startdatum: | G3: xx-xx-xx | I3: Vul alleen de witte cellen in (waar van toepassing).
B4: Vul alleen de witte cellen in | E4: Einddatum: | G4: xx-xx-xx | I4: De waarde in de categorie "Overig" kan alleen worden ingevuld als dat met
E5: Aantal werkdagen: | I5: de opdrachtgever is overeengekomen (bijvoorbeeld sociaal inkopen, of een bonus) .
B7: Kandidaat | C7: 1 | D7: Uren | E7: Overeengekomen tariefwaarde in € | F7: SROI-waarde | G7: Totaal | I7: Categorie "Overig" (niet kandidaat gebonden)
B8: Aantal gewerkte uren kandidaat | E8: =Kandidaten!D8 -> 0 | F8: =D8*E8 -> 0 | I8: Overeengekomen extra gerealiseerde waarde in de deze periode in €
B9: Aantal begeleidingsuren kandidaat | E9: =Kandidaten!D9 -> 0 | F9: =D9*E9 -> 0 | I9: Omschrijving SROI-inzet categorie "Overig":
B10: Bijkomende kosten kadidaat (per uur) | E10: =Kandidaten!D10 -> 0 | F10: =D8*E10 -> 0
B11: Bijkomende kosten per periode | E11: =Kandidaten!D11 -> 0 | F11: =IF(D8>0,E11,0) -> 0
B12: Totaal SROI-waarde kandidaat deze periode | G12: =SUM(F8:F11) -> 0
B14: Kandidaat | C14: =C7+1 -> 2 | D14: Uren | E14: Overeengekomen tariefwaarde in € | F14: SROI-waarde | G14: Totaal | I14: Totaal gerealiseerde waarde deze periode
B15: Aantal gewerkte uren kandidaat | E15: =Kandidaten!D15 -> 0 | F15: =D15*E15 -> 0 | I15: Kandidaten | J15: =SUM(G7:G355) -> 0
B16: Aantal begeleidingsuren kandidaat | E16: =Kandidaten!D16 -> 0 | F16: =D16*E16 -> 0 | I16: Overig | J16: =J8 -> 0
B17: Bijkomende kosten kadidaat (per uur) | E17: =Kandidaten!D17 -> 0 | F17: =D15*E17 -> 0
B18: Bijkomende kosten per periode | E18: =Kandidaten!D18 -> 0 | F18: =IF(D15>0,E18,0) -> 0
B19: Totaal SROI-waarde kandidaat deze periode | G19: =SUM(F15:F18) -> 0 | I19: Totaal | J19: =J15+J16 -> 0
B21: Kandidaat | C21: =C14+1 -> 3 | D21: Uren | E21: Overeengekomen tariefwaarde in € | F21: SROI-waarde | G21: Totaal
B22: Aantal gewerkte uren kandidaat | E22: =Kandidaten!D22 -> 0 | F22: =D22*E22 -> 0
B23: Aantal begeleidingsuren kandidaat | E23: =Kandidaten!D23 -> 0 | F23: =D23*E23 -> 0
B24: Bijkomende kosten kadidaat (per uur) | E24: =Kandidaten!D24 -> 0 | F24: =D22*E24 -> 0
B25: Bijkomende kosten per periode | E25: =Kandidaten!D25 -> 0 | F25: =IF(D22>0,E25,0) -> 0
B26: Totaal SROI-waarde kandidaat deze periode | G26: =SUM(F22:F25) -> 0
B28: Kandidaat | C28: =C21+1 -> 4 | D28: Uren | E28: Overeengekomen tariefwaarde in € | F28: SROI-waarde | G28: Totaal
B29: Aantal gewerkte uren kandidaat | E29: =Kandidaten!D29 -> 0 | F29: =D29*E29 -> 0
B30: Aantal begeleidingsuren kandidaat | E30: =Kandidaten!D30 -> 0 | F30: =D30*E30 -> 0
B31: Bijkomende kosten kadidaat (per uur) | E31: =Kandidaten!D31 -> 0 | F31: =D29*E31 -> 0
B32: Bijkomende kosten per periode | E32: =Kandidaten!D32 -> 0 | F32: =IF(D29>0,E32,0) -> 0
B33: Totaal SROI-waarde kandidaat deze periode | G33: =SUM(F29:F32) -> 0
B35: Kandidaat | C35: =C28+1 -> 5 | D35: Uren | E35: Overeengekomen tariefwaarde in € | F35: SROI-waarde | G35: Totaal
B36: Aantal gewerkte uren kandidaat | E36: =Kandidaten!D36 -> 0 | F36: =D36*E36 -> 0
B37: Aantal begeleidingsuren kandidaat | E37: =Kandidaten!D37 -> 0 | F37: =D37*E37 -> 0
B38: Bijkomende kosten kadidaat (per uur) | E38: =Kandidaten!D38 -> 0 | F38: =D36*E38 -> 0
B39: Bijkomende kosten per periode | E39: =Kandidaten!D39 -> 0 | F39: =IF(D36>0,E39,0) -> 0
B40: Totaal SROI-waarde kandidaat deze periode | G40: =SUM(F36:F39) -> 0
B42: Kandidaat | C42: =C35+1 -> 6 | D42: Uren | E42: Overeengekomen tariefwaarde in € | F42: SROI-waarde | G42: Totaal
B43: Aantal gewerkte uren kandidaat | E43: =Kandidaten!D43 -> 0 | F43: =D43*E43 -> 0
B44: Aantal begeleidingsuren kandidaat | E44: =Kandidaten!D44 -> 0 | F44: =D44*E44 -> 0
B45: Bijkomende kosten kadidaat (per uur) | E45: =Kandidaten!D45 -> 0 | F45: =D43*E45 -> 0
B46: Bijkomende kosten per periode | E46: =Kandidaten!D46 -> 0 | F46: =IF(D43>0,E46,0) -> 0
B47: Totaal SROI-waarde kandidaat deze periode | G47: =SUM(F43:F46) -> 0
...

Sheet P4
B2: PERIODE 4 | F2: Periode | I2: Invul instructie
E3: Startdatum: | G3: xx-xx-xx | I3: Vul alleen de witte cellen in (waar van toepassing).
B4: Vul alleen de witte cellen in | E4: Einddatum: | G4: xx-xx-xx | I4: De waarde in de categorie "Overig" kan alleen worden ingevuld als dat met
E5: Aantal werkdagen: | I5: de opdrachtgever is overeengekomen (bijvoorbeeld sociaal inkopen, of een bonus) .
B7: Kandidaat | C7: 1 | D7: Uren | E7: Overeengekomen tariefwaarde in € | F7: SROI-waarde | G7: Totaal | I7: Categorie "Overig" (niet kandidaat gebonden)
B8: Aantal gewerkte uren kandidaat | E8: =Kandidaten!D8 -> 0 | F8: =D8*E8 -> 0 | I8: Overeengekomen extra gerealiseerde waarde in de deze periode in €
B9: Aantal begeleidingsuren kandidaat | E9: =Kandidaten!D9 -> 0 | F9: =D9*E9 -> 0 | I9: Omschrijving SROI-inzet categorie "Overig":
B10: Bijkomende kosten kadidaat (per uur) | E10: =Kandidaten!D10 -> 0 | F10: =D8*E10 -> 0
B11: Bijkomende kosten per periode | E11: =Kandidaten!D11 -> 0 | F11: =IF(D8>0,E11,0) -> 0
B12: Totaal SROI-waarde kandidaat deze periode | G12: =SUM(F8:F11) -> 0
B14: Kandidaat | C14: =C7+1 -> 2 | D14: Uren | E14: Overeengekomen tariefwaarde in € | F14: SROI-waarde | G14: Totaal | I14: Totaal gerealiseerde waarde deze periode
B15: Aantal gewerkte uren kandidaat | E15: =Kandidaten!D15 -> 0 | F15: =D15*E15 -> 0 | I15: Kandidaten | J15: =SUM(G7:G355) -> 0
B16: Aantal begeleidingsuren kandidaat | E16: =Kandidaten!D16 -> 0 | F16: =D16*E16 -> 0 | I16: Overig | J16: =J8 -> 0
B17: Bijkomende kosten kadidaat (per uur) | E17: =Kandidaten!D17 -> 0 | F17: =D15*E17 -> 0
B18: Bijkomende kosten per periode | E18: =Kandidaten!D18 -> 0 | F18: =IF(D15>0,E18,0) -> 0
B19: Totaal SROI-waarde kandidaat deze periode | G19: =SUM(F15:F18) -> 0 | I19: Totaal | J19: =J15+J16 -> 0
B21: Kandidaat | C21: =C14+1 -> 3 | D21: Uren | E21: Overeengekomen tariefwaarde in € | F21: SROI-waarde | G21: Totaal
B22: Aantal gewerkte uren kandidaat | E22: =Kandidaten!D22 -> 0 | F22: =D22*E22 -> 0
B23: Aantal begeleidingsuren kandidaat | E23: =Kandidaten!D23 -> 0 | F23: =D23*E23 -> 0
B24: Bijkomende kosten kadidaat (per uur) | E24: =Kandidaten!D24 -> 0 | F24: =D22*E24 -> 0
B25: Bijkomende kosten per periode | E25: =Kandidaten!D25 -> 0 | F25: =IF(D22>0,E25,0) -> 0
B26: Totaal SROI-waarde kandidaat deze periode | G26: =SUM(F22:F25) -> 0
B28: Kandidaat | C28: =C21+1 -> 4 | D28: Uren | E28: Overeengekomen tariefwaarde in € | F28: SROI-waarde | G28: Totaal
B29: Aantal gewerkte uren kandidaat | E29: =Kandidaten!D29 -> 0 | F29: =D29*E29 -> 0
B30: Aantal begeleidingsuren kandidaat | E30: =Kandidaten!D30 -> 0 | F30: =D30*E30 -> 0
B31: Bijkomende kosten kadidaat (per uur) | E31: =Kandidaten!D31 -> 0 | F31: =D29*E31 -> 0
B32: Bijkomende kosten per periode | E32: =Kandidaten!D32 -> 0 | F32: =IF(D29>0,E32,0) -> 0
B33: Totaal SROI-waarde kandidaat deze periode | G33: =SUM(F29:F32) -> 0
B35: Kandidaat | C35: =C28+1 -> 5 | D35: Uren | E35: Overeengekomen tariefwaarde in € | F35: SROI-waarde | G35: Totaal
B36: Aantal gewerkte uren kandidaat | E36: =Kandidaten!D36 -> 0 | F36: =D36*E36 -> 0
B37: Aantal begeleidingsuren kandidaat | E37: =Kandidaten!D37 -> 0 | F37: =D37*E37 -> 0
B38: Bijkomende kosten kadidaat (per uur) | E38: =Kandidaten!D38 -> 0 | F38: =D36*E38 -> 0
B39: Bijkomende kosten per periode | E39: =Kandidaten!D39 -> 0 | F39: =IF(D36>0,E39,0) -> 0
B40: Totaal SROI-waarde kandidaat deze periode | G40: =SUM(F36:F39) -> 0
B42: Kandidaat | C42: =C35+1 -> 6 | D42: Uren | E42: Overeengekomen tariefwaarde in € | F42: SROI-waarde | G42: Totaal
B43: Aantal gewerkte uren kandidaat | E43: =Kandidaten!D43 -> 0 | F43: =D43*E43 -> 0
B44: Aantal begeleidingsuren kandidaat | E44: =Kandidaten!D44 -> 0 | F44: =D44*E44 -> 0
B45: Bijkomende kosten kadidaat (per uur) | E45: =Kandidaten!D45 -> 0 | F45: =D43*E45 -> 0
B46: Bijkomende kosten per periode | E46: =Kandidaten!D46 -> 0 | F46: =IF(D43>0,E46,0) -> 0
B47: Totaal SROI-waarde kandidaat deze periode | G47: =SUM(F43:F46) -> 0
...

Sheet P5
B2: PERIODE 5 | F2: Periode | I2: Invul instructie
E3: Startdatum: | G3: xx-xx-xx | I3: Vul alleen de witte cellen in (waar van toepassing).
B4: Vul alleen de witte cellen in | E4: Einddatum: | G4: xx-xx-xx | I4: De waarde in de categorie "Overig" kan alleen worden ingevuld als dat met
E5: Aantal werkdagen: | I5: de opdrachtgever is overeengekomen (bijvoorbeeld sociaal inkopen, of een bonus) .
B7: Kandidaat | C7: 1 | D7: Uren | E7: Overeengekomen tariefwaarde in € | F7: SROI-waarde | G7: Totaal | I7: Categorie "Overig" (niet kandidaat gebonden)
B8: Aantal gewerkte uren kandidaat | E8: =Kandidaten!D8 -> 0 | F8: =D8*E8 -> 0 | I8: Overeengekomen extra gerealiseerde waarde in de deze periode in €
B9: Aantal begeleidingsuren kandidaat | E9: =Kandidaten!D9 -> 0 | F9: =D9*E9 -> 0 | I9: Omschrijving SROI-inzet categorie "Overig":
B10: Bijkomende kosten kadidaat (per uur) | E10: =Kandidaten!D10 -> 0 | F10: =D8*E10 -> 0
B11: Bijkomende kosten per periode | E11: =Kandidaten!D11 -> 0 | F11: =IF(D8>0,E11,0) -> 0
B12: Totaal SROI-waarde kandidaat deze periode | G12: =SUM(F8:F11) -> 0
B14: Kandidaat | C14: =C7+1 -> 2 | D14: Uren | E14: Overeengekomen tariefwaarde in € | F14: SROI-waarde | G14: Totaal | I14: Totaal gerealiseerde waarde deze periode
B15: Aantal gewerkte uren kandidaat | E15: =Kandidaten!D15 -> 0 | F15: =D15*E15 -> 0 | I15: Kandidaten | J15: =SUM(G7:G355) -> 0
B16: Aantal begeleidingsuren kandidaat | E16: =Kandidaten!D16 -> 0 | F16: =D16*E16 -> 0 | I16: Overig | J16: =J8 -> 0
B17: Bijkomende kosten kadidaat (per uur) | E17: =Kandidaten!D17 -> 0 | F17: =D15*E17 -> 0
B18: Bijkomende kosten per periode | E18: =Kandidaten!D18 -> 0 | F18: =IF(D15>0,E18,0) -> 0
B19: Totaal SROI-waarde kandidaat deze periode | G19: =SUM(F15:F18) -> 0 | I19: Totaal | J19: =J15+J16 -> 0
B21: Kandidaat | C21: =C14+1 -> 3 | D21: Uren | E21: Overeengekomen tariefwaarde in € | F21: SROI-waarde | G21: Totaal
B22: Aantal gewerkte uren kandidaat | E22: =Kandidaten!D22 -> 0 | F22: =D22*E22 -> 0
B23: Aantal begeleidingsuren kandidaat | E23: =Kandidaten!D23 -> 0 | F23: =D23*E23 -> 0
B24: Bijkomende kosten kadidaat (per uur) | E24: =Kandidaten!D24 -> 0 | F24: =D22*E24 -> 0
B25: Bijkomende kosten per periode | E25: =Kandidaten!D25 -> 0 | F25: =IF(D22>0,E25,0) -> 0
B26: Totaal SROI-waarde kandidaat deze periode | G26: =SUM(F22:F25) -> 0
B28: Kandidaat | C28: =C21+1 -> 4 | D28: Uren | E28: Overeengekomen tariefwaarde in € | F28: SROI-waarde | G28: Totaal
B29: Aantal gewerkte uren kandidaat | E29: =Kandidaten!D29 -> 0 | F29: =D29*E29 -> 0
B30: Aantal begeleidingsuren kandidaat | E30: =Kandidaten!D30 -> 0 | F30: =D30*E30 -> 0
B31: Bijkomende kosten kadidaat (per uur) | E31: =Kandidaten!D31 -> 0 | F31: =D29*E31 -> 0
B32: Bijkomende kosten per periode | E32: =Kandidaten!D32 -> 0 | F32: =IF(D29>0,E32,0) -> 0
B33: Totaal SROI-waarde kandidaat deze periode | G33: =SUM(F29:F32) -> 0
B35: Kandidaat | C35: =C28+1 -> 5 | D35: Uren | E35: Overeengekomen tariefwaarde in € | F35: SROI-waarde | G35: Totaal
B36: Aantal gewerkte uren kandidaat | E36: =Kandidaten!D36 -> 0 | F36: =D36*E36 -> 0
B37: Aantal begeleidingsuren kandidaat | E37: =Kandidaten!D37 -> 0 | F37: =D37*E37 -> 0
B38: Bijkomende kosten kadidaat (per uur) | E38: =Kandidaten!D38 -> 0 | F38: =D36*E38 -> 0
B39: Bijkomende kosten per periode | E39: =Kandidaten!D39 -> 0 | F39: =IF(D36>0,E39,0) -> 0
B40: Totaal SROI-waarde kandidaat deze periode | G40: =SUM(F36:F39) -> 0
B42: Kandidaat | C42: =C35+1 -> 6 | D42: Uren | E42: Overeengekomen tariefwaarde in € | F42: SROI-waarde | G42: Totaal
B43: Aantal gewerkte uren kandidaat | E43: =Kandidaten!D43 -> 0 | F43: =D43*E43 -> 0
B44: Aantal begeleidingsuren kandidaat | E44: =Kandidaten!D44 -> 0 | F44: =D44*E44 -> 0
B45: Bijkomende kosten kadidaat (per uur) | E45: =Kandidaten!D45 -> 0 | F45: =D43*E45 -> 0
B46: Bijkomende kosten per periode | E46: =Kandidaten!D46 -> 0 | F46: =IF(D43>0,E46,0) -> 0
B47: Totaal SROI-waarde kandidaat deze periode | G47: =SUM(F43:F46) -> 0
...

Sheet P6
B2: PERIODE 6 | F2: Periode | I2: Invul instructie
E3: Startdatum: | G3: xx-xx-xx | I3: Vul alleen de witte cellen in (waar van toepassing).
B4: Vul alleen de witte cellen in | E4: Einddatum: | G4: xx-xx-xx | I4: De waarde in de categorie "Overig" kan alleen worden ingevuld als dat met
E5: Aantal werkdagen: | I5: de opdrachtgever is overeengekomen (bijvoorbeeld sociaal inkopen, of een bonus) .
B7: Kandidaat | C7: 1 | D7: Uren | E7: Overeengekomen tariefwaarde in € | F7: SROI-waarde | G7: Totaal | I7: Categorie "Overig" (niet kandidaat gebonden)
B8: Aantal gewerkte uren kandidaat | E8: =Kandidaten!D8 -> 0 | F8: =D8*E8 -> 0 | I8: Overeengekomen extra gerealiseerde waarde in de deze periode in €
B9: Aantal begeleidingsuren kandidaat | E9: =Kandidaten!D9 -> 0 | F9: =D9*E9 -> 0 | I9: Omschrijving SROI-inzet categorie "Overig":
B10: Bijkomende kosten kadidaat (per uur) | E10: =Kandidaten!D10 -> 0 | F10: =D8*E10 -> 0
B11: Bijkomende kosten per periode | E11: =Kandidaten!D11 -> 0 | F11: =IF(D8>0,E11,0) -> 0
B12: Totaal SROI-waarde kandidaat deze periode | G12: =SUM(F8:F11) -> 0
B14: Kandidaat | C14: =C7+1 -> 2 | D14: Uren | E14: Overeengekomen tariefwaarde in € | F14: SROI-waarde | G14: Totaal | I14: Totaal gerealiseerde waarde deze periode
B15: Aantal gewerkte uren kandidaat | E15: =Kandidaten!D15 -> 0 | F15: =D15*E15 -> 0 | I15: Kandidaten | J15: =SUM(G7:G355) -> 0
B16: Aantal begeleidingsuren kandidaat | E16: =Kandidaten!D16 -> 0 | F16: =D16*E16 -> 0 | I16: Overig | J16: =J8 -> 0
B17: Bijkomende kosten kadidaat (per uur) | E17: =Kandidaten!D17 -> 0 | F17: =D15*E17 -> 0
B18: Bijkomende kosten per periode | E18: =Kandidaten!D18 -> 0 | F18: =IF(D15>0,E18,0) -> 0
B19: Totaal SROI-waarde kandidaat deze periode | G19: =SUM(F15:F18) -> 0 | I19: Totaal | J19: =J15+J16 -> 0
B21: Kandidaat | C21: =C14+1 -> 3 | D21: Uren | E21: Overeengekomen tariefwaarde in € | F21: SROI-waarde | G21: Totaal
B22: Aantal gewerkte uren kandidaat | E22: =Kandidaten!D22 -> 0 | F22: =D22*E22 -> 0
B23: Aantal begeleidingsuren kandidaat | E23: =Kandidaten!D23 -> 0 | F23: =D23*E23 -> 0
B24: Bijkomende kosten kadidaat (per uur) | E24: =Kandidaten!D24 -> 0 | F24: =D22*E24 -> 0
B25: Bijkomende kosten per periode | E25: =Kandidaten!D25 -> 0 | F25: =IF(D22>0,E25,0) -> 0
B26: Totaal SROI-waarde kandidaat deze periode | G26: =SUM(F22:F25) -> 0
B28: Kandidaat | C28: =C21+1 -> 4 | D28: Uren | E28: Overeengekomen tariefwaarde in € | F28: SROI-waarde | G28: Totaal
B29: Aantal gewerkte uren kandidaat | E29: =Kandidaten!D29 -> 0 | F29: =D29*E29 -> 0
B30: Aantal begeleidingsuren kandidaat | E30: =Kandidaten!D30 -> 0 | F30: =D30*E30 -> 0
B31: Bijkomende kosten kadidaat (per uur) | E31: =Kandidaten!D31 -> 0 | F31: =D29*E31 -> 0
B32: Bijkomende kosten per periode | E32: =Kandidaten!D32 -> 0 | F32: =IF(D29>0,E32,0) -> 0
B33: Totaal SROI-waarde kandidaat deze periode | G33: =SUM(F29:F32) -> 0
B35: Kandidaat | C35: =C28+1 -> 5 | D35: Uren | E35: Overeengekomen tariefwaarde in € | F35: SROI-waarde | G35: Totaal
B36: Aantal gewerkte uren kandidaat | E36: =Kandidaten!D36 -> 0 | F36: =D36*E36 -> 0
B37: Aantal begeleidingsuren kandidaat | E37: =Kandidaten!D37 -> 0 | F37: =D37*E37 -> 0
B38: Bijkomende kosten kadidaat (per uur) | E38: =Kandidaten!D38 -> 0 | F38: =D36*E38 -> 0
B39: Bijkomende kosten per periode | E39: =Kandidaten!D39 -> 0 | F39: =IF(D36>0,E39,0) -> 0
B40: Totaal SROI-waarde kandidaat deze periode | G40: =SUM(F36:F39) -> 0
B42: Kandidaat | C42: =C35+1 -> 6 | D42: Uren | E42: Overeengekomen tariefwaarde in € | F42: SROI-waarde | G42: Totaal
B43: Aantal gewerkte uren kandidaat | E43: =Kandidaten!D43 -> 0 | F43: =D43*E43 -> 0
B44: Aantal begeleidingsuren kandidaat | E44: =Kandidaten!D44 -> 0 | F44: =D44*E44 -> 0
B45: Bijkomende kosten kadidaat (per uur) | E45: =Kandidaten!D45 -> 0 | F45: =D43*E45 -> 0
B46: Bijkomende kosten per periode | E46: =Kandidaten!D46 -> 0 | F46: =IF(D43>0,E46,0) -> 0
B47: Totaal SROI-waarde kandidaat deze periode | G47: =SUM(F43:F46) -> 0
...

Sheet P7
B2: PERIODE 7 | F2: Periode | I2: Invul instructie
E3: Startdatum: | G3: xx-xx-xx | I3: Vul alleen de witte cellen in (waar van toepassing).
B4: Vul alleen de witte cellen in | E4: Einddatum: | G4: xx-xx-xx | I4: De waarde in de categorie "Overig" kan alleen worden ingevuld als dat met
E5: Aantal werkdagen: | I5: de opdrachtgever is overeengekomen (bijvoorbeeld sociaal inkopen, of een bonus) .
B7: Kandidaat | C7: 1 | D7: Uren | E7: Overeengekomen tariefwaarde in € | F7: SROI-waarde | G7: Totaal | I7: Categorie "Overig" (niet kandidaat gebonden)
B8: Aantal gewerkte uren kandidaat | E8: =Kandidaten!D8 -> 0 | F8: =D8*E8 -> 0 | I8: Overeengekomen extra gerealiseerde waarde in de deze periode in €
B9: Aantal begeleidingsuren kandidaat | E9: =Kandidaten!D9 -> 0 | F9: =D9*E9 -> 0 | I9: Omschrijving SROI-inzet categorie "Overig":
B10: Bijkomende kosten kadidaat (per uur) | E10: =Kandidaten!D10 -> 0 | F10: =D8*E10 -> 0
B11: Bijkomende kosten per periode | E11: =Kandidaten!D11 -> 0 | F11: =IF(D8>0,E11,0) -> 0
B12: Totaal SROI-waarde kandidaat deze periode | G12: =SUM(F8:F11) -> 0
B14: Kandidaat | C14: =C7+1 -> 2 | D14: Uren | E14: Overeengekomen tariefwaarde in € | F14: SROI-waarde | G14: Totaal | I14: Totaal gerealiseerde waarde deze periode
B15: Aantal gewerkte uren kandidaat | E15: =Kandidaten!D15 -> 0 | F15: =D15*E15 -> 0 | I15: Kandidaten | J15: =SUM(G7:G355) -> 0
B16: Aantal begeleidingsuren kandidaat | E16: =Kandidaten!D16 -> 0 | F16: =D16*E16 -> 0 | I16: Overig | J16: =J8 -> 0
B17: Bijkomende kosten kadidaat (per uur) | E17: =Kandidaten!D17 -> 0 | F17: =D15*E17 -> 0
B18: Bijkomende kosten per periode | E18: =Kandidaten!D18 -> 0 | F18: =IF(D15>0,E18,0) -> 0
B19: Totaal SROI-waarde kandidaat deze periode | G19: =SUM(F15:F18) -> 0 | I19: Totaal | J19: =J15+J16 -> 0
B21: Kandidaat | C21: =C14+1 -> 3 | D21: Uren | E21: Overeengekomen tariefwaarde in € | F21: SROI-waarde | G21: Totaal
B22: Aantal gewerkte uren kandidaat | E22: =Kandidaten!D22 -> 0 | F22: =D22*E22 -> 0
B23: Aantal begeleidingsuren kandidaat | E23: =Kandidaten!D23 -> 0 | F23: =D23*E23 -> 0
B24: Bijkomende kosten kadidaat (per uur) | E24: =Kandidaten!D24 -> 0 | F24: =D22*E24 -> 0
B25: Bijkomende kosten per periode | E25: =Kandidaten!D25 -> 0 | F25: =IF(D22>0,E25,0) -> 0
B26: Totaal SROI-waarde kandidaat deze periode | G26: =SUM(F22:F25) -> 0
B28: Kandidaat | C28: =C21+1 -> 4 | D28: Uren | E28: Overeengekomen tariefwaarde in € | F28: SROI-waarde | G28: Totaal
B29: Aantal gewerkte uren kandidaat | E29: =Kandidaten!D29 -> 0 | F29: =D29*E29 -> 0
B30: Aantal begeleidingsuren kandidaat | E30: =Kandidaten!D30 -> 0 | F30: =D30*E30 -> 0
B31: Bijkomende kosten kadidaat (per uur) | E31: =Kandidaten!D31 -> 0 | F31: =D29*E31 -> 0
B32: Bijkomende kosten per periode | E32: =Kandidaten!D32 -> 0 | F32: =IF(D29>0,E32,0) -> 0
B33: Totaal SROI-waarde kandidaat deze periode | G33: =SUM(F29:F32) -> 0
B35: Kandidaat | C35: =C28+1 -> 5 | D35: Uren | E35: Overeengekomen tariefwaarde in € | F35: SROI-waarde | G35: Totaal
B36: Aantal gewerkte uren kandidaat | E36: =Kandidaten!D36 -> 0 | F36: =D36*E36 -> 0
B37: Aantal begeleidingsuren kandidaat | E37: =Kandidaten!D37 -> 0 | F37: =D37*E37 -> 0
B38: Bijkomende kosten kadidaat (per uur) | E38: =Kandidaten!D38 -> 0 | F38: =D36*E38 -> 0
B39: Bijkomende kosten per periode | E39: =Kandidaten!D39 -> 0 | F39: =IF(D36>0,E39,0) -> 0
B40: Totaal SROI-waarde kandidaat deze periode | G40: =SUM(F36:F39) -> 0
B42: Kandidaat | C42: =C35+1 -> 6 | D42: Uren | E42: Overeengekomen tariefwaarde in € | F42: SROI-waarde | G42: Totaal
B43: Aantal gewerkte uren kandidaat | E43: =Kandidaten!D43 -> 0 | F43: =D43*E43 -> 0
B44: Aantal begeleidingsuren kandidaat | E44: =Kandidaten!D44 -> 0 | F44: =D44*E44 -> 0
B45: Bijkomende kosten kadidaat (per uur) | E45: =Kandidaten!D45 -> 0 | F45: =D43*E45 -> 0
B46: Bijkomende kosten per periode | E46: =Kandidaten!D46 -> 0 | F46: =IF(D43>0,E46,0) -> 0
B47: Totaal SROI-waarde kandidaat deze periode | G47: =SUM(F43:F46) -> 0
...

Sheet P8
B2: PERIODE 8 | F2: Periode | I2: Invul instructie
E3: Startdatum: | G3: xx-xx-xx | I3: Vul alleen de witte cellen in (waar van toepassing).
B4: Vul alleen de witte cellen in | E4: Einddatum: | G4: xx-xx-xx | I4: De waarde in de categorie "Overig" kan alleen worden ingevuld als dat met
E5: Aantal werkdagen: | I5: de opdrachtgever is overeengekomen (bijvoorbeeld sociaal inkopen, of een bonus) .
B7: Kandidaat | C7: 1 | D7: Uren | E7: Overeengekomen tariefwaarde in € | F7: SROI-waarde | G7: Totaal | I7: Categorie "Overig" (niet kandidaat gebonden)
B8: Aantal gewerkte uren kandidaat | E8: =Kandidaten!D8 -> 0 | F8: =D8*E8 -> 0 | I8: Overeengekomen extra gerealiseerde waarde in de deze periode in €
B9: Aantal begeleidingsuren kandidaat | E9: =Kandidaten!D9 -> 0 | F9: =D9*E9 -> 0 | I9: Omschrijving SROI-inzet categorie "Overig":
B10: Bijkomende kosten kadidaat (per uur) | E10: =Kandidaten!D10 -> 0 | F10: =D8*E10 -> 0
B11: Bijkomende kosten per periode | E11: =Kandidaten!D11 -> 0 | F11: =IF(D8>0,E11,0) -> 0
B12: Totaal SROI-waarde kandidaat deze periode | G12: =SUM(F8:F11) -> 0
B14: Kandidaat | C14: =C7+1 -> 2 | D14: Uren | E14: Overeengekomen tariefwaarde in € | F14: SROI-waarde | G14: Totaal | I14: Totaal gerealiseerde waarde deze periode
B15: Aantal gewerkte uren kandidaat | E15: =Kandidaten!D15 -> 0 | F15: =D15*E15 -> 0 | I15: Kandidaten | J15: =SUM(G7:G355) -> 0
B16: Aantal begeleidingsuren kandidaat | E16: =Kandidaten!D16 -> 0 | F16: =D16*E16 -> 0 | I16: Overig | J16: =J8 -> 0
B17: Bijkomende kosten kadidaat (per uur) | E17: =Kandidaten!D17 -> 0 | F17: =D15*E17 -> 0
B18: Bijkomende kosten per periode | E18: =Kandidaten!D18 -> 0 | F18: =IF(D15>0,E18,0) -> 0
B19: Totaal SROI-waarde kandidaat deze periode | G19: =SUM(F15:F18) -> 0 | I19: Totaal | J19: =J15+J16 -> 0
B21: Kandidaat | C21: =C14+1 -> 3 | D21: Uren | E21: Overeengekomen tariefwaarde in € | F21: SROI-waarde | G21: Totaal
B22: Aantal gewerkte uren kandidaat | E22: =Kandidaten!D22 -> 0 | F22: =D22*E22 -> 0
B23: Aantal begeleidingsuren kandidaat | E23: =Kandidaten!D23 -> 0 | F23: =D23*E23 -> 0
B24: Bijkomende kosten kadidaat (per uur) | E24: =Kandidaten!D24 -> 0 | F24: =D22*E24 -> 0
B25: Bijkomende kosten per periode | E25: =Kandidaten!D25 -> 0 | F25: =IF(D22>0,E25,0) -> 0
B26: Totaal SROI-waarde kandidaat deze periode | G26: =SUM(F22:F25) -> 0
B28: Kandidaat | C28: =C21+1 -> 4 | D28: Uren | E28: Overeengekomen tariefwaarde in € | F28: SROI-waarde | G28: Totaal
B29: Aantal gewerkte uren kandidaat | E29: =Kandidaten!D29 -> 0 | F29: =D29*E29 -> 0
B30: Aantal begeleidingsuren kandidaat | E30: =Kandidaten!D30 -> 0 | F30: =D30*E30 -> 0
B31: Bijkomende kosten kadidaat (per uur) | E31: =Kandidaten!D31 -> 0 | F31: =D29*E31 -> 0
B32: Bijkomende kosten per periode | E32: =Kandidaten!D32 -> 0 | F32: =IF(D29>0,E32,0) -> 0
B33: Totaal SROI-waarde kandidaat deze periode | G33: =SUM(F29:F32) -> 0
B35: Kandidaat | C35: =C28+1 -> 5 | D35: Uren | E35: Overeengekomen tariefwaarde in € | F35: SROI-waarde | G35: Totaal
B36: Aantal gewerkte uren kandidaat | E36: =Kandidaten!D36 -> 0 | F36: =D36*E36 -> 0
B37: Aantal begeleidingsuren kandidaat | E37: =Kandidaten!D37 -> 0 | F37: =D37*E37 -> 0
B38: Bijkomende kosten kadidaat (per uur) | E38: =Kandidaten!D38 -> 0 | F38: =D36*E38 -> 0
B39: Bijkomende kosten per periode | E39: =Kandidaten!D39 -> 0 | F39: =IF(D36>0,E39,0) -> 0
B40: Totaal SROI-waarde kandidaat deze periode | G40: =SUM(F36:F39) -> 0
B42: Kandidaat | C42: =C35+1 -> 6 | D42: Uren | E42: Overeengekomen tariefwaarde in € | F42: SROI-waarde | G42: Totaal
B43: Aantal gewerkte uren kandidaat | E43: =Kandidaten!D43 -> 0 | F43: =D43*E43 -> 0
B44: Aantal begeleidingsuren kandidaat | E44: =Kandidaten!D44 -> 0 | F44: =D44*E44 -> 0
B45: Bijkomende kosten kadidaat (per uur) | E45: =Kandidaten!D45 -> 0 | F45: =D43*E45 -> 0
B46: Bijkomende kosten per periode | E46: =Kandidaten!D46 -> 0 | F46: =IF(D43>0,E46,0) -> 0
B47: Totaal SROI-waarde kandidaat deze periode | G47: =SUM(F43:F46) -> 0
...

Sheet P9
B2: PERIODE 9 | F2: Periode | I2: Invul instructie
E3: Startdatum: | G3: xx-xx-xx | I3: Vul alleen de witte cellen in (waar van toepassing).
B4: Vul alleen de witte cellen in | E4: Einddatum: | G4: xx-xx-xx | I4: De waarde in de categorie "Overig" kan alleen worden ingevuld als dat met
E5: Aantal werkdagen: | I5: de opdrachtgever is overeengekomen (bijvoorbeeld sociaal inkopen, of een bonus) .
B7: Kandidaat | C7: 1 | D7: Uren | E7: Overeengekomen tariefwaarde in € | F7: SROI-waarde | G7: Totaal | I7: Categorie "Overig" (niet kandidaat gebonden)
B8: Aantal gewerkte uren kandidaat | E8: =Kandidaten!D8 -> 0 | F8: =D8*E8 -> 0 | I8: Overeengekomen extra gerealiseerde waarde in de deze periode in €
B9: Aantal begeleidingsuren kandidaat | E9: =Kandidaten!D9 -> 0 | F9: =D9*E9 -> 0 | I9: Omschrijving SROI-inzet categorie "Overig":
B10: Bijkomende kosten kadidaat (per uur) | E10: =Kandidaten!D10 -> 0 | F10: =D8*E10 -> 0
B11: Bijkomende kosten per periode | E11: =Kandidaten!D11 -> 0 | F11: =IF(D8>0,E11,0) -> 0
B12: Totaal SROI-waarde kandidaat deze periode | G12: =SUM(F8:F11) -> 0
B14: Kandidaat | C14: =C7+1 -> 2 | D14: Uren | E14: Overeengekomen tariefwaarde in € | F14: SROI-waarde | G14: Totaal | I14: Totaal gerealiseerde waarde deze periode
B15: Aantal gewerkte uren kandidaat | E15: =Kandidaten!D15 -> 0 | F15: =D15*E15 -> 0 | I15: Kandidaten | J15: =SUM(G7:G355) -> 0
B16: Aantal begeleidingsuren kandidaat | E16: =Kandidaten!D16 -> 0 | F16: =D16*E16 -> 0 | I16: Overig | J16: =J8 -> 0
B17: Bijkomende kosten kadidaat (per uur) | E17: =Kandidaten!D17 -> 0 | F17: =D15*E17 -> 0
B18: Bijkomende kosten per periode | E18: =Kandidaten!D18 -> 0 | F18: =IF(D15>0,E18,0) -> 0
B19: Totaal SROI-waarde kandidaat deze periode | G19: =SUM(F15:F18) -> 0 | I19: Totaal | J19: =J15+J16 -> 0
B21: Kandidaat | C21: =C14+1 -> 3 | D21: Uren | E21: Overeengekomen tariefwaarde in € | F21: SROI-waarde | G21: Totaal
B22: Aantal gewerkte uren kandidaat | E22: =Kandidaten!D22 -> 0 | F22: =D22*E22 -> 0
B23: Aantal begeleidingsuren kandidaat | E23: =Kandidaten!D23 -> 0 | F23: =D23*E23 -> 0
B24: Bijkomende kosten kadidaat (per uur) | E24: =Kandidaten!D24 -> 0 | F24: =D22*E24 -> 0
B25: Bijkomende kosten per periode | E25: =Kandidaten!D25 -> 0 | F25: =IF(D22>0,E25,0) -> 0
B26: Totaal SROI-waarde kandidaat deze periode | G26: =SUM(F22:F25) -> 0
B28: Kandidaat | C28: =C21+1 -> 4 | D28: Uren | E28: Overeengekomen tariefwaarde in € | F28: SROI-waarde | G28: Totaal
B29: Aantal gewerkte uren kandidaat | E29: =Kandidaten!D29 -> 0 | F29: =D29*E29 -> 0
B30: Aantal begeleidingsuren kandidaat | E30: =Kandidaten!D30 -> 0 | F30: =D30*E30 -> 0
B31: Bijkomende kosten kadidaat (per uur) | E31: =Kandidaten!D31 -> 0 | F31: =D29*E31 -> 0
B32: Bijkomende kosten per periode | E32: =Kandidaten!D32 -> 0 | F32: =IF(D29>0,E32,0) -> 0
B33: Totaal SROI-waarde kandidaat deze periode | G33: =SUM(F29:F32) -> 0
B35: Kandidaat | C35: =C28+1 -> 5 | D35: Uren | E35: Overeengekomen tariefwaarde in € | F35: SROI-waarde | G35: Totaal
B36: Aantal gewerkte uren kandidaat | E36: =Kandidaten!D36 -> 0 | F36: =D36*E36 -> 0
B37: Aantal begeleidingsuren kandidaat | E37: =Kandidaten!D37 -> 0 | F37: =D37*E37 -> 0
B38: Bijkomende kosten kadidaat (per uur) | E38: =Kandidaten!D38 -> 0 | F38: =D36*E38 -> 0
B39: Bijkomende kosten per periode | E39: =Kandidaten!D39 -> 0 | F39: =IF(D36>0,E39,0) -> 0
B40: Totaal SROI-waarde kandidaat deze periode | G40: =SUM(F36:F39) -> 0
B42: Kandidaat | C42: =C35+1 -> 6 | D42: Uren | E42: Overeengekomen tariefwaarde in € | F42: SROI-waarde | G42: Totaal
B43: Aantal gewerkte uren kandidaat | E43: =Kandidaten!D43 -> 0 | F43: =D43*E43 -> 0
B44: Aantal begeleidingsuren kandidaat | E44: =Kandidaten!D44 -> 0 | F44: =D44*E44 -> 0
B45: Bijkomende kosten kadidaat (per uur) | E45: =Kandidaten!D45 -> 0 | F45: =D43*E45 -> 0
B46: Bijkomende kosten per periode | E46: =Kandidaten!D46 -> 0 | F46: =IF(D43>0,E46,0) -> 0
B47: Totaal SROI-waarde kandidaat deze periode | G47: =SUM(F43:F46) -> 0
...

Sheet P10
B2: PERIODE 10 | F2: Periode | I2: Invul instructie
E3: Startdatum: | G3: xx-xx-xx | I3: Vul alleen de witte cellen in (waar van toepassing).
B4: Vul alleen de witte cellen in | E4: Einddatum: | G4: xx-xx-xx | I4: De waarde in de categorie "Overig" kan alleen worden ingevuld als dat met
E5: Aantal werkdagen: | I5: de opdrachtgever is overeengekomen (bijvoorbeeld sociaal inkopen, of een bonus) .
B7: Kandidaat | C7: 1 | D7: Uren | E7: Overeengekomen tariefwaarde in € | F7: SROI-waarde | G7: Totaal | I7: Categorie "Overig" (niet kandidaat gebonden)
B8: Aantal gewerkte uren kandidaat | E8: =Kandidaten!D8 -> 0 | F8: =D8*E8 -> 0 | I8: Overeengekomen extra gerealiseerde waarde in de deze periode in €
B9: Aantal begeleidingsuren kandidaat | E9: =Kandidaten!D9 -> 0 | F9: =D9*E9 -> 0 | I9: Omschrijving SROI-inzet categorie "Overig":
B10: Bijkomende kosten kadidaat (per uur) | E10: =Kandidaten!D10 -> 0 | F10: =D8*E10 -> 0
B11: Bijkomende kosten per periode | E11: =Kandidaten!D11 -> 0 | F11: =IF(D8>0,E11,0) -> 0
B12: Totaal SROI-waarde kandidaat deze periode | G12: =SUM(F8:F11) -> 0
B14: Kandidaat | C14: =C7+1 -> 2 | D14: Uren | E14: Overeengekomen tariefwaarde in € | F14: SROI-waarde | G14: Totaal | I14: Totaal gerealiseerde waarde deze periode
B15: Aantal gewerkte uren kandidaat | E15: =Kandidaten!D15 -> 0 | F15: =D15*E15 -> 0 | I15: Kandidaten | J15: =SUM(G7:G355) -> 0
B16: Aantal begeleidingsuren kandidaat | E16: =Kandidaten!D16 -> 0 | F16: =D16*E16 -> 0 | I16: Overig | J16: =J8 -> 0
B17: Bijkomende kosten kadidaat (per uur) | E17: =Kandidaten!D17 -> 0 | F17: =D15*E17 -> 0
B18: Bijkomende kosten per periode | E18: =Kandidaten!D18 -> 0 | F18: =IF(D15>0,E18,0) -> 0
B19: Totaal SROI-waarde kandidaat deze periode | G19: =SUM(F15:F18) -> 0 | I19: Totaal | J19: =J15+J16 -> 0
B21: Kandidaat | C21: =C14+1 -> 3 | D21: Uren | E21: Overeengekomen tariefwaarde in € | F21: SROI-waarde | G21: Totaal
B22: Aantal gewerkte uren kandidaat | E22: =Kandidaten!D22 -> 0 | F22: =D22*E22 -> 0
B23: Aantal begeleidingsuren kandidaat | E23: =Kandidaten!D23 -> 0 | F23: =D23*E23 -> 0
B24: Bijkomende kosten kadidaat (per uur) | E24: =Kandidaten!D24 -> 0 | F24: =D22*E24 -> 0
B25: Bijkomende kosten per periode | E25: =Kandidaten!D25 -> 0 | F25: =IF(D22>0,E25,0) -> 0
B26: Totaal SROI-waarde kandidaat deze periode | G26: =SUM(F22:F25) -> 0
B28: Kandidaat | C28: =C21+1 -> 4 | D28: Uren | E28: Overeengekomen tariefwaarde in € | F28: SROI-waarde | G28: Totaal
B29: Aantal gewerkte uren kandidaat | E29: =Kandidaten!D29 -> 0 | F29: =D29*E29 -> 0
B30: Aantal begeleidingsuren kandidaat | E30: =Kandidaten!D30 -> 0 | F30: =D30*E30 -> 0
B31: Bijkomende kosten kadidaat (per uur) | E31: =Kandidaten!D31 -> 0 | F31: =D29*E31 -> 0
B32: Bijkomende kosten per periode | E32: =Kandidaten!D32 -> 0 | F32: =IF(D29>0,E32,0) -> 0
B33: Totaal SROI-waarde kandidaat deze periode | G33: =SUM(F29:F32) -> 0
B35: Kandidaat | C35: =C28+1 -> 5 | D35: Uren | E35: Overeengekomen tariefwaarde in € | F35: SROI-waarde | G35: Totaal
B36: Aantal gewerkte uren kandidaat | E36: =Kandidaten!D36 -> 0 | F36: =D36*E36 -> 0
B37: Aantal begeleidingsuren kandidaat | E37: =Kandidaten!D37 -> 0 | F37: =D37*E37 -> 0
B38: Bijkomende kosten kadidaat (per uur) | E38: =Kandidaten!D38 -> 0 | F38: =D36*E38 -> 0
B39: Bijkomende kosten per periode | E39: =Kandidaten!D39 -> 0 | F39: =IF(D36>0,E39,0) -> 0
B40: Totaal SROI-waarde kandidaat deze periode | G40: =SUM(F36:F39) -> 0
B42: Kandidaat | C42: =C35+1 -> 6 | D42: Uren | E42: Overeengekomen tariefwaarde in € | F42: SROI-waarde | G42: Totaal
B43: Aantal gewerkte uren kandidaat | E43: =Kandidaten!D43 -> 0 | F43: =D43*E43 -> 0
B44: Aantal begeleidingsuren kandidaat | E44: =Kandidaten!D44 -> 0 | F44: =D44*E44 -> 0
B45: Bijkomende kosten kadidaat (per uur) | E45: =Kandidaten!D45 -> 0 | F45: =D43*E45 -> 0
B46: Bijkomende kosten per periode | E46: =Kandidaten!D46 -> 0 | F46: =IF(D43>0,E46,0) -> 0
B47: Totaal SROI-waarde kandidaat deze periode | G47: =SUM(F43:F46) -> 0
...

Sheet P11
B2: PERIODE 11 | F2: Periode | I2: Invul instructie
E3: Startdatum: | G3: xx-xx-xx | I3: Vul alleen de witte cellen in (waar van toepassing).
B4: Vul alleen de witte cellen in | E4: Einddatum: | G4: xx-xx-xx | I4: De waarde in de categorie "Overig" kan alleen worden ingevuld als dat met
E5: Aantal werkdagen: | I5: de opdrachtgever is overeengekomen (bijvoorbeeld sociaal inkopen, of een bonus) .
B7: Kandidaat | C7: 1 | D7: Uren | E7: Overeengekomen tariefwaarde in € | F7: SROI-waarde | G7: Totaal | I7: Categorie "Overig" (niet kandidaat gebonden)
B8: Aantal gewerkte uren kandidaat | E8: =Kandidaten!D8 -> 0 | F8: =D8*E8 -> 0 | I8: Overeengekomen extra gerealiseerde waarde in de deze periode in €
B9: Aantal begeleidingsuren kandidaat | E9: =Kandidaten!D9 -> 0 | F9: =D9*E9 -> 0 | I9: Omschrijving SROI-inzet categorie "Overig":
B10: Bijkomende kosten kadidaat (per uur) | E10: =Kandidaten!D10 -> 0 | F10: =D8*E10 -> 0
B11: Bijkomende kosten per periode | E11: =Kandidaten!D11 -> 0 | F11: =IF(D8>0,E11,0) -> 0
B12: Totaal SROI-waarde kandidaat deze periode | G12: =SUM(F8:F11) -> 0
B14: Kandidaat | C14: =C7+1 -> 2 | D14: Uren | E14: Overeengekomen tariefwaarde in € | F14: SROI-waarde | G14: Totaal | I14: Totaal gerealiseerde waarde deze periode
B15: Aantal gewerkte uren kandidaat | E15: =Kandidaten!D15 -> 0 | F15: =D15*E15 -> 0 | I15: Kandidaten | J15: =SUM(G7:G355) -> 0
B16: Aantal begeleidingsuren kandidaat | E16: =Kandidaten!D16 -> 0 | F16: =D16*E16 -> 0 | I16: Overig | J16: =J8 -> 0
B17: Bijkomende kosten kadidaat (per uur) | E17: =Kandidaten!D17 -> 0 | F17: =D15*E17 -> 0
B18: Bijkomende kosten per periode | E18: =Kandidaten!D18 -> 0 | F18: =IF(D15>0,E18,0) -> 0
B19: Totaal SROI-waarde kandidaat deze periode | G19: =SUM(F15:F18) -> 0 | I19: Totaal | J19: =J15+J16 -> 0
B21: Kandidaat | C21: =C14+1 -> 3 | D21: Uren | E21: Overeengekomen tariefwaarde in € | F21: SROI-waarde | G21: Totaal
B22: Aantal gewerkte uren kandidaat | E22: =Kandidaten!D22 -> 0 | F22: =D22*E22 -> 0
B23: Aantal begeleidingsuren kandidaat | E23: =Kandidaten!D23 -> 0 | F23: =D23*E23 -> 0
B24: Bijkomende kosten kadidaat (per uur) | E24: =Kandidaten!D24 -> 0 | F24: =D22*E24 -> 0
B25: Bijkomende kosten per periode | E25: =Kandidaten!D25 -> 0 | F25: =IF(D22>0,E25,0) -> 0
B26: Totaal SROI-waarde kandidaat deze periode | G26: =SUM(F22:F25) -> 0
