Workbook

Sheet SROI rapportage
B1: Rapportage SROI-verplichting
B3: Vul alleen de eerste keer de blauwe cellen in. Vul bij elke volgende rapportage alleen de drie witte cellen in.
B4: Naam/nummer contract: | H4: Loonsom / contractwaarde | N4: INVUL INSTRUCTIE
B5: Bedrijfsnaam: | H5: SROI-percentage
B6: Contactpersoon: | H6: Waarde SROI-verplichting | J6: =J5*J4 -> 0 | N6: Voorblad SROI Rapportage (dit Blad)
B7: Contactpersoon RVB: | H7: SROI-gerealiseerde waarde | J7: =F29 -> 0 | O7: Vul de eerste keer alle blauwe cellen in.
B8: Begindatum contract: | D8: Einddatum contract: | F8: Raamcontract: | H8: Behaald percentage | J8: =IF(J6=0,"",J7/J6) | O8: Vul na elke periode alleen de 3 witte cellen in.
B9: Datum rapportage: | D9: Tot en met periode: | F9: Aantal bijlagen: | G9: 0 | H9: Openstaand/Overschot | J9: =J6-J7 -> 0 | O9: Overige cellen worden gegenereerd na invulling Periode-bladen P1 t/m P13.
B11: Resultaten SROI-waarde uit eventuele voorgaande rapportages: | H11: Aantal kalenderdagen | N11: Reultaten-blad
H12: Contractperiode | J12: =IF(OR(C8="",E8=""),"",E8-C8+1) | O12: Geen invulling nodig, wordt gegenereerd.
B13: Resultaten SROI-waarde tot datum deze rapportage:
B14: Kandidaten inzet | D14: Overige inzet | H14: Aantal kalenderdagen
B15: Periode 1 | C15: ='P1'!J15 -> 0 | E15: ='P1'!J16 -> 0 | H15: Gepasseerd in contractperiode | J15: =IF(OR(J12="",C9=""),"",C9-C8+1) | N15: Kandidaten-blad
B16: Periode 2 | C16: ='P2'!J15 -> 0 | E16: ='P2'!J16 -> 0 | H16: Percentage | O16: Vul (eenmalig) alleen de witte cellen in, waar van toepassing.
B17: Periode 3 | C17: ='P3'!J15 -> 0 | E17: ='P3'!J16 -> 0 | H17: contractperiode gepasseerd | J17: =IF(J15="","",J15/J12) | O17: De in te vullen bedragen zijn vooraf overeengekomen met opdrachtgever.
B18: Periode 4 | C18: ='P4'!J15 -> 0 | E18: ='P4'!J16 -> 0
B19: Periode 5 | C19: ='P5'!J15 -> 0 | E19: ='P5'!J16 -> 0 | N19: Perioden-bladen P1 t/m P13
B20: Periode 6 | C20: ='P6'!J15 -> 0 | E20: ='P6'!J16 -> 0 | O20: Vul alleen de witte cellen in, waar van toepassing.
B21: Periode 7 | C21: ='P7'!J15 -> 0 | E21: ='P7'!J16 -> 0 | O21: Normaliter worden perioden van 4 weken aangehouden.
B22: Periode 8 | C22: ='P8'!J15 -> 0 | E22: ='P8'!J16 -> 0 | O22: Rapportage ierdere 4 weken updaten en versturen,
B23: Periode 9 | C23: ='P9'!J15 -> 0 | E23: ='P9'!J16 -> 0 | O23: tenzij anders overeengekomen.
B24: Periode 10 | C24: ='P10'!J15 -> 0 | E24: ='P10'!J16 -> 0 | O24: Categorie "Overig" kan alleen in overeenstenmming met de opdrachtgever
B25: Periode 11 | C25: ='P11'!J15 -> 0 | E25: ='P11'!J16 -> 0 | O25: worden ingevuld.
B26: Periode 12 | C26: ='P12'!J15 -> 0 | E26: ='P12'!J16 -> 0
B27: Periode 13 | C27: ='P13'!J15 -> 0 | E27: ='P13'!J16 -> 0
C28: =SUM(C15:C27) -> 0 | E28: =SUM(E15:E27) -> 0 | F28: =C28+E28 -> 0
C29: Totaal resultaat contract tot datum rapporage: | F29: =F11+F28 -> 0

Sheet Resultaten
B2: RESULTATEN per kandidaat over periode P1 t/m P13
J4: Aantal opgegeven werkdagen per periode
D5: ='P1'!F5 -> 0 | E5: ='P2'!F5 -> 0 | F5: ='P3'!F5 -> 0 | G5: ='P4'!F5 -> 0 | H5: ='P5'!F5 -> 0 | I5: ='P6'!F5 -> 0 | J5: ='P7'!F5 -> 0 | K5: ='P8'!F5 -> 0 | L5: ='P9'!F5 -> 0 | M5: ='P10'!F5 -> 0 | N5: ='P11'!F5 -> 0 | O5: ='P12'!F5 -> 0 | P5: ='P13'!F5 -> 0
B7: Kandidaat | C7: 1 | D7: Uren Periode 1 | E7: Uren Periode 2 | F7: Uren Periode 3 | G7: Uren Periode 4 | H7: Uren Periode 5 | I7: Uren Periode 6 | J7: Uren Periode 7 | K7: Uren Periode 8 | L7: Uren Periode 9 | M7: Uren Periode 10 | N7: Uren Periode 11 | O7: Uren Periode 12 | P7: Uren Periode 13 | Q7: Totalen | R7: Overeengekomen tariefwaarde in € | S7: SROI-waarde | T7: Totaal
B8: Aantal gewerkte uren kandidaat | D8: ='P1'!D8 -> 0 | E8: ='P2'!D8 -> 0 | F8: ='P3'!D8 -> 0 | G8: ='P4'!D8 -> 0 | H8: ='P5'!D8 -> 0 | I8: ='P6'!D8 -> 0 | J8: ='P7'!D8 -> 0 | K8: ='P8'!D8 -> 0 | L8: ='P9'!D8 -> 0 | M8: ='P10'!D8 -> 0 | N8: ='P11'!D8 -> 0 | O8: ='P12'!D8 -> 0 | P8: ='P13'!D8 -> 0 | Q8: =SUM(D8:P8) -> 0 | R8: =Kandidaten!D8 -> 0 | S8: =Q8*R8 -> 0
B9: Aantal begeleidingsuren kandidaat | D9: ='P1'!D9 -> 0 | E9: ='P2'!D9 -> 0 | F9: ='P3'!D9 -> 0 | G9: ='P4'!D9 -> 0 | H9: ='P5'!D9 -> 0 | I9: ='P6'!D9 -> 0 | J9: ='P7'!D9 -> 0 | K9: ='P8'!D9 -> 0 | L9: ='P9'!D9 -> 0 | M9: ='P10'!D9 -> 0 | N9: ='P11'!D9 -> 0 | O9: ='P12'!D9 -> 0 | P9: ='P13'!D9 -> 0 | Q9: =SUM(D9:P9) -> 0 | R9: =Kandidaten!D9 -> 0 | S9: =Q9*R9 -> 0
B10: Bijkomende kosten kadidaat (per uur) | R10: =Kandidaten!D10 -> 0 | S10: =Q8*R10 -> 0
B11: Bijkomende kosten per periode | R11: =Kandidaten!D11 -> 0 | S11: =R11 -> 0
B12: Gemiddels aantal uren/dag | D12: =IF(D$5=0,"",D8/D$5) | E12: =IF(E$5=0,"",E8/E$5) | F12: =IF(F$5=0,"",F8/F$5) | G12: =IF(G$5=0,"",G8/G$5) | H12: =IF(H$5=0,"",H8/H$5) | I12: =IF(I$5=0,"",I8/I$5) | J12: =IF(J$5=0,"",J8/J$5) | K12: =IF(K$5=0,"",K8/K$5) | ... P12: =IF(P$5=0,"",P8/P$5) | R12: Toale SROI-waarde P1 t/m P13: | T12: =SUM(S8:S11) -> 0
B14: Kandidaat | C14: =C7+1 -> 2 | D14: Uren Periode 1 | E14: Uren Periode 2 | F14: Uren Periode 3 | G14: Uren Periode 4 | H14: Uren Periode 5 | I14: Uren Periode 6 | J14: Uren Periode 7 | K14: Uren Periode 8 | L14: Uren Periode 9 | M14: Uren Periode 10 | N14: Uren Periode 11 | O14: Uren Periode 12 | P14: Uren Periode 13 | Q14: Totalen | R14: Overeengekomen tariefwaarde in € | S14: SROI-waarde | T14: Totaal
B15: Aantal gewerkte uren kandidaat | D15: ='P1'!D15 -> 0 | E15: ='P2'!D15 -> 0 | F15: ='P3'!D15 -> 0 | G15: ='P4'!D15 -> 0 | H15: ='P5'!D15 -> 0 | I15: ='P6'!D15 -> 0 | J15: ='P7'!D15 -> 0 | K15: ='P8'!D15 -> 0 | L15: ='P9'!D15 -> 0 | M15: ='P10'!D15 -> 0 | N15: ='P11'!D15 -> 0 | O15: ='P12'!D15 -> 0 | P15: ='P13'!D15 -> 0 | Q15: =SUM(D15:P15) -> 0 | R15: =Kandidaten!D15 -> 0 | S15: =Q15*R15 -> 0
B16: Aantal begeleidingsuren kandidaat | D16: ='P1'!D16 -> 0 | E16: ='P2'!D16 -> 0 | F16: ='P3'!D16 -> 0 | G16: ='P4'!D16 -> 0 | H16: ='P5'!D16 -> 0 | I16: ='P6'!D16 -> 0 | J16: ='P7'!D16 -> 0 | K16: ='P8'!D16 -> 0 | L16: ='P9'!D16 -> 0 | M16: ='P10'!D16 -> 0 | N16: ='P11'!D16 -> 0 | O16: ='P12'!D16 -> 0 | P16: ='P13'!D16 -> 0 | Q16: =SUM(D16:P16) -> 0 | R16: =Kandidaten!D16 -> 0 | S16: =Q16*R16 -> 0
B17: Bijkomende kosten kadidaat (per uur) | R17: =Kandidaten!D17 -> 0 | S17: =Q15*R17 -> 0
B18: Bijkomende kosten per periode | R18: =Kandidaten!D18 -> 0 | S18: =R18 -> 0
B19: Gemiddels aantal uren/dag | D19: =IF(D$5=0,"",D15/D$5) | E19: =IF(E$5=0,"",E15/E$5) | F19: =IF(F$5=0,"",F15/F$5) | G19: =IF(G$5=0,"",G15/G$5) | H19: =IF(H$5=0,"",H15/H$5) | I19: =IF(I$5=0,"",I15/I$5) | J19: =IF(J$5=0,"",J15/J$5) | K19: =IF(K$5=0,"",K15/K$5) | ... P19: =IF(P$5=0,"",P15/P$5) | R19: Toale SROI-waarde P1 t/m P13: | T19: =SUM(S15:S18) -> 0
B21: Kandidaat | C21: =C14+1 -> 3 | D21: Uren Periode 1 | E21: Uren Periode 2 | F21: Uren Periode 3 | G21: Uren Periode 4 | H21: Uren Periode 5 | I21: Uren Periode 6 | J21: Uren Periode 7 | K21: Uren Periode 8 | L21: Uren Periode 9 | M21: Uren Periode 10 | N21: Uren Periode 11 | O21: Uren Periode 12 | P21: Uren Periode 13 | Q21: Totalen | R21: Overeengekomen tariefwaarde in € | S21: SROI-waarde | T21: Totaal
B22: Aantal gewerkte uren kandidaat | D22: ='P1'!D22 -> 0 | E22: ='P2'!D22 -> 0 | F22: ='P3'!D22 -> 0 | G22: ='P4'!D22 -> 0 | H22: ='P5'!D22 -> 0 | I22: ='P6'!D22 -> 0 | J22: ='P7'!D22 -> 0 | K22: ='P8'!D22 -> 0 | L22: ='P9'!D22 -> 0 | M22: ='P10'!D22 -> 0 | N22: ='P11'!D22 -> 0 | O22: ='P12'!D22 -> 0 | P22: ='P13'!D22 -> 0 | Q22: =SUM(D22:P22) -> 0 | R22: =Kandidaten!D22 -> 0 | S22: =Q22*R22 -> 0
B23: Aantal begeleidingsuren kandidaat | D23: ='P1'!D23 -> 0 | E23: ='P2'!D23 -> 0 | F23: ='P3'!D23 -> 0 | G23: ='P4'!D23 -> 0 | H23: ='P5'!D23 -> 0 | I23: ='P6'!D23 -> 0 | J23: ='P7'!D23 -> 0 | K23: ='P8'!D23 -> 0 | L23: ='P9'!D23 -> 0 | M23: ='P10'!D23 -> 0 | N23: ='P11'!D23 -> 0 | O23: ='P12'!D23 -> 0 | P23: ='P13'!D23 -> 0 | Q23: =SUM(D23:P23) -> 0 | R23: =Kandidaten!D23 -> 0 | S23: =Q23*R23 -> 0
B24: Bijkomende kosten kadidaat (per uur) | R24: =Kandidaten!D24 -> 0 | S24: =Q22*R24 -> 0
B25: Bijkomende kosten per periode | R25: =Kandidaten!D25 -> 0 | S25: =R25 -> 0
B26: Gemiddels aantal uren/dag | D26: =IF(D$5=0,"",D22/D$5) | E26: =IF(E$5=0,"",E22/E$5) | F26: =IF(F$5=0,"",F22/F$5) | G26: =IF(G$5=0,"",G22/G$5) | H26: =IF(H$5=0,"",H22/H$5) | I26: =IF(I$5=0,"",I22/I$5) | J26: =IF(J$5=0,"",J22/J$5) | K26: =IF(K$5=0,"",K22/K$5) | ... P26: =IF(P$5=0,"",P22/P$5) | R26: Toale SROI-waarde P1 t/m P13: | T26: =SUM(S22:S25) -> 0
B28: Kandidaat | C28: =C21+1 -> 4 | D28: Uren Periode 1 | E28: Uren Periode 2 | F28: Uren Periode 3 | G28: Uren Periode 4 | H28: Uren Periode 5 | I28: Uren Periode 6 | J28: Uren Periode 7 | K28: Uren Periode 8 | L28: Uren Periode 9 | M28: Uren Periode 10 | N28: Uren Periode 11 | O28: Uren Periode 12 | P28: Uren Periode 13 | Q28: Totalen | R28: Overeengekomen tariefwaarde in € | S28: SROI-waarde | T28: Totaal
B29: Aantal gewerkte uren kandidaat | D29: ='P1'!D29 -> 0 | E29: ='P2'!D29 -> 0 | F29: ='P3'!D29 -> 0 | G29: ='P4'!D29 -> 0 | H29: ='P5'!D29 -> 0 | I29: ='P6'!D29 -> 0 | J29: ='P7'!D29 -> 0 | K29: ='P8'!D29 -> 0 | L29: ='P9'!D29 -> 0 | M29: ='P10'!D29 -> 0 | N29: ='P11'!D29 -> 0 | O29: ='P12'!D29 -> 0 | P29: ='P13'!D29 -> 0 | Q29: =SUM(D29:P29) -> 0 | R29: =Kandidaten!D29 -> 0 | S29: =Q29*R29 -> 0
B30: Aantal begeleidingsuren kandidaat | D30: ='P1'!D30 -> 0 | E30: ='P2'!D30 -> 0 | F30: ='P3'!D30 -> 0 | G30: ='P4'!D30 -> 0 | H30: ='P5'!D30 -> 0 | I30: ='P6'!D30 -> 0 | J30: ='P7'!D30 -> 0 | K30: ='P8'!D30 -> 0 | L30: ='P9'!D30 -> 0 | M30: ='P10'!D30 -> 0 | N30: ='P11'!D30 -> 0 | O30: ='P12'!D30 -> 0 | P30: ='P13'!D30 -> 0 | Q30: =SUM(D30:P30) -> 0 | R30: =Kandidaten!D30 -> 0 | S30: =Q30*R30 -> 0
B31: Bijkomende kosten kadidaat (per uur) | R31: =Kandidaten!D31 -> 0 | S31: =Q29*R31 -> 0
B32: Bijkomende kosten per periode | R32: =Kandidaten!D32 -> 0 | S32: =R32 -> 0
B33: Gemiddels aantal uren/dag | D33: =IF(D$5=0,"",D29/D$5) | E33: =IF(E$5=0,"",E29/E$5) | F33: =IF(F$5=0,"",F29/F$5) | G33: =IF(G$5=0,"",G29/G$5) | H33: =IF(H$5=0,"",H29/H$5) | I33: =IF(I$5=0,"",I29/I$5) | J33: =IF(J$5=0,"",J29/J$5) | K33: =IF(K$5=0,"",K29/K$5) | ... P33: =IF(P$5=0,"",P29/P$5) | R33: Toale SROI-waarde P1 t/m P13: | T33: =SUM(S29:S32) -> 0
B35: Kandidaat | C35: =C28+1 -> 5 | D35: Uren Periode 1 | E35: Uren Periode 2 | F35: Uren Periode 3 | G35: Uren Periode 4 | H35: Uren Periode 5 | I35: Uren Periode 6 | J35: Uren Periode 7 | K35: Uren Periode 8 | L35: Uren Periode 9 | M35: Uren Periode 10 | N35: Uren Periode 11 | O35: Uren Periode 12 | P35: Uren Periode 13 | Q35: Totalen | R35: Overeengekomen tariefwaarde in € | S35: SROI-waarde | T35: Totaal
B36: Aantal gewerkte uren kandidaat | D36: ='P1'!D36 -> 0 | E36: ='P2'!D36 -> 0 | F36: ='P3'!D36 -> 0 | G36: ='P4'!D36 -> 0 | H36: ='P5'!D36 -> 0 | I36: ='P6'!D36 -> 0 | J36: ='P7'!D36 -> 0 | K36: ='P8'!D36 -> 0 | L36: ='P9'!D36 -> 0 | M36: ='P10'!D36 -> 0 | N36: ='P11'!D36 -> 0 | O36: ='P12'!D36 -> 0 | P36: ='P13'!D36 -> 0 | Q36: =SUM(D36:P36) -> 0 | R36: =Kandidaten!D36 -> 0 | S36: =Q36*R36 -> 0
B37: Aantal begeleidingsuren kandidaat | D37: ='P1'!D37 -> 0 | E37: ='P2'!D37 -> 0 | F37: ='P3'!D37 -> 0 | G37: ='P4'!D37 -> 0 | H37: ='P5'!D37 -> 0 | I37: ='P6'!D37 -> 0 | J37: ='P7'!D37 -> 0 | K37: ='P8'!D37 -> 0 | L37: ='P9'!D37 -> 0 | M37: ='P10'!D37 -> 0 | N37: ='P11'!D37 -> 0 | O37: ='P12'!D37 -> 0 | P37: ='P13'!D37 -> 0 | Q37: =SUM(D37:P37) -> 0 | R37: =Kandidaten!D37 -> 0 | S37: =Q37*R37 -> 0
B38: Bijkomende kosten kadidaat (per uur) | R38: =Kandidaten!D38 -> 0 | S38: =Q36*R38 -> 0
B39: Bijkomende kosten per periode | R39: =Kandidaten!D39 -> 0 | S39: =R39 -> 0
B40: Gemiddels aantal uren/dag | D40: =IF(D$5=0,"",D36/D$5) | E40: =IF(E$5=0,"",E36/E$5) | F40: =IF(F$5=0,"",F36/F$5) | G40: =IF(G$5=0,"",G36/G$5) | H40: =IF(H$5=0,"",H36/H$5) | I40: =IF(I$5=0,"",I36/I$5) | J40: =IF(J$5=0,"",J36/J$5) | K40: =IF(K$5=0,"",K36/K$5) | ... P40: =IF(P$5=0,"",P36/P$5) | R40: Toale SROI-waarde P1 t/m P13: | T40: =SUM(S36:S39) -> 0
B42: Kandidaat | C42: =C35+1 -> 6 | D42: Uren Periode 1 | E42: Uren Periode 2 | F42: Uren Periode 3 | G42: Uren Periode 4 | H42: Uren Periode 5 | I42: Uren Periode 6 | J42: Uren Periode 7 | K42: Uren Periode 8 | L42: Uren Periode 9 | M42: Uren Periode 10 | N42: Uren Periode 11 | O42: Uren Periode 12 | P42: Uren Periode 13 | Q42: Totalen | R42: Overeengekomen tariefwaarde in € | S42: SROI-waarde | T42: Totaal
B43: Aantal gewerkte uren kandidaat | D43: ='P1'!D43 -> 0 | E43: ='P2'!D43 -> 0 | F43: ='P3'!D43 -> 0 | G43: ='P4'!D43 -> 0 | H43: ='P5'!D43 -> 0 | I43: ='P6'!D43 -> 0 | J43: ='P7'!D43 -> 0 | K43: ='P8'!D43 -> 0 | L43: ='P9'!D43 -> 0 | M43: ='P10'!D43 -> 0 | N43: ='P11'!D43 -> 0 | O43: ='P12'!D43 -> 0 | P43: ='P13'!D43 -> 0 | Q43: =SUM(D43:P43) -> 0 | R43: =Kandidaten!D43 -> 0 | S43: =Q43*R43 -> 0
B44: Aantal begeleidingsuren kandidaat | D44: ='P1'!D44 -> 0 | E44: ='P2'!D44 -> 0 | F44: ='P3'!D44 -> 0 | G44: ='P4'!D44 -> 0 | H44: ='P5'!D44 -> 0 | I44: ='P6'!D44 -> 0 | J44: ='P7'!D44 -> 0 | K44: ='P8'!D44 -> 0 | L44: ='P9'!D44 -> 0 | M44: ='P10'!D44 -> 0 | N44: ='P11'!D44 -> 0 | O44: ='P12'!D44 -> 0 | P44: ='P13'!D44 -> 0 | Q44: =SUM(D44:P44) -> 0 | R44: =Kandidaten!D44 -> 0 | S44: =Q44*R44 -> 0
B45: Bijkomende kosten kadidaat (per uur) | R45: =Kandidaten!D45 -> 0 | S45: =Q43*R45 -> 0
B46: Bijkomende kosten per periode | R46: =Kandidaten!D46 -> 0 | S46: =R46 -> 0
B47: Gemiddels aantal uren/dag | D47: =IF(D$5=0,"",D43/D$5) | E47: =IF(E$5=0,"",E43/E$5) | F47: =IF(F$5=0,"",F43/F$5) | G47: =IF(G$5=0,"",G43/G$5) | H47: =IF(H$5=0,"",H43/H$5) | I47: =IF(I$5=0,"",I43/I$5) | J47: =IF(J$5=0,"",J43/J$5) | K47: =IF(K$5=0,"",K43/K$5) | ... P47: =IF(P$5=0,"",P43/P$5) | R47: Toale SROI-waarde P1 t/m P13: | T47: =SUM(S43:S46) -> 0
B49: Kandidaat | C49: =C42+1 -> 7 | D49: Uren Periode 1 | E49: Uren Periode 2 | F49: Uren Periode 3 | G49: Uren Periode 4 | H49: Uren Periode 5 | I49: Uren Periode 6 | J49: Uren Periode 7 | K49: Uren Periode 8 | L49: Uren Periode 9 | M49: Uren Periode 10 | N49: Uren Periode 11 | O49: Uren Periode 12 | P49: Uren Periode 13 | Q49: Totalen | R49: Overeengekomen tariefwaarde in € | S49: SROI-waarde | T49: Totaal
B50: Aantal gewerkte uren kandidaat | D50: ='P1'!D50 -> 0 | E50: ='P2'!D50 -> 0 | F50: ='P3'!D50 -> 0 | G50: ='P4'!D50 -> 0 | H50: ='P5'!D50 -> 0 | I50: ='P6'!D50 -> 0 | J50: ='P7'!D50 -> 0 | K50: ='P8'!D50 -> 0 | L50: ='P9'!D50 -> 0 | M50: ='P10'!D50 -> 0 | N50: ='P11'!D50 -> 0 | O50: ='P12'!D50 -> 0 | P50: ='P13'!D50 -> 0 | Q50: =SUM(D50:P50) -> 0 | R50: =Kandidaten!D50 -> 0 | S50: =Q50*R50 -> 0
B51: Aantal begeleidingsuren kandidaat | D51: ='P1'!D51 -> 0 | E51: ='P2'!D51 -> 0 | F51: ='P3'!D51 -> 0 | G51: ='P4'!D51 -> 0 | H51: ='P5'!D51 -> 0 | I51: ='P6'!D51 -> 0 | J51: ='P7'!D51 -> 0 | K51: ='P8'!D51 -> 0 | L51: ='P9'!D51 -> 0 | M51: ='P10'!D51 -> 0 | N51: ='P11'!D51 -> 0 | O51: ='P12'!D51 -> 0 | P51: ='P13'!D51 -> 0 | Q51: =SUM(D51:P51) -> 0 | R51: =Kandidaten!D51 -> 0 | S51: =Q51*R51 -> 0
B52: Bijkomende kosten kadidaat (per uur) | R52: =Kandidaten!D52 -> 0 | S52: =Q50*R52 -> 0
B53: Bijkomende kosten per periode | R53: =Kandidaten!D53 -> 0 | S53: =R53 -> 0
B54: Gemiddels aantal uren/dag | D54: =IF(D$5=0,"",D50/D$5) | E54: =IF(E$5=0,"",E50/E$5) | F54: =IF(F$5=0,"",F50/F$5) | G54: =IF(G$5=0,"",G50/G$5) | H54: =IF(H$5=0,"",H50/H$5) | I54: =IF(I$5=0,"",I50/I$5) | J54: =IF(J$5=0,"",J50/J$5) | K54: =IF(K$5=0,"",K50/K$5) | ... P54: =IF(P$5=0,"",P50/P$5) | R54: Toale SROI-waarde P1 t/m P13: | T54: =SUM(S50:S53) -> 0
B56: Kandidaat | C56: =C49+1 -> 8 | D56: Uren Periode 1 | E56: Uren Periode 2 | F56: Uren Periode 3 | G56: Uren Periode 4 | H56: Uren Periode 5 | I56: Uren Periode 6 | J56: Uren Periode 7 | K56: Uren Periode 8 | L56: Uren Periode 9 | M56: Uren Periode 10 | N56: Uren Periode 11 | O56: Uren Periode 12 | P56: Uren Periode 13 | Q56: Totalen | R56: Overeengekomen tariefwaarde in € | S56: SROI-waarde | T56: Totaal
B57: Aantal gewerkte uren kandidaat | D57: ='P1'!D57 -> 0 | E57: ='P2'!D57 -> 0 | F57: ='P3'!D57 -> 0 | G57: ='P4'!D57 -> 0 | H57: ='P5'!D57 -> 0 | I57: ='P6'!D57 -> 0 | J57: ='P7'!D57 -> 0 | K57: ='P8'!D57 -> 0 | L57: ='P9'!D57 -> 0 | M57: ='P10'!D57 -> 0 | N57: ='P11'!D57 -> 0 | O57: ='P12'!D57 -> 0 | P57: ='P13'!D57 -> 0 | Q57: =SUM(D57:P57) -> 0 | R57: =Kandidaten!D57 -> 0 | S57: =Q57*R57 -> 0
B58: Aantal begeleidingsuren kandidaat | D58: ='P1'!D58 -> 0 | E58: ='P2'!D58 -> 0 | F58: ='P3'!D58 -> 0 | G58: ='P4'!D58 -> 0 | H58: ='P5'!D58 -> 0 | I58: ='P6'!D58 -> 0 | J58: ='P7'!D58 -> 0 | K58: ='P8'!D58 -> 0 | L58: ='P9'!D58 -> 0 | M58: ='P10'!D58 -> 0 | N58: ='P11'!D58 -> 0 | O58: ='P12'!D58 -> 0 | P58: ='P13'!D58 -> 0 | Q58: =SUM(D58:P58) -> 0 | R58: =Kandidaten!D58 -> 0 | S58: =Q58*R58 -> 0
B59: Bijkomende kosten kadidaat (per uur) | R59: =Kandidaten!D59 -> 0 | S59: =Q57*R59 -> 0
B60: Bijkomende kosten per periode | R60: =Kandidaten!D60 -> 0 | S60: =R60 -> 0
B61: Gemiddels aantal uren/dag | D61: =IF(D$5=0,"",D57/D$5) | E61: =IF(E$5=0,"",E57/E$5) | F61: =IF(F$5=0,"",F57/F$5) | G61: =IF(G$5=0,"",G57/G$5) | H61: =IF(H$5=0,"",H57/H$5) | I61: =IF(I$5=0,"",I57/I$5) | J61: =IF(J$5=0,"",J57/J$5) | K61: =IF(K$5=0,"",K57/K$5) | ... P61: =IF(P$5=0,"",P57/P$5) | R61: Toale SROI-waarde P1 t/m P13: | T61: =SUM(S57:S60) -> 0
B63: Kandidaat | C63: =C56+1 -> 9 | D63: Uren Periode 1 | E63: Uren Periode 2 | F63: Uren Periode 3 | G63: Uren Periode 4 | H63: Uren Periode 5 | I63: Uren Periode 6 | J63: Uren Periode 7 | K63: Uren Periode 8 | L63: Uren Periode 9 | M63: Uren Periode 10 | N63: Uren Periode 11 | O63: Uren Periode 12 | P63: Uren Periode 13 | Q63: Totalen | R63: Overeengekomen tariefwaarde in € | S63: SROI-waarde | T63: Totaal
B64: Aantal gewerkte uren kandidaat | D64: ='P1'!D64 -> 0 | E64: ='P2'!D64 -> 0 | F64: ='P3'!D64 -> 0 | G64: ='P4'!D64 -> 0 | H64: ='P5'!D64 -> 0 | I64: ='P6'!D64 -> 0 | J64: ='P7'!D64 -> 0 | K64: ='P8'!D64 -> 0 | L64: ='P9'!D64 -> 0 | M64: ='P10'!D64 -> 0 | N64: ='P11'!D64 -> 0 | O64: ='P12'!D64 -> 0 | P64: ='P13'!D64 -> 0 | Q64: =SUM(D64:P64) -> 0 | R64: =Kandidaten!D64 -> 0 | S64: =Q64*R64 -> 0
B65: Aantal begeleidingsuren kandidaat | D65: ='P1'!D65 -> 0 | E65: ='P2'!D65 -> 0 | F65: ='P3'!D65 -> 0 | G65: ='P4'!D65 -> 0 | H65: ='P5'!D65 -> 0 | I65: ='P6'!D65 -> 0 | J65: ='P7'!D65 -> 0 | K65: ='P8'!D65 -> 0 | L65: ='P9'!D65 -> 0 | M65: ='P10'!D65 -> 0 | N65: ='P11'!D65 -> 0 | O65: ='P12'!D65 -> 0 | P65: ='P13'!D65 -> 0 | Q65: =SUM(D65:P65) -> 0 | R65: =Kandidaten!D65 -> 0 | S65: =Q65*R65 -> 0
B66: Bijkomende kosten kadidaat (per uur) | R66: =Kandidaten!D66 -> 0 | S66: =Q64*R66 -> 0
B67: Bijkomende kosten per periode | R67: =Kandidaten!D67 -> 0 | S67: =R67 -> 0
B68: Gemiddels aantal uren/dag | D68: =IF(D$5=0,"",D64/D$5) | E68: =IF(E$5=0,"",E64/E$5) | F68: =IF(F$5=0,"",F64/F$5) | G68: =IF(G$5=0,"",G64/G$5) | H68: =IF(H$5=0,"",H64/H$5) | I68: =IF(I$5=0,"",I64/I$5) | J68: =IF(J$5=0,"",J64/J$5) | K68: =IF(K$5=0,"",K64/K$5) | ... P68: =IF(P$5=0,"",P64/P$5) | R68: Toale SROI-waarde P1 t/m P13: | T68: =SUM(S64:S67) -> 0
B70: Kandidaat | C70: =C63+1 -> 10 | D70: Uren Periode 1 | E70: Uren Periode 2 | F70: Uren Periode 3 | G70: Uren Periode 4 | H70: Uren Periode 5 | I70: Uren Periode 6 | J70: Uren Periode 7 | K70: Uren Periode 8 | L70: Uren Periode 9 | M70: Uren Periode 10 | N70: Uren Periode 11 | O70: Uren Periode 12 | P70: Uren Periode 13 | Q70: Totalen | R70: Overeengekomen tariefwaarde in € | S70: SROI-waarde | T70: Totaal
B71: Aantal gewerkte uren kandidaat | D71: ='P1'!D71 -> 0 | E71: ='P2'!D71 -> 0 | F71: ='P3'!D71 -> 0 | G71: ='P4'!D71 -> 0 | H71: ='P5'!D71 -> 0 | I71: ='P6'!D71 -> 0 | J71: ='P7'!D71 -> 0 | K71: ='P8'!D71 -> 0 | L71: ='P9'!D71 -> 0 | M71: ='P10'!D71 -> 0 | N71: ='P11'!D71 -> 0 | O71: ='P12'!D71 -> 0 | P71: ='P13'!D71 -> 0 | Q71: =SUM(D71:P71) -> 0 | R71: =Kandidaten!D71 -> 0 | S71: =Q71*R71 -> 0
B72: Aantal begeleidingsuren kandidaat | D72: ='P1'!D72 -> 0 | E72: ='P2'!D72 -> 0 | F72: ='P3'!D72 -> 0 | G72: ='P4'!D72 -> 0 | H72: ='P5'!D72 -> 0 | I72: ='P6'!D72 -> 0 | J72: ='P7'!D72 -> 0 | K72: ='P8'!D72 -> 0 | L72: ='P9'!D72 -> 0 | M72: ='P10'!D72 -> 0 | N72: ='P11'!D72 -> 0 | O72: ='P12'!D72 -> 0 | P72: ='P13'!D72 -> 0 | Q72: =SUM(D72:P72) -> 0 | R72: =Kandidaten!D72 -> 0 | S72: =Q72*R72 -> 0
B73: Bijkomende kosten kadidaat (per uur) | R73: =Kandidaten!D73 -> 0 | S73: =Q71*R73 -> 0
B74: Bijkomende kosten per periode | R74: =Kandidaten!D74 -> 0 | S74: =R74 -> 0
B75: Gemiddels aantal uren/dag | D75: =IF(D$5=0,"",D71/D$5) | E75: =IF(E$5=0,"",E71/E$5) | F75: =IF(F$5=0,"",F71/F$5) | G75: =IF(G$5=0,"",G71/G$5) | H75: =IF(H$5=0,"",H71/H$5) | I75: =IF(I$5=0,"",I71/I$5) | J75: =IF(J$5=0,"",J71/J$5) | K75: =IF(K$5=0,"",K71/K$5) | ... P75: =IF(P$5=0,"",P71/P$5) | R75: Toale SROI-waarde P1 t/m P13: | T75: =SUM(S71:S74) -> 0
B77: Kandidaat | C77: =C70+1 -> 11 | D77: Uren Periode 1 | E77: Uren Periode 2 | F77: Uren Periode 3 | G77: Uren Periode 4 | H77: Uren Periode 5 | I77: Uren Periode 6 | J77: Uren Periode 7 | K77: Uren Periode 8 | L77: Uren Periode 9 | M77: Uren Periode 10 | N77: Uren Periode 11 | O77: Uren Periode 12 | P77: Uren Periode 13 | Q77: Totalen | R77: Overeengekomen tariefwaarde in € | S77: SROI-waarde | T77: Totaal
B78: Aantal gewerkte uren kandidaat | D78: ='P1'!D78 -> 0 | E78: ='P2'!D78 -> 0 | F78: ='P3'!D78 -> 0 | G78: ='P4'!D78 -> 0 | H78: ='P5'!D78 -> 0 | I78: ='P6'!D78 -> 0 | J78: ='P7'!D78 -> 0 | K78: ='P8'!D78 -> 0 | L78: ='P9'!D78 -> 0 | M78: ='P10'!D78 -> 0 | N78: ='P11'!D78 -> 0 | O78: ='P12'!D78 -> 0 | P78: ='P13'!D78 -> 0 | Q78: =SUM(D78:P78) -> 0 | R78: =Kandidaten!D78 -> 0 | S78: =Q78*R78 -> 0
B79: Aantal begeleidingsuren kandidaat | D79: ='P1'!D79 -> 0 | E79: ='P2'!D79 -> 0 | F79: ='P3'!D79 -> 0 | G79: ='P4'!D79 -> 0 | H79: ='P5'!D79 -> 0 | I79: ='P6'!D79 -> 0 | J79: ='P7'!D79 -> 0 | K79: ='P8'!D79 -> 0 | L79: ='P9'!D79 -> 0 | M79: ='P10'!D79 -> 0 | N79: ='P11'!D79 -> 0 | O79: ='P12'!D79 -> 0 | P79: ='P13'!D79 -> 0 | Q79: =SUM(D79:P79) -> 0 | R79: =Kandidaten!D79 -> 0 | S79: =Q79*R79 -> 0
B80: Bijkomende kosten kadidaat (per uur) | R80: =Kandidaten!D80 -> 0 | S80: =Q78*R80 -> 0
B81: Bijkomende kosten per periode | R81: =Kandidaten!D81 -> 0 | S81: =R81 -> 0
B82: Gemiddels aantal uren/dag | D82: =IF(D$5=0,"",D78/D$5) | E82: =IF(E$5=0,"",E78/E$5) | F82: =IF(F$5=0,"",F78/F$5) | G82: =IF(G$5=0,"",G78/G$5) | H82: =IF(H$5=0,"",H78/H$5) | I82: =IF(I$5=0,"",I78/I$5) | J82: =IF(J$5=0,"",J78/J$5) | K82: =IF(K$5=0,"",K78/K$5) | ... P82: =IF(P$5=0,"",P78/P$5) | R82: Toale SROI-waarde P1 t/m P13: | T82: =SUM(S78:S81) -> 0
B84: Kandidaat | C84: =C77+1 -> 12 | D84: Uren Periode 1 | E84: Uren Periode 2 | F84: Uren Periode 3 | G84: Uren Periode 4 | H84: Uren Periode 5 | I84: Uren Periode 6 | J84: Uren Periode 7 | K84: Uren Periode 8 | L84: Uren Periode 9 | M84: Uren Periode 10 | N84: Uren Periode 11 | O84: Uren Periode 12 | P84: Uren Periode 13 | Q84: Totalen | R84: Overeengekomen tariefwaarde in € | S84: SROI-waarde | T84: Totaal
B85: Aantal gewerkte uren kandidaat | D85: ='P1'!D85 -> 0 | E85: ='P2'!D85 -> 0 | F85: ='P3'!D85 -> 0 | G85: ='P4'!D85 -> 0 | H85: ='P5'!D85 -> 0 | I85: ='P6'!D85 -> 0 | J85: ='P7'!D85 -> 0 | K85: ='P8'!D85 -> 0 | L85: ='P9'!D85 -> 0 | M85: ='P10'!D85 -> 0 | N85: ='P11'!D85 -> 0 | O85: ='P12'!D85 -> 0 | P85: ='P13'!D85 -> 0 | Q85: =SUM(D85:P85) -> 0 | R85: =Kandidaten!D85 -> 0 | S85: =Q85*R85 -> 0
B86: Aantal begeleidingsuren kandidaat | D86: ='P1'!D86 -> 0 | E86: ='P2'!D86 -> 0 | F86: ='P3'!D86 -> 0 | G86: ='P4'!D86 -> 0 | H86: ='P5'!D86 -> 0 | I86: ='P6'!D86 -> 0 | J86: ='P7'!D86 -> 0 | K86: ='P8'!D86 -> 0 | L86: ='P9'!D86 -> 0 | M86: ='P10'!D86 -> 0 | N86: ='P11'!D86 -> 0 | O86: ='P12'!D86 -> 0 | P86: ='P13'!D86 -> 0 | Q86: =SUM(D86:P86) -> 0 | R86: =Kandidaten!D86 -> 0 | S86: =Q86*R86 -> 0
B87: Bijkomende kosten kadidaat (per uur) | R87: =Kandidaten!D87 -> 0 | S87: =Q85*R87 -> 0
B88: Bijkomende kosten per periode | R88: =Kandidaten!D88 -> 0 | S88: =R88 -> 0
B89: Gemiddels aantal uren/dag | D89: =IF(D$5=0,"",D85/D$5) | E89: =IF(E$5=0,"",E85/E$5) | F89: =IF(F$5=0,"",F85/F$5) | G89: =IF(G$5=0,"",G85/G$5) | H89: =IF(H$5=0,"",H85/H$5) | I89: =IF(I$5=0,"",I85/I$5) | J89: =IF(J$5=0,"",J85/J$5) | K89: =IF(K$5=0,"",K85/K$5) | ... P89: =IF(P$5=0,"",P85/P$5) | R89: Toale SROI-waarde P1 t/m P13: | T89: =SUM(S85:S88) -> 0
B91: Kandidaat | C91: =C84+1 -> 13 | D91: Uren Periode 1 | E91: Uren Periode 2 | F91: Uren Periode 3 | G91: Uren Periode 4 | H91: Uren Periode 5 | I91: Uren Periode 6 | J91: Uren Periode 7 | K91: Uren Periode 8 | L91: Uren Periode 9 | M91: Uren Periode 10 | N91: Uren Periode 11 | O91: Uren Periode 12 | P91: Uren Periode 13 | Q91: Totalen | R91: Overeengekomen tariefwaarde in € | S91: SROI-waarde | T91: Totaal
B92: Aantal gewerkte uren kandidaat | D92: ='P1'!D92 -> 0 | E92: ='P2'!D92 -> 0 | F92: ='P3'!D92 -> 0 | G92: ='P4'!D92 -> 0 | H92: ='P5'!D92 -> 0 | I92: ='P6'!D92 -> 0 | J92: ='P7'!D92 -> 0 | K92: ='P8'!D92 -> 0 | L92: ='P9'!D92 -> 0 | M92: ='P10'!D92 -> 0 | N92: ='P11'!D92 -> 0 | O92: ='P12'!D92 -> 0 | P92: ='P13'!D92 -> 0 | Q92: =SUM(D92:P92) -> 0 | R92: =Kandidaten!D92 -> 0 | S92: =Q92*R92 -> 0
B93: Aantal begeleidingsuren kandidaat | D93: ='P1'!D93 -> 0 | E93: ='P2'!D93 -> 0 | F93: ='P3'!D93 -> 0 | G93: ='P4'!D93 -> 0 | H93: ='P5'!D93 -> 0 | I93: ='P6'!D93 -> 0 | J93: ='P7'!D93 -> 0 | K93: ='P8'!D93 -> 0 | L93: ='P9'!D93 -> 0 | M93: ='P10'!D93 -> 0 | N93: ='P11'!D93 -> 0 | O93: ='P12'!D93 -> 0 | P93: ='P13'!D93 -> 0 | Q93: =SUM(D93:P93) -> 0 | R93: =Kandidaten!D93 -> 0 | S93: =Q93*R93 -> 0
B94: Bijkomende kosten kadidaat (per uur) | R94: =Kandidaten!D94 -> 0 | S94: =Q92*R94 -> 0
B95: Bijkomende kosten per periode | R95: =Kandidaten!D95 -> 0 | S95: =R95 -> 0
B96: Gemiddels aantal uren/dag | D96: =IF(D$5=0,"",D92/D$5) | E96: =IF(E$5=0,"",E92/E$5) | F96: =IF(F$5=0,"",F92/F$5) | G96: =IF(G$5=0,"",G92/G$5) | H96: =IF(H$5=0,"",H92/H$5) | I96: =IF(I$5=0,"",I92/I$5) | J96: =IF(J$5=0,"",J92/J$5) | K96: =IF(K$5=0,"",K92/K$5) | ... P96: =IF(P$5=0,"",P92/P$5) | R96: Toale SROI-waarde P1 t/m P13: | T96: =SUM(S92:S95) -> 0
B98: Kandidaat | C98: =C91+1 -> 14 | D98: Uren Periode 1 | E98: Uren Periode 2 | F98: Uren Periode 3 | G98: Uren Periode 4 | H98: Uren Periode 5 | I98: Uren Periode 6 | J98: Uren Periode 7 | K98: Uren Periode 8 | L98: Uren Periode 9 | M98: Uren Periode 10 | N98: Uren Periode 11 | O98: Uren Periode 12 | P98: Uren Periode 13 | Q98: Totalen | R98: Overeengekomen tariefwaarde in € | S98: SROI-waarde | T98: Totaal
B99: Aantal gewerkte uren kandidaat | D99: ='P1'!D99 -> 0 | E99: ='P2'!D99 -> 0 | F99: ='P3'!D99 -> 0 | G99: ='P4'!D99 -> 0 | H99: ='P5'!D99 -> 0 | I99: ='P6'!D99 -> 0 | J99: ='P7'!D99 -> 0 | K99: ='P8'!D99 -> 0 | L99: ='P9'!D99 -> 0 | M99: ='P10'!D99 -> 0 | N99: ='P11'!D99 -> 0 | O99: ='P12'!D99 -> 0 | P99: ='P13'!D99 -> 0 | Q99: =SUM(D99:P99) -> 0 | R99: =Kandidaten!D99 -> 0 | S99: =Q99*R99 -> 0
B100: Aantal begeleidingsuren kandidaat | D100: ='P1'!D100 -> 0 | E100: ='P2'!D100 -> 0 | F100: ='P3'!D100 -> 0 | G100: ='P4'!D100 -> 0 | H100: ='P5'!D100 -> 0 | I100: ='P6'!D100 -> 0 | J100: ='P7'!D100 -> 0 | K100: ='P8'!D100 -> 0 | L100: ='P9'!D100 -> 0 | M100: ='P10'!D100 -> 0 | N100: ='P11'!D100 -> 0 | O100: ='P12'!D100 -> 0 | P100: ='P13'!D100 -> 0 | Q100: =SUM(D100:P100) -> 0 | R100: =Kandidaten!D100 -> 0 | S100: =Q100*R100 -> 0
B101: Bijkomende kosten kadidaat (per uur) | R101: =Kandidaten!D101 -> 0 | S101: =Q99*R101 -> 0
B102: Bijkomende kosten per periode | R102: =Kandidaten!D102 -> 0 | S102: =R102 -> 0
B103: Gemiddels aantal uren/dag | D103: =IF(D$5=0,"",D99/D$5) | E103: =IF(E$5=0,"",E99/E$5) | F103: =IF(F$5=0,"",F99/F$5) | G103: =IF(G$5=0,"",G99/G$5) | H103: =IF(H$5=0,"",H99/H$5) | I103: =IF(I$5=0,"",I99/I$5) | J103: =IF(J$5=0,"",J99/J$5) | K103: =IF(K$5=0,"",K99/K$5) | ... P103: =IF(P$5=0,"",P99/P$5) | R103: Toale SROI-waarde P1 t/m P13: | T103: =SUM(S99:S102) -> 0
B105: Kandidaat | C105: =C98+1 -> 15 | D105: Uren Periode 1 | E105: Uren Periode 2 | F105: Uren Periode 3 | G105: Uren Periode 4 | H105: Uren Periode 5 | I105: Uren Periode 6 | J105: Uren Periode 7 | K105: Uren Periode 8 | L105: Uren Periode 9 | M105: Uren Periode 10 | N105: Uren Periode 11 | O105: Uren Periode 12 | P105: Uren Periode 13 | Q105: Totalen | R105: Overeengekomen tariefwaarde in € | S105: SROI-waarde | T105: Totaal
B106: Aantal gewerkte uren kandidaat | D106: ='P1'!D106 -> 0 | E106: ='P2'!D106 -> 0 | F106: ='P3'!D106 -> 0 | G106: ='P4'!D106 -> 0 | H106: ='P5'!D106 -> 0 | I106: ='P6'!D106 -> 0 | J106: ='P7'!D106 -> 0 | K106: ='P8'!D106 -> 0 | L106: ='P9'!D106 -> 0 | M106: ='P10'!D106 -> 0 | N106: ='P11'!D106 -> 0 | O106: ='P12'!D106 -> 0 | P106: ='P13'!D106 -> 0 | Q106: =SUM(D106:P106) -> 0 | R106: =Kandidaten!D106 -> 0 | S106: =Q106*R106 -> 0
B107: Aantal begeleidingsuren kandidaat | D107: ='P1'!D107 -> 0 | E107: ='P2'!D107 -> 0 | F107: ='P3'!D107 -> 0 | G107: ='P4'!D107 -> 0 | H107: ='P5'!D107 -> 0 | I107: ='P6'!D107 -> 0 | J107: ='P7'!D107 -> 0 | K107: ='P8'!D107 -> 0 | L107: ='P9'!D107 -> 0 | M107: ='P10'!D107 -> 0 | N107: ='P11'!D107 -> 0 | O107: ='P12'!D107 -> 0 | P107: ='P13'!D107 -> 0 | Q107: =SUM(D107:P107) -> 0 | R107: =Kandidaten!D107 -> 0 | S107: =Q107*R107 -> 0
B108: Bijkomende kosten kadidaat (per uur) | R108: =Kandidaten!D108 -> 0 | S108: =Q106*R108 -> 0
B109: Bijkomende kosten per periode | R109: =Kandidaten!D109 -> 0 | S109: =R109 -> 0
B110: Gemiddels aantal uren/dag | D110: =IF(D$5=0,"",D106/D$5) | E110: =IF(E$5=0,"",E106/E$5) | F110: =IF(F$5=0,"",F106/F$5) | G110: =IF(G$5=0,"",G106/G$5) | H110: =IF(H$5=0,"",H106/H$5) | I110: =IF(I$5=0,"",I106/I$5) | J110: =IF(J$5=0,"",J106/J$5) | K110: =IF(K$5=0,"",K106/K$5) | ... P110: =IF(P$5=0,"",P106/P$5) | R110: Toale SROI-waarde P1 t/m P13: | T110: =SUM(S106:S109) -> 0
B112: Kandidaat | C112: =C105+1 -> 16 | D112: Uren Periode 1 | E112: Uren Periode 2 | F112: Uren Periode 3 | G112: Uren Periode 4 | H112: Uren Periode 5 | I112: Uren Periode 6 | J112: Uren Periode 7 | K112: Uren Periode 8 | L112: Uren Periode 9 | M112: Uren Periode 10 | N112: Uren Periode 11 | O112: Uren Periode 12 | P112: Uren Periode 13 | Q112: Totalen | R112: Overeengekomen tariefwaarde in € | S112: SROI-waarde | T112: Totaal
B113: Aantal gewerkte uren kandidaat | D113: ='P1'!D113 -> 0 | E113: ='P2'!D113 -> 0 | F113: ='P3'!D113 -> 0 | G113: ='P4'!D113 -> 0 | H113: ='P5'!D113 -> 0 | I113: ='P6'!D113 -> 0 | J113: ='P7'!D113 -> 0 | K113: ='P8'!D113 -> 0 | L113: ='P9'!D113 -> 0 | M113: ='P10'!D113 -> 0 | N113: ='P11'!D113 -> 0 | O113: ='P12'!D113 -> 0 | P113: ='P13'!D113 -> 0 | Q113: =SUM(D113:P113) -> 0 | R113: =Kandidaten!D113 -> 0 | S113: =Q113*R113 -> 0
B114: Aantal begeleidingsuren kandidaat | D114: ='P1'!D114 -> 0 | E114: ='P2'!D114 -> 0 | F114: ='P3'!D114 -> 0 | G114: ='P4'!D114 -> 0 | H114: ='P5'!D114 -> 0 | I114: ='P6'!D114 -> 0 | J114: ='P7'!D114 -> 0 | K114: ='P8'!D114 -> 0 | L114: ='P9'!D114 -> 0 | M114: ='P10'!D114 -> 0 | N114: ='P11'!D114 -> 0 | O114: ='P12'!D114 -> 0 | P114: ='P13'!D114 -> 0 | Q114: =SUM(D114:P114) -> 0 | R114: =Kandidaten!D114 -> 0 | S114: =Q114*R114 -> 0
B115: Bijkomende kosten kadidaat (per uur) | R115: =Kandidaten!D115 -> 0 | S115: =Q113*R115 -> 0
B116: Bijkomende kosten per periode | R116: =Kandidaten!D116 -> 0 | S116: =R116 -> 0
B117: Gemiddels aantal uren/dag | D117: =IF(D$5=0,"",D113/D$5) | E117: =IF(E$5=0,"",E113/E$5) | F117: =IF(F$5=0,"",F113/F$5) | G117: =IF(G$5=0,"",G113/G$5) | H117: =IF(H$5=0,"",H113/H$5) | I117: =IF(I$5=0,"",I113/I$5) | J117: =IF(J$5=0,"",J113/J$5) | K117: =IF(K$5=0,"",K113/K$5) | ... P117: =IF(P$5=0,"",P113/P$5) | R117: Toale SROI-waarde P1 t/m P13: | T117: =SUM(S113:S116) -> 0
B119: Kandidaat | C119: =C112+1 -> 17 | D119: Uren Periode 1 | E119: Uren Periode 2 | F119: Uren Periode 3 | G119: Uren Periode 4 | H119: Uren Periode 5 | I119: Uren Periode 6 | J119: Uren Periode 7 | K119: Uren Periode 8 | L119: Uren Periode 9 | M119: Uren Periode 10 | N119: Uren Periode 11 | O119: Uren Periode 12 | P119: Uren Periode 13 | Q119: Totalen | R119: Overeengekomen tariefwaarde in € | S119: SROI-waarde | T119: Totaal
...

Sheet Kandidaten
B2: Overeengekomen waarden | F2: Invul instructie | H2: Gegevens
B3: Tarieven en kosten kandidaten | F3: Vul (eenmalig) alleen de witte cellen in (waar van toepassing). | H3: Kandidaten
F4: Alle waarden moeten zijn overeengekomen met de opdrachtgever.
B7: Kandidaat | C7: 1 | D7: Overeengekomen waarde in € | F7: Eventuele opmerkingen bij mutaties t.o.v. vorige rapportage. Alleen in te vullen als dit met opdrachtgever is overeengekomen. | H7: Kenmerk kandidaat | I7: xxxx
B8: Uurtarief kandidaat | H8: Geboortedatum
B9: Uurtarief begeleiding kandidaat | H9: Woonplaats
B10: Bijkomende kosten kadidaat (per uur) | H10: Soort uitkering of stageopleiding
B11: Bijkomende kosten per periode | H11: Startdatum inzet
H12: Beoogde einddatum inzet
B14: Kandidaat | C14: =C7+1 -> 2 | D14: Overeengekomen waarde in € | F14: Eventuele opmerkingen bij mutaties t.o.v. vorige rapportage. Alleen in te vullen als dit met opdrachtgever is overeengekomen. | H14: Kenmerk kandidaat | I14: xxxx
B15: Uurtarief kandidaat | H15: Geboortedatum
B16: Uurtarief begeleiding kandidaat | H16: Woonplaats
B17: Bijkomende kosten kadidaat (per uur) | H17: Soort uitkering of stageopleiding
B18: Bijkomende kosten per periode | H18: Startdatum inzet
H19: Beoogde einddatum inzet
B21: Kandidaat | C21: =C14+1 -> 3 | D21: Overeengekomen waarde in € | F21: Eventuele opmerkingen bij mutaties t.o.v. vorige rapportage. Alleen in te vullen als dit met opdrachtgever is overeengekomen. | H21: Kenmerk kandidaat | I21: xxxx
B22: Uurtarief kandidaat | H22: Geboortedatum
B23: Uurtarief begeleiding kandidaat | H23: Woonplaats
B24: Bijkomende kosten kadidaat (per uur) | H24: Soort uitkering of stageopleiding
B25: Bijkomende kosten per periode | H25: Startdatum inzet
H26: Beoogde einddatum inzet
B28: Kandidaat | C28: =C21+1 -> 4 | D28: Overeengekomen waarde in € | F28: Eventuele opmerkingen bij mutaties t.o.v. vorige rapportage. Alleen in te vullen als dit met opdrachtgever is overeengekomen. | H28: Kenmerk kandidaat | I28: xxxx
B29: Uurtarief kandidaat | H29: Geboortedatum
B30: Uurtarief begeleiding kandidaat | H30: Woonplaats
B31: Bijkomende kosten kadidaat (per uur) | H31: Soort uitkering of stageopleiding
B32: Bijkomende kosten per periode | H32: Startdatum inzet
H33: Beoogde einddatum inzet
B35: Kandidaat | C35: =C28+1 -> 5 | D35: Overeengekomen waarde in € | F35: Eventuele opmerkingen bij mutaties t.o.v. vorige rapportage. Alleen in te vullen als dit met opdrachtgever is overeengekomen. | H35: Kenmerk kandidaat | I35: xxxx
B36: Uurtarief kandidaat | H36: Geboortedatum
B37: Uurtarief begeleiding kandidaat | H37: Woonplaats
B38: Bijkomende kosten kadidaat (per uur) | H38: Soort uitkering of stageopleiding
B39: Bijkomende kosten per periode | H39: Startdatum inzet
H40: Beoogde einddatum inzet
B42: Kandidaat | C42: =C35+1 -> 6 | D42: Overeengekomen waarde in € | F42: Eventuele opmerkingen bij mutaties t.o.v. vorige rapportage. Alleen in te vullen als dit met opdrachtgever is overeengekomen. | H42: Kenmerk kandidaat | I42: xxxx
B43: Uurtarief kandidaat | H43: Geboortedatum
B44: Uurtarief begeleiding kandidaat | H44: Woonplaats
B45: Bijkomende kosten kadidaat (per uur) | H45: Soort uitkering of stageopleiding
B46: Bijkomende kosten per periode | H46: Startdatum inzet
H47: Beoogde einddatum inzet
B49: Kandidaat | C49: =C42+1 -> 7 | D49: Overeengekomen waarde in € | F49: Eventuele opmerkingen bij mutaties t.o.v. vorige rapportage. Alleen in te vullen als dit met opdrachtgever is overeengekomen. | H49: Kenmerk kandidaat | I49: xxxx
B50: Uurtarief kandidaat | H50: Geboortedatum
B51: Uurtarief begeleiding kandidaat | H51: Woonplaats
B52: Bijkomende kosten kadidaat (per uur) | H52: Soort uitkering of stageopleiding
B53: Bijkomende kosten per periode | H53: Startdatum inzet
H54: Beoogde einddatum inzet
B56: Kandidaat | C56: =C49+1 -> 8 | D56: Overeengekomen waarde in € | F56: Eventuele opmerkingen bij mutaties t.o.v. vorige rapportage. Alleen in te vullen als dit met opdrachtgever is overeengekomen. | H56: Kenmerk kandidaat | I56: xxxx
B57: Uurtarief kandidaat | H57: Geboortedatum
B58: Uurtarief begeleiding kandidaat | H58: Woonplaats
B59: Bijkomende kosten kadidaat (per uur) | H59: Soort uitkering of stageopleiding
B60: Bijkomende kosten per periode | H60: Startdatum inzet
H61: Beoogde einddatum inzet
B63: Kandidaat | C63: =C56+1 -> 9 | D63: Overeengekomen waarde in € | F63: Eventuele opmerkingen bij mutaties t.o.v. vorige rapportage. Alleen in te vullen als dit met opdrachtgever is overeengekomen. | H63: Kenmerk kandidaat | I63: xxxx
B64: Uurtarief kandidaat | H64: Geboortedatum
B65: Uurtarief begeleiding kandidaat | H65: Woonplaats
B66: Bijkomende kosten kadidaat (per uur) | H66: Soort uitkering of stageopleiding
B67: Bijkomende kosten per periode | H67: Startdatum inzet
H68: Beoogde einddatum inzet
B70: Kandidaat | C70: =C63+1 -> 10 | D70: Overeengekomen waarde in € | F70: Eventuele opmerkingen bij mutaties t.o.v. vorige rapportage. Alleen in te vullen als dit met opdrachtgever is overeengekomen. | H70: Kenmerk kandidaat | I70: xxxx
B71: Uurtarief kandidaat | H71: Geboortedatum
B72: Uurtarief begeleiding kandidaat | H72: Woonplaats
B73: Bijkomende kosten kadidaat (per uur) | H73: Soort uitkering of stageopleiding
B74: Bijkomende kosten per periode | H74: Startdatum inzet
H75: Beoogde einddatum inzet
B77: Kandidaat | C77: =C70+1 -> 11 | D77: Overeengekomen waarde in € | F77: Eventuele opmerkingen bij mutaties t.o.v. vorige rapportage. Alleen in te vullen als dit met opdrachtgever is overeengekomen. | H77: Kenmerk kandidaat | I77: xxxx
B78: Uurtarief kandidaat | H78: Geboortedatum
B79: Uurtarief begeleiding kandidaat | H79: Woonplaats
B80: Bijkomende kosten kadidaat (per uur) | H80: Soort uitkering of stageopleiding
B81: Bijkomende kosten per periode | H81: Startdatum inzet
H82: Beoogde einddatum inzet
B84: Kandidaat | C84: =C77+1 -> 12 | D84: Overeengekomen waarde in € | F84: Eventuele opmerkingen bij mutaties t.o.v. vorige rapportage. Alleen in te vullen als dit met opdrachtgever is overeengekomen. | H84: Kenmerk kandidaat | I84: xxxx
B85: Uurtarief kandidaat | H85: Geboortedatum
B86: Uurtarief begeleiding kandidaat | H86: Woonplaats
B87: Bijkomende kosten kadidaat (per uur) | H87: Soort uitkering of stageopleiding
B88: Bijkomende kosten per periode | H88: Startdatum inzet
H89: Beoogde einddatum inzet
B91: Kandidaat | C91: =C84+1 -> 13 | D91: Overeengekomen waarde in € | F91: Eventuele opmerkingen bij mutaties t.o.v. vorige rapportage. Alleen in te vullen als dit met opdrachtgever is overeengekomen. | H91: Kenmerk kandidaat | I91: xxxx
B92: Uurtarief kandidaat | H92: Geboortedatum
B93: Uurtarief begeleiding kandidaat | H93: Woonplaats
B94: Bijkomende kosten kadidaat (per uur) | H94: Soort uitkering of stageopleiding
B95: Bijkomende kosten per periode | H95: Startdatum inzet
H96: Beoogde einddatum inzet
B98: Kandidaat | C98: =C91+1 -> 14 | D98: Overeengekomen waarde in € | F98: Eventuele opmerkingen bij mutaties t.o.v. vorige rapportage. Alleen in te vullen als dit met opdrachtgever is overeengekomen. | H98: Kenmerk kandidaat | I98: xxxx
B99: Uurtarief kandidaat | H99: Geboortedatum
B100: Uurtarief begeleiding kandidaat | H100: Woonplaats
B101: Bijkomende kosten kadidaat (per uur) | H101: Soort uitkering of stageopleiding
B102: Bijkomende kosten per periode | H102: Startdatum inzet
H103: Beoogde einddatum inzet
B105: Kandidaat | C105: =C98+1 -> 15 | D105: Overeengekomen waarde in € | F105: Eventuele opmerkingen bij mutaties t.o.v. vorige rapportage. Alleen in te vullen als dit met opdrachtgever is overeengekomen. | H105: Kenmerk kandidaat | I105: xxxx
B106: Uurtarief kandidaat | H106: Geboortedatum
B107: Uurtarief begeleiding kandidaat | H107: Woonplaats
B108: Bijkomende kosten kadidaat (per uur) | H108: Soort uitkering of stageopleiding
B109: Bijkomende kosten per periode | H109: Startdatum inzet
H110: Beoogde einddatum inzet
B112: Kandidaat | C112: =C105+1 -> 16 | D112: Overeengekomen waarde in € | F112: Eventuele opmerkingen bij mutaties t.o.v. vorige rapportage. Alleen in te vullen als dit met opdrachtgever is overeengekomen. | H112: Kenmerk kandidaat | I112: xxxx
B113: Uurtarief kandidaat | H113: Geboortedatum
B114: Uurtarief begeleiding kandidaat | H114: Woonplaats
B115: Bijkomende kosten kadidaat (per uur) | H115: Soort uitkering of stageopleiding
B116: Bijkomende kosten per periode | H116: Startdatum inzet
H117: Beoogde einddatum inzet
B119: Kandidaat | C119: =C112+1 -> 17 | D119: Overeengekomen waarde in € | F119: Eventuele opmerkingen bij mutaties t.o.v. vorige rapportage. Alleen in te vullen als dit met opdrachtgever is overeengekomen. | H119: Kenmerk kandidaat | I119: xxxx
...

Sheet P1
B2: PERIODE 1 | F2: Periode | I2: Invul instructie
E3: Startdatum: | G3: xx-xx-xx | I3: Vul alleen de witte cellen in (waar van toepassing).
B4: Vul alleen de witte cellen in | E4: Einddatum: | G4: xx-xx-xx | I4: De waarde in de categorie "Overig" kan alleen worden ingevuld als dat met
E5: Aantal werkdagen: | I5: de opdrachtgever is overeengekomen (bijvoorbeeld sociaal inkopen, of een bonus) .
B7: Kandidaat | C7: 1 | D7: Uren | E7: Overeengekomen tariefwaarde in € | F7: SROI-waarde | G7: Totaal | I7: Categorie "Overig" (niet kandidaat gebonden)
B8: Aantal gewerkte uren kandidaat | E8: =Kandidaten!D8 -> 0 | F8: =D8*E8 -> 0 | I8: Overeengekomen extra gerealiseerde waarde in de deze periode in €
B9: Aantal begeleidingsuren kandidaat | E9: =Kandidaten!D9 -> 0 | F9: =D9*E9 -> 0 | I9: Omschrijving SROI-inzet categorie "Overig":
B10: Bijkomende kosten kadidaat (per uur) | E10: =Kandidaten!D10 -> 0 | F10: =D8*E10 -> 0
B11: Bijkomende kosten per periode | E11: =Kandidaten!D11 -> 0 | F11: =IF(D8>0,E11,0) -> 0
B12: Totaal SROI-waarde kandidaat deze periode | G12: =SUM(F8:F11) -> 0
B14: Kandidaat | C14: =C7+1 -> 2 | D14: Uren | E14: Overeengekomen tariefwaarde in € | F14: SROI-waarde | G14: Totaal | I14: Totaal gerealiseerde waarde deze periode
B15: Aantal gewerkte uren kandidaat | E15: =Kandidaten!D15 -> 0 | F15: =D15*E15 -> 0 | I15: Kandidaten | J15: =SUM(G7:G355) -> 0
B16: Aantal begeleidingsuren kandidaat | E16: =Kandidaten!D16 -> 0 | F16: =D16*E16 -> 0 | I16: Overig | J16: =J8 -> 0
B17: Bijkomende kosten kadidaat (per uur) | E17: =Kandidaten!D17 -> 0 | F17: =D15*E17 -> 0
B18: Bijkomende kosten per periode | E18: =Kandidaten!D18 -> 0 | F18: =IF(D15>0,E18,0) -> 0
B19: Totaal SROI-waarde kandidaat deze periode | G19: =SUM(F15:F18) -> 0 | I19: Totaal | J19: =J15+J16 -> 0
B21: Kandidaat | C21: =C14+1 -> 3 | D21: Uren | E21: Overeengekomen tariefwaarde in € | F21: SROI-waarde | G21: Totaal
B22: Aantal gewerkte uren kandidaat | E22: =Kandidaten!D22 -> 0 | F22: =D22*E22 -> 0
B23: Aantal begeleidingsuren kandidaat | E23: =Kandidaten!D23 -> 0 | F23: =D23*E23 -> 0
B24: Bijkomende kosten kadidaat (per uur) | E24: =Kandidaten!D24 -> 0 | F24: =D22*E24 -> 0
B25: Bijkomende kosten per periode | E25: =Kandidaten!D25 -> 0 | F25: =IF(D22>0,E25,0) -> 0
B26: Totaal SROI-waarde kandidaat deze periode | G26: =SUM(F22:F25) -> 0
B28: Kandidaat | C28: =C21+1 -> 4 | D28: Uren | E28: Overeengekomen tariefwaarde in € | F28: SROI-waarde | G28: Totaal
B29: Aantal gewerkte uren kandidaat | E29: =Kandidaten!D29 -> 0 | F29: =D29*E29 -> 0
B30: Aantal begeleidingsuren kandidaat | E30: =Kandidaten!D30 -> 0 | F30: =D30*E30 -> 0
B31: Bijkomende kosten kadidaat (per uur) | E31: =Kandidaten!D31 -> 0 | F31: =D29*E31 -> 0
B32: Bijkomende kosten per periode | E32: =Kandidaten!D32 -> 0 | F32: =IF(D29>0,E32,0) -> 0
B33: Totaal SROI-waarde kandidaat deze periode | G33: =SUM(F29:F32) -> 0
B35: Kandidaat | C35: =C28+1 -> 5 | D35: Uren | E35: Overeengekomen tariefwaarde in € | F35: SROI-waarde | G35: Totaal
B36: Aantal gewerkte uren kandidaat | E36: =Kandidaten!D36 -> 0 | F36: =D36*E36 -> 0
B37: Aantal begeleidingsuren kandidaat | E37: =Kandidaten!D37 -> 0 | F37: =D37*E37 -> 0
B38: Bijkomende kosten kadidaat (per uur) | E38: =Kandidaten!D38 -> 0 | F38: =D36*E38 -> 0
B39: Bijkomende kosten per periode | E39: =Kandidaten!D39 -> 0 | F39: =IF(D36>0,E39,0) -> 0
B40: Totaal SROI-waarde kandidaat deze periode | G40: =SUM(F36:F39) -> 0
B42: Kandidaat | C42: =C35+1 -> 6 | D42: Uren | E42: Overeengekomen tariefwaarde in € | F42: SROI-waarde | G42: Totaal
B43: Aantal gewerkte uren kandidaat | E43: =Kandidaten!D43 -> 0 | F43: =D43*E43 -> 0
B44: Aantal begeleidingsuren kandidaat | E44: =Kandidaten!D44 -> 0 | F44: =D44*E44 -> 0
B45: Bijkomende kosten kadidaat (per uur) | E45: =Kandidaten!D45 -> 0 | F45: =D43*E45 -> 0
B46: Bijkomende kosten per periode | E46: =Kandidaten!D46 -> 0 | F46: =IF(D43>0,E46,0) -> 0
B47: Totaal SROI-waarde kandidaat deze periode | G47: =SUM(F43:F46) -> 0
B49: Kandidaat | C49: =C42+1 -> 7 | D49: Uren | E49: Overeengekomen tariefwaarde in € | F49: SROI-waarde | G49: Totaal
B50: Aantal gewerkte uren kandidaat | E50: =Kandidaten!D50 -> 0 | F50: =D50*E50 -> 0
B51: Aantal begeleidingsuren kandidaat | E51: =Kandidaten!D51 -> 0 | F51: =D51*E51 -> 0
B52: Bijkomende kosten kadidaat (per uur) | E52: =Kandidaten!D52 -> 0 | F52: =D50*E52 -> 0
B53: Bijkomende kosten per periode | E53: =Kandidaten!D53 -> 0 | F53: =IF(D50>0,E53,0) -> 0
B54: Totaal SROI-waarde kandidaat deze periode | G54: =SUM(F50:F53) -> 0
B56: Kandidaat | C56: =C49+1 -> 8 | D56: Uren | E56: Overeengekomen tariefwaarde in € | F56: SROI-waarde | G56: Totaal
B57: Aantal gewerkte uren kandidaat | E57: =Kandidaten!D57 -> 0 | F57: =D57*E57 -> 0
B58: Aantal begeleidingsuren kandidaat | E58: =Kandidaten!D58 -> 0 | F58: =D58*E58 -> 0
B59: Bijkomende kosten kadidaat (per uur) | E59: =Kandidaten!D59 -> 0 | F59: =D57*E59 -> 0
B60: Bijkomende kosten per periode | E60: =Kandidaten!D60 -> 0 | F60: =IF(D57>0,E60,0) -> 0
B61: Totaal SROI-waarde kandidaat deze periode | G61: =SUM(F57:F60) -> 0
B63: Kandidaat | C63: =C56+1 -> 9 | D63: Uren | E63: Overeengekomen tariefwaarde in € | F63: SROI-waarde | G63: Totaal
B64: Aantal gewerkte uren kandidaat | E64: =Kandidaten!D64 -> 0 | F64: =D64*E64 -> 0
B65: Aantal begeleidingsuren kandidaat | E65: =Kandidaten!D65 -> 0 | F65: =D65*E65 -> 0
B66: Bijkomende kosten kadidaat (per uur) | E66: =Kandidaten!D66 -> 0 | F66: =D64*E66 -> 0
B67: Bijkomende kosten per periode | E67: =Kandidaten!D67 -> 0 | F67: =IF(D64>0,E67,0) -> 0
B68: Totaal SROI-waarde kandidaat deze periode | G68: =SUM(F64:F67) -> 0
B70: Kandidaat | C70: =C63+1 -> 10 | D70: Uren | E70: Overeengekomen tariefwaarde in € | F70: SROI-waarde | G70: Totaal
B71: Aantal gewerkte uren kandidaat | E71: =Kandidaten!D71 -> 0 | F71: =D71*E71 -> 0
B72: Aantal begeleidingsuren kandidaat | E72: =Kandidaten!D72 -> 0 | F72: =D72*E72 -> 0
B73: Bijkomende kosten kadidaat (per uur) | E73: =Kandidaten!D73 -> 0 | F73: =D71*E73 -> 0
B74: Bijkomende kosten per periode | E74: =Kandidaten!D74 -> 0 | F74: =IF(D71>0,E74,0) -> 0
B75: Totaal SROI-waarde kandidaat deze periode | G75: =SUM(F71:F74) -> 0
B77: Kandidaat | C77: =C70+1 -> 11 | D77: Uren | E77: Overeengekomen tariefwaarde in € | F77: SROI-waarde | G77: Totaal
B78: Aantal gewerkte uren kandidaat | E78: =Kandidaten!D78 -> 0 | F78: =D78*E78 -> 0
B79: Aantal begeleidingsuren kandidaat | E79: =Kandidaten!D79 -> 0 | F79: =D79*E79 -> 0
B80: Bijkomende kosten kadidaat (per uur) | E80: =Kandidaten!D80 -> 0 | F80: =D78*E80 -> 0
B81: Bijkomende kosten per periode | E81: =Kandidaten!D81 -> 0 | F81: =IF(D78>0,E81,0) -> 0
B82: Totaal SROI-waarde kandidaat deze periode | G82: =SUM(F78:F81) -> 0
B84: Kandidaat | C84: =C77+1 -> 12 | D84: Uren | E84: Overeengekomen tariefwaarde in € | F84: SROI-waarde | G84: Totaal
B85: Aantal gewerkte uren kandidaat | E85: =Kandidaten!D85 -> 0 | F85: =D85*E85 -> 0
B86: Aantal begeleidingsuren kandidaat | E86: =Kandidaten!D86 -> 0 | F86: =D86*E86 -> 0
B87: Bijkomende kosten kadidaat (per uur) | E87: =Kandidaten!D87 -> 0 | F87: =D85*E87 -> 0
B88: Bijkomende kosten per periode | E88: =Kandidaten!D88 -> 0 | F88: =IF(D85>0,E88,0) -> 0
B89: Totaal SROI-waarde kandidaat deze periode | G89: =SUM(F85:F88) -> 0
B91: Kandidaat | C91: =C84+1 -> 13 | D91: Uren | E91: Overeengekomen tariefwaarde in € | F91: SROI-waarde | G91: Totaal
B92: Aantal gewerkte uren kandidaat | E92: =Kandidaten!D92 -> 0 | F92: =D92*E92 -> 0
B93: Aantal begeleidingsuren kandidaat | E93: =Kandidaten!D93 -> 0 | F93: =D93*E93 -> 0
B94: Bijkomende kosten kadidaat (per uur) | E94: =Kandidaten!D94 -> 0 | F94: =D92*E94 -> 0
B95: Bijkomende kosten per periode | E95: =Kandidaten!D95 -> 0 | F95: =IF(D92>0,E95,0) -> 0
B96: Totaal SROI-waarde kandidaat deze periode | G96: =SUM(F92:F95) -> 0
B98: Kandidaat | C98: =C91+1 -> 14 | D98: Uren | E98: Overeengekomen tariefwaarde in € | F98: SROI-waarde | G98: Totaal
B99: Aantal gewerkte uren kandidaat | E99: =Kandidaten!D99 -> 0 | F99: =D99*E99 -> 0
B100: Aantal begeleidingsuren kandidaat | E100: =Kandidaten!D100 -> 0 | F100: =D100*E100 -> 0
B101: Bijkomende kosten kadidaat (per uur) | E101: =Kandidaten!D101 -> 0 | F101: =D99*E101 -> 0
B102: Bijkomende kosten per periode | E102: =Kandidaten!D102 -> 0 | F102: =IF(D99>0,E102,0) -> 0
B103: Totaal SROI-waarde kandidaat deze periode | G103: =SUM(F99:F102) -> 0
B105: Kandidaat | C105: =C98+1 -> 15 | D105: Uren | E105: Overeengekomen tariefwaarde in € | F105: SROI-waarde | G105: Totaal
B106: Aantal gewerkte uren kandidaat | E106: =Kandidaten!D106 -> 0 | F106: =D106*E106 -> 0
B107: Aantal begeleidingsuren kandidaat | E107: =Kandidaten!D107 -> 0 | F107: =D107*E107 -> 0
B108: Bijkomende kosten kadidaat (per uur) | E108: =Kandidaten!D108 -> 0 | F108: =D106*E108 -> 0
B109: Bijkomende kosten per periode | E109: =Kandidaten!D109 -> 0 | F109: =IF(D106>0,E109,0) -> 0
B110: Totaal SROI-waarde kandidaat deze periode | G110: =SUM(F106:F109) -> 0
B112: Kandidaat | C112: =C105+1 -> 16 | D112: Uren | E112: Overeengekomen tariefwaarde in € | F112: SROI-waarde | G112: Totaal
B113: Aantal gewerkte uren kandidaat | E113: =Kandidaten!D113 -> 0 | F113: =D113*E113 -> 0
B114: Aantal begeleidingsuren kandidaat | E114: =Kandidaten!D114 -> 0 | F114: =D114*E114 -> 0
B115: Bijkomende kosten kadidaat (per uur) | E115: =Kandidaten!D115 -> 0 | F115: =D113*E115 -> 0
B116: Bijkomende kosten per periode | E116: =Kandidaten!D116 -> 0 | F116: =IF(D113>0,E116,0) -> 0
B117: Totaal SROI-waarde kandidaat deze periode | G117: =SUM(F113:F116) -> 0
...

Sheet P2
B2: PERIODE 2 | F2: Periode | I2: Invul instructie
E3: Startdatum: | G3: xx-xx-xx | I3: Vul alleen de witte cellen in (waar van toepassing).
B4: Vul alleen de witte cellen in | E4: Einddatum: | G4: xx-xx-xx | I4: De waarde in de categorie "Overig" kan alleen worden ingevuld als dat met
E5: Aantal werkdagen: | I5: de opdrachtgever is overeengekomen (bijvoorbeeld sociaal inkopen, of een bonus) .
B7: Kandidaat | C7: 1 | D7: Uren | E7: Overeengekomen tariefwaarde in € | F7: SROI-waarde | G7: Totaal | I7: Categorie "Overig" (niet kandidaat gebonden)
B8: Aantal gewerkte uren kandidaat | E8: =Kandidaten!D8 -> 0 | F8: =D8*E8 -> 0 | I8: Overeengekomen extra gerealiseerde waarde in de deze periode in €
B9: Aantal begeleidingsuren kandidaat | E9: =Kandidaten!D9 -> 0 | F9: =D9*E9 -> 0 | I9: Omschrijving SROI-inzet categorie "Overig":
B10: Bijkomende kosten kadidaat (per uur) | E10: =Kandidaten!D10 -> 0 | F10: =D8*E10 -> 0
B11: Bijkomende kosten per periode | E11: =Kandidaten!D11 -> 0 | F11: =IF(D8>0,E11,0) -> 0
B12: Totaal SROI-waarde kandidaat deze periode | G12: =SUM(F8:F11) -> 0
B14: Kandidaat | C14: =C7+1 -> 2 | D14: Uren | E14: Overeengekomen tariefwaarde in € | F14: SROI-waarde | G14: Totaal | I14: Totaal gerealiseerde waarde deze periode
B15: Aantal gewerkte uren kandidaat | E15: =Kandidaten!D15 -> 0 | F15: =D15*E15 -> 0 | I15: Kandidaten | J15: =SUM(G7:G355) -> 0
B16: Aantal begeleidingsuren kandidaat | E16: =Kandidaten!D16 -> 0 | F16: =D16*E16 -> 0 | I16: Overig | J16: =J8 -> 0
B17: Bijkomende kosten kadidaat (per uur) | E17: =Kandidaten!D17 -> 0 | F17: =D15*E17 -> 0
B18: Bijkomende kosten per periode | E18: =Kandidaten!D18 -> 0 | F18: =IF(D15>0,E18,0) -> 0
B19: Totaal SROI-waarde kandidaat deze periode | G19: =SUM(F15:F18) -> 0 | I19: Totaal | J19: =J15+J16 -> 0
B21: Kandidaat | C21: =C14+1 -> 3 | D21: Uren | E21: Overeengekomen tariefwaarde in € | F21: SROI-waarde | G21: Totaal
B22: Aantal gewerkte uren kandidaat | E22: =Kandidaten!D22 -> 0 | F22: =D22*E22 -> 0
B23: Aantal begeleidingsuren kandidaat | E23: =Kandidaten!D23 -> 0 | F23: =D23*E23 -> 0
B24: Bijkomende kosten kadidaat (per uur) | E24: =Kandidaten!D24 -> 0 | F24: =D22*E24 -> 0
B25: Bijkomende kosten per periode | E25: =Kandidaten!D25 -> 0 | F25: =IF(D22>0,E25,0) -> 0
B26: Totaal SROI-waarde kandidaat deze periode | G26: =SUM(F22:F25) -> 0
B28: Kandidaat | C28: =C21+1 -> 4 | D28: Uren | E28: Overeengekomen tariefwaarde in € | F28: SROI-waarde | G28: Totaal
B29: Aantal gewerkte uren kandidaat | E29: =Kandidaten!D29 -> 0 | F29: =D29*E29 -> 0
B30: Aantal begeleidingsuren kandidaat | E30: =Kandidaten!D30 -> 0 | F30: =D30*E30 -> 0
B31: Bijkomende kosten kadidaat (per uur) | E31: =Kandidaten!D31 -> 0 | F31: =D29*E31 -> 0
B32: Bijkomende kosten per periode | E32: =Kandidaten!D32 -> 0 | F32: =IF(D29>0,E32,0) -> 0
B33: Totaal SROI-waarde kandidaat deze periode | G33: =SUM(F29:F32) -> 0
B35: Kandidaat | C35: =C28+1 -> 5 | D35: Uren | E35: Overeengekomen tariefwaarde in € | F35: SROI-waarde | G35: Totaal
B36: Aantal gewerkte uren kandidaat | E36: =Kandidaten!D36 -> 0 | F36: =D36*E36 -> 0
B37: Aantal begeleidingsuren kandidaat | E37: =Kandidaten!D37 -> 0 | F37: =D37*E37 -> 0
B38: Bijkomende kosten kadidaat (per uur) | E38: =Kandidaten!D38 -> 0 | F38: =D36*E38 -> 0
B39: Bijkomende kosten per periode | E39: =Kandidaten!D39 -> 0 | F39: =IF(D36>0,E39,0) -> 0
B40: Totaal SROI-waarde kandidaat deze periode | G40: =SUM(F36:F39) -> 0
B42: Kandidaat | C42: =C35+1 -> 6 | D42: Uren | E42: Overeengekomen tariefwaarde in € | F42: SROI-waarde | G42: Totaal
B43: Aantal gewerkte uren kandidaat | E43: =Kandidaten!D43 -> 0 | F43: =D43*E43 -> 0
B44: Aantal begeleidingsuren kandidaat | E44: =Kandidaten!D44 -> 0 | F44: =D44*E44 -> 0
B45: Bijkomende kosten kadidaat (per uur) | E45: =Kandidaten!D45 -> 0 | F45: =D43*E45 -> 0
B46: Bijkomende kosten per periode | E46: =Kandidaten!D46 -> 0 | F46: =IF(D43>0,E46,0) -> 0
B47: Totaal SROI-waarde kandidaat deze periode | G47: =SUM(F43:F46) -> 0
B49: Kandidaat | C49: =C42+1 -> 7 | D49: Uren | E49: Overeengekomen tariefwaarde in € | F49: SROI-waarde | G49: Totaal
B50: Aantal gewerkte uren kandidaat | E50: =Kandidaten!D50 -> 0 | F50: =D50*E50 -> 0
B51: Aantal begeleidingsuren kandidaat | E51: =Kandidaten!D51 -> 0 | F51: =D51*E51 -> 0
B52: Bijkomende kosten kadidaat (per uur) | E52: =Kandidaten!D52 -> 0 | F52: =D50*E52 -> 0
B53: Bijkomende kosten per periode | E53: =Kandidaten!D53 -> 0 | F53: =IF(D50>0,E53,0) -> 0
B54: Totaal SROI-waarde kandidaat deze periode | G54: =SUM(F50:F53) -> 0
B56: Kandidaat | C56: =C49+1 -> 8 | D56: Uren | E56: Overeengekomen tariefwaarde in € | F56: SROI-waarde | G56: Totaal
B57: Aantal gewerkte uren kandidaat | E57: =Kandidaten!D57 -> 0 | F57: =D57*E57 -> 0
B58: Aantal begeleidingsuren kandidaat | E58: =Kandidaten!D58 -> 0 | F58: =D58*E58 -> 0
B59: Bijkomende kosten kadidaat (per uur) | E59: =Kandidaten!D59 -> 0 | F59: =D57*E59 -> 0
B60: Bijkomende kosten per periode | E60: =Kandidaten!D60 -> 0 | F60: =IF(D57>0,E60,0) -> 0
B61: Totaal SROI-waarde kandidaat deze periode | G61: =SUM(F57:F60) -> 0
B63: Kandidaat | C63: =C56+1 -> 9 | D63: Uren | E63: Overeengekomen tariefwaarde in € | F63: SROI-waarde | G63: Totaal
B64: Aantal gewerkte uren kandidaat | E64: =Kandidaten!D64 -> 0 | F64: =D64*E64 -> 0
B65: Aantal begeleidingsuren kandidaat | E65: =Kandidaten!D65 -> 0 | F65: =D65*E65 -> 0
B66: Bijkomende kosten kadidaat (per uur) | E66: =Kandidaten!D66 -> 0 | F66: =D64*E66 -> 0
B67: Bijkomende kosten per periode | E67: =Kandidaten!D67 -> 0 | F67: =IF(D64>0,E67,0) -> 0
B68: Totaal SROI-waarde kandidaat deze periode | G68: =SUM(F64:F67) -> 0
B70: Kandidaat | C70: =C63+1 -> 10 | D70: Uren | E70: Overeengekomen tariefwaarde in € | F70: SROI-waarde | G70: Totaal
B71: Aantal gewerkte uren kandidaat | E71: =Kandidaten!D71 -> 0 | F71: =D71*E71 -> 0
B72: Aantal begeleidingsuren kandidaat | E72: =Kandidaten!D72 -> 0 | F72: =D72*E72 -> 0
B73: Bijkomende kosten kadidaat (per uur) | E73: =Kandidaten!D73 -> 0 | F73: =D71*E73 -> 0
B74: Bijkomende kosten per periode | E74: =Kandidaten!D74 -> 0 | F74: =IF(D71>0,E74,0) -> 0
B75: Totaal SROI-waarde kandidaat deze periode | G75: =SUM(F71:F74) -> 0
B77: Kandidaat | C77: =C70+1 -> 11 | D77: Uren | E77: Overeengekomen tariefwaarde in € | F77: SROI-waarde | G77: Totaal
B78: Aantal gewerkte uren kandidaat | E78: =Kandidaten!D78 -> 0 | F78: =D78*E78 -> 0
B79: Aantal begeleidingsuren kandidaat | E79: =Kandidaten!D79 -> 0 | F79: =D79*E79 -> 0
B80: Bijkomende kosten kadidaat (per uur) | E80: =Kandidaten!D80 -> 0 | F80: =D78*E80 -> 0
B81: Bijkomende kosten per periode | E81: =Kandidaten!D81 -> 0 | F81: =IF(D78>0,E81,0) -> 0
B82: Totaal SROI-waarde kandidaat deze periode | G82: =SUM(F78:F81) -> 0
B84: Kandidaat | C84: =C77+1 -> 12 | D84: Uren | E84: Overeengekomen tariefwaarde in € | F84: SROI-waarde | G84: Totaal
B85: Aantal gewerkte uren kandidaat | E85: =Kandidaten!D85 -> 0 | F85: =D85*E85 -> 0
B86: Aantal begeleidingsuren kandidaat | E86: =Kandidaten!D86 -> 0 | F86: =D86*E86 -> 0
B87: Bijkomende kosten kadidaat (per uur) | E87: =Kandidaten!D87 -> 0 | F87: =D85*E87 -> 0
B88: Bijkomende kosten per periode | E88: =Kandidaten!D88 -> 0 | F88: =IF(D85>0,E88,0) -> 0
B89: Totaal SROI-waarde kandidaat deze periode | G89: =SUM(F85:F88) -> 0
B91: Kandidaat | C91: =C84+1 -> 13 | D91: Uren | E91: Overeengekomen tariefwaarde in € | F91: SROI-waarde | G91: Totaal
B92: Aantal gewerkte uren kandidaat | E92: =Kandidaten!D92 -> 0 | F92: =D92*E92 -> 0
B93: Aantal begeleidingsuren kandidaat | E93: =Kandidaten!D93 -> 0 | F93: =D93*E93 -> 0
B94: Bijkomende kosten kadidaat (per uur) | E94: =Kandidaten!D94 -> 0 | F94: =D92*E94 -> 0
B95: Bijkomende kosten per periode | E95: =Kandidaten!D95 -> 0 | F95: =IF(D92>0,E95,0) -> 0
B96: Totaal SROI-waarde kandidaat deze periode | G96: =SUM(F92:F95) -> 0
B98: Kandidaat | C98: =C91+1 -> 14 | D98: Uren | E98: Overeengekomen tariefwaarde in € | F98: SROI-waarde | G98: Totaal
B99: Aantal gewerkte uren kandidaat | E99: =Kandidaten!D99 -> 0 | F99: =D99*E99 -> 0
B100: Aantal begeleidingsuren kandidaat | E100: =Kandidaten!D100 -> 0 | F100: =D100*E100 -> 0
B101: Bijkomende kosten kadidaat (per uur) | E101: =Kandidaten!D101 -> 0 | F101: =D99*E101 -> 0
B102: Bijkomende kosten per periode | E102: =Kandidaten!D102 -> 0 | F102: =IF(D99>0,E102,0) -> 0
B103: Totaal SROI-waarde kandidaat deze periode | G103: =SUM(F99:F102) -> 0
B105: Kandidaat | C105: =C98+1 -> 15 | D105: Uren | E105: Overeengekomen tariefwaarde in € | F105: SROI-waarde | G105: Totaal
B106: Aantal gewerkte uren kandidaat | E106: =Kandidaten!D106 -> 0 | F106: =D106*E106 -> 0
B107: Aantal begeleidingsuren kandidaat | E107: =Kandidaten!D107 -> 0 | F107: =D107*E107 -> 0
B108: Bijkomende kosten kadidaat (per uur) | E108: =Kandidaten!D108 -> 0 | F108: =D106*E108 -> 0
B109: Bijkomende kosten per periode | E109: =Kandidaten!D109 -> 0 | F109: =IF(D106>0,E109,0) -> 0
B110: Totaal SROI-waarde kandidaat deze periode | G110: =SUM(F106:F109) -> 0
B112: Kandidaat | C112: =C105+1 -> 16 | D112: Uren | E112: Overeengekomen tariefwaarde in € | F112: SROI-waarde | G112: Totaal
B113: Aantal gewerkte uren kandidaat | E113: =Kandidaten!D113 -> 0 | F113: =D113*E113 -> 0
B114: Aantal begeleidingsuren kandidaat | E114: =Kandidaten!D114 -> 0 | F114: =D114*E114 -> 0
B115: Bijkomende kosten kadidaat (per uur) | E115: =Kandidaten!D115 -> 0 | F115: =D113*E115 -> 0
B116: Bijkomende kosten per periode | E116: =Kandidaten!D116 -> 0 | F116: =IF(D113>0,E116,0) -> 0
B117: Totaal SROI-waarde kandidaat deze periode | G117: =SUM(F113:F116) -> 0
...

Sheet P3
B2: PERIODE 3 | F2: Periode | I2: Invul instructie
E3: Startdatum: | G3: xx-xx-xx | I3: Vul alleen de witte cellen in (waar van toepassing).
B4: Vul alleen de witte cellen in | E4: Einddatum: | G4: xx-xx-xx | I4: De waarde in de categorie "Overig" kan alleen worden ingevuld als dat met
E5: Aantal werkdagen: | I5: de opdrachtgever is overeengekomen (bijvoorbeeld sociaal inkopen, of een bonus) .
B7: Kandidaat | C7: 1 | D7: Uren | E7: Overeengekomen tariefwaarde in € | F7: SROI-waarde | G7: Totaal | I7: Categorie "Overig" (niet kandidaat gebonden)
B8: Aantal gewerkte uren kandidaat | E8: =Kandidaten!D8 -> 0 | F8: =D8*E8 -> 0 | I8: Overeengekomen extra gerealiseerde waarde in de deze periode in €
B9: Aantal begeleidingsuren kandidaat | E9: =Kandidaten!D9 -> 0 | F9: =D9*E9 -> 0 | I9: Omschrijving SROI-inzet categorie "Overig":
B10: Bijkomende kosten kadidaat (per uur) | E10: =Kandidaten!D10 -> 0 | F10: =D8*E10 -> 0
B11: Bijkomende kosten per periode | E11: =Kandidaten!D11 -> 0 | F11: =IF(D8>0,E11,0) -> 0
B12: Totaal SROI-waarde kandidaat deze periode | G12: =SUM(F8:F11) -> 0
B14: Kandidaat | C14: =C7+1 -> 2 | D14: Uren | E14: Overeengekomen tariefwaarde in € | F14: SROI-waarde | G14: Totaal | I14: Totaal gerealiseerde waarde deze periode
B15: Aantal gewerkte uren kandidaat | E15: =Kandidaten!D15 -> 0 | F15: =D15*E15 -> 0 | I15: Kandidaten | J15: =SUM(G7:G355) -> 0
B16: Aantal begeleidingsuren kandidaat | E16: =Kandidaten!D16 -> 0 | F16: =D16*E16 -> 0 | I16: Overig | J16: =J8 -> 0
B17: Bijkomende kosten kadidaat (per uur) | E17: =Kandidaten!D17 -> 0 | F17: =D15*E17 -> 0
B18: Bijkomende kosten per periode | E18: =Kandidaten!D18 -> 0 | F18: =IF(D15>0,E18,0) -> 0
B19: Totaal SROI-waarde kandidaat deze periode | G19: =SUM(F15:F18) -> 0 | I19: Totaal | J19: =J15+J16 -> 0
B21: Kandidaat | C21: =C14+1 -> 3 | D21: Uren | E21: Overeengekomen tariefwaarde in € | F21: SROI-waarde | G21: Totaal
B22: Aantal gewerkte uren kandidaat | E22: =Kandidaten!D22 -> 0 | F22: =D22*E22 -> 0
B23: Aantal begeleidingsuren kandidaat | E23: =Kandidaten!D23 -> 0 | F23: =D23*E23 -> 0
B24: Bijkomende kosten kadidaat (per uur) | E24: =Kandidaten!D24 -> 0 | F24: =D22*E24 -> 0
B25: Bijkomende kosten per periode | E25: =Kandidaten!D25 -> 0 | F25: =IF(D22>0,E25,0) -> 0
B26: Totaal SROI-waarde kandidaat deze periode | G26: =SUM(F22:F25) -> 0
B28: Kandidaat | C28: =C21+1 -> 4 | D28: Uren | E28: Overeengekomen tariefwaarde in € | F28: SROI-waarde | G28: Totaal
B29: Aantal gewerkte uren kandidaat | E29: =Kandidaten!D29 -> 0 | F29: =D29*E29 -> 0
B30: Aantal begeleidingsuren kandidaat | E30: =Kandidaten!D30 -> 0 | F30: =D30*E30 -> 0
B31: Bijkomende kosten kadidaat (per uur) | E31: =Kandidaten!D31 -> 0 | F31: =D29*E31 -> 0
B32: Bijkomende kosten per periode | E32: =Kandidaten!D32 -> 0 | F32: =IF(D29>0,E32,0) -> 0
B33: Totaal SROI-waarde kandidaat deze periode | G33: =SUM(F29:F32) -> 0
B35: Kandidaat | C35: =C28+1 -> 5 | D35: Uren | E35: Overeengekomen tariefwaarde in € | F35: SROI-waarde | G35: Totaal
B36: Aantal gewerkte uren kandidaat | E36: =Kandidaten!D36 -> 0 | F36: =D36*E36 -> 0
B37: Aantal begeleidingsuren kandidaat | E37: =Kandidaten!D37 -> 0 | F37: =D37*E37 -> 0
B38: Bijkomende kosten kadidaat (per uur) | E38: =Kandidaten!D38 -> 0 | F38: =D36*E38 -> 0
B39: Bijkomende kosten per periode | E39: =Kandidaten!D39 -> 0 | F39: =IF(D36>0,E39,0) -> 0
B40: Totaal SROI-waarde kandidaat deze periode | G40: =SUM(F36:F39) -> 0
B42: Kandidaat | C42: =C35+1 -> 6 | D42: Uren | E42: Overeengekomen tariefwaarde in € | F42: SROI-waarde | G42: Totaal
B43: Aantal gewerkte uren kandidaat | E43: =Kandidaten!D43 -> 0 | F43: =D43*E43 -> 0
B44: Aantal begeleidingsuren kandidaat | E44: =Kandidaten!D44 -> 0 | F44: =D44*E44 -> 0
B45: Bijkomende kosten kadidaat (per uur) | E45: =Kandidaten!D45 -> 0 | F45: =D43*E45 -> 0
B46: Bijkomende kosten per periode | E46: =Kandidaten!D46 -> 0 | F46: =IF(D43>0,E46,0) -> 0
B47: Totaal SROI-waarde kandidaat deze periode | G47: =SUM(F43:F46) -> 0
B49: Kandidaat | C49: =C42+1 -> 7 | D49: Uren | E49: Overeengekomen tariefwaarde in € | F49: SROI-waarde | G49: Totaal
B50: Aantal gewerkte uren kandidaat | E50: =Kandidaten!D50 -> 0 | F50: =D50*E50 -> 0
B51: Aantal begeleidingsuren kandidaat | E51: =Kandidaten!D51 -> 0 | F51: =D51*E51 -> 0
B52: Bijkomende kosten kadidaat (per uur) | E52: =Kandidaten!D52 -> 0 | F52: =D50*E52 -> 0
B53: Bijkomende kosten per periode | E53: =Kandidaten!D53 -> 0 | F53: =IF(D50>0,E53,0) -> 0
B54: Totaal SROI-waarde kandidaat deze periode | G54: =SUM(F50:F53) -> 0
B56: Kandidaat | C56: =C49+1 -> 8 | D56: Uren | E56: Overeengekomen tariefwaarde in € | F56: SROI-waarde | G56: Totaal
B57: Aantal gewerkte uren kandidaat | E57: =Kandidaten!D57 -> 0 | F57: =D57*E57 -> 0
B58: Aantal begeleidingsuren kandidaat | E58: =Kandidaten!D58 -> 0 | F58: =D58*E58 -> 0
B59: Bijkomende kosten kadidaat (per uur) | E59: =Kandidaten!D59 -> 0 | F59: =D57*E59 -> 0
B60: Bijkomende kosten per periode | E60: =Kandidaten!D60 -> 0 | F60: =IF(D57>0,E60,0) -> 0
B61: Totaal SROI-waarde kandidaat deze periode | G61: =SUM(F57:F60) -> 0
B63: Kandidaat | C63: =C56+1 -> 9 | D63: Uren | E63: Overeengekomen tariefwaarde in € | F63: SROI-waarde | G63: Totaal
B64: Aantal gewerkte uren kandidaat | E64: =Kandidaten!D64 -> 0 | F64: =D64*E64 -> 0
B65: Aantal begeleidingsuren kandidaat | E65: =Kandidaten!D65 -> 0 | F65: =D65*E65 -> 0
B66: Bijkomende kosten kadidaat (per uur) | E66: =Kandidaten!D66 -> 0 | F66: =D64*E66 -> 0
B67: Bijkomende kosten per periode | E67: =Kandidaten!D67 -> 0 | F67: =IF(D64>0,E67,0) -> 0
B68: Totaal SROI-waarde kandidaat deze periode | G68: =SUM(F64:F67) -> 0
B70: Kandidaat | C70: =C63+1 -> 10 | D70: Uren | E70: Overeengekomen tariefwaarde in € | F70: SROI-waarde | G70: Totaal
B71: Aantal gewerkte uren kandidaat | E71: =Kandidaten!D71 -> 0 | F71: =D71*E71 -> 0
B72: Aantal begeleidingsuren kandidaat | E72: =Kandidaten!D72 -> 0 | F72: =D72*E72 -> 0
B73: Bijkomende kosten kadidaat (per uur) | E73: =Kandidaten!D73 -> 0 | F73: =D71*E73 -> 0
B74: Bijkomende kosten per periode | E74: =Kandidaten!D74 -> 0 | F74: =IF(D71>0,E74,0) -> 0
B75: Totaal SROI-waarde kandidaat deze periode | G75: =SUM(F71:F74) -> 0
B77: Kandidaat | C77: =C70+1 -> 11 | D77: Uren | E77: Overeengekomen tariefwaarde in € | F77: SROI-waarde | G77: Totaal
B78: Aantal gewerkte uren kandidaat | E78: =Kandidaten!D78 -> 0 | F78: =D78*E78 -> 0
B79: Aantal begeleidingsuren kandidaat | E79: =Kandidaten!D79 -> 0 | F79: =D79*E79 -> 0
B80: Bijkomende kosten kadidaat (per uur) | E80: =Kandidaten!D80 -> 0 | F80: =D78*E80 -> 0
B81: Bijkomende kosten per periode | E81: =Kandidaten!D81 -> 0 | F81: =IF(D78>0,E81,0) -> 0
B82: Totaal SROI-waarde kandidaat deze periode | G82: =SUM(F78:F81) -> 0
B84: Kandidaat | C84: =C77+1 -> 12 | D84: Uren | E84: Overeengekomen tariefwaarde in € | F84: SROI-waarde | G84: Totaal
B85: Aantal gewerkte uren kandidaat | E85: =Kandidaten!D85 -> 0 | F85: =D85*E85 -> 0
B86: Aantal begeleidingsuren kandidaat | E86: =Kandidaten!D86 -> 0 | F86: =D86*E86 -> 0
B87: Bijkomende kosten kadidaat (per uur) | E87: =Kandidaten!D87 -> 0 | F87: =D85*E87 -> 0
B88: Bijkomende kosten per periode | E88: =Kandidaten!D88 -> 0 | F88: =IF(D85>0,E88,0) -> 0
B89: Totaal SROI-waarde kandidaat deze periode | G89: =SUM(F85:F88) -> 0
B91: Kandidaat | C91: =C84+1 -> 13 | D91: Uren | E91: Overeengekomen tariefwaarde in € | F91: SROI-waarde | G91: Totaal
B92: Aantal gewerkte uren kandidaat | E92: =Kandidaten!D92 -> 0 | F92: =D92*E92 -> 0
B93: Aantal begeleidingsuren kandidaat | E93: =Kandidaten!D93 -> 0 | F93: =D93*E93 -> 0
B94: Bijkomende kosten kadidaat (per uur) | E94: =Kandidaten!D94 -> 0 | F94: =D92*E94 -> 0
B95: Bijkomende kosten per periode | E95: =Kandidaten!D95 -> 0 | F95: =IF(D92>0,E95,0) -> 0
B96: Totaal SROI-waarde kandidaat deze periode | G96: =SUM(F92:F95) -> 0
B98: Kandidaat | C98: =C91+1 -> 14 | D98: Uren | E98: Overeengekomen tariefwaarde in € | F98: SROI-waarde | G98: Totaal
B99: Aantal gewerkte uren kandidaat | E99: =Kandidaten!D99 -> 0 | F99: =D99*E99 -> 0
B100: Aantal begeleidingsuren kandidaat | E100: =Kandidaten!D100 -> 0 | F100: =D100*E100 -> 0
B101: Bijkomende kosten kadidaat (per uur) | E101: =Kandidaten!D101 -> 0 | F101: =D99*E101 -> 0
B102: Bijkomende kosten per periode | E102: =Kandidaten!D102 -> 0 | F102: =IF(D99>0,E102,0) -> 0
B103: Totaal SROI-waarde kandidaat deze periode | G103: =SUM(F99:F102) -> 0
B105: Kandidaat | C105: =C98+1 -> 15 | D105: Uren | E105: Overeengekomen tariefwaarde in € | F105: SROI-waarde | G105: Totaal
B106: Aantal gewerkte uren kandidaat | E106: =Kandidaten!D106 -> 0 | F106: =D106*E106 -> 0
B107: Aantal begeleidingsuren kandidaat | E107: =Kandidaten!D107 -> 0 | F107: =D107*E107 -> 0
B108: Bijkomende kosten kadidaat (per uur) | E108: =Kandidaten!D108 -> 0 | F108: =D106*E108 -> 0
B109: Bijkomende kosten per periode | E109: =Kandidaten!D109 -> 0 | F109: =IF(D106>0,E109,0) -> 0
B110: Totaal SROI-waarde kandidaat deze periode | G110: =SUM(F106:F109) -> 0
B112: Kandidaat | C112: =C105+1 -> 16 | D112: Uren | E112: Overeengekomen tariefwaarde in € | F112: SROI-waarde | G112: Totaal
B113: Aantal gewerkte uren kandidaat | E113: =Kandidaten!D113 -> 0 | F113: =D113*E113 -> 0
B114: Aantal begeleidingsuren kandidaat | E114: =Kandidaten!D114 -> 0 | F114: =D114*E114 -> 0
B115: Bijkomende kosten kadidaat (per uur) | E115: =Kandidaten!D115 -> 0 | F115: =D113*E115 -> 0
B116: Bijkomende kosten per periode | E116: =Kandidaten!D116 -> 0 | F116: =IF(D113>0,E116,0) -> 0
B117: Totaal SROI-waarde kandidaat deze periode | G117: =SUM(F113:F116) -> 0
...

Sheet P4
B2: PERIODE 4 | F2: Periode | I2: Invul instructie
E3: Startdatum: | G3: xx-xx-xx | I3: Vul alleen de witte cellen in (waar van toepassing).
B4: Vul alleen de witte cellen in | E4: Einddatum: | G4: xx-xx-xx | I4: De waarde in de categorie "Overig" kan alleen worden ingevuld als dat met
E5: Aantal werkdagen: | I5: de opdrachtgever is overeengekomen (bijvoorbeeld sociaal inkopen, of een bonus) .
B7: Kandidaat | C7: 1 | D7: Uren | E7: Overeengekomen tariefwaarde in € | F7: SROI-waarde | G7: Totaal | I7: Categorie "Overig" (niet kandidaat gebonden)
B8: Aantal gewerkte uren kandidaat | E8: =Kandidaten!D8 -> 0 | F8: =D8*E8 -> 0 | I8: Overeengekomen extra gerealiseerde waarde in de deze periode in €
B9: Aantal begeleidingsuren kandidaat | E9: =Kandidaten!D9 -> 0 | F9: =D9*E9 -> 0 | I9: Omschrijving SROI-inzet categorie "Overig":
B10: Bijkomende kosten kadidaat (per uur) | E10: =Kandidaten!D10 -> 0 | F10: =D8*E10 -> 0
B11: Bijkomende kosten per periode | E11: =Kandidaten!D11 -> 0 | F11: =IF(D8>0,E11,0) -> 0
B12: Totaal SROI-waarde kandidaat deze periode | G12: =SUM(F8:F11) -> 0
B14: Kandidaat | C14: =C7+1 -> 2 | D14: Uren | E14: Overeengekomen tariefwaarde in € | F14: SROI-waarde | G14: Totaal | I14: Totaal gerealiseerde waarde deze periode
B15: Aantal gewerkte uren kandidaat | E15: =Kandidaten!D15 -> 0 | F15: =D15*E15 -> 0 | I15: Kandidaten | J15: =SUM(G7:G355) -> 0
B16: Aantal begeleidingsuren kandidaat | E16: =Kandidaten!D16 -> 0 | F16: =D16*E16 -> 0 | I16: Overig | J16: =J8 -> 0
B17: Bijkomende kosten kadidaat (per uur) | E17: =Kandidaten!D17 -> 0 | F17: =D15*E17 -> 0
B18: Bijkomende kosten per periode | E18: =Kandidaten!D18 -> 0 | F18: =IF(D15>0,E18,0) -> 0
B19: Totaal SROI-waarde kandidaat deze periode | G19: =SUM(F15:F18) -> 0 | I19: Totaal | J19: =J15+J16 -> 0
B21: Kandidaat | C21: =C14+1 -> 3 | D21: Uren | E21: Overeengekomen tariefwaarde in € | F21: SROI-waarde | G21: Totaal
B22: Aantal gewerkte uren kandidaat | E22: =Kandidaten!D22 -> 0 | F22: =D22*E22 -> 0
B23: Aantal begeleidingsuren kandidaat | E23: =Kandidaten!D23 -> 0 | F23: =D23*E23 -> 0
B24: Bijkomende kosten kadidaat (per uur) | E24: =Kandidaten!D24 -> 0 | F24: =D22*E24 -> 0
B25: Bijkomende kosten per periode | E25: =Kandidaten!D25 -> 0 | F25: =IF(D22>0,E25,0) -> 0
B26: Totaal SROI-waarde kandidaat deze periode | G26: =SUM(F22:F25) -> 0
B28: Kandidaat | C28: =C21+1 -> 4 | D28: Uren | E28: Overeengekomen tariefwaarde in € | F28: SROI-waarde | G28: Totaal
B29: Aantal gewerkte uren kandidaat | E29: =Kandidaten!D29 -> 0 | F29: =D29*E29 -> 0
B30: Aantal begeleidingsuren kandidaat | E30: =Kandidaten!D30 -> 0 | F30: =D30*E30 -> 0
B31: Bijkomende kosten kadidaat (per uur) | E31: =Kandidaten!D31 -> 0 | F31: =D29*E31 -> 0
B32: Bijkomende kosten per periode | E32: =Kandidaten!D32 -> 0 | F32: =IF(D29>0,E32,0) -> 0
B33: Totaal SROI-waarde kandidaat deze periode | G33: =SUM(F29:F32) -> 0
B35: Kandidaat | C35: =C28+1 -> 5 | D35: Uren | E35: Overeengekomen tariefwaarde in € | F35: SROI-waarde | G35: Totaal
B36: Aantal gewerkte uren kandidaat | E36: =Kandidaten!D36 -> 0 | F36: =D36*E36 -> 0
B37: Aantal begeleidingsuren kandidaat | E37: =Kandidaten!D37 -> 0 | F37: =D37*E37 -> 0
B38: Bijkomende kosten kadidaat (per uur) | E38: =Kandidaten!D38 -> 0 | F38: =D36*E38 -> 0
B39: Bijkomende kosten per periode | E39: =Kandidaten!D39 -> 0 | F39: =IF(D36>0,E39,0) -> 0
B40: Totaal SROI-waarde kandidaat deze periode | G40: =SUM(F36:F39) -> 0
B42: Kandidaat | C42: =C35+1 -> 6 | D42: Uren | E42: Overeengekomen tariefwaarde in € | F42: SROI-waarde | G42: Totaal
B43: Aantal gewerkte uren kandidaat | E43: =Kandidaten!D43 -> 0 | F43: =D43*E43 -> 0
B44: Aantal begeleidingsuren kandidaat | E44: =Kandidaten!D44 -> 0 | F44: =D44*E44 -> 0
B45: Bijkomende kosten kadidaat (per uur) | E45: =Kandidaten!D45 -> 0 | F45: =D43*E45 -> 0
B46: Bijkomende kosten per periode | E46: =Kandidaten!D46 -> 0 | F46: =IF(D43>0,E46,0) -> 0
B47: Totaal SROI-waarde kandidaat deze periode | G47: =SUM(F43:F46) -> 0
B49: Kandidaat | C49: =C42+1 -> 7 | D49: Uren | E49: Overeengekomen tariefwaarde in € | F49: SROI-waarde | G49: Totaal
B50: Aantal gewerkte uren kandidaat | E50: =Kandidaten!D50 -> 0 | F50: =D50*E50 -> 0
B51: Aantal begeleidingsuren kandidaat | E51: =Kandidaten!D51 -> 0 | F51: =D51*E51 -> 0
B52: Bijkomende kosten kadidaat (per uur) | E52: =Kandidaten!D52 -> 0 | F52: =D50*E52 -> 0
B53: Bijkomende kosten per periode | E53: =Kandidaten!D53 -> 0 | F53: =IF(D50>0,E53,0) -> 0
B54: Totaal SROI-waarde kandidaat deze periode | G54: =SUM(F50:F53) -> 0
B56: Kandidaat | C56: =C49+1 -> 8 | D56: Uren | E56: Overeengekomen tariefwaarde in € | F56: SROI-waarde | G56: Totaal
B57: Aantal gewerkte uren kandidaat | E57: =Kandidaten!D57 -> 0 | F57: =D57*E57 -> 0
B58: Aantal begeleidingsuren kandidaat | E58: =Kandidaten!D58 -> 0 | F58: =D58*E58 -> 0
B59: Bijkomende kosten kadidaat (per uur) | E59: =Kandidaten!D59 -> 0 | F59: =D57*E59 -> 0
B60: Bijkomende kosten per periode | E60: =Kandidaten!D60 -> 0 | F60: =IF(D57>0,E60,0) -> 0
B61: Totaal SROI-waarde kandidaat deze periode | G61: =SUM(F57:F60) -> 0
B63: Kandidaat | C63: =C56+1 -> 9 | D63: Uren | E63: Overeengekomen tariefwaarde in € | F63: SROI-waarde | G63: Totaal
B64: Aantal gewerkte uren kandidaat | E64: =Kandidaten!D64 -> 0 | F64: =D64*E64 -> 0
B65: Aantal begeleidingsuren kandidaat | E65: =Kandidaten!D65 -> 0 | F65: =D65*E65 -> 0
B66: Bijkomende kosten kadidaat (per uur) | E66: =Kandidaten!D66 -> 0 | F66: =D64*E66 -> 0
B67: Bijkomende kosten per periode | E67: =Kandidaten!D67 -> 0 | F67: =IF(D64>0,E67,0) -> 0
B68: Totaal SROI-waarde kandidaat deze periode | G68: =SUM(F64:F67) -> 0
B70: Kandidaat | C70: =C63+1 -> 10 | D70: Uren | E70: Overeengekomen tariefwaarde in € | F70: SROI-waarde | G70: Totaal
B71: Aantal gewerkte uren kandidaat | E71: =Kandidaten!D71 -> 0 | F71: =D71*E71 -> 0
B72: Aantal begeleidingsuren kandidaat | E72: =Kandidaten!D72 -> 0 | F72: =D72*E72 -> 0
B73: Bijkomende kosten kadidaat (per uur) | E73: =Kandidaten!D73 -> 0 | F73: =D71*E73 -> 0
B74: Bijkomende kosten per periode | E74: =Kandidaten!D74 -> 0 | F74: =IF(D71>0,E74,0) -> 0
B75: Totaal SROI-waarde kandidaat deze periode | G75: =SUM(F71:F74) -> 0
B77: Kandidaat | C77: =C70+1 -> 11 | D77: Uren | E77: Overeengekomen tariefwaarde in € | F77: SROI-waarde | G77: Totaal
B78: Aantal gewerkte uren kandidaat | E78: =Kandidaten!D78 -> 0 | F78: =D78*E78 -> 0
B79: Aantal begeleidingsuren kandidaat | E79: =Kandidaten!D79 -> 0 | F79: =D79*E79 -> 0
B80: Bijkomende kosten kadidaat (per uur) | E80: =Kandidaten!D80 -> 0 | F80: =D78*E80 -> 0
B81: Bijkomende kosten per periode | E81: =Kandidaten!D81 -> 0 | F81: =IF(D78>0,E81,0) -> 0
B82: Totaal SROI-waarde kandidaat deze periode | G82: =SUM(F78:F81) -> 0
B84: Kandidaat | C84: =C77+1 -> 12 | D84: Uren | E84: Overeengekomen tariefwaarde in € | F84: SROI-waarde | G84: Totaal
B85: Aantal gewerkte uren kandidaat | E85: =Kandidaten!D85 -> 0 | F85: =D85*E85 -> 0
B86: Aantal begeleidingsuren kandidaat | E86: =Kandidaten!D86 -> 0 | F86: =D86*E86 -> 0
B87: Bijkomende kosten kadidaat (per uur) | E87: =Kandidaten!D87 -> 0 | F87: =D85*E87 -> 0
B88: Bijkomende kosten per periode | E88: =Kandidaten!D88 -> 0 | F88: =IF(D85>0,E88,0) -> 0
B89: Totaal SROI-waarde kandidaat deze periode | G89: =SUM(F85:F88) -> 0
B91: Kandidaat | C91: =C84+1 -> 13 | D91: Uren | E91: Overeengekomen tariefwaarde in € | F91: SROI-waarde | G91: Totaal
B92: Aantal gewerkte uren kandidaat | E92: =Kandidaten!D92 -> 0 | F92: =D92*E92 -> 0
B93: Aantal begeleidingsuren kandidaat | E93: =Kandidaten!D93 -> 0 | F93: =D93*E93 -> 0
B94: Bijkomende kosten kadidaat (per uur) | E94: =Kandidaten!D94 -> 0 | F94: =D92*E94 -> 0
B95: Bijkomende kosten per periode | E95: =Kandidaten!D95 -> 0 | F95: =IF(D92>0,E95,0) -> 0
B96: Totaal SROI-waarde kandidaat deze periode | G96: =SUM(F92:F95) -> 0
B98: Kandidaat | C98: =C91+1 -> 14 | D98: Uren | E98: Overeengekomen tariefwaarde in € | F98: SROI-waarde | G98: Totaal
B99: Aantal gewerkte uren kandidaat | E99: =Kandidaten!D99 -> 0 | F99: =D99*E99 -> 0
B100: Aantal begeleidingsuren kandidaat | E100: =Kandidaten!D100 -> 0 | F100: =D100*E100 -> 0
B101: Bijkomende kosten kadidaat (per uur) | E101: =Kandidaten!D101 -> 0 | F101: =D99*E101 -> 0
B102: Bijkomende kosten per periode | E102: =Kandidaten!D102 -> 0 | F102: =IF(D99>0,E102,0) -> 0
B103: Totaal SROI-waarde kandidaat deze periode | G103: =SUM(F99:F102) -> 0
B105: Kandidaat | C105: =C98+1 -> 15 | D105: Uren | E105: Overeengekomen tariefwaarde in € | F105: SROI-waarde | G105: Totaal
B106: Aantal gewerkte uren kandidaat | E106: =Kandidaten!D106 -> 0 | F106: =D106*E106 -> 0
B107: Aantal begeleidingsuren kandidaat | E107: =Kandidaten!D107 -> 0 | F107: =D107*E107 -> 0
B108: Bijkomende kosten kadidaat (per uur) | E108: =Kandidaten!D108 -> 0 | F108: =D106*E108 -> 0
B109: Bijkomende kosten per periode | E109: =Kandidaten!D109 -> 0 | F109: =IF(D106>0,E109,0) -> 0
B110: Totaal SROI-waarde kandidaat deze periode | G110: =SUM(F106:F109) -> 0
B112: Kandidaat | C112: =C105+1 -> 16 | D112: Uren | E112: Overeengekomen tariefwaarde in € | F112: SROI-waarde | G112: Totaal
B113: Aantal gewerkte uren kandidaat | E113: =Kandidaten!D113 -> 0 | F113: =D113*E113 -> 0
B114: Aantal begeleidingsuren kandidaat | E114: =Kandidaten!D114 -> 0 | F114: =D114*E114 -> 0
B115: Bijkomende kosten kadidaat (per uur) | E115: =Kandidaten!D115 -> 0 | F115: =D113*E115 -> 0
B116: Bijkomende kosten per periode | E116: =Kandidaten!D116 -> 0 | F116: =IF(D113>0,E116,0) -> 0
B117: Totaal SROI-waarde kandidaat deze periode | G117: =SUM(F113:F116) -> 0
...

Sheet P5
B2: PERIODE 5 | F2: Periode | I2: Invul instructie
E3: Startdatum: | G3: xx-xx-xx | I3: Vul alleen de witte cellen in (waar van toepassing).
B4: Vul alleen de witte cellen in | E4: Einddatum: | G4: xx-xx-xx | I4: De waarde in de categorie "Overig" kan alleen worden ingevuld als dat met
E5: Aantal werkdagen: | I5: de opdrachtgever is overeengekomen (bijvoorbeeld sociaal inkopen, of een bonus) .
B7: Kandidaat | C7: 1 | D7: Uren | E7: Overeengekomen tariefwaarde in € | F7: SROI-waarde | G7: Totaal | I7: Categorie "Overig" (niet kandidaat gebonden)
B8: Aantal gewerkte uren kandidaat | E8: =Kandidaten!D8 -> 0 | F8: =D8*E8 -> 0 | I8: Overeengekomen extra gerealiseerde waarde in de deze periode in €
B9: Aantal begeleidingsuren kandidaat | E9: =Kandidaten!D9 -> 0 | F9: =D9*E9 -> 0 | I9: Omschrijving SROI-inzet categorie "Overig":
B10: Bijkomende kosten kadidaat (per uur) | E10: =Kandidaten!D10 -> 0 | F10: =D8*E10 -> 0
B11: Bijkomende kosten per periode | E11: =Kandidaten!D11 -> 0 | F11: =IF(D8>0,E11,0) -> 0
B12: Totaal SROI-waarde kandidaat deze periode | G12: =SUM(F8:F11) -> 0
B14: Kandidaat | C14: =C7+1 -> 2 | D14: Uren | E14: Overeengekomen tariefwaarde in € | F14: SROI-waarde | G14: Totaal | I14: Totaal gerealiseerde waarde deze periode
B15: Aantal gewerkte uren kandidaat | E15: =Kandidaten!D15 -> 0 | F15: =D15*E15 -> 0 | I15: Kandidaten | J15: =SUM(G7:G355) -> 0
B16: Aantal begeleidingsuren kandidaat | E16: =Kandidaten!D16 -> 0 | F16: =D16*E16 -> 0 | I16: Overig | J16: =J8 -> 0
B17: Bijkomende kosten kadidaat (per uur) | E17: =Kandidaten!D17 -> 0 | F17: =D15*E17 -> 0
B18: Bijkomende kosten per periode | E18: =Kandidaten!D18 -> 0 | F18: =IF(D15>0,E18,0) -> 0
B19: Totaal SROI-waarde kandidaat deze periode | G19: =SUM(F15:F18) -> 0 | I19: Totaal | J19: =J15+J16 -> 0
B21: Kandidaat | C21: =C14+1 -> 3 | D21: Uren | E21: Overeengekomen tariefwaarde in € | F21: SROI-waarde | G21: Totaal
B22: Aantal gewerkte uren kandidaat | E22: =Kandidaten!D22 -> 0 | F22: =D22*E22 -> 0
B23: Aantal begeleidingsuren kandidaat | E23: =Kandidaten!D23 -> 0 | F23: =D23*E23 -> 0
B24: Bijkomende kosten kadidaat (per uur) | E24: =Kandidaten!D24 -> 0 | F24: =D22*E24 -> 0
B25: Bijkomende kosten per periode | E25: =Kandidaten!D25 -> 0 | F25: =IF(D22>0,E25,0) -> 0
B26: Totaal SROI-waarde kandidaat deze periode | G26: =SUM(F22:F25) -> 0
B28: Kandidaat | C28: =C21+1 -> 4 | D28: Uren | E28: Overeengekomen tariefwaarde in € | F28: SROI-waarde | G28: Totaal
B29: Aantal gewerkte uren kandidaat | E29: =Kandidaten!D29 -> 0 | F29: =D29*E29 -> 0
B30: Aantal begeleidingsuren kandidaat | E30: =Kandidaten!D30 -> 0 | F30: =D30*E30 -> 0
B31: Bijkomende kosten kadidaat (per uur) | E31: =Kandidaten!D31 -> 0 | F31: =D29*E31 -> 0
B32: Bijkomende kosten per periode | E32: =Kandidaten!D32 -> 0 | F32: =IF(D29>0,E32,0) -> 0
B33: Totaal SROI-waarde kandidaat deze periode | G33: =SUM(F29:F32) -> 0
B35: Kandidaat | C35: =C28+1 -> 5 | D35: Uren | E35: Overeengekomen tariefwaarde in € | F35: SROI-waarde | G35: Totaal
B36: Aantal gewerkte uren kandidaat | E36: =Kandidaten!D36 -> 0 | F36: =D36*E36 -> 0
B37: Aantal begeleidingsuren kandidaat | E37: =Kandidaten!D37 -> 0 | F37: =D37*E37 -> 0
B38: Bijkomende kosten kadidaat (per uur) | E38: =Kandidaten!D38 -> 0 | F38: =D36*E38 -> 0
B39: Bijkomende kosten per periode | E39: =Kandidaten!D39 -> 0 | F39: =IF(D36>0,E39,0) -> 0
B40: Totaal SROI-waarde kandidaat deze periode | G40: =SUM(F36:F39) -> 0
B42: Kandidaat | C42: =C35+1 -> 6 | D42: Uren | E42: Overeengekomen tariefwaarde in € | F42: SROI-waarde | G42: Totaal
B43: Aantal gewerkte uren kandidaat | E43: =Kandidaten!D43 -> 0 | F43: =D43*E43 -> 0
B44: Aantal begeleidingsuren kandidaat | E44: =Kandidaten!D44 -> 0 | F44: =D44*E44 -> 0
B45: Bijkomende kosten kadidaat (per uur) | E45: =Kandidaten!D45 -> 0 | F45: =D43*E45 -> 0
B46: Bijkomende kosten per periode | E46: =Kandidaten!D46 -> 0 | F46: =IF(D43>0,E46,0) -> 0
B47: Totaal SROI-waarde kandidaat deze periode | G47: =SUM(F43:F46) -> 0
B49: Kandidaat | C49: =C42+1 -> 7 | D49: Uren | E49: Overeengekomen tariefwaarde in € | F49: SROI-waarde | G49: Totaal
B50: Aantal gewerkte uren kandidaat | E50: =Kandidaten!D50 -> 0 | F50: =D50*E50 -> 0
B51: Aantal begeleidingsuren kandidaat | E51: =Kandidaten!D51 -> 0 | F51: =D51*E51 -> 0
B52: Bijkomende kosten kadidaat (per uur) | E52: =Kandidaten!D52 -> 0 | F52: =D50*E52 -> 0
B53: Bijkomende kosten per periode | E53: =Kandidaten!D53 -> 0 | F53: =IF(D50>0,E53,0) -> 0
B54: Totaal SROI-waarde kandidaat deze periode | G54: =SUM(F50:F53) -> 0
B56: Kandidaat | C56: =C49+1 -> 8 | D56: Uren | E56: Overeengekomen tariefwaarde in € | F56: SROI-waarde | G56: Totaal
B57: Aantal gewerkte uren kandidaat | E57: =Kandidaten!D57 -> 0 | F57: =D57*E57 -> 0
B58: Aantal begeleidingsuren kandidaat | E58: =Kandidaten!D58 -> 0 | F58: =D58*E58 -> 0
B59: Bijkomende kosten kadidaat (per uur) | E59: =Kandidaten!D59 -> 0 | F59: =D57*E59 -> 0
B60: Bijkomende kosten per periode | E60: =Kandidaten!D60 -> 0 | F60: =IF(D57>0,E60,0) -> 0
B61: Totaal SROI-waarde kandidaat deze periode | G61: =SUM(F57:F60) -> 0
B63: Kandidaat | C63: =C56+1 -> 9 | D63: Uren | E63: Overeengekomen tariefwaarde in € | F63: SROI-waarde | G63: Totaal
B64: Aantal gewerkte uren kandidaat | E64: =Kandidaten!D64 -> 0 | F64: =D64*E64 -> 0
B65: Aantal begeleidingsuren kandidaat | E65: =Kandidaten!D65 -> 0 | F65: =D65*E65 -> 0
B66: Bijkomende kosten kadidaat (per uur) | E66: =Kandidaten!D66 -> 0 | F66: =D64*E66 -> 0
B67: Bijkomende kosten per periode | E67: =Kandidaten!D67 -> 0 | F67: =IF(D64>0,E67,0) -> 0
B68: Totaal SROI-waarde kandidaat deze periode | G68: =SUM(F64:F67) -> 0
B70: Kandidaat | C70: =C63+1 -> 10 | D70: Uren | E70: Overeengekomen tariefwaarde in € | F70: SROI-waarde | G70: Totaal
B71: Aantal gewerkte uren kandidaat | E71: =Kandidaten!D71 -> 0 | F71: =D71*E71 -> 0
B72: Aantal begeleidingsuren kandidaat | E72: =Kandidaten!D72 -> 0 | F72: =D72*E72 -> 0
B73: Bijkomende kosten kadidaat (per uur) | E73: =Kandidaten!D73 -> 0 | F73: =D71*E73 -> 0
B74: Bijkomende kosten per periode | E74: =Kandidaten!D74 -> 0 | F74: =IF(D71>0,E74,0) -> 0
B75: Totaal SROI-waarde kandidaat deze periode | G75: =SUM(F71:F74) -> 0
B77: Kandidaat | C77: =C70+1 -> 11 | D77: Uren | E77: Overeengekomen tariefwaarde in € | F77: SROI-waarde | G77: Totaal
B78: Aantal gewerkte uren kandidaat | E78: =Kandidaten!D78 -> 0 | F78: =D78*E78 -> 0
B79: Aantal begeleidingsuren kandidaat | E79: =Kandidaten!D79 -> 0 | F79: =D79*E79 -> 0
B80: Bijkomende kosten kadidaat (per uur) | E80: =Kandidaten!D80 -> 0 | F80: =D78*E80 -> 0
B81: Bijkomende kosten per periode | E81: =Kandidaten!D81 -> 0 | F81: =IF(D78>0,E81,0) -> 0
B82: Totaal SROI-waarde kandidaat deze periode | G82: =SUM(F78:F81) -> 0
B84: Kandidaat | C84: =C77+1 -> 12 | D84: Uren | E84: Overeengekomen tariefwaarde in € | F84: SROI-waarde | G84: Totaal
B85: Aantal gewerkte uren kandidaat | E85: =Kandidaten!D85 -> 0 | F85: =D85*E85 -> 0
B86: Aantal begeleidingsuren kandidaat | E86: =Kandidaten!D86 -> 0 | F86: =D86*E86 -> 0
B87: Bijkomende kosten kadidaat (per uur) | E87: =Kandidaten!D87 -> 0 | F87: =D85*E87 -> 0
B88: Bijkomende kosten per periode | E88: =Kandidaten!D88 -> 0 | F88: =IF(D85>0,E88,0) -> 0
B89: Totaal SROI-waarde kandidaat deze periode | G89: =SUM(F85:F88) -> 0
B91: Kandidaat | C91: =C84+1 -> 13 | D91: Uren | E91: Overeengekomen tariefwaarde in € | F91: SROI-waarde | G91: Totaal
B92: Aantal gewerkte uren kandidaat | E92: =Kandidaten!D92 -> 0 | F92: =D92*E92 -> 0
B93: Aantal begeleidingsuren kandidaat | E93: =Kandidaten!D93 -> 0 | F93: =D93*E93 -> 0
B94: Bijkomende kosten kadidaat (per uur) | E94: =Kandidaten!D94 -> 0 | F94: =D92*E94 -> 0
B95: Bijkomende kosten per periode | E95: =Kandidaten!D95 -> 0 | F95: =IF(D92>0,E95,0) -> 0
B96: Totaal SROI-waarde kandidaat deze periode | G96: =SUM(F92:F95) -> 0
B98: Kandidaat | C98: =C91+1 -> 14 | D98: Uren | E98: Overeengekomen tariefwaarde in € | F98: SROI-waarde | G98: Totaal
B99: Aantal gewerkte uren kandidaat | E99: =Kandidaten!D99 -> 0 | F99: =D99*E99 -> 0
B100: Aantal begeleidingsuren kandidaat | E100: =Kandidaten!D100 -> 0 | F100: =D100*E100 -> 0
B101: Bijkomende kosten kadidaat (per uur) | E101: =Kandidaten!D101 -> 0 | F101: =D99*E101 -> 0
B102: Bijkomende kosten per periode | E102: =Kandidaten!D102 -> 0 | F102: =IF(D99>0,E102,0) -> 0
B103: Totaal SROI-waarde kandidaat deze periode | G103: =SUM(F99:F102) -> 0
B105: Kandidaat | C105: =C98+1 -> 15 | D105: Uren | E105: Overeengekomen tariefwaarde in € | F105: SROI-waarde | G105: Totaal
B106: Aantal gewerkte uren kandidaat | E106: =Kandidaten!D106 -> 0 | F106: =D106*E106 -> 0
B107: Aantal begeleidingsuren kandidaat | E107: =Kandidaten!D107 -> 0 | F107: =D107*E107 -> 0
B108: Bijkomende kosten kadidaat (per uur) | E108: =Kandidaten!D108 -> 0 | F108: =D106*E108 -> 0
B109: Bijkomende kosten per periode | E109: =Kandidaten!D109 -> 0 | F109: =IF(D106>0,E109,0) -> 0
B110: Totaal SROI-waarde kandidaat deze periode | G110: =SUM(F106:F109) -> 0
B112: Kandidaat | C112: =C105+1 -> 16 | D112: Uren | E112: Overeengekomen tariefwaarde in € | F112: SROI-waarde | G112: Totaal
B113: Aantal gewerkte uren kandidaat | E113: =Kandidaten!D113 -> 0 | F113: =D113*E113 -> 0
B114: Aantal begeleidingsuren kandidaat | E114: =Kandidaten!D114 -> 0 | F114: =D114*E114 -> 0
B115: Bijkomende kosten kadidaat (per uur) | E115: =Kandidaten!D115 -> 0 | F115: =D113*E115 -> 0
B116: Bijkomende kosten per periode | E116: =Kandidaten!D116 -> 0 | F116: =IF(D113>0,E116,0) -> 0
B117: Totaal SROI-waarde kandidaat deze periode | G117: =SUM(F113:F116) -> 0
...

Sheet P6
B2: PERIODE 6 | F2: Periode | I2: Invul instructie
E3: Startdatum: | G3: xx-xx-xx | I3: Vul alleen de witte cellen in (waar van toepassing).
B4: Vul alleen de witte cellen in | E4: Einddatum: | G4: xx-xx-xx | I4: De waarde in de categorie "Overig" kan alleen worden ingevuld als dat met
E5: Aantal werkdagen: | I5: de opdrachtgever is overeengekomen (bijvoorbeeld sociaal inkopen, of een bonus) .
B7: Kandidaat | C7: 1 | D7: Uren | E7: Overeengekomen tariefwaarde in € | F7: SROI-waarde | G7: Totaal | I7: Categorie "Overig" (niet kandidaat gebonden)
B8: Aantal gewerkte uren kandidaat | E8: =Kandidaten!D8 -> 0 | F8: =D8*E8 -> 0 | I8: Overeengekomen extra gerealiseerde waarde in de deze periode in €
B9: Aantal begeleidingsuren kandidaat | E9: =Kandidaten!D9 -> 0 | F9: =D9*E9 -> 0 | I9: Omschrijving SROI-inzet categorie "Overig":
B10: Bijkomende kosten kadidaat (per uur) | E10: =Kandidaten!D10 -> 0 | F10: =D8*E10 -> 0
B11: Bijkomende kosten per periode | E11: =Kandidaten!D11 -> 0 | F11: =IF(D8>0,E11,0) -> 0
B12: Totaal SROI-waarde kandidaat deze periode | G12: =SUM(F8:F11) -> 0
B14: Kandidaat | C14: =C7+1 -> 2 | D14: Uren | E14: Overeengekomen tariefwaarde in € | F14: SROI-waarde | G14: Totaal | I14: Totaal gerealiseerde waarde deze periode
B15: Aantal gewerkte uren kandidaat | E15: =Kandidaten!D15 -> 0 | F15: =D15*E15 -> 0 | I15: Kandidaten | J15: =SUM(G7:G355) -> 0
B16: Aantal begeleidingsuren kandidaat | E16: =Kandidaten!D16 -> 0 | F16: =D16*E16 -> 0 | I16: Overig | J16: =J8 -> 0
B17: Bijkomende kosten kadidaat (per uur) | E17: =Kandidaten!D17 -> 0 | F17: =D15*E17 -> 0
B18: Bijkomende kosten per periode | E18: =Kandidaten!D18 -> 0 | F18: =IF(D15>0,E18,0) -> 0
B19: Totaal SROI-waarde kandidaat deze periode | G19: =SUM(F15:F18) -> 0 | I19: Totaal | J19: =J15+J16 -> 0
B21: Kandidaat | C21: =C14+1 -> 3 | D21: Uren | E21: Overeengekomen tariefwaarde in € | F21: SROI-waarde | G21: Totaal
B22: Aantal gewerkte uren kandidaat | E22: =Kandidaten!D22 -> 0 | F22: =D22*E22 -> 0
B23: Aantal begeleidingsuren kandidaat | E23: =Kandidaten!D23 -> 0 | F23: =D23*E23 -> 0
B24: Bijkomende kosten kadidaat (per uur) | E24: =Kandidaten!D24 -> 0 | F24: =D22*E24 -> 0
B25: Bijkomende kosten per periode | E25: =Kandidaten!D25 -> 0 | F25: =IF(D22>0,E25,0) -> 0
B26: Totaal SROI-waarde kandidaat deze periode | G26: =SUM(F22:F25) -> 0
B28: Kandidaat | C28: =C21+1 -> 4 | D28: Uren | E28: Overeengekomen tariefwaarde in € | F28: SROI-waarde | G28: Totaal
B29: Aantal gewerkte uren kandidaat | E29: =Kandidaten!D29 -> 0 | F29: =D29*E29 -> 0
B30: Aantal begeleidingsuren kandidaat | E30: =Kandidaten!D30 -> 0 | F30: =D30*E30 -> 0
B31: Bijkomende kosten kadidaat (per uur) | E31: =Kandidaten!D31 -> 0 | F31: =D29*E31 -> 0
B32: Bijkomende kosten per periode | E32: =Kandidaten!D32 -> 0 | F32: =IF(D29>0,E32,0) -> 0
B33: Totaal SROI-waarde kandidaat deze periode | G33: =SUM(F29:F32) -> 0
B35: Kandidaat | C35: =C28+1 -> 5 | D35: Uren | E35: Overeengekomen tariefwaarde in € | F35: SROI-waarde | G35: Totaal
B36: Aantal gewerkte uren kandidaat | E36: =Kandidaten!D36 -> 0 | F36: =D36*E36 -> 0
B37: Aantal begeleidingsuren kandidaat | E37: =Kandidaten!D37 -> 0 | F37: =D37*E37 -> 0
B38: Bijkomende kosten kadidaat (per uur) | E38: =Kandidaten!D38 -> 0 | F38: =D36*E38 -> 0
B39: Bijkomende kosten per periode | E39: =Kandidaten!D39 -> 0 | F39: =IF(D36>0,E39,0) -> 0
B40: Totaal SROI-waarde kandidaat deze periode | G40: =SUM(F36:F39) -> 0
B42: Kandidaat | C42: =C35+1 -> 6 | D42: Uren | E42: Overeengekomen tariefwaarde in € | F42: SROI-waarde | G42: Totaal
B43: Aantal gewerkte uren kandidaat | E43: =Kandidaten!D43 -> 0 | F43: =D43*E43 -> 0
B44: Aantal begeleidingsuren kandidaat | E44: =Kandidaten!D44 -> 0 | F44: =D44*E44 -> 0
B45: Bijkomende kosten kadidaat (per uur) | E45: =Kandidaten!D45 -> 0 | F45: =D43*E45 -> 0
B46: Bijkomende kosten per periode | E46: =Kandidaten!D46 -> 0 | F46: =IF(D43>0,E46,0) -> 0
B47: Totaal SROI-waarde kandidaat deze periode | G47: =SUM(F43:F46) -> 0
B49: Kandidaat | C49: =C42+1 -> 7 | D49: Uren | E49: Overeengekomen tariefwaarde in € | F49: SROI-waarde | G49: Totaal
B50: Aantal gewerkte uren kandidaat | E50: =Kandidaten!D50 -> 0 | F50: =D50*E50 -> 0
B51: Aantal begeleidingsuren kandidaat | E51: =Kandidaten!D51 -> 0 | F51: =D51*E51 -> 0
B52: Bijkomende kosten kadidaat (per uur) | E52: =Kandidaten!D52 -> 0 | F52: =D50*E52 -> 0
B53: Bijkomende kosten per periode | E53: =Kandidaten!D53 -> 0 | F53: =IF(D50>0,E53,0) -> 0
B54: Totaal SROI-waarde kandidaat deze periode | G54: =SUM(F50:F53) -> 0
B56: Kandidaat | C56: =C49+1 -> 8 | D56: Uren | E56: Overeengekomen tariefwaarde in € | F56: SROI-waarde | G56: Totaal
B57: Aantal gewerkte uren kandidaat | E57: =Kandidaten!D57 -> 0 | F57: =D57*E57 -> 0
B58: Aantal begeleidingsuren kandidaat | E58: =Kandidaten!D58 -> 0 | F58: =D58*E58 -> 0
B59: Bijkomende kosten kadidaat (per uur) | E59: =Kandidaten!D59 -> 0 | F59: =D57*E59 -> 0
B60: Bijkomende kosten per periode | E60: =Kandidaten!D60 -> 0 | F60: =IF(D57>0,E60,0) -> 0
B61: Totaal SROI-waarde kandidaat deze periode | G61: =SUM(F57:F60) -> 0
B63: Kandidaat | C63: =C56+1 -> 9 | D63: Uren | E63: Overeengekomen tariefwaarde in € | F63: SROI-waarde | G63: Totaal
B64: Aantal gewerkte uren kandidaat | E64: =Kandidaten!D64 -> 0 | F64: =D64*E64 -> 0
B65: Aantal begeleidingsuren kandidaat | E65: =Kandidaten!D65 -> 0 | F65: =D65*E65 -> 0
B66: Bijkomende kosten kadidaat (per uur) | E66: =Kandidaten!D66 -> 0 | F66: =D64*E66 -> 0
B67: Bijkomende kosten per periode | E67: =Kandidaten!D67 -> 0 | F67: =IF(D64>0,E67,0) -> 0
B68: Totaal SROI-waarde kandidaat deze periode | G68: =SUM(F64:F67) -> 0
B70: Kandidaat | C70: =C63+1 -> 10 | D70: Uren | E70: Overeengekomen tariefwaarde in € | F70: SROI-waarde | G70: Totaal
B71: Aantal gewerkte uren kandidaat | E71: =Kandidaten!D71 -> 0 | F71: =D71*E71 -> 0
B72: Aantal begeleidingsuren kandidaat | E72: =Kandidaten!D72 -> 0 | F72: =D72*E72 -> 0
B73: Bijkomende kosten kadidaat (per uur) | E73: =Kandidaten!D73 -> 0 | F73: =D71*E73 -> 0
B74: Bijkomende kosten per periode | E74: =Kandidaten!D74 -> 0 | F74: =IF(D71>0,E74,0) -> 0
B75: Totaal SROI-waarde kandidaat deze periode | G75: =SUM(F71:F74) -> 0
B77: Kandidaat | C77: =C70+1 -> 11 | D77: Uren | E77: Overeengekomen tariefwaarde in € | F77: SROI-waarde | G77: Totaal
B78: Aantal gewerkte uren kandidaat | E78: =Kandidaten!D78 -> 0 | F78: =D78*E78 -> 0
B79: Aantal begeleidingsuren kandidaat | E79: =Kandidaten!D79 -> 0 | F79: =D79*E79 -> 0
B80: Bijkomende kosten kadidaat (per uur) | E80: =Kandidaten!D80 -> 0 | F80: =D78*E80 -> 0
B81: Bijkomende kosten per periode | E81: =Kandidaten!D81 -> 0 | F81: =IF(D78>0,E81,0) -> 0
B82: Totaal SROI-waarde kandidaat deze periode | G82: =SUM(F78:F81) -> 0
B84: Kandidaat | C84: =C77+1 -> 12 | D84: Uren | E84: Overeengekomen tariefwaarde in € | F84: SROI-waarde | G84: Totaal
B85: Aantal gewerkte uren kandidaat | E85: =Kandidaten!D85 -> 0 | F85: =D85*E85 -> 0
B86: Aantal begeleidingsuren kandidaat | E86: =Kandidaten!D86 -> 0 | F86: =D86*E86 -> 0
B87: Bijkomende kosten kadidaat (per uur) | E87: =Kandidaten!D87 -> 0 | F87: =D85*E87 -> 0
B88: Bijkomende kosten per periode | E88: =Kandidaten!D88 -> 0 | F88: =IF(D85>0,E88,0) -> 0
B89: Totaal SROI-waarde kandidaat deze periode | G89: =SUM(F85:F88) -> 0
B91: Kandidaat | C91: =C84+1 -> 13 | D91: Uren | E91: Overeengekomen tariefwaarde in € | F91: SROI-waarde | G91: Totaal
B92: Aantal gewerkte uren kandidaat | E92: =Kandidaten!D92 -> 0 | F92: =D92*E92 -> 0
B93: Aantal begeleidingsuren kandidaat | E93: =Kandidaten!D93 -> 0 | F93: =D93*E93 -> 0
B94: Bijkomende kosten kadidaat (per uur) | E94: =Kandidaten!D94 -> 0 | F94: =D92*E94 -> 0
B95: Bijkomende kosten per periode | E95: =Kandidaten!D95 -> 0 | F95: =IF(D92>0,E95,0) -> 0
B96: Totaal SROI-waarde kandidaat deze periode | G96: =SUM(F92:F95) -> 0
B98: Kandidaat | C98: =C91+1 -> 14 | D98: Uren | E98: Overeengekomen tariefwaarde in € | F98: SROI-waarde | G98: Totaal
B99: Aantal gewerkte uren kandidaat | E99: =Kandidaten!D99 -> 0 | F99: =D99*E99 -> 0
B100: Aantal begeleidingsuren kandidaat | E100: =Kandidaten!D100 -> 0 | F100: =D100*E100 -> 0
B101: Bijkomende kosten kadidaat (per uur) | E101: =Kandidaten!D101 -> 0 | F101: =D99*E101 -> 0
B102: Bijkomende kosten per periode | E102: =Kandidaten!D102 -> 0 | F102: =IF(D99>0,E102,0) -> 0
B103: Totaal SROI-waarde kandidaat deze periode | G103: =SUM(F99:F102) -> 0
B105: Kandidaat | C105: =C98+1 -> 15 | D105: Uren | E105: Overeengekomen tariefwaarde in € | F105: SROI-waarde | G105: Totaal
B106: Aantal gewerkte uren kandidaat | E106: =Kandidaten!D106 -> 0 | F106: =D106*E106 -> 0
B107: Aantal begeleidingsuren kandidaat | E107: =Kandidaten!D107 -> 0 | F107: =D107*E107 -> 0
B108: Bijkomende kosten kadidaat (per uur) | E108: =Kandidaten!D108 -> 0 | F108: =D106*E108 -> 0
B109: Bijkomende kosten per periode | E109: =Kandidaten!D109 -> 0 | F109: =IF(D106>0,E109,0) -> 0
B110: Totaal SROI-waarde kandidaat deze periode | G110: =SUM(F106:F109) -> 0
B112: Kandidaat | C112: =C105+1 -> 16 | D112: Uren | E112: Overeengekomen tariefwaarde in € | F112: SROI-waarde | G112: Totaal
B113: Aantal gewerkte uren kandidaat | E113: =Kandidaten!D113 -> 0 | F113: =D113*E113 -> 0
B114: Aantal begeleidingsuren kandidaat | E114: =Kandidaten!D114 -> 0 | F114: =D114*E114 -> 0
B115: Bijkomende kosten kadidaat (per uur) | E115: =Kandidaten!D115 -> 0 | F115: =D113*E115 -> 0
B116: Bijkomende kosten per periode | E116: =Kandidaten!D116 -> 0 | F116: =IF(D113>0,E116,0) -> 0
B117: Totaal SROI-waarde kandidaat deze periode | G117: =SUM(F113:F116) -> 0
...

Sheet P7
B2: PERIODE 7 | F2: Periode | I2: Invul instructie
E3: Startdatum: | G3: xx-xx-xx | I3: Vul alleen de witte cellen in (waar van toepassing).
B4: Vul alleen de witte cellen in | E4: Einddatum: | G4: xx-xx-xx | I4: De waarde in de categorie "Overig" kan alleen worden ingevuld als dat met
E5: Aantal werkdagen: | I5: de opdrachtgever is overeengekomen (bijvoorbeeld sociaal inkopen, of een bonus) .
B7: Kandidaat | C7: 1 | D7: Uren | E7: Overeengekomen tariefwaarde in € | F7: SROI-waarde | G7: Totaal | I7: Categorie "Overig" (niet kandidaat gebonden)
B8: Aantal gewerkte uren kandidaat | E8: =Kandidaten!D8 -> 0 | F8: =D8*E8 -> 0 | I8: Overeengekomen extra gerealiseerde waarde in de deze periode in €
B9: Aantal begeleidingsuren kandidaat | E9: =Kandidaten!D9 -> 0 | F9: =D9*E9 -> 0 | I9: Omschrijving SROI-inzet categorie "Overig":
B10: Bijkomende kosten kadidaat (per uur) | E10: =Kandidaten!D10 -> 0 | F10: =D8*E10 -> 0
B11: Bijkomende kosten per periode | E11: =Kandidaten!D11 -> 0 | F11: =IF(D8>0,E11,0) -> 0
B12: Totaal SROI-waarde kandidaat deze periode | G12: =SUM(F8:F11) -> 0
B14: Kandidaat | C14: =C7+1 -> 2 | D14: Uren | E14: Overeengekomen tariefwaarde in € | F14: SROI-waarde | G14: Totaal | I14: Totaal gerealiseerde waarde deze periode
B15: Aantal gewerkte uren kandidaat | E15: =Kandidaten!D15 -> 0 | F15: =D15*E15 -> 0 | I15: Kandidaten | J15: =SUM(G7:G355) -> 0
B16: Aantal begeleidingsuren kandidaat | E16: =Kandidaten!D16 -> 0 | F16: =D16*E16 -> 0 | I16: Overig | J16: =J8 -> 0
B17: Bijkomende kosten kadidaat (per uur) | E17: =Kandidaten!D17 -> 0 | F17: =D15*E17 -> 0
B18: Bijkomende kosten per periode | E18: =Kandidaten!D18 -> 0 | F18: =IF(D15>0,E18,0) -> 0
B19: Totaal SROI-waarde kandidaat deze periode | G19: =SUM(F15:F18) -> 0 | I19: Totaal | J19: =J15+J16 -> 0
B21: Kandidaat | C21: =C14+1 -> 3 | D21: Uren | E21: Overeengekomen tariefwaarde in € | F21: SROI-waarde | G21: Totaal
B22: Aantal gewerkte uren kandidaat | E22: =Kandidaten!D22 -> 0 | F22: =D22*E22 -> 0
B23: Aantal begeleidingsuren kandidaat | E23: =Kandidaten!D23 -> 0 | F23: =D23*E23 -> 0
B24: Bijkomende kosten kadidaat (per uur) | E24: =Kandidaten!D24 -> 0 | F24: =D22*E24 -> 0
B25: Bijkomende kosten per periode | E25: =Kandidaten!D25 -> 0 | F25: =IF(D22>0,E25,0) -> 0
B26: Totaal SROI-waarde kandidaat deze periode | G26: =SUM(F22:F25) -> 0
B28: Kandidaat | C28: =C21+1 -> 4 | D28: Uren | E28: Overeengekomen tariefwaarde in € | F28: SROI-waarde | G28: Totaal
B29: Aantal gewerkte uren kandidaat | E29: =Kandidaten!D29 -> 0 | F29: =D29*E29 -> 0
B30: Aantal begeleidingsuren kandidaat | E30: =Kandidaten!D30 -> 0 | F30: =D30*E30 -> 0
B31: Bijkomende kosten kadidaat (per uur) | E31: =Kandidaten!D31 -> 0 | F31: =D29*E31 -> 0
B32: Bijkomende kosten per periode | E32: =Kandidaten!D32 -> 0 | F32: =IF(D29>0,E32,0) -> 0
B33: Totaal SROI-waarde kandidaat deze periode | G33: =SUM(F29:F32) -> 0
B35: Kandidaat | C35: =C28+1 -> 5 | D35: Uren | E35: Overeengekomen tariefwaarde in € | F35: SROI-waarde | G35: Totaal
B36: Aantal gewerkte uren kandidaat | E36: =Kandidaten!D36 -> 0 | F36: =D36*E36 -> 0
B37: Aantal begeleidingsuren kandidaat | E37: =Kandidaten!D37 -> 0 | F37: =D37*E37 -> 0
B38: Bijkomende kosten kadidaat (per uur) | E38: =Kandidaten!D38 -> 0 | F38: =D36*E38 -> 0
B39: Bijkomende kosten per periode | E39: =Kandidaten!D39 -> 0 | F39: =IF(D36>0,E39,0) -> 0
B40: Totaal SROI-waarde kandidaat deze periode | G40: =SUM(F36:F39) -> 0
B42: Kandidaat | C42: =C35+1 -> 6 | D42: Uren | E42: Overeengekomen tariefwaarde in € | F42: SROI-waarde | G42: Totaal
B43: Aantal gewerkte uren kandidaat | E43: =Kandidaten!D43 -> 0 | F43: =D43*E43 -> 0
B44: Aantal begeleidingsuren kandidaat | E44: =Kandidaten!D44 -> 0 | F44: =D44*E44 -> 0
B45: Bijkomende kosten kadidaat (per uur) | E45: =Kandidaten!D45 -> 0 | F45: =D43*E45 -> 0
B46: Bijkomende kosten per periode | E46: =Kandidaten!D46 -> 0 | F46: =IF(D43>0,E46,0) -> 0
B47: Totaal SROI-waarde kandidaat deze periode | G47: =SUM(F43:F46) -> 0
B49: Kandidaat | C49: =C42+1 -> 7 | D49: Uren | E49: Overeengekomen tariefwaarde in € | F49: SROI-waarde | G49: Totaal
B50: Aantal gewerkte uren kandidaat | E50: =Kandidaten!D50 -> 0 | F50: =D50*E50 -> 0
B51: Aantal begeleidingsuren kandidaat | E51: =Kandidaten!D51 -> 0 | F51: =D51*E51 -> 0
B52: Bijkomende kosten kadidaat (per uur) | E52: =Kandidaten!D52 -> 0 | F52: =D50*E52 -> 0
B53: Bijkomende kosten per periode | E53: =Kandidaten!D53 -> 0 | F53: =IF(D50>0,E53,0) -> 0
B54: Totaal SROI-waarde kandidaat deze periode | G54: =SUM(F50:F53) -> 0
B56: Kandidaat | C56: =C49+1 -> 8 | D56: Uren | E56: Overeengekomen tariefwaarde in € | F56: SROI-waarde | G56: Totaal
B57: Aantal gewerkte uren kandidaat | E57: =Kandidaten!D57 -> 0 | F57: =D57*E57 -> 0
B58: Aantal begeleidingsuren kandidaat | E58: =Kandidaten!D58 -> 0 | F58: =D58*E58 -> 0
B59: Bijkomende kosten kadidaat (per uur) | E59: =Kandidaten!D59 -> 0 | F59: =D57*E59 -> 0
B60: Bijkomende kosten per periode | E60: =Kandidaten!D60 -> 0 | F60: =IF(D57>0,E60,0) -> 0
B61: Totaal SROI-waarde kandidaat deze periode | G61: =SUM(F57:F60) -> 0
B63: Kandidaat | C63: =C56+1 -> 9 | D63: Uren | E63: Overeengekomen tariefwaarde in € | F63: SROI-waarde | G63: Totaal
B64: Aantal gewerkte uren kandidaat | E64: =Kandidaten!D64 -> 0 | F64: =D64*E64 -> 0
B65: Aantal begeleidingsuren kandidaat | E65: =Kandidaten!D65 -> 0 | F65: =D65*E65 -> 0
B66: Bijkomende kosten kadidaat (per uur) | E66: =Kandidaten!D66 -> 0 | F66: =D64*E66 -> 0
B67: Bijkomende kosten per periode | E67: =Kandidaten!D67 -> 0 | F67: =IF(D64>0,E67,0) -> 0
B68: Totaal SROI-waarde kandidaat deze periode | G68: =SUM(F64:F67) -> 0
B70: Kandidaat | C70: =C63+1 -> 10 | D70: Uren | E70: Overeengekomen tariefwaarde in € | F70: SROI-waarde | G70: Totaal
B71: Aantal gewerkte uren kandidaat | E71: =Kandidaten!D71 -> 0 | F71: =D71*E71 -> 0
B72: Aantal begeleidingsuren kandidaat | E72: =Kandidaten!D72 -> 0 | F72: =D72*E72 -> 0
B73: Bijkomende kosten kadidaat (per uur) | E73: =Kandidaten!D73 -> 0 | F73: =D71*E73 -> 0
B74: Bijkomende kosten per periode | E74: =Kandidaten!D74 -> 0 | F74: =IF(D71>0,E74,0) -> 0
B75: Totaal SROI-waarde kandidaat deze periode | G75: =SUM(F71:F74) -> 0
B77: Kandidaat | C77: =C70+1 -> 11 | D77: Uren | E77: Overeengekomen tariefwaarde in € | F77: SROI-waarde | G77: Totaal
B78: Aantal gewerkte uren kandidaat | E78: =Kandidaten!D78 -> 0 | F78: =D78*E78 -> 0
B79: Aantal begeleidingsuren kandidaat | E79: =Kandidaten!D79 -> 0 | F79: =D79*E79 -> 0
B80: Bijkomende kosten kadidaat (per uur) | E80: =Kandidaten!D80 -> 0 | F80: =D78*E80 -> 0
B81: Bijkomende kosten per periode | E81: =Kandidaten!D81 -> 0 | F81: =IF(D78>0,E81,0) -> 0
B82: Totaal SROI-waarde kandidaat deze periode | G82: =SUM(F78:F81) -> 0
B84: Kandidaat | C84: =C77+1 -> 12 | D84: Uren | E84: Overeengekomen tariefwaarde in € | F84: SROI-waarde | G84: Totaal
B85: Aantal gewerkte uren kandidaat | E85: =Kandidaten!D85 -> 0 | F85: =D85*E85 -> 0
B86: Aantal begeleidingsuren kandidaat | E86: =Kandidaten!D86 -> 0 | F86: =D86*E86 -> 0
B87: Bijkomende kosten kadidaat (per uur) | E87: =Kandidaten!D87 -> 0 | F87: =D85*E87 -> 0
B88: Bijkomende kosten per periode | E88: =Kandidaten!D88 -> 0 | F88: =IF(D85>0,E88,0) -> 0
B89: Totaal SROI-waarde kandidaat deze periode | G89: =SUM(F85:F88) -> 0
B91: Kandidaat | C91: =C84+1 -> 13 | D91: Uren | E91: Overeengekomen tariefwaarde in € | F91: SROI-waarde | G91: Totaal
B92: Aantal gewerkte uren kandidaat | E92: =Kandidaten!D92 -> 0 | F92: =D92*E92 -> 0
B93: Aantal begeleidingsuren kandidaat | E93: =Kandidaten!D93 -> 0 | F93: =D93*E93 -> 0
B94: Bijkomende kosten kadidaat (per uur) | E94: =Kandidaten!D94 -> 0 | F94: =D92*E94 -> 0
B95: Bijkomende kosten per periode | E95: =Kandidaten!D95 -> 0 | F95: =IF(D92>0,E95,0) -> 0
B96: Totaal SROI-waarde kandidaat deze periode | G96: =SUM(F92:F95) -> 0
B98: Kandidaat | C98: =C91+1 -> 14 | D98: Uren | E98: Overeengekomen tariefwaarde in € | F98: SROI-waarde | G98: Totaal
B99: Aantal gewerkte uren kandidaat | E99: =Kandidaten!D99 -> 0 | F99: =D99*E99 -> 0
B100: Aantal begeleidingsuren kandidaat | E100: =Kandidaten!D100 -> 0 | F100: =D100*E100 -> 0
B101: Bijkomende kosten kadidaat (per uur) | E101: =Kandidaten!D101 -> 0 | F101: =D99*E101 -> 0
B102: Bijkomende kosten per periode | E102: =Kandidaten!D102 -> 0 | F102: =IF(D99>0,E102,0) -> 0
B103: Totaal SROI-waarde kandidaat deze periode | G103: =SUM(F99:F102) -> 0
B105: Kandidaat | C105: =C98+1 -> 15 | D105: Uren | E105: Overeengekomen tariefwaarde in € | F105: SROI-waarde | G105: Totaal
B106: Aantal gewerkte uren kandidaat | E106: =Kandidaten!D106 -> 0 | F106: =D106*E106 -> 0
B107: Aantal begeleidingsuren kandidaat | E107: =Kandidaten!D107 -> 0 | F107: =D107*E107 -> 0
B108: Bijkomende kosten kadidaat (per uur) | E108: =Kandidaten!D108 -> 0 | F108: =D106*E108 -> 0
B109: Bijkomende kosten per periode | E109: =Kandidaten!D109 -> 0 | F109: =IF(D106>0,E109,0) -> 0
B110: Totaal SROI-waarde kandidaat deze periode | G110: =SUM(F106:F109) -> 0
B112: Kandidaat | C112: =C105+1 -> 16 | D112: Uren | E112: Overeengekomen tariefwaarde in € | F112: SROI-waarde | G112: Totaal
B113: Aantal gewerkte uren kandidaat | E113: =Kandidaten!D113 -> 0 | F113: =D113*E113 -> 0
B114: Aantal begeleidingsuren kandidaat | E114: =Kandidaten!D114 -> 0 | F114: =D114*E114 -> 0
B115: Bijkomende kosten kadidaat (per uur) | E115: =Kandidaten!D115 -> 0 | F115: =D113*E115 -> 0
B116: Bijkomende kosten per periode | E116: =Kandidaten!D116 -> 0 | F116: =IF(D113>0,E116,0) -> 0
B117: Totaal SROI-waarde kandidaat deze periode | G117: =SUM(F113:F116) -> 0
...

Sheet P8
B2: PERIODE 8 | F2: Periode | I2: Invul instructie
E3: Startdatum: | G3: xx-xx-xx | I3: Vul alleen de witte cellen in (waar van toepassing).
B4: Vul alleen de witte cellen in | E4: Einddatum: | G4: xx-xx-xx | I4: De waarde in de categorie "Overig" kan alleen worden ingevuld als dat met
E5: Aantal werkdagen: | I5: de opdrachtgever is overeengekomen (bijvoorbeeld sociaal inkopen, of een bonus) .
B7: Kandidaat | C7: 1 | D7: Uren | E7: Overeengekomen tariefwaarde in € | F7: SROI-waarde | G7: Totaal | I7: Categorie "Overig" (niet kandidaat gebonden)
B8: Aantal gewerkte uren kandidaat | E8: =Kandidaten!D8 -> 0 | F8: =D8*E8 -> 0 | I8: Overeengekomen extra gerealiseerde waarde in de deze periode in €
B9: Aantal begeleidingsuren kandidaat | E9: =Kandidaten!D9 -> 0 | F9: =D9*E9 -> 0 | I9: Omschrijving SROI-inzet categorie "Overig":
B10: Bijkomende kosten kadidaat (per uur) | E10: =Kandidaten!D10 -> 0 | F10: =D8*E10 -> 0
B11: Bijkomende kosten per periode | E11: =Kandidaten!D11 -> 0 | F11: =IF(D8>0,E11,0) -> 0
B12: Totaal SROI-waarde kandidaat deze periode | G12: =SUM(F8:F11) -> 0
B14: Kandidaat | C14: =C7+1 -> 2 | D14: Uren | E14: Overeengekomen tariefwaarde in € | F14: SROI-waarde | G14: Totaal | I14: Totaal gerealiseerde waarde deze periode
B15: Aantal gewerkte uren kandidaat | E15: =Kandidaten!D15 -> 0 | F15: =D15*E15 -> 0 | I15: Kandidaten | J15: =SUM(G7:G355) -> 0
B16: Aantal begeleidingsuren kandidaat | E16: =Kandidaten!D16 -> 0 | F16: =D16*E16 -> 0 | I16: Overig | J16: =J8 -> 0
B17: Bijkomende kosten kadidaat (per uur) | E17: =Kandidaten!D17 -> 0 | F17: =D15*E17 -> 0
B18: Bijkomende kosten per periode | E18: =Kandidaten!D18 -> 0 | F18: =IF(D15>0,E18,0) -> 0
B19: Totaal SROI-waarde kandidaat deze periode | G19: =SUM(F15:F18) -> 0 | I19: Totaal | J19: =J15+J16 -> 0
B21: Kandidaat | C21: =C14+1 -> 3 | D21: Uren | E21: Overeengekomen tariefwaarde in € | F21: SROI-waarde | G21: Totaal
B22: Aantal gewerkte uren kandidaat | E22: =Kandidaten!D22 -> 0 | F22: =D22*E22 -> 0
B23: Aantal begeleidingsuren kandidaat | E23: =Kandidaten!D23 -> 0 | F23: =D23*E23 -> 0
B24: Bijkomende kosten kadidaat (per uur) | E24: =Kandidaten!D24 -> 0 | F24: =D22*E24 -> 0
B25: Bijkomende kosten per periode | E25: =Kandidaten!D25 -> 0 | F25: =IF(D22>0,E25,0) -> 0
B26: Totaal SROI-waarde kandidaat deze periode | G26: =SUM(F22:F25) -> 0
B28: Kandidaat | C28: =C21+1 -> 4 | D28: Uren | E28: Overeengekomen tariefwaarde in € | F28: SROI-waarde | G28: Totaal
B29: Aantal gewerkte uren kandidaat | E29: =Kandidaten!D29 -> 0 | F29: =D29*E29 -> 0
B30: Aantal begeleidingsuren kandidaat | E30: =Kandidaten!D30 -> 0 | F30: =D30*E30 -> 0
B31: Bijkomende kosten kadidaat (per uur) | E31: =Kandidaten!D31 -> 0 | F31: =D29*E31 -> 0
B32: Bijkomende kosten per periode | E32: =Kandidaten!D32 -> 0 | F32: =IF(D29>0,E32,0) -> 0
B33: Totaal SROI-waarde kandidaat deze periode | G33: =SUM(F29:F32) -> 0
B35: Kandidaat | C35: =C28+1 -> 5 | D35: Uren | E35: Overeengekomen tariefwaarde in € | F35: SROI-waarde | G35: Totaal
B36: Aantal gewerkte uren kandidaat | E36: =Kandidaten!D36 -> 0 | F36: =D36*E36 -> 0
B37: Aantal begeleidingsuren kandidaat | E37: =Kandidaten!D37 -> 0 | F37: =D37*E37 -> 0
B38: Bijkomende kosten kadidaat (per uur) | E38: =Kandidaten!D38 -> 0 | F38: =D36*E38 -> 0
B39: Bijkomende kosten per periode | E39: =Kandidaten!D39 -> 0 | F39: =IF(D36>0,E39,0) -> 0
B40: Totaal SROI-waarde kandidaat deze periode | G40: =SUM(F36:F39) -> 0
B42: Kandidaat | C42: =C35+1 -> 6 | D42: Uren | E42: Overeengekomen tariefwaarde in € | F42: SROI-waarde | G42: Totaal
B43: Aantal gewerkte uren kandidaat | E43: =Kandidaten!D43 -> 0 | F43: =D43*E43 -> 0
B44: Aantal begeleidingsuren kandidaat | E44: =Kandidaten!D44 -> 0 | F44: =D44*E44 -> 0
B45: Bijkomende kosten kadidaat (per uur) | E45: =Kandidaten!D45 -> 0 | F45: =D43*E45 -> 0
B46: Bijkomende kosten per periode | E46: =Kandidaten!D46 -> 0 | F46: =IF(D43>0,E46,0) -> 0
B47: Totaal SROI-waarde kandidaat deze periode | G47: =SUM(F43:F46) -> 0
B49: Kandidaat | C49: =C42+1 -> 7 | D49: Uren | E49: Overeengekomen tariefwaarde in € | F49: SROI-waarde | G49: Totaal
B50: Aantal gewerkte uren kandidaat | E50: =Kandidaten!D50 -> 0 | F50: =D50*E50 -> 0
B51: Aantal begeleidingsuren kandidaat | E51: =Kandidaten!D51 -> 0 | F51: =D51*E51 -> 0
B52: Bijkomende kosten kadidaat (per uur) | E52: =Kandidaten!D52 -> 0 | F52: =D50*E52 -> 0
B53: Bijkomende kosten per periode | E53: =Kandidaten!D53 -> 0 | F53: =IF(D50>0,E53,0) -> 0
B54: Totaal SROI-waarde kandidaat deze periode | G54: =SUM(F50:F53) -> 0
B56: Kandidaat | C56: =C49+1 -> 8 | D56: Uren | E56: Overeengekomen tariefwaarde in € | F56: SROI-waarde | G56: Totaal
B57: Aantal gewerkte uren kandidaat | E57: =Kandidaten!D57 -> 0 | F57: =D57*E57 -> 0
B58: Aantal begeleidingsuren kandidaat | E58: =Kandidaten!D58 -> 0 | F58: =D58*E58 -> 0
B59: Bijkomende kosten kadidaat (per uur) | E59: =Kandidaten!D59 -> 0 | F59: =D57*E59 -> 0
B60: Bijkomende kosten per periode | E60: =Kandidaten!D60 -> 0 | F60: =IF(D57>0,E60,0) -> 0
B61: Totaal SROI-waarde kandidaat deze periode | G61: =SUM(F57:F60) -> 0
B63: Kandidaat | C63: =C56+1 -> 9 | D63: Uren | E63: Overeengekomen tariefwaarde in € | F63: SROI-waarde | G63: Totaal
B64: Aantal gewerkte uren kandidaat | E64: =Kandidaten!D64 -> 0 | F64: =D64*E64 -> 0
B65: Aantal begeleidingsuren kandidaat | E65: =Kandidaten!D65 -> 0 | F65: =D65*E65 -> 0
B66: Bijkomende kosten kadidaat (per uur) | E66: =Kandidaten!D66 -> 0 | F66: =D64*E66 -> 0
B67: Bijkomende kosten per periode | E67: =Kandidaten!D67 -> 0 | F67: =IF(D64>0,E67,0) -> 0
B68: Totaal SROI-waarde kandidaat deze periode | G68: =SUM(F64:F67) -> 0
B70: Kandidaat | C70: =C63+1 -> 10 | D70: Uren | E70: Overeengekomen tariefwaarde in € | F70: SROI-waarde | G70: Totaal
B71: Aantal gewerkte uren kandidaat | E71: =Kandidaten!D71 -> 0 | F71: =D71*E71 -> 0
B72: Aantal begeleidingsuren kandidaat | E72: =Kandidaten!D72 -> 0 | F72: =D72*E72 -> 0
B73: Bijkomende kosten kadidaat (per uur) | E73: =Kandidaten!D73 -> 0 | F73: =D71*E73 -> 0
B74: Bijkomende kosten per periode | E74: =Kandidaten!D74 -> 0 | F74: =IF(D71>0,E74,0) -> 0
B75: Totaal SROI-waarde kandidaat deze periode | G75: =SUM(F71:F74) -> 0
B77: Kandidaat | C77: =C70+1 -> 11 | D77: Uren | E77: Overeengekomen tariefwaarde in € | F77: SROI-waarde | G77: Totaal
B78: Aantal gewerkte uren kandidaat | E78: =Kandidaten!D78 -> 0 | F78: =D78*E78 -> 0
B79: Aantal begeleidingsuren kandidaat | E79: =Kandidaten!D79 -> 0 | F79: =D79*E79 -> 0
B80: Bijkomende kosten kadidaat (per uur) | E80: =Kandidaten!D80 -> 0 | F80: =D78*E80 -> 0
B81: Bijkomende kosten per periode | E81: =Kandidaten!D81 -> 0 | F81: =IF(D78>0,E81,0) -> 0
B82: Totaal SROI-waarde kandidaat deze periode | G82: =SUM(F78:F81) -> 0
B84: Kandidaat | C84: =C77+1 -> 12 | D84: Uren | E84: Overeengekomen tariefwaarde in € | F84: SROI-waarde | G84: Totaal
B85: Aantal gewerkte uren kandidaat | E85: =Kandidaten!D85 -> 0 | F85: =D85*E85 -> 0
B86: Aantal begeleidingsuren kandidaat | E86: =Kandidaten!D86 -> 0 | F86: =D86*E86 -> 0
B87: Bijkomende kosten kadidaat (per uur) | E87: =Kandidaten!D87 -> 0 | F87: =D85*E87 -> 0
B88: Bijkomende kosten per periode | E88: =Kandidaten!D88 -> 0 | F88: =IF(D85>0,E88,0) -> 0
B89: Totaal SROI-waarde kandidaat deze periode | G89: =SUM(F85:F88) -> 0
B91: Kandidaat | C91: =C84+1 -> 13 | D91: Uren | E91: Overeengekomen tariefwaarde in € | F91: SROI-waarde | G91: Totaal
B92: Aantal gewerkte uren kandidaat | E92: =Kandidaten!D92 -> 0 | F92: =D92*E92 -> 0
B93: Aantal begeleidingsuren kandidaat | E93: =Kandidaten!D93 -> 0 | F93: =D93*E93 -> 0
B94: Bijkomende kosten kadidaat (per uur) | E94: =Kandidaten!D94 -> 0 | F94: =D92*E94 -> 0
B95: Bijkomende kosten per periode | E95: =Kandidaten!D95 -> 0 | F95: =IF(D92>0,E95,0) -> 0
B96: Totaal SROI-waarde kandidaat deze periode | G96: =SUM(F92:F95) -> 0
B98: Kandidaat | C98: =C91+1 -> 14 | D98: Uren | E98: Overeengekomen tariefwaarde in € | F98: SROI-waarde | G98: Totaal
B99: Aantal gewerkte uren kandidaat | E99: =Kandidaten!D99 -> 0 | F99: =D99*E99 -> 0
B100: Aantal begeleidingsuren kandidaat | E100: =Kandidaten!D100 -> 0 | F100: =D100*E100 -> 0
B101: Bijkomende kosten kadidaat (per uur) | E101: =Kandidaten!D101 -> 0 | F101: =D99*E101 -> 0
B102: Bijkomende kosten per periode | E102: =Kandidaten!D102 -> 0 | F102: =IF(D99>0,E102,0) -> 0
B103: Totaal SROI-waarde kandidaat deze periode | G103: =SUM(F99:F102) -> 0
B105: Kandidaat | C105: =C98+1 -> 15 | D105: Uren | E105: Overeengekomen tariefwaarde in € | F105: SROI-waarde | G105: Totaal
B106: Aantal gewerkte uren kandidaat | E106: =Kandidaten!D106 -> 0 | F106: =D106*E106 -> 0
B107: Aantal begeleidingsuren kandidaat | E107: =Kandidaten!D107 -> 0 | F107: =D107*E107 -> 0
B108: Bijkomende kosten kadidaat (per uur) | E108: =Kandidaten!D108 -> 0 | F108: =D106*E108 -> 0
B109: Bijkomende kosten per periode | E109: =Kandidaten!D109 -> 0 | F109: =IF(D106>0,E109,0) -> 0
B110: Totaal SROI-waarde kandidaat deze periode | G110: =SUM(F106:F109) -> 0
B112: Kandidaat | C112: =C105+1 -> 16 | D112: Uren | E112: Overeengekomen tariefwaarde in € | F112: SROI-waarde | G112: Totaal
B113: Aantal gewerkte uren kandidaat | E113: =Kandidaten!D113 -> 0 | F113: =D113*E113 -> 0
B114: Aantal begeleidingsuren kandidaat | E114: =Kandidaten!D114 -> 0 | F114: =D114*E114 -> 0
B115: Bijkomende kosten kadidaat (per uur) | E115: =Kandidaten!D115 -> 0 | F115: =D113*E115 -> 0
B116: Bijkomende kosten per periode | E116: =Kandidaten!D116 -> 0 | F116: =IF(D113>0,E116,0) -> 0
B117: Totaal SROI-waarde kandidaat deze periode | G117: =SUM(F113:F116) -> 0
...

Sheet P9
B2: PERIODE 9 | F2: Periode | I2: Invul instructie
E3: Startdatum: | G3: xx-xx-xx | I3: Vul alleen de witte cellen in (waar van toepassing).
B4: Vul alleen de witte cellen in | E4: Einddatum: | G4: xx-xx-xx | I4: De waarde in de categorie "Overig" kan alleen worden ingevuld als dat met
E5: Aantal werkdagen: | I5: de opdrachtgever is overeengekomen (bijvoorbeeld sociaal inkopen, of een bonus) .
B7: Kandidaat | C7: 1 | D7: Uren | E7: Overeengekomen tariefwaarde in € | F7: SROI-waarde | G7: Totaal | I7: Categorie "Overig" (niet kandidaat gebonden)
B8: Aantal gewerkte uren kandidaat | E8: =Kandidaten!D8 -> 0 | F8: =D8*E8 -> 0 | I8: Overeengekomen extra gerealiseerde waarde in de deze periode in €
B9: Aantal begeleidingsuren kandidaat | E9: =Kandidaten!D9 -> 0 | F9: =D9*E9 -> 0 | I9: Omschrijving SROI-inzet categorie "Overig":
B10: Bijkomende kosten kadidaat (per uur) | E10: =Kandidaten!D10 -> 0 | F10: =D8*E10 -> 0
B11: Bijkomende kosten per periode | E11: =Kandidaten!D11 -> 0 | F11: =IF(D8>0,E11,0) -> 0
B12: Totaal SROI-waarde kandidaat deze periode | G12: =SUM(F8:F11) -> 0
B14: Kandidaat | C14: =C7+1 -> 2 | D14: Uren | E14: Overeengekomen tariefwaarde in € | F14: SROI-waarde | G14: Totaal | I14: Totaal gerealiseerde waarde deze periode
B15: Aantal gewerkte uren kandidaat | E15: =Kandidaten!D15 -> 0 | F15: =D15*E15 -> 0 | I15: Kandidaten | J15: =SUM(G7:G355) -> 0
B16: Aantal begeleidingsuren kandidaat | E16: =Kandidaten!D16 -> 0 | F16: =D16*E16 -> 0 | I16: Overig | J16: =J8 -> 0
B17: Bijkomende kosten kadidaat (per uur) | E17: =Kandidaten!D17 -> 0 | F17: =D15*E17 -> 0
B18: Bijkomende kosten per periode | E18: =Kandidaten!D18 -> 0 | F18: =IF(D15>0,E18,0) -> 0
B19: Totaal SROI-waarde kandidaat deze periode | G19: =SUM(F15:F18) -> 0 | I19: Totaal | J19: =J15+J16 -> 0
B21: Kandidaat | C21: =C14+1 -> 3 | D21: Uren | E21: Overeengekomen tariefwaarde in € | F21: SROI-waarde | G21: Totaal
B22: Aantal gewerkte uren kandidaat | E22: =Kandidaten!D22 -> 0 | F22: =D22*E22 -> 0
B23: Aantal begeleidingsuren kandidaat | E23: =Kandidaten!D23 -> 0 | F23: =D23*E23 -> 0
B24: Bijkomende kosten kadidaat (per uur) | E24: =Kandidaten!D24 -> 0 | F24: =D22*E24 -> 0
B25: Bijkomende kosten per periode | E25: =Kandidaten!D25 -> 0 | F25: =IF(D22>0,E25,0) -> 0
B26: Totaal SROI-waarde kandidaat deze periode | G26: =SUM(F22:F25) -> 0
B28: Kandidaat | C28: =C21+1 -> 4 | D28: Uren | E28: Overeengekomen tariefwaarde in € | F28: SROI-waarde | G28: Totaal
B29: Aantal gewerkte uren kandidaat | E29: =Kandidaten!D29 -> 0 | F29: =D29*E29 -> 0
B30: Aantal begeleidingsuren kandidaat | E30: =Kandidaten!D30 -> 0 | F30: =D30*E30 -> 0
B31: Bijkomende kosten kadidaat (per uur) | E31: =Kandidaten!D31 -> 0 | F31: =D29*E31 -> 0
B32: Bijkomende kosten per periode | E32: =Kandidaten!D32 -> 0 | F32: =IF(D29>0,E32,0) -> 0
B33: Totaal SROI-waarde kandidaat deze periode | G33: =SUM(F29:F32) -> 0
B35: Kandidaat | C35: =C28+1 -> 5 | D35: Uren | E35: Overeengekomen tariefwaarde in € | F35: SROI-waarde | G35: Totaal
B36: Aantal gewerkte uren kandidaat | E36: =Kandidaten!D36 -> 0 | F36: =D36*E36 -> 0
B37: Aantal begeleidingsuren kandidaat | E37: =Kandidaten!D37 -> 0 | F37: =D37*E37 -> 0
B38: Bijkomende kosten kadidaat (per uur) | E38: =Kandidaten!D38 -> 0 | F38: =D36*E38 -> 0
B39: Bijkomende kosten per periode | E39: =Kandidaten!D39 -> 0 | F39: =IF(D36>0,E39,0) -> 0
B40: Totaal SROI-waarde kandidaat deze periode | G40: =SUM(F36:F39) -> 0
B42: Kandidaat | C42: =C35+1 -> 6 | D42: Uren | E42: Overeengekomen tariefwaarde in € | F42: SROI-waarde | G42: Totaal
B43: Aantal gewerkte uren kandidaat | E43: =Kandidaten!D43 -> 0 | F43: =D43*E43 -> 0
B44: Aantal begeleidingsuren kandidaat | E44: =Kandidaten!D44 -> 0 | F44: =D44*E44 -> 0
B45: Bijkomende kosten kadidaat (per uur) | E45: =Kandidaten!D45 -> 0 | F45: =D43*E45 -> 0
B46: Bijkomende kosten per periode | E46: =Kandidaten!D46 -> 0 | F46: =IF(D43>0,E46,0) -> 0
B47: Totaal SROI-waarde kandidaat deze periode | G47: =SUM(F43:F46) -> 0
B49: Kandidaat | C49: =C42+1 -> 7 | D49: Uren | E49: Overeengekomen tariefwaarde in € | F49: SROI-waarde | G49: Totaal
B50: Aantal gewerkte uren kandidaat | E50: =Kandidaten!D50 -> 0 | F50: =D50*E50 -> 0
B51: Aantal begeleidingsuren kandidaat | E51: =Kandidaten!D51 -> 0 | F51: =D51*E51 -> 0
B52: Bijkomende kosten kadidaat (per uur) | E52: =Kandidaten!D52 -> 0 | F52: =D50*E52 -> 0
B53: Bijkomende kosten per periode | E53: =Kandidaten!D53 -> 0 | F53: =IF(D50>0,E53,0) -> 0
B54: Totaal SROI-waarde kandidaat deze periode | G54: =SUM(F50:F53) -> 0
B56: Kandidaat | C56: =C49+1 -> 8 | D56: Uren | E56: Overeengekomen tariefwaarde in € | F56: SROI-waarde | G56: Totaal
B57: Aantal gewerkte uren kandidaat | E57: =Kandidaten!D57 -> 0 | F57: =D57*E57 -> 0
B58: Aantal begeleidingsuren kandidaat | E58: =Kandidaten!D58 -> 0 | F58: =D58*E58 -> 0
B59: Bijkomende kosten kadidaat (per uur) | E59: =Kandidaten!D59 -> 0 | F59: =D57*E59 -> 0
B60: Bijkomende kosten per periode | E60: =Kandidaten!D60 -> 0 | F60: =IF(D57>0,E60,0) -> 0
B61: Totaal SROI-waarde kandidaat deze periode | G61: =SUM(F57:F60) -> 0
B63: Kandidaat | C63: =C56+1 -> 9 | D63: Uren | E63: Overeengekomen tariefwaarde in € | F63: SROI-waarde | G63: Totaal
B64: Aantal gewerkte uren kandidaat | E64: =Kandidaten!D64 -> 0 | F64: =D64*E64 -> 0
B65: Aantal begeleidingsuren kandidaat | E65: =Kandidaten!D65 -> 0 | F65: =D65*E65 -> 0
B66: Bijkomende kosten kadidaat (per uur) | E66: =Kandidaten!D66 -> 0 | F66: =D64*E66 -> 0
B67: Bijkomende kosten per periode | E67: =Kandidaten!D67 -> 0 | F67: =IF(D64>0,E67,0) -> 0
B68: Totaal SROI-waarde kandidaat deze periode | G68: =SUM(F64:F67) -> 0
B70: Kandidaat | C70: =C63+1 -> 10 | D70: Uren | E70: Overeengekomen tariefwaarde in € | F70: SROI-waarde | G70: Totaal
B71: Aantal gewerkte uren kandidaat | E71: =Kandidaten!D71 -> 0 | F71: =D71*E71 -> 0
B72: Aantal begeleidingsuren kandidaat | E72: =Kandidaten!D72 -> 0 | F72: =D72*E72 -> 0
B73: Bijkomende kosten kadidaat (per uur) | E73: =Kandidaten!D73 -> 0 | F73: =D71*E73 -> 0
B74: Bijkomende kosten per periode | E74: =Kandidaten!D74 -> 0 | F74: =IF(D71>0,E74,0) -> 0
B75: Totaal SROI-waarde kandidaat deze periode | G75: =SUM(F71:F74) -> 0
B77: Kandidaat | C77: =C70+1 -> 11 | D77: Uren | E77: Overeengekomen tariefwaarde in € | F77: SROI-waarde | G77: Totaal
B78: Aantal gewerkte uren kandidaat | E78: =Kandidaten!D78 -> 0 | F78: =D78*E78 -> 0
B79: Aantal begeleidingsuren kandidaat | E79: =Kandidaten!D79 -> 0 | F79: =D79*E79 -> 0
B80: Bijkomende kosten kadidaat (per uur) | E80: =Kandidaten!D80 -> 0 | F80: =D78*E80 -> 0
B81: Bijkomende kosten per periode | E81: =Kandidaten!D81 -> 0 | F81: =IF(D78>0,E81,0) -> 0
B82: Totaal SROI-waarde kandidaat deze periode | G82: =SUM(F78:F81) -> 0
B84: Kandidaat | C84: =C77+1 -> 12 | D84: Uren | E84: Overeengekomen tariefwaarde in € | F84: SROI-waarde | G84: Totaal
B85: Aantal gewerkte uren kandidaat | E85: =Kandidaten!D85 -> 0 | F85: =D85*E85 -> 0
B86: Aantal begeleidingsuren kandidaat | E86: =Kandidaten!D86 -> 0 | F86: =D86*E86 -> 0
B87: Bijkomende kosten kadidaat (per uur) | E87: =Kandidaten!D87 -> 0 | F87: =D85*E87 -> 0
B88: Bijkomende kosten per periode | E88: =Kandidaten!D88 -> 0 | F88: =IF(D85>0,E88,0) -> 0
B89: Totaal SROI-waarde kandidaat deze periode | G89: =SUM(F85:F88) -> 0
B91: Kandidaat | C91: =C84+1 -> 13 | D91: Uren | E91: Overeengekomen tariefwaarde in € | F91: SROI-waarde | G91: Totaal
B92: Aantal gewerkte uren kandidaat | E92: =Kandidaten!D92 -> 0 | F92: =D92*E92 -> 0
B93: Aantal begeleidingsuren kandidaat | E93: =Kandidaten!D93 -> 0 | F93: =D93*E93 -> 0
B94: Bijkomende kosten kadidaat (per uur) | E94: =Kandidaten!D94 -> 0 | F94: =D92*E94 -> 0
B95: Bijkomende kosten per periode | E95: =Kandidaten!D95 -> 0 | F95: =IF(D92>0,E95,0) -> 0
B96: Totaal SROI-waarde kandidaat deze periode | G96: =SUM(F92:F95) -> 0
B98: Kandidaat | C98: =C91+1 -> 14 | D98: Uren | E98: Overeengekomen tariefwaarde in € | F98: SROI-waarde | G98: Totaal
B99: Aantal gewerkte uren kandidaat | E99: =Kandidaten!D99 -> 0 | F99: =D99*E99 -> 0
B100: Aantal begeleidingsuren kandidaat | E100: =Kandidaten!D100 -> 0 | F100: =D100*E100 -> 0
B101: Bijkomende kosten kadidaat (per uur) | E101: =Kandidaten!D101 -> 0 | F101: =D99*E101 -> 0
B102: Bijkomende kosten per periode | E102: =Kandidaten!D102 -> 0 | F102: =IF(D99>0,E102,0) -> 0
B103: Totaal SROI-waarde kandidaat deze periode | G103: =SUM(F99:F102) -> 0
B105: Kandidaat | C105: =C98+1 -> 15 | D105: Uren | E105: Overeengekomen tariefwaarde in € | F105: SROI-waarde | G105: Totaal
B106: Aantal gewerkte uren kandidaat | E106: =Kandidaten!D106 -> 0 | F106: =D106*E106 -> 0
B107: Aantal begeleidingsuren kandidaat | E107: =Kandidaten!D107 -> 0 | F107: =D107*E107 -> 0
B108: Bijkomende kosten kadidaat (per uur) | E108: =Kandidaten!D108 -> 0 | F108: =D106*E108 -> 0
B109: Bijkomende kosten per periode | E109: =Kandidaten!D109 -> 0 | F109: =IF(D106>0,E109,0) -> 0
B110: Totaal SROI-waarde kandidaat deze periode | G110: =SUM(F106:F109) -> 0
B112: Kandidaat | C112: =C105+1 -> 16 | D112: Uren | E112: Overeengekomen tariefwaarde in € | F112: SROI-waarde | G112: Totaal
B113: Aantal gewerkte uren kandidaat | E113: =Kandidaten!D113 -> 0 | F113: =D113*E113 -> 0
B114: Aantal begeleidingsuren kandidaat | E114: =Kandidaten!D114 -> 0 | F114: =D114*E114 -> 0
B115: Bijkomende kosten kadidaat (per uur) | E115: =Kandidaten!D115 -> 0 | F115: =D113*E115 -> 0
B116: Bijkomende kosten per periode | E116: =Kandidaten!D116 -> 0 | F116: =IF(D113>0,E116,0) -> 0
B117: Totaal SROI-waarde kandidaat deze periode | G117: =SUM(F113:F116) -> 0
...

Sheet P10
B2: PERIODE 10 | F2: Periode | I2: Invul instructie
E3: Startdatum: | G3: xx-xx-xx | I3: Vul alleen de witte cellen in (waar van toepassing).
B4: Vul alleen de witte cellen in | E4: Einddatum: | G4: xx-xx-xx | I4: De waarde in de categorie "Overig" kan alleen worden ingevuld als dat met
E5: Aantal werkdagen: | I5: de opdrachtgever is overeengekomen (bijvoorbeeld sociaal inkopen, of een bonus) .
B7: Kandidaat | C7: 1 | D7: Uren | E7: Overeengekomen tariefwaarde in € | F7: SROI-waarde | G7: Totaal | I7: Categorie "Overig" (niet kandidaat gebonden)
B8: Aantal gewerkte uren kandidaat | E8: =Kandidaten!D8 -> 0 | F8: =D8*E8 -> 0 | I8: Overeengekomen extra gerealiseerde waarde in de deze periode in €
B9: Aantal begeleidingsuren kandidaat | E9: =Kandidaten!D9 -> 0 | F9: =D9*E9 -> 0 | I9: Omschrijving SROI-inzet categorie "Overig":
B10: Bijkomende kosten kadidaat (per uur) | E10: =Kandidaten!D10 -> 0 | F10: =D8*E10 -> 0
B11: Bijkomende kosten per periode | E11: =Kandidaten!D11 -> 0 | F11: =IF(D8>0,E11,0) -> 0
B12: Totaal SROI-waarde kandidaat deze periode | G12: =SUM(F8:F11) -> 0
B14: Kandidaat | C14: =C7+1 -> 2 | D14: Uren | E14: Overeengekomen tariefwaarde in € | F14: SROI-waarde | G14: Totaal | I14: Totaal gerealiseerde waarde deze periode
B15: Aantal gewerkte uren kandidaat | E15: =Kandidaten!D15 -> 0 | F15: =D15*E15 -> 0 | I15: Kandidaten | J15: =SUM(G7:G355) -> 0
B16: Aantal begeleidingsuren kandidaat | E16: =Kandidaten!D16 -> 0 | F16: =D16*E16 -> 0 | I16: Overig | J16: =J8 -> 0
B17: Bijkomende kosten kadidaat (per uur) | E17: =Kandidaten!D17 -> 0 | F17: =D15*E17 -> 0
B18: Bijkomende kosten per periode | E18: =Kandidaten!D18 -> 0 | F18: =IF(D15>0,E18,0) -> 0
B19: Totaal SROI-waarde kandidaat deze periode | G19: =SUM(F15:F18) -> 0 | I19: Totaal | J19: =J15+J16 -> 0
B21: Kandidaat | C21: =C14+1 -> 3 | D21: Uren | E21: Overeengekomen tariefwaarde in € | F21: SROI-waarde | G21: Totaal
B22: Aantal gewerkte uren kandidaat | E22: =Kandidaten!D22 -> 0 | F22: =D22*E22 -> 0
B23: Aantal begeleidingsuren kandidaat | E23: =Kandidaten!D23 -> 0 | F23: =D23*E23 -> 0
B24: Bijkomende kosten kadidaat (per uur) | E24: =Kandidaten!D24 -> 0 | F24: =D22*E24 -> 0
B25: Bijkomende kosten per periode | E25: =Kandidaten!D25 -> 0 | F25: =IF(D22>0,E25,0) -> 0
B26: Totaal SROI-waarde kandidaat deze periode | G26: =SUM(F22:F25) -> 0
B28: Kandidaat | C28: =C21+1 -> 4 | D28: Uren | E28: Overeengekomen tariefwaarde in € | F28: SROI-waarde | G28: Totaal
B29: Aantal gewerkte uren kandidaat | E29: =Kandidaten!D29 -> 0 | F29: =D29*E29 -> 0
B30: Aantal begeleidingsuren kandidaat | E30: =Kandidaten!D30 -> 0 | F30: =D30*E30 -> 0
B31: Bijkomende kosten kadidaat (per uur) | E31: =Kandidaten!D31 -> 0 | F31: =D29*E31 -> 0
B32: Bijkomende kosten per periode | E32: =Kandidaten!D32 -> 0 | F32: =IF(D29>0,E32,0) -> 0
B33: Totaal SROI-waarde kandidaat deze periode | G33: =SUM(F29:F32) -> 0
B35: Kandidaat | C35: =C28+1 -> 5 | D35: Uren | E35: Overeengekomen tariefwaarde in € | F35: SROI-waarde | G35: Totaal
B36: Aantal gewerkte uren kandidaat | E36: =Kandidaten!D36 -> 0 | F36: =D36*E36 -> 0
B37: Aantal begeleidingsuren kandidaat | E37: =Kandidaten!D37 -> 0 | F37: =D37*E37 -> 0
B38: Bijkomende kosten kadidaat (per uur) | E38: =Kandidaten!D38 -> 0 | F38: =D36*E38 -> 0
B39: Bijkomende kosten per periode | E39: =Kandidaten!D39 -> 0 | F39: =IF(D36>0,E39,0) -> 0
B40: Totaal SROI-waarde kandidaat deze periode | G40: =SUM(F36:F39) -> 0
B42: Kandidaat | C42: =C35+1 -> 6 | D42: Uren | E42: Overeengekomen tariefwaarde in € | F42: SROI-waarde | G42: Totaal
B43: Aantal gewerkte uren kandidaat | E43: =Kandidaten!D43 -> 0 | F43: =D43*E43 -> 0
B44: Aantal begeleidingsuren kandidaat | E44: =Kandidaten!D44 -> 0 | F44: =D44*E44 -> 0
B45: Bijkomende kosten kadidaat (per uur) | E45: =Kandidaten!D45 -> 0 | F45: =D43*E45 -> 0
B46: Bijkomende kosten per periode | E46: =Kandidaten!D46 -> 0 | F46: =IF(D43>0,E46,0) -> 0
B47: Totaal SROI-waarde kandidaat deze periode | G47: =SUM(F43:F46) -> 0
B49: Kandidaat | C49: =C42+1 -> 7 | D49: Uren | E49: Overeengekomen tariefwaarde in € | F49: SROI-waarde | G49: Totaal
B50: Aantal gewerkte uren kandidaat | E50: =Kandidaten!D50 -> 0 | F50: =D50*E50 -> 0
B51: Aantal begeleidingsuren kandidaat | E51: =Kandidaten!D51 -> 0 | F51: =D51*E51 -> 0
B52: Bijkomende kosten kadidaat (per uur) | E52: =Kandidaten!D52 -> 0 | F52: =D50*E52 -> 0
B53: Bijkomende kosten per periode | E53: =Kandidaten!D53 -> 0 | F53: =IF(D50>0,E53,0) -> 0
B54: Totaal SROI-waarde kandidaat deze periode | G54: =SUM(F50:F53) -> 0
B56: Kandidaat | C56: =C49+1 -> 8 | D56: Uren | E56: Overeengekomen tariefwaarde in € | F56: SROI-waarde | G56: Totaal
B57: Aantal gewerkte uren kandidaat | E57: =Kandidaten!D57 -> 0 | F57: =D57*E57 -> 0
B58: Aantal begeleidingsuren kandidaat | E58: =Kandidaten!D58 -> 0 | F58: =D58*E58 -> 0
B59: Bijkomende kosten kadidaat (per uur) | E59: =Kandidaten!D59 -> 0 | F59: =D57*E59 -> 0
B60: Bijkomende kosten per periode | E60: =Kandidaten!D60 -> 0 | F60: =IF(D57>0,E60,0) -> 0
B61: Totaal SROI-waarde kandidaat deze periode | G61: =SUM(F57:F60) -> 0
B63: Kandidaat | C63: =C56+1 -> 9 | D63: Uren | E63: Overeengekomen tariefwaarde in € | F63: SROI-waarde | G63: Totaal
B64: Aantal gewerkte uren kandidaat | E64: =Kandidaten!D64 -> 0 | F64: =D64*E64 -> 0
B65: Aantal begeleidingsuren kandidaat | E65: =Kandidaten!D65 -> 0 | F65: =D65*E65 -> 0
B66: Bijkomende kosten kadidaat (per uur) | E66: =Kandidaten!D66 -> 0 | F66: =D64*E66 -> 0
B67: Bijkomende kosten per periode | E67: =Kandidaten!D67 -> 0 | F67: =IF(D64>0,E67,0) -> 0
B68: Totaal SROI-waarde kandidaat deze periode | G68: =SUM(F64:F67) -> 0
B70: Kandidaat | C70: =C63+1 -> 10 | D70: Uren | E70: Overeengekomen tariefwaarde in € | F70: SROI-waarde | G70: Totaal
B71: Aantal gewerkte uren kandidaat | E71: =Kandidaten!D71 -> 0 | F71: =D71*E71 -> 0
B72: Aantal begeleidingsuren kandidaat | E72: =Kandidaten!D72 -> 0 | F72: =D72*E72 -> 0
B73: Bijkomende kosten kadidaat (per uur) | E73: =Kandidaten!D73 -> 0 | F73: =D71*E73 -> 0
B74: Bijkomende kosten per periode | E74: =Kandidaten!D74 -> 0 | F74: =IF(D71>0,E74,0) -> 0
B75: Totaal SROI-waarde kandidaat deze periode | G75: =SUM(F71:F74) -> 0
B77: Kandidaat | C77: =C70+1 -> 11 | D77: Uren | E77: Overeengekomen tariefwaarde in € | F77: SROI-waarde | G77: Totaal
B78: Aantal gewerkte uren kandidaat | E78: =Kandidaten!D78 -> 0 | F78: =D78*E78 -> 0
B79: Aantal begeleidingsuren kandidaat | E79: =Kandidaten!D79 -> 0 | F79: =D79*E79 -> 0
B80: Bijkomende kosten kadidaat (per uur) | E80: =Kandidaten!D80 -> 0 | F80: =D78*E80 -> 0
B81: Bijkomende kosten per periode | E81: =Kandidaten!D81 -> 0 | F81: =IF(D78>0,E81,0) -> 0
B82: Totaal SROI-waarde kandidaat deze periode | G82: =SUM(F78:F81) -> 0
B84: Kandidaat | C84: =C77+1 -> 12 | D84: Uren | E84: Overeengekomen tariefwaarde in € | F84: SROI-waarde | G84: Totaal
B85: Aantal gewerkte uren kandidaat | E85: =Kandidaten!D85 -> 0 | F85: =D85*E85 -> 0
B86: Aantal begeleidingsuren kandidaat | E86: =Kandidaten!D86 -> 0 | F86: =D86*E86 -> 0
B87: Bijkomende kosten kadidaat (per uur) | E87: =Kandidaten!D87 -> 0 | F87: =D85*E87 -> 0
B88: Bijkomende kosten per periode | E88: =Kandidaten!D88 -> 0 | F88: =IF(D85>0,E88,0) -> 0
B89: Totaal SROI-waarde kandidaat deze periode | G89: =SUM(F85:F88) -> 0
B91: Kandidaat | C91: =C84+1 -> 13 | D91: Uren | E91: Overeengekomen tariefwaarde in € | F91: SROI-waarde | G91: Totaal
B92: Aantal gewerkte uren kandidaat | E92: =Kandidaten!D92 -> 0 | F92: =D92*E92 -> 0
B93: Aantal begeleidingsuren kandidaat | E93: =Kandidaten!D93 -> 0 | F93: =D93*E93 -> 0
B94: Bijkomende kosten kadidaat (per uur) | E94: =Kandidaten!D94 -> 0 | F94: =D92*E94 -> 0
B95: Bijkomende kosten per periode | E95: =Kandidaten!D95 -> 0 | F95: =IF(D92>0,E95,0) -> 0
B96: Totaal SROI-waarde kandidaat deze periode | G96: =SUM(F92:F95) -> 0
B98: Kandidaat | C98: =C91+1 -> 14 | D98: Uren | E98: Overeengekomen tariefwaarde in € | F98: SROI-waarde | G98: Totaal
B99: Aantal gewerkte uren kandidaat | E99: =Kandidaten!D99 -> 0 | F99: =D99*E99 -> 0
B100: Aantal begeleidingsuren kandidaat | E100: =Kandidaten!D100 -> 0 | F100: =D100*E100 -> 0
B101: Bijkomende kosten kadidaat (per uur) | E101: =Kandidaten!D101 -> 0 | F101: =D99*E101 -> 0
B102: Bijkomende kosten per periode | E102: =Kandidaten!D102 -> 0 | F102: =IF(D99>0,E102,0) -> 0
B103: Totaal SROI-waarde kandidaat deze periode | G103: =SUM(F99:F102) -> 0
B105: Kandidaat | C105: =C98+1 -> 15 | D105: Uren | E105: Overeengekomen tariefwaarde in € | F105: SROI-waarde | G105: Totaal
B106: Aantal gewerkte uren kandidaat | E106: =Kandidaten!D106 -> 0 | F106: =D106*E106 -> 0
B107: Aantal begeleidingsuren kandidaat | E107: =Kandidaten!D107 -> 0 | F107: =D107*E107 -> 0
B108: Bijkomende kosten kadidaat (per uur) | E108: =Kandidaten!D108 -> 0 | F108: =D106*E108 -> 0
B109: Bijkomende kosten per periode | E109: =Kandidaten!D109 -> 0 | F109: =IF(D106>0,E109,0) -> 0
B110: Totaal SROI-waarde kandidaat deze periode | G110: =SUM(F106:F109) -> 0
B112: Kandidaat | C112: =C105+1 -> 16 | D112: Uren | E112: Overeengekomen tariefwaarde in € | F112: SROI-waarde | G112: Totaal
B113: Aantal gewerkte uren kandidaat | E113: =Kandidaten!D113 -> 0 | F113: =D113*E113 -> 0
B114: Aantal begeleidingsuren kandidaat | E114: =Kandidaten!D114 -> 0 | F114: =D114*E114 -> 0
B115: Bijkomende kosten kadidaat (per uur) | E115: =Kandidaten!D115 -> 0 | F115: =D113*E115 -> 0
B116: Bijkomende kosten per periode | E116: =Kandidaten!D116 -> 0 | F116: =IF(D113>0,E116,0) -> 0
B117: Totaal SROI-waarde kandidaat deze periode | G117: =SUM(F113:F116) -> 0
...

Sheet P11
B2: PERIODE 11 | F2: Periode | I2: Invul instructie
E3: Startdatum: | G3: xx-xx-xx | I3: Vul alleen de witte cellen in (waar van toepassing).
B4: Vul alleen de witte cellen in | E4: Einddatum: | G4: xx-xx-xx | I4: De waarde in de categorie "Overig" kan alleen worden ingevuld als dat met
E5: Aantal werkdagen: | I5: de opdrachtgever is overeengekomen (bijvoorbeeld sociaal inkopen, of een bonus) .
B7: Kandidaat | C7: 1 | D7: Uren | E7: Overeengekomen tariefwaarde in € | F7: SROI-waarde | G7: Totaal | I7: Categorie "Overig" (niet kandidaat gebonden)
B8: Aantal gewerkte uren kandidaat | E8: =Kandidaten!D8 -> 0 | F8: =D8*E8 -> 0 | I8: Overeengekomen extra gerealiseerde waarde in de deze periode in €
B9: Aantal begeleidingsuren kandidaat | E9: =Kandidaten!D9 -> 0 | F9: =D9*E9 -> 0 | I9: Omschrijving SROI-inzet categorie "Overig":
B10: Bijkomende kosten kadidaat (per uur) | E10: =Kandidaten!D10 -> 0 | F10: =D8*E10 -> 0
B11: Bijkomende kosten per periode | E11: =Kandidaten!D11 -> 0 | F11: =IF(D8>0,E11,0) -> 0
B12: Totaal SROI-waarde kandidaat deze periode | G12: =SUM(F8:F11) -> 0
B14: Kandidaat | C14: =C7+1 -> 2 | D14: Uren | E14: Overeengekomen tariefwaarde in € | F14: SROI-waarde | G14: Totaal | I14: Totaal gerealiseerde waarde deze periode
B15: Aantal gewerkte uren kandidaat | E15: =Kandidaten!D15 -> 0 | F15: =D15*E15 -> 0 | I15: Kandidaten | J15: =SUM(G7:G355) -> 0
B16: Aantal begeleidingsuren kandidaat | E16: =Kandidaten!D16 -> 0 | F16: =D16*E16 -> 0 | I16: Overig | J16: =J8 -> 0
B17: Bijkomende kosten kadidaat (per uur) | E17: =Kandidaten!D17 -> 0 | F17: =D15*E17 -> 0
B18: Bijkomende kosten per periode | E18: =Kandidaten!D18 -> 0 | F18: =IF(D15>0,E18,0) -> 0
B19: Totaal SROI-waarde kandidaat deze periode | G19: =SUM(F15:F18) -> 0 | I19: Totaal | J19: =J15+J16 -> 0
B21: Kandidaat | C21: =C14+1 -> 3 | D21: Uren | E21: Overeengekomen tariefwaarde in € | F21: SROI-waarde | G21: Totaal
B22: Aantal gewerkte uren kandidaat | E22: =Kandidaten!D22 -> 0 | F22: =D22*E22 -> 0
B23: Aantal begeleidingsuren kandidaat | E23: =Kandidaten!D23 -> 0 | F23: =D23*E23 -> 0
B24: Bijkomende kosten kadidaat (per uur) | E24: =Kandidaten!D24 -> 0 | F24: =D22*E24 -> 0
B25: Bijkomende kosten per periode | E25: =Kandidaten!D25 -> 0 | F25: =IF(D22>0,E25,0) -> 0
B26: Totaal SROI-waarde kandidaat deze periode | G26: =SUM(F22:F25) -> 0
B28: Kandidaat | C28: =C21+1 -> 4 | D28: Uren | E28: Overeengekomen tariefwaarde in € | F28: SROI-waarde | G28: Totaal
B29: Aantal gewerkte uren kandidaat | E29: =Kandidaten!D29 -> 0 | F29: =D29*E29 -> 0
B30: Aantal begeleidingsuren kandidaat | E30: =Kandidaten!D30 -> 0 | F30: =D30*E30 -> 0
B31: Bijkomende kosten kadidaat (per uur) | E31: =Kandidaten!D31 -> 0 | F31: =D29*E31 -> 0
B32: Bijkomende kosten per periode | E32: =Kandidaten!D32 -> 0 | F32: =IF(D29>0,E32,0) -> 0
B33: Totaal SROI-waarde kandidaat deze periode | G33: =SUM(F29:F32) -> 0
B35: Kandidaat | C35: =C28+1 -> 5 | D35: Uren | E35: Overeengekomen tariefwaarde in € | F35: SROI-waarde | G35: Totaal
B36: Aantal gewerkte uren kandidaat | E36: =Kandidaten!D36 -> 0 | F36: =D36*E36 -> 0
B37: Aantal begeleidingsuren kandidaat | E37: =Kandidaten!D37 -> 0 | F37: =D37*E37 -> 0
B38: Bijkomende kosten kadidaat (per uur) | E38: =Kandidaten!D38 -> 0 | F38: =D36*E38 -> 0
B39: Bijkomende kosten per periode | E39: =Kandidaten!D39 -> 0 | F39: =IF(D36>0,E39,0) -> 0
B40: Totaal SROI-waarde kandidaat deze periode | G40: =SUM(F36:F39) -> 0
B42: Kandidaat | C42: =C35+1 -> 6 | D42: Uren | E42: Overeengekomen tariefwaarde in € | F42: SROI-waarde | G42: Totaal
B43: Aantal gewerkte uren kandidaat | E43: =Kandidaten!D43 -> 0 | F43: =D43*E43 -> 0
B44: Aantal begeleidingsuren kandidaat | E44: =Kandidaten!D44 -> 0 | F44: =D44*E44 -> 0
B45: Bijkomende kosten kadidaat (per uur) | E45: =Kandidaten!D45 -> 0 | F45: =D43*E45 -> 0
B46: Bijkomende kosten per periode | E46: =Kandidaten!D46 -> 0 | F46: =IF(D43>0,E46,0) -> 0
B47: Totaal SROI-waarde kandidaat deze periode | G47: =SUM(F43:F46) -> 0
B49: Kandidaat | C49: =C42+1 -> 7 | D49: Uren | E49: Overeengekomen tariefwaarde in € | F49: SROI-waarde | G49: Totaal
B50: Aantal gewerkte uren kandidaat | E50: =Kandidaten!D50 -> 0 | F50: =D50*E50 -> 0
B51: Aantal begeleidingsuren kandidaat | E51: =Kandidaten!D51 -> 0 | F51: =D51*E51 -> 0
B52: Bijkomende kosten kadidaat (per uur) | E52: =Kandidaten!D52 -> 0 | F52: =D50*E52 -> 0
B53: Bijkomende kosten per periode | E53: =Kandidaten!D53 -> 0 | F53: =IF(D50>0,E53,0) -> 0
B54: Totaal SROI-waarde kandidaat deze periode | G54: =SUM(F50:F53) -> 0
B56: Kandidaat | C56: =C49+1 -> 8 | D56: Uren | E56: Overeengekomen tariefwaarde in € | F56: SROI-waarde | G56: Totaal
B57: Aantal gewerkte uren kandidaat | E57: =Kandidaten!D57 -> 0 | F57: =D57*E57 -> 0
B58: Aantal begeleidingsuren kandidaat | E58: =Kandidaten!D58 -> 0 | F58: =D58*E58 -> 0
B59: Bijkomende kosten kadidaat (per uur) | E59: =Kandidaten!D59 -> 0 | F59: =D57*E59 -> 0
B60: Bijkomende kosten per periode | E60: =Kandidaten!D60 -> 0 | F60: =IF(D57>0,E60,0) -> 0
B61: Totaal SROI-waarde kandidaat deze periode | G61: =SUM(F57:F60) -> 0
B63: Kandidaat | C63: =C56+1 -> 9 | D63: Uren | E63: Overeengekomen tariefwaarde in € | F63: SROI-waarde | G63: Totaal
B64: Aantal gewerkte uren kandidaat | E64: =Kandidaten!D64 -> 0 | F64: =D64*E64 -> 0
B65: Aantal begeleidingsuren kandidaat | E65: =Kandidaten!D65 -> 0 | F65: =D65*E65 -> 0
B66: Bijkomende kosten kadidaat (per uur) | E66: =Kandidaten!D66 -> 0 | F66: =D64*E66 -> 0
B67: Bijkomende kosten per periode | E67: =Kandidaten!D67 -> 0 | F67: =IF(D64>0,E67,0) -> 0
B68: Totaal SROI-waarde kandidaat deze periode | G68: =SUM(F64:F67) -> 0
B70: Kandidaat | C70: =C63+1 -> 10 | D70: Uren | E70: Overeengekomen tariefwaarde in € | F70: SROI-waarde | G70: Totaal
B71: Aantal gewerkte uren kandidaat | E71: =Kandidaten!D71 -> 0 | F71: =D71*E71 -> 0
B72: Aantal begeleidingsuren kandidaat | E72: =Kandidaten!D72 -> 0 | F72: =D72*E72 -> 0
B73: Bijkomende kosten kadidaat (per uur) | E73: =Kandidaten!D73 -> 0 | F73: =D71*E73 -> 0
B74: Bijkomende kosten per periode | E74: =Kandidaten!D74 -> 0 | F74: =IF(D71>0,E74,0) -> 0
B75: Totaal SROI-waarde kandidaat deze periode | G75: =SUM(F71:F74) -> 0
B77: Kandidaat | C77: =C70+1 -> 11 | D77: Uren | E77: Overeengekomen tariefwaarde in € | F77: SROI-waarde | G77: Totaal
B78: Aantal gewerkte uren kandidaat | E78: =Kandidaten!D78 -> 0 | F78: =D78*E78 -> 0
B79: Aantal begeleidingsuren kandidaat | E79: =Kandidaten!D79 -> 0 | F79: =D79*E79 -> 0
B80: Bijkomende kosten kadidaat (per uur) | E80: =Kandidaten!D80 -> 0 | F80: =D78*E80 -> 0
B81: Bijkomende kosten per periode | E81: =Kandidaten!D81 -> 0 | F81: =IF(D78>0,E81,0) -> 0
B82: Totaal SROI-waarde kandidaat deze periode | G82: =SUM(F78:F81) -> 0
B84: Kandidaat | C84: =C77+1 -> 12 | D84: Uren | E84: Overeengekomen tariefwaarde in € | F84: SROI-waarde | G84: Totaal
B85: Aantal gewerkte uren kandidaat | E85: =Kandidaten!D85 -> 0 | F85: =D85*E85 -> 0
B86: Aantal begeleidingsuren kandidaat | E86: =Kandidaten!D86 -> 0 | F86: =D86*E86 -> 0
B87: Bijkomende kosten kadidaat (per uur) | E87: =Kandidaten!D87 -> 0 | F87: =D85*E87 -> 0
B88: Bijkomende kosten per periode | E88: =Kandidaten!D88 -> 0 | F88: =IF(D85>0,E88,0) -> 0
B89: Totaal SROI-waarde kandidaat deze periode | G89: =SUM(F85:F88) -> 0
B91: Kandidaat | C91: =C84+1 -> 13 | D91: Uren | E91: Overeengekomen tariefwaarde in € | F91: SROI-waarde | G91: Totaal
B92: Aantal gewerkte uren kandidaat | E92: =Kandidaten!D92 -> 0 | F92: =D92*E92 -> 0
B93: Aantal begeleidingsuren kandidaat | E93: =Kandidaten!D93 -> 0 | F93: =D93*E93 -> 0
B94: Bijkomende kosten kadidaat (per uur) | E94: =Kandidaten!D94 -> 0 | F94: =D92*E94 -> 0
B95: Bijkomende kosten per periode | E95: =Kandidaten!D95 -> 0 | F95: =IF(D92>0,E95,0) -> 0
B96: Totaal SROI-waarde kandidaat deze periode | G96: =SUM(F92:F95) -> 0
B98: Kandidaat | C98: =C91+1 -> 14 | D98: Uren | E98: Overeengekomen tariefwaarde in € | F98: SROI-waarde | G98: Totaal
B99: Aantal gewerkte uren kandidaat | E99: =Kandidaten!D99 -> 0 | F99: =D99*E99 -> 0
B100: Aantal begeleidingsuren kandidaat | E100: =Kandidaten!D100 -> 0 | F100: =D100*E100 -> 0
B101: Bijkomende kosten kadidaat (per uur) | E101: =Kandidaten!D101 -> 0 | F101: =D99*E101 -> 0
B102: Bijkomende kosten per periode | E102: =Kandidaten!D102 -> 0 | F102: =IF(D99>0,E102,0) -> 0
B103: Totaal SROI-waarde kandidaat deze periode | G103: =SUM(F99:F102) -> 0
B105: Kandidaat | C105: =C98+1 -> 15 | D105: Uren | E105: Overeengekomen tariefwaarde in € | F105: SROI-waarde | G105: Totaal
B106: Aantal gewerkte uren kandidaat | E106: =Kandidaten!D106 -> 0 | F106: =D106*E106 -> 0
B107: Aantal begeleidingsuren kandidaat | E107: =Kandidaten!D107 -> 0 | F107: =D107*E107 -> 0
B108: Bijkomende kosten kadidaat (per uur) | E108: =Kandidaten!D108 -> 0 | F108: =D106*E108 -> 0
B109: Bijkomende kosten per periode | E109: =Kandidaten!D109 -> 0 | F109: =IF(D106>0,E109,0) -> 0
B110: Totaal SROI-waarde kandidaat deze periode | G110: =SUM(F106:F109) -> 0
B112: Kandidaat | C112: =C105+1 -> 16 | D112: Uren | E112: Overeengekomen tariefwaarde in € | F112: SROI-waarde | G112: Totaal
B113: Aantal gewerkte uren kandidaat | E113: =Kandidaten!D113 -> 0 | F113: =D113*E113 -> 0
B114: Aantal begeleidingsuren kandidaat | E114: =Kandidaten!D114 -> 0 | F114: =D114*E114 -> 0
B115: Bijkomende kosten kadidaat (per uur) | E115: =Kandidaten!D115 -> 0 | F115: =D113*E115 -> 0
B116: Bijkomende kosten per periode | E116: =Kandidaten!D116 -> 0 | F116: =IF(D113>0,E116,0) -> 0
B117: Totaal SROI-waarde kandidaat deze periode | G117: =SUM(F113:F116) -> 0
...

Sheet P12
B2: PERIODE 12 | F2: Periode | I2: Invul instructie
E3: Startdatum: | G3: xx-xx-xx | I3: Vul alleen de witte cellen in (waar van toepassing).
B4: Vul alleen de witte cellen in | E4: Einddatum: | G4: xx-xx-xx | I4: De waarde in de categorie "Overig" kan alleen worden ingevuld als dat met
E5: Aantal werkdagen: | I5: de opdrachtgever is overeengekomen (bijvoorbeeld sociaal inkopen, of een bonus) .
B7: Kandidaat | C7: 1 | D7: Uren | E7: Overeengekomen tariefwaarde in € | F7: SROI-waarde | G7: Totaal | I7: Categorie "Overig" (niet kandidaat gebonden)
B8: Aantal gewerkte uren kandidaat | E8: =Kandidaten!D8 -> 0 | F8: =D8*E8 -> 0 | I8: Overeengekomen extra gerealiseerde waarde in de deze periode in €
B9: Aantal begeleidingsuren kandidaat | E9: =Kandidaten!D9 -> 0 | F9: =D9*E9 -> 0 | I9: Omschrijving SROI-inzet categorie "Overig":
B10: Bijkomende kosten kadidaat (per uur) | E10: =Kandidaten!D10 -> 0 | F10: =D8*E10 -> 0
B11: Bijkomende kosten per periode | E11: =Kandidaten!D11 -> 0 | F11: =IF(D8>0,E11,0) -> 0
B12: Totaal SROI-waarde kandidaat deze periode | G12: =SUM(F8:F11) -> 0
B14: Kandidaat | C14: =C7+1 -> 2 | D14: Uren | E14: Overeengekomen tariefwaarde in € | F14: SROI-waarde | G14: Totaal | I14: Totaal gerealiseerde waarde deze periode
B15: Aantal gewerkte uren kandidaat | E15: =Kandidaten!D15 -> 0 | F15: =D15*E15 -> 0 | I15: Kandidaten | J15: =SUM(G7:G355) -> 0
B16: Aantal begeleidingsuren kandidaat | E16: =Kandidaten!D16 -> 0 | F16: =D16*E16 -> 0 | I16: Overig | J16: =J8 -> 0
B17: Bijkomende kosten kadidaat (per uur) | E17: =Kandidaten!D17 -> 0 | F17: =D15*E17 -> 0
B18: Bijkomende kosten per periode | E18: =Kandidaten!D18 -> 0 | F18: =IF(D15>0,E18,0) -> 0
B19: Totaal SROI-waarde kandidaat deze periode | G19: =SUM(F15:F18) -> 0 | I19: Totaal | J19: =J15+J16 -> 0
B21: Kandidaat | C21: =C14+1 -> 3 | D21: Uren | E21: Overeengekomen tariefwaarde in € | F21: SROI-waarde | G21: Totaal
B22: Aantal gewerkte uren kandidaat | E22: =Kandidaten!D22 -> 0 | F22: =D22*E22 -> 0
B23: Aantal begeleidingsuren kandidaat | E23: =Kandidaten!D23 -> 0 | F23: =D23*E23 -> 0
B24: Bijkomende kosten kadidaat (per uur) | E24: =Kandidaten!D24 -> 0 | F24: =D22*E24 -> 0
B25: Bijkomende kosten per periode | E25: =Kandidaten!D25 -> 0 | F25: =IF(D22>0,E25,0) -> 0
B26: Totaal SROI-waarde kandidaat deze periode | G26: =SUM(F22:F25) -> 0
B28: Kandidaat | C28: =C21+1 -> 4 | D28: Uren | E28: Overeengekomen tariefwaarde in € | F28: SROI-waarde | G28: Totaal
B29: Aantal gewerkte uren kandidaat | E29: =Kandidaten!D29 -> 0 | F29: =D29*E29 -> 0
B30: Aantal begeleidingsuren kandidaat | E30: =Kandidaten!D30 -> 0 | F30: =D30*E30 -> 0
B31: Bijkomende kosten kadidaat (per uur) | E31: =Kandidaten!D31 -> 0 | F31: =D29*E31 -> 0
B32: Bijkomende kosten per periode | E32: =Kandidaten!D32 -> 0 | F32: =IF(D29>0,E32,0) -> 0
B33: Totaal SROI-waarde kandidaat deze periode | G33: =SUM(F29:F32) -> 0
B35: Kandidaat | C35: =C28+1 -> 5 | D35: Uren | E35: Overeengekomen tariefwaarde in € | F35: SROI-waarde | G35: Totaal
B36: Aantal gewerkte uren kandidaat | E36: =Kandidaten!D36 -> 0 | F36: =D36*E36 -> 0
B37: Aantal begeleidingsuren kandidaat | E37: =Kandidaten!D37 -> 0 | F37: =D37*E37 -> 0
B38: Bijkomende kosten kadidaat (per uur) | E38: =Kandidaten!D38 -> 0 | F38: =D36*E38 -> 0
B39: Bijkomende kosten per periode | E39: =Kandidaten!D39 -> 0 | F39: =IF(D36>0,E39,0) -> 0
B40: Totaal SROI-waarde kandidaat deze periode | G40: =SUM(F36:F39) -> 0
B42: Kandidaat | C42: =C35+1 -> 6 | D42: Uren | E42: Overeengekomen tariefwaarde in € | F42: SROI-waarde | G42: Totaal
B43: Aantal gewerkte uren kandidaat | E43: =Kandidaten!D43 -> 0 | F43: =D43*E43 -> 0
B44: Aantal begeleidingsuren kandidaat | E44: =Kandidaten!D44 -> 0 | F44: =D44*E44 -> 0
B45: Bijkomende kosten kadidaat (per uur) | E45: =Kandidaten!D45 -> 0 | F45: =D43*E45 -> 0
B46: Bijkomende kosten per periode | E46: =Kandidaten!D46 -> 0 | F46: =IF(D43>0,E46,0) -> 0
B47: Totaal SROI-waarde kandidaat deze periode | G47: =SUM(F43:F46) -> 0
B49: Kandidaat | C49: =C42+1 -> 7 | D49: Uren | E49: Overeengekomen tariefwaarde in € | F49: SROI-waarde | G49: Totaal
B50: Aantal gewerkte uren kandidaat | E50: =Kandidaten!D50 -> 0 | F50: =D50*E50 -> 0
B51: Aantal begeleidingsuren kandidaat | E51: =Kandidaten!D51 -> 0 | F51: =D51*E51 -> 0
B52: Bijkomende kosten kadidaat (per uur) | E52: =Kandidaten!D52 -> 0 | F52: =D50*E52 -> 0
B53: Bijkomende kosten per periode | E53: =Kandidaten!D53 -> 0 | F53: =IF(D50>0,E53,0) -> 0
B54: Totaal SROI-waarde kandidaat deze periode | G54: =SUM(F50:F53) -> 0
B56: Kandidaat | C56: =C49+1 -> 8 | D56: Uren | E56: Overeengekomen tariefwaarde in € | F56: SROI-waarde | G56: Totaal
B57: Aantal gewerkte uren kandidaat | E57: =Kandidaten!D57 -> 0 | F57: =D57*E57 -> 0
B58: Aantal begeleidingsuren kandidaat | E58: =Kandidaten!D58 -> 0 | F58: =D58*E58 -> 0
B59: Bijkomende kosten kadidaat (per uur) | E59: =Kandidaten!D59 -> 0 | F59: =D57*E59 -> 0
B60: Bijkomende kosten per periode | E60: =Kandidaten!D60 -> 0 | F60: =IF(D57>0,E60,0) -> 0
B61: Totaal SROI-waarde kandidaat deze periode | G61: =SUM(F57:F60) -> 0
B63: Kandidaat | C63: =C56+1 -> 9 | D63: Uren | E63: Overeengekomen tariefwaarde in € | F63: SROI-waarde | G63: Totaal
B64: Aantal gewerkte uren kandidaat | E64: =Kandidaten!D64 -> 0 | F64: =D64*E64 -> 0
B65: Aantal begeleidingsuren kandidaat | E65: =Kandidaten!D65 -> 0 | F65: =D65*E65 -> 0
B66: Bijkomende kosten kadidaat (per uur) | E66: =Kandidaten!D66 -> 0 | F66: =D64*E66 -> 0
B67: Bijkomende kosten per periode | E67: =Kandidaten!D67 -> 0 | F67: =IF(D64>0,E67,0) -> 0
B68: Totaal SROI-waarde kandidaat deze periode | G68: =SUM(F64:F67) -> 0
B70: Kandidaat | C70: =C63+1 -> 10 | D70: Uren | E70: Overeengekomen tariefwaarde in € | F70: SROI-waarde | G70: Totaal
B71: Aantal gewerkte uren kandidaat | E71: =Kandidaten!D71 -> 0 | F71: =D71*E71 -> 0
B72: Aantal begeleidingsuren kandidaat | E72: =Kandidaten!D72 -> 0 | F72: =D72*E72 -> 0
B73: Bijkomende kosten kadidaat (per uur) | E73: =Kandidaten!D73 -> 0 | F73: =D71*E73 -> 0
B74: Bijkomende kosten per periode | E74: =Kandidaten!D74 -> 0 | F74: =IF(D71>0,E74,0) -> 0
B75: Totaal SROI-waarde kandidaat deze periode | G75: =SUM(F71:F74) -> 0
B77: Kandidaat | C77: =C70+1 -> 11 | D77: Uren | E77: Overeengekomen tariefwaarde in € | F77: SROI-waarde | G77: Totaal
B78: Aantal gewerkte uren kandidaat | E78: =Kandidaten!D78 -> 0 | F78: =D78*E78 -> 0
B79: Aantal begeleidingsuren kandidaat | E79: =Kandidaten!D79 -> 0 | F79: =D79*E79 -> 0
B80: Bijkomende kosten kadidaat (per uur) | E80: =Kandidaten!D80 -> 0 | F80: =D78*E80 -> 0
B81: Bijkomende kosten per periode | E81: =Kandidaten!D81 -> 0 | F81: =IF(D78>0,E81,0) -> 0
B82: Totaal SROI-waarde kandidaat deze periode | G82: =SUM(F78:F81) -> 0
B84: Kandidaat | C84: =C77+1 -> 12 | D84: Uren | E84: Overeengekomen tariefwaarde in € | F84: SROI-waarde | G84: Totaal
B85: Aantal gewerkte uren kandidaat | E85: =Kandidaten!D85 -> 0 | F85: =D85*E85 -> 0
B86: Aantal begeleidingsuren kandidaat | E86: =Kandidaten!D86 -> 0 | F86: =D86*E86 -> 0
B87: Bijkomende kosten kadidaat (per uur) | E87: =Kandidaten!D87 -> 0 | F87: =D85*E87 -> 0
B88: Bijkomende kosten per periode | E88: =Kandidaten!D88 -> 0 | F88: =IF(D85>0,E88,0) -> 0
B89: Totaal SROI-waarde kandidaat deze periode | G89: =SUM(F85:F88) -> 0
B91: Kandidaat | C91: =C84+1 -> 13 | D91: Uren | E91: Overeengekomen tariefwaarde in € | F91: SROI-waarde | G91: Totaal
B92: Aantal gewerkte uren kandidaat | E92: =Kandidaten!D92 -> 0 | F92: =D92*E92 -> 0
B93: Aantal begeleidingsuren kandidaat | E93: =Kandidaten!D93 -> 0 | F93: =D93*E93 -> 0
B94: Bijkomende kosten kadidaat (per uur) | E94: =Kandidaten!D94 -> 0 | F94: =D92*E94 -> 0
B95: Bijkomende kosten per periode | E95: =Kandidaten!D95 -> 0 | F95: =IF(D92>0,E95,0) -> 0
B96: Totaal SROI-waarde kandidaat deze periode | G96: =SUM(F92:F95) -> 0
B98: Kandidaat | C98: =C91+1 -> 14 | D98: Uren | E98: Overeengekomen tariefwaarde in € | F98: SROI-waarde | G98: Totaal
B99: Aantal gewerkte uren kandidaat | E99: =Kandidaten!D99 -> 0 | F99: =D99*E99 -> 0
B100: Aantal begeleidingsuren kandidaat | E100: =Kandidaten!D100 -> 0 | F100: =D100*E100 -> 0
B101: Bijkomende kosten kadidaat (per uur) | E101: =Kandidaten!D101 -> 0 | F101: =D99*E101 -> 0
B102: Bijkomende kosten per periode | E102: =Kandidaten!D102 -> 0 | F102: =IF(D99>0,E102,0) -> 0
B103: Totaal SROI-waarde kandidaat deze periode | G103: =SUM(F99:F102) -> 0
B105: Kandidaat | C105: =C98+1 -> 15 | D105: Uren | E105: Overeengekomen tariefwaarde in € | F105: SROI-waarde | G105: Totaal
B106: Aantal gewerkte uren kandidaat | E106: =Kandidaten!D106 -> 0 | F106: =D106*E106 -> 0
B107: Aantal begeleidingsuren kandidaat | E107: =Kandidaten!D107 -> 0 | F107: =D107*E107 -> 0
B108: Bijkomende kosten kadidaat (per uur) | E108: =Kandidaten!D108 -> 0 | F108: =D106*E108 -> 0
B109: Bijkomende kosten per periode | E109: =Kandidaten!D109 -> 0 | F109: =IF(D106>0,E109,0) -> 0
B110: Totaal SROI-waarde kandidaat deze periode | G110: =SUM(F106:F109) -> 0
B112: Kandidaat | C112: =C105+1 -> 16 | D112: Uren | E112: Overeengekomen tariefwaarde in € | F112: SROI-waarde | G112: Totaal
B113: Aantal gewerkte uren kandidaat | E113: =Kandidaten!D113 -> 0 | F113: =D113*E113 -> 0
B114: Aantal begeleidingsuren kandidaat | E114: =Kandidaten!D114 -> 0 | F114: =D114*E114 -> 0
B115: Bijkomende kosten kadidaat (per uur) | E115: =Kandidaten!D115 -> 0 | F115: =D113*E115 -> 0
B116: Bijkomende kosten per periode | E116: =Kandidaten!D116 -> 0 | F116: =IF(D113>0,E116,0) -> 0
B117: Totaal SROI-waarde kandidaat deze periode | G117: =SUM(F113:F116) -> 0
...

Sheet P13
B2: PERIODE 13 | F2: Periode | I2: Invul instructie
E3: Startdatum: | G3: xx-xx-xx | I3: Vul alleen de witte cellen in (waar van toepassing).
B4: Vul alleen de witte cellen in | E4: Einddatum: | G4: xx-xx-xx | I4: De waarde in de categorie "Overig" kan alleen worden ingevuld als dat met
E5: Aantal werkdagen: | I5: de opdrachtgever is overeengekomen (bijvoorbeeld sociaal inkopen, of een bonus) .
B7: Kandidaat | C7: 1 | D7: Uren | E7: Overeengekomen tariefwaarde in € | F7: SROI-waarde | G7: Totaal | I7: Categorie "Overig" (niet kandidaat gebonden)
B8: Aantal gewerkte uren kandidaat | E8: =Kandidaten!D8 -> 0 | F8: =D8*E8 -> 0 | I8: Overeengekomen extra gerealiseerde waarde in de deze periode in €
B9: Aantal begeleidingsuren kandidaat | E9: =Kandidaten!D9 -> 0 | F9: =D9*E9 -> 0 | I9: Omschrijving SROI-inzet categorie "Overig":
B10: Bijkomende kosten kadidaat (per uur) | E10: =Kandidaten!D10 -> 0 | F10: =D8*E10 -> 0
B11: Bijkomende kosten per periode | E11: =Kandidaten!D11 -> 0 | F11: =IF(D8>0,E11,0) -> 0
B12: Totaal SROI-waarde kandidaat deze periode | G12: =SUM(F8:F11) -> 0
B14: Kandidaat | C14: =C7+1 -> 2 | D14: Uren | E14: Overeengekomen tariefwaarde in € | F14: SROI-waarde | G14: Totaal | I14: Totaal gerealiseerde waarde deze periode
B15: Aantal gewerkte uren kandidaat | E15: =Kandidaten!D15 -> 0 | F15: =D15*E15 -> 0 | I15: Kandidaten | J15: =SUM(G7:G355) -> 0
B16: Aantal begeleidingsuren kandidaat | E16: =Kandidaten!D16 -> 0 | F16: =D16*E16 -> 0 | I16: Overig | J16: =J8 -> 0
B17: Bijkomende kosten kadidaat (per uur) | E17: =Kandidaten!D17 -> 0 | F17: =D15*E17 -> 0
B18: Bijkomende kosten per periode | E18: =Kandidaten!D18 -> 0 | F18: =IF(D15>0,E18,0) -> 0
B19: Totaal SROI-waarde kandidaat deze periode | G19: =SUM(F15:F18) -> 0 | I19: Totaal | J19: =J15+J16 -> 0
B21: Kandidaat | C21: =C14+1 -> 3 | D21: Uren | E21: Overeengekomen tariefwaarde in € | F21: SROI-waarde | G21: Totaal
B22: Aantal gewerkte uren kandidaat | E22: =Kandidaten!D22 -> 0 | F22: =D22*E22 -> 0
B23: Aantal begeleidingsuren kandidaat | E23: =Kandidaten!D23 -> 0 | F23: =D23*E23 -> 0
B24: Bijkomende kosten kadidaat (per uur) | E24: =Kandidaten!D24 -> 0 | F24: =D22*E24 -> 0
B25: Bijkomende kosten per periode | E25: =Kandidaten!D25 -> 0 | F25: =IF(D22>0,E25,0) -> 0
B26: Totaal SROI-waarde kandidaat deze periode | G26: =SUM(F22:F25) -> 0
B28: Kandidaat | C28: =C21+1 -> 4 | D28: Uren | E28: Overeengekomen tariefwaarde in € | F28: SROI-waarde | G28: Totaal
B29: Aantal gewerkte uren kandidaat | E29: =Kandidaten!D29 -> 0 | F29: =D29*E29 -> 0
B30: Aantal begeleidingsuren kandidaat | E30: =Kandidaten!D30 -> 0 | F30: =D30*E30 -> 0
B31: Bijkomende kosten kadidaat (per uur) | E31: =Kandidaten!D31 -> 0 | F31: =D29*E31 -> 0
B32: Bijkomende kosten per periode | E32: =Kandidaten!D32 -> 0 | F32: =IF(D29>0,E32,0) -> 0
B33: Totaal SROI-waarde kandidaat deze periode | G33: =SUM(F29:F32) -> 0
B35: Kandidaat | C35: =C28+1 -> 5 | D35: Uren | E35: Overeengekomen tariefwaarde in € | F35: SROI-waarde | G35: Totaal
B36: Aantal gewerkte uren kandidaat | E36: =Kandidaten!D36 -> 0 | F36: =D36*E36 -> 0
B37: Aantal begeleidingsuren kandidaat | E37: =Kandidaten!D37 -> 0 | F37: =D37*E37 -> 0
B38: Bijkomende kosten kadidaat (per uur) | E38: =Kandidaten!D38 -> 0 | F38: =D36*E38 -> 0
B39: Bijkomende kosten per periode | E39: =Kandidaten!D39 -> 0 | F39: =IF(D36>0,E39,0) -> 0
B40: Totaal SROI-waarde kandidaat deze periode | G40: =SUM(F36:F39) -> 0
B42: Kandidaat | C42: =C35+1 -> 6 | D42: Uren | E42: Overeengekomen tariefwaarde in € | F42: SROI-waarde | G42: Totaal
B43: Aantal gewerkte uren kandidaat | E43: =Kandidaten!D43 -> 0 | F43: =D43*E43 -> 0
B44: Aantal begeleidingsuren kandidaat | E44: =Kandidaten!D44 -> 0 | F44: =D44*E44 -> 0
B45: Bijkomende kosten kadidaat (per uur) | E45: =Kandidaten!D45 -> 0 | F45: =D43*E45 -> 0
B46: Bijkomende kosten per periode | E46: =Kandidaten!D46 -> 0 | F46: =IF(D43>0,E46,0) -> 0
B47: Totaal SROI-waarde kandidaat deze periode | G47: =SUM(F43:F46) -> 0
B49: Kandidaat | C49: =C42+1 -> 7 | D49: Uren | E49: Overeengekomen tariefwaarde in € | F49: SROI-waarde | G49: Totaal
B50: Aantal gewerkte uren kandidaat | E50: =Kandidaten!D50 -> 0 | F50: =D50*E50 -> 0
B51: Aantal begeleidingsuren kandidaat | E51: =Kandidaten!D51 -> 0 | F51: =D51*E51 -> 0
B52: Bijkomende kosten kadidaat (per uur) | E52: =Kandidaten!D52 -> 0 | F52: =D50*E52 -> 0
B53: Bijkomende kosten per periode | E53: =Kandidaten!D53 -> 0 | F53: =IF(D50>0,E53,0) -> 0
B54: Totaal SROI-waarde kandidaat deze periode | G54: =SUM(F50:F53) -> 0
B56: Kandidaat | C56: =C49+1 -> 8 | D56: Uren | E56: Overeengekomen tariefwaarde in € | F56: SROI-waarde | G56: Totaal
B57: Aantal gewerkte uren kandidaat | E57: =Kandidaten!D57 -> 0 | F57: =D57*E57 -> 0
B58: Aantal begeleidingsuren kandidaat | E58: =Kandidaten!D58 -> 0 | F58: =D58*E58 -> 0
B59: Bijkomende kosten kadidaat (per uur) | E59: =Kandidaten!D59 -> 0 | F59: =D57*E59 -> 0
B60: Bijkomende kosten per periode | E60: =Kandidaten!D60 -> 0 | F60: =IF(D57>0,E60,0) -> 0
B61: Totaal SROI-waarde kandidaat deze periode | G61: =SUM(F57:F60) -> 0
B63: Kandidaat | C63: =C56+1 -> 9 | D63: Uren | E63: Overeengekomen tariefwaarde in € | F63: SROI-waarde | G63: Totaal
B64: Aantal gewerkte uren kandidaat | E64: =Kandidaten!D64 -> 0 | F64: =D64*E64 -> 0
B65: Aantal begeleidingsuren kandidaat | E65: =Kandidaten!D65 -> 0 | F65: =D65*E65 -> 0
B66: Bijkomende kosten kadidaat (per uur) | E66: =Kandidaten!D66 -> 0 | F66: =D64*E66 -> 0
B67: Bijkomende kosten per periode | E67: =Kandidaten!D67 -> 0 | F67: =IF(D64>0,E67,0) -> 0
B68: Totaal SROI-waarde kandidaat deze periode | G68: =SUM(F64:F67) -> 0
B70: Kandidaat | C70: =C63+1 -> 10 | D70: Uren | E70: Overeengekomen tariefwaarde in € | F70: SROI-waarde | G70: Totaal
B71: Aantal gewerkte uren kandidaat | E71: =Kandidaten!D71 -> 0 | F71: =D71*E71 -> 0
B72: Aantal begeleidingsuren kandidaat | E72: =Kandidaten!D72 -> 0 | F72: =D72*E72 -> 0
B73: Bijkomende kosten kadidaat (per uur) | E73: =Kandidaten!D73 -> 0 | F73: =D71*E73 -> 0
B74: Bijkomende kosten per periode | E74: =Kandidaten!D74 -> 0 | F74: =IF(D71>0,E74,0) -> 0
B75: Totaal SROI-waarde kandidaat deze periode | G75: =SUM(F71:F74) -> 0
B77: Kandidaat | C77: =C70+1 -> 11 | D77: Uren | E77: Overeengekomen tariefwaarde in € | F77: SROI-waarde | G77: Totaal
B78: Aantal gewerkte uren kandidaat | E78: =Kandidaten!D78 -> 0 | F78: =D78*E78 -> 0
B79: Aantal begeleidingsuren kandidaat | E79: =Kandidaten!D79 -> 0 | F79: =D79*E79 -> 0
B80: Bijkomende kosten kadidaat (per uur) | E80: =Kandidaten!D80 -> 0 | F80: =D78*E80 -> 0
B81: Bijkomende kosten per periode | E81: =Kandidaten!D81 -> 0 | F81: =IF(D78>0,E81,0) -> 0
B82: Totaal SROI-waarde kandidaat deze periode | G82: =SUM(F78:F81) -> 0
B84: Kandidaat | C84: =C77+1 -> 12 | D84: Uren | E84: Overeengekomen tariefwaarde in € | F84: SROI-waarde | G84: Totaal
B85: Aantal gewerkte uren kandidaat | E85: =Kandidaten!D85 -> 0 | F85: =D85*E85 -> 0
B86: Aantal begeleidingsuren kandidaat | E86: =Kandidaten!D86 -> 0 | F86: =D86*E86 -> 0
B87: Bijkomende kosten kadidaat (per uur) | E87: =Kandidaten!D87 -> 0 | F87: =D85*E87 -> 0
B88: Bijkomende kosten per periode | E88: =Kandidaten!D88 -> 0 | F88: =IF(D85>0,E88,0) -> 0
B89: Totaal SROI-waarde kandidaat deze periode | G89: =SUM(F85:F88) -> 0
B91: Kandidaat | C91: =C84+1 -> 13 | D91: Uren | E91: Overeengekomen tariefwaarde in € | F91: SROI-waarde | G91: Totaal
B92: Aantal gewerkte uren kandidaat | E92: =Kandidaten!D92 -> 0 | F92: =D92*E92 -> 0
B93: Aantal begeleidingsuren kandidaat | E93: =Kandidaten!D93 -> 0 | F93: =D93*E93 -> 0
B94: Bijkomende kosten kadidaat (per uur) | E94: =Kandidaten!D94 -> 0 | F94: =D92*E94 -> 0
B95: Bijkomende kosten per periode | E95: =Kandidaten!D95 -> 0 | F95: =IF(D92>0,E95,0) -> 0
B96: Totaal SROI-waarde kandidaat deze periode | G96: =SUM(F92:F95) -> 0
B98: Kandidaat | C98: =C91+1 -> 14 | D98: Uren | E98: Overeengekomen tariefwaarde in € | F98: SROI-waarde | G98: Totaal
B99: Aantal gewerkte uren kandidaat | E99: =Kandidaten!D99 -> 0 | F99: =D99*E99 -> 0
B100: Aantal begeleidingsuren kandidaat | E100: =Kandidaten!D100 -> 0 | F100: =D100*E100 -> 0
B101: Bijkomende kosten kadidaat (per uur) | E101: =Kandidaten!D101 -> 0 | F101: =D99*E101 -> 0
B102: Bijkomende kosten per periode | E102: =Kandidaten!D102 -> 0 | F102: =IF(D99>0,E102,0) -> 0
B103: Totaal SROI-waarde kandidaat deze periode | G103: =SUM(F99:F102) -> 0
B105: Kandidaat | C105: =C98+1 -> 15 | D105: Uren | E105: Overeengekomen tariefwaarde in € | F105: SROI-waarde | G105: Totaal
B106: Aantal gewerkte uren kandidaat | E106: =Kandidaten!D106 -> 0 | F106: =D106*E106 -> 0
B107: Aantal begeleidingsuren kandidaat | E107: =Kandidaten!D107 -> 0 | F107: =D107*E107 -> 0
B108: Bijkomende kosten kadidaat (per uur) | E108: =Kandidaten!D108 -> 0 | F108: =D106*E108 -> 0
B109: Bijkomende kosten per periode | E109: =Kandidaten!D109 -> 0 | F109: =IF(D106>0,E109,0) -> 0
B110: Totaal SROI-waarde kandidaat deze periode | G110: =SUM(F106:F109) -> 0
B112: Kandidaat | C112: =C105+1 -> 16 | D112: Uren | E112: Overeengekomen tariefwaarde in € | F112: SROI-waarde | G112: Totaal
B113: Aantal gewerkte uren kandidaat | E113: =Kandidaten!D113 -> 0 | F113: =D113*E113 -> 0
B114: Aantal begeleidingsuren kandidaat | E114: =Kandidaten!D114 -> 0 | F114: =D114*E114 -> 0
B115: Bijkomende kosten kadidaat (per uur) | E115: =Kandidaten!D115 -> 0 | F115: =D113*E115 -> 0
B116: Bijkomende kosten per periode | E116: =Kandidaten!D116 -> 0 | F116: =IF(D113>0,E116,0) -> 0
B117: Totaal SROI-waarde kandidaat deze periode | G117: =SUM(F113:F116) -> 0
...
