Workbook
Name _100: 'Open vragen'!#REF!
Name _1050: 'Open vragen'!#REF!
Name _50: 'Open vragen'!#REF!
Name OPENVRAGEN: 'Open vragen'!#REF!
Name SCORE: #REF!
Name SCOREOV: 'Open vragen'!$B$3:$G$3
Name UGV: #REF!
Name UVO: #REF!

Sheet Open vragen
A1: 7.1.A. BEANTWOORDING OPEN VRAGEN
A2: Naast de gestelde eisen uit de onderhavige aanbesteding is de Aanbestedende dienst op zoek naar een opdrachtnemer die haar gedurende de periode van de raamovereenkomst kan voorzien van toegevoegde waarde. Hoe meer toegevoegde waarde (ten opzichte van wat er al vereist is) een inschrijver biedt, hoe hoger zij op dit onderdeel kwaliteit scoort.
A3: OPEN VRAAG 7.1 Duurzaamheid | B3: Uitmuntend | C3: Goed | D3: Voldoende | E3: Matig | F3: Onvoldoende | G3: SCORE
A4: Zie bijlage 7 'kwaliteit'
A5: OPEN VRAAG 7.2 Accountmanagement en bestelproces
A6: Zie bijlage 7 'kwaliteit'
A7: OPEN VRAAG 7.3 Toegevoegde waarde
A8: Zie bijlage 7 'kwaliteit'
A9: OPEN VRAAG 7.4 Casus calamiteiten
A10: Zie bijlage 7 'kwaliteit'

Sheet Beoordelaar 1
A1: Beoordelaar 1: <<>> | C1: Inschrijver 1 | F1: Inschrijver 2 | I1: Inschrijver 3
A2: ='Open vragen'!A1:A1 -> 7.1.A. BEANTWOORDING OPEN VRAGEN | C2: Score: | F2: Score: | I2: Score:
A3: ='Open vragen'!A3 -> OPEN VRAAG 7.1 Duurzaamheid | C3: SCORE | F3: SCORE | I3: SCORE
A4: ='Open vragen'!A4 -> Zie bijlage 7 'kwaliteit' | C4: <MOTIVATIE> | F4: <MOTIVATIE> | I4: <MOTIVATIE>
A5: ='Open vragen'!A5 -> OPEN VRAAG 7.2 Accountmanagement en bestelproces | C5: SCORE | F5: SCORE | I5: SCORE
A6: ='Open vragen'!A6 -> Zie bijlage 7 'kwaliteit' | C6: <MOTIVATIE> | F6: <MOTIVATIE> | I6: <MOTIVATIE>
A7: ='Open vragen'!A7 -> OPEN VRAAG 7.3 Toegevoegde waarde | C7: SCORE | F7: SCORE | I7: SCORE
A8: ='Open vragen'!A8 -> Zie bijlage 7 'kwaliteit' | C8: <MOTIVATIE> | F8: <MOTIVATIE> | I8: <MOTIVATIE>
A9: ='Open vragen'!A9 -> OPEN VRAAG 7.4 Casus calamiteiten | C9: SCORE | F9: SCORE | I9: SCORE
A10: ='Open vragen'!A10 -> Zie bijlage 7 'kwaliteit' | C10: <MOTIVATIE> | F10: <MOTIVATIE> | I10: <MOTIVATIE>

Sheet Beoordelaar 2
A1: Beoordelaar 2: <<>> | C1: ='Beoordelaar 1'!C1 -> Inschrijver 1 | F1: ='Beoordelaar 1'!F1 -> Inschrijver 2 | I1: ='Beoordelaar 1'!I1 -> Inschrijver 3
A2: ='Open vragen'!A1:A1 -> 7.1.A. BEANTWOORDING OPEN VRAGEN | C2: Score: | F2: Score: | I2: Score:
A3: ='Open vragen'!A3 -> OPEN VRAAG 7.1 Duurzaamheid | C3: SCORE | F3: SCORE | I3: SCORE
A4: ='Open vragen'!A4 -> Zie bijlage 7 'kwaliteit' | C4: <MOTIVATIE> | F4: <MOTIVATIE> | I4: <MOTIVATIE>
A5: ='Open vragen'!A5 -> OPEN VRAAG 7.2 Accountmanagement en bestelproces | C5: SCORE | F5: SCORE | I5: SCORE
A6: ='Open vragen'!A6 -> Zie bijlage 7 'kwaliteit' | C6: <MOTIVATIE> | F6: <MOTIVATIE> | I6: <MOTIVATIE>
A7: ='Open vragen'!A7 -> OPEN VRAAG 7.3 Toegevoegde waarde | C7: SCORE | F7: SCORE | I7: SCORE
A8: ='Open vragen'!A8 -> Zie bijlage 7 'kwaliteit' | C8: <MOTIVATIE> | F8: <MOTIVATIE> | I8: <MOTIVATIE>
A9: ='Open vragen'!A9 -> OPEN VRAAG 7.4 Casus calamiteiten | C9: SCORE | F9: SCORE | I9: SCORE
A10: ='Open vragen'!A10 -> Zie bijlage 7 'kwaliteit' | C10: <MOTIVATIE> | F10: <MOTIVATIE> | I10: <MOTIVATIE>

Sheet Beoordelaar 3
A1: Beoordelaar 3: <<>> | C1: ='Beoordelaar 1'!C1 -> Inschrijver 1 | F1: ='Beoordelaar 1'!F1 -> Inschrijver 2 | I1: ='Beoordelaar 1'!I1 -> Inschrijver 3
A2: ='Open vragen'!A1:A1 -> 7.1.A. BEANTWOORDING OPEN VRAGEN | C2: Score: | F2: Score: | I2: Score:
A3: ='Open vragen'!A3 -> OPEN VRAAG 7.1 Duurzaamheid | C3: SCORE | F3: SCORE | I3: SCORE
A4: ='Open vragen'!A4 -> Zie bijlage 7 'kwaliteit' | C4: <MOTIVATIE> | F4: <MOTIVATIE> | I4: <MOTIVATIE>
A5: ='Open vragen'!A5 -> OPEN VRAAG 7.2 Accountmanagement en bestelproces | C5: SCORE | F5: SCORE | I5: SCORE
A6: ='Open vragen'!A6 -> Zie bijlage 7 'kwaliteit' | C6: <MOTIVATIE> | F6: <MOTIVATIE> | I6: <MOTIVATIE>
A7: ='Open vragen'!A7 -> OPEN VRAAG 7.3 Toegevoegde waarde | C7: SCORE | F7: SCORE | I7: SCORE
A8: ='Open vragen'!A8 -> Zie bijlage 7 'kwaliteit' | C8: <MOTIVATIE> | F8: <MOTIVATIE> | I8: <MOTIVATIE>
A9: ='Open vragen'!A9 -> OPEN VRAAG 7.4 Casus calamiteiten | C9: SCORE | F9: SCORE | I9: SCORE
A10: ='Open vragen'!A10 -> Zie bijlage 7 'kwaliteit' | C10: <MOTIVATIE> | F10: <MOTIVATIE> | I10: <MOTIVATIE>

Sheet Beoordelaar 4
A1: Beoordelaar 4: <<>> | C1: ='Beoordelaar 1'!C1 -> Inschrijver 1 | F1: ='Beoordelaar 1'!F1 -> Inschrijver 2 | I1: ='Beoordelaar 1'!I1 -> Inschrijver 3
A2: ='Open vragen'!A1:A1 -> 7.1.A. BEANTWOORDING OPEN VRAGEN | C2: Score: | F2: Score: | I2: Score:
A3: ='Open vragen'!A3 -> OPEN VRAAG 7.1 Duurzaamheid | C3: SCORE | F3: SCORE | I3: SCORE
A4: ='Open vragen'!A4 -> Zie bijlage 7 'kwaliteit' | C4: <MOTIVATIE> | F4: <MOTIVATIE> | I4: <MOTIVATIE>
A5: ='Open vragen'!A5 -> OPEN VRAAG 7.2 Accountmanagement en bestelproces | C5: SCORE | F5: SCORE | I5: SCORE
A6: ='Open vragen'!A6 -> Zie bijlage 7 'kwaliteit' | C6: <MOTIVATIE> | F6: <MOTIVATIE> | I6: <MOTIVATIE>
A7: ='Open vragen'!A7 -> OPEN VRAAG 7.3 Toegevoegde waarde | C7: SCORE | F7: SCORE | I7: SCORE
A8: ='Open vragen'!A8 -> Zie bijlage 7 'kwaliteit' | C8: <MOTIVATIE> | F8: <MOTIVATIE> | I8: <MOTIVATIE>
A9: ='Open vragen'!A9 -> OPEN VRAAG 7.4 Casus calamiteiten | C9: SCORE | F9: SCORE | I9: SCORE
A10: ='Open vragen'!A10 -> Zie bijlage 7 'kwaliteit' | C10: <MOTIVATIE> | F10: <MOTIVATIE> | I10: <MOTIVATIE>

Sheet Beoordelaar 5
A1: Beoordelaar 5: <<>> | C1: ='Beoordelaar 1'!C1 -> Inschrijver 1 | F1: ='Beoordelaar 1'!F1 -> Inschrijver 2 | I1: ='Beoordelaar 1'!I1 -> Inschrijver 3
A2: ='Open vragen'!A1:A1 -> 7.1.A. BEANTWOORDING OPEN VRAGEN | C2: Score: | F2: Score: | I2: Score:
A3: ='Open vragen'!A3 -> OPEN VRAAG 7.1 Duurzaamheid | C3: SCORE | F3: SCORE | I3: SCORE
A4: ='Open vragen'!A4 -> Zie bijlage 7 'kwaliteit' | C4: <MOTIVATIE> | F4: <MOTIVATIE> | I4: <MOTIVATIE>
A5: ='Open vragen'!A5 -> OPEN VRAAG 7.2 Accountmanagement en bestelproces | C5: SCORE | F5: SCORE | I5: SCORE
A6: ='Open vragen'!A6 -> Zie bijlage 7 'kwaliteit' | C6: <MOTIVATIE> | F6: <MOTIVATIE> | I6: <MOTIVATIE>
A7: ='Open vragen'!A7 -> OPEN VRAAG 7.3 Toegevoegde waarde | C7: SCORE | F7: SCORE | I7: SCORE
A8: ='Open vragen'!A8 -> Zie bijlage 7 'kwaliteit' | C8: <MOTIVATIE> | F8: <MOTIVATIE> | I8: <MOTIVATIE>
A9: ='Open vragen'!A9 -> OPEN VRAAG 7.4 Casus calamiteiten | C9: SCORE | F9: SCORE | I9: SCORE
A10: ='Open vragen'!A10 -> Zie bijlage 7 'kwaliteit' | C10: <MOTIVATIE> | F10: <MOTIVATIE> | I10: <MOTIVATIE>

Sheet Consensus
A1: Totaalwaardes | D1: ='Beoordelaar 1'!C1 -> Inschrijver 1 | G1: ='Beoordelaar 1'!F1 -> Inschrijver 2 | J1: ='Beoordelaar 1'!I1 -> Inschrijver 3
A2: ='Open vragen'!A1:A1 -> 7.1.A. BEANTWOORDING OPEN VRAGEN | E2: Motivatie consensus: | G2: SCORE: | H2: Motivatie consensus: | J2: SCORE: | K2: Motivatie consensus:
A3: ='Open vragen'!A3 -> OPEN VRAAG 7.1 Duurzaamheid
A4: ='Open vragen'!A4 -> Zie bijlage 7 'kwaliteit' | B4: Beoordelaar 1 | D4: ='Beoordelaar 1'!C3 -> SCORE | E4: <MOTIVATIE> | G4: ='Beoordelaar 1'!F3 -> SCORE | H4: <MOTIVATIE> | J4: ='Beoordelaar 1'!I3 -> SCORE | K4: <MOTIVATIE>
B5: Beoordelaar 2 | D5: ='Beoordelaar 2'!C3 -> SCORE | G5: ='Beoordelaar 2'!F3 -> SCORE | J5: ='Beoordelaar 2'!I3 -> SCORE
B6: Beoordelaar 3 | D6: ='Beoordelaar 3'!C3 -> SCORE | G6: ='Beoordelaar 3'!F3 -> SCORE | J6: ='Beoordelaar 3'!I3 -> SCORE
B7: Beoordelaar 4 | D7: ='Beoordelaar 4'!C3 -> SCORE | G7: ='Beoordelaar 4'!F3 -> SCORE | J7: ='Beoordelaar 4'!I3 -> SCORE
B8: Beoordelaar 5 | D8: ='Beoordelaar 5'!C3 -> SCORE | G8: ='Beoordelaar 5'!F3 -> SCORE | J8: ='Beoordelaar 5'!I3 -> SCORE
A9: Consensus | D9: SCORE | G9: SCORE | J9: SCORE
D10: =IF(D9="Uitmuntend","€ 4.000",IF(D9="Goed","€ 3.000",IF(D9="Voldoende","€ 0",IF(D9="Matig","-€ 4.000",IF(D9="Onvoldoende","KO"," "))))) | G10: =IF(G9="Uitmuntend","€ 4.000",IF(G9="Goed","€ 3.000",IF(G9="Voldoende","€ 0",IF(G9="Matig","-€ 4.000",IF(G9="Onvoldoende","KO"," "))))) | J10: =IF(J9="Uitmuntend","€ 4.000",IF(J9="Goed","€ 3.000",IF(J9="Voldoende","€ 0",IF(J9="Matig","-€ 4.000",IF(J9="Onvoldoende","KO"," ")))))
A11: ='Open vragen'!A5 -> OPEN VRAAG 7.2 Accountmanagement en bestelproces | B11: Beoordelaar 1 | D11: ='Beoordelaar 1'!C5 -> SCORE | E11: <MOTIVATIE> | G11: ='Beoordelaar 1'!F5 -> SCORE | H11: <MOTIVATIE> | J11: ='Beoordelaar 1'!I5 -> SCORE | K11: <MOTIVATIE>
B12: Beoordelaar 2 | D12: ='Beoordelaar 2'!C5 -> SCORE | G12: ='Beoordelaar 2'!F5 -> SCORE | J12: ='Beoordelaar 2'!I5 -> SCORE
B13: Beoordelaar 3 | D13: ='Beoordelaar 3'!C5 -> SCORE | G13: ='Beoordelaar 3'!F5 -> SCORE | J13: ='Beoordelaar 3'!I5 -> SCORE
B14: Beoordelaar 4 | D14: ='Beoordelaar 4'!C5 -> SCORE | G14: ='Beoordelaar 4'!F5 -> SCORE | J14: ='Beoordelaar 4'!I5 -> SCORE
B15: Beoordelaar 5 | D15: ='Beoordelaar 5'!C5 -> SCORE | G15: ='Beoordelaar 5'!F5 -> SCORE | J15: ='Beoordelaar 5'!I5 -> SCORE
A16: Consensus | D16: SCORE | G16: SCORE | J16: SCORE
D17: =IF(D16="Uitmuntend","€ 4.000",IF(D16="Goed","€ 3.000",IF(D16="Voldoende","€ 0",IF(D16="Matig","-€ 4.000",IF(D16="Onvoldoende","KO"," "))))) | G17: =IF(G16="Uitmuntend","€ 4.000",IF(G16="Goed","€ 3.000",IF(G16="Voldoende","€ 0",IF(G16="Matig","-€ 4.000",IF(G16="Onvoldoende","KO"," "))))) | J17: =IF(J16="Uitmuntend","€ 4.000",IF(J16="Goed","€ 3.000",IF(J16="Voldoende","€ 0",IF(J16="Matig","-€ 4.000",IF(J16="Onvoldoende","KO"," ")))))
A18: ='Open vragen'!A7 -> OPEN VRAAG 7.3 Toegevoegde waarde | B18: Beoordelaar 1 | D18: ='Beoordelaar 1'!C7 -> SCORE | E18: <MOTIVATIE> | G18: ='Beoordelaar 1'!F7 -> SCORE | H18: <MOTIVATIE> | J18: ='Beoordelaar 1'!I7 -> SCORE | K18: <MOTIVATIE>
B19: Beoordelaar 2 | D19: ='Beoordelaar 2'!C7 -> SCORE | G19: ='Beoordelaar 2'!F7 -> SCORE | J19: ='Beoordelaar 2'!I7 -> SCORE
B20: Beoordelaar 3 | D20: ='Beoordelaar 3'!C7 -> SCORE | G20: ='Beoordelaar 3'!F7 -> SCORE | J20: ='Beoordelaar 3'!I7 -> SCORE
B21: Beoordelaar 4 | D21: ='Beoordelaar 4'!C7 -> SCORE | G21: ='Beoordelaar 4'!F7 -> SCORE | J21: ='Beoordelaar 4'!I7 -> SCORE
B22: Beoordelaar 5 | D22: ='Beoordelaar 5'!C7 -> SCORE | G22: ='Beoordelaar 5'!F7 -> SCORE | J22: ='Beoordelaar 5'!I7 -> SCORE
A23: Consensus | D23: SCORE | G23: SCORE | J23: SCORE
D24: =IF(D23="Uitmuntend","€ 4.000",IF(D23="Goed","€ 3.000",IF(D23="Voldoende","€ 0",IF(D23="Matig","-€ 4.000",IF(D23="Onvoldoende","KO"," "))))) | G24: =IF(G23="Uitmuntend","€ 4.000",IF(G23="Goed","€ 3.000",IF(G23="Voldoende","€ 0",IF(G23="Matig","-€ 4.000",IF(G23="Onvoldoende","KO"," "))))) | J24: =IF(J23="Uitmuntend","€ 4.000",IF(J23="Goed","€ 3.000",IF(J23="Voldoende","€ 0",IF(J23="Matig","-€ 4.000",IF(J23="Onvoldoende","KO"," ")))))
A25: ='Open vragen'!A9 -> OPEN VRAAG 7.4 Casus calamiteiten | B25: Beoordelaar 1 | D25: ='Beoordelaar 1'!C9 -> SCORE | E25: <MOTIVATIE> | G25: ='Beoordelaar 1'!F9 -> SCORE | H25: <MOTIVATIE> | J25: ='Beoordelaar 1'!I9 -> SCORE | K25: <MOTIVATIE>
B26: Beoordelaar 2 | D26: ='Beoordelaar 2'!C9 -> SCORE | G26: ='Beoordelaar 2'!F9 -> SCORE | J26: ='Beoordelaar 2'!I9 -> SCORE
B27: Beoordelaar 3 | D27: ='Beoordelaar 3'!C9 -> SCORE | G27: ='Beoordelaar 3'!F9 -> SCORE | J27: ='Beoordelaar 3'!I9 -> SCORE
B28: Beoordelaar 4 | D28: ='Beoordelaar 4'!C9 -> SCORE | G28: ='Beoordelaar 4'!F9 -> SCORE | J28: ='Beoordelaar 4'!I9 -> SCORE
B29: Beoordelaar 5 | D29: ='Beoordelaar 5'!C9 -> SCORE | G29: ='Beoordelaar 5'!F9 -> SCORE | J29: ='Beoordelaar 5'!I9 -> SCORE
A30: Consensus | D30: SCORE | G30: SCORE | J30: SCORE
D31: =IF(D30="Uitmuntend","€ 4.000",IF(D30="Goed","€ 3.000",IF(D30="Voldoende","€ 0",IF(D30="Matig","-€ 4.000",IF(D30="Onvoldoende","KO"," "))))) | G31: =IF(G30="Uitmuntend","€ 4.000",IF(G30="Goed","€ 3.000",IF(G30="Voldoende","€ 0",IF(G30="Matig","-€ 4.000",IF(G30="Onvoldoende","KO"," "))))) | J31: =IF(J30="Uitmuntend","€ 4.000",IF(J30="Goed","€ 3.000",IF(J30="Voldoende","€ 0",IF(J30="Matig","-€ 4.000",IF(J30="Onvoldoende","KO"," ")))))
A33: Totaal behaalde waarde open vragen: | D33: =D10+D17+D24+D31 -> #VALUE! | G33: =G10+G17+G24+G31 -> #VALUE! | J33: =J10+J17+J24+J31 -> #VALUE!

Sheet Eindscores
A1: Totaalwaarder criterium kwaliteit
A2: Onderdeel | C2: ='Beoordelaar 1'!C1 -> Inschrijver 1 | E2: ='Beoordelaar 1'!F1 -> Inschrijver 2 | G2: ='Beoordelaar 1'!I1 -> Inschrijver 3
A3: ='Open vragen'!A1 -> 7.1.A. BEANTWOORDING OPEN VRAGEN | C3: =Consensus!D33 -> #VALUE! | E3: =Consensus!G33 -> #VALUE! | G3: =Consensus!J33 -> #VALUE!
A4: 7.2 PRODUCTDEMONSTRATIE | C4: 0 | E4: 0 | G4: 0
A5: Totaal behaalde waarde criterium kwaliteit: | C5: =SUM(C3:C4) -> #VALUE! | E5: =SUM(E3:E4) -> #VALUE! | G5: =SUM(G3:G4) -> #VALUE!
A7: Totaal behaalde waarde criterium prijs: | C7: 0 | E7: 0 | G7: 0
A9: Eindscore (kwaliteit/prijs): | C9: =C7-C5 -> #VALUE! | E9: =E7-E5 -> #VALUE! | G9: =G7-G5 -> #VALUE!
