Workbook

Sheet Inschrijfprijs
A1: Xpect 013
A2: Installatieonderhoud E&W
A3: Prijzenblad nav NvI 1
A4: 45950
A6: Inschrijver vult alle gekleurde cellen in. Gevraagde tarieven zijn inclusief btw en gelden als maximale tarieven.
A7: In het prijzenblad vult men in wat de kosten zijn om een installatie op conditie 2 te houden. Het is niet mogelijk andere kosten te factureren dan de hier opgenomen kosten.
A9: Perceel 1: E-installaties
A10: Vergelijkingsprijs scholen: | B10: ='P1 E Scholen'!V786 -> 0
A11: Vergelijkingsprijs KDV: | B11: ='P1 E KDV'!Z486 -> 0
A12: Totaalprijs vergelijking E-installaties | B12: =B10+B11 -> 0
A14: Perceel 2: W-installaties
A15: Vergelijkingsprijs scholen: | B15: ='P2 W scholen'!J912 -> 0
A16: Vergelijkingsprijs KDV: | B16: ='P2 W KDV'!I660 -> 0
A17: Totaalprijs vergelijking W-installaties | B17: =B15+B16 -> 0

Sheet P1 E Scholen
A1: Codering | B1: Verdieping | C1: Volgnummer | D1: Ruimte | E1: Fabrikant | F1: Armatuurtype | G1: Bouwjaar | H1: Lichtbron | I1: Bouwjaar | J1: Starter | K1: Tekstplaat voorzijde | L1: Tekstplaat achterzijde | M1: Batterij type | N1: ..V ..Ah | O1: Bouwjaar | P1: Uitvoering | Q1: Armatuur Systeem | R1: Montage Materieel | S1: Groepsnummer | T1: Montage wijze | U1: Bevestiging | V1: All-in prijs onderhoud en storingen behoud gevraagd conditieniveau
A2: Inventarisatie overzicht van: Basisschool Armhoefse Akkers
A3: Inbraak-installatie | B3: Type centrale: ATS3500A , bouwjaar:2021, 2 Bediendelen, 11 Magneetcontacten, 28 Detectoren, 2 Besturingskasten, 4 Sirenes, 2 Flitslicht
A4: Brandmeld-installatie | B4: Type centrale: Penta 6000, bouwjaar:2021, Groepenkaart tbv analoge melders;Componenten zijn vanaf 2004, 50 optische melders; 2 thermische melders; 8 handmelders; 26 nevenindicatoren; 27 slow whoops; 1 flitslicht; 1 GTV; 6 kleefmagneten.
A6: Noodverlichting
A7: Basisschool Armhoefse Akkers
A8: Spoordijk 68
A9: 5018GH Tilburg
A11: Armaturen
A12: Codering | B12: Verdieping | C12: Volgnummer | D12: Ruimte | E12: Fabrikant | F12: Armatuurtype | G12: Bouwjaar | H12: Lichtbron | I12: Bouwjaar | J12: Starter | K12: Tekstplaat voorzijde | L12: Tekstplaat achterzijde | M12: Batterij type | N12: ..V ..Ah | O12: Bouwjaar | P12: Uitvoering | Q12: Armatuur Systeem | R12: Montage Materieel | S12: Groepsnummer | T12: Montage wijze | U12: Bevestiging | V12: All-in prijs onderhoud en storingen behoud conditieniveau 2
A13: B01 | B13: 0 | C13: 1 | D13: Hoofdentree | E13: Famostar | F13: Pro WPA-1 C | G13: 2023 | H13: Vast LED | I13: 2023 | J13: nee | K13: A1EN | M13: 3STVHTCs | N13: 3,6V 2Ah | O13: 2023 | P13: P | Q13: D | T13: Opbouw | U13: Wand
A14: B02 | B14: 0 | C14: 2 | D14: Hoofdentree | E14: Famostar | F14: Go! PPA-1 C | G14: 2023 | H14: 1W LED 303 | I14: 2023 | J14: nee | K14: A3EN | L14: A2EN | M14: 3STVHTAA | N14: 3,6V 1,2Ah | O14: 2023 | P14: P | Q14: D | T14: Opbouw | U14: Plafond
A15: B03 | B15: 0 | C15: 3 | D15: Gang | E15: Famostar | F15: Pro PPA-1 | G15: 2023 | H15: 1W LED 303 | I15: 2023 | J15: nee | K15: A1EN | L15: Z | M15: 3STVHTAA LowTemp | N15: 3,6V 1,2Ah | O15: 2023 | P15: P | Q15: D | T15: Opbouw | U15: Plafond
A16: B04 | B16: 0 | C16: 4 | D16: Gang BG | E16: Famostar | F16: Pro VPA-1 | G16: 2023 | H16: 1W LED 303 | I16: 2023 | J16: nee | M16: 3STVHTCs | N16: 3,6V 2Ah | O16: 2023 | P16: NP | Q16: D | T16: Opbouw | U16: Plafond
A17: B05 | B17: 0 | C17: 5 | D17: Gang deur naar traphal | E17: Famostar | F17: Pro WPA-1 | G17: 2023 | H17: 1W LED 303 | I17: 2023 | J17: nee | K17: A1EN | M17: 3STVHTAA LowTemp | N17: 3,6V 1,2Ah | O17: 2023 | P17: P | Q17: D | T17: Opbouw | U17: Wand
A18: B06 | B18: 0 | C18: 6 | D18: Traphal | E18: Famostar | F18: Pro VPA-1 | G18: 2023 | H18: 1W LED 303 | I18: 2023 | J18: nee | M18: 3STVHTCs | N18: 3,6V 2Ah | O18: 2023 | P18: NP | Q18: D | T18: Opbouw | U18: Plafond
A19: B07 | B19: 0 | C19: 7 | D19: Traphal vluchtdeur | E19: Famostar | F19: Pro PPA-1 | G19: 2023 | H19: 1W LED 303 | I19: 2023 | J19: nee | K19: A1EN | L19: Z | M19: 3STVHTAA LowTemp | N19: 3,6V 1,2Ah | O19: 2023 | P19: P | Q19: D | T19: Opbouw | U19: Plafond
A20: B08 | B20: 0 | C20: 8 | D20: Gang | E20: Famostar | F20: Pro VPA-1 | G20: 2023 | H20: 1W LED 303 | I20: 2023 | J20: nee | M20: 3STVHTCs | N20: 3,6V 2Ah | O20: 2023 | P20: NP | Q20: D | T20: Opbouw | U20: Plafond
A21: B09 | B21: 0 | C21: 9 | D21: Gemeenschapsruimte | E21: Famostar | F21: CELO CI VA-1 C | G21: 2023 | H21: 1W LED 303 | I21: 2023 | J21: nee | M21: 3SBSVHTAA | N21: 3,6V 1,2Ah | O21: 2023 | P21: NP | Q21: D | T21: Inbouw | U21: Plafond
A22: B10 | B22: 0 | C22: 10 | D22: Gang | E22: Famostar | F22: CELO CI VA-1 C | G22: 2023 | H22: 1W LED 303 | I22: 2023 | J22: nee | M22: 3SBSVHTAA | N22: 3,6V 1,2Ah | O22: 2023 | P22: NP | Q22: D | T22: Inbouw | U22: Plafond
A23: B11 | B23: 0 | C23: 11 | D23: Gang | E23: Famostar | F23: Go! IPPA-1 | G23: 2023 | H23: Vast LED | I23: 2023 | J23: nee | K23: A1EN | L23: Z | M23: 3SBSVHTAAA | N23: 3,6V 600mAh | O23: 2023 | P23: P | Q23: D | T23: Inbouw | U23: Plafond
A24: B12 | B24: 0 | C24: 12 | D24: Speellokaal | E24: Famostar | F24: Go! WPA-1 | G24: 2023 | H24: 1W LED 303 | I24: 2023 | J24: nee | K24: A1EN | M24: 3STVHTAAA | N24: 3,6V 600mAh | O24: 2023 | P24: P | Q24: D | T24: Opbouw | U24: Wand
A25: B13 | B25: 0 | C25: 13 | D25: Speellokaal | E25: Famostar | F25: CELO CI VA-1 C | G25: 2023 | H25: 1W LED 303 | I25: 2023 | J25: nee | M25: 3SBSVHTAA | N25: 3,6V 1,2Ah | O25: 2023 | P25: NP | Q25: D | T25: Inbouw | U25: Plafond
A26: B14 | B26: 0 | C26: 14 | D26: Gang traphal | E26: Famostar | F26: CELO CS VA-1 C | G26: 2021 | H26: Vast LED | I26: 2021 | J26: nee | M26: 3SBSVHTAA | N26: 3,6V 1,2Ah | O26: 2021 | P26: NP | Q26: D | T26: Opbouw | U26: Plafond
A27: B15 | B27: 0 | C27: 15 | D27: Gang traphal | E27: Famostar | F27: Go! IPPA-1 | G27: 2023 | H27: Vast LED | I27: 2023 | J27: nee | K27: A1EN | L27: Z | M27: 3SBSVHTAAA | N27: 3,6V 600mAh | O27: 2023 | P27: P | Q27: D | T27: Inbouw | U27: Plafond
A28: B16 | B28: 0 | C28: 16 | D28: Gymzaal | E28: Famostar | F28: Go! WPA-1 | G28: 2021 | H28: 1W LED 303 | I28: 2021 | J28: nee | K28: A1 | L28: Z | M28: 3STVHTAAA | N28: 3,6V 600mAh | O28: 2021 | P28: P | Q28: D | T28: Opbouw | U28: Plafond
A29: B17 | B29: 0 | C29: 17 | D29: Gymzaal | E29: Famostar | F29: Pro Plus VPA-1 | G29: 2023 | H29: 1W LED 303 | I29: 2023 | J29: nee | M29: 3STVHT7/5Cs | N29: 3,6V 4Ah | O29: 2023 | P29: NP | Q29: D | R29: Beschermkorf | T29: Opbouw | U29: Plafond
A30: B18 | B30: 0 | C30: 18 | D30: Gymzaal | E30: Famostar | F30: Pro Plus VPA-1 | G30: 2023 | H30: 1W LED 303 | I30: 2023 | J30: nee | M30: 3STVHT7/5Cs | N30: 3,6V 4Ah | O30: 2023 | P30: NP | Q30: D | R30: Steiger + beschermkorf | T30: Opbouw | U30: Plafond
A31: B19 | B31: 0 | C31: 19 | D31: HVK | E31: Lumission | F31: Upload 250 LITE + NV | G31: 2018 | H31: Vast LED | I31: 2018 | J31: ja | M31: 2x3STVTC | N31: 7,2V 2,5Ah | O31: 2023 | P31: S | Q31: D | T31: Opbouw | U31: Plafond
A32: B20 | B32: 0 | C32: 20 | D32: Buiten hoofdentree | E32: Norton | F32: NORT POLARIS IV WVSN WSE GR | G32: 2023 | H32: Vast LED | I32: 2023 | J32: nee | M32: 3STVTCs | N32: 3,6V 1,5Ah | O32: 2023 | P32: S | Q32: D | T32: Opbouw | U32: Plafond
A33: B21 | B33: 0 | C33: 21 | D33: Gang | E33: Famostar | F33: Pro PPA-1 | G33: 2023 | H33: 1W LED 303 | I33: 2023 | J33: nee | K33: A1EN | L33: Z | M33: 3STVHTAA LowTemp | N33: 3,6V 1,2Ah | O33: 2023 | P33: P | Q33: D | T33: Opbouw | U33: Plafond
A34: B22 | B34: 0 | C34: 22 | D34: Gemeenschapsruimte vluchtdeur | E34: Famostar | F34: Pro PPA-1 | G34: 2021 | H34: 1W LED 303 | I34: 2021 | J34: nee | K34: A1EN | L34: Z | M34: 3STVHTAA LowTemp | N34: 3,6V 1,2Ah | O34: 2021 | P34: P | Q34: D | T34: Opbouw | U34: Plafond
A35: B23 | B35: 0 | C35: 23 | D35: Buitengevel deur speelplaats | E35: Famostar | F35: Pro VPA-1 | G35: 2022 | H35: 1W LED 303 | I35: 2022 | J35: nee | M35: 3STVHTCs | N35: 3,6V 2Ah | O35: 2022 | P35: NP | Q35: D | T35: Opbouw | U35: Plafond
A36: B24 | B36: 0 | C36: 24 | D36: Portaal gymzaal | E36: Famostar | F36: D-Sign SPA-1 | G36: 2022 | H36: 1W LED 303 | I36: 2022 | J36: nee | K36: A1EN | L36: Z | M36: 3STVHTAA | N36: 3,6V 1,2Ah | O36: 2022 | P36: P | Q36: D | T36: Opbouw | U36: Plafond
A37: B25 | B37: 0 | C37: 25 | D37: Portaal gymzaal | E37: Famostar | F37: CELO CS VA-1 C | G37: 2023 | H37: Vast LED | I37: 2023 | J37: nee | M37: 3SBSVHTAA | N37: 3,6V 1,2Ah | O37: 2023 | P37: NP | Q37: D | T37: Opbouw | U37: Plafond
A38: B26 | B38: 0 | C38: 26 | D38: Kleedruimte | E38: Famostar | F38: Go! WPA-1 | G38: 2023 | H38: 1W LED 303 | I38: 2023 | J38: nee | K38: A1EN | M38: 3STVHTAAA | N38: 3,6V 600mAh | O38: 2023 | P38: P | Q38: D | T38: Opbouw | U38: Plafond
A39: B27 | B39: 0 | C39: 27 | D39: Kleedruimte | E39: Famostar | F39: Pro VPA-1 | G39: 2022 | H39: 1W LED 303 | I39: 2022 | J39: nee | M39: 3STVHTCs | N39: 3,6V 2Ah | O39: 2022 | P39: NP | Q39: D | T39: Opbouw | U39: Plafond
A40: B28 | B40: 0 | C40: 28 | D40: Gymzaal | E40: Famostar | F40: Go! WPA-1 | G40: 2021 | H40: 1W LED 303 | I40: 2021 | J40: nee | K40: A1EN | L40: Z | M40: 3STVHTAAA | N40: 3,6V 600mAh | O40: 2021 | P40: P | Q40: D | R40: +Korf | T40: Opbouw | U40: Plafond
A41: B29 | B41: 0 | C41: 29 | D41: Gymzaal | E41: Famostar | F41: Go! WPA-1 | G41: 2021 | H41: 1W LED 303 | I41: 2021 | J41: nee | K41: A1EN | L41: Z | M41: 3STVHTAAA | N41: 3,6V 600mAh | O41: 2021 | P41: P | Q41: D | R41: +Korf | T41: Opbouw | U41: Wand
A42: B30 | B42: 0 | C42: 30 | D42: Kleedruimte | E42: Famostar | F42: Pro VPA-1 | G42: 2023 | H42: 1W LED 303 | I42: 2023 | J42: nee | M42: 3STVHTCs | N42: 3,6V 2Ah | O42: 2023 | P42: NP | Q42: D | T42: Opbouw | U42: Plafond
...

Sheet P1 E KDV
A1: NL SfB code | B1: E / W / Sanitair | C1: Installatie | D1: Merk | E1: Type | F1: Ruimte | G1: Capaciteit | J1: Bouwjaar | K1: Bouwjaar accu | L1: Aantal | N1: Conditie volgens NEN 2767 | O1: 2013 | P1: 2014 | Q1: 2015 | R1: 2016 | S1: 2017 | T1: 2018 | U1: 2019 | V1: 2020 | W1: 2021 | X1: Type Lichtbron | Y1: Opmerkingen | Z1: All-in prijs onderhoud en storingen behoud gevraagd conditieniveau
C2: Armhoefse Akker | F2: Installatiecartotheek
C3: Adres: | D3: Van Heutzstraat 1a te Tilburg | F3: Gebouwfunctie: | G3: KDV / BSO / Lokalen vd1 | I3: Bouwjaar: | J3: 1951
C4: Inspectiedatum: | D4: 41109 | I4: Verbouwingsjaar: | J4: 2012
A6: NL SfB code | B6: E / W / Sanitair | C6: Installatie | D6: Merk | E6: Type | F6: Ruimte | G6: Capaciteit | J6: Bouwjaar | K6: Bouwjaar accu | L6: Aantal | N6: Conditie volgens NEN 2767 | O6: 2013 | P6: 2014 | Q6: 2015 | R6: 2016 | S6: 2017 | T6: 2018 | U6: 2019 | V6: 2020 | W6: 2021 | X6: Type Lichtbron | Y6: Opmerkingen
A7: 61 | B7: E | C7: verdeelinrichting | D7: Siemens | F7: 0.14 | G7: 11 groepen | H7: 3x 80A | J7: 2011 | L7: 1 | M7: stuks
A8: 61 | B8: E | C8: onderverdeelinrichting 1 | D8: Siemens | F8: 0.14 | G8: 36 groepen | J8: 2011 | L8: 1 | M8: stuks
A9: 61 | B9: E | C9: onderverdeelinrichting 2 | D9: Siemens | F9: kast verdieping | G9: 26 groepen | J9: 2011 | L9: 1 | M9: stuks
A10: 63 | B10: E | C10: noodverlichtingsarmatuur | D10: BLESSING, EATON | E10: SKOPOS LED R AT | F10: begane grond | J10: 2022 | K10: 2022 | L10: 6 | M10: stuks | X10: LED
A11: 63 | B11: E | C11: noodverlichtingsarmatuur | D11: BLESSING, EATON | E11: SKOPOS LED R AT | F11: Eerste verdieping | J11: 2022 | K11: 2022 | L11: 14 | M11: stuks | X11: LED
A12: 63 | B12: E | C12: noodverlichtingsarmatuur | D12: BLESSING, EATON | E12: SKOPOS LED R AT | F12: Tweede verdieping | J12: 2022 | K12: 2022 | L12: 2 | M12: stuks | X12: LED
A13: 63 | B13: E | C13: noodverlichtingsarmatuur | D13: BLESSING, EATON | E13: SKOPOS LED R AT | F13: Kelder | J13: 2022 | K13: 2022 | L13: 2 | M13: stuks | X13: LED
A14: 63 | B14: E | C14: noodverlichtingsarmatuur | D14: ALVIT | E14: R3634 (NOODKIT) | F14: begane grond | J14: 2010 | K14: 2022 | L14: 2 | M14: stuks | X14: PL-L/TL
A15: 63 | B15: E | C15: noodverlichtingsarmatuur | D15: LAMPEC | E15: EL UNIT 6-80 | F15: begane grond | J15: 2010 | K15: 2022 | L15: 3 | M15: stuks | X15: PL-L
A16: 63 | B16: E | C16: noodverlichtingsarmatuur | D16: LAMPEC | E16: EL UNIT 6-81 | F16: Eerste verdieping | J16: 2010 | K16: 2024 | L16: 3 | M16: stuks | X16: PL-L
A17: 63 | B17: E | C17: noodverlichtingsarmatuur | D17: LIGHTRONICS | E17: AH001C4105000 | F17: begane grond | J17: 2020 | K17: 2022 | L17: 4 | M17: stuks | X17: PL-L
A18: 63 | B18: E | C18: noodverlichtingsarmatuur | D18: LIGHTRONICS | E18: AH001C4105001 | F18: Eerste verdieping | J18: 2020 | K18: 2024 | L18: 1 | M18: stuks | X18: PL-L
A19: 63 | B19: E | C19: noodverlichtingsarmatuur | D19: LITEPLAN | E19: EM/3/13-32FB | F19: begane grond | J19: 2010 | K19: 2024 | L19: 1 | M19: stuks | X19: PL-L
A20: 63 | B20: E | C20: noodverlichtingsarmatuur | D20: VanLien, ABB | E20: EVA-R-DWI | F20: begane grond | J20: 2020 | K20: 2024 | L20: 1 | M20: stuks | X20: LED
A21: 63 | B21: E | C21: noodverlichtingsarmatuur | D21: VanLien, ABB | E21: EVA-R-DLI | F21: begane grond | J21: 2017/2020 | K21: 2022 | L21: 2 | M21: stuks | X21: PL-L/LED
B22: B | C22: Onderhoud Inbraaksignaleringssysteem | D22: Hertek 1 Lus | Z22: ='BMI en inbraak afprijzen'!K42 -> 0
C23: Wettelijke keuringen en inspecties betreffende locatie per jaar.
C24: Boemerang | F24: Installatiecartotheek
C25: Adres: | D25: Rijperkerstraat 4 te Tilburg | F25: Gebouwfunctie: | G25: KDV / PSZ | I25: Bouwjaar: | J25: 2005
C26: Inspectiedatum: | D26: 41143 | F26: Locatiedirecteur: | G26: Michelle van Tilburg | I26: Verbouwingsjaar: | J26: n.v.t.
A28: NL SfB code | B28: E / W / Sanitair | C28: Installatie | D28: Merk | E28: Type | F28: Ruimte | G28: Capaciteit | J28: Bouwjaar | K28: Bouwjaar accu | L28: Aantal | N28: Conditie volgens NEN 2767 | O28: 2013 | P28: 2014 | Q28: 2015 | R28: 2016 | S28: 2017 | T28: 2018 | U28: 2019 | V28: 2020 | W28: 2021 | X28: Type Lichtbron | Y28: Opmerkingen
A29: 61 | B29: E | C29: verdeelinrichting | D29: GE Odink & Koederink | G29: 3 groepen | J29: 2005 | L29: 1 | M29: stuks
A30: 61 | B30: E | C30: onderverdeelinrichting 1 | D30: LK0-3 | G30: 54 groepen | J30: ? | L30: 1 | M30: stuks
A31: 61 | B31: E | C31: onderverdeelinrichting 2 | D31: LK0-4 | G31: 27 groepen | J31: ? | L31: 1 | M31: stuks
A32: 63 | B32: E | C32: noodverlichtingsarmatuur | D32: VanLien, ABB | E32: IL-230 HF | F32: begane grond | J32: 2011 | K32: 2021 | L32: 6 | M32: stuks | X32: 1 LED/ 5 TL
A33: 63 | B33: E | C33: noodverlichtingsarmatuur | D33: VanLien, ABB | E33: IL-230 HF | F33: Eerste verdieping | J33: 2011 | K33: 2021 | L33: 7 | M33: stuks | X33: TL
A34: 63 | B34: E | C34: noodverlichtingsarmatuur | D34: VanLien, ABB | E34: IL-230HF/LED/DZ | F34: begane grond | J34: 2021 | K34: 2021 | L34: 2 | M34: stuks | X34: LED
A35: 63 | B35: E | C35: noodverlichtingsarmatuur | D35: VanLien, ABB | E35: IL-230HF/LED/DZ | F35: Eerste verdieping | J35: 2021 | K35: 2021 | L35: 2 | M35: stuks | X35: LED
A36: 63 | B36: E | C36: noodverlichtingsarmatuur | D36: VanLien, ABB | E36: OL-230HF | F36: begane grond | J36: 2004/2011 | K36: 2021 | L36: 7 | M36: stuks | X36: TL
A37: 63 | B37: E | C37: noodverlichtingsarmatuur | D37: VanLien, ABB | E37: OL-230HF/LED | F37: begane grond | J37: 2023 | K37: 2021 | L37: 3 | M37: stuks | X37: LED
B38: B | C38: Onderhoud Toegangscontrolesysteem
B39: B | C39: Onderhoud Brandmeld en ontruimingsinstallatie | D39: Hertek Diverse | Z39: ='BMI en inbraak afprijzen'!K21 -> 0
B40: B | C40: Onderhoud Inbraaksignaleringssysteem | D40: Aritech ATS 4500 Advanced | Z40: ='BMI en inbraak afprijzen'!K42 -> 0
C41: Wettelijke keuringen en inspecties betreffende locatie per jaar.
C42: Burgemeester | F42: Installatiecartotheek
...

Sheet P2 W scholen
A1: Aant. | B1: Omschrijving installaties | C1: Locatie | D1: Merk | E1: Type | F1: Capaciteit | G1: Bouwjaar | H1: Akkoord | I1: Opmerkingen | J1: All-in prijs onderhoud en storingen behoud gevraagd conditieniveau
A2: Basisschool Jeanne D'arc
B3: Warmteopwekking
A4: 2 | B4: Verwarmingsketel 1 | C4: Stookruimte B (zolder) | D4: Nefit | E4: Topline HR 100 | F4: 100kW | G4: 2005
A5: 1 | B5: Expansievat | C5: Stookruimte B | D5: Flexcon | E5: 140 liter / 0,5 bar | F5: 140 Liter | G5: 2005
A6: 1 | B6: Circulatiepomp 1 | C6: Stookruimte A kelder | D6: Grundfos | E6: UPS 50-60/2 F | F6: 230 volt | G6: 2005
A7: 1 | B7: Circulatiepomp 2 | C7: Stookruimte A | D7: Biral | E7: Redline L 401 3x400V | F7: 230 volt
A8: 1 | B8: Circulatiepomp 3 | C8: Stookruimte A | D8: Grundfos | E8: UP 32-80 180 3x400V 0,5A 275w | F8: 230 volt
A9: 1 | B9: Circulatiepomp 4 | C9: Stookruimte A | D9: Wilo | E9: TOP-S30/10 | F9: 230 volt
A10: 1 | B10: Circulatiepomp 5 | C10: Stookruimte B | D10: Grundfos | E10: UPS 25-40 180 | F10: 230 volt | G10: 1998
A11: 1 | B11: Circulatiepomp 6 | C11: Stookruimte B | D11: Grundfos | E11: magna 3 40-120 | F11: 230 volt | G11: 2014
B12: Klimaatregeling
A13: 1 | B13: Regelkast | C13: Stookruimte A | D13: Siemens | E13: Synco | G13: 2005
A14: 1 | B14: Overwerktimer 1 | C14: Stookruimte A | D14: Royal | E14: DOT-U/1 op regelkast | G14: 2005
A15: 1 | B15: Overwerktimer 2 | C15: Stookruimte A | D15: Royal | E15: DOT-U/1 op regelkast | G15: 2005
A16: 2 | B16: Regelaar | C16: Hal Aula/Directie | D16: Siemens | E16: REV23 | G16: 2005
B17: Boilers
A18: 1 | B18: Boiler | C18: Werkkast | D18: Daalderop | E18: 50 liter mono koper | F18: 50Liter
A19: 1 | B19: Close-up boiler | C19: Berging A Bovenbouw | D19: Daalderop | E19: close-up 15 | F19: 15 Liter
A20: 1 | B20: Close-in boiler | C20: Pantry | D20: Daalderop | E20: close-in 15 | F20: 15 Liter
A21: 1 | B21: Close-in boiler | C21: Aanbouw kleuters | D21: Daalderop | E21: Close-in 10 liter | F21: 10 Liter
B22: Overige
A23: 1 | B23: Close-in boiler | C23: Aanbouw kleuters | D23: Daalderop | E23: Close-in 10 ltr | F23: 10 Liter
A24: 2 | B24: servomotor | C24: kelder | D24: Landis en Gyr | E24: SQL33/SQK33
A25: 2 | B25: afzuigventilator | D25: S&P | E25: TD-160-100NT
A26: 5 | B26: afzuigventilator | C26: toilet | D26: Itho
A27: 2 | B27: Afzuigventilator | C27: dak | D27: Itho | E27: CVD-473-WS
A28: 3 | B28: afzuigventilator | C28: Aula | D28: Comair | E28: DRDO/1400
A29: 1 | B29: split-airco | C29: Directie | D29: Daikin
B30: Wettelijke keuringen en inspecties betreffende locatie per jaar.
A31: Gymzaal Jeanne d'Arc
B32: Warmteopwekking
A33: 1 | B33: Verwarmingsketel | C33: TR Gymzaal | D33: Remeha | E33: Quinta PRO 115 | F33: 107 kW | G33: 2011
B34: Toebehoren
A35: 1 | B35: Expansievat | C35: TR Gymzaal | D35: Flamco | E35: Flexon | F35: 50/0,5
A36: 1 | B36: Circulatiepomp 1 | C36: TR Gymzaal | D36: Grundfos | E36: UPS 25-40 180 220V 0,12-0,2A 25-45W | F36: 230 Volt | G36: 2011
A37: 1 | B37: Circulatiepomp 2 | C37: TR Gymzaal | D37: Grundfos | E37: UPS 25-40 180 220V 0,12-0,2A 25-45W | F37: 230 Volt | G37: 2011
A38: 1 | B38: Tapwaterpomp | C38: TR Gymzaal | D38: Grundfos | E38: UP15-14 | F38: 230 Volt | G38: 2011
B39: Mechanische Ventilatie
A40: 1 | B40: Luchtbehandelingskast | C40: Lbk-ruimte | D40: Wolf Klimatechnik | E40: KG 100 / 9455 Opdrachtnr. 565256/01.
...

Sheet P2 W KDV
A1: Aantal | B1: Omschrijving component | C1: Lokatie component | D1: Fabricaat/Merk | E1: Type | F1: Capaciteit | G1: Bouwjaar | H1: Opmerkingen | I1: All-in prijs onderhoud en storingen behoud gevraagd conditieniveau
A2: KC Aan de Waterkant Betuwestraat 1, 5018AJ Tilburg
A3: 1 | B3: cv-installatie | C3: Technische ruimte kelder | D3: Remeha | E3: Quinta Ace 90 | F3: 87.1 | G3: 2019
A4: 1 | B4: cv-installatie | C4: Technische ruimte kelder | D4: Remeha | E4: Quinta Ace 65 | F4: 61 | G4: 2019
A5: 1 | B5: voorraadboiler | C5: BEG Grond | D5: Daalderop | E5: Close UP 15 | G5: 2019
A6: 1 | B6: convector radiatoren | D6: Onbekend
A7: 24 | B7: radiatoren | C7: Diverse | D7: Onbekend | E7: Met thermostaatknop
A8: 1 | B8: drukexpansievat | C8: Technische ruimte kelder | D8: Flamco | E8: Flexcon 140/1 | G8: 2016
A9: 1 | B9: Ketelpomp 1 | C9: Technische ruimte kelder | D9: Grundfos | E9: UPM2 25-70 | G9: 2019
A10: 1 | B10: Ketelpomp 2 | C10: Technische ruimte kelder | D10: Grundfos | E10: UPM2 25-70 | G10: 2019
A11: 1 | B11: Circulatiepomp1 | C11: Technische ruimte kelder | D11: Grundfos | E11: Magna1 40-40F220 | G11: 2019
A12: 1 | B12: Condenswaterpomp | C12: Technische ruimte kelder | D12: Litle Giant | E12: VCMA-20S | G12: 2019
A13: 1 | B13: luchtverhitter | C13: entree | D13: Nivolair
A14: 4 | B14: mechanische ventilatiebox | C14: Gaffel/Loef/Rak/zolder | D14: Orcon | E14: Mvs-15rh | G14: 2018
A15: 6 | B15: luchtornamenten | C15: Diverse | D15: Onbekend | E15: Afzuigrooster
A16: 6 | B16: luchtornamenten | C16: Toiletten/Wasruimte | D16: Onbekend | E16: Luchtventiel
A17: 1 | B17: Cascade regelaar | C17: Technische ruimte | D17: Remeha | E17: Celcia MC4 | G17: 2019
A18: 1 | B18: ruimtethermostaat | D18: Remeha | E18: I-Sense | G18: 2019
A19: 3 | B19: CO2 en poederblusser | C19: Diverse | D19: Ecofex | E19: Schuimblusser S6-EF | F19: 6 liter | G19: 2012/2020
A20: 3 | B20: brandslanghaspel | C20: T.h.v. ingang | D20: Ansul | E20: Wormald | F20: 30 meter
A21: 11 | B21: Keerkleppen
A22: 1 | B22: Scios Scope 1 | G22: 2020 | H22: cv ketels en opstellingsruimte 1xp/4jr
A23: 1 | B23: Scios Scope 7A | G23: 2020 | H23: aardgasleiding 1x p/4jr
A24: 1 | B24: Split unit | C24: Bootshuis/achter gebouw | D24: Haier | E24: AS35S2SF2FA-3 | F24: 3,5KW | H24: R32 0,94Kg
A25: 1 | B25: Split unit | C25: Gaffel/gevel | D25: Haier | E25: AS25STADHRA-CL | F25: 2,5KW | H25: R32 0,5kg
A26: 1 | B26: Split unit | C26: Loef/gevel | D26: Panasonic | E26: CS-FZ25WKE | F26: 2,5KW | G26: 2022 | H26: R32 0,54kg
A27: 1 | B27: Split unit | C27: Rak/gevel | D27: Haier | E27: AS25STADHRA-CL | F27: 2,5KW | H27: R32 0,5kg
B28: Wettelijke keuringen en inspecties betreffende locatie per jaar.
A30: PO De Vijf Hoeven Hendrik van Tulderstraat 7, 5046NC Tilburg
A31: 1 | B31: Split airco 1 | C31: Slaapkamer kdv 1/ruimte zandbak | D31: Daikin | E31: RXM35R5V1B | F31: 3,5KW | G31: 2020 | H31: R32 0,76kg
A32: 1 | B32: Split airco2 | C32: Slaapkamer kdv 2/Dak | D32: Daikin | E32: RXM35R5V1B | F32: 3,5KW | G32: 2020 | H32: R32 0,76kg
A33: 1 | B33: Split airco 3 | C33: kantoor/ruimte zandbak | D33: Daikin | E33: RXM42R5V1B | F33: 4,2KW | G33: 2020 | H33: R32 1,1kg
A34: 2 | B34: Split airco 4 | C34: in LBK dak | D34: Mitsubishi | E34: PUZ-ZM50VKA | F34: 5 | G34: 2020 | H34: R32 4kg
A35: 1 | B35: LBK1 | C35: Binnenplaats | D35: Nedair | G35: 2020 | H35: 1000m3/h
A36: 1 | B36: LBK2 | C36: Dak | D36: Nedair | G36: 2020 | H36: 1000m3/h
A37: 1 | B37: roosters/ventielen
A38: 3 | B38: Airsocks | G38: 2020
A39: 6 | B39: keerkleppen
A40: 6 | B40: luchtornamenten | C40: Diverse | D40: Onbekend | E40: Afzuigrooster | G40: 2005
A41: 6 | B41: luchtornamenten | C41: Toiletten/Wasruimte | D41: Onbekend | E41: Luchtventiel | G41: 2005
...

Sheet BMI en inbraak afprijzen
I2: Prijs per stuk | J2: Weging
A3: • Brandmeld- en ontruimingsinstallatie type B, inclusief:
A4: - aanleggen bekabeling en installeren van de benodigde componenten;
A5: - inregelen en inbedrijfstellen van de installatie;
A6: - aansluiten van de centrale apparatuur;
A7: - Opstellen / wijzigen van een PvE;
A8: - eenmalige instructie aan de opdrachtgever;
A9: - eenmalig in enkelvoud verstrekken van het logboek voor de installatie.
A11: Materiaalspecificatie:
A12: - 1 stuks Brandmeldcentrale Hertek Penta 6175, 1-lus met ontruimingspaneel | J12: 1 | K12: =I12*J12 -> 0
A13: - 17 stuks Optische rookmelder inclusief sokkel zuiver wit | J13: 17 | K13: =I13*J13 -> 0
A14: - 15 stuks Optische rookmelder inclusief sokkelslowwhoop zuiver wit | J14: 15 | K14: =I14*J14 -> 0
A15: - 1 stuks Discovery Multi sensor inclusief sokkel zuiver wit | J15: 1 | K15: =I15*J15 -> 0
A16: - 9 stuks Handbrandmelder Discovery,inclusief behuizing | J16: 9 | K16: =I16*J16 -> 0
A17: - 24 stuks Nevenindicator Hertek inclusief opbouwrand | J17: 24 | K17: =I17*J17 -> 0
A18: - 5 stuks Slowwhoop signaalgever, wit, in sokkeluitvoering | J18: 5 | K18: =I18*J18 -> 0
A19: - 1 stuks Enkelvoudige in/output module | J19: 1 | K19: =I19*J19 -> 0
A20: - 1 stuks Doormeldeenheid | J20: 1 | K20: =I20*J20 -> 0
B21: Totaal BMI | K21: =SUM(K11:K20) -> 0
A23: • Inbraakbeveiligingsinstallatie, conform risicoklasse 2, inclusief:
A24: - aanleggen bekabeling en installeren van de benodigde componenten;
A25: - inregelen en inbedrijfstellen van de installatie;
A26: - aansluiten van de centrale apparatuur;
A27: - eenmalige instructie aan de opdrachtgever; (volgens ontwerptekening in de bijlage)
A29: Materiaalspecificatie inbraakbeveiligingsinstallatie (volgens ontwerptekening in de bijlage)
A30: - 1 stuks Integra centrale 8 tot 32 zones | J30: 1 | K30: =I30*J30 -> 0
A31: - 1 stuks Integra bedienpaneel | J31: 1 | K31: =I31*J31 -> 0
A32: - 2 stuks Integra 8 zone uitbreiding, zonder behuizing | J32: 2 | K32: =I32*J32 -> 0
A33: - 1 stuks Integra 8 zone uitbreiding, kast met voeding | J33: 1 | K33: =I33*J33 -> 0
A34: - 2 stuks Accu 7Ah | J34: 2 | K34: =I34*J34 -> 0
A35: - 1 stuks Integra Ethernet Module Plus INT GSM | J35: 1 | K35: =I35*J35 -> 0
A36: - 1 stuks Buiten flitslicht | J36: 1 | K36: =I36*J36 -> 0
A37: - 1 stuks Binnen sirene | J37: 1 | K37: =I37*J37 -> 0
A38: - 13 stuks Detectors, 15 meter Anti-mask | J38: 13 | K38: =I38*J38 -> 0
A39: - 11 stuks Reedcontact | J39: 11 | K39: =I39*J39 -> 0
A40: - 1 stuks onderhoudsdocument / service- logboek | J40: 1 | K40: =I40*J40 -> 0
B42: Totaal inbraakinstallatie | K42: =SUM(K30:K40) -> 0
