Workbook

Sheet Inschrijfprijs
A1: Xpect 013
A2: Installatieonderhoud E&W
A3: Prijzenblad nav NvI 1
A4: 45950
A6: Inschrijver vult alle gekleurde cellen in. Gevraagde tarieven zijn inclusief btw en gelden als maximale tarieven.
A7: In het prijzenblad vult men in wat de kosten zijn om een installatie op conditie 2 te houden. Het is niet mogelijk andere kosten te factureren dan de hier opgenomen kosten.
A9: Perceel 1: E-installaties
A10: Vergelijkingsprijs scholen: | B10: ='P1 E Scholen'!V786 -> 0
A11: Vergelijkingsprijs KDV: | B11: ='P1 E KDV'!Z486 -> 0
A12: Totaalprijs vergelijking E-installaties | B12: =B10+B11 -> 0
A14: Perceel 2: W-installaties
A15: Vergelijkingsprijs scholen: | B15: ='P2 W scholen'!J912 -> 0
A16: Vergelijkingsprijs KDV: | B16: ='P2 W KDV'!I660 -> 0
A17: Totaalprijs vergelijking W-installaties | B17: =B15+B16 -> 0

Sheet P1 E Scholen
A1: Codering | B1: Verdieping | C1: Volgnummer | D1: Ruimte | E1: Fabrikant | F1: Armatuurtype | G1: Bouwjaar | H1: Lichtbron | I1: Bouwjaar | J1: Starter | K1: Tekstplaat voorzijde | L1: Tekstplaat achterzijde | M1: Batterij type | N1: ..V ..Ah | O1: Bouwjaar | P1: Uitvoering | Q1: Armatuur Systeem | R1: Montage Materieel | S1: Groepsnummer | T1: Montage wijze | U1: Bevestiging | V1: All-in prijs onderhoud en storingen behoud gevraagd conditieniveau
A2: Inventarisatie overzicht van: Basisschool Armhoefse Akkers
A3: Inbraak-installatie | B3: Type centrale: ATS3500A , bouwjaar:2021, 2 Bediendelen, 11 Magneetcontacten, 28 Detectoren, 2 Besturingskasten, 4 Sirenes, 2 Flitslicht
A4: Brandmeld-installatie | B4: Type centrale: Penta 6000, bouwjaar:2021, Groepenkaart tbv analoge melders;Componenten zijn vanaf 2004, 50 optische melders; 2 thermische melders; 8 handmelders; 26 nevenindicatoren; 27 slow whoops; 1 flitslicht; 1 GTV; 6 kleefmagneten.
A6: Noodverlichting
A7: Basisschool Armhoefse Akkers
A8: Spoordijk 68
A9: 5018GH Tilburg
A11: Armaturen
A12: Codering | B12: Verdieping | C12: Volgnummer | D12: Ruimte | E12: Fabrikant | F12: Armatuurtype | G12: Bouwjaar | H12: Lichtbron | I12: Bouwjaar | J12: Starter | K12: Tekstplaat voorzijde | L12: Tekstplaat achterzijde | M12: Batterij type | N12: ..V ..Ah | O12: Bouwjaar | P12: Uitvoering | Q12: Armatuur Systeem | R12: Montage Materieel | S12: Groepsnummer | T12: Montage wijze | U12: Bevestiging | V12: All-in prijs onderhoud en storingen behoud conditieniveau 2
A13: B01 | B13: 0 | C13: 1 | D13: Hoofdentree | E13: Famostar | F13: Pro WPA-1 C | G13: 2023 | H13: Vast LED | I13: 2023 | J13: nee | K13: A1EN | M13: 3STVHTCs | N13: 3,6V 2Ah | O13: 2023 | P13: P | Q13: D | T13: Opbouw | U13: Wand
A14: B02 | B14: 0 | C14: 2 | D14: Hoofdentree | E14: Famostar | F14: Go! PPA-1 C | G14: 2023 | H14: 1W LED 303 | I14: 2023 | J14: nee | K14: A3EN | L14: A2EN | M14: 3STVHTAA | N14: 3,6V 1,2Ah | O14: 2023 | P14: P | Q14: D | T14: Opbouw | U14: Plafond
A15: B03 | B15: 0 | C15: 3 | D15: Gang | E15: Famostar | F15: Pro PPA-1 | G15: 2023 | H15: 1W LED 303 | I15: 2023 | J15: nee | K15: A1EN | L15: Z | M15: 3STVHTAA LowTemp | N15: 3,6V 1,2Ah | O15: 2023 | P15: P | Q15: D | T15: Opbouw | U15: Plafond
A16: B04 | B16: 0 | C16: 4 | D16: Gang BG | E16: Famostar | F16: Pro VPA-1 | G16: 2023 | H16: 1W LED 303 | I16: 2023 | J16: nee | M16: 3STVHTCs | N16: 3,6V 2Ah | O16: 2023 | P16: NP | Q16: D | T16: Opbouw | U16: Plafond
A17: B05 | B17: 0 | C17: 5 | D17: Gang deur naar traphal | E17: Famostar | F17: Pro WPA-1 | G17: 2023 | H17: 1W LED 303 | I17: 2023 | J17: nee | K17: A1EN | M17: 3STVHTAA LowTemp | N17: 3,6V 1,2Ah | O17: 2023 | P17: P | Q17: D | T17: Opbouw | U17: Wand
A18: B06 | B18: 0 | C18: 6 | D18: Traphal | E18: Famostar | F18: Pro VPA-1 | G18: 2023 | H18: 1W LED 303 | I18: 2023 | J18: nee | M18: 3STVHTCs | N18: 3,6V 2Ah | O18: 2023 | P18: NP | Q18: D | T18: Opbouw | U18: Plafond
A19: B07 | B19: 0 | C19: 7 | D19: Traphal vluchtdeur | E19: Famostar | F19: Pro PPA-1 | G19: 2023 | H19: 1W LED 303 | I19: 2023 | J19: nee | K19: A1EN | L19: Z | M19: 3STVHTAA LowTemp | N19: 3,6V 1,2Ah | O19: 2023 | P19: P | Q19: D | T19: Opbouw | U19: Plafond
A20: B08 | B20: 0 | C20: 8 | D20: Gang | E20: Famostar | F20: Pro VPA-1 | G20: 2023 | H20: 1W LED 303 | I20: 2023 | J20: nee | M20: 3STVHTCs | N20: 3,6V 2Ah | O20: 2023 | P20: NP | Q20: D | T20: Opbouw | U20: Plafond
A21: B09 | B21: 0 | C21: 9 | D21: Gemeenschapsruimte | E21: Famostar | F21: CELO CI VA-1 C | G21: 2023 | H21: 1W LED 303 | I21: 2023 | J21: nee | M21: 3SBSVHTAA | N21: 3,6V 1,2Ah | O21: 2023 | P21: NP | Q21: D | T21: Inbouw | U21: Plafond
A22: B10 | B22: 0 | C22: 10 | D22: Gang | E22: Famostar | F22: CELO CI VA-1 C | G22: 2023 | H22: 1W LED 303 | I22: 2023 | J22: nee | M22: 3SBSVHTAA | N22: 3,6V 1,2Ah | O22: 2023 | P22: NP | Q22: D | T22: Inbouw | U22: Plafond
A23: B11 | B23: 0 | C23: 11 | D23: Gang | E23: Famostar | F23: Go! IPPA-1 | G23: 2023 | H23: Vast LED | I23: 2023 | J23: nee | K23: A1EN | L23: Z | M23: 3SBSVHTAAA | N23: 3,6V 600mAh | O23: 2023 | P23: P | Q23: D | T23: Inbouw | U23: Plafond
A24: B12 | B24: 0 | C24: 12 | D24: Speellokaal | E24: Famostar | F24: Go! WPA-1 | G24: 2023 | H24: 1W LED 303 | I24: 2023 | J24: nee | K24: A1EN | M24: 3STVHTAAA | N24: 3,6V 600mAh | O24: 2023 | P24: P | Q24: D | T24: Opbouw | U24: Wand
A25: B13 | B25: 0 | C25: 13 | D25: Speellokaal | E25: Famostar | F25: CELO CI VA-1 C | G25: 2023 | H25: 1W LED 303 | I25: 2023 | J25: nee | M25: 3SBSVHTAA | N25: 3,6V 1,2Ah | O25: 2023 | P25: NP | Q25: D | T25: Inbouw | U25: Plafond
A26: B14 | B26: 0 | C26: 14 | D26: Gang traphal | E26: Famostar | F26: CELO CS VA-1 C | G26: 2021 | H26: Vast LED | I26: 2021 | J26: nee | M26: 3SBSVHTAA | N26: 3,6V 1,2Ah | O26: 2021 | P26: NP | Q26: D | T26: Opbouw | U26: Plafond
A27: B15 | B27: 0 | C27: 15 | D27: Gang traphal | E27: Famostar | F27: Go! IPPA-1 | G27: 2023 | H27: Vast LED | I27: 2023 | J27: nee | K27: A1EN | L27: Z | M27: 3SBSVHTAAA | N27: 3,6V 600mAh | O27: 2023 | P27: P | Q27: D | T27: Inbouw | U27: Plafond
A28: B16 | B28: 0 | C28: 16 | D28: Gymzaal | E28: Famostar | F28: Go! WPA-1 | G28: 2021 | H28: 1W LED 303 | I28: 2021 | J28: nee | K28: A1 | L28: Z | M28: 3STVHTAAA | N28: 3,6V 600mAh | O28: 2021 | P28: P | Q28: D | T28: Opbouw | U28: Plafond
A29: B17 | B29: 0 | C29: 17 | D29: Gymzaal | E29: Famostar | F29: Pro Plus VPA-1 | G29: 2023 | H29: 1W LED 303 | I29: 2023 | J29: nee | M29: 3STVHT7/5Cs | N29: 3,6V 4Ah | O29: 2023 | P29: NP | Q29: D | R29: Beschermkorf | T29: Opbouw | U29: Plafond
A30: B18 | B30: 0 | C30: 18 | D30: Gymzaal | E30: Famostar | F30: Pro Plus VPA-1 | G30: 2023 | H30: 1W LED 303 | I30: 2023 | J30: nee | M30: 3STVHT7/5Cs | N30: 3,6V 4Ah | O30: 2023 | P30: NP | Q30: D | R30: Steiger + beschermkorf | T30: Opbouw | U30: Plafond
A31: B19 | B31: 0 | C31: 19 | D31: HVK | E31: Lumission | F31: Upload 250 LITE + NV | G31: 2018 | H31: Vast LED | I31: 2018 | J31: ja | M31: 2x3STVTC | N31: 7,2V 2,5Ah | O31: 2023 | P31: S | Q31: D | T31: Opbouw | U31: Plafond
A32: B20 | B32: 0 | C32: 20 | D32: Buiten hoofdentree | E32: Norton | F32: NORT POLARIS IV WVSN WSE GR | G32: 2023 | H32: Vast LED | I32: 2023 | J32: nee | M32: 3STVTCs | N32: 3,6V 1,5Ah | O32: 2023 | P32: S | Q32: D | T32: Opbouw | U32: Plafond
A33: B21 | B33: 0 | C33: 21 | D33: Gang | E33: Famostar | F33: Pro PPA-1 | G33: 2023 | H33: 1W LED 303 | I33: 2023 | J33: nee | K33: A1EN | L33: Z | M33: 3STVHTAA LowTemp | N33: 3,6V 1,2Ah | O33: 2023 | P33: P | Q33: D | T33: Opbouw | U33: Plafond
A34: B22 | B34: 0 | C34: 22 | D34: Gemeenschapsruimte vluchtdeur | E34: Famostar | F34: Pro PPA-1 | G34: 2021 | H34: 1W LED 303 | I34: 2021 | J34: nee | K34: A1EN | L34: Z | M34: 3STVHTAA LowTemp | N34: 3,6V 1,2Ah | O34: 2021 | P34: P | Q34: D | T34: Opbouw | U34: Plafond
A35: B23 | B35: 0 | C35: 23 | D35: Buitengevel deur speelplaats | E35: Famostar | F35: Pro VPA-1 | G35: 2022 | H35: 1W LED 303 | I35: 2022 | J35: nee | M35: 3STVHTCs | N35: 3,6V 2Ah | O35: 2022 | P35: NP | Q35: D | T35: Opbouw | U35: Plafond
A36: B24 | B36: 0 | C36: 24 | D36: Portaal gymzaal | E36: Famostar | F36: D-Sign SPA-1 | G36: 2022 | H36: 1W LED 303 | I36: 2022 | J36: nee | K36: A1EN | L36: Z | M36: 3STVHTAA | N36: 3,6V 1,2Ah | O36: 2022 | P36: P | Q36: D | T36: Opbouw | U36: Plafond
A37: B25 | B37: 0 | C37: 25 | D37: Portaal gymzaal | E37: Famostar | F37: CELO CS VA-1 C | G37: 2023 | H37: Vast LED | I37: 2023 | J37: nee | M37: 3SBSVHTAA | N37: 3,6V 1,2Ah | O37: 2023 | P37: NP | Q37: D | T37: Opbouw | U37: Plafond
A38: B26 | B38: 0 | C38: 26 | D38: Kleedruimte | E38: Famostar | F38: Go! WPA-1 | G38: 2023 | H38: 1W LED 303 | I38: 2023 | J38: nee | K38: A1EN | M38: 3STVHTAAA | N38: 3,6V 600mAh | O38: 2023 | P38: P | Q38: D | T38: Opbouw | U38: Plafond
A39: B27 | B39: 0 | C39: 27 | D39: Kleedruimte | E39: Famostar | F39: Pro VPA-1 | G39: 2022 | H39: 1W LED 303 | I39: 2022 | J39: nee | M39: 3STVHTCs | N39: 3,6V 2Ah | O39: 2022 | P39: NP | Q39: D | T39: Opbouw | U39: Plafond
A40: B28 | B40: 0 | C40: 28 | D40: Gymzaal | E40: Famostar | F40: Go! WPA-1 | G40: 2021 | H40: 1W LED 303 | I40: 2021 | J40: nee | K40: A1EN | L40: Z | M40: 3STVHTAAA | N40: 3,6V 600mAh | O40: 2021 | P40: P | Q40: D | R40: +Korf | T40: Opbouw | U40: Plafond
A41: B29 | B41: 0 | C41: 29 | D41: Gymzaal | E41: Famostar | F41: Go! WPA-1 | G41: 2021 | H41: 1W LED 303 | I41: 2021 | J41: nee | K41: A1EN | L41: Z | M41: 3STVHTAAA | N41: 3,6V 600mAh | O41: 2021 | P41: P | Q41: D | R41: +Korf | T41: Opbouw | U41: Wand
A42: B30 | B42: 0 | C42: 30 | D42: Kleedruimte | E42: Famostar | F42: Pro VPA-1 | G42: 2023 | H42: 1W LED 303 | I42: 2023 | J42: nee | M42: 3STVHTCs | N42: 3,6V 2Ah | O42: 2023 | P42: NP | Q42: D | T42: Opbouw | U42: Plafond
A43: B31 | B43: 0 | C43: 31 | D43: Kleedruimte | E43: Famostar | F43: Go! WPA-1 | G43: 2023 | H43: 1W LED 303 | I43: 2023 | J43: nee | K43: A1EN | M43: 3STVHTAAA | N43: 3,6V 600mAh | O43: 2023 | P43: P | Q43: D | T43: Opbouw | U43: Wand
A44: B32 | B44: 0 | C44: 32 | D44: Zij-portaal | E44: Famostar | F44: CELO CS VA-1 C | G44: 2023 | H44: Vast LED | I44: 2023 | J44: nee | M44: 3SBSVHTAA | N44: 3,6V 1,2Ah | O44: 2023 | P44: NP | Q44: D | T44: Opbouw | U44: Plafond
A45: B33 | B45: 0 | C45: 33 | D45: Zij-portaal | E45: Famostar | F45: Go! WPA-1 | G45: 2023 | H45: 1W LED 303 | I45: 2023 | J45: nee | K45: A1EN | M45: 3STVHTAAA | N45: 3,6V 600mAh | O45: 2023 | P45: P | Q45: D | T45: Opbouw | U45: Wand
A46: B34 | B46: 0 | C46: 34 | D46: MIVA toilet | E46: Famostar | F46: CELO CS VA-1 C | G46: 2023 | H46: Vast LED | I46: 2023 | J46: nee | M46: 3SBSVHTAA | N46: 3,6V 1,2Ah | O46: 2023 | P46: NP | Q46: D | T46: Opbouw | U46: Plafond
A47: 1V01 | B47: 1 | C47: 35 | D47: Traphal 1e verdieping | E47: Famostar | F47: Pro VPA-1 | G47: 2023 | H47: 1W LED 303 | I47: 2023 | J47: nee | M47: 3STVHTCs | N47: 3,6V 2Ah | O47: 2023 | P47: NP | Q47: D | T47: Opbouw | U47: Plafond
A48: 1V02 | B48: 1 | C48: 36 | D48: Traphal 1e verdieping | E48: Famostar | F48: D-Sign SPA-1 | G48: 2022 | H48: 1W LED 303 | I48: 2022 | J48: nee | K48: A2EN | L48: Z | M48: 3STVHTAA | N48: 3,6V 1,2Ah | O48: 2022 | P48: P | Q48: D | T48: Opbouw | U48: Wand
A49: 1V03 | B49: 1 | C49: 37 | D49: Traphal 1e verdieping | E49: Famostar | F49: Go! WPA-1 | G49: 2023 | H49: 1W LED 303 | I49: 2023 | J49: nee | K49: A1 | M49: 3STVHTAAA | N49: 3,6V 600mAh | O49: 2023 | P49: P | Q49: D | T49: Opbouw | U49: Wand
A50: 1V04 | B50: 1 | C50: 38 | D50: Gang 1e verdieping | E50: Famostar | F50: Pro VPA-1 | G50: 2023 | H50: 1W LED 303 | I50: 2023 | J50: nee | M50: 3STVHTCs | N50: 3,6V 2Ah | O50: 2023 | P50: NP | Q50: D | T50: Opbouw | U50: Plafond
A51: 1V05 | B51: 1 | C51: 39 | D51: Gang 1e verdieping | E51: Famostar | F51: Pro VPA-1 | G51: 2021 | H51: 1W LED 303 | I51: 2021 | J51: nee | M51: 3STVHTCs | N51: 3,6V 2Ah | O51: 2021 | P51: NP | Q51: D | T51: Opbouw | U51: Plafond
A52: 1V06 | B52: 1 | C52: 40 | D52: Gang 1e verdieping | E52: Famostar | F52: Pro PPA-1 | G52: 2021 | H52: 1W LED 303 | I52: 2021 | J52: nee | K52: A2EN | L52: A3EN | M52: 3STVHTAA LowTemp | N52: 3,6V 1,2Ah | O52: 2021 | P52: P | Q52: D | T52: Opbouw | U52: Plafond
A53: 1V07 | B53: 1 | C53: 41 | D53: Traphal verdieping | E53: Famostar | F53: Pro VPA-1 | G53: 2023 | H53: 1W LED 303 | I53: 2023 | J53: nee | M53: 3STVHTCs | N53: 3,6V 2Ah | O53: 2023 | P53: NP | Q53: D | T53: Opbouw | U53: Plafond
A54: 1V08 | B54: 1 | C54: 42 | D54: Gang verdieping bij teamkamer | E54: Famostar | F54: Go! IPPA-1 | G54: 2023 | H54: Vast LED | I54: 2023 | J54: nee | K54: A1EN | L54: Z | M54: 3SBSVHTAAA | N54: 3,6V 600mAh | O54: 2023 | P54: P | Q54: D | T54: Opbouw | U54: Plafond
A55: 1V09 | B55: 1 | C55: 43 | D55: Gang verdieping bij teamkamer | E55: Famostar | F55: CELO CI VA-1 C | G55: 2023 | H55: 1W LED 303 | I55: 2023 | J55: nee | M55: 3SBSVHTAA | N55: 3,6V 1,2Ah | O55: 2023 | P55: NP | Q55: D | T55: Opbouw | U55: Plafond
A56: 1V10 | B56: 1 | C56: 44 | D56: Gang verdieping | E56: Famostar | F56: CELO CI VA-1 C | G56: 2023 | H56: 1W LED 303 | I56: 2023 | J56: nee | M56: 3SBSVHTAA | N56: 3,6V 1,2Ah | O56: 2023 | P56: NP | Q56: D | T56: Inbouw | U56: Plafond
A57: 1V11 | B57: 1 | C57: 45 | D57: Gang verdieping | E57: Famostar | F57: Go! IPPA-1 | G57: 2021 | H57: Vast LED | I57: 2021 | J57: nee | K57: A1EN | L57: Z | M57: 3SBSVHTAAA | N57: 3,6V 600mAh | O57: 2021 | P57: P | Q57: D | T57: Opbouw | U57: Wand
A58: 1V12 | B58: 1 | C58: 46 | D58: Traphal 1e verdieping bij lift | E58: Famostar | F58: CELO CS VA-1 C | G58: 2021 | H58: Vast LED | I58: 2021 | J58: nee | M58: 3SBSVHTAA | N58: 3,6V 1,2Ah | O58: 2021 | P58: NP | Q58: D | T58: Opbouw | U58: Plafond
A59: 1V13 | B59: 1 | C59: 47 | D59: Traphal 1e verdieping bij lift | E59: Famostar | F59: Go! WPA-1 | G59: 2021 | H59: 1W LED 303 | I59: 2021 | J59: nee | K59: A3EN | L59: Z | M59: 3STVHTAAA | N59: 3,6V 600mAh | O59: 2021 | P59: P | Q59: D | T59: Opbouw | U59: Wand
A60: 1V14 | B60: 1 | C60: 48 | D60: Gang 1e verdieping | E60: Famostar | F60: Pro VPA-1 | G60: 2023 | H60: 1W LED 303 | I60: 2023 | J60: nee | M60: 3STVHTCs | N60: 3,6V 2Ah | O60: 2023 | P60: NP | Q60: D | T60: Opbouw | U60: Plafond
A61: 1V15 | B61: 1 | C61: 49 | D61: Traphal 1e verd. bij lift | E61: Famostar | F61: CELO CS VA-1 C | G61: 2021 | H61: Vast LED | I61: 2021 | J61: nee | M61: 3SBSVHTAA | N61: 3,6V 1,2Ah | O61: 2021 | P61: NP | Q61: D | R61: Hoge trap 5m | T61: Opbouw | U61: Plafond
A62: 1V16 | B62: 1 | C62: 50 | D62: OVK-1 Pantry | E62: Famostar | F62: CELO CI VA-1 C | G62: 2021 | H62: 1W LED 303 | I62: 2021 | J62: nee | M62: 3SBSVHTAA | N62: 3,6V 1,2Ah | O62: 2021 | P62: NP | Q62: D | T62: Opbouw | U62: Plafond
A63: 2V01 | B63: 2 | C63: 51 | D63: Traphal 2e verdieping | E63: Famostar | F63: Pro VPA-1 | G63: 2023 | H63: 1W LED 303 | I63: 2023 | J63: nee | M63: 3STVHTCs | N63: 3,6V 2Ah | O63: 2023 | P63: NP | Q63: D | T63: Opbouw | U63: Plafond
A64: 2V02 | B64: 2 | C64: 52 | D64: Traphal 2e verdieping | E64: Famostar | F64: Go! WPA-1 | G64: 2021 | H64: 1W LED 303 | I64: 2021 | J64: nee | K64: A2EN | L64: Z | M64: 3STVHTAAA | N64: 3,6V 600mAh | O64: 2021 | P64: P | Q64: D | T64: Opbouw | U64: Wand
A65: 2V03 | B65: 2 | C65: 53 | D65: Traphal 2e verdieping | E65: Famostar | F65: Go! PPA-1 | G65: 2021 | H65: 1W LED 303 | I65: 2021 | J65: nee | K65: A1EN | L65: Z | M65: 3STVHTAAA | N65: 3,6V 600mAh | O65: 2021 | P65: P | Q65: D | T65: Opbouw | U65: Plafond
A66: 2V04 | B66: 2 | C66: 54 | D66: Gang 2e verdieping | E66: Famostar | F66: Pro VPA-1 | G66: 2023 | H66: 1W LED 303 | I66: 2023 | J66: nee | M66: 3STVHTCs | N66: 3,6V 2Ah | O66: 2023 | P66: NP | Q66: D | T66: Opbouw | U66: Plafond
A67: 2V05 | B67: 2 | C67: 55 | D67: Gang 2e verdieping | E67: Famostar | F67: Pro VPA-1 | G67: 2023 | H67: 1W LED 303 | I67: 2023 | J67: nee | M67: 3STVHTCs | N67: 3,6V 2Ah | O67: 2023 | P67: NP | Q67: D | T67: Opbouw | U67: Wand
A68: 2V06 | B68: 2 | C68: 56 | D68: Gang 2e verdieping | E68: Famostar | F68: Pro PPA-1 | G68: 2021 | H68: 1W LED 303 | I68: 2021 | J68: nee | K68: A2EN | L68: A3EN | M68: 3STVHTAA LowTemp | N68: 3,6V 1,2Ah | O68: 2021 | P68: P | Q68: D | T68: Opbouw | U68: Plafond
A69: 2V07 | B69: 2 | C69: 57 | D69: Traphal 2e verdieping | E69: Famostar | F69: Pro VPA-1 | G69: 2023 | H69: 1W LED 303 | I69: 2023 | J69: nee | M69: 3STVHTCs | N69: 3,6V 2Ah | O69: 2023 | P69: NP | Q69: D | T69: Opbouw | U69: Plafond
A70: V208 | B70: 2 | C70: 58 | D70: Gang 2e verdieping | E70: Famostar | F70: Pro VPA-1 | G70: 2021 | H70: 1W LED 303 | I70: 2021 | J70: nee | M70: 3STVHTCs | N70: 3,6V 2Ah | O70: 2021 | P70: NP | Q70: D | T70: Opbouw | U70: Plafond
A71: Wettelijke keuringen en inspecties betreffende locatie per jaar.
A72: Inventarisatie overzicht van: Basisschool Christoffel | V72: All-in prijs onderhoud en storingen behoud conditieniveau 2
A73: Inbraak-installatie | B73: Type centrale: Galaxy Dimension - 96, bouwjaar: 1999, 3 Bediendelen, 13 Magneetcontacten, 47 Detectoren, 11 Besturingskasten, 1 Sirenes, 1 Flitslicht.
A74: Brandmeld-installatie | B74: Type centrale: Hertek BKC416 BSX-160E, bouwjaar: voor 2020; 2x accu 12v/7Ah; 46 automatische brandmelders, 7 handbrandmelders, 28 slow whoop.
A76: Noodverlichting
A77: Basisschool Christoffel
A78: Schout Backstraat 41
A79: 5037 MJ TILBURG
A81: Armaturen
A82: Codering | B82: Verdieping | C82: Volgnummer | D82: Ruimte | E82: Fabrikant | F82: Armatuurtype | G82: Bouwjaar | H82: Lichtbron | I82: Bouwjaar | J82: Starter | K82: Tekstplaat voorzijde | L82: Tekstplaat achterzijde | M82: Batterij type | N82: ..V ..Ah | O82: Bouwjaar | P82: Uitvoering | Q82: Armatuur Systeem | R82: Montage Materieel | S82: Groepsnummer | T82: Montage wijze | U82: Bevestiging | V82: All-in prijs onderhoud en storingen behoud conditieniveau 2
A83: 1 | B83: 0 | C83: 1 | D83: Entreehal | E83: Famostar | F83: Go! WPA-1C | G83: 2024 | H83: 1W LED 303 | I83: 2024 | J83: nee | K83: A1EN | M83: 3STVHTAA | N83: 3,6V 1,2Ah | O83: 2024 | P83: P | Q83: D
A84: 2 | B84: 0 | C84: 2 | D84: Entreehal | E84: VanLien | F84: SER-DWO | G84: 2017 | H84: Vast LED | I84: 2017 | J84: nee | M84: 2STFAU | N84: 2,4V 4,2Ah | O84: 2023 | P84: NP | Q84: D
A85: 3 | B85: 0 | C85: 3 | D85: Gemeenschappelijk hal | E85: Famostar | F85: Go! WPA-1 | G85: 2019 | H85: 1W LED 303 | I85: 2019 | J85: nee | K85: A1EN | M85: 3STVHTAAA | N85: 3,6V 600mAh | O85: 2023 | P85: P | Q85: D
A86: 4 | B86: 0 | C86: 4 | D86: Gemeenschappelijk hal | E86: Famostar | F86: Go! WPA-1 | G86: 2024 | H86: 1W LED 303 | I86: 2024 | J86: nee | K86: A1EN | M86: 3STVHTAAA | N86: 3,6V 600mAh | O86: 2024 | P86: P | Q86: D
A87: 6 | B87: 0 | C87: 5 | D87: Leslokaal | E87: Famostar | F87: CELO CI VA-1 C | G87: 2020 | H87: 1W LED 303 | I87: 2020 | J87: nee | M87: 3SBSVHTAA | N87: 3,6V 1,2Ah | O87: 2020 | P87: NP | Q87: D
A88: 8 | B88: 0 | C88: 6 | D88: Leslokaal | E88: Famostar | F88: CELO CI VA-1 C | G88: 2020 | H88: 1W LED 303 | I88: 2020 | J88: nee | M88: 3SBSVHTAA | N88: 3,6V 1,2Ah | O88: 2020 | P88: NP | Q88: D
A89: 11 | B89: 0 | C89: 7 | D89: Gang | E89: Famostar | F89: CELO CI VA-1 C | G89: 2024 | H89: 1W LED 303 | I89: 2024 | J89: nee | M89: 3SBSVHTAA | N89: 3,6V 1,2Ah | O89: 2024 | P89: NP | Q89: D
A90: 12 | B90: 0 | C90: 8 | D90: Gang | E90: Famostar | F90: Go! IPPA-1 | G90: 2024 | H90: Vast LED | I90: 2024 | J90: nee | K90: A1EN | L90: Z | M90: 3SBSVHTAAA | N90: 3,6V 600mAh | O90: 2024 | P90: P | Q90: D
A91: 13 | B91: 0 | C91: 9 | D91: Gang | E91: Famostar | F91: Go! IPPA-1 | G91: 2024 | H91: Vast LED | I91: 2024 | J91: nee | K91: A1EN | L91: Z | M91: 3SBSVHTAAA | N91: 3,6V 600mAh | O91: 2024 | P91: P | Q91: D
A92: 14 | B92: 0 | C92: 10 | D92: Gang | E92: Famostar | F92: CELO CI VA-1 C | G92: 2024 | H92: 1W LED 303 | I92: 2024 | J92: nee | M92: 3SBSVHTAA | N92: 3,6V 1,2Ah | O92: 2024 | P92: NP | Q92: D
A93: 14M | B93: 0 | C93: 11 | D93: Miva toilet bij concierge | E93: Famostar | F93: CELO CI VA-1 C | G93: 2024 | H93: 1W LED 303 | I93: 2024 | J93: nee | M93: 3SBSVHTAA | N93: 3,6V 1,2Ah | O93: 2024 | P93: NP | Q93: D
A94: 25 | B94: 0 | C94: 12 | D94: Buiten hoofdingang | E94: Famostar | F94: Pro VPA-1 | G94: 2024 | H94: 1W LED 303 | I94: 2024 | J94: nee | M94: 3STVHTCs | N94: 3,6V 2Ah | O94: 2024 | P94: NP | Q94: D
A95: 27 | B95: 0 | C95: 13 | D95: Gemeenschappelijke hal | E95: Blessing (Eaton Cooper Safety) | F95: Vistraled-AT | G95: 2018 | H95: Vast LED | I95: 2018 | J95: nee | K95: A2EN | M95: 2x2STVHTAA Pack | N95: 4,8V 1,2Ah | O95: 2023 | P95: P | Q95: D
A96: 28 | B96: 0 | C96: 14 | D96: Hal rechts | E96: Famostar | F96: CELO CS VA-1 C | G96: 2020 | H96: Vast LED | I96: 2020 | J96: nee | M96: 3SBSVHTAA | N96: 3,6V 1,2Ah | O96: 2020 | P96: NP | Q96: D
A97: 29 | B97: 0 | C97: 15 | D97: Hal rechts | E97: Famostar | F97: Go! PPA-1 | G97: 2019 | H97: 1W LED 303 | I97: 2019 | J97: nee | K97: A1EN | M97: 3STVHTAAA | N97: 3,6V 600mAh | O97: 2023 | P97: P | Q97: D
A98: 30 | B98: 0 | C98: 16 | D98: Buiten | E98: Famostar | F98: Pro VPA-1 | G98: 2021 | H98: 1W LED 303 | I98: 2021 | J98: nee | M98: 3STVHTCs | N98: 3,6V 2Ah | O98: 2021 | P98: NP | Q98: D | R98: +ingebouwde ss
A99: 31 | B99: 0 | C99: 17 | D99: Gemeenschappelijke hal | E99: Famostar | F99: Go! WPA-1 | G99: 2019 | H99: 1W LED 303 | I99: 2019 | J99: nee | K99: A3EN | M99: 3STVHTAAA | N99: 3,6V 600mAh | O99: 2023 | P99: P | Q99: D
A100: 32 | B100: 0 | C100: 18 | D100: Hal links | E100: Famostar | F100: CELO CS VA-1 C | G100: 2020 | H100: Vast LED | I100: 2020 | J100: nee | M100: 3SBSVHTAA | N100: 3,6V 1,2Ah | O100: 2020 | P100: NP | Q100: D
A101: 33 | B101: 0 | C101: 19 | D101: Hal links | E101: Famostar | F101: Go! PPD-1 | G101: 2019 | H101: 1W LED 303 | I101: 2019 | J101: nee | K101: A1EN | M101: 3STVHTAAA | N101: 3,6V 600mAh | O101: 2023 | P101: P | Q101: D
A102: 34 | B102: 0 | C102: 20 | D102: Buiten | E102: Famostar | F102: Pro VPA-1 | G102: 2021 | H102: 1W LED 303 | I102: 2021 | J102: nee | M102: 3STVHTCs | N102: 3,6V 2Ah | O102: 2021 | P102: NP | Q102: D | R102: + ingebouwde schemerschakelaar
A103: 35 | B103: 0 | C103: 21 | D103: Kantoor bij HVK | E103: Famostar | F103: CELO CI VA-1 C | G103: 2020 | H103: 1W LED 303 | I103: 2020 | J103: nee | M103: 3SBSVHTAA | N103: 3,6V 1,2Ah | O103: 2020 | P103: NP | Q103: D
A104: 36 | B104: 0 | C104: 22 | D104: Gang 1e verdieping | E104: Blessing (Eaton Cooper Safety) | F104: BLK Skopos LED D-AT | G104: 2015 | H104: Vast LED | I104: 2015 | J104: nee | K104: A2 | L104: A3 | M104: 2+2SBSVHTCs | N104: 4,8V 2,2Ah | O104: 2023 | P104: P | Q104: D
...

Sheet P1 E KDV
A1: NL SfB code | B1: E / W / Sanitair | C1: Installatie | D1: Merk | E1: Type | F1: Ruimte | G1: Capaciteit | J1: Bouwjaar | K1: Bouwjaar accu | L1: Aantal | N1: Conditie volgens NEN 2767 | O1: 2013 | P1: 2014 | Q1: 2015 | R1: 2016 | S1: 2017 | T1: 2018 | U1: 2019 | V1: 2020 | W1: 2021 | X1: Type Lichtbron | Y1: Opmerkingen | Z1: All-in prijs onderhoud en storingen behoud gevraagd conditieniveau
C2: Armhoefse Akker | F2: Installatiecartotheek
C3: Adres: | D3: Van Heutzstraat 1a te Tilburg | F3: Gebouwfunctie: | G3: KDV / BSO / Lokalen vd1 | I3: Bouwjaar: | J3: 1951
C4: Inspectiedatum: | D4: 41109 | I4: Verbouwingsjaar: | J4: 2012
A6: NL SfB code | B6: E / W / Sanitair | C6: Installatie | D6: Merk | E6: Type | F6: Ruimte | G6: Capaciteit | J6: Bouwjaar | K6: Bouwjaar accu | L6: Aantal | N6: Conditie volgens NEN 2767 | O6: 2013 | P6: 2014 | Q6: 2015 | R6: 2016 | S6: 2017 | T6: 2018 | U6: 2019 | V6: 2020 | W6: 2021 | X6: Type Lichtbron | Y6: Opmerkingen
A7: 61 | B7: E | C7: verdeelinrichting | D7: Siemens | F7: 0.14 | G7: 11 groepen | H7: 3x 80A | J7: 2011 | L7: 1 | M7: stuks
A8: 61 | B8: E | C8: onderverdeelinrichting 1 | D8: Siemens | F8: 0.14 | G8: 36 groepen | J8: 2011 | L8: 1 | M8: stuks
A9: 61 | B9: E | C9: onderverdeelinrichting 2 | D9: Siemens | F9: kast verdieping | G9: 26 groepen | J9: 2011 | L9: 1 | M9: stuks
A10: 63 | B10: E | C10: noodverlichtingsarmatuur | D10: BLESSING, EATON | E10: SKOPOS LED R AT | F10: begane grond | J10: 2022 | K10: 2022 | L10: 6 | M10: stuks | X10: LED
A11: 63 | B11: E | C11: noodverlichtingsarmatuur | D11: BLESSING, EATON | E11: SKOPOS LED R AT | F11: Eerste verdieping | J11: 2022 | K11: 2022 | L11: 14 | M11: stuks | X11: LED
A12: 63 | B12: E | C12: noodverlichtingsarmatuur | D12: BLESSING, EATON | E12: SKOPOS LED R AT | F12: Tweede verdieping | J12: 2022 | K12: 2022 | L12: 2 | M12: stuks | X12: LED
A13: 63 | B13: E | C13: noodverlichtingsarmatuur | D13: BLESSING, EATON | E13: SKOPOS LED R AT | F13: Kelder | J13: 2022 | K13: 2022 | L13: 2 | M13: stuks | X13: LED
A14: 63 | B14: E | C14: noodverlichtingsarmatuur | D14: ALVIT | E14: R3634 (NOODKIT) | F14: begane grond | J14: 2010 | K14: 2022 | L14: 2 | M14: stuks | X14: PL-L/TL
A15: 63 | B15: E | C15: noodverlichtingsarmatuur | D15: LAMPEC | E15: EL UNIT 6-80 | F15: begane grond | J15: 2010 | K15: 2022 | L15: 3 | M15: stuks | X15: PL-L
A16: 63 | B16: E | C16: noodverlichtingsarmatuur | D16: LAMPEC | E16: EL UNIT 6-81 | F16: Eerste verdieping | J16: 2010 | K16: 2024 | L16: 3 | M16: stuks | X16: PL-L
A17: 63 | B17: E | C17: noodverlichtingsarmatuur | D17: LIGHTRONICS | E17: AH001C4105000 | F17: begane grond | J17: 2020 | K17: 2022 | L17: 4 | M17: stuks | X17: PL-L
A18: 63 | B18: E | C18: noodverlichtingsarmatuur | D18: LIGHTRONICS | E18: AH001C4105001 | F18: Eerste verdieping | J18: 2020 | K18: 2024 | L18: 1 | M18: stuks | X18: PL-L
A19: 63 | B19: E | C19: noodverlichtingsarmatuur | D19: LITEPLAN | E19: EM/3/13-32FB | F19: begane grond | J19: 2010 | K19: 2024 | L19: 1 | M19: stuks | X19: PL-L
A20: 63 | B20: E | C20: noodverlichtingsarmatuur | D20: VanLien, ABB | E20: EVA-R-DWI | F20: begane grond | J20: 2020 | K20: 2024 | L20: 1 | M20: stuks | X20: LED
A21: 63 | B21: E | C21: noodverlichtingsarmatuur | D21: VanLien, ABB | E21: EVA-R-DLI | F21: begane grond | J21: 2017/2020 | K21: 2022 | L21: 2 | M21: stuks | X21: PL-L/LED
B22: B | C22: Onderhoud Inbraaksignaleringssysteem | D22: Hertek 1 Lus | Z22: ='BMI en inbraak afprijzen'!K42 -> 0
C23: Wettelijke keuringen en inspecties betreffende locatie per jaar.
C24: Boemerang | F24: Installatiecartotheek
C25: Adres: | D25: Rijperkerstraat 4 te Tilburg | F25: Gebouwfunctie: | G25: KDV / PSZ | I25: Bouwjaar: | J25: 2005
C26: Inspectiedatum: | D26: 41143 | F26: Locatiedirecteur: | G26: Michelle van Tilburg | I26: Verbouwingsjaar: | J26: n.v.t.
A28: NL SfB code | B28: E / W / Sanitair | C28: Installatie | D28: Merk | E28: Type | F28: Ruimte | G28: Capaciteit | J28: Bouwjaar | K28: Bouwjaar accu | L28: Aantal | N28: Conditie volgens NEN 2767 | O28: 2013 | P28: 2014 | Q28: 2015 | R28: 2016 | S28: 2017 | T28: 2018 | U28: 2019 | V28: 2020 | W28: 2021 | X28: Type Lichtbron | Y28: Opmerkingen
A29: 61 | B29: E | C29: verdeelinrichting | D29: GE Odink & Koederink | G29: 3 groepen | J29: 2005 | L29: 1 | M29: stuks
A30: 61 | B30: E | C30: onderverdeelinrichting 1 | D30: LK0-3 | G30: 54 groepen | J30: ? | L30: 1 | M30: stuks
A31: 61 | B31: E | C31: onderverdeelinrichting 2 | D31: LK0-4 | G31: 27 groepen | J31: ? | L31: 1 | M31: stuks
A32: 63 | B32: E | C32: noodverlichtingsarmatuur | D32: VanLien, ABB | E32: IL-230 HF | F32: begane grond | J32: 2011 | K32: 2021 | L32: 6 | M32: stuks | X32: 1 LED/ 5 TL
A33: 63 | B33: E | C33: noodverlichtingsarmatuur | D33: VanLien, ABB | E33: IL-230 HF | F33: Eerste verdieping | J33: 2011 | K33: 2021 | L33: 7 | M33: stuks | X33: TL
A34: 63 | B34: E | C34: noodverlichtingsarmatuur | D34: VanLien, ABB | E34: IL-230HF/LED/DZ | F34: begane grond | J34: 2021 | K34: 2021 | L34: 2 | M34: stuks | X34: LED
A35: 63 | B35: E | C35: noodverlichtingsarmatuur | D35: VanLien, ABB | E35: IL-230HF/LED/DZ | F35: Eerste verdieping | J35: 2021 | K35: 2021 | L35: 2 | M35: stuks | X35: LED
A36: 63 | B36: E | C36: noodverlichtingsarmatuur | D36: VanLien, ABB | E36: OL-230HF | F36: begane grond | J36: 2004/2011 | K36: 2021 | L36: 7 | M36: stuks | X36: TL
A37: 63 | B37: E | C37: noodverlichtingsarmatuur | D37: VanLien, ABB | E37: OL-230HF/LED | F37: begane grond | J37: 2023 | K37: 2021 | L37: 3 | M37: stuks | X37: LED
B38: B | C38: Onderhoud Toegangscontrolesysteem
B39: B | C39: Onderhoud Brandmeld en ontruimingsinstallatie | D39: Hertek Diverse | Z39: ='BMI en inbraak afprijzen'!K21 -> 0
B40: B | C40: Onderhoud Inbraaksignaleringssysteem | D40: Aritech ATS 4500 Advanced | Z40: ='BMI en inbraak afprijzen'!K42 -> 0
C41: Wettelijke keuringen en inspecties betreffende locatie per jaar.
C42: Burgemeester | F42: Installatiecartotheek
C43: Adres: | D43: Burg. Rauppstraat 30 te Tilburg | F43: Gebouwfunctie: | G43: KDV | I43: Bouwjaar: | J43: 1959
C44: Inspectiedatum: | D44: 41093 | I44: Verbouwingsjaar: | J44: 2005
A46: NL SfB code | B46: E / W / Sanitair | C46: Installatie | D46: Merk | E46: Type | F46: Ruimte | G46: Capaciteit | J46: Bouwjaar | K46: Bouwjaar accu | L46: Aantal | N46: Conditie volgens NEN 2767 | O46: 2013 | P46: 2014 | Q46: 2015 | R46: 2016 | S46: 2017 | T46: 2018 | U46: 2019 | V46: 2020 | W46: 2021 | X46: Type Lichtbron | Y46: Opmerkingen
A47: 61 | B47: E | C47: verdeelinrichting | D47: Siemens | G47: 48 groepen | J47: 2011 | L47: 1 | M47: stuks
A48: 63 | B48: E | C48: noodverlichtingsarmatuur | D48: BLESSING, EATON | E48: EVOLED S-AT | F48: begane grond | J48: 2015 | K48: 2023 | L48: 1 | M48: stuks | X48: LED
A49: 63 | B49: E | C49: noodverlichtingsarmatuur | D49: BLESSING, EATON | E49: Skopos LED S-AT | F49: begane grond | J49: 2023 | K49: 2023 | L49: 1 | M49: stuks | X49: LED
A50: 63 | B50: E | C50: noodverlichtingsarmatuur | D50: BLESSING, EATON | E50: VISTRALED-AT | F50: begane grond | J50: 2008 | K50: 2023 | L50: 6 | M50: stuks | X50: LED
A51: 63 | B51: E | C51: noodverlichtingsarmatuur | D51: HERTEK | E51: Multihill-led-at.1 | F51: begane grond | J51: 2020 | K51: 2023 | L51: 6 | M51: stuks | X51: LED
A52: 63 | B52: E | C52: noodverlichtingsarmatuur | D52: IGUZZINI | E52: 5400 2x18W PL-C 4P [6V] | F52: begane grond | J52: 2008 | K52: 2022 | L52: 3 | M52: stuks | X52: PLC
A53: 63 | B53: E | C53: noodverlichtingsarmatuur | D53: LIGHTRONICS | E53: UH104AI105001 | F53: begane grond | J53: 2022 | K53: 2022 | L53: 2 | M53: stuks | X53: LED
A54: 63 | B54: E | C54: noodverlichtingsarmatuur | D54: LIGHTRONICS, HOGRO | E54: UH104AL105001 | F54: begane grond | J54: 2023 | K54: 2023 | L54: 3 | M54: stuks | X54: 1 4PL-S/2 LED
A55: 63 | B55: E | C55: noodverlichtingsarmatuur | D55: MACBRIGHT | E55: TEC LED N/N PT IP65 4W 4K | F55: begane grond | J55: 2020 | K55: 2023 | L55: 1 | M55: stuks | X55: LED
B56: B | C56: Deurbel-Intercom
B57: B | C57: Onderhoud Inbraaksignaleringssysteem | D57: Aritech ATS | Z57: ='BMI en inbraak afprijzen'!K42 -> 0
B58: B | C58: Onderhoud Brandmeld en ontruimingsinstallatie | D58: Aritech | Z58: ='BMI en inbraak afprijzen'!K21 -> 0
C59: Wettelijke keuringen en inspecties betreffende locatie per jaar.
C60: KC Montessori | F60: Installatiecartotheek
C61: Adres: | D61: Elzenstraat 6 te Tilburg | F61: Gebouwfunctie: | G61: BSO | I61: Bouwjaar:
C62: Inspectiedatum: | I62: Verbouwingsjaar:
A64: NL SfB code | B64: E / W / Sanitair | C64: Installatie | D64: Merk | E64: Type | F64: Ruimte | G64: Capaciteit | J64: Bouwjaar | K64: Bouwjaar accu | L64: Aantal | N64: Conditie volgens NEN 2767 | O64: 2013 | P64: 2014 | Q64: 2015 | R64: 2016 | S64: 2017 | T64: 2018 | U64: 2019 | V64: 2020 | W64: 2021 | X64: Type Lichtbron | Y64: Opmerkingen
A65: 61 | B65: E | C65: verdeelinrichting | G65: 17 groepen | L65: 1 | M65: stuks
A66: 63 | B66: E | C66: noodverlichtingsarmatuur | D66: FAMOSTAR | E66: CELO CS VA-1 C | F66: begane grond | J66: 2015 | K66: 2023 | L66: 3 | M66: stuks | X66: LED
A67: 63 | B67: E | C67: noodverlichtingsarmatuur | D67: FAMOSTAR | E67: Go! WPA-1 | F67: begane grond | J67: 2015 | K67: 2023 | L67: 3 | M67: stuks | X67: LED
C68: Wettelijke keuringen en inspecties betreffende locatie per jaar.
C69: Jip & Janneke | F69: Installatiecartotheek
C70: Adres: | D70: Ringbaan Zuid 255 te Tilburg | F70: Gebouwfunctie: | G70: KDV | I70: Bouwjaar: | J70: onbekend
C71: Inspectiedatum: | D71: 41093 | I71: Verbouwingsjaar: | J71: 2006
A73: NL SfB code | B73: E / W / Sanitair | C73: Installatie | D73: Merk | E73: Type | F73: Ruimte | G73: Capaciteit | J73: Bouwjaar | K73: Bouwjaar accu | L73: Aantal | N73: Conditie volgens NEN 2767 | O73: 2013 | P73: 2014 | Q73: 2015 | R73: 2016 | S73: 2017 | T73: 2018 | U73: 2019 | V73: 2020 | W73: 2021 | X73: Type Lichtbron | Y73: Opmerkingen
A74: 61 | B74: E | C74: verdeelinrichting | D74: HAF | G74: 12 groepen | L74: 1 | M74: stuks
A75: 63 | B75: E | C75: noodverlichtingsarmatuur | D75: BLESSING, EATON | E75: BLV3420-AT | F75: begane grond | J75: 2002 | K75: 2024 | L75: 3 | M75: stuks | X75: TL
A76: 63 | B76: E | C76: noodverlichtingsarmatuur | D76: BLESSING, EATON | E76: VISTRALED-AT | F76: begane grond | J76: 2016 | K76: 2024 | L76: 4 | M76: stuks | X76: LED
A77: 63 | B77: E | C77: noodverlichtingsarmatuur | D77: VanLien, ABB | E77: OL-1/ZT | F77: begane grond | J77: 2014 | K77: 2024 | L77: 1 | M77: stuks | X77: TL
A78: 63 | B78: E | C78: noodverlichtingsarmatuur | D78: VanLien, ABB | E78: SER-DWI | F78: begane grond | J78: 2016 | K78: 2024 | L78: 1 | M78: stuks | X78: LED
B79: B | C79: Onderhoud Deurbel-Intercom
B80: B | C80: Onderhoud Brandmeld en ontruimingsinstallatie | D80: Hertek Penta | Z80: ='BMI en inbraak afprijzen'!K21 -> 0
B81: B | C81: Onderhoud Inbraaksignaleringssysteem | D81: Satel Integra 32 | Z81: ='BMI en inbraak afprijzen'!K42 -> 0
C82: Wettelijke keuringen en inspecties betreffende locatie per jaar.
C83: Kantoor Smutslaan | F83: Installatiecartotheek
C84: Adres: | D84: Generaal Smutslaan 13 te Tilburg | F84: Gebouwfunctie: | G84: Kantoor | I84: Bouwjaar:
C85: Inspectiedatum: | I85: Verbouwingsjaar:
A87: NL SfB code | B87: E / W / Sanitair | C87: Installatie | D87: Merk | E87: Type | F87: Ruimte | G87: Capaciteit | J87: Bouwjaar | K87: Bouwjaar accu | L87: Aantal | N87: Conditie volgens NEN 2767 | O87: 2013 | P87: 2014 | Q87: 2015 | R87: 2016 | S87: 2017 | T87: 2018 | U87: 2019 | V87: 2020 | W87: 2021 | X87: Type Lichtbron | Y87: Opmerkingen
A88: 61 | B88: E | C88: verdeelinrichting | D88: Siemens | G88: 18 groepen | L88: 1 | M88: stuks
A89: 61 | B89: E | C89: onderverdeelinrichting 1 | D89: Siemens | G89: 12 groepen | L89: 1 | M89: stuks
A90: 63 | B90: E | C90: noodverlichtingsarmatuur | D90: BLESSING, EATON | E90: SKOPOS LED R AT | F90: begane grond | J90: 2017 | K90: 2021 | L90: 1 | M90: stuks | X90: LED
A91: 63 | B91: E | C91: noodverlichtingsarmatuur | D91: BLESSING, EATON | E91: BLV 3021 | F91: begane grond | J91: 2012 | K91: 2022 | L91: 1 | M91: stuks | X91: TL
A92: 63 | B92: E | C92: noodverlichtingsarmatuur | D92: FAMOSTAR | E92: FLOW PPA-1 | F92: begane grond | J92: 2012 | K92: 2022 | L92: 3 | M92: stuks | X92: TL
A93: 63 | B93: E | C93: noodverlichtingsarmatuur | D93: FAMOSTAR | E93: Go! PPA-1 | F93: begane grond | J93: 2020 | K93: 2020 | L93: 3 | M93: stuks | X93: LED
C94: Wettelijke keuringen en inspecties betreffende locatie per jaar.
C95: Aan de Waterkant | F95: Installatiecartotheek
C96: Adres: | D96: Betuwestraat 1 Tilburg | F96: Gebouwfunctie: | I96: Bouwjaar:
C97: Inspectiedatum: | I97: Verbouwingsjaar:
A99: NL SfB code | B99: E / W / Sanitair | C99: Installatie | D99: Merk | E99: Type | F99: Ruimte | G99: Capaciteit | J99: Bouwjaar | K99: Bouwjaar accu | L99: Aantal | N99: Conditie volgens NEN 2767 | O99: 2013 | P99: 2014 | Q99: 2015 | R99: 2016 | S99: 2017 | T99: 2018 | U99: 2019 | V99: 2020 | W99: 2021 | X99: Type Lichtbron | Y99: Opmerkingen
A100: 61 | B100: E | C100: verdeelinrichting | G100: 45 groepen | L100: 1 | M100: stuks
A101: 61 | B101: E | C101: onderverdeelinrichting | G101: 4 groepen | L101: 1 | M101: stuks
A102: 63 | B102: E | C102: noodverlichtingsarmatuur | D102: FAMOSTAR | E102: GO! PPA-1C | F102: Begane grond | J102: 2019 | K102: 2023 | L102: 1 | M102: stuks | X102: LED
A103: 63 | B103: E | C103: noodverlichtingsarmatuur | D103: FAMOSTAR | E103: GO! PPA-1C | F103: Begane grond | J103: 2019 | K103: 2023 | L103: 1 | M103: stuks | X103: LED
A104: 63 | B104: E | C104: noodverlichtingsarmatuur | D104: FAMOSTAR | E104: GO! PPA-1C | F104: Begane grond | J104: 2019 | K104: 2023 | L104: 1 | M104: stuks | X104: LED
A105: 63 | B105: E | C105: noodverlichtingsarmatuur | D105: FAMOSTAR | E105: CELO CS VA-1 L | F105: Begane grond | J105: 2019 | K105: 2023 | L105: 1 | M105: stuks | X105: LED
A106: 63 | B106: E | C106: noodverlichtingsarmatuur | D106: FAMOSTAR | E106: CELO CS VA-1 L | F106: Begane grond | J106: 2019 | K106: 2023 | L106: 1 | M106: stuks | X106: LED
A107: 63 | B107: E | C107: noodverlichtingsarmatuur | D107: FAMOSTAR | E107: GO! WPA-1C [na 2019] | F107: Begane grond | J107: 2019 | K107: 2023 | L107: 1 | M107: stuks | X107: LED
...

Sheet P2 W scholen
A1: Aant. | B1: Omschrijving installaties | C1: Locatie | D1: Merk | E1: Type | F1: Capaciteit | G1: Bouwjaar | H1: Akkoord | I1: Opmerkingen | J1: All-in prijs onderhoud en storingen behoud gevraagd conditieniveau
A2: Basisschool Jeanne D'arc
B3: Warmteopwekking
A4: 2 | B4: Verwarmingsketel 1 | C4: Stookruimte B (zolder) | D4: Nefit | E4: Topline HR 100 | F4: 100kW | G4: 2005
A5: 1 | B5: Expansievat | C5: Stookruimte B | D5: Flexcon | E5: 140 liter / 0,5 bar | F5: 140 Liter | G5: 2005
A6: 1 | B6: Circulatiepomp 1 | C6: Stookruimte A kelder | D6: Grundfos | E6: UPS 50-60/2 F | F6: 230 volt | G6: 2005
A7: 1 | B7: Circulatiepomp 2 | C7: Stookruimte A | D7: Biral | E7: Redline L 401 3x400V | F7: 230 volt
A8: 1 | B8: Circulatiepomp 3 | C8: Stookruimte A | D8: Grundfos | E8: UP 32-80 180 3x400V 0,5A 275w | F8: 230 volt
A9: 1 | B9: Circulatiepomp 4 | C9: Stookruimte A | D9: Wilo | E9: TOP-S30/10 | F9: 230 volt
A10: 1 | B10: Circulatiepomp 5 | C10: Stookruimte B | D10: Grundfos | E10: UPS 25-40 180 | F10: 230 volt | G10: 1998
A11: 1 | B11: Circulatiepomp 6 | C11: Stookruimte B | D11: Grundfos | E11: magna 3 40-120 | F11: 230 volt | G11: 2014
B12: Klimaatregeling
A13: 1 | B13: Regelkast | C13: Stookruimte A | D13: Siemens | E13: Synco | G13: 2005
A14: 1 | B14: Overwerktimer 1 | C14: Stookruimte A | D14: Royal | E14: DOT-U/1 op regelkast | G14: 2005
A15: 1 | B15: Overwerktimer 2 | C15: Stookruimte A | D15: Royal | E15: DOT-U/1 op regelkast | G15: 2005
A16: 2 | B16: Regelaar | C16: Hal Aula/Directie | D16: Siemens | E16: REV23 | G16: 2005
B17: Boilers
A18: 1 | B18: Boiler | C18: Werkkast | D18: Daalderop | E18: 50 liter mono koper | F18: 50Liter
A19: 1 | B19: Close-up boiler | C19: Berging A Bovenbouw | D19: Daalderop | E19: close-up 15 | F19: 15 Liter
A20: 1 | B20: Close-in boiler | C20: Pantry | D20: Daalderop | E20: close-in 15 | F20: 15 Liter
A21: 1 | B21: Close-in boiler | C21: Aanbouw kleuters | D21: Daalderop | E21: Close-in 10 liter | F21: 10 Liter
B22: Overige
A23: 1 | B23: Close-in boiler | C23: Aanbouw kleuters | D23: Daalderop | E23: Close-in 10 ltr | F23: 10 Liter
A24: 2 | B24: servomotor | C24: kelder | D24: Landis en Gyr | E24: SQL33/SQK33
A25: 2 | B25: afzuigventilator | D25: S&P | E25: TD-160-100NT
A26: 5 | B26: afzuigventilator | C26: toilet | D26: Itho
A27: 2 | B27: Afzuigventilator | C27: dak | D27: Itho | E27: CVD-473-WS
A28: 3 | B28: afzuigventilator | C28: Aula | D28: Comair | E28: DRDO/1400
A29: 1 | B29: split-airco | C29: Directie | D29: Daikin
B30: Wettelijke keuringen en inspecties betreffende locatie per jaar.
A31: Gymzaal Jeanne d'Arc
B32: Warmteopwekking
A33: 1 | B33: Verwarmingsketel | C33: TR Gymzaal | D33: Remeha | E33: Quinta PRO 115 | F33: 107 kW | G33: 2011
B34: Toebehoren
A35: 1 | B35: Expansievat | C35: TR Gymzaal | D35: Flamco | E35: Flexon | F35: 50/0,5
A36: 1 | B36: Circulatiepomp 1 | C36: TR Gymzaal | D36: Grundfos | E36: UPS 25-40 180 220V 0,12-0,2A 25-45W | F36: 230 Volt | G36: 2011
A37: 1 | B37: Circulatiepomp 2 | C37: TR Gymzaal | D37: Grundfos | E37: UPS 25-40 180 220V 0,12-0,2A 25-45W | F37: 230 Volt | G37: 2011
A38: 1 | B38: Tapwaterpomp | C38: TR Gymzaal | D38: Grundfos | E38: UP15-14 | F38: 230 Volt | G38: 2011
B39: Mechanische Ventilatie
A40: 1 | B40: Luchtbehandelingskast | C40: Lbk-ruimte | D40: Wolf Klimatechnik | E40: KG 100 / 9455 Opdrachtnr. 565256/01.
B41: Klimaatregeling
A42: 1 | B42: Regelkast | C42: TR Gymzaal | G42: 2004
B43: Boilers
A44: 1 | B44: Boilers | C44: TR Gymzaal | D44: A.O. Smith | E44: W.P.C. EQ 380 N | F44: 380 Liter
A45: 1 | B45: Rada temperatuur regeling
A46: 1 | B46: Afzuigventilator | C46: Dak | D46: Stork | E46: QAV83
A47: 2 | B47: Afzuigventilator | C47: Dak | D47: Carrier | E47: type onbekend
A48: 2 | B48: Afzuigventilator | C48: Dak | D48: Carrier | E48: QAV 213 | I48: Afgesloten
B49: Wettelijke keuringen en inspecties betreffende locatie per jaar.
A51: Basisschool de Vijfhoeven
B52: Warmteopwekking
A53: 2 | B53: Verwarmingsketel | C53: TR | D53: Remeha | E53: Quinta 90 PRO | F53: 90kW | G53: 2016
A54: 1 | B54: Verwarmingsketel | C54: Peuterspeelzaal | D54: Remeha | E54: Quinta 28C | F54: 28kW | G54: 2005
B55: Toebehoren
A56: 1 | B56: Circulatiepomp 1 | C56: TR | D56: Grundfos groep 4 | E56: Magna 3 32-60 | F56: 230 Volt | G56: 2016
A57: 1 | B57: Circulatiepomp 2 | C57: TR | D57: Grundfos groep 3 | E57: Magna 3 32-80 | F57: 230 Volt | G57: 2016
A58: 1 | B58: Circulatiepomp 3 | C58: TR | D58: Grundfos groep 2 | E58: Magna 3 32-80 | F58: 230 Volt | G58: 2016
A59: 1 | B59: Circulatiepomp 4 | C59: TR | D59: Grundfos groep 1 | E59: Magna 3 32-80 | F59: 230 Volt | G59: 2016
A60: 1 | B60: Circulatiepomp 5 | C60: TR | D60: Grundfos transportpomp ketel | E60: Magna 3 40-80F | F60: 230 Volt | G60: 2016
A61: 1 | B61: Expansievat 1 | C61: TR | D61: Flexcon | E61: 140 liter / 0,5 bar | F61: 140 Liter | G61: 2014
A62: 1 | B62: Expansievat 2 | C62: Peuterspeelzaal | D62: Flexcon | E62: 18/0,5 bar | F62: 18 Liter | G62: 2005
B63: Klimaatregeling
A64: 1 | B64: Regelkast | C64: Stookruimte | D64: Potec | E64: Priva | G64: 2014
B65: Boilers
A66: 1 | B66: Close-in boiler | C66: Pantry BSO | D66: Daalderop | E66: Close-in 10 | F66: 10 Liter | G66: ?
A67: 1 | B67: Boiler | C67: Keuken & douche | D67: Daalderop | E67: 80 liter mono koper | F67: 80 Liter | G67: ?
A68: 1 | B68: Boiler | C68: Werkkast | D68: Daalderop | E68: 80 liter mono plus koper | F68: 80 Liter | G68: ?
A69: 1 | B69: Close-in boiler | C69: Keuken | D69: Daalderop | E69: Close-in 10 | F69: 10 Liter | G69: ?
A70: 4 | B70: Motor driewegklep | D70: Honeywell | E70: M7410 E1002 | F70: 1002 Liter | G70: 2013
A71: 1 | B71: Afzuigvent. 1 RT | C71: Dak | D71: J.E. StorkAir | E71: 18. RT 3 standenschakelaar | F71: 3 iter | G71: ?
A72: 1 | B72: Afzuigvent. 2 teamkamer | C72: Dak | D72: J.E. StorkAir | E72: 21. teamkamer 3 standenschakelaar | F72: 3 Miter | G72: ?
A73: 1 | B73: Afzuigvent. 3 | C73: Dak | E73: 50. Congierge Copier schakelaar aan/uit | F73: 50 .iter | G73: ?
A74: 2 | B74: Muurafzuigventilator toevoer | C74: Gevel | D74: Xpilair | E74: 23 Aula. Bediening op de muur. | F74: 23 Oiter | G74: ?
A75: 1 | B75: Afzuigventilator | C75: Peuterspeelzaal | D75: 3FP | E75: Decor 200 | F75: 200 Titer | G75: ?
A76: 1 | B76: Afzuigventilator | C76: Peuterspeelzaal | D76: J.E. Storkair | E76: ? | G76: ?
B77: Wettelijke keuringen en inspecties betreffende locatie per jaar.
A79: Gymzaal de Vijfhoeven
B80: Warmteopwekking
A81: 1 | B81: Ketel 1 | C81: TR Gymzaal | D81: Remeha | E81: Calenta 25S Serienr. 1110402190140. | G81: 2011
A82: 1 | B82: Ketel 2 | C82: TR Gymzaal | D82: Remeha | E82: Calenta 35S Serienr. 1112202274040. | G82: 2011
B83: Toebehoren
A84: 1 | B84: Expansievat 1 | C84: TR Gymzaal | D84: Flamco | E84: Flexcon | F84: 18/0,5 | G84: 2011
A85: 1 | B85: Expansievat 2 | C85: TR Gymzaal | D85: Flamco | E85: Flexcon | F85: 18/0,5 | G85: 2011
B86: Mechanische ventilatie
A87: 1 | B87: Luchtbehandelingskast | C87: TR Gymzaal | D87: GEA Happel | E87: COM4plus CL40AVVV serienr. 7510.602149.0100 ordernr. 024178-027.1.1.1.0 bouwjaar 09-2010. | G87: 2010
B88: Boilers
A89: 1 | B89: Boiler | C89: Boilerruimte | D89: AO Smith | E89: EQ 380 N 355 liter Serienr. 110904401905002 type B11BS. Nom. Belasting G25 OW 24kw | G89: 2011
A90: 9 | B90: Buisventilatoren douche en toilet | C90: Douche / Toilet | D90: SFP | E90: STD-350
A91: 2 | B91: regelaar | C91: Stookruimte | D91: Remeha | E91: iSense
A92: 1 | B92: Tapwaterpomp | C92: boilerruimte tussen plafond | D92: Grundfoss | E92: UP 15-14B | G92: 2011
A93: 1 | B93: legionella bestrijding | C93: Stookruimte | D93: De Melker | E93: M-Check
B94: Wettelijke keuringen en inspecties betreffende locatie per jaar.
A95: Basisschool Cleijn Hasselt
B96: Technische Ruimte
A97: 1 | B97: Verwarmingsketel 1 | C97: TR | D97: Nefit | E97: Topline HR45 (C) II | F97: 45kW | G97: 2013
A98: 1 | B98: Verwarmingsketel 2 | C98: TR | D98: Nefit | E98: Topline HR45 (C) II | F98: 45kW | G98: 2013
A99: 1 | B99: Verwarmingsketel 3 | C99: TR | D99: Nefit | E99: Topline HR45 (C) II | F99: 45kW | G99: 2013
A100: 1 | B100: Verwarmingsketel 4 | C100: TR | D100: Nefit | E100: Topline HR45 (C) II | F100: 45kW | G100: 2013
A101: 1 | B101: Verwarmingsketel 5 | C101: TR | D101: Nefit | E101: Topline HR45 (C) II | F101: 45kW | G101: 2013
A102: 1 | B102: Verwarmingsketel 6 | C102: TR | D102: Nefit | E102: Topline HR45 (C) II | F102: 45kW | G102: 2013
...

Sheet P2 W KDV
A1: Aantal | B1: Omschrijving component | C1: Lokatie component | D1: Fabricaat/Merk | E1: Type | F1: Capaciteit | G1: Bouwjaar | H1: Opmerkingen | I1: All-in prijs onderhoud en storingen behoud gevraagd conditieniveau
A2: KC Aan de Waterkant Betuwestraat 1, 5018AJ Tilburg
A3: 1 | B3: cv-installatie | C3: Technische ruimte kelder | D3: Remeha | E3: Quinta Ace 90 | F3: 87.1 | G3: 2019
A4: 1 | B4: cv-installatie | C4: Technische ruimte kelder | D4: Remeha | E4: Quinta Ace 65 | F4: 61 | G4: 2019
A5: 1 | B5: voorraadboiler | C5: BEG Grond | D5: Daalderop | E5: Close UP 15 | G5: 2019
A6: 1 | B6: convector radiatoren | D6: Onbekend
A7: 24 | B7: radiatoren | C7: Diverse | D7: Onbekend | E7: Met thermostaatknop
A8: 1 | B8: drukexpansievat | C8: Technische ruimte kelder | D8: Flamco | E8: Flexcon 140/1 | G8: 2016
A9: 1 | B9: Ketelpomp 1 | C9: Technische ruimte kelder | D9: Grundfos | E9: UPM2 25-70 | G9: 2019
A10: 1 | B10: Ketelpomp 2 | C10: Technische ruimte kelder | D10: Grundfos | E10: UPM2 25-70 | G10: 2019
A11: 1 | B11: Circulatiepomp1 | C11: Technische ruimte kelder | D11: Grundfos | E11: Magna1 40-40F220 | G11: 2019
A12: 1 | B12: Condenswaterpomp | C12: Technische ruimte kelder | D12: Litle Giant | E12: VCMA-20S | G12: 2019
A13: 1 | B13: luchtverhitter | C13: entree | D13: Nivolair
A14: 4 | B14: mechanische ventilatiebox | C14: Gaffel/Loef/Rak/zolder | D14: Orcon | E14: Mvs-15rh | G14: 2018
A15: 6 | B15: luchtornamenten | C15: Diverse | D15: Onbekend | E15: Afzuigrooster
A16: 6 | B16: luchtornamenten | C16: Toiletten/Wasruimte | D16: Onbekend | E16: Luchtventiel
A17: 1 | B17: Cascade regelaar | C17: Technische ruimte | D17: Remeha | E17: Celcia MC4 | G17: 2019
A18: 1 | B18: ruimtethermostaat | D18: Remeha | E18: I-Sense | G18: 2019
A19: 3 | B19: CO2 en poederblusser | C19: Diverse | D19: Ecofex | E19: Schuimblusser S6-EF | F19: 6 liter | G19: 2012/2020
A20: 3 | B20: brandslanghaspel | C20: T.h.v. ingang | D20: Ansul | E20: Wormald | F20: 30 meter
A21: 11 | B21: Keerkleppen
A22: 1 | B22: Scios Scope 1 | G22: 2020 | H22: cv ketels en opstellingsruimte 1xp/4jr
A23: 1 | B23: Scios Scope 7A | G23: 2020 | H23: aardgasleiding 1x p/4jr
A24: 1 | B24: Split unit | C24: Bootshuis/achter gebouw | D24: Haier | E24: AS35S2SF2FA-3 | F24: 3,5KW | H24: R32 0,94Kg
A25: 1 | B25: Split unit | C25: Gaffel/gevel | D25: Haier | E25: AS25STADHRA-CL | F25: 2,5KW | H25: R32 0,5kg
A26: 1 | B26: Split unit | C26: Loef/gevel | D26: Panasonic | E26: CS-FZ25WKE | F26: 2,5KW | G26: 2022 | H26: R32 0,54kg
A27: 1 | B27: Split unit | C27: Rak/gevel | D27: Haier | E27: AS25STADHRA-CL | F27: 2,5KW | H27: R32 0,5kg
B28: Wettelijke keuringen en inspecties betreffende locatie per jaar.
A30: PO De Vijf Hoeven Hendrik van Tulderstraat 7, 5046NC Tilburg
A31: 1 | B31: Split airco 1 | C31: Slaapkamer kdv 1/ruimte zandbak | D31: Daikin | E31: RXM35R5V1B | F31: 3,5KW | G31: 2020 | H31: R32 0,76kg
A32: 1 | B32: Split airco2 | C32: Slaapkamer kdv 2/Dak | D32: Daikin | E32: RXM35R5V1B | F32: 3,5KW | G32: 2020 | H32: R32 0,76kg
A33: 1 | B33: Split airco 3 | C33: kantoor/ruimte zandbak | D33: Daikin | E33: RXM42R5V1B | F33: 4,2KW | G33: 2020 | H33: R32 1,1kg
A34: 2 | B34: Split airco 4 | C34: in LBK dak | D34: Mitsubishi | E34: PUZ-ZM50VKA | F34: 5 | G34: 2020 | H34: R32 4kg
A35: 1 | B35: LBK1 | C35: Binnenplaats | D35: Nedair | G35: 2020 | H35: 1000m3/h
A36: 1 | B36: LBK2 | C36: Dak | D36: Nedair | G36: 2020 | H36: 1000m3/h
A37: 1 | B37: roosters/ventielen
A38: 3 | B38: Airsocks | G38: 2020
A39: 6 | B39: keerkleppen
A40: 6 | B40: luchtornamenten | C40: Diverse | D40: Onbekend | E40: Afzuigrooster | G40: 2005
A41: 6 | B41: luchtornamenten | C41: Toiletten/Wasruimte | D41: Onbekend | E41: Luchtventiel | G41: 2005
A42: 1 | B42: CO2 en poederblusser | C42: Diverse | D42: Kerzon Flameline | E42: Schuimblusser | F42: 6 liter | G42: 2015
A43: 1 | B43: brandslanghaspel | C43: T.h.v. ingang | D43: Ajax | E43: 30mtr | F43: 30 meter | G43: 2005
B44: Wettelijke keuringen en inspecties betreffende locatie per jaar.
A46: KDV Jip & Janneke Ringbaan Zuid 255, 5021 LR Tilburg
A47: 1 | B47: cv-installatie | C47: Technische ruimte | D47: Nefit | E47: TopLine HR 70 | F47: 70 | G47: 2009
A48: 1 | B48: voorraadboiler | C48: Technische ruimte | D48: Daalderop | E48: Mono Koper | F48: 30 liter | G48: 1993
A49: 1 | B49: voorraadboiler | D49: Comfort | E49: Inbouwboiler | F49: 10 liter
A50: 3 | B50: voorraadboiler | C50: Diverse | D50: Daalderop | E50: Close-in 10 | F50: 10 liter
A51: 1 | B51: voorraadboiler | D51: Stiebel Eltron | F51: 10 liter
A52: 1 | B52: convector radiatoren | D52: Onbekend
A53: 11 | B53: radiatoren | C53: Diverse | D53: Onbekend | E53: Met thermostaatknop
A54: 1 | B54: drukexpansievat | C54: Technische ruimte | D54: Reflex | E54: Reflex N' 50/0,5 | F54: 50 liter | G54: 2009
A55: 2 | B55: mechanische ventilatiebox | D55: Orcon | E55: Mvs-8
A56: 4 | B56: Dakventilator | C56: Dak | D56: Stork Air | E56: VPM
A57: 6 | B57: luchtornamenten | C57: Diverse | D57: Onbekend | E57: Afzuigrooster
A58: 6 | B58: luchtornamenten | C58: Toiletten/Wasruimte | D58: Onbekend | E58: Luchtventiel
A59: 1 | B59: Klokthermostaat/WAR | C59: in cv-ketel | D59: Nefit | E59: Moduline 400 + BV | G59: 2009
A60: 1 | B60: CO2 en poederblusser | C60: Diverse | D60: Ecofex | E60: Schuimblusser S6-EF | F60: 6 liter | G60: 2021
A61: 1 | B61: brandslanghaspel | C61: T.h.v. ingang | D61: Ansul | E61: Wormald 30mtr | F61: 30 meter | G61: 1992
A62: 5 | B62: keerkleppen
B63: Wettelijke keuringen en inspecties betreffende locatie per jaar.
A65: KDV Willemijntje Wilhelminapark 55, 5041ED Tilburg
A66: 1 | B66: Buitenunit | C66: Dak | D66: LG
A67: 2 | B67: Binnenunit | C67: Slaapkamers | D67: LG
A68: 1 | B68: Buitenunit | C68: Dak | D68: LG
A69: 2 | B69: Binnenunit | C69: Slaapkamers | D69: LG
B70: Wettelijke keuringen en inspecties betreffende locatie per jaar.
A72: KDV De Vlinderberg Tafelbergstraat 135, 5025HT Tilburg
A73: 2 | B73: cv-installatie | C73: 106 | D73: Nefit | E73: Topline HR70 | F73: 66,5 kW | G73: 2007
A74: 1 | B74: voorraadboiler | C74: 108 | D74: Inventum | E74: Maxi Hr -Hotfill | F74: 20 liter | G74: 1997 | H74: 400W
A75: 1 | B75: voorraadboiler | C75: 102B | D75: Daalderop | E75: Mono plus koper | F75: 50 liter | G75: 1999
A76: 1 | B76: voorraadboiler | C76: 09 | D76: Daalderop | E76: Close-in 10 | F76: 10 liter | G76: 1993
A77: 3 | B77: voorraadboiler | C77: groepsruimte | D77: Daalderop | E77: Close-in Compact | F77: 4,7 liter | G77: 2013 | H77: 1500W
A78: 1 | B78: voorraadboiler | C78: 10 | D78: Daalderop | E78: Close-in 15 | F78: 15 liter | G78: 2001
A79: 8 | B79: voorraadboiler | C79: groepsruimte Piano | D79: Daalderop | E79: Hot-fill 10 | F79: 10 liter | G79: 1997
A80: 2 | B80: splitunit | C80: dak | D80: Western | E80: Eco-line buitendelen | G80: Onbekend
A81: 2 | B81: splitunit binnendelen | C81: 102 | D81: Western | E81: FMI 600 HP | G81: Onbekend
A82: 13 | B82: radiatoren | C82: Diverse | D82: Onbekend | E82: Met thermostaatknop | G82: Onbekend
A83: 19 | B83: convector radiatoren | C83: Diverse | D83: Onbekend | E83: Met thermostaatknop | G83: Onbekend
A84: 1 | B84: drukexpansievat | C84: 106 | D84: Flamco | E84: Flexcon 80/0,5 | F84: 80 liter | G84: 2007
A85: 4 | B85: dakventilator | C85: dak | D85: Onbekend | G85: Onbekend
A86: 1 | B86: ventilatorbox | C86: archiefkast rechtsachterin | D86: Zehnder | E86: CVF400/1000+CB | F86: 1000m3/h | G86: 2017
A87: 3 | B87: ventilatorbox | D87: onbekend | G87: onbekend
A88: 1 | B88: buisventilator | C88: 104 | D88: Orcon | E88: RVK 312-2A | F88: 1,328 m³/h | G88: 2004 | H88: 230V
A89: 1 | B89: buisventilator | C89: 106 | D89: Soler & Palau | E89: TD 160-100 | F89: 180 m³/h | G89: Onbekend
A90: 1 | B90: axiaalventilator | C90: 102 | D90: Rosenberg | E90: EZ 250-1 | F90: 0,06 kW | G90: 2001
A91: 5 | B91: luchtornament | C91: slaapkamers | D91: Onbekend | E91: Afzuigrooster - Vierkant | G91: 2012
A92: 10 | B92: luchtornament | C92: Diverse | D92: Onbekend | E92: Luchtventiel | G92: Onbekend
A93: 1 | B93: brandkleppen | C93: 106 1e verdieping | D93: Solid Air | E93: KBROBN - 125 | G93: 2012
A94: 1 | B94: weersafhankelijke regelaar | C94: 106 | D94: Nefit | E94: MBC5 | G94: 2007
A95: 1 | B95: circulatiepomp | C95: 106 | D95: Grundfos | E95: Magna 50-60F | F95: 12 m³/h | G95: 2007
A96: 1 | B96: circulatiepomp | C96: 106 | D96: Grundfos | E96: UPS 25-50 180 | F96: 2,7 m³/h | G96: 1999
A97: 4 | B97: CO2 en poederblusser | C97: hal voor archiefruimte | D97: Ecofex | E97: Schuimblusser S6-EF | F97: 6 liter | G97: 2021/2023
A98: 2 | B98: brandslanghaspel | C98: 17-1 en 17-2 | D98: Ajax | E98: Opbouw (niet in kast) | F98: 25 meter | G98: 2013
A99: 1 | B99: brandslanghaspel | C99: hal voor archiefruimte | D99: Ajax | E99: Opbouw (niet in kast) | F99: 12 bar 20mtr | G99: 1999
A100: 10 | B100: keerkleppen
A101: 1 | B101: keurig brandstofleidingen (SCIOS regeling) | H101: Aardgasleiding 1x p./4jr
A102: 1 | B102: keuring stookinstallaties | H102: Cv-ketels en stookruimte 1x p/4jr
B103: Wettelijke keuringen en inspecties betreffende locatie per jaar.
A105: KC Floortje Nachtegaal Dr. Deelenlaan 7, 5042AD Tilburg
...

Sheet BMI en inbraak afprijzen
I2: Prijs per stuk | J2: Weging
A3: • Brandmeld- en ontruimingsinstallatie type B, inclusief:
A4: - aanleggen bekabeling en installeren van de benodigde componenten;
A5: - inregelen en inbedrijfstellen van de installatie;
A6: - aansluiten van de centrale apparatuur;
A7: - Opstellen / wijzigen van een PvE;
A8: - eenmalige instructie aan de opdrachtgever;
A9: - eenmalig in enkelvoud verstrekken van het logboek voor de installatie.
A11: Materiaalspecificatie:
A12: - 1 stuks Brandmeldcentrale Hertek Penta 6175, 1-lus met ontruimingspaneel | J12: 1 | K12: =I12*J12 -> 0
A13: - 17 stuks Optische rookmelder inclusief sokkel zuiver wit | J13: 17 | K13: =I13*J13 -> 0
A14: - 15 stuks Optische rookmelder inclusief sokkelslowwhoop zuiver wit | J14: 15 | K14: =I14*J14 -> 0
A15: - 1 stuks Discovery Multi sensor inclusief sokkel zuiver wit | J15: 1 | K15: =I15*J15 -> 0
A16: - 9 stuks Handbrandmelder Discovery,inclusief behuizing | J16: 9 | K16: =I16*J16 -> 0
A17: - 24 stuks Nevenindicator Hertek inclusief opbouwrand | J17: 24 | K17: =I17*J17 -> 0
A18: - 5 stuks Slowwhoop signaalgever, wit, in sokkeluitvoering | J18: 5 | K18: =I18*J18 -> 0
A19: - 1 stuks Enkelvoudige in/output module | J19: 1 | K19: =I19*J19 -> 0
A20: - 1 stuks Doormeldeenheid | J20: 1 | K20: =I20*J20 -> 0
B21: Totaal BMI | K21: =SUM(K11:K20) -> 0
A23: • Inbraakbeveiligingsinstallatie, conform risicoklasse 2, inclusief:
A24: - aanleggen bekabeling en installeren van de benodigde componenten;
A25: - inregelen en inbedrijfstellen van de installatie;
A26: - aansluiten van de centrale apparatuur;
A27: - eenmalige instructie aan de opdrachtgever; (volgens ontwerptekening in de bijlage)
A29: Materiaalspecificatie inbraakbeveiligingsinstallatie (volgens ontwerptekening in de bijlage)
A30: - 1 stuks Integra centrale 8 tot 32 zones | J30: 1 | K30: =I30*J30 -> 0
A31: - 1 stuks Integra bedienpaneel | J31: 1 | K31: =I31*J31 -> 0
A32: - 2 stuks Integra 8 zone uitbreiding, zonder behuizing | J32: 2 | K32: =I32*J32 -> 0
A33: - 1 stuks Integra 8 zone uitbreiding, kast met voeding | J33: 1 | K33: =I33*J33 -> 0
A34: - 2 stuks Accu 7Ah | J34: 2 | K34: =I34*J34 -> 0
A35: - 1 stuks Integra Ethernet Module Plus INT GSM | J35: 1 | K35: =I35*J35 -> 0
A36: - 1 stuks Buiten flitslicht | J36: 1 | K36: =I36*J36 -> 0
A37: - 1 stuks Binnen sirene | J37: 1 | K37: =I37*J37 -> 0
A38: - 13 stuks Detectors, 15 meter Anti-mask | J38: 13 | K38: =I38*J38 -> 0
A39: - 11 stuks Reedcontact | J39: 11 | K39: =I39*J39 -> 0
A40: - 1 stuks onderhoudsdocument / service- logboek | J40: 1 | K40: =I40*J40 -> 0
B42: Totaal inbraakinstallatie | K42: =SUM(K30:K40) -> 0
