Workbook

Sheet Voorblad Autorisatieformulier
B3: Autorisatieformulier RVB OnderhoudManagementSysteem t.b.v. leveranciers | N3: Planon e-learning cursus voltooid | R3: 08_RVB_ONDERHOUDSLEVERANCIER (extern) | S3: 16_RVB_BOEI-INSPECTEUR (extern) | T3: VPN account reeds aanwezig | U3: BOEI-inspectie app | V3: Werkorders app | W3: Beeldende Kunst | X3: Bouwkunde | Y3: Civiele infrastructuur | Z3: Elektrotechniek | AA3: Natuur & Landschap | AB3: Transport | AC3: Veiligheidsprogramma | AD3: Werktuigbouwkunde
I4: Versie 1.1, Mei 2025
B5: Onderstaand formulier invullen (Voorblad).
B6: Dit formulier printen, ondertekenen en inscannen.
B7: Het ingevulde en ondertekende formulier (Exceldocument) + het gescande (PDF) formulier graag e-mailen naar uw contractbeheerder.
B8: Met de ondertekening verklaart u dat de betreffende medewerkers beschikken over de juiste VOG en de e-learning hebben doorlopen.
B9: Oranje velden dienen ingevuld te worden door een medewerker van het Rijksvastgoedbedrijf.
B11: Handelsnaam (volgens KVK): | H11: Oracle leveranciersnummer:
B12: KVK nummer: | H12: Oracle "vestigingsnummer":
B13: Vestigingsadres: | H13: Oracle vestigingsnaam:
B14: Vestigingsnummer (volgens KVK): | H14: Naam RVB contractbeheerder:
B18: Voornaam | C18: Tussenvoegsel | D18: Achternaam | E18: E-mailadres | G18: Percelen / Contracten | H18: Doel Aanvraag | I18: Opmerkingen | N18: Authorisatie ja/nee | W18: Discipline/vakgroep ja/nee
A19: 1. | AF19: Ja | AG19: Nieuw
A20: 2. | AF20: Nee | AG20: Wijziging
A21: 3. | AG21: Intrekken
A22: 4.
A23: 5.
A24: 6.
A25: 7.
A26: 8.
A27: 9.
A28: 10.
A29: 11.
A30: 12.
A31: 13.
A32: 14.
A33: 15.
... A36: 18.
A37: 19
A38: 20.
A39: 21.
A40: 22.
A41: 23.
A42: 24.
A43: 25.
A44: 26.
A45: 27
A46: 28.
A47: 29.
A48: 30.
...

Sheet Aanvragen toegang OMS
A1: Autorisatie aanvraag verzoek voor het OMS-Planon Systeem van RVB
A3: Blauw = invulling vanuit het voorblad !
A4: Betreft: | B4: Handelsnaam leverancier | D4: {='Voorblad Autorisatieformulier'!$D$11:$E$11} -> 0 | E4: 0
B5: KVK nummer | D5: {='Voorblad Autorisatieformulier'!$D$12:$E$12} -> 0 | E5: 0
B6: Vestigingsadres | D6: ='Voorblad Autorisatieformulier'!$D$13 -> 0
B7: Vestigingsnummer (KVK) | D7: ='Voorblad Autorisatieformulier'!$D$14 -> 0
A9: Oracle: | B9: Oracle leveranciersnummer: | D9: {='Voorblad Autorisatieformulier'!$J$11:$K$11} -> 0 | E9: 0
B10: Oracle "vestigingsnummer": | D10: {='Voorblad Autorisatieformulier'!$J$12:$K$12} -> 0 | E10: 0
B11: Oracle vestigingsnaam: | D11: ='Voorblad Autorisatieformulier'!$J$13 -> 0
A13: Authorisatie gemandateerde: | D13: ='Voorblad Autorisatieformulier'!$J$14 -> 0
A16: Medewerker 1
A17: Personalia
B18: Voornaam | D18: ='Voorblad Autorisatieformulier'!B19 -> 0
B19: Tussenvoegsel | D19: ='Voorblad Autorisatieformulier'!C19 -> 0
B20: Achternaam | D20: ='Voorblad Autorisatieformulier'!D19 -> 0
B21: E-mailadres (gebruikersnaam) | D21: ='Voorblad Autorisatieformulier'!E19 -> 0
A24: Autorisatie
A25: OMS Planon | C25: Authorisatie
B26: ='Voorblad Autorisatieformulier'!$N$3 -> Planon e-learning cursus voltooid | C26: ='Voorblad Autorisatieformulier'!N19 -> 0 | D26: =IF(C26="Ja","Toekennen","Intrekken") -> Intrekken
B27: ='Voorblad Autorisatieformulier'!$R$3 -> 08_RVB_ONDERHOUDSLEVERANCIER (extern) | C27: ='Voorblad Autorisatieformulier'!R19 -> 0 | D27: =IF(C27="Ja","Toekennen","Intrekken") -> Intrekken
B28: ='Voorblad Autorisatieformulier'!$S$3 -> 16_RVB_BOEI-INSPECTEUR (extern) | C28: ='Voorblad Autorisatieformulier'!S19 -> 0 | D28: =IF(C28="Ja","Toekennen","Intrekken") -> Intrekken
B29: ='Voorblad Autorisatieformulier'!$T$3 -> VPN account reeds aanwezig | C29: ='Voorblad Autorisatieformulier'!T19 -> 0 | D29: =IF(C29="Ja","Toekennen","Intrekken") -> Intrekken
B30: ='Voorblad Autorisatieformulier'!$U$3 -> BOEI-inspectie app | C30: ='Voorblad Autorisatieformulier'!U19 -> 0 | D30: =IF(C30="Ja","Toekennen","Intrekken") -> Intrekken
B31: ='Voorblad Autorisatieformulier'!$V$3 -> Werkorders app | C31: ='Voorblad Autorisatieformulier'!V19 -> 0 | D31: =IF(C31="Ja","Toekennen","Intrekken") -> Intrekken
A33: Discipline(s)/Vakgroep(en) | C33: Authorisatie
B34: ='Voorblad Autorisatieformulier'!$W$3 -> Beeldende Kunst | C34: ='Voorblad Autorisatieformulier'!W19 -> 0 | D34: =IF(C34="Ja","Toekennen","Intrekken") -> Intrekken
B35: ='Voorblad Autorisatieformulier'!$X$3 -> Bouwkunde | C35: ='Voorblad Autorisatieformulier'!X19 -> 0 | D35: =IF(C35="Ja","Toekennen","Intrekken") -> Intrekken
B36: ='Voorblad Autorisatieformulier'!$Y$3 -> Civiele infrastructuur | C36: ='Voorblad Autorisatieformulier'!Y19 -> 0 | D36: =IF(C36="Ja","Toekennen","Intrekken") -> Intrekken
B37: ='Voorblad Autorisatieformulier'!$Z$3 -> Elektrotechniek | C37: ='Voorblad Autorisatieformulier'!Z19 -> 0 | D37: =IF(C37="Ja","Toekennen","Intrekken") -> Intrekken
B38: ='Voorblad Autorisatieformulier'!$AA$3 -> Natuur & Landschap | C38: ='Voorblad Autorisatieformulier'!AA19 -> 0 | D38: =IF(C38="Ja","Toekennen","Intrekken") -> Intrekken
B39: ='Voorblad Autorisatieformulier'!$AB$3 -> Transport | C39: ='Voorblad Autorisatieformulier'!AB19 -> 0 | D39: =IF(C39="Ja","Toekennen","Intrekken") -> Intrekken
B40: ='Voorblad Autorisatieformulier'!$AC$3 -> Veiligheidsprogramma | C40: ='Voorblad Autorisatieformulier'!AC19 -> 0 | D40: =IF(C40="Ja","Toekennen","Intrekken") -> Intrekken
B41: ='Voorblad Autorisatieformulier'!$AD$3 -> Werktuigbouwkunde | C41: ='Voorblad Autorisatieformulier'!AD19 -> 0 | D41: =IF(C41="Ja","Toekennen","Intrekken") -> Intrekken
A46: Autorisatie aanvraag verzoek voor het OMS-Planon Systeem van RVB
A48: Blauw = invulling vanuit het voorblad !
A49: Betreft: | B49: Handelsnaam leverancier | D49: {='Voorblad Autorisatieformulier'!$D$11:$E$11} -> 0 | E49: 0
B50: KVK nummer | D50: {='Voorblad Autorisatieformulier'!$D$12:$E$12} -> 0 | E50: 0
B51: Vestigingsadres | D51: ='Voorblad Autorisatieformulier'!$D$13 -> 0
B52: Vestigingsnummer (KVK) | D52: ='Voorblad Autorisatieformulier'!$D$14 -> 0
A54: Oracle: | B54: Oracle leveranciersnummer: | D54: {='Voorblad Autorisatieformulier'!$J$11:$K$11} -> 0 | E54: 0
...
