Workbook

Sheet Voorblad Autorisatieformulier
B3: Autorisatieformulier RVB OnderhoudManagementSysteem t.b.v. leveranciers | N3: Planon e-learning cursus voltooid | R3: 08_RVB_ONDERHOUDSLEVERANCIER (extern) | S3: 16_RVB_BOEI-INSPECTEUR (extern) | T3: VPN account reeds aanwezig | U3: BOEI-inspectie app | V3: Werkorders app | W3: Beeldende Kunst | X3: Bouwkunde | Y3: Civiele infrastructuur | Z3: Elektrotechniek | AA3: Natuur & Landschap | AB3: Transport | AC3: Veiligheidsprogramma | AD3: Werktuigbouwkunde
I4: Versie 1.1, Mei 2025
B5: Onderstaand formulier invullen (Voorblad).
B6: Dit formulier printen, ondertekenen en inscannen.
B7: Het ingevulde en ondertekende formulier (Exceldocument) + het gescande (PDF) formulier graag e-mailen naar uw contractbeheerder.
B8: Met de ondertekening verklaart u dat de betreffende medewerkers beschikken over de juiste VOG en de e-learning hebben doorlopen.
B9: Oranje velden dienen ingevuld te worden door een medewerker van het Rijksvastgoedbedrijf.
B11: Handelsnaam (volgens KVK): | H11: Oracle leveranciersnummer:
B12: KVK nummer: | H12: Oracle "vestigingsnummer":
B13: Vestigingsadres: | H13: Oracle vestigingsnaam:
B14: Vestigingsnummer (volgens KVK): | H14: Naam RVB contractbeheerder:
B18: Voornaam | C18: Tussenvoegsel | D18: Achternaam | E18: E-mailadres | G18: Percelen / Contracten | H18: Doel Aanvraag | I18: Opmerkingen | N18: Authorisatie ja/nee | W18: Discipline/vakgroep ja/nee
A19: 1. | AF19: Ja | AG19: Nieuw
A20: 2. | AF20: Nee | AG20: Wijziging
A21: 3. | AG21: Intrekken
A22: 4.
A23: 5.
A24: 6.
A25: 7.
A26: 8.
A27: 9.
A28: 10.
A29: 11.
A30: 12.
A31: 13.
A32: 14.
A33: 15.
... A36: 18.
A37: 19
A38: 20.
A39: 21.
A40: 22.
A41: 23.
A42: 24.
A43: 25.
A44: 26.
A45: 27
A46: 28.
A47: 29.
A48: 30.
A50: OMS contactpersoon leverancier voor akkoord: | E50: Voor + Achternaam: | K50: Handtekening:
E53: Datum:
A56: RVB Contractbeheerder voor akkoord: | D56: Ja / Nee
E57: Voor + Achternaam: | F57: =J14 -> 0 | J57: ACB / TCB Voor- & achternaam:
E60: Datum: | K60: Datum:
AD62: Versie 1.0
B64: Legenda: | K64: Opmerkingen/aanvullingen:
B66: Leveranciergegevens
B67: Handelsnaam | C67: De handelsnaam waarmee de onderneming staat ingeschrijven bij de Kamer van Koophandel
B68: KVK nummer | C68: Het nummer waarmee de onderneming is ingeschreven bij de Kamer van Koophandel
B69: Vestigingsadres | C69: Het adres waarop de onderneming is ingeschreven bij de Kamer van Koophandel
B70: Vestigingsnummer | C70: Het vestigingsnummer waarmee de onderneming is ingeschreven bij de Kamer van Koophandel
B72: Medewerkers
B73: Voornaam | C73: Volledige voornaam
B74: Tussenvoegsel | C74: Voluit beschrijven (bijvoorbeeld: van der i.p.v. v.d.)
B75: Achternaam | C75: Volledige naam (evt. Inclusief meisjesnaam)
B76: E-mailadres | C76: Een op een persoon herleidbaar e-mailadres (bijv P.deWit@bedrijf.nl, niet toegestaan bijv: contract23@bedrijf)
B77: Percelen / Contracten | C77: Vul per medewerker slechts 1 contract/perceel in
B78: Doel aanvraag | C78: Nieuw (medewerker), Wijziging (muteren rechten medewerker), Intrekken (verwijder medewerker)
B79: Opmerkingen | C79: Eventuele opmerkingen per persoon (bijvoorbeeld uitgestelde startdatum)
B81: Autorisaties
B82: Ja | C82: Autrorisatie rol toekennen
B83: Nee | C83: Autorisatie rol intrekken
B84: (blanco/ leeg) | C84: Huidige instelling behouden (als er geen rechten zijn, blijft dit zo, als er al rechten uitgeven waren blijft dit ook zo)
B86: Discipline/Vakgroep
B87: Ja | C87: Deze discipline/vakgroep toekennen
B88: Nee | C88: Deze discipline/vakgroep intrekken
B89: (blanco/ leeg) | C89: Huidige instelling behouden (als er geen discipline/vakgroep is, blijft dit zo, als er al rechten uitgeven waren blijft dit ook zo)
B92: In te vullen door RVB medewerker
B93: Oracle leveranciersnr. | C93: Het Oracle leveranciersnummer is het nummer wat in Oracle staat genoteerd bij de betreffende leverancier
B94: Oracle "vestigingsnr." | C94: Het vestigingsnummer in Oracle is NIET hetzelfde als in het handelsregister van de KVK! Dit nummer wordt namelijk aangemaakt in Oracle em via de interface doorgegeven aan OMS-Planon.
C95: Als er in OMS-Planon een contract moet worden aangemaakt, dan selecteert de Adm. Contractbeheerde de betreffende vestiging. In OMS-Planon is dan het "Oracle vestigingsnummer" zichtbaar.
C96: Het is dus van belang, om vanuit de Contract module van OMS-Planon het "Oracle vestigingsnummer" te achterhalen en te vermelden op dit formulier. Anders worden de gebruikers aan de verkeerde organisatie en dataautorisatie gekoppeld!
B97: Oracle vestigingsnaam: | C97: De vestigingsnaam van de leverancier zoals die in Oracle staat.
B98: Naam contractbeheerder | C98: De naam van de gemandateerde RVB medewerker die akkoord geeft met de betreffende authorisatie
B99: Naam ACB-er of TCB-er | C99: Indien het aanvraagdocument in behandeling is genomen door de ACB-er of TCB-er en namens de contractbeheerder heeft geaccordeerd, dan hier de naam van de ACB-er of TCB-er invullen.

Sheet Aanvragen toegang OMS
A1: Autorisatie aanvraag verzoek voor het OMS-Planon Systeem van RVB
A3: Blauw = invulling vanuit het voorblad !
A4: Betreft: | B4: Handelsnaam leverancier | D4: {='Voorblad Autorisatieformulier'!$D$11:$E$11} -> 0 | E4: 0
B5: KVK nummer | D5: {='Voorblad Autorisatieformulier'!$D$12:$E$12} -> 0 | E5: 0
B6: Vestigingsadres | D6: ='Voorblad Autorisatieformulier'!$D$13 -> 0
B7: Vestigingsnummer (KVK) | D7: ='Voorblad Autorisatieformulier'!$D$14 -> 0
A9: Oracle: | B9: Oracle leveranciersnummer: | D9: {='Voorblad Autorisatieformulier'!$J$11:$K$11} -> 0 | E9: 0
B10: Oracle "vestigingsnummer": | D10: {='Voorblad Autorisatieformulier'!$J$12:$K$12} -> 0 | E10: 0
B11: Oracle vestigingsnaam: | D11: ='Voorblad Autorisatieformulier'!$J$13 -> 0
A13: Authorisatie gemandateerde: | D13: ='Voorblad Autorisatieformulier'!$J$14 -> 0
A16: Medewerker 1
A17: Personalia
B18: Voornaam | D18: ='Voorblad Autorisatieformulier'!B19 -> 0
B19: Tussenvoegsel | D19: ='Voorblad Autorisatieformulier'!C19 -> 0
B20: Achternaam | D20: ='Voorblad Autorisatieformulier'!D19 -> 0
B21: E-mailadres (gebruikersnaam) | D21: ='Voorblad Autorisatieformulier'!E19 -> 0
A24: Autorisatie
A25: OMS Planon | C25: Authorisatie
B26: ='Voorblad Autorisatieformulier'!$N$3 -> Planon e-learning cursus voltooid | C26: ='Voorblad Autorisatieformulier'!N19 -> 0 | D26: =IF(C26="Ja","Toekennen","Intrekken") -> Intrekken
B27: ='Voorblad Autorisatieformulier'!$R$3 -> 08_RVB_ONDERHOUDSLEVERANCIER (extern) | C27: ='Voorblad Autorisatieformulier'!R19 -> 0 | D27: =IF(C27="Ja","Toekennen","Intrekken") -> Intrekken
B28: ='Voorblad Autorisatieformulier'!$S$3 -> 16_RVB_BOEI-INSPECTEUR (extern) | C28: ='Voorblad Autorisatieformulier'!S19 -> 0 | D28: =IF(C28="Ja","Toekennen","Intrekken") -> Intrekken
B29: ='Voorblad Autorisatieformulier'!$T$3 -> VPN account reeds aanwezig | C29: ='Voorblad Autorisatieformulier'!T19 -> 0 | D29: =IF(C29="Ja","Toekennen","Intrekken") -> Intrekken
B30: ='Voorblad Autorisatieformulier'!$U$3 -> BOEI-inspectie app | C30: ='Voorblad Autorisatieformulier'!U19 -> 0 | D30: =IF(C30="Ja","Toekennen","Intrekken") -> Intrekken
B31: ='Voorblad Autorisatieformulier'!$V$3 -> Werkorders app | C31: ='Voorblad Autorisatieformulier'!V19 -> 0 | D31: =IF(C31="Ja","Toekennen","Intrekken") -> Intrekken
A33: Discipline(s)/Vakgroep(en) | C33: Authorisatie
B34: ='Voorblad Autorisatieformulier'!$W$3 -> Beeldende Kunst | C34: ='Voorblad Autorisatieformulier'!W19 -> 0 | D34: =IF(C34="Ja","Toekennen","Intrekken") -> Intrekken
B35: ='Voorblad Autorisatieformulier'!$X$3 -> Bouwkunde | C35: ='Voorblad Autorisatieformulier'!X19 -> 0 | D35: =IF(C35="Ja","Toekennen","Intrekken") -> Intrekken
B36: ='Voorblad Autorisatieformulier'!$Y$3 -> Civiele infrastructuur | C36: ='Voorblad Autorisatieformulier'!Y19 -> 0 | D36: =IF(C36="Ja","Toekennen","Intrekken") -> Intrekken
B37: ='Voorblad Autorisatieformulier'!$Z$3 -> Elektrotechniek | C37: ='Voorblad Autorisatieformulier'!Z19 -> 0 | D37: =IF(C37="Ja","Toekennen","Intrekken") -> Intrekken
B38: ='Voorblad Autorisatieformulier'!$AA$3 -> Natuur & Landschap | C38: ='Voorblad Autorisatieformulier'!AA19 -> 0 | D38: =IF(C38="Ja","Toekennen","Intrekken") -> Intrekken
B39: ='Voorblad Autorisatieformulier'!$AB$3 -> Transport | C39: ='Voorblad Autorisatieformulier'!AB19 -> 0 | D39: =IF(C39="Ja","Toekennen","Intrekken") -> Intrekken
B40: ='Voorblad Autorisatieformulier'!$AC$3 -> Veiligheidsprogramma | C40: ='Voorblad Autorisatieformulier'!AC19 -> 0 | D40: =IF(C40="Ja","Toekennen","Intrekken") -> Intrekken
B41: ='Voorblad Autorisatieformulier'!$AD$3 -> Werktuigbouwkunde | C41: ='Voorblad Autorisatieformulier'!AD19 -> 0 | D41: =IF(C41="Ja","Toekennen","Intrekken") -> Intrekken
A46: Autorisatie aanvraag verzoek voor het OMS-Planon Systeem van RVB
A48: Blauw = invulling vanuit het voorblad !
A49: Betreft: | B49: Handelsnaam leverancier | D49: {='Voorblad Autorisatieformulier'!$D$11:$E$11} -> 0 | E49: 0
B50: KVK nummer | D50: {='Voorblad Autorisatieformulier'!$D$12:$E$12} -> 0 | E50: 0
B51: Vestigingsadres | D51: ='Voorblad Autorisatieformulier'!$D$13 -> 0
B52: Vestigingsnummer (KVK) | D52: ='Voorblad Autorisatieformulier'!$D$14 -> 0
A54: Oracle: | B54: Oracle leveranciersnummer: | D54: {='Voorblad Autorisatieformulier'!$J$11:$K$11} -> 0 | E54: 0
B55: Oracle "vestigingsnummer": | D55: {='Voorblad Autorisatieformulier'!$J$12:$K$12} -> 0 | E55: 0
B56: Oracle vestigingsnaam: | D56: ='Voorblad Autorisatieformulier'!$J$13 -> 0
A58: Authorisatie gemandateerde: | D58: ='Voorblad Autorisatieformulier'!$J$14 -> 0
A61: Medewerker 2
A62: Personalia
B63: Voornaam | D63: ='Voorblad Autorisatieformulier'!B20 -> 0
B64: Tussenvoegsel | D64: ='Voorblad Autorisatieformulier'!C20 -> 0
B65: Achternaam | D65: ='Voorblad Autorisatieformulier'!D20 -> 0
B66: E-mailadres (gebruikersnaam) | D66: ='Voorblad Autorisatieformulier'!E20 -> 0
A69: Autorisatie
A70: OMS Planon | C70: Authorisatie
B71: ='Voorblad Autorisatieformulier'!$N$3 -> Planon e-learning cursus voltooid | C71: ='Voorblad Autorisatieformulier'!N20 -> 0 | D71: =IF(C71="Ja","Toekennen","Intrekken") -> Intrekken
B72: ='Voorblad Autorisatieformulier'!$R$3 -> 08_RVB_ONDERHOUDSLEVERANCIER (extern) | C72: ='Voorblad Autorisatieformulier'!R20 -> 0 | D72: =IF(C72="Ja","Toekennen","Intrekken") -> Intrekken
B73: ='Voorblad Autorisatieformulier'!$S$3 -> 16_RVB_BOEI-INSPECTEUR (extern) | C73: ='Voorblad Autorisatieformulier'!S20 -> 0 | D73: =IF(C73="Ja","Toekennen","Intrekken") -> Intrekken
B74: ='Voorblad Autorisatieformulier'!$T$3 -> VPN account reeds aanwezig | C74: ='Voorblad Autorisatieformulier'!T20 -> 0 | D74: =IF(C74="Ja","Toekennen","Intrekken") -> Intrekken
B75: ='Voorblad Autorisatieformulier'!$U$3 -> BOEI-inspectie app | C75: ='Voorblad Autorisatieformulier'!U20 -> 0 | D75: =IF(C75="Ja","Toekennen","Intrekken") -> Intrekken
B76: ='Voorblad Autorisatieformulier'!$V$3 -> Werkorders app | C76: ='Voorblad Autorisatieformulier'!V20 -> 0 | D76: =IF(C76="Ja","Toekennen","Intrekken") -> Intrekken
A78: Discipline(s)/Vakgroep(en) | C78: Authorisatie
B79: ='Voorblad Autorisatieformulier'!$W$3 -> Beeldende Kunst | C79: ='Voorblad Autorisatieformulier'!W20 -> 0 | D79: =IF(C79="Ja","Toekennen","Intrekken") -> Intrekken
B80: ='Voorblad Autorisatieformulier'!$X$3 -> Bouwkunde | C80: ='Voorblad Autorisatieformulier'!X20 -> 0 | D80: =IF(C80="Ja","Toekennen","Intrekken") -> Intrekken
B81: ='Voorblad Autorisatieformulier'!$Y$3 -> Civiele infrastructuur | C81: ='Voorblad Autorisatieformulier'!Y20 -> 0 | D81: =IF(C81="Ja","Toekennen","Intrekken") -> Intrekken
B82: ='Voorblad Autorisatieformulier'!$Z$3 -> Elektrotechniek | C82: ='Voorblad Autorisatieformulier'!Z20 -> 0 | D82: =IF(C82="Ja","Toekennen","Intrekken") -> Intrekken
B83: ='Voorblad Autorisatieformulier'!$AA$3 -> Natuur & Landschap | C83: ='Voorblad Autorisatieformulier'!AA20 -> 0 | D83: =IF(C83="Ja","Toekennen","Intrekken") -> Intrekken
B84: ='Voorblad Autorisatieformulier'!$AB$3 -> Transport | C84: ='Voorblad Autorisatieformulier'!AB20 -> 0 | D84: =IF(C84="Ja","Toekennen","Intrekken") -> Intrekken
B85: ='Voorblad Autorisatieformulier'!$AC$3 -> Veiligheidsprogramma | C85: ='Voorblad Autorisatieformulier'!AC20 -> 0 | D85: =IF(C85="Ja","Toekennen","Intrekken") -> Intrekken
B86: ='Voorblad Autorisatieformulier'!$AD$3 -> Werktuigbouwkunde | C86: ='Voorblad Autorisatieformulier'!AD20 -> 0 | D86: =IF(C86="Ja","Toekennen","Intrekken") -> Intrekken
A91: Autorisatie aanvraag verzoek voor het OMS-Planon Systeem van RVB
A93: Blauw = invulling vanuit het voorblad !
A94: Betreft: | B94: Handelsnaam leverancier | D94: {='Voorblad Autorisatieformulier'!$D$11:$E$11} -> 0 | E94: 0
B95: KVK nummer | D95: {='Voorblad Autorisatieformulier'!$D$12:$E$12} -> 0 | E95: 0
B96: Vestigingsadres | D96: ='Voorblad Autorisatieformulier'!$D$13 -> 0
B97: Vestigingsnummer (KVK) | D97: ='Voorblad Autorisatieformulier'!$D$14 -> 0
A99: Oracle: | B99: Oracle leveranciersnummer: | D99: {='Voorblad Autorisatieformulier'!$J$11:$K$11} -> 0 | E99: 0
B100: Oracle "vestigingsnummer": | D100: {='Voorblad Autorisatieformulier'!$J$12:$K$12} -> 0 | E100: 0
B101: Oracle vestigingsnaam: | D101: ='Voorblad Autorisatieformulier'!$J$13 -> 0
A103: Authorisatie gemandateerde: | D103: ='Voorblad Autorisatieformulier'!$J$14 -> 0
A106: Medewerker 3
A107: Personalia
B108: Voornaam | D108: ='Voorblad Autorisatieformulier'!B21 -> 0
B109: Tussenvoegsel | D109: ='Voorblad Autorisatieformulier'!C21 -> 0
B110: Achternaam | D110: ='Voorblad Autorisatieformulier'!D21 -> 0
B111: E-mailadres (gebruikersnaam) | D111: ='Voorblad Autorisatieformulier'!E21 -> 0
A114: Autorisatie
A115: OMS Planon | C115: Authorisatie
B116: ='Voorblad Autorisatieformulier'!$N$3 -> Planon e-learning cursus voltooid | C116: ='Voorblad Autorisatieformulier'!N21 -> 0 | D116: =IF(C116="Ja","Toekennen","Intrekken") -> Intrekken
B117: ='Voorblad Autorisatieformulier'!$R$3 -> 08_RVB_ONDERHOUDSLEVERANCIER (extern) | C117: ='Voorblad Autorisatieformulier'!R21 -> 0 | D117: =IF(C117="Ja","Toekennen","Intrekken") -> Intrekken
B118: ='Voorblad Autorisatieformulier'!$S$3 -> 16_RVB_BOEI-INSPECTEUR (extern) | C118: ='Voorblad Autorisatieformulier'!S21 -> 0 | D118: =IF(C118="Ja","Toekennen","Intrekken") -> Intrekken
B119: ='Voorblad Autorisatieformulier'!$T$3 -> VPN account reeds aanwezig | C119: ='Voorblad Autorisatieformulier'!T21 -> 0 | D119: =IF(C119="Ja","Toekennen","Intrekken") -> Intrekken
B120: ='Voorblad Autorisatieformulier'!$U$3 -> BOEI-inspectie app | C120: ='Voorblad Autorisatieformulier'!U21 -> 0 | D120: =IF(C120="Ja","Toekennen","Intrekken") -> Intrekken
B121: ='Voorblad Autorisatieformulier'!$V$3 -> Werkorders app | C121: ='Voorblad Autorisatieformulier'!V21 -> 0 | D121: =IF(C121="Ja","Toekennen","Intrekken") -> Intrekken
A123: Discipline(s)/Vakgroep(en) | C123: Authorisatie
B124: ='Voorblad Autorisatieformulier'!$W$3 -> Beeldende Kunst | C124: ='Voorblad Autorisatieformulier'!W21 -> 0 | D124: =IF(C124="Ja","Toekennen","Intrekken") -> Intrekken
B125: ='Voorblad Autorisatieformulier'!$X$3 -> Bouwkunde | C125: ='Voorblad Autorisatieformulier'!X21 -> 0 | D125: =IF(C125="Ja","Toekennen","Intrekken") -> Intrekken
B126: ='Voorblad Autorisatieformulier'!$Y$3 -> Civiele infrastructuur | C126: ='Voorblad Autorisatieformulier'!Y21 -> 0 | D126: =IF(C126="Ja","Toekennen","Intrekken") -> Intrekken
B127: ='Voorblad Autorisatieformulier'!$Z$3 -> Elektrotechniek | C127: ='Voorblad Autorisatieformulier'!Z21 -> 0 | D127: =IF(C127="Ja","Toekennen","Intrekken") -> Intrekken
B128: ='Voorblad Autorisatieformulier'!$AA$3 -> Natuur & Landschap | C128: ='Voorblad Autorisatieformulier'!AA21 -> 0 | D128: =IF(C128="Ja","Toekennen","Intrekken") -> Intrekken
B129: ='Voorblad Autorisatieformulier'!$AB$3 -> Transport | C129: ='Voorblad Autorisatieformulier'!AB21 -> 0 | D129: =IF(C129="Ja","Toekennen","Intrekken") -> Intrekken
B130: ='Voorblad Autorisatieformulier'!$AC$3 -> Veiligheidsprogramma | C130: ='Voorblad Autorisatieformulier'!AC21 -> 0 | D130: =IF(C130="Ja","Toekennen","Intrekken") -> Intrekken
B131: ='Voorblad Autorisatieformulier'!$AD$3 -> Werktuigbouwkunde | C131: ='Voorblad Autorisatieformulier'!AD21 -> 0 | D131: =IF(C131="Ja","Toekennen","Intrekken") -> Intrekken
A136: Autorisatie aanvraag verzoek voor het OMS-Planon Systeem van RVB
...
