Workbook

Sheet Prijzenblad
A1: Prijzenblad (alle genoemde bedragen zijn excl BTW)
A3: LET OP uitsluitend de geel gearceerde cellen dienen ingevuld te worden!
A5: Vaste werkzaamheden
B7: Plaatsen RWIS meetstations | C7: ='RWIS meetstations'!$J$10 -> 0
B8: Preventief onderhoud | C8: ='Preventief onderhoud'!E8 -> 0
B9: Ontmantelen GMS | C9: ='Ontmantelen GMS'!$F$10 -> 0
B10: Masten | C10: =Masten!F11 -> 0
C12: =SUM(C7:C10) -> 0
A14: Stelposten
B16: Installatiematerialen | C16: 1000000
B17: Correctieve onderhoudswerkzaamheden | C17: 50000
B18: Afwijkende locaties | C18: 400000
C20: =SUM(C16:C18) -> 1450000
B22: Inschrijvingssom (incl stelposten) | C22: =SUM(C7+C8+C9+C10+C20+C46) -> 10527688
B23: Inschrijvingssom (excl stelpost 4 KRF) | E23: =SUM(C12+C20) -> 1450000
A25: Staat van prijzen per eenheid
B27: Correctief onderhoud | C27: ='Correctief onderhoud'!F10 -> 0
B28: Verkeersmaatregelen | C28: =Verkeersmaatregelen!F58 -> 0
B29: Boringen | C29: =Boringen!F20 -> 0
B30: Graafwerkzaamheden | C30: =Graafwerkzaamheden!F10 -> 0
B31: VGM onderzoeken | C31: ='VGM onderzoeken'!F13 -> 0
B32: Wegdeksensoren | C32: =Wegdeksensoren!F13 -> 0
B33: Tarieven medewerkers | C33: ='Tarieven medewerkers'!F14 -> 0
B35: Totaal staat van prijzen per eenheid | C35: =SUM(C27:C33) -> 0 | E35: =C35 -> 0
A38: Kans- en Risicofonds (KRF)
B40: Beginsaldo KRF | C40: 125000
B41: RWIS Meetstations | C41: ='RWIS meetstations'!$J$12 -> 7807187.5
B42: Ontmantelen GMS | C42: ='Ontmantelen GMS'!$F$12 -> 660000
B43: Masten | C43: =Masten!F13 -> 420000
B44: Tarieven medewerkers | C44: ='Tarieven medewerkers'!H14 -> 65500
B46: Totaal KRF | C46: =SUM(C40:C44) -> 9077687.5 | E46: =C46*-1 -> -9077687.5
A48: Aanbieding
B50: Prijs ten behoeve van BPKV | E50: =SUM(E23+E35+E46) -> -7627687.5

Sheet RWIS meetstations
B1: RWIS meetstations
D2: RWIS varianten
D3: Basic | E3: Standard | F3: Plus | G3: totaal | H3: IOT | J3: totaal:
B4: aantal (prognose) | D4: 35 | E4: 235 | F4: 90 | G4: =D4+E4+F4 -> 360 | H4: 50
B6: aantal (gegarandeerd) | D6: =D4-(D4*0.25) -> 26.25 | E6: =E4-(E4*0.25) -> 176.25 | F6: =F4-(F4*0.25) -> 67.5 | G6: =D6+E6+F6 -> 270 | H6: 40
B8: Budget plafond | D8: 21750 | E8: 29000 | F8: 30000 | H8: 2500 | J8: =D$6*D8+E$6*E8+F$6*F8+H$6*H8 -> 7807187.5
B10: offerte prijs ON | D10: 0 | E10: 0 | F10: 0 | H10: 0 | J10: =D$6*D10+E$6*E10+F$6*F10+H$6*H10 -> 0
B12: vloeit naar risico/kansen fonds | D12: =D8-D10 -> 21750 | E12: =E8-E10 -> 29000 | F12: =F8-F10 -> 30000 | H12: =H8-H10 -> 2500 | J12: =SUM(J8-J10) -> 7807187.5
B15: Uitgangspunten / opmerkingen:
B16: Projectmanagement
B17: Uitvoeringsontwerp in auto/infra CAD (dwg)
B18: Werkplannen
B19: VGM uitvoering
B20: Werkzaamheden leveren installatie materiaal (exclusief kosten voor de aanschaf installatiematerialen)
B21: Assemblage van componenten aan de mast inclusief systeem (RWIS plus 4G router) FAT, check werking GRIP_IQ op assemblage locatie (excl. levering mast)
B22: Transport van alle materialen
B23: Plaatsen RWIS mast en RWIS meetstation
B24: Plaatsen IOT sensor
B25: Aansluiten op Netvoeding, inclusief voedingskabel (exclusief realiseren nieuw voedingspunt)
B26: Aansluiten op Alternatieve voeding, inclusief voedingskabel (exclusief realiseren van alternatieve voeding)
... B40: 10% van de werkzaamheden is in het weekeinde

Sheet Ontmantelen GMS
B1: Ontmantelen GMS
D3: GMS stations | F3: totaal
B6: aantal | F6: 330
B8: Budget Plafond | D8: 2000 | F8: =D8*F6 -> 660000
B10: offerte prijs ON | D10: 0 | F10: =D10*F6 -> 0
B12: vloeit naar risico/kansen fonds | D12: =D8-D10 -> 2000 | F12: =SUM(D12*F6) -> 660000

Sheet Preventief onderhoud
B1: Preventief onderhoud
B3: Overdag | C3: aantal | D3: prijs per bezoek: | E3: sub totaal prijs:
B4: Preventief onderhoud 2026 (aantal locatie bezoeken) | C4: 60 | D4: 0 | E4: =C4*D4 -> 0
B5: Preventief onderhoud 2027 (aantal locatie bezoeken) | C5: 250 | D5: 0 | E5: =C5*D5 -> 0
B6: Preventief onderhoud 2028 (aantal locatie bezoeken) | C6: 270 | D6: 0 | E6: =C6*D6 -> 0
B8: totaal preventief: | E8: =SUM(E4:E6) -> 0
B9: Uitgangspunten / opmerkingen:
B10: De kosten zijn voor inspanning, dus exclusief reserve onderdelen.
B11: De aantallen zijn gebasseerd op de verwachte prognose van Aanleg
B12: De aantallen die genoemd zijn in bovenstaande tabel zijn reëel maar indicatief.

Sheet Masten
B1: Masten
D3: Masten | F3: totaal
B6: aantal (prognose) | F6: 360
B7: aantal (gegarandeerd) | F7: 240
B9: Budget Plafond | D9: 1750 | F9: =D9*F7 -> 420000
B11: offerte prijs ON | D11: 0 | F11: =D11*F7 -> 0
B13: vloeit naar risico/kansen fonds | D13: =D9-D11 -> 1750 | F13: =SUM(D13*F7) -> 420000
B15: Uitgangspunten / opmerkingen:
B16: De masten dienen te voldoen aan de specificaties uit bijlage H 'mastspecificaties' van de VSE
B17: De eerste 30 masten worden door Opdrachtgever geleverd als OGG levering

Sheet Correctief onderhoud
B1: Correctief onderhoud
B3: bestel item | C3: Overdag | D3: aantal | E3: prijs: | F3: sub totaal prijs:
B5: BE-04 | C5: Correctief onderhoud 2026 (storingen) | D5: 8 | E5: 0 | F5: =D5*E5 -> 0
B6: BE-05 | C6: Correctief onderhoud 2027 (storingen) | D6: 22 | E6: 0 | F6: =D6*E6 -> 0
B7: BE-06 | C7: Correctief onderhoud 2028 (storingen) | D7: 30 | E7: 0 | F7: =D7*E7 -> 0
F8: =D8*E8 -> 0
C10: totaal correctief: | F10: =SUM(F5:F7) -> 0
C11: Uitgangspunten / opmerkingen:
C12: De kosten zijn voor inspanning, dus exclusief reserve onderdelen.

Sheet Verkeersmaatregelen
B1: Verkeersmaatregelen
B3: bestel item | C3: Overdag | D3: aantal | E3: prijs: | F3: sub totaal prijs:
B4: VE-01 | C4: Verkeersmaatregel Overdag Figuur 120 of 141: werken naast de rijbaan binnen de obstakelvrije zone | D4: 10 | E4: 0 | F4: =D4*E4 -> 0
B5: VE-02 | C5: Verkeersmaatregel Overdag Figuur 130: Op de vluchtstrook, buiten 1,10 meter vanaf de kantstreep, met signalering. | D5: 10 | E5: 0 | F5: =D5*E5 -> 0
B6: VE-03 | C6: Verkeersmaatregel Overdag Figuur 140: Op de vluchtstrook, buiten 1,10 meter vanaf de kantstreep, zonder signalering. | D6: 10 | E6: 0 | F6: =D6*E6 -> 0
B7: VE-04 | C7: Verkeersmaatregel Overdag Figuur 210: Op de vluchtstrook, binnen 1,10 meter vanaf de kantstreep. | D7: 10 | E7: 0 | F7: =D7*E7 -> 0
B8: VE-05 | C8: Verkeersmaatregel Overdag Figuur Figuur 210 MRS: Op de vluchtstrook, binnen 1,10 meter vanaf de kantstreep, met inzet MRS'en | D8: 5 | E8: 0 | F8: =D8*E8 -> 0
B9: VE-06 | C9: Verkeersmaatregel Overdag Figuur 220: Op de linker rijstrook, of links binnen 3,50 meter vanaf de kantstreep. | D9: 5 | E9: 0 | F9: =D9*E9 -> 0
B10: VE-07 | C10: Verkeersmaatregel Overdag Figuur 240: Meerdere aan elkaar grenzende rijstroken rechts. | D10: 5 | E10: 0 | F10: =D10*E10 -> 0
B11: VE-08 | C11: Verkeersmaatregel Overdag Figuur 250: Meerdere aan elkaar grenzende rijstroken links. | D11: 5 | E11: 0 | F11: =D11*E11 -> 0
B12: VE-09 | C12: Verkeersmaatregel Overdag Figuur 310: Meerdere aan elkaar grenzende rijstroken links (andere wegbreedte). | D12: 5 | E12: 0 | F12: =D12*E12 -> 0
B13: VE-10 | C13: Verkeersmaatregel Overdag Figuur 311: Meerdere aan elkaar grenzende rijstroken links, met inzet MRS'en. | D13: 5 | E13: 0 | F13: =D13*E13 -> 0
C14: Nacht
B15: VE-11 | C15: Verkeersmaatregel Nacht; Figuur 120 of 141: Naast de rijbaan binnen de obstakelvrije zone | D15: 10 | E15: 0 | F15: =D15*E15 -> 0
B16: VE-12 | C16: Verkeersmaatregelen Nacht; Figuur 130: Op de vluchtstrook, buiten 1,10 meter vanaf de kantstreep, met signalering. | D16: 10 | E16: 0 | F16: =D16*E16 -> 0
B17: VE-13 | C17: Verkeersmaatregelen Nacht; Figuur 140: Op de vluchtstrook, buiten 1,10 meter vanaf de kantstreep, zonder signalering. | D17: 10 | E17: 0 | F17: =D17*E17 -> 0
B18: VE-14 | C18: Verkeersmaatregelen Nacht; Figuur 210: Op de vluchtstrook, binnen 1,10 meter vanaf de kantstreep. | D18: 10 | E18: 0 | F18: =D18*E18 -> 0
B19: VE-15 | C19: Verkeersmaatregelen Nacht; Figuur 210 MRS: Op de vluchtstrook, binnen 1,10 meter vanaf de kantstreep, met inzet MRS'en. | D19: 5 | E19: 0 | F19: =D19*E19 -> 0
B20: VE-16 | C20: Verkeersmaatregelen Nacht; Figuur 220: Op de linker rijstrook, of links binnen 3,50 meter vanaf de kantstreep. | D20: 10 | E20: 0 | F20: =D20*E20 -> 0
B21: VE-17 | C21: Verkeersmaatregelen Nacht; Figuur 240: Meerdere aan elkaar grenzende rijstroken rechts. | D21: 10 | E21: 0 | F21: =D21*E21 -> 0
B22: VE-18 | C22: Verkeersmaatregelen Nacht; Figuur 250: Meerdere aan elkaar grenzende rijstroken links. | D22: 10 | E22: 0 | F22: =D22*E22 -> 0
B23: VE-19 | C23: Verkeersmaatregelen Nacht; Figuur 310: Meerdere aan elkaar grenzende rijstroken links (andere wegbreedte). | D23: 10 | E23: 0 | F23: =D23*E23 -> 0
B24: VE-20 | C24: Verkeersmaatregelen Nacht; Figuur 311: Meerdere aan elkaar grenzende rijstroken links, met inzet MRS'en. | D24: 10 | E24: 0 | F24: =D24*E24 -> 0
C25: Weekeinde
B26: VE-21 | C26: Verkeersmaatregel Weekeinde; Figuur 120 of 141: Naast de rijbaan binnen de obstakelvrije zone | D26: 10 | E26: 0 | F26: =D26*E26 -> 0
B27: VE-22 | C27: Verkeersmaatregelen Weekeinde; Figuur 130: Op de vluchtstrook, buiten 1,10 meter vanaf de kantstreep, met signalering. | D27: 10 | E27: 0 | F27: =D27*E27 -> 0
B28: VE-23 | C28: Verkeersmaatregelen Weekeinde; Figuur 140: Op de vluchtstrook, buiten 1,10 meter vanaf de kantstreep, zonder signalering. | D28: 10 | E28: 0 | F28: =D28*E28 -> 0
B29: VE-24 | C29: Verkeersmaatregelen Weekeinde; Figuur 210: Op de vluchtstrook, binnen 1,10 meter vanaf de kantstreep. | D29: 10 | E29: 0 | F29: =D29*E29 -> 0
B30: VE-25 | C30: Verkeersmaatregelen Weekeinde; Figuur 210 MRS: Op de vluchtstrook, binnen 1,10 meter vanaf de kantstreep, met inzet MRS'en. | D30: 10 | E30: 0 | F30: =D30*E30 -> 0
B31: VE-26 | C31: Verkeersmaatregelen Weekeinde; Figuur 220: Op de linker rijstrook, of links binnen 3,50 meter vanaf de kantstreep. | D31: 10 | E31: 0 | F31: =D31*E31 -> 0
B32: VE-27 | C32: Verkeersmaatregelen Weekeinde; Figuur 240: Meerdere aan elkaar grenzende rijstroken rechts. | D32: 10 | E32: 0 | F32: =D32*E32 -> 0
B33: VE-28 | C33: Verkeersmaatregelen Weekeinde; Figuur 250: Meerdere aan elkaar grenzende rijstroken links. | D33: 5 | E33: 0 | F33: =D33*E33 -> 0
B34: VE-29 | C34: Verkeersmaatregelen Weekeinde; Figuur 310: Meerdere aan elkaar grenzende rijstroken links (andere wegbreedte). | D34: 5 | E34: 0 | F34: =D34*E34 -> 0
B35: VE-30 | C35: Verkeersmaatregelen Weekeinde; Figuur 311: Meerdere aan elkaar grenzende rijstroken links, met inzet MRS'en. | D35: 5 | E35: 0 | F35: =D35*E35 -> 0
C36: Overdag
B37: VE-31 | C37: Verkeersmaatregelen Overdag; Figuur 1301a/b: Afzetting volledig naast de rijbaan | D37: 10 | E37: 0 | F37: =D37*E37 -> 0
B38: VE-32 | C38: Verkeersmaatregelen Overdag; Figuur 1303a/b: Versmalde rijstrook, afzetting op de rand van de rijbaan | D38: 10 | E38: 0 | F38: =D38*E38 -> 0
B39: VE-33 | C39: Verkeersmaatregelen Overdag; Figuur 1324b: Dynamische werken op of vanaf de rijbaan met tijdelijke afsluiting of blokkade | D39: 5 | E39: 0 | F39: =D39*E39 -> 0
B40: VE-34 | C40: Verkeersmaatregelen Overdag; Figuur 1401a/b: Afzetting volledig naast de rijbaan | D40: 10 | E40: 0 | F40: =D40*E40 -> 0
B41: VE-35 | C41: Verkeersmaatregelen Overdag; Figuur 1403a/b: Versmalde rijstrook, afzetting op de rand van de rijbaan | D41: 10 | E41: 0 | F41: =D41*E41 -> 0
...

Sheet Boringen
B1: Boring
B3: bestel item | C3: Overdag | D3: aantal | E3: prijs: | F3: sub totaal prijs:
B4: BO-01 | C4: Boorplan t.b.v. HDD-boring/wegkruising, incl. sondering/verguning. | D4: 200 | E4: 0 | F4: =D4*E4 -> 0
B5: BO-02 | C5: leveren en aanbrengen HDD-boring Ø 110mm +/- 25 meter | D5: 45 | E5: 0 | F5: =D5*E5 -> 0
B6: BO-03 | C6: leveren en aanbrengen HDD-boring Ø 110mm +/- 50 meter | D6: 45 | E6: 0 | F6: =D6*E6 -> 0
B7: BO-04 | C7: leveren en aanbrengen HDD-boring Ø 110mm +/- 75 meter | D7: 5 | E7: 0 | F7: =D7*E7 -> 0
B8: BO-05 | C8: leveren en aanbrengen HDD-boring Ø 110mm +/- 100 meter | D8: 5 | E8: 0 | F8: =D8*E8 -> 0
C9: Nacht
B10: BO-06 | C10: leveren en aanbrengen HDD-boring Ø 110mm +/- 25 meter | D10: 30 | E10: 0 | F10: =D10*E10 -> 0
B11: B0-07 | C11: leveren en aanbrengen HDD-boring Ø 110mm +/- 50 meter | D11: 30 | E11: 0 | F11: =D11*E11 -> 0
B12: BO-08 | C12: leveren en aanbrengen HDD-boring Ø 110mm +/- 75 meter | D12: 5 | E12: 0 | F12: =D12*E12 -> 0
B13: BO-09 | C13: leveren en aanbrengen HDD-boring Ø 110mm +/- 100 meter | D13: 5 | E13: 0 | F13: =D13*E13 -> 0
C14: Weekeinde
B15: BO-10 | C15: leveren en aanbrengen HDD-boring Ø 110mm +/- 25 meter | D15: 10 | E15: 0 | F15: =D15*E15 -> 0
B16: B0-11 | C16: leveren en aanbrengen HDD-boring Ø 110mm +/- 50 meter | D16: 10 | E16: 0 | F16: =D16*E16 -> 0
B17: BO-12 | C17: leveren en aanbrengen HDD-boring Ø 110mm +/- 75 meter | D17: 5 | E17: 0 | F17: =D17*E17 -> 0
B18: BO-13 | C18: leveren en aanbrengen HDD-boring Ø 110mm +/- 100 meter | D18: 5 | E18: 0 | F18: =D18*E18 -> 0
C20: totaal Boring: | F20: =SUM(F4:F18) -> 0
C22: Uitgangspunten / opmerkingen:
C23: De boringen zijn nodig om de sensoren aan de andere zijde van de weg aan te sluiten op het RWIS meetstation.
C24: De noodzaak van een boring wordt aangegeven op de ontwerptekening van OG.
C25: Door de boring worden DB buizen getrokken.
C26: De aantallen zijn reëel maar indicatief.
C27: De exacte aantallen worden afgeroepen op basis van behoefte aangegeven op de ontwerptekening van OG.

Sheet Graafwerkzaamheden
B1: Graafwerk
B3: bestel item | C3: Overdag | D3: aantal in meters | E3: prijs per meter: | F3: sub totaal prijs:
B4: GR-01 | C4: graven sleuf (70/30 cm), (gemiddeld), inclusief aanleg DB, mantelbuis, handhole infra, afdekband en KLIC melding | D4: 4000 | E4: 0 | F4: =D4*E4 -> 0
C5: Nacht
B6: GR-02 | C6: graven sleuf (70/30 cm), (gemiddeld), inclusief aanleg DB, mantelbuis, handhole infra, afdekband en KLIC melding | D6: 2000 | E6: 0 | F6: =D6*E6 -> 0
C7: Weekeinde
B8: GR-03 | C8: graven sleuf (70/30 cm), (gemiddeld), inclusief aanleg DB, mantelbuis, handhole infra, afdekband en KLIC melding | D8: 1000 | E8: 0 | F8: =D8*E8 -> 0
C10: totaal Graafwerk: | F10: =SUM(F4+F6+F8) -> 0
C12: Uitgangspunten / opmerkingen:
C13: Bij het plaatsen van de RWIS meetstations is uitgegaan van 100 meter graafwerk gemiddeld per locatie.
C14: Het totale graafwerk voor de 270 locatie (27 km) wordt opgeteld, Als er meer graafwerk nodig is kunnen
C15: bovenstaande items worden besteld. De prijs is exclusief de materialen kosten voor DB mantelbuis, handhole infra, afdekband.
C16: De aantallen zijn reëel maar indicatief.
C17: De exacte aantalen worden afgeroepen op basis van behoefte aangegeven op de ontwerptekening van OG.

Sheet VGM onderzoeken
B1: VGM onderzoeken
B3: bestel item | C3: Overdag | D3: aantal | E3: prijs: | F3: sub totaal prijs:
B4: VG-01 | C4: Vergunningsaanvraag (Gemeente/Waterschap/Provincie) inclusief leges etc. | D4: 20 | E4: 0 | F4: =D4*E4 -> 0
B5: VG-02 | C5: Vooronderzoek bodemverontreiniging conform NEN5725 | D5: 5 | E5: 0 | F5: =D5*E5 -> 0
B6: VG-03 | C6: Verkenned bodemonderzoek conform NEN5740 | D6: 5 | E6: 0 | F6: =D6*E6 -> 0
B7: VG-04 | C7: Bureau onderzoek archeologie | D7: 5 | E7: 0 | F7: =D7*E7 -> 0
B8: VG-05 | C8: Bureau onderzoek OO (ontplofbare oorlogsresten) | D8: 5 | E8: 0 | F8: =D8*E8 -> 0
B9: VG-06 | C9: Bureau onderzoek Flora en Fauna | D9: 5 | E9: 0 | F9: =D9*E9 -> 0
B10: VG-07 | C10: Bureau onderzoek Chroom 6 | D10: 5 | E10: 0 | F10: =D10*E10 -> 0
B11: VG-08 | C11: Bureau onderzoek Asbest | D11: 5 | E11: 0 | F11: =D11*E11 -> 0
C13: totaal VGM onderzoeken: | F13: =SUM(F4:F11) -> 0
C15: Uitgangspunten / opmerkingen:
C16: De VGM onderzoeken kunnen nodig zijn om het VGM dossier ontwerp compleet te maken.
C17: De aantallen zijn reëel maar indicatief.
C18: Onderzoeken worden afgeroepen als vanuit het VGM dossier ontwerp blijkt dat dit noodzakelijk is.

Sheet Wegdeksensoren
B1: Wegdeksensoren
B3: bestel item | C3: Overdag | D3: aantal | E3: prijs: | F3: sub totaal prijs:
B4: WE-01 | C4: Inzet zaagploeg, plaatsen 1st wegdeksensor DRS511 en aansluiten op RWS200 systeem | D4: 10 | E4: 0 | F4: =D4*E4 -> 0
B5: WE-02 | C5: Inzet zaagploeg, plaatsen iedere volgende wegdeksensor DRS511 en aansluiten op RWS200 systeem | D5: 20 | E5: 0 | F5: =D5*E5 -> 0
C6: Nacht
B7: WE-03 | C7: Inzet zaagploeg, plaatsen 1st wegdeksensor DRS511 en aansluiten op RWS200 systeem | D7: 50 | E7: 0 | F7: =D7*E7 -> 0
B8: WE-04 | C8: Inzet zaagploeg, plaatsen iedere volgende wegdeksensor DRS511 en aansluiten op RWS200 systeem | D8: 65 | E8: 0 | F8: =D8*E8 -> 0
C9: Weekeinde
B10: WE-05 | C10: Inzet zaagploeg, plaatsen 1st wegdeksensor DRS511 en aansluiten op RWS200 systeem | D10: 25 | E10: 0 | F10: =D10*E10 -> 0
B11: WE-06 | C11: Inzet zaagploeg, plaatsen iedere volgende wegdeksensor DRS511 en aansluiten op RWS200 systeem | D11: 35 | E11: 0 | F11: =D11*E11 -> 0
C13: totaal Wegdeksensoren: | F13: =SUM(F4:F11) -> 0
C15: Uitgangspunten / opmerkingen:
C16: Bij het plaatsen van de RWIS meetstations is uitgegaan van 1 of 2 keer opstarten (zie opmerkingen RWIS meetstations) met de inzet van een zaagploeg.
C17: Als een derde of vierde of … moeten worden gestart kunnen deze bestel items worden afgeroepen.
C18: De aantallen zijn reëel maar indicatief.
C19: De exacte aantalen worden afgeroepen op basis van behoefte aangegeven op de ontwerptekening van OG.

Sheet Tarieven medewerkers
B1: tarieven medewerkers
B3: bestel item | C3: Overdag | D3: Aantal uren | E3: prijs per uur | F3: sub totaal prijs: | G3: Budget Plafond | H3: vloeit naar risico / kansen pot
B4: FU-01 | C4: Project Manager | D4: 100 | E4: 0 | F4: =D4*E4 -> 0 | G4: 150 | H4: =D4*(G4-E4) -> 15000
B5: FU-03 | C5: Project engineer / technisch manager | D5: 100 | E5: 0 | F5: =D5*E5 -> 0 | G5: 130 | H5: =D5*(G5-E5) -> 13000
B6: FU-03 | C6: Tekenaar | D6: 50 | E6: 0 | F6: =D6*E6 -> 0 | G6: 100 | H6: =D6*(G6-E6) -> 5000
C7: Nacht
B8: FU-04 | C8: Project Manager | D8: 50 | E8: 0 | F8: =D8*E8 -> 0 | G8: 180 | H8: =D8*(G8-E8) -> 9000
B9: FU-05 | C9: Project engineer / technisch manager | D9: 50 | E9: 0 | F9: =D9*E9 -> 0 | G9: 160 | H9: =D9*(G9-E9) -> 8000
C10: Weekeinde
B11: FU-06 | C11: Project Manager | D11: 50 | E11: 0 | F11: =D11*E11 -> 0 | G11: 150 | H11: =D11*(G11-E11) -> 7500
B12: FU-07 | C12: Project engineer / technisch manager | D12: 50 | E12: 0 | F12: =D12*E12 -> 0 | G12: 160 | H12: =D12*(G12-E12) -> 8000
C14: totaal Tarieven: | F14: =SUM(F4:F6,F8,F9,F11,F12) -> 0 | H14: =SUM(H4:H6,H8,H9,H11,H12) -> 65500
C15: Uitgangspunten / opmerkingen:
C16: Alle eerder genoemde Werkzaamheden in de tabbladen zijn inclusief projectmanagementkosten
C17: De genoemde functies en tarieven zijn louter bedoeld voor verrekening bij wijzigingen
