Workbook

Sheet 1 - Prijzenblad
A1: Prijzenblad EA Onderhoud en Vervanging Grootkeukenapparatuur Perceel Zuid
B2: Het Prijzenblad kent een opbouw van vier criteria. Namelijk uw voorkeur in Percelen. Voor CC-1 en CC-2 een prijs per element (in tabbladen 2, 3, 4 en 5) en vooor CC-3 een prijs per uur in verschilende tijdsvlakken. De Inschrijver vult alleen de blauwe velden in alle vijf de tabbladen in. De voorwaarden voor het prijzenblad vindt u in hoofdstuk 4 van de Inschrijvingsleidraad. | F2: Totaal CC-1: | G2: =SUM(F12:G15) -> 0
F4: Totaal CC-2: | G4: =SUM(F18:G21) -> 0
F6: Totaal CC-3: | G6: =SUM(G24:G26) -> 0
A8: P | B8: Omschrijving | F8: Uw keuze middels dropdown menu
A9: # | B9: Uw voorkeur gaat uit naar het volgende Perceel of Percelen: | F9: Selecteer hier uw keuze
A11: # | B11: Omschrijving | D11: Eenheid | F11: Prijs totaal (excl. BTW)
A12: CC-1 | B12: Nulmeting eenheid Limburg (tabblad 2) | D12: Totaal per eenheid | F12: ='2 - Eenheid Limburg'!H87 -> 0
A13: =A12 -> CC-1 | B13: Nulmeting eenheid Oost-Brabant (tabblad 3) | D13: =D12 -> Totaal per eenheid | F13: ='3 - Eenheid Oost-Brabant'!H112 -> 0
A14: CC-1 | B14: Nulmeting eenheid Rotterdam (tabblad 4) | D14: =D12 -> Totaal per eenheid | F14: ='4 - Eenheid Rotterdam'!H265 -> 0
A15: =A13 -> CC-1 | B15: Nulmeting eenheid Zeeland West-Brabant (tabblad 5) | D15: =D13 -> Totaal per eenheid | F15: ='5 - Eenheid ZWB'!H160 -> 0
A17: # | B17: Omschrijving | D17: Eenheid | E17: (fictief) sub-wegingsaantal | F17: Prijs totaal (excl. BTW)
A18: CC-2 | B18: Preventief onderhoud eenheid Limburg (tabblad 2) | D18: Totaal per eenheid | E18: 1 | F18: ='2 - Eenheid Limburg'!I87 -> 0
A19: =A18 -> CC-2 | B19: Preventief onderhoud eenheid Oost-Brabant (tabblad 3) | D19: =D18 -> Totaal per eenheid | E19: 1 | F19: ='3 - Eenheid Oost-Brabant'!I112 -> 0
A20: CC-2 | B20: Preventief onderhoud eenheid Rotterdam (tabblad 4) | D20: =D18 -> Totaal per eenheid | F20: ='4 - Eenheid Rotterdam'!I265 -> 0
A21: =A19 -> CC-2 | B21: Preventief onderhoud eenheid Zeeland West-Brabant (tabblad 5) | D21: =D19 -> Totaal per eenheid | E21: 1 | F21: ='5 - Eenheid ZWB'!I160 -> 0
A23: # | B23: Omschrijving | D23: Eenheid | E23: (fictief) sub-wegingsaantal | F23: Prijs (excl. BTW) | G23: Prijs totaal (excl. BTW)
A24: CC-3 | B24: All-in uurtarief binnen kantoortijden voor storingen en BKW | D24: Per uur | E24: 50 | F24: 0 | G24: =E24*F24 -> 0
A25: =A24 -> CC-3 | B25: All-in uur tarief buiten kantooruren voor storingen en BKW | D25: =D24 -> Per uur | E25: 25 | F25: 0 | G25: =E25*F25 -> 0
A26: =A25 -> CC-3 | B26: All-in uur tarief zon- en feestdagen voor storingen en BKW | D26: =D24 -> Per uur | E26: 25 | F26: 0 | G26: =E26*F26 -> 0
D28: INSCHRIJVER
D29: NAAM:
D30: ONDERNEMING:
D31: ONDERTEKENING
D34: DATUM / PLAATS
C43: Selecteer hier uw keuze
C44: Perceel 1 Noord oost
C45: Perceel 2 Noord west
C46: Perceel 3 Zuid
C47: Percelen 1 en 2
C48: Percelen 1 en 3
C49: Percelen 2 en 3

Sheet 2 - Eenheid Limburg
A1: Elementenlijst eenheid Limburg | H1: CC-1 | I1: CC-2
A2: Adres (locatie) | B2: Postcode (locatie) | C2: Plaats (locatie) | D2: Omschrijving | E2: Merk | F2: Type | G2: Bouwjaar | H2: Prijs Nulmeting conform eis 94 | I2: Prijs onderhoud conform eis 96
A3: Stationstraat 13 E | B3: 6411 NH | C3: Heerlen | D3: vrieskast | E3: Electrolux | F3: V1MGBTHC | G3: 40914
A4: Stationstraat 13 E | B4: 6411 NH | C4: Heerlen | D4: Koelkast | E4: Gram | F4: PLUS K600 RSG C 4N | G4: 36526
A5: Stationstraat 13 E | B5: 6411 NH | C5: Heerlen | D5: vrieskast | E5: Liebherr | F5: GSS 3626 INDEX 25 B | G5: 36526 | L5: Hoofdaannemer
A6: Stationstraat 13 E | B6: 6411 NH | C6: Heerlen | D6: vrieskast | E6: Liebherr | F6: GMP 4156 | G6: 36526 | L6: Onderaannemer
A7: Stationstraat 13 E | B7: 6411 NH | C7: Heerlen | D7: Magnetron | E7: Panasonic | F7: NE-1840
A8: Stationstraat 13 E | B8: 6411 NH | C8: Heerlen | D8: Oven | E8: Devapo | F8: Junior 28 | G8: 45279
A9: Stationstraat 13 E | B9: 6411 NH | C9: Heerlen | D9: vrieskast | E9: HOSHIZAKI | G9: 45344
A10: Pr. Bisschopsingel 53 | B10: 6212 AB | C10: Maastricht | D10: Contactgrill | E10: Caterchef | F10: Solo-Grande (gegroefd/gegroefd) | G10: 42128.083
A11: Pr. Bisschopsingel 53 | B11: 6212 AB | C11: Maastricht | D11: Friteuse (Electrisch) | E11: Alpeninox | F11: 174503 | G11: 34818.083
A12: Pr. Bisschopsingel 53 | B12: 6212 AB | C12: Maastricht | D12: Bakplaat | E12: Alpeninox | F12: 174273 | G12: 34818.083
A13: Pr. Bisschopsingel 53 | B13: 6212 AB | C13: Maastricht | D13: Magnetron | E13: Amana | F13: RFS511MP | G13: 31168.083
A14: Pr. Bisschopsingel 53 | B14: 6212 AB | C14: Maastricht | D14: Oven | E14: Convotherm | F14: AR 28 | G14: 34821.083
A15: Pr. Bisschopsingel 53 | B15: 6212 AB | C15: Maastricht | D15: Koelkast | E15: Jumbo | F15: ABX500PV Jumbo | G15: 34821
A16: Pr. Bisschopsingel 53 | B16: 6212 AB | C16: Maastricht | D16: Koelkast | E16: Liebherr | F16: UKS 5000 | G16: 34821
A17: Pr. Bisschopsingel 53 | B17: 6212 AB | C17: Maastricht | D17: vrieskast | E17: Liebherr | G17: 34821.083
A18: Pr. Bisschopsingel 53 | B18: 6212 AB | C18: Maastricht | D18: Kookplaat (Keramisch) | E18: Alpeninox | F18: 174008 003 | G18: 34818.083
A19: Pr. Bisschopsingel 53 | B19: 6212 AB | C19: Maastricht | D19: Warmtebrug | G19: 36645.083
A20: Pr. Bisschopsingel 53 | B20: 6212 AB | C20: Maastricht | D20: Magnetron | E20: Panasonic | F20: NE-2143-2 | G20: 41975.042
A21: Pr. Bisschopsingel 53 | B21: 6212 AB | C21: Maastricht | D21: Magnetron | E21: Scharp | G21: 34821.083
A22: Pr. Bisschopsingel 53 | B22: 6212 AB | C22: Maastricht | D22: Koelkast | E22: Whirlpool | F22: RE116A | G22: 38475.083
A23: Pr. Bisschopsingel 53 | B23: 6212 AB | C23: Maastricht | D23: Magnetron | E23: Panasonic | F23: NE-2143-2 | G23: 41760
A24: Pr. Bisschopsingel 53 | B24: 6212 AB | C24: Maastricht | D24: Magnetron | E24: Panasonic | F24: NE-2143-2 | G24: 41766.083
A25: Pr. Bisschopsingel 53 | B25: 6212 AB | C25: Maastricht | D25: vrieskast | E25: ILSA | F25: AH071002 | G25: 34829
A26: Pr. Bisschopsingel 53 | B26: 6212 AB | C26: Maastricht | D26: vrieskast | E26: Liebherr | G26: 34821.083
A27: Pr. Bisschopsingel 53 | B27: 6212 AB | C27: Maastricht | D27: Vaatwasmachine (Voorlader) | E27: Miele | F27: G 6000 SCU Jubilee | G27: 43353.083
A28: Pr. Bisschopsingel 53 | B28: 6212 AB | C28: Maastricht | D28: Vaatwasmachine (Voorlader) | E28: Miele | F28: G 6000 SCU Jubilee | G28: 43353.083
A29: Pr. Bisschopsingel 53 | B29: 6212 AB | C29: Maastricht | D29: Bain marie | G29: 36645.083
A30: Pr. Bisschopsingel 53 | B30: 6212 AB | C30: Maastricht | D30: Bain marie | G30: 36645.083
A31: Pr. Bisschopsingel 53 | B31: 6212 AB | C31: Maastricht | D31: Friteuse (Electrisch) | E31: Alpeninox | F31: 174504 | G31: 34715.042
A32: Pr. Bisschopsingel 53 | B32: 6212 AB | C32: Maastricht | D32: Vaatwasmachine (Doorschuiver) | E32: Comenda | F32: PC09 CRC | G32: 43495.042
A33: Pr. Bisschopsingel 53 | B33: 6212 AB | C33: Maastricht | D33: Wandkoeling | E33: Mafirol | F33: Cronus 1250FV L-C (standaard) | G33: 43584
A34: Pr. Bisschopsingel 53 | B34: 6212 AB | C34: Maastricht | D34: Koelkast | E34: Liebherr
A35: Pr. Bisschopsingel 53 | B35: 6212 AB | C35: Maastricht | D35: vrieskast | E35: Sagi | F35: FD70BT | G35: 44176.042
A36: Pr. Bisschopsingel 53 | B36: 6212 AB | C36: Maastricht | D36: vrieskast | E36: Sagi | F36: FD150BT | G36: 44181
A37: Pr. Bisschopsingel 53 | B37: 6212 AB | C37: Maastricht | D37: Oven | E37: Caterchef | G37: 43328
A38: Pr. Bisschopsingel 53 | B38: 6212 AB | C38: Maastricht | D38: Oven | E38: Caterchef | G38: 44562.042
A39: Pr. Bisschopsingel 53 | B39: 6212 AB | C39: Maastricht | D39: Magnetron | E39: Panasonic | F39: NE-2143-2 | G39: 44564.042
A40: Pr. Bisschopsingel 53 | B40: 6212 AB | C40: Maastricht | D40: vrieskast | E40: Sagi | F40: FD7BT | G40: 44835.083
A41: Pr. Bisschopsingel 53 | B41: 6212 AB | C41: Maastricht | D41: Koelkast | E41: Sagi | F41: FD7T | G41: 44981.042
A42: Pr. Bisschopsingel 53 | B42: 6212 AB | C42: Maastricht | D42: Koelkast | E42: Liebherr | F42: 0 | G42: 45154.083
A43: Pr. Bisschopsingel 53 | B43: 6212 AB | C43: Maastricht | D43: Magnetron | E43: Panasonic | F43: NE-C1475 | G43: 45152.083
A44: Pr. Bisschopsingel 53 | B44: 6212 AB | C44: Maastricht | D44: Vrieskist | E44: Liebherr | G44: 45204
A45: Pr. Bisschopsingel 53 | B45: 6212 AB | C45: Maastricht | D45: Oven | G45: 45279.042
A46: Pr. Bisschopsingel 53 | B46: 6212 AB | C46: Maastricht | D46: Oven | E46: Devapo | F46: Junior 28 | G46: 45279.042
A47: Andersonweg 50 | B47: 6041 JE | C47: Roermond | D47: Koelkast | E47: Gram | F47: K 410 LG L1 6W | G47: 43344.083
A48: Andersonweg 50 | B48: 6041 JE | C48: Roermond | D48: vrieskast | E48: Liebherr | G48: 40179.042
A49: Andersonweg 50 | B49: 6041 JE | C49: Roermond | D49: vrieskast | E49: Liebherr | F49: GG 5210 Index 20 / 001 | G49: 40179
A50: Andersonweg 50 | B50: 6041 JE | C50: Roermond | D50: Kookplaat (Keramisch) | E50: Siemens | F50: HSVM52402 | G50: 40179.042
A51: Andersonweg 50 | B51: 6041 JE | C51: Roermond | D51: Magnetron | E51: Panasonic | F51: NE-1037 | G51: 43748.083
A52: Andersonweg 50 | B52: 6041 JE | C52: Roermond | D52: vrieskast | E52: Catertech | G52: 43930.083
A53: Andersonweg 50 | B53: 6041 JE | C53: Roermond | D53: Oven | E53: Devapo | F53: Junior 28 | G53: 45279.042
A54: Rijnbeekstraat 1 | B54: 5913 GA | C54: Venlo | D54: Vriescel | E54: COLDTRADE | F54: VAN ZUTPHEN SERVICE NR. 11654
A55: Rijnbeekstraat 1 | B55: 5913 GA | C55: Venlo | D55: Warmtebrug | E55: ANBO | F55: ID NR 007 | G55: 36526.042
A56: Rijnbeekstraat 1 | B56: 5913 GA | C56: Venlo | D56: Koffiemachine | E56: Bravilor | F56: B10 | G56: 34335.042
A57: Rijnbeekstraat 1 | B57: 5913 GA | C57: Venlo | D57: Koffiecontainer | E57: Bravilor | G57: 36526.042
A58: Rijnbeekstraat 1 | B58: 5913 GA | C58: Venlo | D58: vrieskast | E58: Catertech | F58: SMARTTLINE CF8-142-P | G58: 41640
A59: Rijnbeekstraat 1 | B59: 5913 GA | C59: Venlo | D59: Bain marie | E59: Groku | F59: 1/1 GN | G59: 36526.042
A60: Rijnbeekstraat 1 | B60: 5913 GA | C60: Venlo | D60: Bain marie | E60: Groku | F60: 1/1 GN | G60: 36526.042
A61: Rijnbeekstraat 1 | B61: 5913 GA | C61: Venlo | D61: Bain marie | E61: Groku | F61: 1/1 GN | G61: 36526.042
A62: Rijnbeekstraat 1 | B62: 5913 GA | C62: Venlo | D62: Kookplaat (Keramisch) | E62: Pelgrim | F62: 2E | G62: 40179.042
A63: Rijnbeekstraat 1 | B63: 5913 GA | C63: Venlo | D63: vrieskast | E63: Catertech | F63: SMARTTLINE CF8-71-P | G63: 41645
A64: Rijnbeekstraat 1 | B64: 5913 GA | C64: Venlo | D64: Kookplaat (Gas) | E64: Catertech | F64: IR072M01-BO | G64: 42653.083
A65: Rijnbeekstraat 1 | B65: 5913 GA | C65: Venlo | D65: Bain marie | E65: Catertech | F65: BME71M02-BO | G65: 42653.083
A66: Rijnbeekstraat 1 | B66: 5913 GA | C66: Venlo | D66: Koffiemachine | E66: Bravilor | G66: 36809.083
A67: Rijnbeekstraat 1 | B67: 5913 GA | C67: Venlo | D67: Koelkast | E67: Catertech | G67: 42370
A68: Rijnbeekstraat 1 | B68: 5913 GA | C68: Venlo | D68: Koelkast | E68: Catertech
A69: Rijnbeekstraat 1 | B69: 5913 GA | C69: Venlo | D69: Koelkast | E69: Catertech | F69: CNB-142-PP
A70: Rijnbeekstraat 1 | B70: 5913 GA | C70: Venlo | D70: Schilferijsmachine | E70: Hoshizaki | F70: FM-150KE-50-N
A71: Rijnbeekstraat 1 | B71: 5913 GA | C71: Venlo | D71: Sinaasappelpers | E71: Zumex | F71: Versatile Pro | G71: 41223.042
A72: Rijnbeekstraat 1 | B72: 5913 GA | C72: Venlo | D72: Bakplaat | E72: Kuppersbusch | F72: OEB-232
A73: Rijnbeekstraat 1 | B73: 5913 GA | C73: Venlo | D73: Friteuse (Electrisch) | E73: Kuppersbusch | F73: OEF-224
A74: Rijnbeekstraat 1 | B74: 5913 GA | C74: Venlo | D74: Friteuse (Electrisch) | E74: Kuppersbusch | F74: OEF-224
A75: Rijnbeekstraat 1 | B75: 5913 GA | C75: Venlo | D75: Combisteamer (Electrisch) | E75: Rational | F75: CMP101 | G75: 42980.083
A76: Rijnbeekstraat 1 | B76: 5913 GA | C76: Venlo | D76: Waterontharder | E76: Lubron | F76: Proline Classic (Koudwater) | G76: 43133.042
A77: Rijnbeekstraat 1 | B77: 5913 GA | C77: Venlo | D77: Vaatwasmachine (Doorschuiver) | E77: Catertech | F77: CTV-DS111 | G77: 42037.042
A78: Rijnbeekstraat 1 | B78: 5913 GA | C78: Venlo | D78: Soupwell | E78: Mobile Containing | F78: 081328
A79: Rijnbeekstraat 1 | B79: 5913 GA | C79: Venlo | D79: Soupwell | E79: Hofland | F79: RDS-57HUS | G79: 41922.083
A80: Rijnbeekstraat 1 | B80: 5913 GA | C80: Venlo | D80: Oven | E80: Kuppersbusch | F80: 72E N C 05 AG
A81: Rijnbeekstraat 1 | B81: 5913 GA | C81: Venlo | D81: vrieskast | E81: Liebherr
A82: Rijnbeekstraat 1 | B82: 5913 GA | C82: Venlo | D82: Koelvitrine | E82: Fogal | F82: ALASKA 120-Q | G82: 42370
A83: Rijnbeekstraat 1 | B83: 5913 GA | C83: Venlo | D83: Oven | E83: Devapo | F83: Junior 28 | G83: 45279
A84: Rijnbeekstraat 1 | B84: 5913 GA | C84: Venlo | D84: Friteuse (Electrisch) | E84: Kuppersbusch | F84: OEF-224
A85: Rijnbeekstraat 1 | B85: 5913 GA | C85: Venlo | D85: Contactgrill | E85: Caterchef | F85: 688405
A86: Rijnbeekstraat 1 | B86: 5913 GA | C86: Venlo | D86: Contactgrill | E86: Caterchef | F86: 688405
H87: =SUM(H3:H86) -> 0 | I87: =SUM(I3:I86) -> 0

Sheet 3 - Eenheid Oost-Brabant
A1: Elementenlijst eenheid Oost-Brabant | H1: CC-1 | I1: CC-2
A2: Adres | B2: Postcode (locatie) | C2: Plaats (locatie) | D2: Omschrijving | E2: Merk | F2: Type | G2: Bouwjaar | H2: Prijs Nulmeting conform eis 94 | I2: Prijs onderhoud conform eis 96
A3: Mathildelaan 4 Incl. cellencomplex | B3: 5611 BL | C3: Eindhoven | D3: Warmtebrug | E3: Groku | G3: 35796
A4: Mathildelaan 4 Incl. cellencomplex | B4: 5611 BL | C4: Eindhoven | D4: Wandkoeling | E4: Groku | F4: Separaat | G4: 41640
A5: Mathildelaan 4 Incl. cellencomplex | B5: 5611 BL | C5: Eindhoven | D5: Kookplaat (Keramisch) | E5: Kuppersbusch | G5: 36741 | L5: Hoofdaannemer
A6: Mathildelaan 4 Incl. cellencomplex | B6: 5611 BL | C6: Eindhoven | D6: Salamander | G6: 38749 | L6: Onderaannemer
A7: Mathildelaan 4 Incl. cellencomplex | B7: 5611 BL | C7: Eindhoven | D7: Centraal koelsysteem | E7: COPELAND | G7: 41640
A8: Mathildelaan 4 Incl. cellencomplex | B8: 5611 BL | C8: Eindhoven | D8: Koelbak | G8: 42736
A9: Mathildelaan 4 Incl. cellencomplex | B9: 5611 BL | C9: Eindhoven | D9: Koffiecontainer | E9: Bravilor | G9: 35796
A10: Mathildelaan 4 Incl. cellencomplex | B10: 5611 BL | C10: Eindhoven | D10: Koffiecontainer | E10: Bravilor | G10: 35796
A11: Mathildelaan 4 Incl. cellencomplex | B11: 5611 BL | C11: Eindhoven | D11: Koffiemachine | E11: Bravilor | F11: B20HW | G11: 40179
A12: Mathildelaan 4 Incl. cellencomplex | B12: 5611 BL | C12: Eindhoven | D12: Koelwerkbank | E12: Gram | F12: KB1507 A | G12: 36892
A13: Mathildelaan 4 Incl. cellencomplex | B13: 5611 BL | C13: Eindhoven | D13: Contactgrill | E13: Hendi | F13: 263662 | G13: 35796
A14: Mathildelaan 4 Incl. cellencomplex | B14: 5611 BL | C14: Eindhoven | D14: Bakplaat | G14: 35796
A15: Mathildelaan 4 Incl. cellencomplex | B15: 5611 BL | C15: Eindhoven | D15: Friteuse (Electrisch) | E15: Kuppersbusch | F15: TEF-224 | G15: 40179
A16: Mathildelaan 4 Incl. cellencomplex | B16: 5611 BL | C16: Eindhoven | D16: Friteuse (Electrisch) | E16: Kuppersbusch | F16: TEF-224 | G16: 40179
A17: Mathildelaan 4 Incl. cellencomplex | B17: 5611 BL | C17: Eindhoven | D17: Braadslede | E17: Kuppersbusch | F17: KG0301 | G17: 35796.042
A18: Mathildelaan 4 Incl. cellencomplex | B18: 5611 BL | C18: Eindhoven | D18: Kookketel | E18: Kuppersbusch | G18: 35796
A19: Mathildelaan 4 Incl. cellencomplex | B19: 5611 BL | C19: Eindhoven | D19: Koelvitrine | E19: Groku | G19: 41640
A20: Mathildelaan 4 Incl. cellencomplex | B20: 5611 BL | C20: Eindhoven | D20: Magnetron | E20: Panasonic | F20: NE-1656 | G20: 40914
A21: Mathildelaan 4 Incl. cellencomplex | B21: 5611 BL | C21: Eindhoven | D21: Kookplaat (Keramisch) | E21: Roede | G21: 35796
A22: Mathildelaan 4 Incl. cellencomplex | B22: 5611 BL | C22: Eindhoven | D22: Oven | E22: Unox | F22: XF030 | G22: 38875.083
A23: Mathildelaan 4 Incl. cellencomplex | B23: 5611 BL | C23: Eindhoven | D23: Oven | E23: Unox | F23: XFC030 | G23: 38724
A24: Mathildelaan 4 Incl. cellencomplex | B24: 5611 BL | C24: Eindhoven | D24: vrieskast | G24: 42736
A25: Mathildelaan 4 Incl. cellencomplex | B25: 5611 BL | C25: Eindhoven | D25: Oven | E25: Unox | F25: XF030 | G25: 38875
A26: Mathildelaan 4 Incl. cellencomplex | B26: 5611 BL | C26: Eindhoven | D26: Oven | G26: 38875
A27: Mathildelaan 4 Incl. cellencomplex | B27: 5611 BL | C27: Eindhoven | D27: vrieskast | G27: 35796.042
A28: Mathildelaan 4 Incl. cellencomplex | B28: 5611 BL | C28: Eindhoven | D28: Koelwerkbank | E28: Gram | F28: KB1507 A | G28: 39083
A29: Mathildelaan 4 Incl. cellencomplex | B29: 5611 BL | C29: Eindhoven | D29: Warmtebrug | E29: Groku
A30: Mathildelaan 4 Incl. cellencomplex | B30: 5611 BL | C30: Eindhoven | D30: Warmtebrug | E30: Groku
A31: Mathildelaan 4 Incl. cellencomplex | B31: 5611 BL | C31: Eindhoven | D31: Oven | E31: Leventi | F31: Combimat MK3.1 MM 3DI 6PL
A32: Mathildelaan 4 Incl. cellencomplex | B32: 5611 BL | C32: Eindhoven | D32: Koelkast | E32: Liebherr | G32: 43067
A33: Mathildelaan 4 Incl. cellencomplex | B33: 5611 BL | C33: Eindhoven | D33: Koelkast | E33: Liebherr | G33: 43547
A34: Mathildelaan 4 Incl. cellencomplex | B34: 5611 BL | C34: Eindhoven | D34: Bain marie | E34: Hupfer | F34: SPA/EB-3 | G34: 31835
A35: Mathildelaan 4 Incl. cellencomplex | B35: 5611 BL | C35: Eindhoven | D35: Waterontharder | G35: 44378
A36: Mathildelaan 4 Incl. cellencomplex | B36: 5611 BL | C36: Eindhoven | D36: vrieskast | E36: Sagi | F36: FD150BT | G36: 44562
A37: Mathildelaan 4 Incl. cellencomplex | B37: 5611 BL | C37: Eindhoven | D37: vrieskast | E37: Sagi | F37: FD15BT | G37: 44866
A38: Mathildelaan 4 Incl. cellencomplex | B38: 5611 BL | C38: Eindhoven | D38: Vaatwasmachine (Korventransport) | E38: Meiko | F38: KM250 | G38: 45555
A39: Mathildelaan 4 Incl. cellencomplex | B39: 5611 BL | C39: Eindhoven | D39: Koelcel | E39: POLY | G39: 44927
A40: Mathildelaan 4 Incl. cellencomplex | B40: 5611 BL | C40: Eindhoven | D40: Koelcel | E40: POLY | G40: 44927
A41: Beverspijken 1 | B41: 5221 EE | C41: 's-Hertogenbosch | D41: Kookplaat (Keramisch) | E41: Mareno | G41: 41640.042
A42: Beverspijken 1 | B42: 5221 EE | C42: 's-Hertogenbosch | D42: Oven | E42: Alphatech | F42: REC051M | G42: 41640.042
A43: Beverspijken 1 | B43: 5221 EE | C43: 's-Hertogenbosch | D43: Doorstroomzuil | E43: Animo | G43: 41640.042
A44: Beverspijken 1 | B44: 5221 EE | C44: 's-Hertogenbosch | D44: Koffiecontainer | G44: 41640.042
A45: Beverspijken 1 | B45: 5221 EE | C45: 's-Hertogenbosch | D45: Bain marie | G45: 41640.042
A46: Beverspijken 1 | B46: 5221 EE | C46: 's-Hertogenbosch | D46: vrieskast | E46: Gram | F46: PLUS F 600 | G46: 39452.042
A47: Beverspijken 1 | B47: 5221 EE | C47: 's-Hertogenbosch | D47: vrieskast | E47: Gram | F47: Plus F 660 RSG 5N | G47: 38723
A48: Beverspijken 1 | B48: 5221 EE | C48: 's-Hertogenbosch | D48: Koffiecontainer | G48: 41640.042
A49: Beverspijken 1 | B49: 5221 EE | C49: 's-Hertogenbosch | D49: Bakplaat | E49: Mareno | G49: 41640.042
A50: Beverspijken 1 | B50: 5221 EE | C50: 's-Hertogenbosch | D50: Bain marie | G50: 41640.042
A51: Beverspijken 1 | B51: 5221 EE | C51: 's-Hertogenbosch | D51: Koelvitrine | E51: AKE | F51: GASTRO GR-145-70-Z K | G51: 41640.042
A52: Beverspijken 1 | B52: 5221 EE | C52: 's-Hertogenbosch | D52: Saladiere | E52: AKE | G52: 41640.042
A53: Beverspijken 1 | B53: 5221 EE | C53: 's-Hertogenbosch | D53: Warmtebrug | G53: 41640.042
A54: Beverspijken 1 | B54: 5221 EE | C54: 's-Hertogenbosch | D54: Vaatwasmachine (Doorschuiver) | E54: Rhima | F54: WD-6 | G54: 41640
A55: Beverspijken 1 | B55: 5221 EE | C55: 's-Hertogenbosch | D55: Waterontharder | E55: Lubron | F55: Softstar Classic (Warmwater) | G55: 41640.042
A56: Beverspijken 1 | B56: 5221 EE | C56: 's-Hertogenbosch | D56: Magnetron | E56: Whirlpool | F56: JT 378/SL | G56: 41640.042
A57: Beverspijken 1 | B57: 5221 EE | C57: 's-Hertogenbosch | D57: vrieskast | E57: Liebherr | F57: GGV 5860 / INDEX 40 | G57: 41275.042
A58: Beverspijken 1 | B58: 5221 EE | C58: 's-Hertogenbosch | D58: Friteuse (Electrisch) | E58: Mareno | F58: F66ER
A59: Beverspijken 1 | B59: 5221 EE | C59: 's-Hertogenbosch | D59: Koelunit
A60: Beverspijken 1 | B60: 5221 EE | C60: 's-Hertogenbosch | D60: Koelkast | E60: Gram | F60: Gram | G60: 45215
A61: Beverspijken 1 | B61: 5221 EE | C61: 's-Hertogenbosch | D61: vrieskast | E61: Sagi | F61: FD7BT | G61: 44735
A62: Beverspijken 1 | B62: 5221 EE | C62: 's-Hertogenbosch | D62: Wandkoeling | E62: Mafirol | G62: 43831
A63: Beverspijken 1 | B63: 5221 EE | C63: 's-Hertogenbosch | D63: Koelkast | E63: Gram | G63: 44911.042
A64: Vogelstraat 41 Incl. cellencomplex | B64: 5212 VL | C64: 's-Hertogenbosch | D64: Bain marie | E64: Groku | F64: 3/1 GN
A65: Vogelstraat 41 Incl. cellencomplex | B65: 5212 VL | C65: 's-Hertogenbosch | D65: Warmtebrug | E65: Olbro
A66: Vogelstraat 41 Incl. cellencomplex | B66: 5212 VL | C66: 's-Hertogenbosch | D66: Koelkast | E66: Liebherr | F66: KP 3620 INDEX 21C/00 | G66: 40575.042
A67: Vogelstraat 41 Incl. cellencomplex | B67: 5212 VL | C67: 's-Hertogenbosch | D67: Friteuse (Electrisch) | E67: Mareno | G67: 41306.042
A68: Vogelstraat 41 Incl. cellencomplex | B68: 5212 VL | C68: 's-Hertogenbosch | D68: Kookplaat (Keramisch) | E68: Mareno | G68: 41306.042
A69: Vogelstraat 41 Incl. cellencomplex | B69: 5212 VL | C69: 's-Hertogenbosch | D69: Kookplaat (Keramisch) | E69: Mareno | G69: 41306.042
A70: Vogelstraat 41 Incl. cellencomplex | B70: 5212 VL | C70: 's-Hertogenbosch | D70: Vaatwasmachine (Doorschuiver) | E70: Rhima | F70: WD-6 | G70: 41280.042
A71: Vogelstraat 41 Incl. cellencomplex | B71: 5212 VL | C71: 's-Hertogenbosch | D71: Waterontharder | E71: Lubron | F71: Softstar Classic (Koudwater) | G71: 39938.083
A72: Vogelstraat 41 Incl. cellencomplex | B72: 5212 VL | C72: 's-Hertogenbosch | D72: Magnetron | E72: Panasonic | F72: NE-1840 | G72: 43221.083
A73: Vogelstraat 41 Incl. cellencomplex | B73: 5212 VL | C73: 's-Hertogenbosch | D73: Combisteamer (Electrisch) | E73: Rational | F73: CMP61
A74: Vogelstraat 41 Incl. cellencomplex | B74: 5212 VL | C74: 's-Hertogenbosch | D74: Magnetron | E74: Whirlpool | F74: JT 378
A75: Vogelstraat 41 Incl. cellencomplex | B75: 5212 VL | C75: 's-Hertogenbosch | D75: Koelvitrine | E75: AKE
A76: Vogelstraat 41 Incl. cellencomplex | B76: 5212 VL | C76: 's-Hertogenbosch | D76: Koelvitrine | E76: AKE | F76: GASTRO GR-145-70-Z K | G76: 37257
A77: Vogelstraat 41 Incl. cellencomplex | B77: 5212 VL | C77: 's-Hertogenbosch | D77: Waterontharder | E77: Lubron | F77: Proline SXT2 (Koudwater) | G77: 43565.083
A78: Vogelstraat 41 Incl. cellencomplex | B78: 5212 VL | C78: 's-Hertogenbosch | D78: Contactgrill | E78: Caterchef | F78: GH-811EA | G78: 42125.083
A79: Vogelstraat 41 Incl. cellencomplex | B79: 5212 VL | C79: 's-Hertogenbosch | D79: Koelkast | E79: Gram | F79: ECOPLUS K140 CC | G79: 44348
A80: Vogelstraat 41 Incl. cellencomplex | B80: 5212 VL | C80: 's-Hertogenbosch | D80: Vriezer | E80: Gram | F80: ECOPLUS F140CC | G80: 44348.083
A81: Vogelstraat 41 Incl. cellencomplex | B81: 5212 VL | C81: 's-Hertogenbosch | D81: Vriezer | E81: Gram | F81: ECOPLUS F70CC | G81: 44348
A82: Vogelstraat 41 Incl. cellencomplex | B82: 5212 VL | C82: 's-Hertogenbosch | D82: Koelkast | E82: Sagi | F82: FD7T | G82: 44378.083
A83: Vogelstraat 41 Incl. cellencomplex | B83: 5212 VL | C83: 's-Hertogenbosch | D83: vrieskast | E83: Sagi | F83: FD15BT | G83: 44866
A84: Vogelstraat 41 Incl. cellencomplex | B84: 5212 VL | C84: 's-Hertogenbosch | D84: vrieskast | E84: Sagi | F84: FD15BT | G84: 44896.042
A85: Vogelstraat 41 Incl. cellencomplex | B85: 5212 VL | C85: 's-Hertogenbosch | D85: Oven | E85: Unox | G85: 45292
A86: Vijfkamplaan 31 | B86: 5624 EB | C86: Eindhoven | D86: Wandkoeling | E86: Fogal | F86: Alaska | G86: 39448
A87: Vijfkamplaan 31 | B87: 5624 EB | C87: Eindhoven | D87: Combisteamer (Electrisch) | E87: Rational | F87: SCC101 | G87: 39448
A88: Vijfkamplaan 31 | B88: 5624 EB | C88: Eindhoven | D88: Vriescel | E88: onbekend | F88: CEL IN CEL | G88: 39448
A89: Vijfkamplaan 31 | B89: 5624 EB | C89: Eindhoven | D89: Bain marie | E89: Metos | F89: 3/1 GN | G89: 39448.042
A90: Vijfkamplaan 31 | B90: 5624 EB | C90: Eindhoven | D90: Bain marie | E90: Metos | F90: 3/1 GN | G90: 39448.042
A91: Vijfkamplaan 31 | B91: 5624 EB | C91: Eindhoven | D91: Koelcel | E91: Celltherm | G91: 39448
A92: Vijfkamplaan 31 | B92: 5624 EB | C92: Eindhoven | D92: MPX | E92: ONBEKEND | F92: 3 X NJ9238GS | G92: 39448
A93: Vijfkamplaan 31 | B93: 5624 EB | C93: Eindhoven | D93: Waterontharder | E93: Lubron | F93: WW100 | G93: 39724
A94: Vijfkamplaan 31 | B94: 5624 EB | C94: Eindhoven | D94: Warmtebrug | E94: Metos | G94: 39448.042
A95: Vijfkamplaan 31 | B95: 5624 EB | C95: Eindhoven | D95: Warmtebrug | E95: Metos | G95: 39448.042
A96: Vijfkamplaan 31 | B96: 5624 EB | C96: Eindhoven | D96: Waterontharder | E96: Lubron | F96: T-100 | G96: 39753
A97: Vijfkamplaan 31 | B97: 5624 EB | C97: Eindhoven | D97: Bakplaat | E97: Mareno | F97: IEB-430 | G97: 39448.042
A98: Vijfkamplaan 31 | B98: 5624 EB | C98: Eindhoven | D98: Friteuse (Electrisch) | E98: Kuppersbusch | F98: IEF-124 | G98: 39448.042
A99: Vijfkamplaan 31 | B99: 5624 EB | C99: Eindhoven | D99: Friteuse (Electrisch) | E99: Kuppersbusch | F99: IEF-124 | G99: 39448
A100: Vijfkamplaan 31 | B100: 5624 EB | C100: Eindhoven | D100: Koelwerkbank | E100: Metos | F100: KSTF 04 TN | G100: 39448
...

Sheet 4 - Eenheid Rotterdam
A1: Elementenlijst eenheid Rotterdam | H1: CC-1 | I1: CC-2
A2: Adres | B2: Postcode (locatie) | C2: Plaats (locatie) | D2: Omschrijving | E2: Merk | F2: Type | G2: Bouwjaar | H2: Prijs Nulmeting conform eis 94 | I2: Prijs onderhoud conform eis 96
A3: Slotlaan 119 Incl. cellencomplex | B3: 2902 AL | C3: Capelle aan den IJssel | D3: Magnetron | E3: Etna | F3: HH | G3: 39044.042
A4: Slotlaan 119 Incl. cellencomplex | B4: 2902 AL | C4: Capelle aan den IJssel | D4: vrieskast | E4: Liebherr | F4: GNP 2313-21 | G4: 43248
A5: Slotlaan 119 Incl. cellencomplex | B5: 2902 AL | C5: Capelle aan den IJssel | D5: Koelkast | E5: Liebherr | K5: Hoofdaannemer
A6: Slotlaan 119 Incl. cellencomplex | B6: 2902 AL | C6: Capelle aan den IJssel | D6: Vriezer | E6: Sagi | F6: FD70BT-OP141 | G6: 44105 | K6: Onderaannemer
A7: Slotlaan 119 Incl. cellencomplex | B7: 2902 AL | C7: Capelle aan den IJssel | D7: Vriezer | E7: Sagi | F7: FD70BT-OP141 | G7: 44105
A8: Slotlaan 119 Incl. cellencomplex | B8: 2902 AL | C8: Capelle aan den IJssel | D8: koelkast dubbel | E8: sagi | F8: FD15T-OP14 | G8: 44489
A9: Slotlaan 119 Incl. cellencomplex | B9: 2902 AL | C9: Capelle aan den IJssel | D9: Oven | E9: Salvis | G9: 44927
A10: Slotlaan 119 Incl. cellencomplex | B10: 2902 AL | C10: Capelle aan den IJssel | D10: Magnetron
A11: Slotlaan 119 Incl. cellencomplex | B11: 2902 AL | C11: Capelle aan den IJssel | D11: Koelkast
A12: Overkampweg 109 Incl. cellencomplex | B12: 3318 AP | C12: Dordrecht | D12: Bain marie | E12: Olbro | G12: 41641.042
A13: Overkampweg 109 Incl. cellencomplex | B13: 3318 AP | C13: Dordrecht | D13: Koelwerkbank | E13: POLARIS | F13: TRECO 03 | G13: 41063.083
A14: Overkampweg 109 Incl. cellencomplex | B14: 3318 AP | C14: Dordrecht | D14: Oven | E14: Culion | F14: BTC525 | G14: 39083.042
A15: Overkampweg 109 Incl. cellencomplex | B15: 3318 AP | C15: Dordrecht | D15: Waterontharder | E15: Lubron | F15: Miniline | G15: 39083.042
A16: Overkampweg 109 Incl. cellencomplex | B16: 3318 AP | C16: Dordrecht | D16: Vaatwasmachine (Doorschuiver) | E16: Meiko | F16: Ecostar 545 D | G16: 39083.042
A17: Overkampweg 109 Incl. cellencomplex | B17: 3318 AP | C17: Dordrecht | D17: Bain marie | E17: Olbro | G17: 39083.042
A18: Overkampweg 109 Incl. cellencomplex | B18: 3318 AP | C18: Dordrecht | D18: Warmtebrug | E18: Olbro | G18: 39083.042
A19: Overkampweg 109 Incl. cellencomplex | B19: 3318 AP | C19: Dordrecht | D19: Kookplaat (Keramisch) | E19: Silko | G19: 39083.042
A20: Overkampweg 109 Incl. cellencomplex | B20: 3318 AP | C20: Dordrecht | D20: Koelkast | E20: Gram | F20: K410 | G20: 42266.083
A21: Overkampweg 109 Incl. cellencomplex | B21: 3318 AP | C21: Dordrecht | D21: Bakplaat | E21: Silko | F21: BE62TLL | G21: 39083.042
A22: Overkampweg 109 Incl. cellencomplex | B22: 3318 AP | C22: Dordrecht | D22: Magnetron | E22: LG | G22: 41731.083
A23: Overkampweg 109 Incl. cellencomplex | B23: 3318 AP | C23: Dordrecht | D23: Koelvitrine | E23: Nordcap | F23: OR-112-70-E | G23: 43580
A24: Overkampweg 109 Incl. cellencomplex | B24: 3318 AP | C24: Dordrecht | D24: Koffiemachine | E24: Animo | F24: CB10 | G24: 43471
A25: Overkampweg 109 Incl. cellencomplex | B25: 3318 AP | C25: Dordrecht | D25: Friteuse (Electrisch) | E25: Bartscher | F25: 650 B600 2x10L | G25: 43706
A26: Overkampweg 109 Incl. cellencomplex | B26: 3318 AP | C26: Dordrecht | D26: Contactgrill | E26: Caterchef | G26: 43733.083
A27: Overkampweg 109 Incl. cellencomplex | B27: 3318 AP | C27: Dordrecht | D27: Oven | E27: Unox | G27: 44029.083
A28: Overkampweg 109 Incl. cellencomplex | B28: 3318 AP | C28: Dordrecht | D28: Oven | E28: Unox | G28: 44029.083
A29: Overkampweg 109 Incl. cellencomplex | B29: 3318 AP | C29: Dordrecht | D29: Koffiecontainer | E29: Animo | F29: CN10E | G29: 43471.042
A30: Overkampweg 109 Incl. cellencomplex | B30: 3318 AP | C30: Dordrecht | D30: Koelcel | E30: RDR Koeltechniek | G30: 45000
A31: Overkampweg 109 Incl. cellencomplex | B31: 3318 AP | C31: Dordrecht | D31: Vriescel | E31: RDR koeltechniek | G31: 45000.042
A32: Overkampweg 109 Incl. cellencomplex | B32: 3318 AP | C32: Dordrecht | D32: Waterkoker | G32: 45383
A33: Overkampweg 109 Incl. cellencomplex | B33: 3318 AP | C33: Dordrecht | D33: vrieskast | E33: Sagi | F33: FD7BT | G33: 45565.083
A34: Vissersdijk Beneden 2 | B34: 3319 GW | C34: Dordrecht | D34: Friteuse (Electrisch) | E34: Ambach | F34: EY2/40M | G34: 37043.083
A35: Vissersdijk Beneden 2 | B35: 3319 GW | C35: Dordrecht | D35: Kookplaat (Keramisch) | E35: Ambach | F35: ER70 | G35: 36892.042
A36: Vissersdijk Beneden 2 | B36: 3319 GW | C36: Dordrecht | D36: Koelcel | E36: ATA | F36: 0 | G36: 42005
A37: Vissersdijk Beneden 2 | B37: 3319 GW | C37: Dordrecht | D37: Doorstroomzuil | E37: BRAVILOR | F37: B102 | G37: 40179.042
A38: Vissersdijk Beneden 2 | B38: 3319 GW | C38: Dordrecht | D38: Koffiecontainer | E38: Bravilor | G38: 40179.042
A39: Vissersdijk Beneden 2 | B39: 3319 GW | C39: Dordrecht | D39: Koffiecontainer | E39: Bravilor | G39: 40179.042
A40: Vissersdijk Beneden 2 | B40: 3319 GW | C40: Dordrecht | D40: Bain marie | E40: Groku | G40: 36892.042
A41: Vissersdijk Beneden 2 | B41: 3319 GW | C41: Dordrecht | D41: Vaatwasmachine (Doorschuiver) | E41: Meiko | F41: DV80.2 | G41: 42420.042
A42: Vissersdijk Beneden 2 | B42: 3319 GW | C42: Dordrecht | D42: Bain marie | G42: 36892
A43: Vissersdijk Beneden 2 | B43: 3319 GW | C43: Dordrecht | D43: Koelwerkbank | E43: FRILUNOX | F43: TR57 GOLD | G43: 36892
A44: Vissersdijk Beneden 2 | B44: 3319 GW | C44: Dordrecht | D44: Magnetron | E44: Whirlpool | F44: GM 1502 E | G44: 36892.042
A45: Vissersdijk Beneden 2 | B45: 3319 GW | C45: Dordrecht | D45: Warmtebrug | E45: Groku | G45: 37043.083
A46: Vissersdijk Beneden 2 | B46: 3319 GW | C46: Dordrecht | D46: Warmtebrug | G46: 37043
A47: Vissersdijk Beneden 2 | B47: 3319 GW | C47: Dordrecht | D47: Oven | E47: Culion | F47: BTC525
A48: Vissersdijk Beneden 2 | B48: 3319 GW | C48: Dordrecht | D48: vrieskast | E48: Sagi | F48: FD70BT-OP141 | G48: 43630.083
A49: Vissersdijk Beneden 2 | B49: 3319 GW | C49: Dordrecht | D49: vrieskast | E49: Catertech | F49: AX071022-BO | G49: 43466.042
A50: Vissersdijk Beneden 2 | B50: 3319 GW | C50: Dordrecht | D50: Koelvitrine | G50: 36892
A51: Vissersdijk Beneden 2 | B51: 3319 GW | C51: Dordrecht | D51: vrieskast | E51: Polaris | F51: ARCO BT 70
A52: Vissersdijk Beneden 2 | B52: 3319 GW | C52: Dordrecht | D52: Oven | G52: 37987
A53: Vissersdijk Beneden 2 | B53: 3319 GW | C53: Dordrecht | D53: Bakplaat | E53: Ambach
A54: Vissersdijk Beneden 2 | B54: 3319 GW | C54: Dordrecht | D54: Waterontharder | E54: Lubron | F54: Softstar Classic (Koudwater) | G54: 44440.083
A55: Vissersdijk Beneden 2 | B55: 3319 GW | C55: Dordrecht | D55: Koelwerkbank | E55: Gram | G55: 45047
A56: Vissersdijk Beneden 2 | B56: 3319 GW | C56: Dordrecht | D56: Koelkast | E56: Sagi | G56: 45566
A57: Marten Meesweg 35 | B57: 3068 AV | C57: Rotterdam | D57: Kookplaat (Inductie) | E57: Ascobloc | G57: 42296
A58: Marten Meesweg 35 | B58: 3068 AV | C58: Rotterdam | D58: Vaatwasmachine (Korventransport) | E58: Rhima | F58: WD-153 | G58: 42528.083
A59: Marten Meesweg 35 | B59: 3068 AV | C59: Rotterdam | D59: Vriescel | E59: Vriesmann | F59: Onbekend | G59: 42887
A60: Marten Meesweg 35 | B60: 3068 AV | C60: Rotterdam | D60: Warmhoudplaat | E60: Groku | F60: 47460-111/A HG/WP
A61: Marten Meesweg 35 | B61: 3068 AV | C61: Rotterdam | D61: Koelcel | E61: Vriesmann | G61: 42887
A62: Marten Meesweg 35 | B62: 3068 AV | C62: Rotterdam | D62: Friteuse (Electrisch) | E62: Ascobloc | F62: IEF224 | G62: 42558
A63: Marten Meesweg 35 | B63: 3068 AV | C63: Rotterdam | D63: Wandkoeling | E63: Groku | G63: 42887
A64: Marten Meesweg 35 | B64: 3068 AV | C64: Rotterdam | D64: Lowerator (Dienbladen) | G64: 42887.083
A65: Marten Meesweg 35 | B65: 3068 AV | C65: Rotterdam | D65: Lowerator (Dienbladen) | G65: 42887.083
A66: Marten Meesweg 35 | B66: 3068 AV | C66: Rotterdam | D66: Lowerator (Dienbladen) | G66: 42887.083
A67: Marten Meesweg 35 | B67: 3068 AV | C67: Rotterdam | D67: Lowerator (Dienbladen) | G67: 42887
A68: Marten Meesweg 35 | B68: 3068 AV | C68: Rotterdam | D68: Lowerator (Borden) | E68: Mobile Containing | F68: 2 THN MS280 | G68: 42887
A69: Marten Meesweg 35 | B69: 3068 AV | C69: Rotterdam | D69: Lowerator (Borden) | E69: Mobile Containing | F69: 2 THN MS280 | G69: 42887
A70: Marten Meesweg 35 | B70: 3068 AV | C70: Rotterdam | D70: Kookplaat | E70: Ubert | G70: 42887
A71: Marten Meesweg 35 | B71: 3068 AV | C71: Rotterdam | D71: Kookplaat | E71: Ubert | G71: 42887.083
A72: Marten Meesweg 35 | B72: 3068 AV | C72: Rotterdam | D72: Wandkoelmeubel | E72: Groku | G72: 42887
A73: Marten Meesweg 35 | B73: 3068 AV | C73: Rotterdam | D73: Koelwerkbank | E73: Gram | F73: K 1807 CSF B LC | G73: 42887
A74: Marten Meesweg 35 | B74: 3068 AV | C74: Rotterdam | D74: Bakplaat | E74: Ubert | G74: 42887
A75: Marten Meesweg 35 | B75: 3068 AV | C75: Rotterdam | D75: Kookplaat | E75: Ubert | G75: 42887.083
A76: Marten Meesweg 35 | B76: 3068 AV | C76: Rotterdam | D76: Contactgrill | E76: Caterchef | G76: 42887
A77: Marten Meesweg 35 | B77: 3068 AV | C77: Rotterdam | D77: Schilferijsmachine | E77: Hoshizaki
A78: Marten Meesweg 35 | B78: 3068 AV | C78: Rotterdam | D78: Koelwerkbank | E78: Gram | F78: K 1807 CS R7A B LC
A79: Marten Meesweg 35 | B79: 3068 AV | C79: Rotterdam | D79: Koelwerkbank | E79: Gram | F79: K 1807 CS R7A B LC | G79: 42997
A80: Marten Meesweg 35 | B80: 3068 AV | C80: Rotterdam | D80: Kookplaat (Inductie) | E80: Ascobloc | G80: 42296.083
A81: Marten Meesweg 35 | B81: 3068 AV | C81: Rotterdam | D81: Friteuse (Electrisch) | E81: Ascobloc | F81: IEF124 | G81: 42677.042
A82: Marten Meesweg 35 | B82: 3068 AV | C82: Rotterdam | D82: Warmhoudplaat | E82: Groku | G82: 42600
A83: Marten Meesweg 35 | B83: 3068 AV | C83: Rotterdam | D83: Warmtebrug | E83: Groku | G83: 42600
A84: Marten Meesweg 35 | B84: 3068 AV | C84: Rotterdam | D84: Koelkast | E84: Sagi | F84: FD150T | G84: 44386
A85: Marten Meesweg 35 | B85: 3068 AV | C85: Rotterdam | D85: vrieskast | E85: ILSA | F85: AX141053 | G85: 43757
A86: Marten Meesweg 35 | B86: 3068 AV | C86: Rotterdam | D86: MPX | E86: Silensys
A87: Marten Meesweg 35 | B87: 3068 AV | C87: Rotterdam | D87: Lowerator (Borden)
A88: Marten Meesweg 35 | B88: 3068 AV | C88: Rotterdam | D88: Wasbak (Kniebedienbaar)
A89: Marten Meesweg 35 | B89: 3068 AV | C89: Rotterdam | D89: Spoeltafel
A90: Marten Meesweg 35 | B90: 3068 AV | C90: Rotterdam | D90: Spoeltafel
A91: Marten Meesweg 35 | B91: 3068 AV | C91: Rotterdam | D91: Vitrine
A92: Marten Meesweg 35 | B92: 3068 AV | C92: Rotterdam | D92: Verlichting | E92: Groku
A93: Marten Meesweg 35 | B93: 3068 AV | C93: Rotterdam | D93: Waterkoeler
A94: Marten Meesweg 35 | B94: 3068 AV | C94: Rotterdam | D94: Spoeltafel
A95: Marten Meesweg 35 | B95: 3068 AV | C95: Rotterdam | D95: Spoeltafel
A96: Marten Meesweg 35 | B96: 3068 AV | C96: Rotterdam | D96: Spoeltafel
A97: Marten Meesweg 35 | B97: 3068 AV | C97: Rotterdam | D97: Slanghaspel | E97: Nederman
A98: Marten Meesweg 35 | B98: 3068 AV | C98: Rotterdam | D98: Spoeltafel
A99: Marten Meesweg 35 | B99: 3068 AV | C99: Rotterdam | D99: Lowerator (Borden) | E99: Mobile Containing | F99: TN-MS 280 | G99: 42370
A100: Marten Meesweg 35 | B100: 3068 AV | C100: Rotterdam | D100: Lowerator (Borden) | E100: Mobile Containing | F100: TN-MS 280
...

Sheet 5 - Eenheid ZWB
A1: Elementenlijst eenheid Zeeland West-Brabant | H1: CC-1 | I1: CC-2
A2: Adres | B2: Postcode (locatie) | C2: Plaats (locatie) | D2: Omschrijving | E2: Merk | F2: Type | G2: Bouwjaar | H2: Prijs Nulmeting conform eis 94 | I2: Prijs onderhoud conform eis 96
A3: Emplacement 2 | B3: 4611 AP | C3: Bergen op Zoom | D3: vrieskast | E3: Metos | G3: 43322
A4: Emplacement 2 | B4: 4611 AP | C4: Bergen op Zoom | D4: Koelkast | E4: Metos | F4: Dubbel | G4: 43322
A5: Emplacement 2 | B5: 4611 AP | C5: Bergen op Zoom | D5: Friteuse (Electrisch) | E5: Metos | G5: 43322 | K5: Hoofdaannemer
A6: Emplacement 2 | B6: 4611 AP | C6: Bergen op Zoom | D6: Bakplaat | E6: Metos | G6: 43322 | K6: Onderaannemer
A7: Emplacement 2 | B7: 4611 AP | C7: Bergen op Zoom | D7: Kookplaat (Keramisch) | E7: Metos | F7: 74/10 CEPT | G7: 43322
A8: Emplacement 2 | B8: 4611 AP | C8: Bergen op Zoom | D8: Contactgrill | E8: Hendi | F8: Panini Enkel | G8: 43687
A9: Emplacement 2 | B9: 4611 AP | C9: Bergen op Zoom | D9: Koelwerkbank | E9: Metos | F9: Metos | G9: 43687
A10: Emplacement 2 | B10: 4611 AP | C10: Bergen op Zoom | D10: Warmhoudplaat met lamp | E10: Scholl | F10: TP 90080 | G10: 43687
A11: Emplacement 2 | B11: 4611 AP | C11: Bergen op Zoom | D11: Koelvitrine | E11: Metos | F11: Metos | G11: 43687
A12: Emplacement 2 | B12: 4611 AP | C12: Bergen op Zoom | D12: Steamer | E12: Rational | F12: CMP61 | G12: 43687
A13: Emplacement 2 | B13: 4611 AP | C13: Bergen op Zoom | D13: Afzuigkap | E13: Rational | F13: 60.72.320 | G13: 43687.083
A14: Emplacement 2 | B14: 4611 AP | C14: Bergen op Zoom | D14: Vaatwasmachine (Doorschuiver) | E14: Wexiodisk | F14: WD-7 | G14: 43687.083
A15: Emplacement 2 | B15: 4611 AP | C15: Bergen op Zoom | D15: Waterontharder | E15: Lubron | F15: Softstar (Koudwater) | G15: 43687
A16: Emplacement 2 | B16: 4611 AP | C16: Bergen op Zoom | D16: Mixer | E16: Dynamic
A17: Mijkenbroek 31 Incl. cellencomplex | B17: 4824 AR | C17: Breda | D17: Oven | E17: Leventi | F17: BM4 MM YOU | G17: 43333.083
A18: Mijkenbroek 31 Incl. cellencomplex | B18: 4824 AR | C18: Breda | D18: Friteuse (Electrisch) | E18: Gico | F18: 70/7010 | G18: 39056.042
A19: Mijkenbroek 31 Incl. cellencomplex | B19: 4824 AR | C19: Breda | D19: Bain marie | E19: Groku | F19: 3/1 GN | G19: 42377.042
A20: Mijkenbroek 31 Incl. cellencomplex | B20: 4824 AR | C20: Breda | D20: Koffiecontainer | E20: Bravilor | G20: 37987.042
A21: Mijkenbroek 31 Incl. cellencomplex | B21: 4824 AR | C21: Breda | D21: Koffiemachine | E21: Bravilor | G21: 37987.042
A22: Mijkenbroek 31 Incl. cellencomplex | B22: 4824 AR | C22: Breda | D22: Koffiecontainer | E22: Bravilor | G22: 37987.042
A23: Mijkenbroek 31 Incl. cellencomplex | B23: 4824 AR | C23: Breda | D23: Koelkast | E23: JOSTENBERG | F23: SPIJOS-071-P D R | G23: 41640
A24: Mijkenbroek 31 Incl. cellencomplex | B24: 4824 AR | C24: Breda | D24: Bakplaat | E24: Gico | F24: 70/320 0M37255001 | G24: 39655.083
A25: Mijkenbroek 31 Incl. cellencomplex | B25: 4824 AR | C25: Breda | D25: Friteuse (Electrisch) | E25: Gico | F25: 70/7020A | G25: 38718.042
A26: Mijkenbroek 31 Incl. cellencomplex | B26: 4824 AR | C26: Breda | D26: Kookplaat (Keramisch) | E26: Gico | F26: CE9N050C | G26: 40112.042
A27: Mijkenbroek 31 Incl. cellencomplex | B27: 4824 AR | C27: Breda | D27: Warmtebrug | E27: Groku | G27: 42377.042
A28: Mijkenbroek 31 Incl. cellencomplex | B28: 4824 AR | C28: Breda | D28: Koelplaat | E28: Onbekend | F28: Onbekend | G28: 41275.042
A29: Mijkenbroek 31 Incl. cellencomplex | B29: 4824 AR | C29: Breda | D29: Koelplaat | E29: Onbekend | F29: Onbekend | G29: 41275
A30: Mijkenbroek 31 Incl. cellencomplex | B30: 4824 AR | C30: Breda | D30: Koelplaat | E30: Onbekend | F30: Onbekend | G30: 41441
A31: Mijkenbroek 31 Incl. cellencomplex | B31: 4824 AR | C31: Breda | D31: Friteuse (Electrisch) | E31: Gico | F31: 70/7020A | G31: 38718.042
A32: Mijkenbroek 31 Incl. cellencomplex | B32: 4824 AR | C32: Breda | D32: Friteuse computer | E32: Sitex | F32: Sitex | G32: 40392
A33: Mijkenbroek 31 Incl. cellencomplex | B33: 4824 AR | C33: Breda | D33: Koelkast | E33: Liebherr
A34: Mijkenbroek 31 Incl. cellencomplex | B34: 4824 AR | C34: Breda | D34: Koelkast | E34: Liebherr
A35: Mijkenbroek 31 Incl. cellencomplex | B35: 4824 AR | C35: Breda | D35: Soupwell | E35: Mobile Containing | G35: 42472.083
A36: Mijkenbroek 31 Incl. cellencomplex | B36: 4824 AR | C36: Breda | D36: Waterontharder | E36: Lubron
A37: Mijkenbroek 31 Incl. cellencomplex | B37: 4824 AR | C37: Breda | D37: Koelkast | E37: Sagi | F37: FD 150 OP14 | G37: 43643
A38: Mijkenbroek 31 Incl. cellencomplex | B38: 4824 AR | C38: Breda | D38: Contactgrill | E38: Caterchef | G38: 43665.083
A39: Mijkenbroek 31 Incl. cellencomplex | B39: 4824 AR | C39: Breda | D39: Hotpot | E39: Hofland | F39: RDS-57HUS | G39: 41352.042
A40: Mijkenbroek 31 Incl. cellencomplex | B40: 4824 AR | C40: Breda | D40: vrieskast | E40: Sagi | F40: FD150BT | G40: 43998
A41: Mijkenbroek 31 Incl. cellencomplex | B41: 4824 AR | C41: Breda | D41: vrieskast | E41: Sagi | F41: FD7BT | G41: 44775
A42: Mijkenbroek 31 Incl. cellencomplex | B42: 4824 AR | C42: Breda | D42: Magnetron | E42: Panasonic | F42: NE-1037 | G42: 43831
A43: Mijkenbroek 31 Incl. cellencomplex | B43: 4824 AR | C43: Breda | D43: Vaatwasmachine (Voorlader) | E43: Hobart | F43: FXBS-10C | G43: 44663
A44: Mijkenbroek 31 Incl. cellencomplex | B44: 4824 AR | C44: Breda | D44: Kookplaat (Inductie) | E44: Scholl | F44: Compactmodul 600 R 2x3,5KW | G44: 44873
A45: Mijkenbroek 31 Incl. cellencomplex | B45: 4824 AR | C45: Breda | D45: Combisteamer (Electrisch) | E45: Rational | F45: LM100DE.AXXXX | G45: 44873
A46: Mijkenbroek 31 Incl. cellencomplex | B46: 4824 AR | C46: Breda | D46: Koelkast | E46: Sagi | F46: FD7T | G46: 44873
A47: Mijkenbroek 31 Incl. cellencomplex | B47: 4824 AR | C47: Breda | D47: vrieskast | E47: Sagi | F47: FD15BT | G47: 44873
A48: Mijkenbroek 31 Incl. cellencomplex | B48: 4824 AR | C48: Breda | D48: vrieskast | E48: Sagi | F48: FD15BT | G48: 44873
A49: Mijkenbroek 31 Incl. cellencomplex | B49: 4824 AR | C49: Breda | D49: Vaatwasmachine (Doorschuiver) | E49: Meiko | G49: 44927
A50: Europark 21 | B50: 4904 SX | C50: Oosterhout NB | D50: Bain marie | E50: Groku | F50: 2/1 GN | G50: 38718.042
A51: Europark 21 | B51: 4904 SX | C51: Oosterhout NB | D51: Warmtebrug | E51: Groku | F51: Halotherm | G51: 38718.042
A52: Europark 21 | B52: 4904 SX | C52: Oosterhout NB | D52: vrieskast | E52: Afinox | F52: ARM ASX IX 700 BT PC DX G | G52: 39083
A53: Europark 21 | B53: 4904 SX | C53: Oosterhout NB | D53: Koelvitrine | E53: Groku | F53: G1027 | G53: 38919
A54: Europark 21 | B54: 4904 SX | C54: Oosterhout NB | D54: Kookplaat (Inductie) | G54: 38807.083
A55: Europark 21 | B55: 4904 SX | C55: Oosterhout NB | D55: Koffiemachine | E55: Bravilor
A56: Europark 21 | B56: 4904 SX | C56: Oosterhout NB | D56: vrieskast | E56: Sagi | F56: FD70BT-OP141 | G56: 43868
A57: Europark 21 | B57: 4904 SX | C57: Oosterhout NB | D57: Friteuse (Electrisch) | E57: Stilfer | F57: CE 12 | G57: 43757.083
A58: Europark 21 | B58: 4904 SX | C58: Oosterhout NB | D58: vrieskast | E58: Sagi | F58: FD70BT-OP141 | G58: 43836
A59: Europark 21 | B59: 4904 SX | C59: Oosterhout NB | D59: Oven | E59: Electrolux | F59: FCE061 | G59: 44232.042
A60: Europark 21 | B60: 4904 SX | C60: Oosterhout NB
A61: Europark 21 | B61: 4904 SX | C61: Oosterhout NB | D61: Koelkast | E61: Sagi | G61: 44489
A62: Europark 21 | B62: 4904 SX | C62: Oosterhout NB | D62: Vaatwasmachine (Doorschuiver) | E62: Comenda | F62: PC09 | G62: 44895.042
A63: Europark 21 | B63: 4904 SX | C63: Oosterhout NB | D63: Tosti apparaat | G63: 39038
A64: Ringbaan West 232 Incl. cellencomplex | B64: 5038 KE | C64: Tilburg | D64: vrieskast | E64: vrieskast | F64: SNIJOS-142 D R | G64: 41577
A65: Ringbaan West 232 Incl. cellencomplex | B65: 5038 KE | C65: Tilburg | D65: Kookplaat (Gas) | E65: Mareno | F65: 70/050 T | G65: 35796
A66: Ringbaan West 232 Incl. cellencomplex | B66: 5038 KE | C66: Tilburg | D66: Magnetron | E66: Panasonic | F66: NE-1027 | G66: 42801
A67: Ringbaan West 232 Incl. cellencomplex | B67: 5038 KE | C67: Tilburg | D67: vrieskast | E67: Gram | F67: PLUS F1270 CGX8S | G67: 42801
A68: Ringbaan West 232 Incl. cellencomplex | B68: 5038 KE | C68: Tilburg | D68: Combisteamer (Electrisch) | E68: Rational | F68: SCCWE101 | G68: 42801.042
A69: Ringbaan West 232 Incl. cellencomplex | B69: 5038 KE | C69: Tilburg | D69: Koelkast | E69: Gram | F69: ECO PLUS K70CCG | G69: 42801
A70: Ringbaan West 232 Incl. cellencomplex | B70: 5038 KE | C70: Tilburg | D70: Bain marie | G70: 35796
A71: Ringbaan West 232 Incl. cellencomplex | B71: 5038 KE | C71: Tilburg | D71: Koelvitrine | E71: onbekend | F71: COLDFLOW | G71: 42005
A72: Ringbaan West 232 Incl. cellencomplex | B72: 5038 KE | C72: Tilburg | D72: Warmtebrug | G72: 35796
A73: Ringbaan West 232 Incl. cellencomplex | B73: 5038 KE | C73: Tilburg | D73: Bakplaat | E73: Gico | F73: 70/322 TL | G73: 35796
A74: Ringbaan West 232 Incl. cellencomplex | B74: 5038 KE | C74: Tilburg | D74: Friteuse (Electrisch) | E74: Gico | F74: 70/7020A | G74: 35796
A75: Ringbaan West 232 Incl. cellencomplex | B75: 5038 KE | C75: Tilburg | D75: Bain marie | G75: 35796
A76: Ringbaan West 232 Incl. cellencomplex | B76: 5038 KE | C76: Tilburg | D76: Oven | E76: Leventi | F76: BM4 MM YOU | G76: 42005
A77: Ringbaan West 232 Incl. cellencomplex | B77: 5038 KE | C77: Tilburg | D77: Bain marie
A78: Ringbaan West 232 Incl. cellencomplex | B78: 5038 KE | C78: Tilburg | D78: Koelvitrine | E78: Groku
A79: Ringbaan West 232 Incl. cellencomplex | B79: 5038 KE | C79: Tilburg | D79: Wandkoelmeubel | E79: Alaska | F79: 100 CON MURALE CLIPP
A80: Ringbaan West 232 Incl. cellencomplex | B80: 5038 KE | C80: Tilburg | D80: Koelkast | E80: Bosch | F80: KTR16VW20
A81: Ringbaan West 232 Incl. cellencomplex | B81: 5038 KE | C81: Tilburg | D81: vrieskast | E81: Sagi | F81: FD150BT | G81: 43418
A82: Ringbaan West 232 Incl. cellencomplex | B82: 5038 KE | C82: Tilburg | D82: Waterontharder | E82: Lubron | F82: Proline SXT2 (Koudwater) | G82: 43762
A83: Ringbaan West 232 Incl. cellencomplex | B83: 5038 KE | C83: Tilburg | D83: Contactgrill | E83: Caterchef | F83: GH-813 | G83: 43531
A84: Ringbaan West 232 Incl. cellencomplex | B84: 5038 KE | C84: Tilburg | D84: Koelkast | E84: Sagi | F84: FD 150 OP14 | G84: 44562
A85: Ringbaan West 232 Incl. cellencomplex | B85: 5038 KE | C85: Tilburg | D85: Vaatwasmachine (Doorschuiver) | E85: Comenda | F85: PC09 | G85: 44287
A86: Ringbaan West 232 Incl. cellencomplex | B86: 5038 KE | C86: Tilburg | D86: Vaatwasmachine (Doorschuiver) | E86: Comenda | F86: PC09 | G86: 44906
A87: Ringbaan West 232 Incl. cellencomplex | B87: 5038 KE | C87: Tilburg | D87: Koffiemachine | E87: Bravilor | G87: 45195
A88: Ringbaan West 232 Incl. cellencomplex | B88: 5038 KE | C88: Tilburg | D88: Koffieketel | E88: Bravilor | G88: 45195
A89: Ringbaan West 232 Incl. cellencomplex | B89: 5038 KE | C89: Tilburg | D89: Koffieketel | E89: Bravilor | G89: 45195
A90: Ringbaan West 232 Incl. cellencomplex | B90: 5038 KE | C90: Tilburg | D90: Koelkast | E90: Sagi | F90: FD15T | G90: 45316
A91: Ringbaan West 232 Incl. cellencomplex | B91: 5038 KE | C91: Tilburg | D91: Vaatwasmachine (Voorlader) | E91: Siemens | G91: 45420
A92: Ringbaan West 232 Incl. cellencomplex | B92: 5038 KE | C92: Tilburg | D92: Vaatwasmachine (Voorlader) | E92: Siemens | F92: SD6P1S
A93: Pannenhoef 19 | B93: 4641 ST | C93: Ossendrecht | D93: Wandkoeling | E93: Fogal | F93: ALASKA SLIM 150
A94: Pannenhoef 19 | B94: 4641 ST | C94: Ossendrecht | D94: Soupwell | E94: Mobile Containing | G94: 39561.083
A95: Pannenhoef 19 | B95: 4641 ST | C95: Ossendrecht | D95: Soupwell | E95: Mobile Containing | F95: 082058 | G95: 39561
A96: Pannenhoef 19 | B96: 4641 ST | C96: Ossendrecht | D96: Soupwell | E96: Mobile Containing | F96: 082058 | G96: 39561
A97: Pannenhoef 19 | B97: 4641 ST | C97: Ossendrecht | D97: Soupwell | E97: Mobile Containing | F97: 082058 | G97: 39561.083
A98: Pannenhoef 19 | B98: 4641 ST | C98: Ossendrecht | D98: Koelbak | E98: AKE | F98: UKW 3/1-E | G98: 39561
A99: Pannenhoef 19 | B99: 4641 ST | C99: Ossendrecht | D99: Wandkoeling | E99: Fogal | F99: AS MT 180 | G99: 39561.083
A100: Pannenhoef 19 | B100: 4641 ST | C100: Ossendrecht | D100: Waterontharder | E100: Lubron | F100: Easysoft 750 SXT2 | G100: 42945.083
...
