Workbook

Sheet 1 - Prijzenblad
A1: Prijzenblad EA Onderhoud en Vervanging Grootkeukenapparatuur Perceel Zuid
B2: Het Prijzenblad kent een opbouw van vier criteria. Namelijk uw voorkeur in Percelen. Voor CC-1 en CC-2 een prijs per element (in tabbladen 2, 3, 4 en 5) en vooor CC-3 een prijs per uur in verschilende tijdsvlakken. De Inschrijver vult alleen de blauwe velden in alle vijf de tabbladen in. De voorwaarden voor het prijzenblad vindt u in hoofdstuk 4 van de Inschrijvingsleidraad. | F2: Totaal CC-1: | G2: =SUM(F12:G15) -> 0
F4: Totaal CC-2: | G4: =SUM(F18:G21) -> 0
F6: Totaal CC-3: | G6: =SUM(G24:G26) -> 0
A8: P | B8: Omschrijving | F8: Uw keuze middels dropdown menu
A9: # | B9: Uw voorkeur gaat uit naar het volgende Perceel of Percelen: | F9: Selecteer hier uw keuze
A11: # | B11: Omschrijving | D11: Eenheid | F11: Prijs totaal (excl. BTW)
A12: CC-1 | B12: Nulmeting eenheid Limburg (tabblad 2) | D12: Totaal per eenheid | F12: ='2 - Eenheid Limburg'!H87 -> 0
A13: =A12 -> CC-1 | B13: Nulmeting eenheid Oost-Brabant (tabblad 3) | D13: =D12 -> Totaal per eenheid | F13: ='3 - Eenheid Oost-Brabant'!H112 -> 0
A14: CC-1 | B14: Nulmeting eenheid Rotterdam (tabblad 4) | D14: =D12 -> Totaal per eenheid | F14: ='4 - Eenheid Rotterdam'!H265 -> 0
A15: =A13 -> CC-1 | B15: Nulmeting eenheid Zeeland West-Brabant (tabblad 5) | D15: =D13 -> Totaal per eenheid | F15: ='5 - Eenheid ZWB'!H160 -> 0
A17: # | B17: Omschrijving | D17: Eenheid | E17: (fictief) sub-wegingsaantal | F17: Prijs totaal (excl. BTW)
A18: CC-2 | B18: Preventief onderhoud eenheid Limburg (tabblad 2) | D18: Totaal per eenheid | E18: 1 | F18: ='2 - Eenheid Limburg'!I87 -> 0
A19: =A18 -> CC-2 | B19: Preventief onderhoud eenheid Oost-Brabant (tabblad 3) | D19: =D18 -> Totaal per eenheid | E19: 1 | F19: ='3 - Eenheid Oost-Brabant'!I112 -> 0
A20: CC-2 | B20: Preventief onderhoud eenheid Rotterdam (tabblad 4) | D20: =D18 -> Totaal per eenheid | F20: ='4 - Eenheid Rotterdam'!I265 -> 0
A21: =A19 -> CC-2 | B21: Preventief onderhoud eenheid Zeeland West-Brabant (tabblad 5) | D21: =D19 -> Totaal per eenheid | E21: 1 | F21: ='5 - Eenheid ZWB'!I160 -> 0
A23: # | B23: Omschrijving | D23: Eenheid | E23: (fictief) sub-wegingsaantal | F23: Prijs (excl. BTW) | G23: Prijs totaal (excl. BTW)
A24: CC-3 | B24: All-in uurtarief binnen kantoortijden voor storingen en BKW | D24: Per uur | E24: 50 | F24: 0 | G24: =E24*F24 -> 0
A25: =A24 -> CC-3 | B25: All-in uur tarief buiten kantooruren voor storingen en BKW | D25: =D24 -> Per uur | E25: 25 | F25: 0 | G25: =E25*F25 -> 0
A26: =A25 -> CC-3 | B26: All-in uur tarief zon- en feestdagen voor storingen en BKW | D26: =D24 -> Per uur | E26: 25 | F26: 0 | G26: =E26*F26 -> 0
D28: INSCHRIJVER
D29: NAAM:
D30: ONDERNEMING:
D31: ONDERTEKENING
D34: DATUM / PLAATS
C43: Selecteer hier uw keuze
C44: Perceel 1 Noord oost
C45: Perceel 2 Noord west
C46: Perceel 3 Zuid
C47: Percelen 1 en 2
C48: Percelen 1 en 3
C49: Percelen 2 en 3

Sheet 2 - Eenheid Limburg
A1: Elementenlijst eenheid Limburg | H1: CC-1 | I1: CC-2
A2: Adres (locatie) | B2: Postcode (locatie) | C2: Plaats (locatie) | D2: Omschrijving | E2: Merk | F2: Type | G2: Bouwjaar | H2: Prijs Nulmeting conform eis 94 | I2: Prijs onderhoud conform eis 96
A3: Stationstraat 13 E | B3: 6411 NH | C3: Heerlen | D3: vrieskast | E3: Electrolux | F3: V1MGBTHC | G3: 40914
A4: Stationstraat 13 E | B4: 6411 NH | C4: Heerlen | D4: Koelkast | E4: Gram | F4: PLUS K600 RSG C 4N | G4: 36526
A5: Stationstraat 13 E | B5: 6411 NH | C5: Heerlen | D5: vrieskast | E5: Liebherr | F5: GSS 3626 INDEX 25 B | G5: 36526 | L5: Hoofdaannemer
A6: Stationstraat 13 E | B6: 6411 NH | C6: Heerlen | D6: vrieskast | E6: Liebherr | F6: GMP 4156 | G6: 36526 | L6: Onderaannemer
A7: Stationstraat 13 E | B7: 6411 NH | C7: Heerlen | D7: Magnetron | E7: Panasonic | F7: NE-1840
A8: Stationstraat 13 E | B8: 6411 NH | C8: Heerlen | D8: Oven | E8: Devapo | F8: Junior 28 | G8: 45279
A9: Stationstraat 13 E | B9: 6411 NH | C9: Heerlen | D9: vrieskast | E9: HOSHIZAKI | G9: 45344
A10: Pr. Bisschopsingel 53 | B10: 6212 AB | C10: Maastricht | D10: Contactgrill | E10: Caterchef | F10: Solo-Grande (gegroefd/gegroefd) | G10: 42128.083
A11: Pr. Bisschopsingel 53 | B11: 6212 AB | C11: Maastricht | D11: Friteuse (Electrisch) | E11: Alpeninox | F11: 174503 | G11: 34818.083
A12: Pr. Bisschopsingel 53 | B12: 6212 AB | C12: Maastricht | D12: Bakplaat | E12: Alpeninox | F12: 174273 | G12: 34818.083
A13: Pr. Bisschopsingel 53 | B13: 6212 AB | C13: Maastricht | D13: Magnetron | E13: Amana | F13: RFS511MP | G13: 31168.083
A14: Pr. Bisschopsingel 53 | B14: 6212 AB | C14: Maastricht | D14: Oven | E14: Convotherm | F14: AR 28 | G14: 34821.083
A15: Pr. Bisschopsingel 53 | B15: 6212 AB | C15: Maastricht | D15: Koelkast | E15: Jumbo | F15: ABX500PV Jumbo | G15: 34821
A16: Pr. Bisschopsingel 53 | B16: 6212 AB | C16: Maastricht | D16: Koelkast | E16: Liebherr | F16: UKS 5000 | G16: 34821
A17: Pr. Bisschopsingel 53 | B17: 6212 AB | C17: Maastricht | D17: vrieskast | E17: Liebherr | G17: 34821.083
A18: Pr. Bisschopsingel 53 | B18: 6212 AB | C18: Maastricht | D18: Kookplaat (Keramisch) | E18: Alpeninox | F18: 174008 003 | G18: 34818.083
A19: Pr. Bisschopsingel 53 | B19: 6212 AB | C19: Maastricht | D19: Warmtebrug | G19: 36645.083
A20: Pr. Bisschopsingel 53 | B20: 6212 AB | C20: Maastricht | D20: Magnetron | E20: Panasonic | F20: NE-2143-2 | G20: 41975.042
A21: Pr. Bisschopsingel 53 | B21: 6212 AB | C21: Maastricht | D21: Magnetron | E21: Scharp | G21: 34821.083
A22: Pr. Bisschopsingel 53 | B22: 6212 AB | C22: Maastricht | D22: Koelkast | E22: Whirlpool | F22: RE116A | G22: 38475.083
A23: Pr. Bisschopsingel 53 | B23: 6212 AB | C23: Maastricht | D23: Magnetron | E23: Panasonic | F23: NE-2143-2 | G23: 41760
A24: Pr. Bisschopsingel 53 | B24: 6212 AB | C24: Maastricht | D24: Magnetron | E24: Panasonic | F24: NE-2143-2 | G24: 41766.083
A25: Pr. Bisschopsingel 53 | B25: 6212 AB | C25: Maastricht | D25: vrieskast | E25: ILSA | F25: AH071002 | G25: 34829
A26: Pr. Bisschopsingel 53 | B26: 6212 AB | C26: Maastricht | D26: vrieskast | E26: Liebherr | G26: 34821.083
A27: Pr. Bisschopsingel 53 | B27: 6212 AB | C27: Maastricht | D27: Vaatwasmachine (Voorlader) | E27: Miele | F27: G 6000 SCU Jubilee | G27: 43353.083
A28: Pr. Bisschopsingel 53 | B28: 6212 AB | C28: Maastricht | D28: Vaatwasmachine (Voorlader) | E28: Miele | F28: G 6000 SCU Jubilee | G28: 43353.083
A29: Pr. Bisschopsingel 53 | B29: 6212 AB | C29: Maastricht | D29: Bain marie | G29: 36645.083
A30: Pr. Bisschopsingel 53 | B30: 6212 AB | C30: Maastricht | D30: Bain marie | G30: 36645.083
A31: Pr. Bisschopsingel 53 | B31: 6212 AB | C31: Maastricht | D31: Friteuse (Electrisch) | E31: Alpeninox | F31: 174504 | G31: 34715.042
A32: Pr. Bisschopsingel 53 | B32: 6212 AB | C32: Maastricht | D32: Vaatwasmachine (Doorschuiver) | E32: Comenda | F32: PC09 CRC | G32: 43495.042
A33: Pr. Bisschopsingel 53 | B33: 6212 AB | C33: Maastricht | D33: Wandkoeling | E33: Mafirol | F33: Cronus 1250FV L-C (standaard) | G33: 43584
A34: Pr. Bisschopsingel 53 | B34: 6212 AB | C34: Maastricht | D34: Koelkast | E34: Liebherr
A35: Pr. Bisschopsingel 53 | B35: 6212 AB | C35: Maastricht | D35: vrieskast | E35: Sagi | F35: FD70BT | G35: 44176.042
A36: Pr. Bisschopsingel 53 | B36: 6212 AB | C36: Maastricht | D36: vrieskast | E36: Sagi | F36: FD150BT | G36: 44181
A37: Pr. Bisschopsingel 53 | B37: 6212 AB | C37: Maastricht | D37: Oven | E37: Caterchef | G37: 43328
A38: Pr. Bisschopsingel 53 | B38: 6212 AB | C38: Maastricht | D38: Oven | E38: Caterchef | G38: 44562.042
A39: Pr. Bisschopsingel 53 | B39: 6212 AB | C39: Maastricht | D39: Magnetron | E39: Panasonic | F39: NE-2143-2 | G39: 44564.042
A40: Pr. Bisschopsingel 53 | B40: 6212 AB | C40: Maastricht | D40: vrieskast | E40: Sagi | F40: FD7BT | G40: 44835.083
...

Sheet 3 - Eenheid Oost-Brabant
A1: Elementenlijst eenheid Oost-Brabant | H1: CC-1 | I1: CC-2
A2: Adres | B2: Postcode (locatie) | C2: Plaats (locatie) | D2: Omschrijving | E2: Merk | F2: Type | G2: Bouwjaar | H2: Prijs Nulmeting conform eis 94 | I2: Prijs onderhoud conform eis 96
A3: Mathildelaan 4 Incl. cellencomplex | B3: 5611 BL | C3: Eindhoven | D3: Warmtebrug | E3: Groku | G3: 35796
A4: Mathildelaan 4 Incl. cellencomplex | B4: 5611 BL | C4: Eindhoven | D4: Wandkoeling | E4: Groku | F4: Separaat | G4: 41640
A5: Mathildelaan 4 Incl. cellencomplex | B5: 5611 BL | C5: Eindhoven | D5: Kookplaat (Keramisch) | E5: Kuppersbusch | G5: 36741 | L5: Hoofdaannemer
A6: Mathildelaan 4 Incl. cellencomplex | B6: 5611 BL | C6: Eindhoven | D6: Salamander | G6: 38749 | L6: Onderaannemer
A7: Mathildelaan 4 Incl. cellencomplex | B7: 5611 BL | C7: Eindhoven | D7: Centraal koelsysteem | E7: COPELAND | G7: 41640
A8: Mathildelaan 4 Incl. cellencomplex | B8: 5611 BL | C8: Eindhoven | D8: Koelbak | G8: 42736
A9: Mathildelaan 4 Incl. cellencomplex | B9: 5611 BL | C9: Eindhoven | D9: Koffiecontainer | E9: Bravilor | G9: 35796
A10: Mathildelaan 4 Incl. cellencomplex | B10: 5611 BL | C10: Eindhoven | D10: Koffiecontainer | E10: Bravilor | G10: 35796
A11: Mathildelaan 4 Incl. cellencomplex | B11: 5611 BL | C11: Eindhoven | D11: Koffiemachine | E11: Bravilor | F11: B20HW | G11: 40179
A12: Mathildelaan 4 Incl. cellencomplex | B12: 5611 BL | C12: Eindhoven | D12: Koelwerkbank | E12: Gram | F12: KB1507 A | G12: 36892
A13: Mathildelaan 4 Incl. cellencomplex | B13: 5611 BL | C13: Eindhoven | D13: Contactgrill | E13: Hendi | F13: 263662 | G13: 35796
A14: Mathildelaan 4 Incl. cellencomplex | B14: 5611 BL | C14: Eindhoven | D14: Bakplaat | G14: 35796
A15: Mathildelaan 4 Incl. cellencomplex | B15: 5611 BL | C15: Eindhoven | D15: Friteuse (Electrisch) | E15: Kuppersbusch | F15: TEF-224 | G15: 40179
A16: Mathildelaan 4 Incl. cellencomplex | B16: 5611 BL | C16: Eindhoven | D16: Friteuse (Electrisch) | E16: Kuppersbusch | F16: TEF-224 | G16: 40179
A17: Mathildelaan 4 Incl. cellencomplex | B17: 5611 BL | C17: Eindhoven | D17: Braadslede | E17: Kuppersbusch | F17: KG0301 | G17: 35796.042
A18: Mathildelaan 4 Incl. cellencomplex | B18: 5611 BL | C18: Eindhoven | D18: Kookketel | E18: Kuppersbusch | G18: 35796
A19: Mathildelaan 4 Incl. cellencomplex | B19: 5611 BL | C19: Eindhoven | D19: Koelvitrine | E19: Groku | G19: 41640
A20: Mathildelaan 4 Incl. cellencomplex | B20: 5611 BL | C20: Eindhoven | D20: Magnetron | E20: Panasonic | F20: NE-1656 | G20: 40914
A21: Mathildelaan 4 Incl. cellencomplex | B21: 5611 BL | C21: Eindhoven | D21: Kookplaat (Keramisch) | E21: Roede | G21: 35796
A22: Mathildelaan 4 Incl. cellencomplex | B22: 5611 BL | C22: Eindhoven | D22: Oven | E22: Unox | F22: XF030 | G22: 38875.083
A23: Mathildelaan 4 Incl. cellencomplex | B23: 5611 BL | C23: Eindhoven | D23: Oven | E23: Unox | F23: XFC030 | G23: 38724
A24: Mathildelaan 4 Incl. cellencomplex | B24: 5611 BL | C24: Eindhoven | D24: vrieskast | G24: 42736
A25: Mathildelaan 4 Incl. cellencomplex | B25: 5611 BL | C25: Eindhoven | D25: Oven | E25: Unox | F25: XF030 | G25: 38875
A26: Mathildelaan 4 Incl. cellencomplex | B26: 5611 BL | C26: Eindhoven | D26: Oven | G26: 38875
A27: Mathildelaan 4 Incl. cellencomplex | B27: 5611 BL | C27: Eindhoven | D27: vrieskast | G27: 35796.042
A28: Mathildelaan 4 Incl. cellencomplex | B28: 5611 BL | C28: Eindhoven | D28: Koelwerkbank | E28: Gram | F28: KB1507 A | G28: 39083
A29: Mathildelaan 4 Incl. cellencomplex | B29: 5611 BL | C29: Eindhoven | D29: Warmtebrug | E29: Groku
A30: Mathildelaan 4 Incl. cellencomplex | B30: 5611 BL | C30: Eindhoven | D30: Warmtebrug | E30: Groku
A31: Mathildelaan 4 Incl. cellencomplex | B31: 5611 BL | C31: Eindhoven | D31: Oven | E31: Leventi | F31: Combimat MK3.1 MM 3DI 6PL
A32: Mathildelaan 4 Incl. cellencomplex | B32: 5611 BL | C32: Eindhoven | D32: Koelkast | E32: Liebherr | G32: 43067
A33: Mathildelaan 4 Incl. cellencomplex | B33: 5611 BL | C33: Eindhoven | D33: Koelkast | E33: Liebherr | G33: 43547
A34: Mathildelaan 4 Incl. cellencomplex | B34: 5611 BL | C34: Eindhoven | D34: Bain marie | E34: Hupfer | F34: SPA/EB-3 | G34: 31835
A35: Mathildelaan 4 Incl. cellencomplex | B35: 5611 BL | C35: Eindhoven | D35: Waterontharder | G35: 44378
A36: Mathildelaan 4 Incl. cellencomplex | B36: 5611 BL | C36: Eindhoven | D36: vrieskast | E36: Sagi | F36: FD150BT | G36: 44562
A37: Mathildelaan 4 Incl. cellencomplex | B37: 5611 BL | C37: Eindhoven | D37: vrieskast | E37: Sagi | F37: FD15BT | G37: 44866
A38: Mathildelaan 4 Incl. cellencomplex | B38: 5611 BL | C38: Eindhoven | D38: Vaatwasmachine (Korventransport) | E38: Meiko | F38: KM250 | G38: 45555
A39: Mathildelaan 4 Incl. cellencomplex | B39: 5611 BL | C39: Eindhoven | D39: Koelcel | E39: POLY | G39: 44927
A40: Mathildelaan 4 Incl. cellencomplex | B40: 5611 BL | C40: Eindhoven | D40: Koelcel | E40: POLY | G40: 44927
...

Sheet 4 - Eenheid Rotterdam
A1: Elementenlijst eenheid Rotterdam | H1: CC-1 | I1: CC-2
A2: Adres | B2: Postcode (locatie) | C2: Plaats (locatie) | D2: Omschrijving | E2: Merk | F2: Type | G2: Bouwjaar | H2: Prijs Nulmeting conform eis 94 | I2: Prijs onderhoud conform eis 96
A3: Slotlaan 119 Incl. cellencomplex | B3: 2902 AL | C3: Capelle aan den IJssel | D3: Magnetron | E3: Etna | F3: HH | G3: 39044.042
A4: Slotlaan 119 Incl. cellencomplex | B4: 2902 AL | C4: Capelle aan den IJssel | D4: vrieskast | E4: Liebherr | F4: GNP 2313-21 | G4: 43248
A5: Slotlaan 119 Incl. cellencomplex | B5: 2902 AL | C5: Capelle aan den IJssel | D5: Koelkast | E5: Liebherr | K5: Hoofdaannemer
A6: Slotlaan 119 Incl. cellencomplex | B6: 2902 AL | C6: Capelle aan den IJssel | D6: Vriezer | E6: Sagi | F6: FD70BT-OP141 | G6: 44105 | K6: Onderaannemer
A7: Slotlaan 119 Incl. cellencomplex | B7: 2902 AL | C7: Capelle aan den IJssel | D7: Vriezer | E7: Sagi | F7: FD70BT-OP141 | G7: 44105
A8: Slotlaan 119 Incl. cellencomplex | B8: 2902 AL | C8: Capelle aan den IJssel | D8: koelkast dubbel | E8: sagi | F8: FD15T-OP14 | G8: 44489
A9: Slotlaan 119 Incl. cellencomplex | B9: 2902 AL | C9: Capelle aan den IJssel | D9: Oven | E9: Salvis | G9: 44927
A10: Slotlaan 119 Incl. cellencomplex | B10: 2902 AL | C10: Capelle aan den IJssel | D10: Magnetron
A11: Slotlaan 119 Incl. cellencomplex | B11: 2902 AL | C11: Capelle aan den IJssel | D11: Koelkast
A12: Overkampweg 109 Incl. cellencomplex | B12: 3318 AP | C12: Dordrecht | D12: Bain marie | E12: Olbro | G12: 41641.042
A13: Overkampweg 109 Incl. cellencomplex | B13: 3318 AP | C13: Dordrecht | D13: Koelwerkbank | E13: POLARIS | F13: TRECO 03 | G13: 41063.083
A14: Overkampweg 109 Incl. cellencomplex | B14: 3318 AP | C14: Dordrecht | D14: Oven | E14: Culion | F14: BTC525 | G14: 39083.042
A15: Overkampweg 109 Incl. cellencomplex | B15: 3318 AP | C15: Dordrecht | D15: Waterontharder | E15: Lubron | F15: Miniline | G15: 39083.042
A16: Overkampweg 109 Incl. cellencomplex | B16: 3318 AP | C16: Dordrecht | D16: Vaatwasmachine (Doorschuiver) | E16: Meiko | F16: Ecostar 545 D | G16: 39083.042
A17: Overkampweg 109 Incl. cellencomplex | B17: 3318 AP | C17: Dordrecht | D17: Bain marie | E17: Olbro | G17: 39083.042
A18: Overkampweg 109 Incl. cellencomplex | B18: 3318 AP | C18: Dordrecht | D18: Warmtebrug | E18: Olbro | G18: 39083.042
A19: Overkampweg 109 Incl. cellencomplex | B19: 3318 AP | C19: Dordrecht | D19: Kookplaat (Keramisch) | E19: Silko | G19: 39083.042
A20: Overkampweg 109 Incl. cellencomplex | B20: 3318 AP | C20: Dordrecht | D20: Koelkast | E20: Gram | F20: K410 | G20: 42266.083
A21: Overkampweg 109 Incl. cellencomplex | B21: 3318 AP | C21: Dordrecht | D21: Bakplaat | E21: Silko | F21: BE62TLL | G21: 39083.042
A22: Overkampweg 109 Incl. cellencomplex | B22: 3318 AP | C22: Dordrecht | D22: Magnetron | E22: LG | G22: 41731.083
A23: Overkampweg 109 Incl. cellencomplex | B23: 3318 AP | C23: Dordrecht | D23: Koelvitrine | E23: Nordcap | F23: OR-112-70-E | G23: 43580
A24: Overkampweg 109 Incl. cellencomplex | B24: 3318 AP | C24: Dordrecht | D24: Koffiemachine | E24: Animo | F24: CB10 | G24: 43471
A25: Overkampweg 109 Incl. cellencomplex | B25: 3318 AP | C25: Dordrecht | D25: Friteuse (Electrisch) | E25: Bartscher | F25: 650 B600 2x10L | G25: 43706
A26: Overkampweg 109 Incl. cellencomplex | B26: 3318 AP | C26: Dordrecht | D26: Contactgrill | E26: Caterchef | G26: 43733.083
A27: Overkampweg 109 Incl. cellencomplex | B27: 3318 AP | C27: Dordrecht | D27: Oven | E27: Unox | G27: 44029.083
A28: Overkampweg 109 Incl. cellencomplex | B28: 3318 AP | C28: Dordrecht | D28: Oven | E28: Unox | G28: 44029.083
A29: Overkampweg 109 Incl. cellencomplex | B29: 3318 AP | C29: Dordrecht | D29: Koffiecontainer | E29: Animo | F29: CN10E | G29: 43471.042
A30: Overkampweg 109 Incl. cellencomplex | B30: 3318 AP | C30: Dordrecht | D30: Koelcel | E30: RDR Koeltechniek | G30: 45000
A31: Overkampweg 109 Incl. cellencomplex | B31: 3318 AP | C31: Dordrecht | D31: Vriescel | E31: RDR koeltechniek | G31: 45000.042
A32: Overkampweg 109 Incl. cellencomplex | B32: 3318 AP | C32: Dordrecht | D32: Waterkoker | G32: 45383
A33: Overkampweg 109 Incl. cellencomplex | B33: 3318 AP | C33: Dordrecht | D33: vrieskast | E33: Sagi | F33: FD7BT | G33: 45565.083
A34: Vissersdijk Beneden 2 | B34: 3319 GW | C34: Dordrecht | D34: Friteuse (Electrisch) | E34: Ambach | F34: EY2/40M | G34: 37043.083
A35: Vissersdijk Beneden 2 | B35: 3319 GW | C35: Dordrecht | D35: Kookplaat (Keramisch) | E35: Ambach | F35: ER70 | G35: 36892.042
A36: Vissersdijk Beneden 2 | B36: 3319 GW | C36: Dordrecht | D36: Koelcel | E36: ATA | F36: 0 | G36: 42005
A37: Vissersdijk Beneden 2 | B37: 3319 GW | C37: Dordrecht | D37: Doorstroomzuil | E37: BRAVILOR | F37: B102 | G37: 40179.042
A38: Vissersdijk Beneden 2 | B38: 3319 GW | C38: Dordrecht | D38: Koffiecontainer | E38: Bravilor | G38: 40179.042
A39: Vissersdijk Beneden 2 | B39: 3319 GW | C39: Dordrecht | D39: Koffiecontainer | E39: Bravilor | G39: 40179.042
A40: Vissersdijk Beneden 2 | B40: 3319 GW | C40: Dordrecht | D40: Bain marie | E40: Groku | G40: 36892.042
...

Sheet 5 - Eenheid ZWB
A1: Elementenlijst eenheid Zeeland West-Brabant | H1: CC-1 | I1: CC-2
A2: Adres | B2: Postcode (locatie) | C2: Plaats (locatie) | D2: Omschrijving | E2: Merk | F2: Type | G2: Bouwjaar | H2: Prijs Nulmeting conform eis 94 | I2: Prijs onderhoud conform eis 96
A3: Emplacement 2 | B3: 4611 AP | C3: Bergen op Zoom | D3: vrieskast | E3: Metos | G3: 43322
A4: Emplacement 2 | B4: 4611 AP | C4: Bergen op Zoom | D4: Koelkast | E4: Metos | F4: Dubbel | G4: 43322
A5: Emplacement 2 | B5: 4611 AP | C5: Bergen op Zoom | D5: Friteuse (Electrisch) | E5: Metos | G5: 43322 | K5: Hoofdaannemer
A6: Emplacement 2 | B6: 4611 AP | C6: Bergen op Zoom | D6: Bakplaat | E6: Metos | G6: 43322 | K6: Onderaannemer
A7: Emplacement 2 | B7: 4611 AP | C7: Bergen op Zoom | D7: Kookplaat (Keramisch) | E7: Metos | F7: 74/10 CEPT | G7: 43322
A8: Emplacement 2 | B8: 4611 AP | C8: Bergen op Zoom | D8: Contactgrill | E8: Hendi | F8: Panini Enkel | G8: 43687
A9: Emplacement 2 | B9: 4611 AP | C9: Bergen op Zoom | D9: Koelwerkbank | E9: Metos | F9: Metos | G9: 43687
A10: Emplacement 2 | B10: 4611 AP | C10: Bergen op Zoom | D10: Warmhoudplaat met lamp | E10: Scholl | F10: TP 90080 | G10: 43687
A11: Emplacement 2 | B11: 4611 AP | C11: Bergen op Zoom | D11: Koelvitrine | E11: Metos | F11: Metos | G11: 43687
A12: Emplacement 2 | B12: 4611 AP | C12: Bergen op Zoom | D12: Steamer | E12: Rational | F12: CMP61 | G12: 43687
A13: Emplacement 2 | B13: 4611 AP | C13: Bergen op Zoom | D13: Afzuigkap | E13: Rational | F13: 60.72.320 | G13: 43687.083
A14: Emplacement 2 | B14: 4611 AP | C14: Bergen op Zoom | D14: Vaatwasmachine (Doorschuiver) | E14: Wexiodisk | F14: WD-7 | G14: 43687.083
A15: Emplacement 2 | B15: 4611 AP | C15: Bergen op Zoom | D15: Waterontharder | E15: Lubron | F15: Softstar (Koudwater) | G15: 43687
A16: Emplacement 2 | B16: 4611 AP | C16: Bergen op Zoom | D16: Mixer | E16: Dynamic
A17: Mijkenbroek 31 Incl. cellencomplex | B17: 4824 AR | C17: Breda | D17: Oven | E17: Leventi | F17: BM4 MM YOU | G17: 43333.083
A18: Mijkenbroek 31 Incl. cellencomplex | B18: 4824 AR | C18: Breda | D18: Friteuse (Electrisch) | E18: Gico | F18: 70/7010 | G18: 39056.042
A19: Mijkenbroek 31 Incl. cellencomplex | B19: 4824 AR | C19: Breda | D19: Bain marie | E19: Groku | F19: 3/1 GN | G19: 42377.042
A20: Mijkenbroek 31 Incl. cellencomplex | B20: 4824 AR | C20: Breda | D20: Koffiecontainer | E20: Bravilor | G20: 37987.042
A21: Mijkenbroek 31 Incl. cellencomplex | B21: 4824 AR | C21: Breda | D21: Koffiemachine | E21: Bravilor | G21: 37987.042
A22: Mijkenbroek 31 Incl. cellencomplex | B22: 4824 AR | C22: Breda | D22: Koffiecontainer | E22: Bravilor | G22: 37987.042
A23: Mijkenbroek 31 Incl. cellencomplex | B23: 4824 AR | C23: Breda | D23: Koelkast | E23: JOSTENBERG | F23: SPIJOS-071-P D R | G23: 41640
A24: Mijkenbroek 31 Incl. cellencomplex | B24: 4824 AR | C24: Breda | D24: Bakplaat | E24: Gico | F24: 70/320 0M37255001 | G24: 39655.083
A25: Mijkenbroek 31 Incl. cellencomplex | B25: 4824 AR | C25: Breda | D25: Friteuse (Electrisch) | E25: Gico | F25: 70/7020A | G25: 38718.042
A26: Mijkenbroek 31 Incl. cellencomplex | B26: 4824 AR | C26: Breda | D26: Kookplaat (Keramisch) | E26: Gico | F26: CE9N050C | G26: 40112.042
A27: Mijkenbroek 31 Incl. cellencomplex | B27: 4824 AR | C27: Breda | D27: Warmtebrug | E27: Groku | G27: 42377.042
A28: Mijkenbroek 31 Incl. cellencomplex | B28: 4824 AR | C28: Breda | D28: Koelplaat | E28: Onbekend | F28: Onbekend | G28: 41275.042
A29: Mijkenbroek 31 Incl. cellencomplex | B29: 4824 AR | C29: Breda | D29: Koelplaat | E29: Onbekend | F29: Onbekend | G29: 41275
A30: Mijkenbroek 31 Incl. cellencomplex | B30: 4824 AR | C30: Breda | D30: Koelplaat | E30: Onbekend | F30: Onbekend | G30: 41441
A31: Mijkenbroek 31 Incl. cellencomplex | B31: 4824 AR | C31: Breda | D31: Friteuse (Electrisch) | E31: Gico | F31: 70/7020A | G31: 38718.042
A32: Mijkenbroek 31 Incl. cellencomplex | B32: 4824 AR | C32: Breda | D32: Friteuse computer | E32: Sitex | F32: Sitex | G32: 40392
A33: Mijkenbroek 31 Incl. cellencomplex | B33: 4824 AR | C33: Breda | D33: Koelkast | E33: Liebherr
A34: Mijkenbroek 31 Incl. cellencomplex | B34: 4824 AR | C34: Breda | D34: Koelkast | E34: Liebherr
A35: Mijkenbroek 31 Incl. cellencomplex | B35: 4824 AR | C35: Breda | D35: Soupwell | E35: Mobile Containing | G35: 42472.083
A36: Mijkenbroek 31 Incl. cellencomplex | B36: 4824 AR | C36: Breda | D36: Waterontharder | E36: Lubron
A37: Mijkenbroek 31 Incl. cellencomplex | B37: 4824 AR | C37: Breda | D37: Koelkast | E37: Sagi | F37: FD 150 OP14 | G37: 43643
A38: Mijkenbroek 31 Incl. cellencomplex | B38: 4824 AR | C38: Breda | D38: Contactgrill | E38: Caterchef | G38: 43665.083
A39: Mijkenbroek 31 Incl. cellencomplex | B39: 4824 AR | C39: Breda | D39: Hotpot | E39: Hofland | F39: RDS-57HUS | G39: 41352.042
A40: Mijkenbroek 31 Incl. cellencomplex | B40: 4824 AR | C40: Breda | D40: vrieskast | E40: Sagi | F40: FD150BT | G40: 43998
...
