Workbook

Sheet 1 - Prijzenblad
A1: Prijzenblad EA Onderhoud en Vervanging Grootkeukenapparatuur Perceel 1 Noord oost
B2: Het Prijzenblad kent een opbouw van vier criteria. Namelijk uw voorkeur in Percelen. Voor CC-1 en CC-2 een prijs per element (in tabbladen 2, 3 en 4) en vooor CC-3 een prijs per uur in verschilende tijdsvlakken. De Inschrijver vult alleen de blauwe velden in alle vier de tabbladen in. De voorwaarden voor het prijzenblad vindt u in hoofdstuk 4 van de Inschrijvingsleidraad | F2: Totaal CC-1: | G2: =SUM(F12:G14) -> 0
F4: Totaal CC-2: | G4: =SUM(F17:G19) -> 0
F6: Totaal CC-3: | G6: =SUM(G22:G24) -> 0
A8: P | B8: Omschrijving | F8: Uw keuze middels dropdown menu
A9: # | B9: Uw voorkeur gaat uit naar het volgende Perceel of Percelen: | F9: Selecteer hier uw keuze
A11: # | B11: Omschrijving | D11: Eenheid | F11: Prijs totaal (excl. BTW)
A12: CC-1 | B12: Nulmeting eenheid Noord Nederland (tabblad 1) | D12: Totaal per eenheid | F12: ='2 - Eenheid Noord Nederland'!H182 -> 0
A13: =A12 -> CC-1 | B13: Nulmeting eenheid Oost Nederland (tabblad 2) | D13: =D12 -> Totaal per eenheid | F13: ='3 - Eenheid Oost Nederland'!H413 -> 0
A14: =A13 -> CC-1 | B14: Nulmeting eenheid Midden Nederland (tabblad 3) | D14: =D13 -> Totaal per eenheid | F14: ='4 - Eenheid Midden Nederland'!H482 -> 0
A16: # | B16: Omschrijving | D16: Eenheid | E16: (fictief) sub-wegingsaantal | F16: Prijs totaal (excl. BTW)
A17: CC-2 | B17: Preventief onderhoud eenheid Noord Nederland (tabblad 2) | D17: Totaal per eenheid | E17: 1 | F17: ='2 - Eenheid Noord Nederland'!I182 -> 0
A18: =A17 -> CC-2 | B18: Preventief onderhoud eenheid Oost Nederland (tabblad 3) | D18: =D17 -> Totaal per eenheid | E18: 1 | F18: ='3 - Eenheid Oost Nederland'!I413 -> 0
A19: =A18 -> CC-2 | B19: Preventief onderhoud eenheid Midden Nederland (tabblad 4) | D19: =D18 -> Totaal per eenheid | E19: 1 | F19: ='4 - Eenheid Midden Nederland'!I482 -> 0
A21: # | B21: Omschrijving | D21: Eenheid | E21: (fictief) sub-wegingsaantal | F21: Prijs (excl. BTW) | G21: Prijs totaal (excl. BTW)
A22: CC-3 | B22: All-in uurtarief binnen kantoortijden voor storingen en BKW | D22: Per uur | E22: 100 | F22: 0 | G22: =E22*F22 -> 0
A23: =A22 -> CC-3 | B23: All-in uur tarief buiten kantooruren voor storingen en BKW | D23: =D22 -> Per uur | E23: 50 | F23: 0 | G23: =E23*F23 -> 0
A24: =A23 -> CC-3 | B24: All-in uur tarief zon- en feestdagen voor storingen en BKW | D24: =D22 -> Per uur | E24: 50 | F24: 0 | G24: =E24*F24 -> 0
D26: INSCHRIJVER
D27: NAAM:
D28: ONDERNEMING:
D29: ONDERTEKENING
D32: DATUM / PLAATS
C41: Selecteer hier uw keuze
C42: Perceel 1 Noord oost
C43: Perceel 2 Noord west
C44: Perceel 3 Zuid
C45: Percelen 1 en 2
C46: Percelen 1 en 3
C47: Percelen 2 en 3

Sheet 2 - Eenheid Noord Nederland
A1: Elementenlijst eenheid Noord Nederland | H1: CC-1 | I1: CC-2
A2: Adres (locatie) | B2: Postcode (locatie) | C2: Plaats (locatie) | D2: Omschrijving | E2: Merk | F2: Type | G2: Bouwjaar | H2: Prijs Nulmeting conform eis 94 | I2: Prijs onderhoud conform eis 96
A3: BALKENGRACHT 3 | B3: 9405 CH | C3: ASSEN | D3: Aggregaat vriescel | E3: NAW | F3: Silensys | G3: 12-04-23
A4: BALKENGRACHT 3 | B4: 9405 CH | C4: ASSEN | D4: vriescel | E4: CELLTHERM | F4: ONB | G4: 12-04-23
A5: BALKENGRACHT 3 | B5: 9405 CH | C5: ASSEN | D5: Warmhoudlamp | E5: SCHOLL | F5: B0043 | G5: 14-04-23 | L5: Hoofdaannemer
A6: BALKENGRACHT 3 | B6: 9405 CH | C6: ASSEN | D6: Warmhoudlamp | E6: NAW | F6: B0043 | G6: 14-04-23 | L6: Onderaannemer
A7: BALKENGRACHT 3 | B7: 9405 CH | C7: ASSEN | D7: Voorspoeldouche | E7: KWC
A8: BALKENGRACHT 3 | B8: 9405 CH | C8: ASSEN | D8: Combisteamer 6 X 1/1 GN | E8: CATERTECH RATIONAL E | F8: I combi classic | G8: 01-04-22
A9: BALKENGRACHT 3 | B9: 9405 CH | C9: ASSEN | D9: Vriescel | E9: DELTA
A10: BALKENGRACHT 3 | B10: 9405 CH | C10: ASSEN | D10: IJsblokjes/Schilferijsmachine | E10: BREMA | F10: GB 1555A HC | G10: 07-05-24
A11: BALKENGRACHT 3 | B11: 9405 CH | C11: ASSEN | D11: kookplaat (keramisch) | E11: NAW | F11: NB | G11: 01-01-08
A12: BALKENGRACHT 3 | B12: 9405 CH | C12: ASSEN | D12: bakplaat | E12: NAW | F12: NB | G12: 01-01-08
A13: BALKENGRACHT 3 | B13: 9405 CH | C13: ASSEN | D13: friteuse (electrisch) | E13: NAW | F13: NB | G13: 01-01-08
A14: BALKENGRACHT 3 | B14: 9405 CH | C14: ASSEN | D14: koelwerkbank | E14: NAW | F14: TRX50 3 R TN IX S DD | G14: 01-01-08
A15: BALKENGRACHT 3 | B15: 9405 CH | C15: ASSEN | D15: warmhoudplaat | E15: RIEBER | G15: 01-01-08
A16: BALKENGRACHT 3 | B16: 9405 CH | C16: ASSEN | D16: warmhoudplaat | E16: RIEBER | G16: 01-01-08
A17: BALKENGRACHT 3 | B17: 9405 CH | C17: ASSEN | D17: warmtebrug | E17: SCHOLL | G17: 01-01-08
A18: BALKENGRACHT 3 | B18: 9405 CH | C18: ASSEN | D18: koelbak | E18: GROKU | F18: NB | G18: 01-01-08
A19: BALKENGRACHT 3 | B19: 9405 CH | C19: ASSEN | D19: soupwell | E19: MOBIL | F19: 08.2058 | G19: 01-01-08
A20: BALKENGRACHT 3 | B20: 9405 CH | C20: ASSEN | D20: soupwell | E20: MOBIL | F20: 08.2058 | G20: 01-01-08
A21: BALKENGRACHT 3 | B21: 9405 CH | C21: ASSEN | D21: lowerator (borden) | E21: MOBIL | F21: 021512 | G21: 01-01-08
A22: BALKENGRACHT 3 | B22: 9405 CH | C22: ASSEN | D22: lowerator (borden) | E22: MOBIL | F22: 021512 | G22: 01-01-07
A23: BALKENGRACHT 3 | B23: 9405 CH | C23: ASSEN | D23: vaatwasser korventransport | E23: MEIKO | F23: K160PI | G23: 01-09-07
A24: BALKENGRACHT 3 | B24: 9405 CH | C24: ASSEN | D24: koelcel | E24: CELLTHERM | F24: CELLTHERM | G24: 01-01-00
A25: BALKENGRACHT 3 | B25: 9405 CH | C25: ASSEN | D25: bain marie | E25: GROKU | F25: NA | G25: 16-09-08
A26: BALKENGRACHT 3 | B26: 9405 CH | C26: ASSEN | D26: warmtebrug | E26: GROKU | G26: 16-09-08
A27: BALKENGRACHT 3 | B27: 9405 CH | C27: ASSEN | D27: vrieskast | E27: LIEBHERR | F27: SG 5260 - 21 | G27: 11-04-18
A28: BALKENGRACHT 3 | B28: 9405 CH | C28: ASSEN | D28: Vrieskast | E28: LIEBHERR | F28: GN2153 | G28: 30-09-79
A29: BALKENGRACHT 3 | B29: 9405 CH | C29: ASSEN | D29: koelbak | E29: NAW | F29: ONB | G29: 01-01-00
A30: BALKENGRACHT 3 | B30: 9405 CH | C30: ASSEN | D30: wandkoeling separaat | E30: GROKU | G30: 01-01-00
A31: BALKENGRACHT 3 | B31: 9405 CH | C31: ASSEN | D31: vrieswerkbank | E31: AFINOX | F31: 9TRX52RBEN001 | G31: 01-01-07
A32: BALKENGRACHT 3 | B32: 9405 CH | C32: ASSEN | D32: Waterontharder | E32: LUBRON | F32: SOFTSTAR CLASSIC (KOUDWATER) | G32: 23-09-08
A33: BALKENGRACHT 3 | B33: 9405 CH | C33: ASSEN | D33: koelaggregaat | E33: ASPERA | F33: UJ9238GK | G33: 01-01-05
A34: BALKENGRACHT 3 | B34: 9405 CH | C34: ASSEN | D34: koelaggregaat | E34: APERA | F34: OBK | G34: 01-01-07
A35: BALKENGRACHT 3 | B35: 9405 CH | C35: ASSEN | D35: vriesaggregaat | E35: NAW | F35: H150CS | G35: 24-04-07
A36: BALKENGRACHT 3 | B36: 9405 CH | C36: ASSEN | D36: koelaggregaat wandkoelmeubel | E36: APERA | F36: UNE6210GK | G36: 01-01-06
A37: BALKENGRACHT 3 | B37: 9405 CH | C37: ASSEN | D37: soup well links | E37: MOBIL | F37: 08-2054 | G37: 17-12-21
A38: BALKENGRACHT 3 | B38: 9405 CH | C38: ASSEN | D38: soup well - rechts | E38: NAW | F38: 08-2054 | G38: 17-12-21
A39: BALKENGRACHT 3 | B39: 9405 CH | C39: ASSEN | D39: Vriescel | E39: NAW | F39: SILENSYS CAJ 9480 Z | G39: 17-11-21
A40: NOORDEREND 4 | B40: 9207 AL | C40: DRACHTEN | D40: Koelkast Stekkerklaar | E40: NAW | F40: K220R | G40: 17-04-23
...

Sheet 3 - Eenheid Oost Nederland
A1: Elementenlijst eenheid Oost Nederland | H1: CC-1 | I1: CC-2
A2: Adres | B2: Postcode (locatie) | C2: Plaats (locatie) | D2: Omschrijving | E2: Merk | F2: Type | G2: Bouwjaar | H2: Prijs Nulmeting conform eis 94 | I2: Prijs onderhoud conform eis 96
A3: ARNHEMSEWEG 348 | B3: 7334 AC | C3: APELDOORN | D3: Koelwerkbank niet in gebruik | E3: METOS | F3: KSTP 03 TN | G3: 01-01-08
A4: EUROPAWEG 79 | B4: 7336 AK | C4: APELDOORN | D4: Koffieapparaat | E4: BRAVILOR
A5: EUROPAWEG 79 | B5: 7336 AK | C5: APELDOORN | D5: Koffieapparaat | E5: BRAVILOR | F5: B 10HW-021 | G5: 31-12-09 | L5: Hoofdaannemer
A6: EUROPAWEG 79 | B6: 7336 AK | C6: APELDOORN | D6: Koffieapparaat | E6: BRAVILOR | L6: Onderaannemer
A7: ARNHEMSEWEG 348 | B7: 7334 AC | C7: APELDOORN | D7: Koelkast Stekkerklaar | E7: METOS | F7: A500L | G7: 01-01-09
A8: EUROPAWEG 79 | B8: 7336 AK | C8: APELDOORN | D8: koelwerkbank | E8: METOS | F8: KSTP02TN | G8: 01-01-08
A9: EUROPAWEG 79 | B9: 7336 AK | C9: APELDOORN | D9: Combisteamer (electrisch) | E9: LEVENTI | F9: GN BOOSTER BIJ STORI | G9: 01-01-08
A10: EUROPAWEG 79 | B10: 7336 AK | C10: APELDOORN | D10: Koelkast | E10: METOS | F10: A1400TN RC | G10: 01-01-08
A11: EUROPAWEG 79 | B11: 7336 AK | C11: APELDOORN | D11: Vrieskast | E11: LIEBHERR | F11: GGV 5860 INDEX 41C / 001 | G11: 01-01-14
A12: EUROPAWEG 79 | B12: 7336 AK | C12: APELDOORN | D12: Vrieskast | E12: NAW | F12: PLUS F 600 RSG | G12: 01-01-08
A13: EUROPAWEG 79 | B13: 7336 AK | C13: APELDOORN | D13: koelwerkbank | E13: METOS | F13: KSTP03TN | G13: 01-01-08
A14: EUROPAWEG 79 | B14: 7336 AK | C14: APELDOORN | D14: koelwerkbank | E14: METOS | F14: KSTP03TN | G14: 01-01-08
A15: EUROPAWEG 79 | B15: 7336 AK | C15: APELDOORN | D15: koelwerkbank | E15: METOS | F15: KSTP02TN | G15: 01-01-08
A16: EUROPAWEG 79 | B16: 7336 AK | C16: APELDOORN | D16: Kookplaat (opzetmodel) | E16: UBERT | F16: AK-2 | G16: 01-01-08
A17: EUROPAWEG 79 | B17: 7336 AK | C17: APELDOORN | D17: Kookplaat (opzetmodel) | E17: UBERT | F17: AK-2 | G17: 01-01-08
A18: EUROPAWEG 79 | B18: 7336 AK | C18: APELDOORN | D18: Kookplaat (opzetmodel) | E18: UBERT | F18: AK-2 | G18: 01-01-08
... A120: ARNHEMSEWEG 348 | B120: 7334 AC | C120: APELDOORN | D120: Centrale koel/vriesinstallatie | E120: TEKO | F120: TPS3+1-ZB30KCE+ZF09K / TP+3-ZB30KCE+ZF09K4E | G120: 17-10-09
A121: ARNHEMSEWEG 348 | B121: 7334 AC | C121: APELDOORN | D121: Aanvoerband | E121: NAW | G121: 01-03-21
A122: ARNHEMSEWEG 348 | B122: 7334 AC | C122: APELDOORN | D122: Aanvoerband lamellen | E122: WEXIODISK | G122: 01-03-09
A123: ARNHEMSEWEG 348 | B123: 7334 AC | C123: APELDOORN | D123: Positioneerband | E123: NAW | G123: 01-03-09
A124: ARNHEMSEWEG 348 | B124: 7334 AC | C124: APELDOORN | D124: Magneetbestek sorteerder | E124: NAW | G124: 01-03-09
A125: EUROPAWEG 79 | B125: 7336 AK | C125: APELDOORN | D125: vriescel | E125: SMEVA | F125: SN-1890 | G125: 01-07-08
A126: EUROPAWEG 79 | B126: 7336 AK | C126: APELDOORN | D126: Keerbocht 90gr | E126: NAW | F126: 90GR KEERBOCHT 45521 | G126: 01-06-08
A127: EUROPAWEG 79 | B127: 7336 AK | C127: APELDOORN | D127: Slanghaspel 20mtr | E127: NAW | F127: 30810184 | G127: 01-06-08
A128: EUROPAWEG 79 | B128: 7336 AK | C128: APELDOORN | D128: Slanghaspel | E128: NEDERMAN | F128: 30810184 | G128: 21-06-07
A129: ARNHEMSEWEG 348 | B129: 7334 AC | C129: APELDOORN | D129: bordenlowerator | E129: BLANCO | F129: 2 SHE 28-31 | G129: 01-06-21
A130: EUROPAWEG 224 | B130: 7336 AR | C130: APELDOORN | D130: Werkbankkoeling 2 deurs stekkerklaar | E130: NAW | F130: DAIQUIRI 1260 M,P,P | G130: 19-04-13
A131: EUROPAWEG 79 | B131: 7336 AK | C131: APELDOORN | D131: centraal koelunit 7,2 kw | E131: EMERSON | F131: ZXDE-40DE-TFD | G131: 22-04-22
A132: EUROPAWEG 79 | B132: 7336 AK | C132: APELDOORN | D132: Vriesmachine / silensys sil aj 2464 z.fz-1 | E132: NAW | F132: SIL CAJ 2464Z | G132: 03-03-22
A133: ARNHEMSEWEG 348 | B133: 7334 AC | C133: APELDOORN | D133: waterontharder koud water | E133: LUBRON | F133: PROLINE SXT2 | G133: 04-03-22
A134: EUROPAWEG 79 | B134: 7336 AK | C134: APELDOORN | D134: waterontharder | E134: LUBRON | G134: 29-11-22
A135: BEEKSTRAAT 39 | B135: 6811 DW | C135: ARNHEM | D135: Koelmachine tbv B-109388 | E135: ONBEKEND | G135: 10-09-20
A136: BEEKSTRAAT 39 | B136: 6811 DW | C136: ARNHEM | D136: Vriesmachine tbv B-109389 | E136: TECUMSEH | G136: 11-10-20
A137: BEEKSTRAAT 39 | B137: 6811 DW | C137: ARNHEM | D137: Wandkoeling Stekkerklaar | E137: NAW | F137: Fogal | G137: 10-04-24
A138: BEEKSTRAAT 39 | B138: 6811 DW | C138: ARNHEM | D138: Wandkoeling Stekkerklaar | E138: NAW | F138: Fogal | G138: 10-04-24
A139: BEEKSTRAAT 39 | B139: 6811 DW | C139: ARNHEM | D139: Koelkast | E139: COMBISTEEL | F139: HR600 | G139: 01-10-15
A140: BEEKSTRAAT 39 | B140: 6811 DW | C140: ARNHEM | D140: Vrieskast | E140: JUMBO | F140: AB 500N JUMBO | G140: 01-01-02
A141: BEEKSTRAAT 39 | B141: 6811 DW | C141: ARNHEM | D141: Koelkast | E141: LIEBHERR | F141: UKU 1805 INDEX 21A / 001 | G141: 01-11-04
...

Sheet 4 - Eenheid Midden Nederland
A1: Elementenlijst eenheid Oost Nederland | H1: CC-1 | I1: CC-2
A2: Adres | B2: Postcode (locatie) | C2: Plaats (locatie) | D2: Omschrijving | E2: Merk | F2: Type | G2: Bouwjaar | H2: Prijs Nulmeting conform eis 94 | I2: Prijs onderhoud conform eis 96
A3: BALJUWSTRAAT 2 | B3: 1315 HG | C3: ALMERE | D3: Koelkast Stekkerklaar | E3: HOSHIZAKI | F3: B-124984
A4: BALJUWSTRAAT 2 | B4: 1315 HG | C4: ALMERE | D4: Koelvitrine Stekkerklaar | E4: FOGAL | F4: Murale Alaska Slim 150 COn Gruppo | G4: 31-12-17
A5: MARATHONLAAN 8 | B5: 1318 EE | C5: ALMERE | D5: Koelvitrine Stekkerklaar | E5: CULION | F5: Tafelmodel KVS12 | G5: 31-08-20 | K5: Hoofdaannemer
A6: BALJUWSTRAAT 2 | B6: 1315 HG | C6: ALMERE | D6: Magnetron 22 liter 1000 W | E6: PANASONIC | K6: Onderaannemer
A7: BALJUWSTRAAT 2 | B7: 1315 HG | C7: ALMERE | D7: Contactgrill | E7: MILAN | F7: 1600X | G7: 17-08-14
A8: BALJUWSTRAAT 2 | B8: 1315 HG | C8: ALMERE | D8: Oven | E8: UNOX | F8: XF023 GR | G8: 01-01-18
A9: BALJUWSTRAAT 2 | B9: 1315 HG | C9: ALMERE | D9: Koelkast | E9: NAW | F9: PLUS K 600 RSG C 4 N | G9: 01-01-10
A10: BALJUWSTRAAT 2 | B10: 1315 HG | C10: ALMERE | D10: Warmtelamp | E10: SCHOLL | F10: 24002/B/C | G10: 01-01-15
A11: BALJUWSTRAAT 2 | B11: 1315 HG | C11: ALMERE | D11: Warmhoudplaat | E11: ROCAM | F11: VULCANO 2/1 | G11: 01-01-14
A12: BALJUWSTRAAT 2 | B12: 1315 HG | C12: ALMERE | D12: Koelkast | E12: NAW | F12: PLUS K 600 RSG DL 4 | G12: 01-01-10
A13: BALJUWSTRAAT 2 | B13: 1315 HG | C13: ALMERE | D13: Vrieskast | E13: NAW | F13: PLUS F600 RSG C 4N | G13: 01-01-12
A14: BALJUWSTRAAT 2 | B14: 1315 HG | C14: ALMERE | D14: Magnetron | E14: WHIRLPOOL | F14: AVM 840 | G14: 01-01-00
A15: BALJUWSTRAAT 2 | B15: 1315 HG | C15: ALMERE | D15: Vrieskast | E15: NAW | F15: PLUS F 600 RSG DL C | G15: 01-01-12
A16: BALJUWSTRAAT 2 | B16: 1315 HG | C16: ALMERE | D16: Vrieskast | E16: NAW | F16: PLUS F 600 RSG DL C | G16: 01-01-12
A17: BALJUWSTRAAT 2 | B17: 1315 HG | C17: ALMERE | D17: vrieskast | E17: NAW | F17: PLUS F 600 RSG 4N | G17: 01-01-12
A18: BALJUWSTRAAT 2 | B18: 1315 HG | C18: ALMERE | D18: kookplaat (opzetmodel) | E18: UBERT | F18: AK-2 | G18: 01-01-15
A19: BALJUWSTRAAT 2 | B19: 1315 HG | C19: ALMERE | D19: kookplaat (opzetmodel) | E19: UBERT | F19: AK-2 | G19: 01-01-15
A20: BALJUWSTRAAT 2 | B20: 1315 HG | C20: ALMERE | D20: Afzuigkap | E20: NAW | G20: 01-01-07
A21: BALJUWSTRAAT 2 | B21: 1315 HG | C21: ALMERE | D21: Vaatwasmachine-doorschuif | E21: RHIMA | F21: WD-6 | G21: 01-01-11
A22: BALJUWSTRAAT 2 | B22: 1315 HG | C22: ALMERE | D22: Vriezer | E22: GRAM | F22: TWIN F600 RSG 4N | G22: 10-10-12
A23: BALJUWSTRAAT 2 | B23: 1315 HG | C23: ALMERE | D23: Oven | E23: DIAMOND | F23: CPE664BP | G23: 05-06-19
A24: BALJUWSTRAAT 2 | B24: 1315 HG | C24: ALMERE | D24: Friteuse (electrisch) | E24: MODULAR | F24: DUBBEL FRITEUSE | G24: 01-05-20
A25: BALJUWSTRAAT 2 | B25: 1315 HG | C25: ALMERE | D25: Bakplaat | E25: MODULAR | F25: FU 60/60 FTE-CR | G25: 01-05-20
A26: MARATHONLAAN 8 | B26: 1318 EE | C26: ALMERE | D26: kookplaat (opzetmodel) | E26: UBERT | F26: AK-2 | G26: 01-01-15
A27: MARATHONLAAN 8 | B27: 1318 EE | C27: ALMERE | D27: kookplaat (opzetmodel) | E27: UBERT | F27: AK-2 | G27: 01-01-15
A28: MARATHONLAAN 8 | B28: 1318 EE | C28: ALMERE | D28: warmtebrug | E28: ROCAM | F28: VULCANO 2/1 | G28: 01-01-14
A29: MARATHONLAAN 8 | B29: 1318 EE | C29: ALMERE | D29: warmtebrug | E29: ROCAM | F29: VULCANO 1/1 | G29: 01-01-15
A30: MARATHONLAAN 8 | B30: 1318 EE | C30: ALMERE | D30: kookplaat 4 pits | E30: MARENO | F30: ONBEKEND | G30: 01-01-05
A31: MARATHONLAAN 8 | B31: 1318 EE | C31: ALMERE | D31: bakplaat | E31: MARENO | F31: ONBEKEND | G31: 01-01-05
A32: MARATHONLAAN 8 | B32: 1318 EE | C32: ALMERE | D32: friteuse (electrisch) | E32: MARENO | F32: ONBEKEND | G32: 01-01-05
... A41: MARATHONLAAN 8 | B41: 1318 EE | C41: ALMERE | D41: contactgrill | E41: MILAN | F41: 1600X | G41: 14-07-14
A42: MARATHONLAAN 8 | B42: 1318 EE | C42: ALMERE | D42: vrieskast | E42: NAW | F42: GS 1432 INDEX 24B / 001
A43: MARATHONLAAN 8 | B43: 1318 EE | C43: ALMERE | D43: koelkast | E43: NAW | F43: PLUS M 69 F | G43: 25-09-19
A44: MARATHONLAAN 8 | B44: 1318 EE | C44: ALMERE | D44: waterontharder | E44: LUBRON | F44: PROLINE SXT2 (KOUDWATER) | G44: 22-05-20
A45: BALJUWSTRAAT 2 | B45: 1315 HG | C45: ALMERE | D45: Koelkast compact met glasdeur | E45: NAW | F45: KG 420 RG | G45: 23-06-22
A46: DE CORRIDOR 3 | B46: 3621 ZA | C46: BREUKELEN UT | D46: Koelwerkbank Afnemer | E46: KOVU | F46: GREENLAND/Model GN3100TN SG | G46: 11-04-14
A47: DE CORRIDOR 3 | B47: 3621 ZA | C47: BREUKELEN UT | D47: Kookplaat Elektrisch Algemeen | E47: ELECTROLUX | F47: E7INED2000 | G47: 01-11-14
A48: DE CORRIDOR 3 | B48: 3621 ZA | C48: BREUKELEN UT | D48: Vaatwasser - Doorschuiver | E48: NAW | F48: NHT8G | G48: 01-01-14
...
