Workbook

Sheet 1 - Prijzenblad
A1: Prijzenblad EA Onderhoud en Vervanging Grootkeukenapparatuur Perceel 1 Noord oost
B2: Het Prijzenblad kent een opbouw van vier criteria. Namelijk uw voorkeur in Percelen. Voor CC-1 en CC-2 een prijs per element (in tabbladen 2, 3 en 4) en vooor CC-3 een prijs per uur in verschilende tijdsvlakken. De Inschrijver vult alleen de blauwe velden in alle vier de tabbladen in. De voorwaarden voor het prijzenblad vindt u in hoofdstuk 4 van de Inschrijvingsleidraad | F2: Totaal CC-1: | G2: =SUM(F12:G14) -> 0
F4: Totaal CC-2: | G4: =SUM(F17:G19) -> 0
F6: Totaal CC-3: | G6: =SUM(G22:G24) -> 0
A8: P | B8: Omschrijving | F8: Uw keuze middels dropdown menu
A9: # | B9: Uw voorkeur gaat uit naar het volgende Perceel of Percelen: | F9: Selecteer hier uw keuze
A11: # | B11: Omschrijving | D11: Eenheid | F11: Prijs totaal (excl. BTW)
A12: CC-1 | B12: Nulmeting eenheid Noord Nederland (tabblad 1) | D12: Totaal per eenheid | F12: ='2 - Eenheid Noord Nederland'!H182 -> 0
A13: =A12 -> CC-1 | B13: Nulmeting eenheid Oost Nederland (tabblad 2) | D13: =D12 -> Totaal per eenheid | F13: ='3 - Eenheid Oost Nederland'!H413 -> 0
A14: =A13 -> CC-1 | B14: Nulmeting eenheid Midden Nederland (tabblad 3) | D14: =D13 -> Totaal per eenheid | F14: ='4 - Eenheid Midden Nederland'!H482 -> 0
A16: # | B16: Omschrijving | D16: Eenheid | E16: (fictief) sub-wegingsaantal | F16: Prijs totaal (excl. BTW)
A17: CC-2 | B17: Preventief onderhoud eenheid Noord Nederland (tabblad 2) | D17: Totaal per eenheid | E17: 1 | F17: ='2 - Eenheid Noord Nederland'!I182 -> 0
A18: =A17 -> CC-2 | B18: Preventief onderhoud eenheid Oost Nederland (tabblad 3) | D18: =D17 -> Totaal per eenheid | E18: 1 | F18: ='3 - Eenheid Oost Nederland'!I413 -> 0
A19: =A18 -> CC-2 | B19: Preventief onderhoud eenheid Midden Nederland (tabblad 4) | D19: =D18 -> Totaal per eenheid | E19: 1 | F19: ='4 - Eenheid Midden Nederland'!I482 -> 0
A21: # | B21: Omschrijving | D21: Eenheid | E21: (fictief) sub-wegingsaantal | F21: Prijs (excl. BTW) | G21: Prijs totaal (excl. BTW)
A22: CC-3 | B22: All-in uurtarief binnen kantoortijden voor storingen en BKW | D22: Per uur | E22: 100 | F22: 0 | G22: =E22*F22 -> 0
A23: =A22 -> CC-3 | B23: All-in uur tarief buiten kantooruren voor storingen en BKW | D23: =D22 -> Per uur | E23: 50 | F23: 0 | G23: =E23*F23 -> 0
A24: =A23 -> CC-3 | B24: All-in uur tarief zon- en feestdagen voor storingen en BKW | D24: =D22 -> Per uur | E24: 50 | F24: 0 | G24: =E24*F24 -> 0
D26: INSCHRIJVER
D27: NAAM:
D28: ONDERNEMING:
D29: ONDERTEKENING
D32: DATUM / PLAATS
C41: Selecteer hier uw keuze
C42: Perceel 1 Noord oost
C43: Perceel 2 Noord west
C44: Perceel 3 Zuid
C45: Percelen 1 en 2
C46: Percelen 1 en 3
C47: Percelen 2 en 3

Sheet 2 - Eenheid Noord Nederland
A1: Elementenlijst eenheid Noord Nederland | H1: CC-1 | I1: CC-2
A2: Adres (locatie) | B2: Postcode (locatie) | C2: Plaats (locatie) | D2: Omschrijving | E2: Merk | F2: Type | G2: Bouwjaar | H2: Prijs Nulmeting conform eis 94 | I2: Prijs onderhoud conform eis 96
A3: BALKENGRACHT 3 | B3: 9405 CH | C3: ASSEN | D3: Aggregaat vriescel | E3: NAW | F3: Silensys | G3: 12-04-23
A4: BALKENGRACHT 3 | B4: 9405 CH | C4: ASSEN | D4: vriescel | E4: CELLTHERM | F4: ONB | G4: 12-04-23
A5: BALKENGRACHT 3 | B5: 9405 CH | C5: ASSEN | D5: Warmhoudlamp | E5: SCHOLL | F5: B0043 | G5: 14-04-23 | L5: Hoofdaannemer
A6: BALKENGRACHT 3 | B6: 9405 CH | C6: ASSEN | D6: Warmhoudlamp | E6: NAW | F6: B0043 | G6: 14-04-23 | L6: Onderaannemer
A7: BALKENGRACHT 3 | B7: 9405 CH | C7: ASSEN | D7: Voorspoeldouche | E7: KWC
A8: BALKENGRACHT 3 | B8: 9405 CH | C8: ASSEN | D8: Combisteamer 6 X 1/1 GN | E8: CATERTECH RATIONAL E | F8: I combi classic | G8: 01-04-22
A9: BALKENGRACHT 3 | B9: 9405 CH | C9: ASSEN | D9: Vriescel | E9: DELTA
A10: BALKENGRACHT 3 | B10: 9405 CH | C10: ASSEN | D10: IJsblokjes/Schilferijsmachine | E10: BREMA | F10: GB 1555A HC | G10: 07-05-24
A11: BALKENGRACHT 3 | B11: 9405 CH | C11: ASSEN | D11: kookplaat (keramisch) | E11: NAW | F11: NB | G11: 01-01-08
A12: BALKENGRACHT 3 | B12: 9405 CH | C12: ASSEN | D12: bakplaat | E12: NAW | F12: NB | G12: 01-01-08
A13: BALKENGRACHT 3 | B13: 9405 CH | C13: ASSEN | D13: friteuse (electrisch) | E13: NAW | F13: NB | G13: 01-01-08
A14: BALKENGRACHT 3 | B14: 9405 CH | C14: ASSEN | D14: koelwerkbank | E14: NAW | F14: TRX50 3 R TN IX S DD | G14: 01-01-08
A15: BALKENGRACHT 3 | B15: 9405 CH | C15: ASSEN | D15: warmhoudplaat | E15: RIEBER | G15: 01-01-08
A16: BALKENGRACHT 3 | B16: 9405 CH | C16: ASSEN | D16: warmhoudplaat | E16: RIEBER | G16: 01-01-08
A17: BALKENGRACHT 3 | B17: 9405 CH | C17: ASSEN | D17: warmtebrug | E17: SCHOLL | G17: 01-01-08
A18: BALKENGRACHT 3 | B18: 9405 CH | C18: ASSEN | D18: koelbak | E18: GROKU | F18: NB | G18: 01-01-08
A19: BALKENGRACHT 3 | B19: 9405 CH | C19: ASSEN | D19: soupwell | E19: MOBIL | F19: 08.2058 | G19: 01-01-08
A20: BALKENGRACHT 3 | B20: 9405 CH | C20: ASSEN | D20: soupwell | E20: MOBIL | F20: 08.2058 | G20: 01-01-08
A21: BALKENGRACHT 3 | B21: 9405 CH | C21: ASSEN | D21: lowerator (borden) | E21: MOBIL | F21: 021512 | G21: 01-01-08
A22: BALKENGRACHT 3 | B22: 9405 CH | C22: ASSEN | D22: lowerator (borden) | E22: MOBIL | F22: 021512 | G22: 01-01-07
A23: BALKENGRACHT 3 | B23: 9405 CH | C23: ASSEN | D23: vaatwasser korventransport | E23: MEIKO | F23: K160PI | G23: 01-09-07
A24: BALKENGRACHT 3 | B24: 9405 CH | C24: ASSEN | D24: koelcel | E24: CELLTHERM | F24: CELLTHERM | G24: 01-01-00
A25: BALKENGRACHT 3 | B25: 9405 CH | C25: ASSEN | D25: bain marie | E25: GROKU | F25: NA | G25: 16-09-08
A26: BALKENGRACHT 3 | B26: 9405 CH | C26: ASSEN | D26: warmtebrug | E26: GROKU | G26: 16-09-08
A27: BALKENGRACHT 3 | B27: 9405 CH | C27: ASSEN | D27: vrieskast | E27: LIEBHERR | F27: SG 5260 - 21 | G27: 11-04-18
A28: BALKENGRACHT 3 | B28: 9405 CH | C28: ASSEN | D28: Vrieskast | E28: LIEBHERR | F28: GN2153 | G28: 30-09-79
A29: BALKENGRACHT 3 | B29: 9405 CH | C29: ASSEN | D29: koelbak | E29: NAW | F29: ONB | G29: 01-01-00
A30: BALKENGRACHT 3 | B30: 9405 CH | C30: ASSEN | D30: wandkoeling separaat | E30: GROKU | G30: 01-01-00
A31: BALKENGRACHT 3 | B31: 9405 CH | C31: ASSEN | D31: vrieswerkbank | E31: AFINOX | F31: 9TRX52RBEN001 | G31: 01-01-07
A32: BALKENGRACHT 3 | B32: 9405 CH | C32: ASSEN | D32: Waterontharder | E32: LUBRON | F32: SOFTSTAR CLASSIC (KOUDWATER) | G32: 23-09-08
A33: BALKENGRACHT 3 | B33: 9405 CH | C33: ASSEN | D33: koelaggregaat | E33: ASPERA | F33: UJ9238GK | G33: 01-01-05
A34: BALKENGRACHT 3 | B34: 9405 CH | C34: ASSEN | D34: koelaggregaat | E34: APERA | F34: OBK | G34: 01-01-07
A35: BALKENGRACHT 3 | B35: 9405 CH | C35: ASSEN | D35: vriesaggregaat | E35: NAW | F35: H150CS | G35: 24-04-07
A36: BALKENGRACHT 3 | B36: 9405 CH | C36: ASSEN | D36: koelaggregaat wandkoelmeubel | E36: APERA | F36: UNE6210GK | G36: 01-01-06
A37: BALKENGRACHT 3 | B37: 9405 CH | C37: ASSEN | D37: soup well links | E37: MOBIL | F37: 08-2054 | G37: 17-12-21
A38: BALKENGRACHT 3 | B38: 9405 CH | C38: ASSEN | D38: soup well - rechts | E38: NAW | F38: 08-2054 | G38: 17-12-21
A39: BALKENGRACHT 3 | B39: 9405 CH | C39: ASSEN | D39: Vriescel | E39: NAW | F39: SILENSYS CAJ 9480 Z | G39: 17-11-21
A40: NOORDEREND 4 | B40: 9207 AL | C40: DRACHTEN | D40: Koelkast Stekkerklaar | E40: NAW | F40: K220R | G40: 17-04-23
A41: NOORDEREND 4 | B41: 9207 AL | C41: DRACHTEN | D41: Koelkast Stekkerklaar | E41: NAW | F41: K220R | G41: 17-10-22
A42: NOORDEREND 4 | B42: 9207 AL | C42: DRACHTEN | D42: Vrieskast Stekkerklaar | E42: FOSTER | F42: 41-106 EP700L | G42: 18-10-23
... A44: NOORDEREND 4 | B44: 9207 AL | C44: DRACHTEN | D44: Contactgrill | E44: NAW | F44: 263655 Contact grill Panini | G44: 31-08-24
A45: SPORTLAAN 7 | B45: 9203 NV | C45: DRACHTEN | D45: Vrieskast Stekkerklaar | E45: GRAM | F45: Eco Plus F 70 CCG L2
A46: NOORDEREND 4 | B46: 9207 AL | C46: DRACHTEN | D46: Koelkast | E46: FOSTER
A47: NOORDEREND 4 | B47: 9207 AL | C47: DRACHTEN | D47: Koelbak | E47: NAW | G47: 01-01-10
A48: NOORDEREND 4 | B48: 9207 AL | C48: DRACHTEN | D48: Warmhoudplaat | E48: ROCAM | F48: VULCANO 2/1 | G48: 01-01-15
A49: NOORDEREND 4 | B49: 9207 AL | C49: DRACHTEN | D49: Warmtelamp | E49: SCHOLL | F49: B0053 | G49: 01-01-15
A50: NOORDEREND 4 | B50: 9207 AL | C50: DRACHTEN | D50: Kookplaat (opzetmodel) | E50: UBERT | F50: AK-2 | G50: 01-01-15
A51: SPORTLAAN 7 | B51: 9203 NV | C51: DRACHTEN | D51: Kookplaat (opzetmodel) | E51: UBERT | F51: AK-2 | G51: 01-01-15
A52: NOORDEREND 4 | B52: 9207 AL | C52: DRACHTEN | D52: Combisteamer (electrisch) | E52: RATIONAL ELEKTRA | F52: ICOMBI CLASSIC | G52: 01-01-20
A53: NOORDEREND 4 | B53: 9207 AL | C53: DRACHTEN | D53: Kookplaat keramisch | E53: MODULAR | F53: 65-70 PCE | G53: 01-01-10
A54: NOORDEREND 4 | B54: 9207 AL | C54: DRACHTEN | D54: Bakplaat | E54: MODULAR | F54: 65-40 FTE | G54: 01-01-10
A55: NOORDEREND 4 | B55: 9207 AL | C55: DRACHTEN | D55: Vrieskast | E55: GRAM | F55: PLUS F 600 RSG 4N | G55: 01-01-10
A56: NOORDEREND 4 | B56: 9207 AL | C56: DRACHTEN | D56: Vrieskast | E56: NAW | F56: PLUS F 600 RSG C 4N | G56: 01-01-10
A57: NOORDEREND 4 | B57: 9207 AL | C57: DRACHTEN | D57: Koelkast (AFVOEREN) | E57: NAW | F57: RE471FR PNC 727292 | G57: 01-01-14
A58: NOORDEREND 4 | B58: 9207 AL | C58: DRACHTEN | D58: Koelkast | E58: NAW | F58: PLUS K 600 R | G58: 01-01-10
A59: NOORDEREND 4 | B59: 9207 AL | C59: DRACHTEN | D59: Waterontharder | E59: LUBRON | F59: MINILINE | G59: 01-01-10
... A84: WESTEIND 60 | B84: 7811 ME | C84: EMMEN | D84: Koelkast | E84: NAW | F84: K210 RG 3N | G84: 15-07-11
A85: WESTEIND 60 | B85: 7811 ME | C85: EMMEN | D85: afzuigkap | E85: NU AIR | F85: ONB
A86: WESTEIND 60 | B86: 7811 ME | C86: EMMEN | D86: koelkast | E86: NAW | F86: PLUS K 600 RSG C 4 N
A87: WESTEIND 60 | B87: 7811 ME | C87: EMMEN | D87: vrieskast | E87: NAW | F87: PLUS F 600 RSG DL C
A88: WESTEIND 60 | B88: 7811 ME | C88: EMMEN | D88: Koelvitrine | E88: DIAMOND | F88: CB10V-B9/R2 | G88: 29-07-21
A89: WESTEIND 60 | B89: 7811 ME | C89: EMMEN | D89: vaatwas doorschuiver prime | E89: CATERTECH / DESCO | F89: CTV-DS1010 | G89: 06-10-22
A90: WESTEIND 60 | B90: 7811 ME | C90: EMMEN | D90: waterontharder koud water | E90: LUBRON | G90: 06-10-22
A91: WESTEIND 60 | B91: 7811 ME | C91: EMMEN | D91: Friteuse 2-pans 8+8 ltr elek. | E91: FAGOR | F91: F-E7208 (TOP)
A92: WESTEIND 60 | B92: 7811 ME | C92: EMMEN | D92: bakplaatunit glad elektrisch | E92: FAGOR | F92: FT-E705 L
A93: WESTEIND 60 | B93: 7811 ME | C93: EMMEN | D93: elektrische kookunit 2 zones | E93: FAGOR | F93: C-E720
A94: HOOGHOUDTSTRAAT 18 | B94: 9723 TG | C94: GRONINGEN | D94: Koel Machine (Separaat) | E94: SILENSYS | F94: SIL AE 4460 Z.FZ-1 | G94: 20-02-24
A95: HOOGHOUDTSTRAAT 18 | B95: 9723 TG | C95: GRONINGEN | D95: koelcel | E95: CELLTHERM | G95: 21-06-24
A96: HOOGHOUDTSTRAAT 18 | B96: 9723 TG | C96: GRONINGEN | D96: Vries Machine (Separaat) | E96: SILENSYS | F96: SIL FH 2480 Z.TZ-3 | G96: 15-03-24
A97: HOOGHOUDTSTRAAT 18 | B97: 9723 TG | C97: GRONINGEN | D97: Vriescel | E97: CELLTHERM | G97: 01-01-13
A98: RADEMARKT 12 | B98: 9711 CV | C98: GRONINGEN | D98: Koelmachine tbv B-78583 | E98: NAW | G98: 01-01-00
A99: RADEMARKT 12 | B99: 9711 CV | C99: GRONINGEN | D99: Vriesmachine tbv B-78584 | E99: NAW
A100: RADEMARKT 12 | B100: 9711 CV | C100: GRONINGEN | D100: Fornuis/Kooktafel Elektrisch | E100: ELECTROLUX | F100: Kook plaat | G100: 24-09-23
A101: SCHWEITZERLAAN 1 | B101: 9728 NR | C101: GRONINGEN | D101: Combisteamer Elektrisch | E101: UNOX | F101: XEFT-04HS-EMRV | G101: 07-09-23
A102: RADEMARKT 12 | B102: 9711 CV | C102: GRONINGEN | D102: Vaatwasser - Voorlader | E102: NAW | F102: WD-6 | G102: 01-01-22
A103: SCHWEITZERLAAN 1 | B103: 9728 NR | C103: GRONINGEN | D103: Waterontharder | E103: NAW | F103: GIX8 | G103: 30-10-20
A104: RADEMARKT 12 | B104: 9711 CV | C104: GRONINGEN | D104: Magnetron 18 liter 2100 W | E104: PANASONIC | G104: 08-10-24
A105: RADEMARKT 12 | B105: 9711 CV | C105: GRONINGEN | D105: kookplaat (opzetmodel) | E105: UBERT | F105: AK-2 | G105: 28-10-15
A106: RADEMARKT 12 | B106: 9711 CV | C106: GRONINGEN | D106: kookplaat (opzetmodel) | E106: UBERT | F106: AK-2 | G106: 15-07-05
A107: RADEMARKT 12 | B107: 9711 CV | C107: GRONINGEN | D107: Warmhoudplaat | E107: ELECTROLUX | F107: ONB | G107: 15-07-05
A108: RADEMARKT 12 | B108: 9711 CV | C108: GRONINGEN | D108: Warmtelamp | E108: SCHOLL | F108: 24002/B/C | G108: 01-01-14
A109: RADEMARKT 12 | B109: 9711 CV | C109: GRONINGEN | D109: Magnetron | E109: PANASONIC | F109: NE-1330 | G109: 15-07-05
A110: RADEMARKT 12 | B110: 9711 CV | C110: GRONINGEN | D110: Afzuigkap | E110: ELECTROLUX | F110: ONB | G110: 01-01-95
A111: RADEMARKT 12 | B111: 9711 CV | C111: GRONINGEN | D111: Oven | E111: ALPHATECH | F111: REC051M | G111: 01-01-14
A112: RADEMARKT 12 | B112: 9711 CV | C112: GRONINGEN | D112: koelcel | E112: ROMA | F112: 4X3 | G112: 01-01-00
A113: RADEMARKT 12 | B113: 9711 CV | C113: GRONINGEN | D113: vriescel | E113: POLY | F113: 210X210X210
A114: RADEMARKT 12 | B114: 9711 CV | C114: GRONINGEN | D114: Waterontharder | E114: LUBRON | F114: 01010109 | G114: 15-05-05
A115: RADEMARKT 12 | B115: 9711 CV | C115: GRONINGEN | D115: Contactgrill | E115: MILAN | F115: 1600X | G115: 15-06-15
A116: RADEMARKT 12 | B116: 9711 CV | C116: GRONINGEN | D116: Magnetron | E116: AMANA | F116: HDC 514 | G116: 15-07-07
A117: RADEMARKT 12 | B117: 9711 CV | C117: GRONINGEN | D117: Magnetron | E117: AMANA | F117: HDC 514 | G117: 15-07-05
A118: RADEMARKT 12 | B118: 9711 CV | C118: GRONINGEN | D118: Friteuse (electrisch) | E118: MKN | F118: 1220303-02 | G118: 14-05-19
A119: RADEMARKT 12 | B119: 9711 CV | C119: GRONINGEN | D119: schilferijsmachine | E119: ELECTROLUX | F119: 730171 | G119: 27-03-20
A120: SCHWEITZERLAAN 1 | B120: 9728 NR | C120: GRONINGEN | D120: Friteuse (electrisch) | E120: MARENO | F120: F7-6E 10 | G120: 15-07-01
A121: SCHWEITZERLAAN 1 | B121: 9728 NR | C121: GRONINGEN | D121: Kookplaat | E121: MARENO | F121: C7-4EC | G121: 15-07-01
A122: SCHWEITZERLAAN 1 | B122: 9728 NR | C122: GRONINGEN | D122: Kookketel | E122: MARENO | F122: PI7-6E5 | G122: 15-07-01
A123: SCHWEITZERLAAN 1 | B123: 9728 NR | C123: GRONINGEN | D123: Warmhoudplaat | E123: ROCAM | F123: VULCANO 2/1 | G123: 01-01-14
A124: SCHWEITZERLAAN 1 | B124: 9728 NR | C124: GRONINGEN | D124: Kookplaat (opzetmodel) | E124: UBERT | F124: AK-2 | G124: 15-07-15
A125: SCHWEITZERLAAN 1 | B125: 9728 NR | C125: GRONINGEN | D125: Kookplaat (opzetmodel) | E125: UBERT | F125: AK-2 | G125: 15-07-15
...

Sheet 3 - Eenheid Oost Nederland
A1: Elementenlijst eenheid Oost Nederland | H1: CC-1 | I1: CC-2
A2: Adres | B2: Postcode (locatie) | C2: Plaats (locatie) | D2: Omschrijving | E2: Merk | F2: Type | G2: Bouwjaar | H2: Prijs Nulmeting conform eis 94 | I2: Prijs onderhoud conform eis 96
A3: ARNHEMSEWEG 348 | B3: 7334 AC | C3: APELDOORN | D3: Koelwerkbank niet in gebruik | E3: METOS | F3: KSTP 03 TN | G3: 01-01-08
A4: EUROPAWEG 79 | B4: 7336 AK | C4: APELDOORN | D4: Koffieapparaat | E4: BRAVILOR
A5: EUROPAWEG 79 | B5: 7336 AK | C5: APELDOORN | D5: Koffieapparaat | E5: BRAVILOR | F5: B 10HW-021 | G5: 31-12-09 | L5: Hoofdaannemer
A6: EUROPAWEG 79 | B6: 7336 AK | C6: APELDOORN | D6: Koffieapparaat | E6: BRAVILOR | L6: Onderaannemer
A7: ARNHEMSEWEG 348 | B7: 7334 AC | C7: APELDOORN | D7: Koelkast Stekkerklaar | E7: METOS | F7: A500L | G7: 01-01-09
A8: EUROPAWEG 79 | B8: 7336 AK | C8: APELDOORN | D8: koelwerkbank | E8: METOS | F8: KSTP02TN | G8: 01-01-08
A9: EUROPAWEG 79 | B9: 7336 AK | C9: APELDOORN | D9: Combisteamer (electrisch) | E9: LEVENTI | F9: GN BOOSTER BIJ STORI | G9: 01-01-08
A10: EUROPAWEG 79 | B10: 7336 AK | C10: APELDOORN | D10: Koelkast | E10: METOS | F10: A1400TN RC | G10: 01-01-08
A11: EUROPAWEG 79 | B11: 7336 AK | C11: APELDOORN | D11: Vrieskast | E11: LIEBHERR | F11: GGV 5860 INDEX 41C / 001 | G11: 01-01-14
A12: EUROPAWEG 79 | B12: 7336 AK | C12: APELDOORN | D12: Vrieskast | E12: NAW | F12: PLUS F 600 RSG | G12: 01-01-08
A13: EUROPAWEG 79 | B13: 7336 AK | C13: APELDOORN | D13: koelwerkbank | E13: METOS | F13: KSTP03TN | G13: 01-01-08
A14: EUROPAWEG 79 | B14: 7336 AK | C14: APELDOORN | D14: koelwerkbank | E14: METOS | F14: KSTP03TN | G14: 01-01-08
A15: EUROPAWEG 79 | B15: 7336 AK | C15: APELDOORN | D15: koelwerkbank | E15: METOS | F15: KSTP02TN | G15: 01-01-08
A16: EUROPAWEG 79 | B16: 7336 AK | C16: APELDOORN | D16: Kookplaat (opzetmodel) | E16: UBERT | F16: AK-2 | G16: 01-01-08
A17: EUROPAWEG 79 | B17: 7336 AK | C17: APELDOORN | D17: Kookplaat (opzetmodel) | E17: UBERT | F17: AK-2 | G17: 01-01-08
A18: EUROPAWEG 79 | B18: 7336 AK | C18: APELDOORN | D18: Kookplaat (opzetmodel) | E18: UBERT | F18: AK-2 | G18: 01-01-08
... A120: ARNHEMSEWEG 348 | B120: 7334 AC | C120: APELDOORN | D120: Centrale koel/vriesinstallatie | E120: TEKO | F120: TPS3+1-ZB30KCE+ZF09K / TP+3-ZB30KCE+ZF09K4E | G120: 17-10-09
A121: ARNHEMSEWEG 348 | B121: 7334 AC | C121: APELDOORN | D121: Aanvoerband | E121: NAW | G121: 01-03-21
A122: ARNHEMSEWEG 348 | B122: 7334 AC | C122: APELDOORN | D122: Aanvoerband lamellen | E122: WEXIODISK | G122: 01-03-09
A123: ARNHEMSEWEG 348 | B123: 7334 AC | C123: APELDOORN | D123: Positioneerband | E123: NAW | G123: 01-03-09
A124: ARNHEMSEWEG 348 | B124: 7334 AC | C124: APELDOORN | D124: Magneetbestek sorteerder | E124: NAW | G124: 01-03-09
A125: EUROPAWEG 79 | B125: 7336 AK | C125: APELDOORN | D125: vriescel | E125: SMEVA | F125: SN-1890 | G125: 01-07-08
A126: EUROPAWEG 79 | B126: 7336 AK | C126: APELDOORN | D126: Keerbocht 90gr | E126: NAW | F126: 90GR KEERBOCHT 45521 | G126: 01-06-08
A127: EUROPAWEG 79 | B127: 7336 AK | C127: APELDOORN | D127: Slanghaspel 20mtr | E127: NAW | F127: 30810184 | G127: 01-06-08
A128: EUROPAWEG 79 | B128: 7336 AK | C128: APELDOORN | D128: Slanghaspel | E128: NEDERMAN | F128: 30810184 | G128: 21-06-07
A129: ARNHEMSEWEG 348 | B129: 7334 AC | C129: APELDOORN | D129: bordenlowerator | E129: BLANCO | F129: 2 SHE 28-31 | G129: 01-06-21
A130: EUROPAWEG 224 | B130: 7336 AR | C130: APELDOORN | D130: Werkbankkoeling 2 deurs stekkerklaar | E130: NAW | F130: DAIQUIRI 1260 M,P,P | G130: 19-04-13
A131: EUROPAWEG 79 | B131: 7336 AK | C131: APELDOORN | D131: centraal koelunit 7,2 kw | E131: EMERSON | F131: ZXDE-40DE-TFD | G131: 22-04-22
A132: EUROPAWEG 79 | B132: 7336 AK | C132: APELDOORN | D132: Vriesmachine / silensys sil aj 2464 z.fz-1 | E132: NAW | F132: SIL CAJ 2464Z | G132: 03-03-22
A133: ARNHEMSEWEG 348 | B133: 7334 AC | C133: APELDOORN | D133: waterontharder koud water | E133: LUBRON | F133: PROLINE SXT2 | G133: 04-03-22
A134: EUROPAWEG 79 | B134: 7336 AK | C134: APELDOORN | D134: waterontharder | E134: LUBRON | G134: 29-11-22
A135: BEEKSTRAAT 39 | B135: 6811 DW | C135: ARNHEM | D135: Koelmachine tbv B-109388 | E135: ONBEKEND | G135: 10-09-20
A136: BEEKSTRAAT 39 | B136: 6811 DW | C136: ARNHEM | D136: Vriesmachine tbv B-109389 | E136: TECUMSEH | G136: 11-10-20
A137: BEEKSTRAAT 39 | B137: 6811 DW | C137: ARNHEM | D137: Wandkoeling Stekkerklaar | E137: NAW | F137: Fogal | G137: 10-04-24
A138: BEEKSTRAAT 39 | B138: 6811 DW | C138: ARNHEM | D138: Wandkoeling Stekkerklaar | E138: NAW | F138: Fogal | G138: 10-04-24
A139: BEEKSTRAAT 39 | B139: 6811 DW | C139: ARNHEM | D139: Koelkast | E139: COMBISTEEL | F139: HR600 | G139: 01-10-15
A140: BEEKSTRAAT 39 | B140: 6811 DW | C140: ARNHEM | D140: Vrieskast | E140: JUMBO | F140: AB 500N JUMBO | G140: 01-01-02
A141: BEEKSTRAAT 39 | B141: 6811 DW | C141: ARNHEM | D141: Koelkast | E141: LIEBHERR | F141: UKU 1805 INDEX 21A / 001 | G141: 01-11-04
A142: BEEKSTRAAT 39 | B142: 6811 DW | C142: ARNHEM | D142: Vrieskast | E142: LIEBHERR | F142: GGV 5860 INDEX 41E / | G142: 01-01-15
A143: BEEKSTRAAT 39 | B143: 6811 DW | C143: ARNHEM | D143: Kookplaat elektra | E143: MKN | F143: 1223201-01 | G143: 01-01-02
A144: BEEKSTRAAT 39 | B144: 6811 DW | C144: ARNHEM | D144: Bakplaat | E144: MKN | F144: 1221103-03 | G144: 01-01-02
A145: BEEKSTRAAT 39 | B145: 6811 DW | C145: ARNHEM | D145: Friteuse (electrisch) | E145: MKN | F145: 1220003-03 | G145: 01-01-02
A146: BEEKSTRAAT 39 | B146: 6811 DW | C146: ARNHEM | D146: Friteuse (electrisch) | E146: MKN | F146: 1220301-01 | G146: 01-01-01
A147: BEEKSTRAAT 39 | B147: 6811 DW | C147: ARNHEM | D147: Kookplaat (opzetmodel) | E147: UBERT | F147: AK-2 | G147: 01-06-15
A148: BEEKSTRAAT 39 | B148: 6811 DW | C148: ARNHEM | D148: Kookplaat (opzetmodel) | E148: UBERT | F148: AK-2 | G148: 01-06-15
... A171: MERCATORWEG 28 | B171: 6827 DC | C171: ARNHEM | D171: Vriezer | E171: SAGI | F171: FD70BT-OP141 | G171: 03-05-19
A172: BEEKSTRAAT 39 | B172: 6811 DW | C172: ARNHEM | D172: Combisteamer (electrisch) | E172: MKN | F172: CSE610511-01
A173: HOSBEKKEWEG 1 | B173: 7621 AC | C173: BORNE | D173: Vaatwasser doorschuiver | E173: HOBART | F173: AMXBS-10C | G173: 13-03-22
A174: HOSBEKKEWEG 1 | B174: 7621 AC | C174: BORNE | D174: Vrieskast Neos enkel | E174: CATERTECH / ILSA | F174: AN07Y2520-B0 | G174: 03-04-23
A175: HOSBEKKEWEG 1 | B175: 7621 AC | C175: BORNE | D175: Combisteamer 6 X 1/1 GN | E175: CATERTECH RATIONAL E | G175: 01-06-23
A176: HOSBEKKEWEG 1 | B176: 7621 AC | C176: BORNE | D176: Combisteamer Elektrisch | E176: CATERTECH RATIONAL E | F176: LM200BE.XXXXX | G176: 20-10-22
A177: HOSBEKKEWEG 1 | B177: 7621 AC | C177: BORNE | D177: Vrieskast Stekkerklaar | E177: HOSHIZAKI | F177: F220R-DRGE | G177: 17-06-23
A178: HOSBEKKEWEG 1 | B178: 7621 AC | C178: BORNE | D178: Vrieskast electrolux | E178: ELECTROLUX | F178: RE471FF | G178: 31-05-23
A179: HOSBEKKEWEG 1 | B179: 7621 AC | C179: BORNE | D179: Warmtelamp | E179: SCHOLL | F179: 24002/B/C | G179: 01-01-15
A180: HOSBEKKEWEG 1 | B180: 7621 AC | C180: BORNE | D180: Kookplaat (opzetmodel) | E180: UBERT | F180: AK-2 | G180: 01-01-15
A181: HOSBEKKEWEG 1 | B181: 7621 AC | C181: BORNE | D181: Warmhoudplaat | E181: ROCAM | F181: VULCANO 1/1 | G181: 01-01-15
A182: HOSBEKKEWEG 1 | B182: 7621 AC | C182: BORNE | D182: Kookplaat (keramisch) | E182: ELECTROLUX | F182: 9PDX 168011 09 | G182: 01-01-06
A183: HOSBEKKEWEG 1 | B183: 7621 AC | C183: BORNE | D183: Bakplaat | E183: ELECTROLUX | F183: 7FTSE1MS | G183: 01-06-06
A184: HOSBEKKEWEG 1 | B184: 7621 AC | C184: BORNE | D184: Koelkast | E184: NAW | F184: K 610 RG L2 4N | G184: 01-01-12
A185: HOSBEKKEWEG 1 | B185: 7621 AC | C185: BORNE | D185: Vrieskast | E185: NAW | F185: SNOWFLAKE F605 RG C | G185: 06-07-15
A186: HOSBEKKEWEG 1 | B186: 7621 AC | C186: BORNE | D186: Oven | E186: SMEGG | F186: ALFA241XM | G186: 01-01-10
A187: HOSBEKKEWEG 1 | B187: 7621 AC | C187: BORNE | D187: Vrieskast | E187: NAW | F187: SNOWFLAKE F605 RGC | G187: 01-07-15
... A245: HERMANDAD 2 | B245: 7511 JN | C245: ENSCHEDE | D245: Wandkoeling | E245: ARNEQ | F245: TRENT 4 1800 S/C | G245: 01-06-15
A246: HERMANDAD 2 | B246: 7511 JN | C246: ENSCHEDE | D246: Koelbak | E246: GASTRO | G246: 01-06-15
A247: HERMANDAD 2 | B247: 7511 JN | C247: ENSCHEDE | D247: Koelcel | E247: CELLTHERM | F247: ONBEKEND | G247: 01-06-15
A248: HERMANDAD 2 | B248: 7511 JN | C248: ENSCHEDE | D248: Waterontharder | E248: LUBRON | F248: Proline SXT | G248: 05-09-24
A249: HERMANDAD 2 | B249: 7511 JN | C249: ENSCHEDE | D249: Bakplaat | E249: GASTRO | F249: GASTRODIS PEB410 | G249: 01-06-15
A250: HERMANDAD 2 | B250: 7511 JN | C250: ENSCHEDE | D250: Kookplaat | E250: GASTRO | F250: GASTRODIS PEH410 | G250: 01-06-15
A251: HERMANDAD 2 | B251: 7511 JN | C251: ENSCHEDE | D251: Friteuse (electrisch) | E251: GASTRO | F251: GASTRODIS PEF213 | G251: 01-01-15
A252: HERMANDAD 2 | B252: 7511 JN | C252: ENSCHEDE | D252: Friteuse (electrisch) | E252: GASTRO | F252: GASTRODIS PEF423 | G252: 01-01-15
A253: HERMANDAD 2 | B253: 7511 JN | C253: ENSCHEDE | D253: Combisteamer (electrisch) | E253: RATIONAL ELEKTRA | F253: SCCWE101 | G253: 01-03-15
A254: HERMANDAD 2 | B254: 7511 JN | C254: ENSCHEDE | D254: vriescel | E254: CELLTHERM | F254: CELTHERM 2X4 | G254: 01-01-15
A255: HERMANDAD 2 | B255: 7511 JN | C255: ENSCHEDE | D255: Vaatwasmachine-doorschuif | E255: RHIMA | F255: WD-PRM7 | G255: 04-09-14
A256: HERMANDAD 2 | B256: 7511 JN | C256: ENSCHEDE | D256: Vaatwasmachine-doorschuif | E256: RHIMA | F256: WD-7 | G256: 04-09-14
A257: HERMANDAD 2 | B257: 7511 JN | C257: ENSCHEDE | D257: Magnetron | E257: SAMSUNG | F257: CM1519 | G257: 01-01-15
A258: HERMANDAD 2 | B258: 7511 JN | C258: ENSCHEDE | D258: Soupwell links | E258: MOBIL | F258: Onbekend | G258: 01-01-15
... A270: STIELTJESSTRAAT 1 | B270: 6511 AB | C270: NIJMEGEN | D270: Koelmachine tbv B-88117 | E270: TECUMSEH | F270: Aggregaat koelcel CAJN9510Z MHR LL | G270: 19-01-20
A271: STIELTJESSTRAAT 1 | B271: 6511 AB | C271: NIJMEGEN | D271: Combisteamer 6 X 1/1 GN | E271: CATERTECH RATIONAL E | G271: 01-07-22
A272: STIELTJESSTRAAT 1 | B272: 6511 AB | C272: NIJMEGEN | D272: Combisteamer 6 X 1/1 GN | E272: CATERTECH RATIONAL E | F272: LM200BE.XXXXX | G272: 01-07-22
A273: STIELTJESSTRAAT 1 | B273: 6511 AB | C273: NIJMEGEN | D273: Afzuigkap | E273: RATIONAL ELEKTRA | F273: LMZ100BE.CAA | G273: 01-01-23
A274: STIELTJESSTRAAT 1 | B274: 6511 AB | C274: NIJMEGEN | D274: Waterontharder | E274: LUBRON | F274: Easysoft 450SXT2 | G274: 31-07-23
A275: STIELTJESSTRAAT 1 | B275: 6511 AB | C275: NIJMEGEN | D275: vrieskast | E275: GRAM | F275: PLUS F 1400 RSF 10N | G275: 01-01-13
A276: STIELTJESSTRAAT 1 | B276: 6511 AB | C276: NIJMEGEN | D276: Contactgrill | E276: CATERCHEF | F276: GH-813 | G276: 14-12-07
A277: STIELTJESSTRAAT 1 | B277: 6511 AB | C277: NIJMEGEN | D277: Bakplaat | E277: MKN | F277: 1221130-00 | G277: 01-01-10
A278: STIELTJESSTRAAT 1 | B278: 6511 AB | C278: NIJMEGEN | D278: Friteuse (electrisch) enkel | E278: GICO | F278: ONBEKEND | G278: 01-01-85
A279: STIELTJESSTRAAT 1 | B279: 6511 AB | C279: NIJMEGEN | D279: Friteuse (electrisch) dubbel | E279: GICO | F279: 70/701A | G279: 01-01-85
A280: STIELTJESSTRAAT 1 | B280: 6511 AB | C280: NIJMEGEN | D280: Warmtelamp | E280: SCHOLL | F280: B0043 | G280: 01-01-15
A281: STIELTJESSTRAAT 1 | B281: 6511 AB | C281: NIJMEGEN | D281: kookplaat (opzetmodel) | E281: UBERT | F281: AK-2 | G281: 01-01-15
A282: STIELTJESSTRAAT 1 | B282: 6511 AB | C282: NIJMEGEN | D282: Kookplaat (opzetmodel) | E282: UBERT | F282: AK-2 | G282: 01-01-15
A283: STIELTJESSTRAAT 1 | B283: 6511 AB | C283: NIJMEGEN | D283: Warmhoudplaat | E283: ROCAM | F283: VULCANO 2/1 | G283: 01-01-13
... A300: RIJKSSTRAATWEG 127 | B300: 7231 AD | C300: WARNSVELD | D300: Flessenkoeling, stekkerklaar | E300: GAMKO | F300: MG2/315SD | G300: 10-01-23
A301: RIJKSSTRAATWEG 127 | B301: 7231 AD | C301: WARNSVELD | D301: Koelmachine t.b.v. koelcel | E301: ASPERA | G301: 31-12-06
A302: RIJKSSTRAATWEG 127 | B302: 7231 AD | C302: WARNSVELD | D302: Friteuse 2-pans, drop-in | E302: ASCOBLOC | F302: IEF 224 | G302: 01-02-24
A303: RIJKSSTRAATWEG 127 | B303: 7231 AD | C303: WARNSVELD | D303: Koelkast | E303: GRAM | F303: K 210 RG | G303: 22-03-19
A304: RIJKSSTRAATWEG 127 | B304: 7231 AD | C304: WARNSVELD | D304: Koelkast | E304: NAW | F304: K 210 RG | G304: 22-03-19
A305: RIJKSSTRAATWEG 127 | B305: 7231 AD | C305: WARNSVELD | D305: Warmtebrug | E305: METOS | F305: ONB | G305: 01-01-12
A306: RIJKSSTRAATWEG 127 | B306: 7231 AD | C306: WARNSVELD | D306: Koelbak | E306: WIHA | F306: WIHA | G306: 01-01-12
A307: RIJKSSTRAATWEG 127 | B307: 7231 AD | C307: WARNSVELD | D307: Ijsblokjesmachine | E307: METOS | F307: CB316A | G307: 01-01-10
...

Sheet 4 - Eenheid Midden Nederland
A1: Elementenlijst eenheid Oost Nederland | H1: CC-1 | I1: CC-2
A2: Adres | B2: Postcode (locatie) | C2: Plaats (locatie) | D2: Omschrijving | E2: Merk | F2: Type | G2: Bouwjaar | H2: Prijs Nulmeting conform eis 94 | I2: Prijs onderhoud conform eis 96
A3: BALJUWSTRAAT 2 | B3: 1315 HG | C3: ALMERE | D3: Koelkast Stekkerklaar | E3: HOSHIZAKI | F3: B-124984
A4: BALJUWSTRAAT 2 | B4: 1315 HG | C4: ALMERE | D4: Koelvitrine Stekkerklaar | E4: FOGAL | F4: Murale Alaska Slim 150 COn Gruppo | G4: 31-12-17
A5: MARATHONLAAN 8 | B5: 1318 EE | C5: ALMERE | D5: Koelvitrine Stekkerklaar | E5: CULION | F5: Tafelmodel KVS12 | G5: 31-08-20 | K5: Hoofdaannemer
A6: BALJUWSTRAAT 2 | B6: 1315 HG | C6: ALMERE | D6: Magnetron 22 liter 1000 W | E6: PANASONIC | K6: Onderaannemer
A7: BALJUWSTRAAT 2 | B7: 1315 HG | C7: ALMERE | D7: Contactgrill | E7: MILAN | F7: 1600X | G7: 17-08-14
A8: BALJUWSTRAAT 2 | B8: 1315 HG | C8: ALMERE | D8: Oven | E8: UNOX | F8: XF023 GR | G8: 01-01-18
A9: BALJUWSTRAAT 2 | B9: 1315 HG | C9: ALMERE | D9: Koelkast | E9: NAW | F9: PLUS K 600 RSG C 4 N | G9: 01-01-10
A10: BALJUWSTRAAT 2 | B10: 1315 HG | C10: ALMERE | D10: Warmtelamp | E10: SCHOLL | F10: 24002/B/C | G10: 01-01-15
A11: BALJUWSTRAAT 2 | B11: 1315 HG | C11: ALMERE | D11: Warmhoudplaat | E11: ROCAM | F11: VULCANO 2/1 | G11: 01-01-14
A12: BALJUWSTRAAT 2 | B12: 1315 HG | C12: ALMERE | D12: Koelkast | E12: NAW | F12: PLUS K 600 RSG DL 4 | G12: 01-01-10
A13: BALJUWSTRAAT 2 | B13: 1315 HG | C13: ALMERE | D13: Vrieskast | E13: NAW | F13: PLUS F600 RSG C 4N | G13: 01-01-12
A14: BALJUWSTRAAT 2 | B14: 1315 HG | C14: ALMERE | D14: Magnetron | E14: WHIRLPOOL | F14: AVM 840 | G14: 01-01-00
A15: BALJUWSTRAAT 2 | B15: 1315 HG | C15: ALMERE | D15: Vrieskast | E15: NAW | F15: PLUS F 600 RSG DL C | G15: 01-01-12
A16: BALJUWSTRAAT 2 | B16: 1315 HG | C16: ALMERE | D16: Vrieskast | E16: NAW | F16: PLUS F 600 RSG DL C | G16: 01-01-12
A17: BALJUWSTRAAT 2 | B17: 1315 HG | C17: ALMERE | D17: vrieskast | E17: NAW | F17: PLUS F 600 RSG 4N | G17: 01-01-12
A18: BALJUWSTRAAT 2 | B18: 1315 HG | C18: ALMERE | D18: kookplaat (opzetmodel) | E18: UBERT | F18: AK-2 | G18: 01-01-15
A19: BALJUWSTRAAT 2 | B19: 1315 HG | C19: ALMERE | D19: kookplaat (opzetmodel) | E19: UBERT | F19: AK-2 | G19: 01-01-15
A20: BALJUWSTRAAT 2 | B20: 1315 HG | C20: ALMERE | D20: Afzuigkap | E20: NAW | G20: 01-01-07
A21: BALJUWSTRAAT 2 | B21: 1315 HG | C21: ALMERE | D21: Vaatwasmachine-doorschuif | E21: RHIMA | F21: WD-6 | G21: 01-01-11
A22: BALJUWSTRAAT 2 | B22: 1315 HG | C22: ALMERE | D22: Vriezer | E22: GRAM | F22: TWIN F600 RSG 4N | G22: 10-10-12
A23: BALJUWSTRAAT 2 | B23: 1315 HG | C23: ALMERE | D23: Oven | E23: DIAMOND | F23: CPE664BP | G23: 05-06-19
A24: BALJUWSTRAAT 2 | B24: 1315 HG | C24: ALMERE | D24: Friteuse (electrisch) | E24: MODULAR | F24: DUBBEL FRITEUSE | G24: 01-05-20
A25: BALJUWSTRAAT 2 | B25: 1315 HG | C25: ALMERE | D25: Bakplaat | E25: MODULAR | F25: FU 60/60 FTE-CR | G25: 01-05-20
A26: MARATHONLAAN 8 | B26: 1318 EE | C26: ALMERE | D26: kookplaat (opzetmodel) | E26: UBERT | F26: AK-2 | G26: 01-01-15
A27: MARATHONLAAN 8 | B27: 1318 EE | C27: ALMERE | D27: kookplaat (opzetmodel) | E27: UBERT | F27: AK-2 | G27: 01-01-15
A28: MARATHONLAAN 8 | B28: 1318 EE | C28: ALMERE | D28: warmtebrug | E28: ROCAM | F28: VULCANO 2/1 | G28: 01-01-14
A29: MARATHONLAAN 8 | B29: 1318 EE | C29: ALMERE | D29: warmtebrug | E29: ROCAM | F29: VULCANO 1/1 | G29: 01-01-15
A30: MARATHONLAAN 8 | B30: 1318 EE | C30: ALMERE | D30: kookplaat 4 pits | E30: MARENO | F30: ONBEKEND | G30: 01-01-05
A31: MARATHONLAAN 8 | B31: 1318 EE | C31: ALMERE | D31: bakplaat | E31: MARENO | F31: ONBEKEND | G31: 01-01-05
A32: MARATHONLAAN 8 | B32: 1318 EE | C32: ALMERE | D32: friteuse (electrisch) | E32: MARENO | F32: ONBEKEND | G32: 01-01-05
... A41: MARATHONLAAN 8 | B41: 1318 EE | C41: ALMERE | D41: contactgrill | E41: MILAN | F41: 1600X | G41: 14-07-14
A42: MARATHONLAAN 8 | B42: 1318 EE | C42: ALMERE | D42: vrieskast | E42: NAW | F42: GS 1432 INDEX 24B / 001
A43: MARATHONLAAN 8 | B43: 1318 EE | C43: ALMERE | D43: koelkast | E43: NAW | F43: PLUS M 69 F | G43: 25-09-19
A44: MARATHONLAAN 8 | B44: 1318 EE | C44: ALMERE | D44: waterontharder | E44: LUBRON | F44: PROLINE SXT2 (KOUDWATER) | G44: 22-05-20
A45: BALJUWSTRAAT 2 | B45: 1315 HG | C45: ALMERE | D45: Koelkast compact met glasdeur | E45: NAW | F45: KG 420 RG | G45: 23-06-22
A46: DE CORRIDOR 3 | B46: 3621 ZA | C46: BREUKELEN UT | D46: Koelwerkbank Afnemer | E46: KOVU | F46: GREENLAND/Model GN3100TN SG | G46: 11-04-14
A47: DE CORRIDOR 3 | B47: 3621 ZA | C47: BREUKELEN UT | D47: Kookplaat Elektrisch Algemeen | E47: ELECTROLUX | F47: E7INED2000 | G47: 01-11-14
A48: DE CORRIDOR 3 | B48: 3621 ZA | C48: BREUKELEN UT | D48: Vaatwasser - Doorschuiver | E48: NAW | F48: NHT8G | G48: 01-01-14
A49: DE CORRIDOR 3 | B49: 3621 ZA | C49: BREUKELEN UT | D49: Vriescel Afnemer Algemeen | E49: NAW | F49: Isocab 300x300 | G49: 11-04-14
A50: DE CORRIDOR 3 | B50: 3621 ZA | C50: BREUKELEN UT | D50: Koelcel Afnemer | E50: ISOCAB | F50: Koelcel | G50: 07-08-14
A51: DE CORRIDOR 3 | B51: 3621 ZA | C51: BREUKELEN UT | D51: Vriesmachine tbv vriescel B-123015 | E51: SILENSYS | F51: Sylensys
A52: DE CORRIDOR 3 | B52: 3621 ZA | C52: BREUKELEN UT | D52: Oven | E52: NAW | F52: SCC WE 101 | G52: 01-11-14
A53: DE CORRIDOR 3 | B53: 3621 ZA | C53: BREUKELEN UT | D53: Braadslede VVC | E53: RATIONAL ELEKTRA | F53: VCC 112 + | G53: 01-09-14
A54: DE CORRIDOR 3 | B54: 3621 ZA | C54: BREUKELEN UT | D54: Bakplaat | E54: NAW | F54: E7FTEHSSI0 | G54: 01-11-14
A55: DE CORRIDOR 3 | B55: 3621 ZA | C55: BREUKELEN UT | D55: Friteuse dubbel | E55: NAW | F55: E7FREH2FF0 | G55: 01-10-14
A56: DE CORRIDOR 3 | B56: 3621 ZA | C56: BREUKELEN UT | D56: Warmhoudlamp | E56: NAW | F56: B0041 | G56: 01-01-15
A57: DE CORRIDOR 3 | B57: 3621 ZA | C57: BREUKELEN UT | D57: Warmhoudlamp | E57: NAW | F57: B0041 | G57: 01-01-15
A58: DE CORRIDOR 3 | B58: 3621 ZA | C58: BREUKELEN UT | D58: Warmhoudlamp | E58: NAW | F58: B0041 | G58: 01-01-15
A59: DE CORRIDOR 3 | B59: 3621 ZA | C59: BREUKELEN UT | D59: Warmhoudlamp | E59: NAW | F59: B0041 | G59: 01-01-15
A60: DE CORRIDOR 3 | B60: 3621 ZA | C60: BREUKELEN UT | D60: Warmhoudplaat | E60: NAW | F60: VULCANO 1/2 | G60: 01-01-14
A61: DE CORRIDOR 3 | B61: 3621 ZA | C61: BREUKELEN UT | D61: Kookplaat Elektrisch | E61: NAW | F61: AK-2 | G61: 22-01-14
A62: DE CORRIDOR 3 | B62: 3621 ZA | C62: BREUKELEN UT | D62: Kookplaat Elektrisch | E62: NAW | F62: AK-2 | G62: 18-12-23
A63: DE CORRIDOR 3 | B63: 3621 ZA | C63: BREUKELEN UT | D63: Waterontharder | E63: NAW | F63: MINILINE | G63: 01-12-14
A64: DE CORRIDOR 3 | B64: 3621 ZA | C64: BREUKELEN UT | D64: Grillplaat Elektrisch | E64: NAW | F64: PGGR 2 | G64: 01-01-14
A65: DE CORRIDOR 3 | B65: 3621 ZA | C65: BREUKELEN UT | D65: Wandkoeling Stekkerklaar | E65: AKE | G65: 10-04-24
A66: DE CORRIDOR 3 | B66: 3621 ZA | C66: BREUKELEN UT | D66: Centraal koelsysteem tbv div afnemers | E66: TECUMSEH | F66: Centrale koel inverter
A67: DE CORRIDOR 3 | B67: 3621 ZA | C67: BREUKELEN UT | D67: Warmhoudplaat | E67: NAW | G67: 15-10-24
A68: DE CORRIDOR 3 | B68: 3621 ZA | C68: BREUKELEN UT | D68: IJsblokjes/Schilverijsmachine | E68: NAW | F68: 09 MA081 | G68: 01-01-14
A69: FAUNALAAN 247 | B69: 3972 PP | C69: DRIEBERGEN-RIJSENBURG | D69: KOELKAST B-65915 | E69: GRAM
A70: ODIJKERWEG 25 | B70: 3972 NE | C70: DRIEBERGEN-RIJSENBURG | D70: Vrieskast | E70: GRAM | F70: Gram Twin F660 RSG 5N | G70: 06-05-11
A71: FAUNALAAN 247 | B71: 3972 PP | C71: DRIEBERGEN-RIJSENBURG | D71: kookplaat (opzetmodel) | E71: UBERT | F71: AK2 | G71: 10-12-15
A72: FAUNALAAN 247 | B72: 3972 PP | C72: DRIEBERGEN-RIJSENBURG | D72: friteuse (electrisch) | E72: MKN | F72: 0220302/00 | G72: 10-12-00
A73: FAUNALAAN 247 | B73: 3972 PP | C73: DRIEBERGEN-RIJSENBURG | D73: bakplaat | E73: MKN | F73: 0221101/01 | G73: 10-12-01
A74: FAUNALAAN 247 | B74: 3972 PP | C74: DRIEBERGEN-RIJSENBURG | D74: kookplaat (keramisch) | E74: MKN | F74: 1223202A00 | G74: 10-12-94
A75: FAUNALAAN 247 | B75: 3972 PP | C75: DRIEBERGEN-RIJSENBURG | D75: kookplaat (opzetmodel) | E75: UBERT | F75: AK2 | G75: 10-12-15
A76: FAUNALAAN 247 | B76: 3972 PP | C76: DRIEBERGEN-RIJSENBURG | D76: vaatwasmachine-doorschuif | E76: MEIKO | F76: ECOSTAR 545 D | G76: 24-02-13
A77: HOOFDSTRAAT 56 | B77: 3972 LB | C77: DRIEBERGEN-RIJSENBURG | D77: koelvitrine | E77: AKE | F77: ONB | G77: 01-10-13
A78: HOOFDSTRAAT 56 | B78: 3972 LB | C78: DRIEBERGEN-RIJSENBURG | D78: Tosti apparaat | E78: KARMA | F78: 688425 | G78: 22-05-10
A79: HOOFDSTRAAT 56 | B79: 3972 LB | C79: DRIEBERGEN-RIJSENBURG | D79: vaatwasmachine - korventransp. | E79: NAW | F79: K200 VAP | G79: 06-12-13
A80: FAUNALAAN 247 | B80: 3972 PP | C80: DRIEBERGEN-RIJSENBURG | D80: koelvitrine | E80: GAMKO | F80: AV/MS131HSF | G80: 27-01-17
A81: FAUNALAAN 247 | B81: 3972 PP | C81: DRIEBERGEN-RIJSENBURG | D81: warmhoudplaat | E81: RIEBER | F81: NA | G81: 05-10-11
... A181: MEIDOORNKADE 15 | B181: 3992 AG | C181: HOUTEN | D181: Koelvritrine stekker klaar | E181: MAFIROL | F181: 9216153 | G181: 01-09-19
A182: MEIDOORNKADE 15 | B182: 3992 AG | C182: HOUTEN | D182: afzuigkap | E182: NAW
A183: MEIDOORNKADE 15 | B183: 3992 AG | C183: HOUTEN | D183: afzuigkap | E183: RATIONAL ELEKTRA | F183: 60.72.320. UV 61/101 | G183: 01-09-19
A184: VLEUGELBOOT 21 | B184: 3991 CM | C184: HOUTEN | D184: koelaggregaat | E184: TECUMSEH | F184: TECUMESH CAJ4476Y | G184: 01-01-07
A185: VLEUGELBOOT 21 | B185: 3991 CM | C185: HOUTEN | D185: koelaggregaat | E185: TECUMSEH | F185: NEU6214Z | G185: 01-01-07
A186: VLEUGELBOOT 21 | B186: 3991 CM | C186: HOUTEN | D186: vriesaggregaat | E186: NAW | F186: 2FC 22Y 40S | G186: 01-01-07
A187: MEIDOORNKADE 15 | B187: 3992 AG | C187: HOUTEN | D187: snijmachine 834s | E187: BERKEL | F187: 834S | G187: 01-01-10
A188: EENDENWEG 12 | B188: 8218 NC | C188: LELYSTAD | D188: Afzuigkap | E188: NAW
A189: EENDENWEG 12 | B189: 8218 NC | C189: LELYSTAD | D189: Vaatwasser - Voorlader | E189: NAW
A190: DE DOELEN 10-01 | B190: 8233 GP | C190: LELYSTAD | D190: Koelvitrine Stekkerklaar | E190: FOGAL | F190: NordCap
A191: EENDENWEG 12 | B191: 8218 NC | C191: LELYSTAD | D191: Elektrische kookplaat | E191: ASCOBLOC | F191: IEH 410 | G191: 25-10-24
A192: DE DOELEN 10-01 | B192: 8233 GP | C192: LELYSTAD | D192: kookplaat (opzetmodel/keramisch) | E192: UBERT | F192: AK-2 | G192: 01-01-01
A193: DE DOELEN 10-01 | B193: 8233 GP | C193: LELYSTAD | D193: warmte lamp | E193: SCHOLL | F193: B0043 | G193: 01-01-01
A194: DE DOELEN 10-01 | B194: 8233 GP | C194: LELYSTAD | D194: warmhoudplaat | E194: ROCAM | F194: VULCANO 1 | G194: 01-01-15
A195: DE DOELEN 10-01 | B195: 8233 GP | C195: LELYSTAD | D195: friteuse (electrisch) | E195: MARENO | F195: 2 BAKS | G195: 01-01-01
A196: DE DOELEN 10-01 | B196: 8233 GP | C196: LELYSTAD | D196: bakplaat | E196: MARENO | F196: ONB | G196: 01-01-01
A197: DE DOELEN 10-01 | B197: 8233 GP | C197: LELYSTAD | D197: kookplaat (electrisch) | E197: MARENO | F197: 4 VOUDIG | G197: 01-01-01
A198: DE DOELEN 10-01 | B198: 8233 GP | C198: LELYSTAD | D198: oven. Afgekeurd | E198: CULION | F198: BTC518 | G198: 01-01-13
A199: DE DOELEN 10-01 | B199: 8233 GP | C199: LELYSTAD | D199: afzuigkap | E199: NAW | G199: 01-01-01
A200: DE DOELEN 10-01 | B200: 8233 GP | C200: LELYSTAD | D200: koelkast | E200: GRAM | F200: PLUS K 600 RSG C 4N
A201: DE DOELEN 10-01 | B201: 8233 GP | C201: LELYSTAD | D201: vrieskast | E201: GRAM | F201: TWIN F 600 RSG 4N | G201: 01-01-01
A202: DE DOELEN 10-01 | B202: 8233 GP | C202: LELYSTAD | D202: vrieskast | E202: NAW | F202: PLUS F 600 RSH DL C
A203: DE DOELEN 10-01 | B203: 8233 GP | C203: LELYSTAD | D203: koelkast | E203: GRAM | F203: PLUS K 600 RSG C 4N | G203: 01-01-08
A204: DE DOELEN 10-01 | B204: 8233 GP | C204: LELYSTAD | D204: vaatwasmachine - doorschuif. | E204: RHIMA | F204: WD-6 | G204: 01-01-14
A205: DE DOELEN 10-01 | B205: 8233 GP | C205: LELYSTAD | D205: contactgrill | E205: MILAN | F205: 1600 X | G205: 17-08-14
A206: EENDENWEG 12 | B206: 8218 NC | C206: LELYSTAD | D206: vaatwasmachine - doorschuif. | E206: METOS | F206: WD-6E | G206: 01-01-04
A207: EENDENWEG 12 | B207: 8218 NC | C207: LELYSTAD | D207: combisteamer (electrisch) | E207: RATIONAL ELEKTRA | F207: CPC101 | G207: 01-01-01
...
