Workbook
Name _Hlk39130726: '1-Uitgangspunten'!$A$16
Name _Toc106114456: '1-Uitgangspunten'!$A$2
Name _Toc106114457: '1-Uitgangspunten'!$A$5
Name _Toc106114458: '1-Uitgangspunten'!$A$9
Name _Toc106114459: '1-Uitgangspunten'!$A$13
Name _Toc518445846: '1-Uitgangspunten'!$A$17
Name berichtok: #N/A
Name berichtok: '2-Kosten per locatie'!berichtok
Name berichtok: '2-Kosten per locatie'!berichtok
Name berichtoke: #N/A
Name berichtoke: '2-Kosten per locatie'!berichtoke
Name berichtoke: '2-Kosten per locatie'!berichtoke
Name berichtoke1: #N/A
Name berichtoke1: '2-Kosten per locatie'!berichtoke1
Name berichtoke1: '2-Kosten per locatie'!berichtoke1
Name Berkt: #N/A
Name Berkt: '2-Kosten per locatie'!Berkt
Name Berkt: '2-Kosten per locatie'!Berkt
Name einde: #N/A
Name einde: '2-Kosten per locatie'!einde
Name einde: '2-Kosten per locatie'!einde
Name Gan_R: #N/A
Name Gan_R: '2-Kosten per locatie'!Gan_R
Name Gan_R: '2-Kosten per locatie'!Gan_R
Name glas: #N/A
Name Kengetal: #REF!
Name uren_mavr: #REF!
Name VloerM: #REF!

Sheet 0-prijsformulier
A1: Invoervelden
A3: Naam opdrachtgever | B3: ='2-Kosten per locatie'!B3 -> Veiligheidsregio Rotterdam-Rijnmond
A4: Calculatie onderdeel | B4: =MID(CELL("bestandsnaam",$B$11),SEARCH("]",CELL("bestandsnaam",$B$11),1)+1,256) -> 0-prijsformulier | C4: VERSIE 3
A5: Gebouw/plaats | B5: ='2-Kosten per locatie'!B5 -> Perceel 1 schoonmaak en glasbewassing
A6: Referentie nummer | B6: ='2-Kosten per locatie'!B6 -> 522549
A7: Naam dienstverlener
A8: Prijspeil | B8: ='2-Kosten per locatie'!B8 -> 46023
A9: Versie | B9: v3
A11: Prijsformulier
A13: Schoonmaak onderhoud, Glasbewassing en Sanitaire verbruiksartikelen
A14: Perceel 1 | B14: Perceel 1
A16: Opdrachtnemer verklaart zich door ondertekening van het prijsformulier, bereid op zich te nemen de werkzaamheden ten behoeve van het uitvoeren van de opdracht m.b.t. Schoonmaak onderhoud, Glasbewassing en Sanitaire verbruiksartikelen perceel 1 aan de VRR, overeenkomstig de bepalingen en inhoud van de offerteaanvraag (inclusief bijlagen en nota's van inlichtingen) en aan te nemen voor de onderstaande totaalprijs, weergegeven inclusief btw.
C18: Totaal kosten dienstverlening
A20: Inschrijfprijs incl. btw | C20: ='2-Kosten per locatie'!P3 -> #DIV/0!
A22: Totaal | B22: =C20 -> #DIV/0!
A23: Zegge :
A24: ………………...............euro, incl. btw)
A26: Opdrachtnemer verklaart dat deze opgegeven inschrijfprijs de totaalprijs is voor de uitvoering van de opdracht zoals beschreven in het aanbestedingsdocument van de aanbesteding schoonmaakonderhoud, glasbewassing en sanitaire verbruiksartikelen perceel 1
A28: Naam Inschrijver: | B28: …
A30: Naam rechtsgeldige vertegenwoordiger: | B30: …
A32: Aldus naar waarheid ingevuld: | B32: Datum: ... Plaats: …
A34: Handtekening van de rechtsgeldige vertegenwoordiger:
A35: Ondertekening van dit document geschied via het formulier ‘conformiteitverklaring inschrijving’ (zie Tenderned bijlage 12 onder ‘Aanbestedingsdocumenten’), welke geldig is voor alle in Tenderned door de inschrijver ge-uploadde en ingevulde digitale documenten behorende bij onderhavige aanbesteding.

Sheet 1-Uitgangspunten
A1: Naam opdrachtgever | B1: ='2-Kosten per locatie'!B3 -> Veiligheidsregio Rotterdam-Rijnmond
A2: Calculatie onderdeel | B2: =MID(CELL("bestandsnaam",$B$11),SEARCH("]",CELL("bestandsnaam",$B$11),1)+1,256) -> 1-Uitgangspunten
A3: Gebouw/plaats | B3: ='2-Kosten per locatie'!B5 -> Perceel 1 schoonmaak en glasbewassing
A4: Referentie nummer | B4: ='2-Kosten per locatie'!B6 -> 522549

Sheet 2-Kosten per locatie
A1: Invoervelden | E1: Minimale taakgrootte | J1: EINDTOTAAL KOSTEN PER JAAR EXCLUSIEF BTW INSCHRIJVINGSBEDRAG | P1: =U117 -> #DIV/0!
F2: uur per dag | J2: B.T.W. | O2: 0.21 | P2: =O2*P1 -> #DIV/0!
A3: Naam opdrachtgever | B3: Veiligheidsregio Rotterdam-Rijnmond | J3: Totale kosten per jaar inclusief B.T.W. | P3: =P1+P2 -> #DIV/0!
A4: Calculatie onderdeel | B4: =MID(CELL("bestandsnaam",$B$12),SEARCH("]",CELL("bestandsnaam",$B$12),1)+1,256) -> 2-Kosten per locatie | E4: Toezicht percentage
A5: Gebouw/plaats | B5: Perceel 1 schoonmaak en glasbewassing | F5: per prod. Uur | J5: MAXIMALE BOVENGRENS PLAFONDBEDRAG INSCHRIJVINGSBEDRAG EXCL BTW | P5: 710000
A6: Referentie nummer | B6: 522549 | J6: MAXIMALE ONDERGRENS INSCHRIJVINGSBEDRAG EXCL BTW | P6: 650000
A7: Naam dienstverlener
A8: Prijspeil | B8: 46023 | J8: SUPPLETIEKOSTEN OVERNAME PERSONEEL EXCL BTW**
A9: Versie | B9: v3 | J9: ** Dit is het maximale bedrag dat door de dienstverlener aan suppletiekosten in rekening wordt gebracht. Indien hier niets wordt ingevuld betekent dit dat er geen suppletiekosten door de dienstverlener in rekening worden gebracht.
J12: PRODUCTIE UREN PER JAAR | P12: UREN OPSLAG MINIMALE TAAKGROOTTE PER JAAR | V12: TOEZICHTUREN PER JAAR
A13: Locatie | B13: Totaal m2 | C13: Locatie factor | D13: Hoogste frequentie ma t/m vr | E13: Hoogste frequentie ma t/m vr naloop | F13: Hoogste frequentie za - zo | G13: Hoogste frequentie za - zo naloop | H13: Hoogste frequentie feestdag | I13: Hoogste frequentie feestdag naloop | J13: Productie uren ma t/m vr | K13: Productie uren ma t/m vr naloop | L13: Productie uren za - zo | M13: Productie uren za - zo naloop | N13: Productie uren feestdag | O13: Productie uren feestdag naloop | P13: Uren minimale taakgrootte ma t/m vrij | Q13: Uren minimale taakgrootte ma t/m vrij naloop | R13: Uren minimale taakgrootte za - zo | S13: Uren minimale taakgrootte za - zo naloop | T13: Uren minimale taakgrootte feestdag | U13: Uren minimale taakgrootte feestdag naloop | V13: Toezicht uren per jaar ma t/m vr | W13: Toezicht uren per jaar ma t/m vr naloop | X13: Toezicht uren per jaar za - zo | Y13: Toezicht uren per jaar za - zo naloop | Z13: Toezicht uren per jaar feestdag | AA13: Toezicht uren per jaar feestdag naloop
A14: Barendrecht - Breslau 2 | B14: =SUMIF('4-Basis ruimtestaat'!B:B,'2-Kosten per locatie'!A14,'4-Basis ruimtestaat'!H:H) -> 1541 | D14: =_xlfn.MAXIFS('4-Basis ruimtestaat'!K:K,'4-Basis ruimtestaat'!B:B,'2-Kosten per locatie'!A14) -> 255 | E14: =_xlfn.MAXIFS('4-Basis ruimtestaat'!L:L,'4-Basis ruimtestaat'!B:B,'2-Kosten per locatie'!A14) -> 0 | F14: =_xlfn.MAXIFS('4-Basis ruimtestaat'!M:M,'4-Basis ruimtestaat'!B:B,'2-Kosten per locatie'!A14) -> 102 | G14: =_xlfn.MAXIFS('4-Basis ruimtestaat'!N:N,'4-Basis ruimtestaat'!B:B,'2-Kosten per locatie'!A14) -> 0 | H14: =_xlfn.MAXIFS('4-Basis ruimtestaat'!O:O,'4-Basis ruimtestaat'!B:B,'2-Kosten per locatie'!A14) -> 8 | I14: =_xlfn.MAXIFS('4-Basis ruimtestaat'!P:P,'4-Basis ruimtestaat'!B:B,'2-Kosten per locatie'!A14) -> 0 | J14: =SUMIF('4-Basis ruimtestaat'!B:B,'2-Kosten per locatie'!A14,'4-Basis ruimtestaat'!Q:Q) -> #DIV/0! | K14: =SUMIF('4-Basis ruimtestaat'!B:B,'2-Kosten per locatie'!A14,'4-Basis ruimtestaat'!R:R) -> 0 | L14: =SUMIF('4-Basis ruimtestaat'!B:B,'2-Kosten per locatie'!A14,'4-Basis ruimtestaat'!S:S) -> #DIV/0! | M14: =SUMIF('4-Basis ruimtestaat'!B:B,'2-Kosten per locatie'!A14,'4-Basis ruimtestaat'!T:T) -> 0 | N14: =SUMIF('4-Basis ruimtestaat'!B:B,'2-Kosten per locatie'!A14,'4-Basis ruimtestaat'!U:U) -> #DIV/0! | O14: =SUMIF('4-Basis ruimtestaat'!B:B,'2-Kosten per locatie'!A14,'4-Basis ruimtestaat'!V:V) -> 0 | P14: =IF(J14<(D14*$E$2),D14*$E$2-J14,0) -> #DIV/0! | Q14: =IF(K14<(E14*$E$2),E14*$E$2-K14,0) -> 0 | R14: =IF(L14<(F14*$E$2),F14*$E$2-L14,0) -> #DIV/0! | S14: =IF(M14<(G14*$E$2),G14*$E$2-M14,0) -> 0 | T14: =IF(N14<(H14*$E$2),H14*$E$2-N14,0) -> #DIV/0! | U14: =IF(O14<(I14*$E$2),I14*$E$2-O14,0) -> 0 | V14: =J14*$E$5 -> #DIV/0! | W14: =K14*$E$5 -> 0 | X14: =L14*$E$5 -> #DIV/0! | Y14: =M14*$E$5 -> 0 | Z14: =N14*$E$5 -> #DIV/0! | AA14: =O14*$E$5 -> 0
A15: Barendrecht - Breslau 4 | B15: =SUMIF('4-Basis ruimtestaat'!B:B,'2-Kosten per locatie'!A15,'4-Basis ruimtestaat'!H:H) -> 1432 | D15: =_xlfn.MAXIFS('4-Basis ruimtestaat'!K:K,'4-Basis ruimtestaat'!B:B,'2-Kosten per locatie'!A15) -> 156 | E15: =_xlfn.MAXIFS('4-Basis ruimtestaat'!L:L,'4-Basis ruimtestaat'!B:B,'2-Kosten per locatie'!A15) -> 0 | F15: =_xlfn.MAXIFS('4-Basis ruimtestaat'!M:M,'4-Basis ruimtestaat'!B:B,'2-Kosten per locatie'!A15) -> 0 | G15: =_xlfn.MAXIFS('4-Basis ruimtestaat'!N:N,'4-Basis ruimtestaat'!B:B,'2-Kosten per locatie'!A15) -> 0 | H15: =_xlfn.MAXIFS('4-Basis ruimtestaat'!O:O,'4-Basis ruimtestaat'!B:B,'2-Kosten per locatie'!A15) -> 0 | I15: =_xlfn.MAXIFS('4-Basis ruimtestaat'!P:P,'4-Basis ruimtestaat'!B:B,'2-Kosten per locatie'!A15) -> 0 | J15: =SUMIF('4-Basis ruimtestaat'!B:B,'2-Kosten per locatie'!A15,'4-Basis ruimtestaat'!Q:Q) -> #DIV/0! | K15: =SUMIF('4-Basis ruimtestaat'!B:B,'2-Kosten per locatie'!A15,'4-Basis ruimtestaat'!R:R) -> 0 | L15: =SUMIF('4-Basis ruimtestaat'!B:B,'2-Kosten per locatie'!A15,'4-Basis ruimtestaat'!S:S) -> 0 | M15: =SUMIF('4-Basis ruimtestaat'!B:B,'2-Kosten per locatie'!A15,'4-Basis ruimtestaat'!T:T) -> 0 | N15: =SUMIF('4-Basis ruimtestaat'!B:B,'2-Kosten per locatie'!A15,'4-Basis ruimtestaat'!U:U) -> 0 | O15: =SUMIF('4-Basis ruimtestaat'!B:B,'2-Kosten per locatie'!A15,'4-Basis ruimtestaat'!V:V) -> 0 | P15: =IF(J15<(D15*$E$2),D15*$E$2-J15,0) -> #DIV/0! | Q15: =IF(K15<(E15*$E$2),E15*$E$2-K15,0) -> 0 | R15: =IF(L15<(F15*$E$2),F15*$E$2-L15,0) -> 0 | S15: =IF(M15<(G15*$E$2),G15*$E$2-M15,0) -> 0 | T15: =IF(N15<(H15*$E$2),H15*$E$2-N15,0) -> 0 | U15: =IF(O15<(I15*$E$2),I15*$E$2-O15,0) -> 0 | V15: =J15*$E$5 -> #DIV/0! | W15: =K15*$E$5 -> 0 | X15: =L15*$E$5 -> 0 | Y15: =M15*$E$5 -> 0 | Z15: =N15*$E$5 -> 0 | AA15: =O15*$E$5 -> 0
A16: Barendrecht - Dr. Kuijperstraat 25 | B16: =SUMIF('4-Basis ruimtestaat'!B:B,'2-Kosten per locatie'!A16,'4-Basis ruimtestaat'!H:H) -> 273.98 | D16: =_xlfn.MAXIFS('4-Basis ruimtestaat'!K:K,'4-Basis ruimtestaat'!B:B,'2-Kosten per locatie'!A16) -> 130 | E16: =_xlfn.MAXIFS('4-Basis ruimtestaat'!L:L,'4-Basis ruimtestaat'!B:B,'2-Kosten per locatie'!A16) -> 0 | F16: =_xlfn.MAXIFS('4-Basis ruimtestaat'!M:M,'4-Basis ruimtestaat'!B:B,'2-Kosten per locatie'!A16) -> 0 | G16: =_xlfn.MAXIFS('4-Basis ruimtestaat'!N:N,'4-Basis ruimtestaat'!B:B,'2-Kosten per locatie'!A16) -> 0 | H16: =_xlfn.MAXIFS('4-Basis ruimtestaat'!O:O,'4-Basis ruimtestaat'!B:B,'2-Kosten per locatie'!A16) -> 0 | I16: =_xlfn.MAXIFS('4-Basis ruimtestaat'!P:P,'4-Basis ruimtestaat'!B:B,'2-Kosten per locatie'!A16) -> 0 | J16: =SUMIF('4-Basis ruimtestaat'!B:B,'2-Kosten per locatie'!A16,'4-Basis ruimtestaat'!Q:Q) -> #DIV/0! | K16: =SUMIF('4-Basis ruimtestaat'!B:B,'2-Kosten per locatie'!A16,'4-Basis ruimtestaat'!R:R) -> 0 | L16: =SUMIF('4-Basis ruimtestaat'!B:B,'2-Kosten per locatie'!A16,'4-Basis ruimtestaat'!S:S) -> 0 | M16: =SUMIF('4-Basis ruimtestaat'!B:B,'2-Kosten per locatie'!A16,'4-Basis ruimtestaat'!T:T) -> 0 | N16: =SUMIF('4-Basis ruimtestaat'!B:B,'2-Kosten per locatie'!A16,'4-Basis ruimtestaat'!U:U) -> 0 | O16: =SUMIF('4-Basis ruimtestaat'!B:B,'2-Kosten per locatie'!A16,'4-Basis ruimtestaat'!V:V) -> 0 | P16: =IF(J16<(D16*$E$2),D16*$E$2-J16,0) -> #DIV/0! | Q16: =IF(K16<(E16*$E$2),E16*$E$2-K16,0) -> 0 | R16: =IF(L16<(F16*$E$2),F16*$E$2-L16,0) -> 0 | S16: =IF(M16<(G16*$E$2),G16*$E$2-M16,0) -> 0 | T16: =IF(N16<(H16*$E$2),H16*$E$2-N16,0) -> 0 | U16: =IF(O16<(I16*$E$2),I16*$E$2-O16,0) -> 0 | V16: =J16*$E$5 -> #DIV/0! | W16: =K16*$E$5 -> 0 | X16: =L16*$E$5 -> 0 | Y16: =M16*$E$5 -> 0 | Z16: =N16*$E$5 -> 0 | AA16: =O16*$E$5 -> 0
A17: Berkel - Berkelse Poort 25 | B17: =SUMIF('4-Basis ruimtestaat'!B:B,'2-Kosten per locatie'!A17,'4-Basis ruimtestaat'!H:H) -> 895.02 | D17: =_xlfn.MAXIFS('4-Basis ruimtestaat'!K:K,'4-Basis ruimtestaat'!B:B,'2-Kosten per locatie'!A17) -> 255 | E17: =_xlfn.MAXIFS('4-Basis ruimtestaat'!L:L,'4-Basis ruimtestaat'!B:B,'2-Kosten per locatie'!A17) -> 0 | F17: =_xlfn.MAXIFS('4-Basis ruimtestaat'!M:M,'4-Basis ruimtestaat'!B:B,'2-Kosten per locatie'!A17) -> 0 | G17: =_xlfn.MAXIFS('4-Basis ruimtestaat'!N:N,'4-Basis ruimtestaat'!B:B,'2-Kosten per locatie'!A17) -> 0 | H17: =_xlfn.MAXIFS('4-Basis ruimtestaat'!O:O,'4-Basis ruimtestaat'!B:B,'2-Kosten per locatie'!A17) -> 0 | I17: =_xlfn.MAXIFS('4-Basis ruimtestaat'!P:P,'4-Basis ruimtestaat'!B:B,'2-Kosten per locatie'!A17) -> 0 | J17: =SUMIF('4-Basis ruimtestaat'!B:B,'2-Kosten per locatie'!A17,'4-Basis ruimtestaat'!Q:Q) -> #DIV/0! | K17: =SUMIF('4-Basis ruimtestaat'!B:B,'2-Kosten per locatie'!A17,'4-Basis ruimtestaat'!R:R) -> 0 | L17: =SUMIF('4-Basis ruimtestaat'!B:B,'2-Kosten per locatie'!A17,'4-Basis ruimtestaat'!S:S) -> 0 | M17: =SUMIF('4-Basis ruimtestaat'!B:B,'2-Kosten per locatie'!A17,'4-Basis ruimtestaat'!T:T) -> 0 | N17: =SUMIF('4-Basis ruimtestaat'!B:B,'2-Kosten per locatie'!A17,'4-Basis ruimtestaat'!U:U) -> 0 | O17: =SUMIF('4-Basis ruimtestaat'!B:B,'2-Kosten per locatie'!A17,'4-Basis ruimtestaat'!V:V) -> 0 | P17: =IF(J17<(D17*$E$2),D17*$E$2-J17,0) -> #DIV/0! | Q17: =IF(K17<(E17*$E$2),E17*$E$2-K17,0) -> 0 | R17: =IF(L17<(F17*$E$2),F17*$E$2-L17,0) -> 0 | S17: =IF(M17<(G17*$E$2),G17*$E$2-M17,0) -> 0 | T17: =IF(N17<(H17*$E$2),H17*$E$2-N17,0) -> 0 | U17: =IF(O17<(I17*$E$2),I17*$E$2-O17,0) -> 0 | V17: =J17*$E$5 -> #DIV/0! | W17: =K17*$E$5 -> 0 | X17: =L17*$E$5 -> 0 | Y17: =M17*$E$5 -> 0 | Z17: =N17*$E$5 -> 0 | AA17: =O17*$E$5 -> 0
A18: Bleiswijk - J. v/d Heydenstraat 6 | B18: =SUMIF('4-Basis ruimtestaat'!B:B,'2-Kosten per locatie'!A18,'4-Basis ruimtestaat'!H:H) -> 166.005 | D18: =_xlfn.MAXIFS('4-Basis ruimtestaat'!K:K,'4-Basis ruimtestaat'!B:B,'2-Kosten per locatie'!A18) -> 52 | E18: =_xlfn.MAXIFS('4-Basis ruimtestaat'!L:L,'4-Basis ruimtestaat'!B:B,'2-Kosten per locatie'!A18) -> 0 | F18: =_xlfn.MAXIFS('4-Basis ruimtestaat'!M:M,'4-Basis ruimtestaat'!B:B,'2-Kosten per locatie'!A18) -> 0 | G18: =_xlfn.MAXIFS('4-Basis ruimtestaat'!N:N,'4-Basis ruimtestaat'!B:B,'2-Kosten per locatie'!A18) -> 0 | H18: =_xlfn.MAXIFS('4-Basis ruimtestaat'!O:O,'4-Basis ruimtestaat'!B:B,'2-Kosten per locatie'!A18) -> 0 | I18: =_xlfn.MAXIFS('4-Basis ruimtestaat'!P:P,'4-Basis ruimtestaat'!B:B,'2-Kosten per locatie'!A18) -> 0 | J18: =SUMIF('4-Basis ruimtestaat'!B:B,'2-Kosten per locatie'!A18,'4-Basis ruimtestaat'!Q:Q) -> #DIV/0! | K18: =SUMIF('4-Basis ruimtestaat'!B:B,'2-Kosten per locatie'!A18,'4-Basis ruimtestaat'!R:R) -> 0 | L18: =SUMIF('4-Basis ruimtestaat'!B:B,'2-Kosten per locatie'!A18,'4-Basis ruimtestaat'!S:S) -> 0 | M18: =SUMIF('4-Basis ruimtestaat'!B:B,'2-Kosten per locatie'!A18,'4-Basis ruimtestaat'!T:T) -> 0 | N18: =SUMIF('4-Basis ruimtestaat'!B:B,'2-Kosten per locatie'!A18,'4-Basis ruimtestaat'!U:U) -> 0 | O18: =SUMIF('4-Basis ruimtestaat'!B:B,'2-Kosten per locatie'!A18,'4-Basis ruimtestaat'!V:V) -> 0 | P18: =IF(J18<(D18*$E$2),D18*$E$2-J18,0) -> #DIV/0! | Q18: =IF(K18<(E18*$E$2),E18*$E$2-K18,0) -> 0 | R18: =IF(L18<(F18*$E$2),F18*$E$2-L18,0) -> 0 | S18: =IF(M18<(G18*$E$2),G18*$E$2-M18,0) -> 0 | T18: =IF(N18<(H18*$E$2),H18*$E$2-N18,0) -> 0 | U18: =IF(O18<(I18*$E$2),I18*$E$2-O18,0) -> 0 | V18: =J18*$E$5 -> #DIV/0! | W18: =K18*$E$5 -> 0 | X18: =L18*$E$5 -> 0 | Y18: =M18*$E$5 -> 0 | Z18: =N18*$E$5 -> 0 | AA18: =O18*$E$5 -> 0
A19: Brielle - Amer 7 | B19: =SUMIF('4-Basis ruimtestaat'!B:B,'2-Kosten per locatie'!A19,'4-Basis ruimtestaat'!H:H) -> 114.7545 | D19: =_xlfn.MAXIFS('4-Basis ruimtestaat'!K:K,'4-Basis ruimtestaat'!B:B,'2-Kosten per locatie'!A19) -> 255 | E19: =_xlfn.MAXIFS('4-Basis ruimtestaat'!L:L,'4-Basis ruimtestaat'!B:B,'2-Kosten per locatie'!A19) -> 0 | F19: =_xlfn.MAXIFS('4-Basis ruimtestaat'!M:M,'4-Basis ruimtestaat'!B:B,'2-Kosten per locatie'!A19) -> 52 | G19: =_xlfn.MAXIFS('4-Basis ruimtestaat'!N:N,'4-Basis ruimtestaat'!B:B,'2-Kosten per locatie'!A19) -> 0 | H19: =_xlfn.MAXIFS('4-Basis ruimtestaat'!O:O,'4-Basis ruimtestaat'!B:B,'2-Kosten per locatie'!A19) -> 6 | I19: =_xlfn.MAXIFS('4-Basis ruimtestaat'!P:P,'4-Basis ruimtestaat'!B:B,'2-Kosten per locatie'!A19) -> 0 | J19: =SUMIF('4-Basis ruimtestaat'!B:B,'2-Kosten per locatie'!A19,'4-Basis ruimtestaat'!Q:Q) -> #DIV/0! | K19: =SUMIF('4-Basis ruimtestaat'!B:B,'2-Kosten per locatie'!A19,'4-Basis ruimtestaat'!R:R) -> 0 | L19: =SUMIF('4-Basis ruimtestaat'!B:B,'2-Kosten per locatie'!A19,'4-Basis ruimtestaat'!S:S) -> #DIV/0! | M19: =SUMIF('4-Basis ruimtestaat'!B:B,'2-Kosten per locatie'!A19,'4-Basis ruimtestaat'!T:T) -> 0 | N19: =SUMIF('4-Basis ruimtestaat'!B:B,'2-Kosten per locatie'!A19,'4-Basis ruimtestaat'!U:U) -> #DIV/0! | O19: =SUMIF('4-Basis ruimtestaat'!B:B,'2-Kosten per locatie'!A19,'4-Basis ruimtestaat'!V:V) -> 0 | P19: =IF(J19<(D19*$E$2),D19*$E$2-J19,0) -> #DIV/0! | Q19: =IF(K19<(E19*$E$2),E19*$E$2-K19,0) -> 0 | R19: =IF(L19<(F19*$E$2),F19*$E$2-L19,0) -> #DIV/0! | S19: =IF(M19<(G19*$E$2),G19*$E$2-M19,0) -> 0 | T19: =IF(N19<(H19*$E$2),H19*$E$2-N19,0) -> #DIV/0! | U19: =IF(O19<(I19*$E$2),I19*$E$2-O19,0) -> 0 | V19: =J19*$E$5 -> #DIV/0! | W19: =K19*$E$5 -> 0 | X19: =L19*$E$5 -> #DIV/0! | Y19: =M19*$E$5 -> 0 | Z19: =N19*$E$5 -> #DIV/0! | AA19: =O19*$E$5 -> 0
A20: Brielle - Krammer 2 | B20: =SUMIF('4-Basis ruimtestaat'!B:B,'2-Kosten per locatie'!A20,'4-Basis ruimtestaat'!H:H) -> 0 | D20: =_xlfn.MAXIFS('4-Basis ruimtestaat'!K:K,'4-Basis ruimtestaat'!B:B,'2-Kosten per locatie'!A20) -> 0 | E20: =_xlfn.MAXIFS('4-Basis ruimtestaat'!L:L,'4-Basis ruimtestaat'!B:B,'2-Kosten per locatie'!A20) -> 0 | F20: =_xlfn.MAXIFS('4-Basis ruimtestaat'!M:M,'4-Basis ruimtestaat'!B:B,'2-Kosten per locatie'!A20) -> 0 | G20: =_xlfn.MAXIFS('4-Basis ruimtestaat'!N:N,'4-Basis ruimtestaat'!B:B,'2-Kosten per locatie'!A20) -> 0 | H20: =_xlfn.MAXIFS('4-Basis ruimtestaat'!O:O,'4-Basis ruimtestaat'!B:B,'2-Kosten per locatie'!A20) -> 0 | I20: =_xlfn.MAXIFS('4-Basis ruimtestaat'!P:P,'4-Basis ruimtestaat'!B:B,'2-Kosten per locatie'!A20) -> 0 | J20: =SUMIF('4-Basis ruimtestaat'!B:B,'2-Kosten per locatie'!A20,'4-Basis ruimtestaat'!Q:Q) -> 0 | K20: =SUMIF('4-Basis ruimtestaat'!B:B,'2-Kosten per locatie'!A20,'4-Basis ruimtestaat'!R:R) -> 0 | L20: =SUMIF('4-Basis ruimtestaat'!B:B,'2-Kosten per locatie'!A20,'4-Basis ruimtestaat'!S:S) -> 0 | M20: =SUMIF('4-Basis ruimtestaat'!B:B,'2-Kosten per locatie'!A20,'4-Basis ruimtestaat'!T:T) -> 0 | N20: =SUMIF('4-Basis ruimtestaat'!B:B,'2-Kosten per locatie'!A20,'4-Basis ruimtestaat'!U:U) -> 0 | O20: =SUMIF('4-Basis ruimtestaat'!B:B,'2-Kosten per locatie'!A20,'4-Basis ruimtestaat'!V:V) -> 0 | P20: =IF(J20<(D20*$E$2),D20*$E$2-J20,0) -> 0 | Q20: =IF(K20<(E20*$E$2),E20*$E$2-K20,0) -> 0 | R20: =IF(L20<(F20*$E$2),F20*$E$2-L20,0) -> 0 | S20: =IF(M20<(G20*$E$2),G20*$E$2-M20,0) -> 0 | T20: =IF(N20<(H20*$E$2),H20*$E$2-N20,0) -> 0 | U20: =IF(O20<(I20*$E$2),I20*$E$2-O20,0) -> 0 | V20: =J20*$E$5 -> 0 | W20: =K20*$E$5 -> 0 | X20: =L20*$E$5 -> 0 | Y20: =M20*$E$5 -> 0 | Z20: =N20*$E$5 -> 0 | AA20: =O20*$E$5 -> 0
A21: Capelle a/d Ijssel - Slotlaan 121 | B21: =SUMIF('4-Basis ruimtestaat'!B:B,'2-Kosten per locatie'!A21,'4-Basis ruimtestaat'!H:H) -> 1103.66 | D21: =_xlfn.MAXIFS('4-Basis ruimtestaat'!K:K,'4-Basis ruimtestaat'!B:B,'2-Kosten per locatie'!A21) -> 255 | E21: =_xlfn.MAXIFS('4-Basis ruimtestaat'!L:L,'4-Basis ruimtestaat'!B:B,'2-Kosten per locatie'!A21) -> 0 | F21: =_xlfn.MAXIFS('4-Basis ruimtestaat'!M:M,'4-Basis ruimtestaat'!B:B,'2-Kosten per locatie'!A21) -> 0 | G21: =_xlfn.MAXIFS('4-Basis ruimtestaat'!N:N,'4-Basis ruimtestaat'!B:B,'2-Kosten per locatie'!A21) -> 0 | H21: =_xlfn.MAXIFS('4-Basis ruimtestaat'!O:O,'4-Basis ruimtestaat'!B:B,'2-Kosten per locatie'!A21) -> 0 | I21: =_xlfn.MAXIFS('4-Basis ruimtestaat'!P:P,'4-Basis ruimtestaat'!B:B,'2-Kosten per locatie'!A21) -> 0 | J21: =SUMIF('4-Basis ruimtestaat'!B:B,'2-Kosten per locatie'!A21,'4-Basis ruimtestaat'!Q:Q) -> #DIV/0! | K21: =SUMIF('4-Basis ruimtestaat'!B:B,'2-Kosten per locatie'!A21,'4-Basis ruimtestaat'!R:R) -> 0 | L21: =SUMIF('4-Basis ruimtestaat'!B:B,'2-Kosten per locatie'!A21,'4-Basis ruimtestaat'!S:S) -> 0 | M21: =SUMIF('4-Basis ruimtestaat'!B:B,'2-Kosten per locatie'!A21,'4-Basis ruimtestaat'!T:T) -> 0 | N21: =SUMIF('4-Basis ruimtestaat'!B:B,'2-Kosten per locatie'!A21,'4-Basis ruimtestaat'!U:U) -> 0 | O21: =SUMIF('4-Basis ruimtestaat'!B:B,'2-Kosten per locatie'!A21,'4-Basis ruimtestaat'!V:V) -> 0 | P21: =IF(J21<(D21*$E$2),D21*$E$2-J21,0) -> #DIV/0! | Q21: =IF(K21<(E21*$E$2),E21*$E$2-K21,0) -> 0 | R21: =IF(L21<(F21*$E$2),F21*$E$2-L21,0) -> 0 | S21: =IF(M21<(G21*$E$2),G21*$E$2-M21,0) -> 0 | T21: =IF(N21<(H21*$E$2),H21*$E$2-N21,0) -> 0 | U21: =IF(O21<(I21*$E$2),I21*$E$2-O21,0) -> 0 | V21: =J21*$E$5 -> #DIV/0! | W21: =K21*$E$5 -> 0 | X21: =L21*$E$5 -> 0 | Y21: =M21*$E$5 -> 0 | Z21: =N21*$E$5 -> 0 | AA21: =O21*$E$5 -> 0
A22: Dirksland - Philipshoofjesweg 57a | B22: =SUMIF('4-Basis ruimtestaat'!B:B,'2-Kosten per locatie'!A22,'4-Basis ruimtestaat'!H:H) -> 0 | D22: =_xlfn.MAXIFS('4-Basis ruimtestaat'!K:K,'4-Basis ruimtestaat'!B:B,'2-Kosten per locatie'!A22) -> 0 | E22: =_xlfn.MAXIFS('4-Basis ruimtestaat'!L:L,'4-Basis ruimtestaat'!B:B,'2-Kosten per locatie'!A22) -> 0 | F22: =_xlfn.MAXIFS('4-Basis ruimtestaat'!M:M,'4-Basis ruimtestaat'!B:B,'2-Kosten per locatie'!A22) -> 0 | G22: =_xlfn.MAXIFS('4-Basis ruimtestaat'!N:N,'4-Basis ruimtestaat'!B:B,'2-Kosten per locatie'!A22) -> 0 | H22: =_xlfn.MAXIFS('4-Basis ruimtestaat'!O:O,'4-Basis ruimtestaat'!B:B,'2-Kosten per locatie'!A22) -> 0 | I22: =_xlfn.MAXIFS('4-Basis ruimtestaat'!P:P,'4-Basis ruimtestaat'!B:B,'2-Kosten per locatie'!A22) -> 0 | J22: =SUMIF('4-Basis ruimtestaat'!B:B,'2-Kosten per locatie'!A22,'4-Basis ruimtestaat'!Q:Q) -> 0 | K22: =SUMIF('4-Basis ruimtestaat'!B:B,'2-Kosten per locatie'!A22,'4-Basis ruimtestaat'!R:R) -> 0 | L22: =SUMIF('4-Basis ruimtestaat'!B:B,'2-Kosten per locatie'!A22,'4-Basis ruimtestaat'!S:S) -> 0 | M22: =SUMIF('4-Basis ruimtestaat'!B:B,'2-Kosten per locatie'!A22,'4-Basis ruimtestaat'!T:T) -> 0 | N22: =SUMIF('4-Basis ruimtestaat'!B:B,'2-Kosten per locatie'!A22,'4-Basis ruimtestaat'!U:U) -> 0 | O22: =SUMIF('4-Basis ruimtestaat'!B:B,'2-Kosten per locatie'!A22,'4-Basis ruimtestaat'!V:V) -> 0 | P22: =IF(J22<(D22*$E$2),D22*$E$2-J22,0) -> 0 | Q22: =IF(K22<(E22*$E$2),E22*$E$2-K22,0) -> 0 | R22: =IF(L22<(F22*$E$2),F22*$E$2-L22,0) -> 0 | S22: =IF(M22<(G22*$E$2),G22*$E$2-M22,0) -> 0 | T22: =IF(N22<(H22*$E$2),H22*$E$2-N22,0) -> 0 | U22: =IF(O22<(I22*$E$2),I22*$E$2-O22,0) -> 0 | V22: =J22*$E$5 -> 0 | W22: =K22*$E$5 -> 0 | X22: =L22*$E$5 -> 0 | Y22: =M22*$E$5 -> 0 | Z22: =N22*$E$5 -> 0 | AA22: =O22*$E$5 -> 0
A23: Dirksland - Watertoren 45d | B23: =SUMIF('4-Basis ruimtestaat'!B:B,'2-Kosten per locatie'!A23,'4-Basis ruimtestaat'!H:H) -> 114.03 | D23: =_xlfn.MAXIFS('4-Basis ruimtestaat'!K:K,'4-Basis ruimtestaat'!B:B,'2-Kosten per locatie'!A23) -> 156 | E23: =_xlfn.MAXIFS('4-Basis ruimtestaat'!L:L,'4-Basis ruimtestaat'!B:B,'2-Kosten per locatie'!A23) -> 0 | F23: =_xlfn.MAXIFS('4-Basis ruimtestaat'!M:M,'4-Basis ruimtestaat'!B:B,'2-Kosten per locatie'!A23) -> 0 | G23: =_xlfn.MAXIFS('4-Basis ruimtestaat'!N:N,'4-Basis ruimtestaat'!B:B,'2-Kosten per locatie'!A23) -> 0 | H23: =_xlfn.MAXIFS('4-Basis ruimtestaat'!O:O,'4-Basis ruimtestaat'!B:B,'2-Kosten per locatie'!A23) -> 0 | I23: =_xlfn.MAXIFS('4-Basis ruimtestaat'!P:P,'4-Basis ruimtestaat'!B:B,'2-Kosten per locatie'!A23) -> 0 | J23: =SUMIF('4-Basis ruimtestaat'!B:B,'2-Kosten per locatie'!A23,'4-Basis ruimtestaat'!Q:Q) -> #DIV/0! | K23: =SUMIF('4-Basis ruimtestaat'!B:B,'2-Kosten per locatie'!A23,'4-Basis ruimtestaat'!R:R) -> 0 | L23: =SUMIF('4-Basis ruimtestaat'!B:B,'2-Kosten per locatie'!A23,'4-Basis ruimtestaat'!S:S) -> 0 | M23: =SUMIF('4-Basis ruimtestaat'!B:B,'2-Kosten per locatie'!A23,'4-Basis ruimtestaat'!T:T) -> 0 | N23: =SUMIF('4-Basis ruimtestaat'!B:B,'2-Kosten per locatie'!A23,'4-Basis ruimtestaat'!U:U) -> 0 | O23: =SUMIF('4-Basis ruimtestaat'!B:B,'2-Kosten per locatie'!A23,'4-Basis ruimtestaat'!V:V) -> 0 | P23: =IF(J23<(D23*$E$2),D23*$E$2-J23,0) -> #DIV/0! | Q23: =IF(K23<(E23*$E$2),E23*$E$2-K23,0) -> 0 | R23: =IF(L23<(F23*$E$2),F23*$E$2-L23,0) -> 0 | S23: =IF(M23<(G23*$E$2),G23*$E$2-M23,0) -> 0 | T23: =IF(N23<(H23*$E$2),H23*$E$2-N23,0) -> 0 | U23: =IF(O23<(I23*$E$2),I23*$E$2-O23,0) -> 0 | V23: =J23*$E$5 -> #DIV/0! | W23: =K23*$E$5 -> 0 | X23: =L23*$E$5 -> 0 | Y23: =M23*$E$5 -> 0 | Z23: =N23*$E$5 -> 0 | AA23: =O23*$E$5 -> 0
A24: Goedereede - Provincialeweg 18a | B24: =SUMIF('4-Basis ruimtestaat'!B:B,'2-Kosten per locatie'!A24,'4-Basis ruimtestaat'!H:H) -> 262.027 | D24: =_xlfn.MAXIFS('4-Basis ruimtestaat'!K:K,'4-Basis ruimtestaat'!B:B,'2-Kosten per locatie'!A24) -> 156 | E24: =_xlfn.MAXIFS('4-Basis ruimtestaat'!L:L,'4-Basis ruimtestaat'!B:B,'2-Kosten per locatie'!A24) -> 0 | F24: =_xlfn.MAXIFS('4-Basis ruimtestaat'!M:M,'4-Basis ruimtestaat'!B:B,'2-Kosten per locatie'!A24) -> 0 | G24: =_xlfn.MAXIFS('4-Basis ruimtestaat'!N:N,'4-Basis ruimtestaat'!B:B,'2-Kosten per locatie'!A24) -> 0 | H24: =_xlfn.MAXIFS('4-Basis ruimtestaat'!O:O,'4-Basis ruimtestaat'!B:B,'2-Kosten per locatie'!A24) -> 0 | I24: =_xlfn.MAXIFS('4-Basis ruimtestaat'!P:P,'4-Basis ruimtestaat'!B:B,'2-Kosten per locatie'!A24) -> 0 | J24: =SUMIF('4-Basis ruimtestaat'!B:B,'2-Kosten per locatie'!A24,'4-Basis ruimtestaat'!Q:Q) -> #DIV/0! | K24: =SUMIF('4-Basis ruimtestaat'!B:B,'2-Kosten per locatie'!A24,'4-Basis ruimtestaat'!R:R) -> 0 | L24: =SUMIF('4-Basis ruimtestaat'!B:B,'2-Kosten per locatie'!A24,'4-Basis ruimtestaat'!S:S) -> 0 | M24: =SUMIF('4-Basis ruimtestaat'!B:B,'2-Kosten per locatie'!A24,'4-Basis ruimtestaat'!T:T) -> 0 | N24: =SUMIF('4-Basis ruimtestaat'!B:B,'2-Kosten per locatie'!A24,'4-Basis ruimtestaat'!U:U) -> 0 | O24: =SUMIF('4-Basis ruimtestaat'!B:B,'2-Kosten per locatie'!A24,'4-Basis ruimtestaat'!V:V) -> 0 | P24: =IF(J24<(D24*$E$2),D24*$E$2-J24,0) -> #DIV/0! | Q24: =IF(K24<(E24*$E$2),E24*$E$2-K24,0) -> 0 | R24: =IF(L24<(F24*$E$2),F24*$E$2-L24,0) -> 0 | S24: =IF(M24<(G24*$E$2),G24*$E$2-M24,0) -> 0 | T24: =IF(N24<(H24*$E$2),H24*$E$2-N24,0) -> 0 | U24: =IF(O24<(I24*$E$2),I24*$E$2-O24,0) -> 0 | V24: =J24*$E$5 -> #DIV/0! | W24: =K24*$E$5 -> 0 | X24: =L24*$E$5 -> 0 | Y24: =M24*$E$5 -> 0 | Z24: =N24*$E$5 -> 0 | AA24: =O24*$E$5 -> 0
A25: Hellevoetsluis - Tolweg 45a | B25: =SUMIF('4-Basis ruimtestaat'!B:B,'2-Kosten per locatie'!A25,'4-Basis ruimtestaat'!H:H) -> 319.01 | D25: =_xlfn.MAXIFS('4-Basis ruimtestaat'!K:K,'4-Basis ruimtestaat'!B:B,'2-Kosten per locatie'!A25) -> 130 | E25: =_xlfn.MAXIFS('4-Basis ruimtestaat'!L:L,'4-Basis ruimtestaat'!B:B,'2-Kosten per locatie'!A25) -> 0 | F25: =_xlfn.MAXIFS('4-Basis ruimtestaat'!M:M,'4-Basis ruimtestaat'!B:B,'2-Kosten per locatie'!A25) -> 0 | G25: =_xlfn.MAXIFS('4-Basis ruimtestaat'!N:N,'4-Basis ruimtestaat'!B:B,'2-Kosten per locatie'!A25) -> 0 | H25: =_xlfn.MAXIFS('4-Basis ruimtestaat'!O:O,'4-Basis ruimtestaat'!B:B,'2-Kosten per locatie'!A25) -> 0 | I25: =_xlfn.MAXIFS('4-Basis ruimtestaat'!P:P,'4-Basis ruimtestaat'!B:B,'2-Kosten per locatie'!A25) -> 0 | J25: =SUMIF('4-Basis ruimtestaat'!B:B,'2-Kosten per locatie'!A25,'4-Basis ruimtestaat'!Q:Q) -> #DIV/0! | K25: =SUMIF('4-Basis ruimtestaat'!B:B,'2-Kosten per locatie'!A25,'4-Basis ruimtestaat'!R:R) -> 0 | L25: =SUMIF('4-Basis ruimtestaat'!B:B,'2-Kosten per locatie'!A25,'4-Basis ruimtestaat'!S:S) -> 0 | M25: =SUMIF('4-Basis ruimtestaat'!B:B,'2-Kosten per locatie'!A25,'4-Basis ruimtestaat'!T:T) -> 0 | N25: =SUMIF('4-Basis ruimtestaat'!B:B,'2-Kosten per locatie'!A25,'4-Basis ruimtestaat'!U:U) -> 0 | O25: =SUMIF('4-Basis ruimtestaat'!B:B,'2-Kosten per locatie'!A25,'4-Basis ruimtestaat'!V:V) -> 0 | P25: =IF(J25<(D25*$E$2),D25*$E$2-J25,0) -> #DIV/0! | Q25: =IF(K25<(E25*$E$2),E25*$E$2-K25,0) -> 0 | R25: =IF(L25<(F25*$E$2),F25*$E$2-L25,0) -> 0 | S25: =IF(M25<(G25*$E$2),G25*$E$2-M25,0) -> 0 | T25: =IF(N25<(H25*$E$2),H25*$E$2-N25,0) -> 0 | U25: =IF(O25<(I25*$E$2),I25*$E$2-O25,0) -> 0 | V25: =J25*$E$5 -> #DIV/0! | W25: =K25*$E$5 -> 0 | X25: =L25*$E$5 -> 0 | Y25: =M25*$E$5 -> 0 | Z25: =N25*$E$5 -> 0 | AA25: =O25*$E$5 -> 0
... A62: Rotterdam - Sicilieboulevard 227 | B62: =SUMIF('4-Basis ruimtestaat'!B:B,'2-Kosten per locatie'!A62,'4-Basis ruimtestaat'!H:H) -> 0 | D62: =_xlfn.MAXIFS('4-Basis ruimtestaat'!K:K,'4-Basis ruimtestaat'!B:B,'2-Kosten per locatie'!A62) -> 0 | E62: =_xlfn.MAXIFS('4-Basis ruimtestaat'!L:L,'4-Basis ruimtestaat'!B:B,'2-Kosten per locatie'!A62) -> 0 | F62: =_xlfn.MAXIFS('4-Basis ruimtestaat'!M:M,'4-Basis ruimtestaat'!B:B,'2-Kosten per locatie'!A62) -> 0 | G62: =_xlfn.MAXIFS('4-Basis ruimtestaat'!N:N,'4-Basis ruimtestaat'!B:B,'2-Kosten per locatie'!A62) -> 0 | H62: =_xlfn.MAXIFS('4-Basis ruimtestaat'!O:O,'4-Basis ruimtestaat'!B:B,'2-Kosten per locatie'!A62) -> 0 | I62: =_xlfn.MAXIFS('4-Basis ruimtestaat'!P:P,'4-Basis ruimtestaat'!B:B,'2-Kosten per locatie'!A62) -> 0 | J62: =SUMIF('4-Basis ruimtestaat'!B:B,'2-Kosten per locatie'!A62,'4-Basis ruimtestaat'!Q:Q) -> 0 | K62: =SUMIF('4-Basis ruimtestaat'!B:B,'2-Kosten per locatie'!A62,'4-Basis ruimtestaat'!R:R) -> 0 | L62: =SUMIF('4-Basis ruimtestaat'!B:B,'2-Kosten per locatie'!A62,'4-Basis ruimtestaat'!S:S) -> 0 | M62: =SUMIF('4-Basis ruimtestaat'!B:B,'2-Kosten per locatie'!A62,'4-Basis ruimtestaat'!T:T) -> 0 | N62: =SUMIF('4-Basis ruimtestaat'!B:B,'2-Kosten per locatie'!A62,'4-Basis ruimtestaat'!U:U) -> 0 | O62: =SUMIF('4-Basis ruimtestaat'!B:B,'2-Kosten per locatie'!A62,'4-Basis ruimtestaat'!V:V) -> 0 | P62: =IF(J62<(D62*$E$2),D62*$E$2-J62,0) -> 0 | Q62: =IF(K62<(E62*$E$2),E62*$E$2-K62,0) -> 0 | R62: =IF(L62<(F62*$E$2),F62*$E$2-L62,0) -> 0 | S62: =IF(M62<(G62*$E$2),G62*$E$2-M62,0) -> 0 | T62: =IF(N62<(H62*$E$2),H62*$E$2-N62,0) -> 0 | U62: =IF(O62<(I62*$E$2),I62*$E$2-O62,0) -> 0 | V62: =J62*$E$5 -> 0 | W62: =K62*$E$5 -> 0 | X62: =L62*$E$5 -> 0 | Y62: =M62*$E$5 -> 0 | Z62: =N62*$E$5 -> 0 | AA62: =O62*$E$5 -> 0
A63: Algemeen | B63: =SUMIF('4-Basis ruimtestaat'!B:B,'2-Kosten per locatie'!A63,'4-Basis ruimtestaat'!H:H) -> 0 | C63: =SUMIF('4-Basis ruimtestaat'!C:C,'2-Kosten per locatie'!B63,'4-Basis ruimtestaat'!I:I) -> 0 | D63: =_xlfn.MAXIFS('4-Basis ruimtestaat'!K:K,'4-Basis ruimtestaat'!B:B,'2-Kosten per locatie'!A63) -> 0 | E63: =_xlfn.MAXIFS('4-Basis ruimtestaat'!L:L,'4-Basis ruimtestaat'!B:B,'2-Kosten per locatie'!A63) -> 0 | F63: =_xlfn.MAXIFS('4-Basis ruimtestaat'!M:M,'4-Basis ruimtestaat'!B:B,'2-Kosten per locatie'!A63) -> 0 | G63: =_xlfn.MAXIFS('4-Basis ruimtestaat'!N:N,'4-Basis ruimtestaat'!B:B,'2-Kosten per locatie'!A63) -> 0 | H63: =_xlfn.MAXIFS('4-Basis ruimtestaat'!O:O,'4-Basis ruimtestaat'!B:B,'2-Kosten per locatie'!A63) -> 0 | I63: =_xlfn.MAXIFS('4-Basis ruimtestaat'!P:P,'4-Basis ruimtestaat'!B:B,'2-Kosten per locatie'!A63) -> 0 | J63: =SUMIF('4-Basis ruimtestaat'!B:B,'2-Kosten per locatie'!A63,'4-Basis ruimtestaat'!Q:Q) -> 0 | K63: =SUMIF('4-Basis ruimtestaat'!B:B,'2-Kosten per locatie'!A63,'4-Basis ruimtestaat'!R:R) -> 0 | L63: =SUMIF('4-Basis ruimtestaat'!B:B,'2-Kosten per locatie'!A63,'4-Basis ruimtestaat'!S:S) -> 0 | M63: =SUMIF('4-Basis ruimtestaat'!B:B,'2-Kosten per locatie'!A63,'4-Basis ruimtestaat'!T:T) -> 0 | N63: =SUMIF('4-Basis ruimtestaat'!B:B,'2-Kosten per locatie'!A63,'4-Basis ruimtestaat'!U:U) -> 0 | O63: =SUMIF('4-Basis ruimtestaat'!B:B,'2-Kosten per locatie'!A63,'4-Basis ruimtestaat'!V:V) -> 0 | P63: =IF(J63<(D63*$E$2),D63*$E$2-J63,0) -> 0 | Q63: =IF(K63<(E63*$E$2),E63*$E$2-K63,0) -> 0 | R63: =IF(L63<(F63*$E$2),F63*$E$2-L63,0) -> 0 | S63: =IF(M63<(G63*$E$2),G63*$E$2-M63,0) -> 0 | T63: =IF(N63<(H63*$E$2),H63*$E$2-N63,0) -> 0 | U63: =IF(O63<(I63*$E$2),I63*$E$2-O63,0) -> 0 | V63: =J63*$E$5 -> 0 | W63: =K63*$E$5 -> 0 | X63: =L63*$E$5 -> 0 | Y63: =M63*$E$5 -> 0 | Z63: =N63*$E$5 -> 0 | AA63: =O63*$E$5 -> 0
A64: Totaal | B64: =SUM(B14:B63) -> 23201.22 | J64: =SUM(J14:J63) -> #DIV/0! | K64: =SUM(K14:K63) -> 0 | L64: =SUM(L14:L63) -> #DIV/0! | M64: =SUM(M14:M63) -> 0 | N64: =SUM(N14:N63) -> #DIV/0! | O64: =SUM(O14:O63) -> 0 | P64: =SUM(P14:P63) -> #DIV/0! | Q64: =SUM(Q14:Q63) -> 0 | ... AA64: =SUM(AA14:AA63) -> 0
A66: Locatie | B66: Kosten productie per jaar ma t/m vr incl minimale taakgrootte | C66: Kosten productie per jaar ma t/m vr naloop incl minimale taakgrootte | D66: Kosten productie per jaar za - zo incl minimale taakgrootte | E66: Kosten productie per jaar za / zo / fe naloop incl minimale taakgrootte | F66: Kosten productie per jaar feestdag incl minimale taakgrootte | G66: Kosten productie per jaar feestdag naloop incl minimale taakgrootte | H66: Totale kosten productie per jaar | I66: Kosten toezicht per jaar ma t/m vr | J66: Kosten toezicht per jaar ma t/m vr naloop | K66: Kosten toezicht per jaar za - zo | L66: Kosten toezicht per jaar za / zo / fe naloop | M66: Kosten toezicht per jaar feestdag | N66: Kosten toezicht per jaar feestdag naloop | O66: Totale kosten toezicht per jaar | P66: Kosten vloeronderhoud per jaar | Q66: Kosten Additioneel per jaar | R66: Kosten glasbewassing per jaar | S66: Kosten diep reiniging sanitair | T66: Kosten diep reiniging keukens | U66: Totaal kosten per jaar excl. btw | V66: Totaal kosten per maand excl. btw
A67: =A14 -> Barendrecht - Breslau 2 | B67: =(J14+P14)*'6-Opbouw uurtarief productie'!$E$46 -> #DIV/0! | C67: =(K14+Q14)*'6-Opbouw uurtarief productie'!$E$46 -> #DIV/0! | D67: =(L14+R14)*'6-Opbouw uurtarief productie'!$E$50 -> #DIV/0! | E67: =(M14+S14)*'6-Opbouw uurtarief productie'!$E$50 -> #DIV/0! | F67: =(N14+T14)*'6-Opbouw uurtarief productie'!$E$52 -> #DIV/0! | G67: =(O14+U14)*'6-Opbouw uurtarief productie'!$E$52 -> #DIV/0! | H67: =SUM(B67:G67) -> #DIV/0! | I67: =V14*'7-Opbouw uurtarief toezicht'!$E$46 -> #DIV/0! | J67: =W14*'7-Opbouw uurtarief toezicht'!$E$46 -> #DIV/0! | K67: =X14*'7-Opbouw uurtarief toezicht'!$E$50 -> #DIV/0! | L67: =Y14*'7-Opbouw uurtarief toezicht'!$E$50 -> #DIV/0! | M67: =Z14*'7-Opbouw uurtarief toezicht'!$E$52 -> #DIV/0! | N67: =AA14*'7-Opbouw uurtarief toezicht'!$E$52 -> #DIV/0! | O67: =SUM(I67:N67) -> #DIV/0! | P67: =SUMIF('11-Vloeronderhoud'!A:A,'2-Kosten per locatie'!A67,'11-Vloeronderhoud'!H:H) -> 0 | Q67: =SUMIF('8-Additionele kosten'!A:A,'2-Kosten per locatie'!A67,'8-Additionele kosten'!H:H) -> 0 | R67: =SUMIF('10-Glasbewassing'!A:A,'2-Kosten per locatie'!A67,'10-Glasbewassing'!H:H) -> 0 | S67: =SUMIF('12-Diepreiniging sanitair'!A:A,'2-Kosten per locatie'!A67,'12-Diepreiniging sanitair'!Q:Q) -> 0 | T67: =SUMIF('13-Diepreiniging keuken'!A:A,A67,'13-Diepreiniging keuken'!H:H) -> 0 | U67: =H67+O67+P67+Q67+R67+S67+T67 -> #DIV/0! | V67: =U67/12 -> #DIV/0!
A68: =A15 -> Barendrecht - Breslau 4 | B68: =(J15+P15)*'6-Opbouw uurtarief productie'!$E$46 -> #DIV/0! | C68: =(K15+Q15)*'6-Opbouw uurtarief productie'!$E$46 -> #DIV/0! | D68: =(L15+R15)*'6-Opbouw uurtarief productie'!$E$50 -> #DIV/0! | E68: =(M15+S15)*'6-Opbouw uurtarief productie'!$E$50 -> #DIV/0! | F68: =(N15+T15)*'6-Opbouw uurtarief productie'!$E$52 -> #DIV/0! | G68: =(O15+U15)*'6-Opbouw uurtarief productie'!$E$52 -> #DIV/0! | H68: =SUM(B68:G68) -> #DIV/0! | I68: =V15*'7-Opbouw uurtarief toezicht'!$E$46 -> #DIV/0! | J68: =W15*'7-Opbouw uurtarief toezicht'!$E$46 -> #DIV/0! | K68: =X15*'7-Opbouw uurtarief toezicht'!$E$50 -> #DIV/0! | L68: =Y15*'7-Opbouw uurtarief toezicht'!$E$50 -> #DIV/0! | M68: =Z15*'7-Opbouw uurtarief toezicht'!$E$52 -> #DIV/0! | N68: =AA15*'7-Opbouw uurtarief toezicht'!$E$52 -> #DIV/0! | O68: =SUM(I68:N68) -> #DIV/0! | P68: =SUMIF('11-Vloeronderhoud'!A:A,'2-Kosten per locatie'!A68,'11-Vloeronderhoud'!H:H) -> 0 | Q68: =SUMIF('8-Additionele kosten'!A:A,'2-Kosten per locatie'!A68,'8-Additionele kosten'!H:H) -> 0 | R68: =SUMIF('10-Glasbewassing'!A:A,'2-Kosten per locatie'!A68,'10-Glasbewassing'!H:H) -> 0 | S68: =SUMIF('12-Diepreiniging sanitair'!A:A,'2-Kosten per locatie'!A68,'12-Diepreiniging sanitair'!Q:Q) -> 0 | T68: =SUMIF('13-Diepreiniging keuken'!A:A,A68,'13-Diepreiniging keuken'!H:H) -> 0 | U68: =H68+O68+P68+Q68+R68+S68+T68 -> #DIV/0! | V68: =U68/12 -> #DIV/0!
A69: =A16 -> Barendrecht - Dr. Kuijperstraat 25 | B69: =(J16+P16)*'6-Opbouw uurtarief productie'!$E$46 -> #DIV/0! | C69: =(K16+Q16)*'6-Opbouw uurtarief productie'!$E$46 -> #DIV/0! | D69: =(L16+R16)*'6-Opbouw uurtarief productie'!$E$50 -> #DIV/0! | E69: =(M16+S16)*'6-Opbouw uurtarief productie'!$E$50 -> #DIV/0! | F69: =(N16+T16)*'6-Opbouw uurtarief productie'!$E$52 -> #DIV/0! | G69: =(O16+U16)*'6-Opbouw uurtarief productie'!$E$52 -> #DIV/0! | H69: =SUM(B69:G69) -> #DIV/0! | I69: =V16*'7-Opbouw uurtarief toezicht'!$E$46 -> #DIV/0! | J69: =W16*'7-Opbouw uurtarief toezicht'!$E$46 -> #DIV/0! | K69: =X16*'7-Opbouw uurtarief toezicht'!$E$50 -> #DIV/0! | L69: =Y16*'7-Opbouw uurtarief toezicht'!$E$50 -> #DIV/0! | M69: =Z16*'7-Opbouw uurtarief toezicht'!$E$52 -> #DIV/0! | N69: =AA16*'7-Opbouw uurtarief toezicht'!$E$52 -> #DIV/0! | O69: =SUM(I69:N69) -> #DIV/0! | P69: =SUMIF('11-Vloeronderhoud'!A:A,'2-Kosten per locatie'!A69,'11-Vloeronderhoud'!H:H) -> 0 | Q69: =SUMIF('8-Additionele kosten'!A:A,'2-Kosten per locatie'!A69,'8-Additionele kosten'!H:H) -> 0 | R69: =SUMIF('10-Glasbewassing'!A:A,'2-Kosten per locatie'!A69,'10-Glasbewassing'!H:H) -> 0 | S69: =SUMIF('12-Diepreiniging sanitair'!A:A,'2-Kosten per locatie'!A69,'12-Diepreiniging sanitair'!Q:Q) -> 0 | T69: =SUMIF('13-Diepreiniging keuken'!A:A,A69,'13-Diepreiniging keuken'!H:H) -> 0 | U69: =H69+O69+P69+Q69+R69+S69+T69 -> #DIV/0! | V69: =U69/12 -> #DIV/0!
A70: =A17 -> Berkel - Berkelse Poort 25 | B70: =(J17+P17)*'6-Opbouw uurtarief productie'!$E$46 -> #DIV/0! | C70: =(K17+Q17)*'6-Opbouw uurtarief productie'!$E$46 -> #DIV/0! | D70: =(L17+R17)*'6-Opbouw uurtarief productie'!$E$50 -> #DIV/0! | E70: =(M17+S17)*'6-Opbouw uurtarief productie'!$E$50 -> #DIV/0! | F70: =(N17+T17)*'6-Opbouw uurtarief productie'!$E$52 -> #DIV/0! | G70: =(O17+U17)*'6-Opbouw uurtarief productie'!$E$52 -> #DIV/0! | H70: =SUM(B70:G70) -> #DIV/0! | I70: =V17*'7-Opbouw uurtarief toezicht'!$E$46 -> #DIV/0! | J70: =W17*'7-Opbouw uurtarief toezicht'!$E$46 -> #DIV/0! | K70: =X17*'7-Opbouw uurtarief toezicht'!$E$50 -> #DIV/0! | L70: =Y17*'7-Opbouw uurtarief toezicht'!$E$50 -> #DIV/0! | M70: =Z17*'7-Opbouw uurtarief toezicht'!$E$52 -> #DIV/0! | N70: =AA17*'7-Opbouw uurtarief toezicht'!$E$52 -> #DIV/0! | O70: =SUM(I70:N70) -> #DIV/0! | P70: =SUMIF('11-Vloeronderhoud'!A:A,'2-Kosten per locatie'!A70,'11-Vloeronderhoud'!H:H) -> 0 | Q70: =SUMIF('8-Additionele kosten'!A:A,'2-Kosten per locatie'!A70,'8-Additionele kosten'!H:H) -> 0 | R70: =SUMIF('10-Glasbewassing'!A:A,'2-Kosten per locatie'!A70,'10-Glasbewassing'!H:H) -> 0 | S70: =SUMIF('12-Diepreiniging sanitair'!A:A,'2-Kosten per locatie'!A70,'12-Diepreiniging sanitair'!Q:Q) -> 0 | T70: =SUMIF('13-Diepreiniging keuken'!A:A,A70,'13-Diepreiniging keuken'!H:H) -> 0 | U70: =H70+O70+P70+Q70+R70+S70+T70 -> #DIV/0! | V70: =U70/12 -> #DIV/0!
A71: =A18 -> Bleiswijk - J. v/d Heydenstraat 6 | B71: =(J18+P18)*'6-Opbouw uurtarief productie'!$E$46 -> #DIV/0! | C71: =(K18+Q18)*'6-Opbouw uurtarief productie'!$E$46 -> #DIV/0! | D71: =(L18+R18)*'6-Opbouw uurtarief productie'!$E$50 -> #DIV/0! | E71: =(M18+S18)*'6-Opbouw uurtarief productie'!$E$50 -> #DIV/0! | F71: =(N18+T18)*'6-Opbouw uurtarief productie'!$E$52 -> #DIV/0! | G71: =(O18+U18)*'6-Opbouw uurtarief productie'!$E$52 -> #DIV/0! | H71: =SUM(B71:G71) -> #DIV/0! | I71: =V18*'7-Opbouw uurtarief toezicht'!$E$46 -> #DIV/0! | J71: =W18*'7-Opbouw uurtarief toezicht'!$E$46 -> #DIV/0! | K71: =X18*'7-Opbouw uurtarief toezicht'!$E$50 -> #DIV/0! | L71: =Y18*'7-Opbouw uurtarief toezicht'!$E$50 -> #DIV/0! | M71: =Z18*'7-Opbouw uurtarief toezicht'!$E$52 -> #DIV/0! | N71: =AA18*'7-Opbouw uurtarief toezicht'!$E$52 -> #DIV/0! | O71: =SUM(I71:N71) -> #DIV/0! | P71: =SUMIF('11-Vloeronderhoud'!A:A,'2-Kosten per locatie'!A71,'11-Vloeronderhoud'!H:H) -> 0 | Q71: =SUMIF('8-Additionele kosten'!A:A,'2-Kosten per locatie'!A71,'8-Additionele kosten'!H:H) -> 0 | R71: =SUMIF('10-Glasbewassing'!A:A,'2-Kosten per locatie'!A71,'10-Glasbewassing'!H:H) -> 0 | S71: =SUMIF('12-Diepreiniging sanitair'!A:A,'2-Kosten per locatie'!A71,'12-Diepreiniging sanitair'!Q:Q) -> 0 | T71: =SUMIF('13-Diepreiniging keuken'!A:A,A71,'13-Diepreiniging keuken'!H:H) -> 0 | U71: =H71+O71+P71+Q71+R71+S71+T71 -> #DIV/0! | V71: =U71/12 -> #DIV/0!
A72: =A19 -> Brielle - Amer 7 | B72: =(J19+P19)*'6-Opbouw uurtarief productie'!$E$46 -> #DIV/0! | C72: =(K19+Q19)*'6-Opbouw uurtarief productie'!$E$46 -> #DIV/0! | D72: =(L19+R19)*'6-Opbouw uurtarief productie'!$E$50 -> #DIV/0! | E72: =(M19+S19)*'6-Opbouw uurtarief productie'!$E$50 -> #DIV/0! | F72: =(N19+T19)*'6-Opbouw uurtarief productie'!$E$52 -> #DIV/0! | G72: =(O19+U19)*'6-Opbouw uurtarief productie'!$E$52 -> #DIV/0! | H72: =SUM(B72:G72) -> #DIV/0! | I72: =V19*'7-Opbouw uurtarief toezicht'!$E$46 -> #DIV/0! | J72: =W19*'7-Opbouw uurtarief toezicht'!$E$46 -> #DIV/0! | K72: =X19*'7-Opbouw uurtarief toezicht'!$E$50 -> #DIV/0! | L72: =Y19*'7-Opbouw uurtarief toezicht'!$E$50 -> #DIV/0! | M72: =Z19*'7-Opbouw uurtarief toezicht'!$E$52 -> #DIV/0! | N72: =AA19*'7-Opbouw uurtarief toezicht'!$E$52 -> #DIV/0! | O72: =SUM(I72:N72) -> #DIV/0! | P72: =SUMIF('11-Vloeronderhoud'!A:A,'2-Kosten per locatie'!A72,'11-Vloeronderhoud'!H:H) -> 0 | Q72: =SUMIF('8-Additionele kosten'!A:A,'2-Kosten per locatie'!A72,'8-Additionele kosten'!H:H) -> 0 | R72: =SUMIF('10-Glasbewassing'!A:A,'2-Kosten per locatie'!A72,'10-Glasbewassing'!H:H) -> 0 | S72: =SUMIF('12-Diepreiniging sanitair'!A:A,'2-Kosten per locatie'!A72,'12-Diepreiniging sanitair'!Q:Q) -> 0 | T72: =SUMIF('13-Diepreiniging keuken'!A:A,A72,'13-Diepreiniging keuken'!H:H) -> 0 | U72: =H72+O72+P72+Q72+R72+S72+T72 -> #DIV/0! | V72: =U72/12 -> #DIV/0!
A73: =A20 -> Brielle - Krammer 2 | B73: =(J20+P20)*'6-Opbouw uurtarief productie'!$E$46 -> #DIV/0! | C73: =(K20+Q20)*'6-Opbouw uurtarief productie'!$E$46 -> #DIV/0! | D73: =(L20+R20)*'6-Opbouw uurtarief productie'!$E$50 -> #DIV/0! | E73: =(M20+S20)*'6-Opbouw uurtarief productie'!$E$50 -> #DIV/0! | F73: =(N20+T20)*'6-Opbouw uurtarief productie'!$E$52 -> #DIV/0! | G73: =(O20+U20)*'6-Opbouw uurtarief productie'!$E$52 -> #DIV/0! | H73: =SUM(B73:G73) -> #DIV/0! | I73: =V20*'7-Opbouw uurtarief toezicht'!$E$46 -> #DIV/0! | J73: =W20*'7-Opbouw uurtarief toezicht'!$E$46 -> #DIV/0! | K73: =X20*'7-Opbouw uurtarief toezicht'!$E$50 -> #DIV/0! | L73: =Y20*'7-Opbouw uurtarief toezicht'!$E$50 -> #DIV/0! | M73: =Z20*'7-Opbouw uurtarief toezicht'!$E$52 -> #DIV/0! | N73: =AA20*'7-Opbouw uurtarief toezicht'!$E$52 -> #DIV/0! | O73: =SUM(I73:N73) -> #DIV/0! | P73: =SUMIF('11-Vloeronderhoud'!A:A,'2-Kosten per locatie'!A73,'11-Vloeronderhoud'!H:H) -> 0 | Q73: =SUMIF('8-Additionele kosten'!A:A,'2-Kosten per locatie'!A73,'8-Additionele kosten'!H:H) -> 0 | R73: =SUMIF('10-Glasbewassing'!A:A,'2-Kosten per locatie'!A73,'10-Glasbewassing'!H:H) -> 0 | S73: =SUMIF('12-Diepreiniging sanitair'!A:A,'2-Kosten per locatie'!A73,'12-Diepreiniging sanitair'!Q:Q) -> 0 | T73: =SUMIF('13-Diepreiniging keuken'!A:A,A73,'13-Diepreiniging keuken'!H:H) -> 0 | U73: =H73+O73+P73+Q73+R73+S73+T73 -> #DIV/0! | V73: =U73/12 -> #DIV/0!
A74: =A21 -> Capelle a/d Ijssel - Slotlaan 121 | B74: =(J21+P21)*'6-Opbouw uurtarief productie'!$E$46 -> #DIV/0! | C74: =(K21+Q21)*'6-Opbouw uurtarief productie'!$E$46 -> #DIV/0! | D74: =(L21+R21)*'6-Opbouw uurtarief productie'!$E$50 -> #DIV/0! | E74: =(M21+S21)*'6-Opbouw uurtarief productie'!$E$50 -> #DIV/0! | F74: =(N21+T21)*'6-Opbouw uurtarief productie'!$E$52 -> #DIV/0! | G74: =(O21+U21)*'6-Opbouw uurtarief productie'!$E$52 -> #DIV/0! | H74: =SUM(B74:G74) -> #DIV/0! | I74: =V21*'7-Opbouw uurtarief toezicht'!$E$46 -> #DIV/0! | J74: =W21*'7-Opbouw uurtarief toezicht'!$E$46 -> #DIV/0! | K74: =X21*'7-Opbouw uurtarief toezicht'!$E$50 -> #DIV/0! | L74: =Y21*'7-Opbouw uurtarief toezicht'!$E$50 -> #DIV/0! | M74: =Z21*'7-Opbouw uurtarief toezicht'!$E$52 -> #DIV/0! | N74: =AA21*'7-Opbouw uurtarief toezicht'!$E$52 -> #DIV/0! | O74: =SUM(I74:N74) -> #DIV/0! | P74: =SUMIF('11-Vloeronderhoud'!A:A,'2-Kosten per locatie'!A74,'11-Vloeronderhoud'!H:H) -> 0 | Q74: =SUMIF('8-Additionele kosten'!A:A,'2-Kosten per locatie'!A74,'8-Additionele kosten'!H:H) -> 0 | R74: =SUMIF('10-Glasbewassing'!A:A,'2-Kosten per locatie'!A74,'10-Glasbewassing'!H:H) -> 0 | S74: =SUMIF('12-Diepreiniging sanitair'!A:A,'2-Kosten per locatie'!A74,'12-Diepreiniging sanitair'!Q:Q) -> 0 | T74: =SUMIF('13-Diepreiniging keuken'!A:A,A74,'13-Diepreiniging keuken'!H:H) -> 0 | U74: =H74+O74+P74+Q74+R74+S74+T74 -> #DIV/0! | V74: =U74/12 -> #DIV/0!
A75: =A22 -> Dirksland - Philipshoofjesweg 57a | B75: =(J22+P22)*'6-Opbouw uurtarief productie'!$E$46 -> #DIV/0! | C75: =(K22+Q22)*'6-Opbouw uurtarief productie'!$E$46 -> #DIV/0! | D75: =(L22+R22)*'6-Opbouw uurtarief productie'!$E$50 -> #DIV/0! | E75: =(M22+S22)*'6-Opbouw uurtarief productie'!$E$50 -> #DIV/0! | F75: =(N22+T22)*'6-Opbouw uurtarief productie'!$E$52 -> #DIV/0! | G75: =(O22+U22)*'6-Opbouw uurtarief productie'!$E$52 -> #DIV/0! | H75: =SUM(B75:G75) -> #DIV/0! | I75: =V22*'7-Opbouw uurtarief toezicht'!$E$46 -> #DIV/0! | J75: =W22*'7-Opbouw uurtarief toezicht'!$E$46 -> #DIV/0! | K75: =X22*'7-Opbouw uurtarief toezicht'!$E$50 -> #DIV/0! | L75: =Y22*'7-Opbouw uurtarief toezicht'!$E$50 -> #DIV/0! | M75: =Z22*'7-Opbouw uurtarief toezicht'!$E$52 -> #DIV/0! | N75: =AA22*'7-Opbouw uurtarief toezicht'!$E$52 -> #DIV/0! | O75: =SUM(I75:N75) -> #DIV/0! | P75: =SUMIF('11-Vloeronderhoud'!A:A,'2-Kosten per locatie'!A75,'11-Vloeronderhoud'!H:H) -> 0 | Q75: =SUMIF('8-Additionele kosten'!A:A,'2-Kosten per locatie'!A75,'8-Additionele kosten'!H:H) -> 0 | R75: =SUMIF('10-Glasbewassing'!A:A,'2-Kosten per locatie'!A75,'10-Glasbewassing'!H:H) -> 0 | S75: =SUMIF('12-Diepreiniging sanitair'!A:A,'2-Kosten per locatie'!A75,'12-Diepreiniging sanitair'!Q:Q) -> 0 | T75: =SUMIF('13-Diepreiniging keuken'!A:A,A75,'13-Diepreiniging keuken'!H:H) -> 0 | U75: =H75+O75+P75+Q75+R75+S75+T75 -> #DIV/0! | V75: =U75/12 -> #DIV/0!
A76: =A23 -> Dirksland - Watertoren 45d | B76: =(J23+P23)*'6-Opbouw uurtarief productie'!$E$46 -> #DIV/0! | C76: =(K23+Q23)*'6-Opbouw uurtarief productie'!$E$46 -> #DIV/0! | D76: =(L23+R23)*'6-Opbouw uurtarief productie'!$E$50 -> #DIV/0! | E76: =(M23+S23)*'6-Opbouw uurtarief productie'!$E$50 -> #DIV/0! | F76: =(N23+T23)*'6-Opbouw uurtarief productie'!$E$52 -> #DIV/0! | G76: =(O23+U23)*'6-Opbouw uurtarief productie'!$E$52 -> #DIV/0! | H76: =SUM(B76:G76) -> #DIV/0! | I76: =V23*'7-Opbouw uurtarief toezicht'!$E$46 -> #DIV/0! | J76: =W23*'7-Opbouw uurtarief toezicht'!$E$46 -> #DIV/0! | K76: =X23*'7-Opbouw uurtarief toezicht'!$E$50 -> #DIV/0! | L76: =Y23*'7-Opbouw uurtarief toezicht'!$E$50 -> #DIV/0! | M76: =Z23*'7-Opbouw uurtarief toezicht'!$E$52 -> #DIV/0! | N76: =AA23*'7-Opbouw uurtarief toezicht'!$E$52 -> #DIV/0! | O76: =SUM(I76:N76) -> #DIV/0! | P76: =SUMIF('11-Vloeronderhoud'!A:A,'2-Kosten per locatie'!A76,'11-Vloeronderhoud'!H:H) -> 0 | Q76: =SUMIF('8-Additionele kosten'!A:A,'2-Kosten per locatie'!A76,'8-Additionele kosten'!H:H) -> 0 | R76: =SUMIF('10-Glasbewassing'!A:A,'2-Kosten per locatie'!A76,'10-Glasbewassing'!H:H) -> 0 | S76: =SUMIF('12-Diepreiniging sanitair'!A:A,'2-Kosten per locatie'!A76,'12-Diepreiniging sanitair'!Q:Q) -> 0 | T76: =SUMIF('13-Diepreiniging keuken'!A:A,A76,'13-Diepreiniging keuken'!H:H) -> 0 | U76: =H76+O76+P76+Q76+R76+S76+T76 -> #DIV/0! | V76: =U76/12 -> #DIV/0!
A77: =A24 -> Goedereede - Provincialeweg 18a | B77: =(J24+P24)*'6-Opbouw uurtarief productie'!$E$46 -> #DIV/0! | C77: =(K24+Q24)*'6-Opbouw uurtarief productie'!$E$46 -> #DIV/0! | D77: =(L24+R24)*'6-Opbouw uurtarief productie'!$E$50 -> #DIV/0! | E77: =(M24+S24)*'6-Opbouw uurtarief productie'!$E$50 -> #DIV/0! | F77: =(N24+T24)*'6-Opbouw uurtarief productie'!$E$52 -> #DIV/0! | G77: =(O24+U24)*'6-Opbouw uurtarief productie'!$E$52 -> #DIV/0! | H77: =SUM(B77:G77) -> #DIV/0! | I77: =V24*'7-Opbouw uurtarief toezicht'!$E$46 -> #DIV/0! | J77: =W24*'7-Opbouw uurtarief toezicht'!$E$46 -> #DIV/0! | K77: =X24*'7-Opbouw uurtarief toezicht'!$E$50 -> #DIV/0! | L77: =Y24*'7-Opbouw uurtarief toezicht'!$E$50 -> #DIV/0! | M77: =Z24*'7-Opbouw uurtarief toezicht'!$E$52 -> #DIV/0! | N77: =AA24*'7-Opbouw uurtarief toezicht'!$E$52 -> #DIV/0! | O77: =SUM(I77:N77) -> #DIV/0! | P77: =SUMIF('11-Vloeronderhoud'!A:A,'2-Kosten per locatie'!A77,'11-Vloeronderhoud'!H:H) -> 0 | Q77: =SUMIF('8-Additionele kosten'!A:A,'2-Kosten per locatie'!A77,'8-Additionele kosten'!H:H) -> 0 | R77: =SUMIF('10-Glasbewassing'!A:A,'2-Kosten per locatie'!A77,'10-Glasbewassing'!H:H) -> 0 | S77: =SUMIF('12-Diepreiniging sanitair'!A:A,'2-Kosten per locatie'!A77,'12-Diepreiniging sanitair'!Q:Q) -> 0 | T77: =SUMIF('13-Diepreiniging keuken'!A:A,A77,'13-Diepreiniging keuken'!H:H) -> 0 | U77: =H77+O77+P77+Q77+R77+S77+T77 -> #DIV/0! | V77: =U77/12 -> #DIV/0!
A78: =A25 -> Hellevoetsluis - Tolweg 45a | B78: =(J25+P25)*'6-Opbouw uurtarief productie'!$E$46 -> #DIV/0! | C78: =(K25+Q25)*'6-Opbouw uurtarief productie'!$E$46 -> #DIV/0! | D78: =(L25+R25)*'6-Opbouw uurtarief productie'!$E$50 -> #DIV/0! | E78: =(M25+S25)*'6-Opbouw uurtarief productie'!$E$50 -> #DIV/0! | F78: =(N25+T25)*'6-Opbouw uurtarief productie'!$E$52 -> #DIV/0! | G78: =(O25+U25)*'6-Opbouw uurtarief productie'!$E$52 -> #DIV/0! | H78: =SUM(B78:G78) -> #DIV/0! | I78: =V25*'7-Opbouw uurtarief toezicht'!$E$46 -> #DIV/0! | J78: =W25*'7-Opbouw uurtarief toezicht'!$E$46 -> #DIV/0! | K78: =X25*'7-Opbouw uurtarief toezicht'!$E$50 -> #DIV/0! | L78: =Y25*'7-Opbouw uurtarief toezicht'!$E$50 -> #DIV/0! | M78: =Z25*'7-Opbouw uurtarief toezicht'!$E$52 -> #DIV/0! | N78: =AA25*'7-Opbouw uurtarief toezicht'!$E$52 -> #DIV/0! | O78: =SUM(I78:N78) -> #DIV/0! | P78: =SUMIF('11-Vloeronderhoud'!A:A,'2-Kosten per locatie'!A78,'11-Vloeronderhoud'!H:H) -> 0 | Q78: =SUMIF('8-Additionele kosten'!A:A,'2-Kosten per locatie'!A78,'8-Additionele kosten'!H:H) -> 0 | R78: =SUMIF('10-Glasbewassing'!A:A,'2-Kosten per locatie'!A78,'10-Glasbewassing'!H:H) -> 0 | S78: =SUMIF('12-Diepreiniging sanitair'!A:A,'2-Kosten per locatie'!A78,'12-Diepreiniging sanitair'!Q:Q) -> 0 | T78: =SUMIF('13-Diepreiniging keuken'!A:A,A78,'13-Diepreiniging keuken'!H:H) -> 0 | U78: =H78+O78+P78+Q78+R78+S78+T78 -> #DIV/0! | V78: =U78/12 -> #DIV/0!
... A116: =A63 -> Algemeen | B116: =(J63+P63)*'6-Opbouw uurtarief productie'!$E$46 -> #DIV/0! | C116: =(K63+Q63)*'6-Opbouw uurtarief productie'!$E$46 -> #DIV/0! | D116: =(L63+R63)*'6-Opbouw uurtarief productie'!$E$50 -> #DIV/0! | E116: =(M63+S63)*'6-Opbouw uurtarief productie'!$E$50 -> #DIV/0! | F116: =(N63+T63)*'6-Opbouw uurtarief productie'!$E$52 -> #DIV/0! | G116: =(O63+U63)*'6-Opbouw uurtarief productie'!$E$52 -> #DIV/0! | H116: =SUM(B116:G116) -> #DIV/0! | I116: =V63*'7-Opbouw uurtarief toezicht'!$E$46 -> #DIV/0! | J116: =W63*'7-Opbouw uurtarief toezicht'!$E$46 -> #DIV/0! | K116: =X63*'7-Opbouw uurtarief toezicht'!$E$50 -> #DIV/0! | L116: =Y63*'7-Opbouw uurtarief toezicht'!$E$50 -> #DIV/0! | M116: =Z63*'7-Opbouw uurtarief toezicht'!$E$52 -> #DIV/0! | N116: =AA63*'7-Opbouw uurtarief toezicht'!$E$52 -> #DIV/0! | O116: =SUM(I116:N116) -> #DIV/0! | P116: =SUMIF('11-Vloeronderhoud'!A:A,'2-Kosten per locatie'!A116,'11-Vloeronderhoud'!H:H) -> 0 | Q116: =SUMIF('8-Additionele kosten'!A:A,'2-Kosten per locatie'!A116,'8-Additionele kosten'!H:H) -> 0 | R116: =SUMIF('10-Glasbewassing'!A:A,'2-Kosten per locatie'!A116,'10-Glasbewassing'!H:H) -> 0 | S116: =SUMIF('12-Diepreiniging sanitair'!A:A,'2-Kosten per locatie'!A116,'12-Diepreiniging sanitair'!Q:Q) -> 0 | T116: =SUMIF('13-Diepreiniging keuken'!A:A,A116,'13-Diepreiniging keuken'!H:H) -> 0 | U116: =H116+O116+P116+Q116+R116+S116+T116 -> #DIV/0! | V116: =U116/12 -> #DIV/0!
...

Sheet 3-Productie normen
A1: Invoervelden
A3: ='2-Kosten per locatie'!A3 -> Naam opdrachtgever | B3: ='2-Kosten per locatie'!B3 -> Veiligheidsregio Rotterdam-Rijnmond
A4: ='2-Kosten per locatie'!A4 -> Calculatie onderdeel | B4: =MID(CELL("bestandsnaam",$B$9),SEARCH("]",CELL("bestandsnaam",$B$9),1)+1,256) -> 3-Productie normen
A5: ='2-Kosten per locatie'!A5 -> Gebouw/plaats | B5: ='2-Kosten per locatie'!B5 -> Perceel 1 schoonmaak en glasbewassing
A6: ='2-Kosten per locatie'!A6 -> Referentie nummer | B6: ='2-Kosten per locatie'!B6 -> 522549
D8: Gewogen prestatie | G8: =SUM('4-Basis ruimtestaat'!AC:AC)/SUM('4-Basis ruimtestaat'!Q:V) -> #DIV/0! | H8: m2/uur
A10: Frequentie van uitvoering (per jaar): | B10: 12 | C10: 26 | D10: 52 | E10: 104 | F10: 130 | G10: 156 | H10: 255
A11: Ruimtecategorie | B11: Prestatienorm in aantal m2 per uur | J11: M2 Totaal | K11: Naloop opslag ma-vr | L11: Weekend / feestdag opslag | M11: Naloop weekend / feestdag opslag | O11: VSR Code
A12: Archieven | J12: =SUMIF('4-Basis ruimtestaat'!F:F,'3-Productie normen'!A12,'4-Basis ruimtestaat'!H:H) -> 5 | O12: V
A13: Douche | J13: =SUMIF('4-Basis ruimtestaat'!F:F,'3-Productie normen'!A13,'4-Basis ruimtestaat'!H:H) -> 165.296 | O13: S
A14: Entree | J14: =SUMIF('4-Basis ruimtestaat'!F:F,'3-Productie normen'!A14,'4-Basis ruimtestaat'!H:H) -> 668.528 | O14: V
A15: Gang | J15: =SUMIF('4-Basis ruimtestaat'!F:F,'3-Productie normen'!A15,'4-Basis ruimtestaat'!H:H) -> 3703.85 | O15: V
A16: Keuken | J16: =SUMIF('4-Basis ruimtestaat'!F:F,'3-Productie normen'!A16,'4-Basis ruimtestaat'!H:H) -> 273.31 | O16: V
A17: Kleedruimte | J17: =SUMIF('4-Basis ruimtestaat'!F:F,'3-Productie normen'!A17,'4-Basis ruimtestaat'!H:H) -> 1372.767 | O17: S
A18: Kantine | J18: =SUMIF('4-Basis ruimtestaat'!F:F,'3-Productie normen'!A18,'4-Basis ruimtestaat'!H:H) -> 1470.63 | O18: V
A19: Kantoor | J19: =SUMIF('4-Basis ruimtestaat'!F:F,'3-Productie normen'!A19,'4-Basis ruimtestaat'!H:H) -> 8861.0045 | O19: B
A20: Lift | J20: =SUMIF('4-Basis ruimtestaat'!F:F,'3-Productie normen'!A20,'4-Basis ruimtestaat'!H:H) -> 19.828 | O20: V
A21: Lokaal | J21: =SUMIF('4-Basis ruimtestaat'!F:F,'3-Productie normen'!A21,'4-Basis ruimtestaat'!H:H) -> 1472.347 | O21: V
A22: Magazijn | J22: =SUMIF('4-Basis ruimtestaat'!F:F,'3-Productie normen'!A22,'4-Basis ruimtestaat'!H:H) -> 140.97 | O22: V
A23: Pantry | J23: =SUMIF('4-Basis ruimtestaat'!F:F,'3-Productie normen'!A23,'4-Basis ruimtestaat'!H:H) -> 415.1 | O23: V
... A31: Slaapkamer | J31: =SUMIF('4-Basis ruimtestaat'!F:F,'3-Productie normen'!A31,'4-Basis ruimtestaat'!H:H) -> 25 | O31: V
A32: Niet in onderhoud | O32: -
A33: Totaal | J33: =SUM(J12:J32) -> 22415.821 | L33: =K33-J33 -> -22415.821
A35: Kolom voor matrix | B35: 2 | C35: 3 | D35: 4 | E35: 5 | F35: 6 | G35: 7 | H35: 8
A37: Frequentie verklaring | B37: Freq. | C37: Kolom
A38: 1 x per maand | B38: 12 | C38: 2
A39: Om de week | B39: 26 | C39: 3
A40: 1 x per week (52 weken) | B40: 52 | C40: 4
A41: 2 x per week (52 weken) | B41: 104 | C41: 5
A42: Om de dag (52 weken) | B42: 130 | C42: 6
A43: 3 x per week (52 weken) | B43: 156 | C43: 7
A44: 5 x per week (52 weken) | B44: 255 | C44: 8

Sheet 4-Basis ruimtestaat
A1: 1
A2: 2 | I2: Margriet, de cellen met 130 erin klopt dat?
A3: 3 | B3: ='2-Kosten per locatie'!A3 -> Naam opdrachtgever | C3: ='2-Kosten per locatie'!B3 -> Veiligheidsregio Rotterdam-Rijnmond
A4: 4 | B4: ='2-Kosten per locatie'!A4 -> Calculatie onderdeel | C4: =MID(CELL("bestandsnaam",$C$9),SEARCH("]",CELL("bestandsnaam",$C$9),1)+1,256) -> 4-Basis ruimtestaat
A5: 5 | B5: ='2-Kosten per locatie'!A5 -> Gebouw/plaats | C5: ='2-Kosten per locatie'!B5 -> Perceel 1 schoonmaak en glasbewassing
A6: 6 | B6: ='2-Kosten per locatie'!A6 -> Referentie nummer | C6: ='2-Kosten per locatie'!B6 -> 522549 | X6: % van reguliere norm
A7: 7 | B7: ='2-Kosten per locatie'!A7 -> Naam dienstverlener | C7: ='2-Kosten per locatie'!B7 -> 0
A8: 8 | X8: ='3-Productie normen'!K10 -> 0 | Y8: ='3-Productie normen'!L10 -> 0 | Z8: ='3-Productie normen'!M10 -> 0
A9: 9 | B9: Locatie | C9: Verdieping | D9: Ruimte nummer | E9: Ruimteomschrijving opdrachtgever | F9: Ruimte categorie | G9: Vloer soort | H9: M2 vloer | I9: M2 vloer NIO | J9: Totaal frequentie | K9: Freq. ma-vr | L9: Freq. ma-vr naloop | M9: Freq zat - zon | N9: Freq. zat-zon naloop | O9: Freq feestdag | P9: Freq feestdag naloop | Q9: Uren p/j ma t/m vrij | R9: Uren p/j ma t/m vrij naloop | S9: Uren p/j zat - zon | T9: Uren p/j zat-zonj naloop | U9: Uren p/j feestdag | V9: Uren p/j feestdag naloop | W9: Norm ma t/m vr | X9: Naloop opslag ma-vr | Y9: Weekend / feestdag opslag | Z9: Naloop weekend / feestdag opslag | AA9: VSR code | AC9: M2 per jaar
A10: 10 | B10: Ridderkerk - Mr. Troelstrastraat 2 | C10: BG | E10: Entrée | F10: Entree | G10: tapijt | H10: 9.7335 | J10: =SUM(K10:P10) -> 130 | K10: 130 | L10: 0 | M10: 0 | Q10: =IF(K10="nio",0,IF(K10>0,K10*H10/W10,0))*VLOOKUP(B10,'2-Kosten per locatie'!$A$13:$C$63,3,FALSE) -> #DIV/0! | R10: =IF(L10>0,L10*H10/X10,0)*VLOOKUP(B10,'2-Kosten per locatie'!$A$13:$C$63,3,FALSE) -> 0 | S10: =IF(M10>0,M10*H10/Y10,0)*VLOOKUP(B10,'2-Kosten per locatie'!$A$13:$C$63,3,FALSE) -> 0 | T10: =IF(N10>0,N10*H10/Z10,0)*VLOOKUP(B10,'2-Kosten per locatie'!$A$13:$C$63,3,FALSE) -> 0 | U10: =IF(O10>0,O10*H10/Y10,0)*VLOOKUP(B10,'2-Kosten per locatie'!$A$13:$C$63,3,FALSE) -> 0 | V10: =IF(P10>0,P10*H10/Z10,0)*VLOOKUP(B10,'2-Kosten per locatie'!$A$13:$C$63,3,FALSE) -> 0 | W10: =IF(K10="nio",0,IF(K10>0,VLOOKUP(F10,'3-Productie normen'!A:L,VLOOKUP(K10,'3-Productie normen'!$B$38:$C$44,2,FALSE),FALSE))) -> 0 | X10: =IF(L10>0,W10*$X$8,0) -> 0 | Y10: =IF((OR(M10>0,O10>0)),W10*$Y$8,0) -> 0 | Z10: =IF((OR(N10>0,P10>0)),W10*$Z$8,0) -> 0 | AA10: =VLOOKUP(F10,'3-Productie normen'!A:O,15,FALSE) -> V | AC10: =J10*H10 -> 1265.355
A11: 11 | B11: Ridderkerk - Mr. Troelstrastraat 2 | C11: BG | E11: Verkeersruimte | F11: Gang | G11: tapijt | H11: 9.45 | J11: =SUM(K11:P11) -> 130 | K11: 130 | L11: 0 | M11: 0 | Q11: =IF(K11="nio",0,IF(K11>0,K11*H11/W11,0))*VLOOKUP(B11,'2-Kosten per locatie'!$A$13:$C$63,3,FALSE) -> #DIV/0! | R11: =IF(L11>0,L11*H11/X11,0)*VLOOKUP(B11,'2-Kosten per locatie'!$A$13:$C$63,3,FALSE) -> 0 | S11: =IF(M11>0,M11*H11/Y11,0)*VLOOKUP(B11,'2-Kosten per locatie'!$A$13:$C$63,3,FALSE) -> 0 | T11: =IF(N11>0,N11*H11/Z11,0)*VLOOKUP(B11,'2-Kosten per locatie'!$A$13:$C$63,3,FALSE) -> 0 | U11: =IF(O11>0,O11*H11/Y11,0)*VLOOKUP(B11,'2-Kosten per locatie'!$A$13:$C$63,3,FALSE) -> 0 | V11: =IF(P11>0,P11*H11/Z11,0)*VLOOKUP(B11,'2-Kosten per locatie'!$A$13:$C$63,3,FALSE) -> 0 | W11: =IF(K11="nio",0,IF(K11>0,VLOOKUP(F11,'3-Productie normen'!A:L,VLOOKUP(K11,'3-Productie normen'!$B$38:$C$44,2,FALSE),FALSE))) -> 0 | X11: =IF(L11>0,W11*$X$8,0) -> 0 | Y11: =IF((OR(M11>0,O11>0)),W11*$Y$8,0) -> 0 | Z11: =IF((OR(N11>0,P11>0)),W11*$Z$8,0) -> 0 | AA11: =VLOOKUP(F11,'3-Productie normen'!A:O,15,FALSE) -> V | AC11: =J11*H11 -> 1228.5
A12: 12 | B12: Ridderkerk - Mr. Troelstrastraat 2 | C12: BG | E12: Verkeersruimte | F12: Gang | G12: steen | H12: 51.1245 | J12: =SUM(K12:P12) -> 52 | K12: 52 | L12: 0 | M12: 0 | Q12: =IF(K12="nio",0,IF(K12>0,K12*H12/W12,0))*VLOOKUP(B12,'2-Kosten per locatie'!$A$13:$C$63,3,FALSE) -> #DIV/0! | R12: =IF(L12>0,L12*H12/X12,0)*VLOOKUP(B12,'2-Kosten per locatie'!$A$13:$C$63,3,FALSE) -> 0 | S12: =IF(M12>0,M12*H12/Y12,0)*VLOOKUP(B12,'2-Kosten per locatie'!$A$13:$C$63,3,FALSE) -> 0 | T12: =IF(N12>0,N12*H12/Z12,0)*VLOOKUP(B12,'2-Kosten per locatie'!$A$13:$C$63,3,FALSE) -> 0 | U12: =IF(O12>0,O12*H12/Y12,0)*VLOOKUP(B12,'2-Kosten per locatie'!$A$13:$C$63,3,FALSE) -> 0 | V12: =IF(P12>0,P12*H12/Z12,0)*VLOOKUP(B12,'2-Kosten per locatie'!$A$13:$C$63,3,FALSE) -> 0 | W12: =IF(K12="nio",0,IF(K12>0,VLOOKUP(F12,'3-Productie normen'!A:L,VLOOKUP(K12,'3-Productie normen'!$B$38:$C$44,2,FALSE),FALSE))) -> 0 | X12: =IF(L12>0,W12*$X$8,0) -> 0 | Y12: =IF((OR(M12>0,O12>0)),W12*$Y$8,0) -> 0 | Z12: =IF((OR(N12>0,P12>0)),W12*$Z$8,0) -> 0 | AA12: =VLOOKUP(F12,'3-Productie normen'!A:O,15,FALSE) -> V | AC12: =J12*H12 -> 2658.474
A13: 13 | B13: Ridderkerk - Mr. Troelstrastraat 2 | C13: BG | E13: Verkeersruimte | F13: Gang | G13: pvc | H13: 49.308 | J13: =SUM(K13:P13) -> 52 | K13: 52 | L13: 0 | M13: 0 | Q13: =IF(K13="nio",0,IF(K13>0,K13*H13/W13,0))*VLOOKUP(B13,'2-Kosten per locatie'!$A$13:$C$63,3,FALSE) -> #DIV/0! | R13: =IF(L13>0,L13*H13/X13,0)*VLOOKUP(B13,'2-Kosten per locatie'!$A$13:$C$63,3,FALSE) -> 0 | S13: =IF(M13>0,M13*H13/Y13,0)*VLOOKUP(B13,'2-Kosten per locatie'!$A$13:$C$63,3,FALSE) -> 0 | T13: =IF(N13>0,N13*H13/Z13,0)*VLOOKUP(B13,'2-Kosten per locatie'!$A$13:$C$63,3,FALSE) -> 0 | U13: =IF(O13>0,O13*H13/Y13,0)*VLOOKUP(B13,'2-Kosten per locatie'!$A$13:$C$63,3,FALSE) -> 0 | V13: =IF(P13>0,P13*H13/Z13,0)*VLOOKUP(B13,'2-Kosten per locatie'!$A$13:$C$63,3,FALSE) -> 0 | W13: =IF(K13="nio",0,IF(K13>0,VLOOKUP(F13,'3-Productie normen'!A:L,VLOOKUP(K13,'3-Productie normen'!$B$38:$C$44,2,FALSE),FALSE))) -> 0 | X13: =IF(L13>0,W13*$X$8,0) -> 0 | Y13: =IF((OR(M13>0,O13>0)),W13*$Y$8,0) -> 0 | Z13: =IF((OR(N13>0,P13>0)),W13*$Z$8,0) -> 0 | AA13: =VLOOKUP(F13,'3-Productie normen'!A:O,15,FALSE) -> V | AC13: =J13*H13 -> 2564.016
