Workbook
Name _Hlk39130726: '1-Uitgangspunten'!$A$16
Name _Toc106114456: '1-Uitgangspunten'!$A$2
Name _Toc106114457: '1-Uitgangspunten'!$A$5
Name _Toc106114458: '1-Uitgangspunten'!$A$9
Name _Toc106114459: '1-Uitgangspunten'!$A$13
Name _Toc518445846: '1-Uitgangspunten'!$A$17
Name berichtok: '2-Kosten per locatie'!berichtok
Name berichtok: #N/A
Name berichtok: '2-Kosten per locatie'!berichtok
Name berichtoke: '2-Kosten per locatie'!berichtoke
Name berichtoke: #N/A
Name berichtoke: '2-Kosten per locatie'!berichtoke
Name berichtoke1: '2-Kosten per locatie'!berichtoke1
Name berichtoke1: #N/A
Name berichtoke1: '2-Kosten per locatie'!berichtoke1
Name Berkt: '2-Kosten per locatie'!Berkt
Name Berkt: #N/A
Name Berkt: '2-Kosten per locatie'!Berkt
Name einde: '2-Kosten per locatie'!einde
Name einde: #N/A
Name einde: '2-Kosten per locatie'!einde
Name Gan_R: '2-Kosten per locatie'!Gan_R
Name Gan_R: #N/A
Name Gan_R: '2-Kosten per locatie'!Gan_R
Name glas: #N/A
Name Kengetal: #REF!
Name uren_mavr: #REF!
Name VloerM: #REF!

Sheet 0-prijsformulier
A1: Invoervelden
A3: Naam opdrachtgever | B3: ='2-Kosten per locatie'!B3 -> Veiligheidsregio Rotterdam-Rijnmond
A4: Calculatie onderdeel | B4: =MID(CELL("bestandsnaam",$C$9),SEARCH("]",CELL("bestandsnaam",$C$9),1)+1,256) -> #VALUE!
A5: Gebouw/plaats | B5: ='2-Kosten per locatie'!B5 -> Perceel 2 sanitaire voorzieningen
A6: Referentie nummer | B6: ='2-Kosten per locatie'!B6 -> 522549
A7: Naam dienstverlener | B7: ='2-Kosten per locatie'!B7 -> 0
A8: Prijspeil | B8: ='2-Kosten per locatie'!B8 -> 46023
A9: Versie | B9: ='2-Kosten per locatie'!B9 -> 2 NVI
A11: Prijsformulier
A13: Schoonmaak onderhoud, Glasbewassing en Sanitaire verbruiksartikelen
A14: Perceel 2 | B14: Perceel 1
A16: Opdrachtnemer verklaart zich door ondertekening van het prijsformulier, bereid op zich te nemen de werkzaamheden ten behoeve van het uitvoeren van de opdracht m.b.t. Schoonmaak onderhoud, Glasbewassing en Sanitaire verbruiksartikelen perceel 2 aan de VRR, overeenkomstig de bepalingen en inhoud van de offertaanvraag (inclusief bijlagen en nota's van inlichtingen) en aan te nemen voor de onderstaande totaalprijs, weergegeven inclusief btw.
C18: Totaal kosten dienstverlening
C19: Producten
A20: Inschrijfprijs incl. btw | C20: ='2-Kosten per locatie'!S3 -> #DIV/0!
A22: Totaal | B22: =C20 -> #DIV/0!
A23: Zegge :
A24: ………………...............euro, incl. btw)
A26: Opdrachtnemer verklaart dat deze opgegeven inschrijfprijs de totaalprijs is voor de uitvoering van de opdracht zoals beschreven in het aanbestedingsdocument van de aanbesteding schoonmaakonderhoud, glasbewassing en sanitaire verbruiksartikelen perceel 2
A28: Naam Inschrijver: | B28: …
A30: Naam rechtsgeldige vertegenwoordiger: | B30: …
A32: Aldus naar waarheid ingevuld: | B32: Datum: ... Plaats: …
A34: Handtekening van de rechtsgeldige vertegenwoordiger:
A35: Ondertekening van dit document geschied via het formulier ‘conformiteitverklaring inschrijving’ (zie Tenderned bijlage 12 onder ‘Aanbestedingsdocumenten’), welke geldig is voor alle in Tenderned door de inschrijver ge-uploadde en ingevulde digitale documenten behorende bij onderhavige aanbesteding.

Sheet 1-Uitgangspunten
A1: Naam opdrachtgever | B1: ='2-Kosten per locatie'!B3 -> Veiligheidsregio Rotterdam-Rijnmond
A2: Calculatie onderdeel | B2: =MID(CELL("bestandsnaam",$B$11),SEARCH("]",CELL("bestandsnaam",$B$11),1)+1,256) -> #VALUE!
A3: Gebouw/plaats | B3: ='2-Kosten per locatie'!B5 -> Perceel 2 sanitaire voorzieningen
A4: Referentie nummer | B4: ='2-Kosten per locatie'!B6 -> 522549

Sheet 2-Kosten per locatie
A1: Invoervelden | M1: EINDTOTAAL KOSTEN PER JAAR EXCLUSIEF BTW INSCHRIJVINGSBEDRAG | S1: =G59 -> #DIV/0!
M2: B.T.W. | R2: 0.21 | S2: =R2*S1 -> #DIV/0!
A3: Naam opdrachtgever | B3: Veiligheidsregio Rotterdam-Rijnmond | M3: Totale kosten per jaar inclusief B.T.W. | S3: =S1+S2 -> #DIV/0!
A4: Calculatie onderdeel | B4: =MID(CELL("bestandsnaam",$C$9),SEARCH("]",CELL("bestandsnaam",$C$9),1)+1,256) -> #VALUE!
A5: Gebouw/plaats | B5: Perceel 2 sanitaire voorzieningen | M5: MAXIMALE BOVENGRENS PLAFONDBEDRAG INSCHRIJVINGSBEDRAG excl. BTW | S5: 60000
A6: Referentie nummer | B6: 522549
A7: Naam dienstverlener
A8: Prijspeil | B8: 46023
A9: Versie | B9: 2 NVI
A11: Locatie | B11: Kosten sanitaire huur per jaar | C11: Kosten sanitaire koop per jaar | D11: Uren bevoor rading per jaar | E11: Uurtarief bevoor rading | F11: Kosten bevoor rading per jaar | G11: Totaal kosten per jaar excl. btw | H11: Totaal kosten per kwartaal excl. btw
A12: Barendrecht - Breslau 2 | B12: =SUMIF('3-Sanitaire huur'!A:A,A12,'3-Sanitaire huur'!G:G) -> 0 | C12: =SUMIF('4-Sanitaire verkoop'!A:A,A12,'4-Sanitaire verkoop'!P:P) -> #DIV/0! | D12: 0 | E12: 0 | F12: =E12*D12 -> 0 | G12: =B12+C12+F12 -> #DIV/0! | H12: =G12/4 -> #DIV/0!
A13: Barendrecht - Breslau 4 | B13: =SUMIF('3-Sanitaire huur'!A:A,A13,'3-Sanitaire huur'!G:G) -> 0 | C13: =SUMIF('4-Sanitaire verkoop'!A:A,A13,'4-Sanitaire verkoop'!P:P) -> #DIV/0! | D13: 0 | E13: 0 | F13: =E13*D13 -> 0 | G13: =B13+C13+F13 -> #DIV/0! | H13: =G13/4 -> #DIV/0!
A14: Barendrecht - Dr. Kuijperstraat 25 | B14: =SUMIF('3-Sanitaire huur'!A:A,A14,'3-Sanitaire huur'!G:G) -> 0 | C14: =SUMIF('4-Sanitaire verkoop'!A:A,A14,'4-Sanitaire verkoop'!P:P) -> #DIV/0! | D14: 0 | E14: 0 | F14: =E14*D14 -> 0 | G14: =B14+C14+F14 -> #DIV/0! | H14: =G14/4 -> #DIV/0!
A15: Berkel - Berkelse Poort 25 | B15: =SUMIF('3-Sanitaire huur'!A:A,A15,'3-Sanitaire huur'!G:G) -> 0 | C15: =SUMIF('4-Sanitaire verkoop'!A:A,A15,'4-Sanitaire verkoop'!P:P) -> #DIV/0! | D15: 0 | E15: 0 | F15: =E15*D15 -> 0 | G15: =B15+C15+F15 -> #DIV/0! | H15: =G15/4 -> #DIV/0!
A16: Bleiswijk - J. v/d Heydenstraat 6 | B16: =SUMIF('3-Sanitaire huur'!A:A,A16,'3-Sanitaire huur'!G:G) -> 0 | C16: =SUMIF('4-Sanitaire verkoop'!A:A,A16,'4-Sanitaire verkoop'!P:P) -> #DIV/0! | D16: 0 | E16: 0 | F16: =E16*D16 -> 0 | G16: =B16+C16+F16 -> #DIV/0! | H16: =G16/4 -> #DIV/0!
A17: Brielle - Amer 7 | B17: =SUMIF('3-Sanitaire huur'!A:A,A17,'3-Sanitaire huur'!G:G) -> 0 | C17: =SUMIF('4-Sanitaire verkoop'!A:A,A17,'4-Sanitaire verkoop'!P:P) -> #DIV/0! | D17: 0 | E17: 0 | F17: =E17*D17 -> 0 | G17: =B17+C17+F17 -> #DIV/0! | H17: =G17/4 -> #DIV/0!
A18: Brielle - Krammer 2 | B18: =SUMIF('3-Sanitaire huur'!A:A,A18,'3-Sanitaire huur'!G:G) -> 0 | C18: =SUMIF('4-Sanitaire verkoop'!A:A,A18,'4-Sanitaire verkoop'!P:P) -> #DIV/0! | D18: 0 | E18: 0 | F18: =E18*D18 -> 0 | G18: =B18+C18+F18 -> #DIV/0! | H18: =G18/4 -> #DIV/0!
A19: Capelle a/d Ijssel - Slotlaan 121 | B19: =SUMIF('3-Sanitaire huur'!A:A,A19,'3-Sanitaire huur'!G:G) -> 0 | C19: =SUMIF('4-Sanitaire verkoop'!A:A,A19,'4-Sanitaire verkoop'!P:P) -> #DIV/0! | D19: 0 | E19: 0 | F19: =E19*D19 -> 0 | G19: =B19+C19+F19 -> #DIV/0! | H19: =G19/4 -> #DIV/0!
A20: Dirksland - Philipshoofjesweg 57a | B20: =SUMIF('3-Sanitaire huur'!A:A,A20,'3-Sanitaire huur'!G:G) -> 0 | C20: =SUMIF('4-Sanitaire verkoop'!A:A,A20,'4-Sanitaire verkoop'!P:P) -> #DIV/0! | D20: 0 | E20: 0 | F20: =E20*D20 -> 0 | G20: =B20+C20+F20 -> #DIV/0! | H20: =G20/4 -> #DIV/0!
A21: Dirksland - Watertoren 45d | B21: =SUMIF('3-Sanitaire huur'!A:A,A21,'3-Sanitaire huur'!G:G) -> 0 | C21: =SUMIF('4-Sanitaire verkoop'!A:A,A21,'4-Sanitaire verkoop'!P:P) -> #DIV/0! | D21: 0 | E21: 0 | F21: =E21*D21 -> 0 | G21: =B21+C21+F21 -> #DIV/0! | H21: =G21/4 -> #DIV/0!
A22: Goedereede - Provincialeweg 18a | B22: =SUMIF('3-Sanitaire huur'!A:A,A22,'3-Sanitaire huur'!G:G) -> 0 | C22: =SUMIF('4-Sanitaire verkoop'!A:A,A22,'4-Sanitaire verkoop'!P:P) -> #DIV/0! | D22: 0 | E22: 0 | F22: =E22*D22 -> 0 | G22: =B22+C22+F22 -> #DIV/0! | H22: =G22/4 -> #DIV/0!
A23: Hellevoetsluis - Tolweg 45a | B23: =SUMIF('3-Sanitaire huur'!A:A,A23,'3-Sanitaire huur'!G:G) -> 0 | C23: =SUMIF('4-Sanitaire verkoop'!A:A,A23,'4-Sanitaire verkoop'!P:P) -> #DIV/0! | D23: 0 | E23: 0 | F23: =E23*D23 -> 0 | G23: =B23+C23+F23 -> #DIV/0! | H23: =G23/4 -> #DIV/0!
... A58: Vlaardingen - Hoogstad 501 | B58: =SUMIF('3-Sanitaire huur'!A:A,A58,'3-Sanitaire huur'!G:G) -> 0 | C58: =SUMIF('4-Sanitaire verkoop'!A:A,A58,'4-Sanitaire verkoop'!P:P) -> #DIV/0! | D58: 0 | E58: 0 | F58: =E58*D58 -> 0 | G58: =B58+C58+F58 -> #DIV/0! | H58: =G58/4 -> #DIV/0!
A59: Totaal | B59: =SUM(B12:B58) -> 0 | C59: =SUM(C12:C58) -> #DIV/0! | D59: =SUM(D12:D58) -> 0 | F59: =SUM(F12:F58) -> 0 | G59: =SUM(G12:G58) -> #DIV/0! | H59: =SUM(H12:H58) -> #DIV/0!

Sheet 3-Sanitaire huur
A1: Invoervelden
A3: ='[5]2-Kosten per locatie'!A3 -> Naam opdrachtgever | B3: ='2-Kosten per locatie'!B3 -> Veiligheidsregio Rotterdam-Rijnmond
A4: ='[5]2-Kosten per locatie'!A4 -> Calculatie onderdeel | B4: =MID(CELL("bestandsnaam",$C$9),SEARCH("]",CELL("bestandsnaam",$C$9),1)+1,256) -> #VALUE!
A5: ='[5]2-Kosten per locatie'!A5 -> Gebouw/plaats | B5: ='2-Kosten per locatie'!B5 -> Perceel 2 sanitaire voorzieningen
A6: ='[5]2-Kosten per locatie'!A6 -> Referentie nummer | B6: ='2-Kosten per locatie'!B6 -> 522549
A7: ='[5]2-Kosten per locatie'!A7 -> Naam dienstverlener | B7: ='2-Kosten per locatie'!B7 -> 0
A8: ='[5]2-Kosten per locatie'!A8 -> Prijspeil | B8: ='2-Kosten per locatie'!B8 -> 46023
A10: Locatie | B10: Naam CWS bestand, later verwijderen | C10: Plaats CWS bestand | D10: Omschrijving automaat /artikel | E10: Aantal | F10: Kosten per week per stuk | G10: Kosten per jaar | I10: Artikel | J10: Kosten per eenheid | K10: Merk en productlijn
A11: Barendrecht - Dr. Kuijperstraat 25 | B11: Dokter Kuyperstraat 25 | C11: Barendrecht | D11: Schoonloopmat 85 x 300 cm | E11: 1 | F11: =VLOOKUP(D11,$I$11:$J$17,2,FALSE) -> 0 | G11: =F11*E11*52 -> 0 | I11: Dameshygienebox
A12: Barendrecht - Dr. Kuijperstraat 25 | B12: Dokter Kuyperstraat 25 | C12: Barendrecht | D12: Schoonloopmat 85 x 150 cm | E12: 1 | F12: =VLOOKUP(D12,$I$11:$J$17,2,FALSE) -> 0 | G12: =F12*E12*52 -> 0 | I12: Schoonloopmat 85 x 90 cm
A13: Barendrecht - Dr. Kuijperstraat 25 | B13: Dokter Kuyperstraat 25 | C13: Barendrecht | D13: Dameshygienebox | E13: 1 | F13: =VLOOKUP(D13,$I$11:$J$17,2,FALSE) -> 0 | G13: =F13*E13*52 -> 0 | I13: Schoonloopmat 150 x 250 cm
A14: Berkel - Berkelse Poort 25 | B14: Berkelse Poort 25 | C14: Berkel en Rodenrijs | D14: Dameshygienebox | E14: 6 | F14: =VLOOKUP(D14,$I$11:$J$17,2,FALSE) -> 0 | G14: =F14*E14*52 -> 0 | I14: Schoonloopmat 85 x 300 cm
A15: Bleiswijk - J. v/d Heydenstraat 6 | B15: J. v/d Heydenstraat 6 | C15: Bleiswijk | D15: Dameshygienebox | E15: 1 | F15: =VLOOKUP(D15,$I$11:$J$17,2,FALSE) -> 0 | G15: =F15*E15*52 -> 0 | I15: Schoonloopmat 85 x 150 cm
A16: Brielle - Amer 7 | B16: Amer 7 | C16: Brielle | D16: Dameshygienebox | E16: 1 | F16: =VLOOKUP(D16,$I$11:$J$17,2,FALSE) -> 0 | G16: =F16*E16*52 -> 0 | I16: Schoonloopmat 115 x 200 cm
A17: Capelle a/d Ijssel - Slotlaan 121 | B17: Slotlaan 121 | C17: Capelle aan den IJssel | D17: Dameshygienebox | E17: 2 | F17: =VLOOKUP(D17,$I$11:$J$17,2,FALSE) -> 0 | G17: =F17*E17*52 -> 0 | I17: Schoonloopmat 150 x 200 cm
A18: Goedereede - Provincialeweg 18a | B18: Provincialeweg 18A | C18: Goedereede | D18: Dameshygienebox | E18: 1 | F18: =VLOOKUP(D18,$I$11:$J$17,2,FALSE) -> 0 | G18: =F18*E18*52 -> 0
A19: Hellevoetsluis - Tolweg 45a | B19: Tolweg 45a | C19: Hellevoetsluis | D19: Dameshygienebox | E19: 2 | F19: =VLOOKUP(D19,$I$11:$J$17,2,FALSE) -> 0 | G19: =F19*E19*52 -> 0
A20: Krimpen a/d Ijssel - Nieuwe Tiendeweg 19 | B20: Nieuwe Tiendweg 19 | C20: Krimpen a/d Ijssel | D20: Dameshygienebox | E20: 2 | F20: =VLOOKUP(D20,$I$11:$J$17,2,FALSE) -> 0 | G20: =F20*E20*52 -> 0
A21: Maassluis - Elektraweg 3 | B21: Elektraweg 3 | C21: Maassluis | D21: Dameshygienebox | E21: 2 | F21: =VLOOKUP(D21,$I$11:$J$17,2,FALSE) -> 0 | G21: =F21*E21*52 -> 0
A22: Sommelsdijk - Olympiaweg 38 | B22: Olympiaweg 40 | C22: Sommelsdijk | D22: Dameshygienebox | E22: 2 | F22: =VLOOKUP(D22,$I$11:$J$17,2,FALSE) -> 0 | G22: =F22*E22*52 -> 0
A23: Middelharnis - Stevinweg 11 | B23: Simon Stevinweg 11a | C23: Middelharnis | D23: Dameshygienebox | E23: 1 | F23: =VLOOKUP(D23,$I$11:$J$17,2,FALSE) -> 0 | G23: =F23*E23*52 -> 0
A24: Ridderkerk - Mr. Troelstrastraat 2 | B24: Mr. Troelstrastraat 2 | C24: Ridderkerk | D24: Dameshygienebox | E24: 4 | F24: =VLOOKUP(D24,$I$11:$J$17,2,FALSE) -> 0 | G24: =F24*E24*52 -> 0
A25: Rotterdam - Albert Plesmanweg 7-9 | B25: Albert Plesmanweg 9 | C25: Rotterdam | D25: Dameshygienebox | E25: 1 | F25: =VLOOKUP(D25,$I$11:$J$17,2,FALSE) -> 0 | G25: =F25*E25*52 -> 0
A26: Rotterdam - Breevaartstraat 1 - 9 | B26: Breevaartstraat 1 | C26: Rotterdam | D26: Dameshygienebox | E26: 6 | F26: =VLOOKUP(D26,$I$11:$J$17,2,FALSE) -> 0 | G26: =F26*E26*52 -> 0
A27: Rotterdam - Driemansteeweg 160 - 172 | B27: Driemanssteeweg 160 | C27: Rotterdam | D27: Dameshygienebox | E27: 3 | F27: =VLOOKUP(D27,$I$11:$J$17,2,FALSE) -> 0 | G27: =F27*E27*52 -> 0
A28: Rotterdam - Frobenstraat 8 | B28: Frobenstraat 8 | C28: Rotterdam | D28: Dameshygienebox | E28: 7 | F28: =VLOOKUP(D28,$I$11:$J$17,2,FALSE) -> 0 | G28: =F28*E28*52 -> 0
A29: Rotterdam - Groenetuin 321 | B29: Groene tuin 321 | C29: Rotterdam | D29: Dameshygienebox | E29: 1 | F29: =VLOOKUP(D29,$I$11:$J$17,2,FALSE) -> 0 | G29: =F29*E29*52 -> 0
... A50: Rotterdam - Siciliëboulevard 227 | B50: Sicilieboulevard 227 | C50: Rotterdam | D50: Dameshygienebox | E50: 1 | F50: =VLOOKUP(D50,$I$11:$J$17,2,FALSE) -> 0 | G50: =F50*E50*52 -> 0
A51: Totaal | E51: =SUM(E11:E50) -> 113 | G51: =SUM(G11:G50) -> 0
A52: Aan de opgegeven indicatieve eenheden kunnen geen rechten worden ontleend.
A53: Alle prijzen zijn all-in, inclusief loonkosten, materiaal-, reis- en verblijfskosten, sociale lasten, voorrijkosten, parkeerkosten, reserveringskosten, (de)montagekosten, transportkosten, aflever- verpakkingen, milieubelastingen, administratie, andere belastingen dan btw, verzekeringspremies e.d.

Sheet 4-Sanitaire verkoop
A1: Invoervelden
A3: ='[5]2-Kosten per locatie'!A3 -> Naam opdrachtgever | B3: ='2-Kosten per locatie'!B3 -> Veiligheidsregio Rotterdam-Rijnmond
A4: ='[5]2-Kosten per locatie'!A4 -> Calculatie onderdeel | B4: =MID(CELL("bestandsnaam",$C$9),SEARCH("]",CELL("bestandsnaam",$C$9),1)+1,256) -> #VALUE!
A5: ='[5]2-Kosten per locatie'!A5 -> Gebouw/plaats | B5: ='2-Kosten per locatie'!B5 -> Perceel 2 sanitaire voorzieningen
A6: ='[5]2-Kosten per locatie'!A6 -> Referentie nummer | B6: ='2-Kosten per locatie'!B6 -> 522549
A7: ='[5]2-Kosten per locatie'!A7 -> Naam dienstverlener | B7: ='2-Kosten per locatie'!B7 -> 0
A8: ='[5]2-Kosten per locatie'!A8 -> Prijspeil | B8: ='2-Kosten per locatie'!B8 -> 46023
A11: Artikel | B11: Kosten per eenheid | C11: Kosten per eenheid | D11: omschrijving eenheid | E11: inhoud | F11: Merk en artikelcode
A12: Vouwhanddoekjes 32x20 cm 2-laags recycled | C12: =B12/E12 -> #DIV/0! | D12: Per doos
A13: Toiletpapier compact 100m 2-laags recycled | C13: =B13/E13 -> #DIV/0! | D13: Baal
A14: Zeep foam lotion 1000ml | C14: =B14/E14 -> #DIV/0! | D14: per flacon 1000ml | F14: Europroducts foamzeep lotion 400410
A15: Zeep Eurobac 500ml | C15: =B15/E15 -> #DIV/0! | D15: per flacon 500ml | F15: Europroducts Eurobac zeep 406305
A16: Seatcleaner foam 400ml | C16: =B16/E16 -> #DIV/0! | D16: per flacon 400ml | F16: Europroducts toilet seat cleaner foam 410000
A17: toiletborstel los zwart | C17: =B17/E17 -> #DIV/0! | D17: per stuk | F17: Geschikt voor Quartz toiletborstelgarnituur
D19: verkoop artikelen
A20: Locatie | B20: Adres | C20: Plaats | D20: =A12 -> Vouwhanddoekjes 32x20 cm 2-laags recycled | F20: =A13 -> Toiletpapier compact 100m 2-laags recycled | H20: =A14 -> Zeep foam lotion 1000ml | J20: =A15 -> Zeep Eurobac 500ml | L20: =A16 -> Seatcleaner foam 400ml | N20: =A17 -> toiletborstel los zwart
D21: verbruik aantal pakken per jaar | E21: kosten per jaar | F21: verbruik aantal rollen per jaar | G21: kosten per jaar | H21: verbruik aantal flacons per jaar | I21: kosten per jaar | J21: verbruik aantal flacons per jaar | K21: kosten per jaar | L21: verbruik aantal vullingen per jaar | M21: kosten per jaar | N21: verbruik aantal borstels per jaar | O21: kosten per jaar | P21: Totaal per jaar
A22: Barendrecht - Breslau 2 | B22: Barendrecht | C22: Barendrecht | D22: 1100 | E22: =D22*$C$12 -> #DIV/0! | F22: 648 | G22: =F22*$C$13 -> #DIV/0! | H22: 9 | I22: =H22*$C$14 -> #DIV/0! | J22: 6 | K22: =J22*$C$15 -> #DIV/0! | L22: 8 | M22: =L22*($C$16) -> #DIV/0! | N22: 16 | O22: =N22*$C$17 -> #DIV/0! | P22: =E22+G22+I22+M22+O22+K22 -> #DIV/0!
A23: Barendrecht - Breslau 4 | B23: Barendrecht | C23: Barendrecht | D23: 600 | E23: =D23*$C$12 -> #DIV/0! | F23: 312 | G23: =F23*$C$13 -> #DIV/0! | H23: 2 | I23: =H23*$C$14 -> #DIV/0! | J23: 4 | K23: =J23*$C$15 -> #DIV/0! | L23: 6 | M23: =L23*($C$16) -> #DIV/0! | N23: 10 | O23: =N23*$C$17 -> #DIV/0! | P23: =E23+G23+I23+M23+O23+K23 -> #DIV/0!
A24: Barendrecht - Dr. Kuijperstraat 25 | B24: Dokter Kuyperstraat 25 | C24: Barendrecht | D24: 75 | E24: =D24*$C$12 -> #DIV/0! | F24: 72 | G24: =F24*$C$13 -> #DIV/0! | H24: 4 | I24: =H24*$C$14 -> #DIV/0! | K24: =J24*$C$15 -> #DIV/0! | M24: =L24*($C$16) -> #DIV/0! | N24: 4 | O24: =N24*$C$17 -> #DIV/0! | P24: =E24+G24+I24+M24+O24+K24 -> #DIV/0!
A25: Berkel - Berkelse Poort 25 | B25: Berkelse Poort 25 | C25: Berkel en Rodenrijs | D25: 250 | E25: =D25*$C$12 -> #DIV/0! | F25: 384 | G25: =F25*$C$13 -> #DIV/0! | H25: 9 | I25: =H25*$C$14 -> #DIV/0! | J25: 4 | K25: =J25*$C$15 -> #DIV/0! | L25: 4 | M25: =L25*($C$16) -> #DIV/0! | N25: 8 | O25: =N25*$C$17 -> #DIV/0! | P25: =E25+G25+I25+M25+O25+K25 -> #DIV/0!
A26: Bleiswijk - J. v/d Heydenstraat 6 | B26: Jan van der Heydenstraat 6 | C26: Bleiswijk | D26: 25 | E26: =D26*$C$12 -> #DIV/0! | F26: 72 | G26: =F26*$C$13 -> #DIV/0! | H26: 3 | I26: =H26*$C$14 -> #DIV/0! | K26: =J26*$C$15 -> #DIV/0! | M26: =L26*($C$16) -> #DIV/0! | N26: 4 | O26: =N26*$C$17 -> #DIV/0! | P26: =E26+G26+I26+M26+O26+K26 -> #DIV/0!
A27: Brielle - Amer 7 | B27: Amer 7 | C27: Brielle | D27: 100 | E27: =D27*$C$12 -> #DIV/0! | F27: 96 | G27: =F27*$C$13 -> #DIV/0! | H27: 2 | I27: =H27*$C$14 -> #DIV/0! | J27: 4 | K27: =J27*$C$15 -> #DIV/0! | L27: 2 | M27: =L27*($C$16) -> #DIV/0! | N27: 2 | O27: =N27*$C$17 -> #DIV/0! | P27: =E27+G27+I27+M27+O27+K27 -> #DIV/0!
A28: Brielle - Krammer 2 | B28: Krammer 2 | C28: Brielle | D28: 25 | E28: =D28*$C$12 -> #DIV/0! | F28: 24 | G28: =F28*$C$13 -> #DIV/0! | H28: 3 | I28: =H28*$C$14 -> #DIV/0! | K28: =J28*$C$15 -> #DIV/0! | M28: =L28*($C$16) -> #DIV/0! | N28: 2 | O28: =N28*$C$17 -> #DIV/0! | P28: =E28+G28+I28+M28+O28+K28 -> #DIV/0!
A29: Capelle a/d Ijssel - Slotlaan 121 | B29: Slotlaan 121 | C29: Capelle aan den IJssel | D29: 525 | E29: =D29*$C$12 -> #DIV/0! | F29: 336 | G29: =F29*$C$13 -> #DIV/0! | H29: 6 | I29: =H29*$C$14 -> #DIV/0! | J29: 4 | K29: =J29*$C$15 -> #DIV/0! | L29: 8 | M29: =L29*($C$16) -> #DIV/0! | N29: 10 | O29: =N29*$C$17 -> #DIV/0! | P29: =E29+G29+I29+M29+O29+K29 -> #DIV/0!
A30: Dirksland - Philipshoofjesweg 57a | B30: Philipshoofjesweg 57A | C30: Dirksland | D30: 50 | E30: =D30*$C$12 -> #DIV/0! | F30: 24 | G30: =F30*$C$13 -> #DIV/0! | H30: 3 | I30: =H30*$C$14 -> #DIV/0! | K30: =J30*$C$15 -> #DIV/0! | M30: =L30*($C$16) -> #DIV/0! | N30: 2 | O30: =N30*$C$17 -> #DIV/0! | P30: =E30+G30+I30+M30+O30+K30 -> #DIV/0!
A31: Dirksland - Watertoren 45d | B31: Watertoren 45 | C31: Dirksland | D31: 50 | E31: =D31*$C$12 -> #DIV/0! | F31: 24 | G31: =F31*$C$13 -> #DIV/0! | H31: 2 | I31: =H31*$C$14 -> #DIV/0! | J31: 4 | K31: =J31*$C$15 -> #DIV/0! | L31: 1 | M31: =L31*($C$16) -> #DIV/0! | N31: 2 | O31: =N31*$C$17 -> #DIV/0! | P31: =E31+G31+I31+M31+O31+K31 -> #DIV/0!
A32: Goedereede - Provincialeweg 18a | B32: Provincialeweg 18A | C32: Goedereede | D32: 75 | E32: =D32*$C$12 -> #DIV/0! | F32: 96 | G32: =F32*$C$13 -> #DIV/0! | H32: 2 | I32: =H32*$C$14 -> #DIV/0! | J32: 4 | K32: =J32*$C$15 -> #DIV/0! | M32: =L32*($C$16) -> #DIV/0! | N32: 2 | O32: =N32*$C$17 -> #DIV/0! | P32: =E32+G32+I32+M32+O32+K32 -> #DIV/0!
A33: Hellevoetsluis - Tolweg 45a | B33: Tolweg 45a | C33: Hellevoetsluis | D33: 25 | E33: =D33*$C$12 -> #DIV/0! | F33: 72 | G33: =F33*$C$13 -> #DIV/0! | H33: 3 | I33: =H33*$C$14 -> #DIV/0! | K33: =J33*$C$15 -> #DIV/0! | M33: =L33*($C$16) -> #DIV/0! | N33: 2 | O33: =N33*$C$17 -> #DIV/0! | P33: =E33+G33+I33+M33+O33+K33 -> #DIV/0!
A34: Hellevoetsluis - Zwartedijk 2 | B34: Haringvlietweg 5 | C34: Hellevoetsluis | D34: 50 | E34: =D34*$C$12 -> #DIV/0! | F34: 24 | G34: =F34*$C$13 -> #DIV/0! | H34: 3 | I34: =H34*$C$14 -> #DIV/0! | K34: =J34*$C$15 -> #DIV/0! | L34: 2 | M34: =L34*($C$16) -> #DIV/0! | N34: 2 | O34: =N34*$C$17 -> #DIV/0! | P34: =E34+G34+I34+M34+O34+K34 -> #DIV/0!
A35: Hoek van Holland - Rechtestraat 20 | B35: Rechtestraat 20 | C35: Hoek van Holland | D35: 150 | E35: =D35*$C$12 -> #DIV/0! | F35: 96 | G35: =F35*$C$13 -> #DIV/0! | H35: 2 | I35: =H35*$C$14 -> #DIV/0! | J35: 4 | K35: =J35*$C$15 -> #DIV/0! | L35: 2 | M35: =L35*($C$16) -> #DIV/0! | N35: 4 | O35: =N35*$C$17 -> #DIV/0! | P35: =E35+G35+I35+M35+O35+K35 -> #DIV/0!
A36: HoekvHolland - Planciushof 88 | B36: Planciushof 80 | C36: Hoek van Holland | D36: 25 | E36: =D36*$C$12 -> #DIV/0! | F36: 24 | G36: =F36*$C$13 -> #DIV/0! | H36: 3 | I36: =H36*$C$14 -> #DIV/0! | K36: =J36*$C$15 -> #DIV/0! | M36: =L36*($C$16) -> #DIV/0! | N36: 2 | O36: =N36*$C$17 -> #DIV/0! | P36: =E36+G36+I36+M36+O36+K36 -> #DIV/0!
A37: Krimpen a/d Ijssel - Nieuwe Tiendeweg 19 | B37: Nieuwe Tiendweg 19 | C37: Krimpen aan den Ijssel | D37: 50 | E37: =D37*$C$12 -> #DIV/0! | F37: 96 | G37: =F37*$C$13 -> #DIV/0! | H37: 3 | I37: =H37*$C$14 -> #DIV/0! | K37: =J37*$C$15 -> #DIV/0! | L37: 8 | M37: =L37*($C$16) -> #DIV/0! | N37: 4 | O37: =N37*$C$17 -> #DIV/0! | P37: =E37+G37+I37+M37+O37+K37 -> #DIV/0!
A38: Maassluis - Elektraweg 3 | B38: Elektraweg 3 | C38: Maassluis | D38: 75 | E38: =D38*$C$12 -> #DIV/0! | F38: 48 | G38: =F38*$C$13 -> #DIV/0! | H38: 6 | I38: =H38*$C$14 -> #DIV/0! | K38: =J38*$C$15 -> #DIV/0! | M38: =L38*($C$16) -> #DIV/0! | N38: 2 | O38: =N38*$C$17 -> #DIV/0! | P38: =E38+G38+I38+M38+O38+K38 -> #DIV/0!
A39: Middelharnis - Stevinweg 11 | B39: Simon Stevinweg 11a | C39: Middelharnis | D39: 50 | E39: =D39*$C$12 -> #DIV/0! | F39: 48 | G39: =F39*$C$13 -> #DIV/0! | H39: 3 | I39: =H39*$C$14 -> #DIV/0! | K39: =J39*$C$15 -> #DIV/0! | M39: =L39*($C$16) -> #DIV/0! | N39: 2 | O39: =N39*$C$17 -> #DIV/0! | P39: =E39+G39+I39+M39+O39+K39 -> #DIV/0!
A40: Nieuwe-Tonge - Molendijk 138C | B40: Molendijk 138 C | C40: Nieuwe Tonge | D40: 50 | E40: =D40*$C$12 -> #DIV/0! | F40: 24 | G40: =F40*$C$13 -> #DIV/0! | H40: 2 | I40: =H40*$C$14 -> #DIV/0! | J40: 4 | K40: =J40*$C$15 -> #DIV/0! | L40: 2 | M40: =L40*($C$16) -> #DIV/0! | N40: 2 | O40: =N40*$C$17 -> #DIV/0! | P40: =E40+G40+I40+M40+O40+K40 -> #DIV/0!
A41: Ooltgensplaat - Langeweg 96 | B41: Ooltgensplaat | C41: Ooltgensplaat | D41: 100 | E41: =D41*$C$12 -> #DIV/0! | F41: 48 | G41: =F41*$C$13 -> #DIV/0! | H41: 3 | I41: =H41*$C$14 -> #DIV/0! | K41: =J41*$C$15 -> #DIV/0! | M41: =L41*($C$16) -> #DIV/0! | N41: 2 | O41: =N41*$C$17 -> #DIV/0! | P41: =E41+G41+I41+M41+O41+K41 -> #DIV/0!
A42: Oostvoorne - Langeweg 32C | B42: Langeweg 32C | C42: Oostvoorne | D42: 100 | E42: =D42*$C$12 -> #DIV/0! | F42: 72 | G42: =F42*$C$13 -> #DIV/0! | H42: 3 | I42: =H42*$C$14 -> #DIV/0! | K42: =J42*$C$15 -> #DIV/0! | L42: 2 | M42: =L42*($C$16) -> #DIV/0! | N42: 2 | O42: =N42*$C$17 -> #DIV/0! | P42: =E42+G42+I42+M42+O42+K42 -> #DIV/0!
A43: Oostvoorne - Voorweg 63 | B43: Voorweg 61 | C43: Oostvoorne | D43: 25 | E43: =D43*$C$12 -> #DIV/0! | F43: 72 | G43: =F43*$C$13 -> #DIV/0! | H43: 3 | I43: =H43*$C$14 -> #DIV/0! | K43: =J43*$C$15 -> #DIV/0! | L43: 2 | M43: =L43*($C$16) -> #DIV/0! | N43: 2 | O43: =N43*$C$17 -> #DIV/0! | P43: =E43+G43+I43+M43+O43+K43 -> #DIV/0!
A44: Ouddorp - Hofdijksweg 27 | B44: Hofdijksweg 27 | C44: Ouddorp | D44: 25 | E44: =D44*$C$12 -> #DIV/0! | F44: 48 | G44: =F44*$C$13 -> #DIV/0! | H44: 3 | I44: =H44*$C$14 -> #DIV/0! | K44: =J44*$C$15 -> #DIV/0! | L44: 2 | M44: =L44*($C$16) -> #DIV/0! | N44: 2 | O44: =N44*$C$17 -> #DIV/0! | P44: =E44+G44+I44+M44+O44+K44 -> #DIV/0!
...
