Workbook

Sheet Info
G11: Pricing Tool
B13: Vendors shall fill out all worksheets and the final prices will be shown in the Pricing Summary worksheet. Eindhoven Airport will be scoring based on the total cost of ownership of the system and the preceived value proposition. Any questions or issues with this Pricing Tool, should be directed through the formal questions channel in Tenderned

Sheet Software Licences
B2: Software Licences One-off Cost
B4: Replace the grey text "Details" with your specifics. | H4: If Costs need explaining further please provide any information in the text box below:
B5: Fill in the grey cells with quantity and Cost. Based on 25 concurrent users for a duration of 5 years.
B7: Component | C7: Quantity | D7: Unit Cost | E7: Cost | H7: Further information:
B9: Software Licence
B10: Software Licence #1 | E10: =C10*D10 -> 0
B11: Software Licence #2 | E11: =C11*D11 -> 0
B12: Software Licence #3 | E12: =C12*D12 -> 0
B13: Details | E13: =C13*D13 -> 0
B14: Details | E14: =C14*D14 -> 0
B15: Details | E15: =C15*D15 -> 0
B16: Details | E16: =C16*D16 -> 0
B17: Details | E17: =C17*D17 -> 0
B18: Details | E18: =C18*D18 -> 0
B19: Details | E19: =C19*D19 -> 0
B20: Details | E20: =C20*D20 -> 0
B21: Details | E21: =C21*D21 -> 0
... B24: Details | E24: =C24*D24 -> 0
B26: Grand Total | E26: =SUM(E10:E24) -> 0

Sheet Integration
B2: Integration One-off Cost
B4: Replace the grey text "Details" with your specifics. | H4: If Costs need explaining further please provide any information in the text box below:
B5: Fill in the grey cells with quantity and Cost.
B7: Component | C7: Quantity | D7: Unit Cost | E7: Cost | H7: Further information:
B9: Interfaces
B10: Interface #1 | E10: =C10*D10 -> 0
B11: Interface #2 | E11: =C11*D11 -> 0
B12: Details | E12: =C12*D12 -> 0
B14: Grand Total | E14: =SUM(E10:E12) -> 0

Sheet Infrastructure
B2: Infrastructure One-off Cost
B4: Replace the grey text "Details" with your specifics. | H4: If Costs need explaining further please provide any information in the text box below:
B5: Fill in the grey cells with quantity and Cost.
B7: Component | C7: Quantity | D7: Unit Cost | E7: Cost | H7: Further information: If you are proposing an On-Prem solution, please provide indicative pricing for proposed infrastructure costs
B9: Servers
B10: Details | E10: =C10*D10 -> 0
B11: Details | E11: =C11*D11 -> 0
B12: Details | E12: =C12*D12 -> 0
B13: Details | E13: =C13*D13 -> 0
B14: Details | E14: =C14*D14 -> 0
B15: Details | E15: =C15*D15 -> 0
B16: Details | E16: =C16*D16 -> 0
B17: Total | E17: =SUM(E10:E16) -> 0
B19: Others
B20: Details | E20: =C20*D20 -> 0
B21: Details | E21: =C21*D21 -> 0
B22: Details | E22: =C22*D22 -> 0
B23: Details | E23: =C23*D23 -> 0
B24: Details | E24: =C24*D24 -> 0
B25: Details | E25: =C25*D25 -> 0
B26: Details | E26: =C26*D26 -> 0
B27: Total | E27: =SUM(E20:E26) -> 0
B29: Grand Total | E29: =E27+E17 -> 0

Sheet System Configuration
B2: System Configuration One-off Cost
B4: Replace the grey text "Details" with your specifics. | H4: If Costs need explaining further please provide any information in the text box below:
B5: Fill in the grey cells with quantity and Cost.
B7: Component | C7: Quantity | D7: Unit Cost | E7: Cost | H7: Further information:
B9: System Configuration
B10: Details | E10: =C10*D10 -> 0
B11: Details | E11: =C11*D11 -> 0
B12: Details | E12: =C12*D12 -> 0
B13: Details | E13: =C13*D13 -> 0
B14: Details | E14: =C14*D14 -> 0
B15: Details | E15: =C15*D15 -> 0
B16: Details | E16: =C16*D16 -> 0
B18: Grand Total | E18: =SUM(E10:E16) -> 0

Sheet Customisation
B2: Customisation One-off Cost
B4: Replace the grey text "Details" with your specifics. | H4: If Costs need explaining further please provide any information in the text box below:
B5: Fill in the grey cells with quantity and Cost.
B7: Component | C7: Quantity | D7: Unit Cost | E7: Cost | H7: Further information:
B9: Customisation
B10: Details | E10: =C10*D10 -> 0
B11: Details | E11: =C11*D11 -> 0
B12: Details | E12: =C12*D12 -> 0
B13: Details | E13: =C13*D13 -> 0
B14: Details | E14: =C14*D14 -> 0
B15: Details | E15: =C15*D15 -> 0
B16: Details | E16: =C16*D16 -> 0
B18: Grand Total | E18: =SUM(E10:E16) -> 0

Sheet Installation
B2: Installation One-off Cost
B4: Replace the grey text "Details" with your specifics. | H4: If Costs need explaining further please provide any information in the text box below:
B5: Fill in the grey cells with quantity and Cost.
B7: Component | C7: Quantity | D7: Unit Cost | E7: Cost | H7: Further information:
B9: Installation Services
B10: Details | E10: =C10*D10 -> 0
B11: Details | E11: =C11*D11 -> 0
B12: Details | E12: =C12*D12 -> 0
B13: Details | E13: =C13*D13 -> 0
B14: Details | E14: =C14*D14 -> 0
B15: Details | E15: =C15*D15 -> 0
B16: Details | E16: =C16*D16 -> 0
B18: Grand Total | E18: =SUM(E10:E16) -> 0

Sheet Project Management
B2: Project Management One-off Cost
B4: Replace the grey text "Details" with your specifics. | H4: If Costs need explaining further please provide any information in the text box below:
B5: Fill in the grey cells with quantity and Cost.
B7: Component | C7: Quantity | D7: Unit Cost | E7: Cost | H7: Further information:
B9: Project Management
B10: Details | E10: =C10*D10 -> 0
B11: Details | E11: =C11*D11 -> 0
B12: Details | E12: =C12*D12 -> 0
B13: Details | E13: =C13*D13 -> 0
B14: Details | E14: =C14*D14 -> 0
B15: Details | E15: =C15*D15 -> 0
B16: Details | E16: =C16*D16 -> 0
B18: Grand Total | E18: =SUM(E10:E16) -> 0

Sheet Training
B2: Training One-off Cost
B4: Replace the grey text "Details" with your specifics. | H4: If Costs need explaining further please provide any information in the text box below:
B5: Fill in the grey cells with quantity and Cost.
B7: Component | C7: Quantity | D7: Unit Cost | E7: Cost | H7: Further information:
B9: Training
B10: Details | E10: =C10*D10 -> 0
B11: Details | E11: =C11*D11 -> 0
B12: Details | E12: =C12*D12 -> 0
B13: Details | E13: =C13*D13 -> 0
B14: Details | E14: =C14*D14 -> 0
B15: Details | E15: =C15*D15 -> 0
B16: Details | E16: =C16*D16 -> 0
B18: Grand Total | E18: =SUM(E10:E16) -> 0

Sheet Documentation
B2: Documentation One-off Cost
B4: Replace the grey text "Details" with your specifics. | H4: If Costs need explaining further please provide any information in the text box below:
B5: Fill in the grey cells with quantity and Cost.
B7: Component | C7: Quantity | D7: Unit Cost | E7: Cost | H7: Further information:
B9: Documentation
B10: Details | E10: =C10*D10 -> 0
B11: Details | E11: =C11*D11 -> 0
B12: Details | E12: =C12*D12 -> 0
B13: Details | E13: =C13*D13 -> 0
B14: Details | E14: =C14*D14 -> 0
B15: Details | E15: =C15*D15 -> 0
B16: Details | E16: =C16*D16 -> 0
B18: Grand Total | E18: =SUM(E10:E16) -> 0

Sheet Hosting
B2: Hosting | F2: Annual Recurring Cost
B4: Replace the grey text "Details" with your specifics. | H4: If Costs need explaining further please provide any information in the text box below:
B5: Fill in the grey cells with quantity and Cost.
B7: Component | C7: Quantity | D7: Unit Cost | E7: Cost | H7: Further information:
B9: Annual Application Hosting
B10: Details | E10: =C10*D10 -> 0
B11: Details | E11: =C11*D11 -> 0
B13: Grand Total | E13: =SUM(E10:E11) -> 0

Sheet Upgrade & Maintenance
B2: Upgrade & Maintenance | F2: Annual Recurring Cost
B4: Replace the grey text "Details" with your specifics. | H4: If Costs need explaining further please provide any information in the text box below:
B5: Fill in the grey cells with quantity and Cost.
B7: Component | C7: Quantity | D7: Unit Cost | E7: Cost | H7: Further information:
B9: Application Upgrade Cost - Annual
B10: Details | E10: =C10*D10 -> 0
B11: Details | E11: =C11*D11 -> 0
B12: Details | E12: =C12*D12 -> 0
B13: Total | E13: =SUM(E10:E12) -> 0
B15: Application Upgrade Services - Annual
B16: Details | E16: =C16*D16 -> 0
B17: Details | E17: =C17*D17 -> 0
B18: Details | E18: =C18*D18 -> 0
B19: Total | E19: =SUM(E16:E18) -> 0
B21: Grand Total | E21: =E19+E13 -> 0
B24: Please only provide "Application Upgrade Services Cost - Annual" if there are additional fees on top of the standard upgrade Cost.

Sheet Support
B2: Support | F2: Annual Recurring Cost
B4: Replace the grey text "Details" with your specifics. | H4: If Costs need explaining further please provide any information in the text box below:
B5: Fill in the grey cells with quantity and Cost.
B7: Component | C7: Quantity | D7: Unit Cost | E7: Cost | H7: Further information:
B9: Support Cost - Annual
B10: Details | E10: =C10*D10 -> 0
B11: Details | E11: =C11*D11 -> 0
B12: Details | E12: =C12*D12 -> 0
B13: Total | E13: =SUM(E10:E12) -> 0
B15: Support Services Cost - Annual
B16: Details | E16: =C16*D16 -> 0
B17: Details | E17: =C17*D17 -> 0
B18: Details | E18: =C18*D18 -> 0
B19: Total | E19: =SUM(E16:E18) -> 0
B21: Grand Total | E21: =E19+E13 -> 0
B24: Please only provide "Support Services Cost - Annual" if there are additional fees on top of the standard support Cost.

Sheet Pricing Schedule
B3: SERVICES PRICING SCHEDULE (Note sizes and volumes are for evaluation purposes and subject to change. The sheet will auto-populate based on the information provided in the worksheets)
B4: Name of Bidder
B5: Item | C5: Description | D5: Unit | E5: Unit Cost | F5: Quantity | G5: Total Cost € (SELF CALCULATING)
B7: 1 | C7: =LEFT('Software Licences'!$B$2,30) -> Software Licences | D7: EACH | E7: ='Software Licences'!E26 -> 0 | F7: 1 | G7: =E7*F7 -> 0
B8: 2 | C8: =LEFT(Integration!$B$2,30) -> Integration | D8: EACH | E8: =Integration!E14 -> 0 | F8: 1 | G8: =E8*F8 -> 0
B9: 3 | C9: =LEFT(Infrastructure!$B$2,30) -> Infrastructure | D9: EACH | E9: =Infrastructure!E29 -> 0 | F9: 1 | G9: =E9*F9 -> 0
B10: 4 | C10: =LEFT('System Configuration'!$B$2,30) -> System Configuration | D10: EACH | E10: ='System Configuration'!E18 -> 0 | F10: 1 | G10: =E10*F10 -> 0
B11: 5 | C11: =LEFT(Customisation!$B$2,30) -> Customisation | D11: EACH | E11: =Customisation!E18 -> 0 | F11: 1 | G11: =E11*F11 -> 0
B12: 6 | C12: =LEFT(Installation!$B$2,30) -> Installation | D12: EACH | E12: =Installation!E18 -> 0 | F12: 1 | G12: =E12*F12 -> 0
B13: 7 | C13: =LEFT('Project Management'!$B$2,30) -> Project Management | D13: EACH | E13: ='Project Management'!E18 -> 0 | F13: 1 | G13: =E13*F13 -> 0
B14: 8 | C14: =LEFT(Training!$B$2,30) -> Training | D14: EACH | E14: =Training!E18 -> 0 | F14: 1 | G14: =E14*F14 -> 0
B15: 9 | C15: =LEFT(Documentation!$B$2,30) -> Documentation | D15: EACH | E15: =Documentation!E18 -> 0 | F15: 1 | G15: =E15*F15 -> 0
B16: 10 | C16: =LEFT(Hosting!$B$2,30) -> Hosting | D16: YEAR | E16: =Hosting!E13 -> 0 | F16: 5 | G16: =E16*F16 -> 0
B17: 11 | C17: =LEFT('Upgrade & Maintenance'!$B$2,30) -> Upgrade & Maintenance | D17: YEAR | E17: ='Upgrade & Maintenance'!E21 -> 0 | F17: 5 | G17: =E17*F17 -> 0
B18: 12 | C18: =LEFT(Support!$B$2,30) -> Support | D18: YEAR | E18: =Support!E21 -> 0 | F18: 5 | G18: =E18*F18 -> 0
B19: TOTAL QUOTATION SUM € | G19: =SUM(G7:G18) -> 0
B23: DAY RATE PRICING SCHEDULE - please complete areas in white. You may add lines if required. Prices to include travel , accomodation and substanance. You may add more lines if required. Eindhoven Airport would like to understand the typcial rates for the roles listed where effort is required outside of the agreed scope of the project
B24: Name of Bidder
B25: Item | C25: Position | D25: Unit | E25: Unit Cost (per day) | G25: Total Cost € (SELF CALCULATING)
B27: 1 | C27: Project Manager | D27: Per Day | G27: =E27 -> 0
B28: 2 | C28: Technical Consultant | D28: Per Day | G28: =E28 -> 0
B29: 3 | C29: Functional Consultant | D29: Per Day | G29: =E29 -> 0
B30: 4 | D30: Per Day | E30: € | G30: =E30 -> €
B31: 5 | D31: Per Day | E31: € | G31: =E31 -> €
B32: 6 | D32: Per Day | E32: € | G32: =E32 -> €
B35: *Optional for Eindhoven Airport to accept* Please detail any other costs you believe are necessary to achieving a successful outcome to this project not included in above. Eindhoven Airport has final decision on accepting any costs detailed here.
B36: Item | C36: Description | D36: Unit | E36: Unit Cost | F36: Quantity | G36: Total Cost € (SELF CALCULATING)
B37: 1 | C37: Please add item description and justification | D37: EACH | G37: =E37*F37 -> 0
B38: 2 | C38: Please add item description and justification | D38: EACH | G38: =E38*F38 -> 0
B39: 3 | C39: Please add item description and justification | D39: EACH | G39: =E39*F39 -> 0
B40: 4 | C40: Please add item description and justification | D40: EACH | G40: =E40*F40 -> 0
B41: 5 | C41: Please add item description and justification | D41: EACH | G41: =E41*F41 -> 0
B42: 6 | C42: Please add item description and justification | D42: EACH | G42: =E42*F42 -> 0
B43: TOTAL OPTIONAL COSTS € | G43: =SUM(G37:G42) -> 0
