Workbook

Sheet Totaal Prijslijst
A1: Productgroepen | B1: Inschrijvingssom exclusief BTW
A2: TOTAAL A1. PRODUCTGROEP VERKEERSBORDEN | B2: ='A1'!B90 -> 0
A3: TOTAAL A2. PRODUCTGROEP STRAATNAAMBORDEN | B3: ='A2'!B63 -> 0
A4: TOTAAL A3. PRODUCTGROEP VERKEERSPALEN EN SCHRIKHEKPLANKEN | B4: ='A3'!B63 -> 0
A5: TOTAAL A4. PRODUCTGROEP BEVESTIGINGSMATERIALEN, SNELBETONMORTEL | B5: ='A4'!B44 -> 0
A6: TOTAAL A5. PLAATSING EN ONDERHOUD DOOR VCA-GECERTIFICEERDE MEDEWERKERS | B6: ='A5'!D25 -> 0
A7: TOTALE Inschrijvingssom | B7: =SUM(B2:B6) -> 0
B8: =B7/4 -> 0 | C8: per jaar
A10: Ondertekening
A11: Naam Inschrijver
A12: Naam tekenbevoegde
A13: Datum

Sheet A1
A1: A1. PRODUCTGROEP VERKEERSBORDEN
A2: Omschrijving | B2: Fictief aantal | C2: Catalogusprijs per stuk | D2: Totaal netto prijs per artikel
A3: Rechthoek borden (waaronder RVV) inclusief sign-face
A4: 200x350mm | B4: 5 | D4: =B4*C4 -> 0
A5: 200x300mm | B5: 10 | D5: =B5*C5 -> 0
A6: 300x150mm | B6: 5 | D6: =B6*C6 -> 0
A7: 300x450mm | B7: 5 | D7: =B7*C7 -> 0
A8: 400x150mm | B8: 135 | D8: =B8*C8 -> 0
A9: 400x200mm | B9: 25 | D9: =B9*C9 -> 0
A10: 400x250mm | B10: 5 | D10: =B10*C10 -> 0
A11: 400x300mm | B11: 15 | D11: =B11*C11 -> 0
A12: 400x600mm | B12: 280 | D12: =B12*C12 -> 0
A13: 400x700mm | B13: 10 | D13: =B13*C13 -> 0
A14: 400x800mm | B14: 10 | D14: =B14*C14 -> 0
A15: 450x200mm | B15: 105 | D15: =B15*C15 -> 0
... A51: 1300x520mm | B51: 10 | D51: =B51*C51 -> 0
A53: Bord vierkant (waaronder RVV) inclusief sign-face
A54: 300x300mm | B54: 10 | D54: =B54*C54 -> 0
A55: 400x400mm | B55: 20 | D55: =B55*C55 -> 0
A56: 450x450mm | B56: 5 | D56: =B56*C56 -> 0
A57: 600x600mm | B57: 120 | D57: =B57*C57 -> 0
A58: 800x800mm | B58: 34 | D58: =B58*C58 -> 0
A59: 1000x1000mm | B59: 15 | D59: =B59*C59 -> 0
A61: Borden rond (waaronder RVV) inclusief sign-face
A62: 300mm | B62: 5 | D62: =B62*C62 -> 0
A63: 400mm | B63: 180 | D63: =B63*C63 -> 0
A64: 600mm | B64: 480 | D64: =B64*C64 -> 0
A65: 800mm | B65: 13 | D65: =B65*C65 -> 0
A67: Borden driehoek (waaronder RVV) inclusief sign-face
A68: 700mm | B68: 158 | D68: =B68*C68 -> 0
A69: 900mm | B69: 14 | D69: =B69*C69 -> 0
A71: Borden octogonaal (waaronder RVV) inclusief sign-face
A72: 700mm | B72: 20 | D72: =B72*C72 -> 0
A73: 900mm | B73: 5 | D73: =B73*C73 -> 0
A75: full collour borden rond inclusief ontwerpkosten
A76: 400mm | B76: 5 | D76: =B76*C76 -> 0
A77: 600mm | B77: 5 | D77: =B77*C77 -> 0
A79: full collour borden rechthoek inclusief ontwerpkosten
A80: 300x400mm | B80: 10 | D80: =B80*C80 -> 0
A81: 600x300mm | B81: 15 | D81: =B81*C81 -> 0
A82: 600x400mm | B82: 40 | D82: =B82*C82 -> 0
A83: 800x600mm | B83: 10 | D83: =B83*C83 -> 0
A84: 800x1000mm | B84: 5 | D84: =B84*C84 -> 0
A86: LF borden
A87: L02F, 800mm x 800mm | B87: 5 | D87: =B87*C87 -> 0
D89: =SUM(D3:D87) -> 0
A90: TOTAAL A1. PRODUCTGROEP VERKEERSBORDEN | B90: =D89 -> 0

Sheet A2
A1: A2. PRODUCTGROEP STRAATNAAMBORDEN
A2: Omschrijving | B2: Fictief aantal | C2: Catalogusprijs per stuk | D2: Totaal Netto prijs per artikel
A3: Kokerprofiel RAL 5017, enkelzijdig, dikte inwendig 13 mm incl. bevestiging
A4: 500x150mm | B4: 13 | D4: =B4*C4 -> 0
A5: 600x150mm | B5: 13 | D5: =B5*C5 -> 0
A6: 700x150mm | B6: 11 | D6: =B6*C6 -> 0
A7: 800x150mm | B7: 9 | D7: =B7*C7 -> 0
A8: 900x150mm | B8: 5 | D8: =B8*C8 -> 0
A9: 1000x150mm | B9: 1 | D9: =B9*C9 -> 0
A10: 1100x150mm | B10: 1 | D10: =B10*C10 -> 0
A11: 500x200mm | B11: 2 | D11: =B11*C11 -> 0
A12: 600x200mm | B12: 2 | D12: =B12*C12 -> 0
A13: 700x200mm | B13: 6 | D13: =B13*C13 -> 0
A14: 800x200mm | B14: 1 | D14: =B14*C14 -> 0
A15: 900x200mm | B15: 1 | D15: =B15*C15 -> 0
... A26: 1000x300mm | B26: 1 | D26: =B26*C26 -> 0
A28: Kokerprofiel RAL 5017, dubbelzijdig, dikte inwendig 13 mm incl. bevestiging
A29: 500x150mm | B29: 21 | D29: =B29*C29 -> 0
A30: 600x150mm | B30: 18 | D30: =B30*C30 -> 0
A31: 700x150mm | B31: 12 | D31: =B31*C31 -> 0
A32: 800x150mm | B32: 16 | D32: =B32*C32 -> 0
A33: 900x150mm | B33: 7 | D33: =B33*C33 -> 0
A34: 1000x150mm | B34: 3 | D34: =B34*C34 -> 0
A35: 1100x150mm | B35: 1 | D35: =B35*C35 -> 0
A36: 500x200mm | B36: 2 | D36: =B36*C36 -> 0
A37: 600x200mm | B37: 2 | D37: =B37*C37 -> 0
A38: 700x200mm | B38: 4 | D38: =B38*C38 -> 0
A39: 800x200mm | B39: 16 | D39: =B39*C39 -> 0
A40: 900x200mm | B40: 4 | D40: =B40*C40 -> 0
... A60: 1100x350mm | B60: 1 | D60: =B60*C60 -> 0
D62: =SUM(D3:D60) -> 0
A63: TOTAAL A3. PRODUCTGROEP STRAATNAAMBORDEN | B63: =D62 -> 0

Sheet A3
A1: A3. PRODUCTGROEP VERKEERSPALEN EN SCHRIKHEKPLANKEN
A2: Omschrijving | B2: Fictief aantal | C2: Catalogusprijs per stuk | D2: Totaal Netto prijs per artikel
A3: Flespalen
A4: 2000mm THVZ-CE rond 48 incl 2 losse grondankerstaven | B4: 71 | D4: =B4*C4 -> 0
A5: 2500mm THVZ-CE rond 48 incl 2 losse grondankerstaven | B5: 29 | D5: =B5*C5 -> 0
A6: 3000mm THVZ-CE rond 48 incl 2 losse grondankerstaven | B6: 6 | D6: =B6*C6 -> 0
A7: 3300mm THVZ-CE rond 48 incl 2 losse grondankerstaven | B7: 41 | D7: =B7*C7 -> 0
A8: 3600mm THVZ-CE rond 48 incl 2 losse grondankerstaven | B8: 388 | D8: =B8*C8 -> 0
A9: 3700mm THVZ-CE rond 48 incl 2 losse grondankerstaven | B9: 5 | D9: =B9*C9 -> 0
A10: 3900mm THVZ-CE rond 48 incl 2 losse grondankerstaven | B10: 244 | D10: =B10*C10 -> 0
A11: 4200mm THVZ-CE rond 48 incl 2 losse grondankerstaven | B11: 5 | D11: =B11*C11 -> 0
A12: 4300mm THVZ-CE rond 48 incl 2 losse grondankerstaven | B12: 44 | D12: =B12*C12 -> 0
A13: 4500mm THVZ-CE rond 48 incl 2 losse grondankerstaven | B13: 5 | D13: =B13*C13 -> 0
A14: 4700mm THVZ-CE rond 48 incl 2 losse grondankerstaven | B14: 19 | D14: =B14*C14 -> 0
A16: Buispalen
A17: 1500mm/48mm THVZ incl grondankerstaven | B17: 16 | D17: =B17*C17 -> 0
A18: 1800mm/48mm THVZ incl grondankerstaven | B18: 39 | D18: =B18*C18 -> 0
A19: 2000mm/48mm THVZ incl grondankerstaven | B19: 4 | D19: =B19*C19 -> 0
A20: 2500mm/48mm THVZ incl grondankerstaven | B20: 1 | D20: =B20*C20 -> 0
A21: 3000mm/76mm THVZ incl grondankerstaven | B21: 14 | D21: =B21*C21 -> 0
A22: 3300mm/76mm THVZ incl grondankerstaven | B22: 3 | D22: =B22*C22 -> 0
A23: 3500mm/76mm THVZ incl grondankerstaven | B23: 1 | D23: =B23*C23 -> 0
A24: 4000mm/76mm THVZ incl grondankerstaven | B24: 3 | D24: =B24*C24 -> 0
A25: 900mm/48mm THVZ op voetplaat 220x220x8mm | B25: 25 | D25: =B25*C25 -> 0
A26: 1500mm/48mm THVZ op voetplaat 200x200mm vzv 4 gaten | B26: 25 | D26: =B26*C26 -> 0
A28: Staalbuizen
A29: 48,3x2,5 L=0.30m Kl.A THVZ | B29: 3 | D29: =B29*C29 -> 0
A30: 48,3x2,5 L=0.40m Kl.A THVZ | B30: 16 | D30: =B30*C30 -> 0
A31: 48,3x2,5 L=0.50m Kl.A THVZ | B31: 6 | D31: =B31*C31 -> 0
A32: 48,3x2,5 L=0.60m Kl.A THVZ | B32: 8 | D32: =B32*C32 -> 0
A33: 48,3x2,5 L=0.70m Kl.A THVZ | B33: 3 | D33: =B33*C33 -> 0
A34: 48,3x2,5 L=0.80m Kl.A THVZ | B34: 9 | D34: =B34*C34 -> 0
A35: 48,3x2,5 L=1.00m Kl.A THVZ | B35: 4 | D35: =B35*C35 -> 0
A36: 48,3x2,5 L=1.40m Kl.A THVZ | B36: 3 | D36: =B36*C36 -> 0
A37: 48,3x2,5 L=1.80m Kl.A THVZ | B37: 3 | D37: =B37*C37 -> 0
A38: 48,3x2,5 L=2.40m Kl.A THVZ | B38: 3 | D38: =B38*C38 -> 0
A39: 48,3x2,5 L=2.80m Kl.A THVZ | B39: 3 | D39: =B39*C39 -> 0
A40: 48,3x2,5 L=4.00m Kl.A THVZ | B40: 3 | D40: =B40*C40 -> 0
A42: Verkeerszuilen
A43: Verkeerszuil BB21 alum zw/w Klasse III tbv paal 48/48-76mm | B43: 50 | D43: =B43*C43 -> 0
A44: Verkeerszuil BB21 alum bl/w Klasse III tbv paal 48/48-76mm | B44: 15 | D44: =B44*C44 -> 0
A45: Verkeerszuil BB22 alum geel Klasse III tbv paal 48/48-76mm | B45: 75 | D45: =B45*C45 -> 0
A47: Flexibele verkeerszuilen
A48: Verkeerszuil flexibel BB21, rood/wit, zwart/wit, blauw/wit, Klasse III | B48: 55 | D48: =B48*C48 -> 0
A49: Verkeerszuil flexibel BB22, geel, Klasse III | B49: 10 | D49: =B49*C49 -> 0
A51: Parkeerpalen
A52: Parkeerpaal VIP vast Ø100mm RAL3000 + Klasse I banden | B52: 25 | D52: =B52*C52 -> 0
A53: Parkeerpaal VIP uitneembaar Ø100mm RAL3000 + Klasse I banden + driekantslot | B53: 25 | D53: =B53*C53 -> 0
A54: Betonvoet 300x400x300 | B54: 50 | D54: =B54*C54 -> 0
A56: Trottoirpalen
A57: Diamantkoppaal 150x150mm L=1.40m zw/br+2 refl. r/w | B57: 300 | D57: =B57*C57 -> 0
A59: Schrikhekplanken
A60: Schrikhekplank BB16-1 , BB17-1 of BB18-1 per strekkende meter. Kl III L/R inclusief eindkap | B60: 175 | D60: =B60*C60 -> 0
D62: =SUM(D3:D60) -> 0
A63: TOTAAL A3. PRODUCTGROEP VERKEERSPALEN EN SCHRIKHEKPLANKEN | B63: =D62 -> 0

Sheet A4
A1: A4. PRODUCTGROEP BEVESTIGINGSMATERIALEN, SNELBETONMORTEL
A2: Omschrijving | B2: Fictief aantal | C2: Catalogusprijs per stuk | D2: Totaal Netto prijs per artikel
A3: Scharnierbeugels | E3: westland | F3: incl overige gemeentes
A4: Scharnierbeugel alum. rond 48mm St-82 | B4: 550 | D4: =B4*C4 -> 0 | E4: 132 | F4: =E4*1.75 -> 231
A5: Scharnierbeugel alum. rond 48mm St-140mm | B5: 2600 | D5: =B5*C5 -> 0 | E5: 1005 | F5: =E5*1.75 -> 1758.75
A6: Scharnierbeugel alum. rond 48mm r.a.r. St-82 | B6: 165 | D6: =B6*C6 -> 0 | E6: 25 | F6: =E6*1.75 -> 43.75
A7: Scharnierbeugel alum. rond 48mm draaibaar St-140mm | B7: 15 | D7: =B7*C7 -> 0 | E7: geen | F7: =E7*1.75 -> #VALUE!
A8: Scharnierbeugel alum. Agmi 01 rond 48mm St-82mm | B8: 5 | D8: =B8*C8 -> 0 | E8: geen | F8: =E8*1.75 -> #VALUE!
A9: Scharnierbeugel alum. rond 60mm St-140mm | B9: 125 | D9: =B9*C9 -> 0 | E9: 2 | F9: =E9*1.75 -> 3.5
A10: Scharnierbeugel alum. rond 76mm St-82mm | B10: 50 | D10: =B10*C10 -> 0 | E10: geen | F10: =E10*1.75 -> #VALUE!
A11: Scharnierbeugel alum. rond 76mm St-140mm | B11: 20 | D11: =B11*C11 -> 0 | E11: 1 | F11: =E11*1.75 -> 1.75
F12: =E12*1.75 -> 0
A13: Bevestigingsmaterialen t.b.v. kokerprofielen | F13: =E13*1.75 -> 0
A14: Bevestigingsmiddel t.b.v. kokerprofiel voor midden-achter montage | B14: 5 | D14: =B14*C14 -> 0 | E14: 6 | F14: =E14*1.75 -> 10.5
A15: Bevestigingsmiddel t.b.v. kokerprofiel voor vlaggende montage | B15: 5 | D15: =B15*C15 -> 0 | E15: 6 | F15: =E15*1.75 -> 10.5
A16: Bevestigingsmiddel t.b.v. kokerprofiel voor midden-onder montage | B16: 5 | D16: =B16*C16 -> 0 | E16: 9 | F16: =E16*1.75 -> 15.75
A17: Muurbeugel t.b.v. kokerprofiel | B17: 5 | D17: =B17*C17 -> 0 | E17: 4 | F17: =E17*1.75 -> 7
A18: Eindkap t.b.v. kokerprofiel, hoogte variabel, dikte inwendig 13 mm | B18: 5 | D18: =B18*C18 -> 0 | F18: =E18*1.75 -> 0
F19: =E19*1.75 -> 0
A20: Band-it | F20: =E20*1.75 -> 0
A21: Band-it beugel alum. St-82mm | B21: 74 | D21: =B21*C21 -> 0 | E21: 202 | F21: =E21*1.75 -> 353.5
A22: Band-it beugel alum. St-140mm | B22: 757 | D22: =B22*C22 -> 0 | E22: 60 | F22: =E22*1.75 -> 105
A23: Band-it beugel alum. draaibaar St-140mm | B23: 10 | D23: =B23*C23 -> 0 | E23: 2 | F23: =E23*1.75 -> 3.5
A24: Band-it RVS 19mm met clip | B24: 620 | D24: =B24*C24 -> 0 | E24: 281 | F24: =E24*1.75 -> 491.75
A25: Band-it RVS Valuclips 3/4" type C156 à 100 st. | B25: 5 | D25: =B25*C25 -> 0 | E25: geen | F25: =E25*1.75 -> #VALUE!
A26: Band-it RVS band 3/4" type C206, d=0.76mm | B26: 5 | D26: =B26*C26 -> 0 | E26: geen | F26: =E26*1.75 -> #VALUE!
A27: Band-it RVS klemmen 3/4" type C256 à 100 st. | B27: 5 | D27: =B27*C27 -> 0 | E27: geen | F27: =E27*1.75 -> #VALUE!
F28: =E28*1.75 -> 0
A29: Hi-Torque | F29: =E29*1.75 -> 0
A30: Hi-Torque klemband HP2, 34- 67mm 16mm breed | B30: 52 | D30: =B30*C30 -> 0 | E30: 6 | F30: =E30*1.75 -> 10.5
A31: Hi-Torque klemband HP3, 42-105mm 16mm breed | B31: 100 | D31: =B31*C31 -> 0 | E31: 7 | F31: =E31*1.75 -> 12.25
A32: Hi-Torque klemband HP4, 93-156mm 16mm breed | B32: 125 | D32: =B32*C32 -> 0 | E32: 21 | F32: =E32*1.75 -> 36.75
A33: Hi-Torque klemband HP5, 140-232mm 16mm breed | B33: 49 | D33: =B33*C33 -> 0 | E33: 2 | F33: =E33*1.75 -> 3.5
F34: =E34*1.75 -> 0
A35: Tam-Torque | F35: =E35*1.75 -> 0
A36: Tamtorque HP2, 34- 67mm 16mm breed anti-diefstal | B36: 10 | D36: =B36*C36 -> 0 | E36: =C36*D36 -> 0 | F36: =D36*E36 -> 0
A37: Tamtorque HP3, 42-105mm 16mm breed anti-diefstal | B37: 125 | D37: =B37*C37 -> 0 | E37: geen | F37: =E37*1.75 -> #VALUE!
A38: Tamtorque HP4, 93-156mm 16mm breed anti-diefstal | B38: 10 | D38: =B38*C38 -> 0
A40: Remix
A41: Betonmortel á 25kg (sneldrogend) | B41: 125 | D41: =B41*C41 -> 0 | E41: geen | F41: =E41*1.75 -> #VALUE!
D43: =SUM(D3:D41) -> 0
A44: TOTAAL A4. PRODUCTGROEP BEVESTIGINGSMATERIALEN EN SNELBETONMORTEL | B44: =D43 -> 0

Sheet A5
A1: A5. PRODUCTGROEP PLAATSINGSTARIEVEN
A2: Onderstaande tarieven zijn uitsluitend voor inzet medewerker(s) inclusief materieel en voertuig bij het plaatsen van één producten. Bij het plaatsen van deze producten dient met een vasttarief conform eis 43 te worden gerekend. | B2: Uit te voeren werkzaamheden | C2: Plaatsing in/op/aan | D2: Aantal stuks | E2: Prijs | F2: Totaal
A4: Inzet plaatsingsmedewerker(s) inclusief bijbehorende voertuig(en) en materieel t.b.v. productgroep; PRODUCTGROEP VERKEERSBORDEN (Tablad A1) PRODUCTGROEP STRAATNAAMBORDEN (Tablad A2) PRODUCTGROEP VERKEERSPALEN (Tablad A3, flespalen) PRODUCTGROEP BEVESTIGINGSMATERIALEN (Tablad A4, excl. Remix)
A5: Flespaal | B5: Uitsluitend plaatsen | C5: Verharding | D5: 150 | F5: =D5*E5 -> 0
A6: Flespaal | B6: Uitsluitend verwijderen | C6: Verharding | D6: 50 | F6: =D6*E6 -> 0
A7: Flespaal | B7: Vervangen (verwijderen inclusief plaatsen) | C7: Verharding | D7: 472 | F7: =D7*E7 -> 0
A8: Flespaal | B8: Uitsluitend plaatsen | C8: Grond | D8: 75 | F8: =D8*E8 -> 0
A9: Flespaal | B9: Uitsluitend verwijderen | C9: Grond | D9: 45 | F9: =D9*E9 -> 0
A10: Flespaal | B10: Vervangen (verwijderen inclusief plaatsen) | C10: Grond | D10: 50 | F10: =D10*E10 -> 0
A11: Borden en straatnaamborden | B11: Uitsluitend plaatsen | C11: Paal | D11: 710 | F11: =D11*E11 -> 0
A12: Borden en straatnaamborden | B12: Uitsluitend verwijderen | C12: Paal | D12: 75 | F12: =D12*E12 -> 0
A13: Borden en straatnaamborden | B13: Vervangen (verwijderen inclusief plaatsen) | C13: Paal | D13: 1503 | F13: =D13*E13 -> 0
A14: Borden en straatnaamborden | B14: Uitsluitend plaatsen | C14: Lichtmast | D14: 300 | F14: =D14*E14 -> 0
A15: Borden en straatnaamborden | B15: Uitsluitend verwijderen | C15: Lichtmast | D15: 50 | F15: =D15*E15 -> 0
A16: Borden en straatnaamborden | B16: Vervangen (verwijderen inclusief plaatsen) | C16: Lichtmast | D16: 200 | F16: =D16*E16 -> 0
F17: =SUM(F5:F16) -> 0
A18: Onderstaande tarieven zijn uitsluitend voor inzet medewerker(s) inclusief materieel en voertuig bij het plaatsen van overige verkeersvoorzieningen. Bij het plaatsen van deze producten dient met een uurtarief conform eis 43 te worden gerekend. | B18: Fictief aantal uren | C18: Prijs | D18: Totaal
A19: Ter beschikking stellen VCA-gecertificeerde plaatsingsmedewerkers inclusief bijbehorende voertuig(en) en materieel t.b.v. productgroep; PRODUCTGROEP VERKEERSPALEN EN SCHRIKHEKPLANKEN (Tablad A3, excl. flespalen) PRODUCTGROEP SNELBETONMORTEL (Tablad A4, Remix)
A20: één plaatsingsmedewerker per uur | B20: 60 | D20: =B20*C20 -> 0
A21: één plaatsingsmedewerker met bus en gereedschap per uur | B21: 480 | D21: =B21*C21 -> 0
A22: twee plaatsingsmedewerkers met bus en gereedschap per uur | B22: 600 | D22: =B22*C22 -> 0
A23: twee plaatsingsmedewerkers en vrachtwagen met graafmachine en kraan per uur | B23: 20 | D23: =B23*C23 -> 0
A25: A5. PLAATSING EN ONDERHOUD DOOR VCA-GECERTIFICEERDE MEDEWERKERS | D25: =SUM(F5+F6+F7+F8+F9+F10+F11+F12+F13+F14+F15+F16+D20+D21+D22+D23) -> 0
