Workbook

Sheet Blad1
E5: Variant 1 | F5: ='Variant 1'!N69 -> 2455592.3 | G5: =1+($F$13-F5)/($F$13-$F$14)*4 -> 1
E6: Variant 2 | F6: ='Variant 2'!N56 -> 579150.02 | G6: =1+($F$13-F6)/($F$13-$F$14)*4 -> 4.8989577
E7: Variant 3 | F7: ='Variant 3'!N53 -> 530521.63 | G7: =1+($F$13-F7)/($F$13-$F$14)*4 -> 5
E8: Variant 4 | F8: ='Variant 4'!N53 -> 651856.55 | G8: =1+($F$13-F8)/($F$13-$F$14)*4 -> 4.7478847
E9: Variant 5 | F9: ='Variant 5'!N53 -> 890277.33 | G9: =1+($F$13-F9)/($F$13-$F$14)*4 -> 4.2524831
E10: Variant 6 | F10: ='Variant 6'!N53 -> 755250.91 | G10: =1+($F$13-F10)/($F$13-$F$14)*4 -> 4.5330472
F13: =MAX(F5:F10) -> 2455592.3
F14: =MIN(F5:F10) -> 530521.63

Sheet Variant 6
A1: Project | C1: : Poldergemaal Baambrugge Westzijds
A2: Klant | C2: : Waternet
A3: Projectnummer | C3: : 0475204
A4: Datum | C4: : 10 januari 2022
A5: Gemaakt door | C5: : J.G.A. Bitter
A6: Revisie | C6: : 0
A7: Onderwerp | C7: :Variant 6
A8: Onderdeel | C8: :Opvoerwerktuig
A9: Situatie | C9: :
A11: Aantal | B11: Onderdeel | H11: Aantal | I11: Eenh | J11: Per stuk | L11: Totaal | M11: Groeptotaal | N11: Projecttotaal
B13: Voorbereiding aandrijvingen | N13: =SUM(M14:M16) -> 28000
A14: 1 | B14: Projectleiding | H14: 100 | I14: uur | J14: 100 | L14: =H14*J14 -> 10000 | M14: =A14*L14 -> 10000
A15: 1 | B15: Engineering | H15: 120 | I15: uur | J15: 90 | L15: =H15*J15 -> 10800 | M15: =A15*L15 -> 10800
A16: 1 | B16: Einddocumentatie | H16: 80 | I16: uur | J16: 90 | L16: =H16*J16 -> 7200 | M16: =A16*L16 -> 7200
B17: Vijzel | N17: =SUM(M18:M20) -> 168700
A18: 1 | B18: Transport vijzel van en naar gemaal | H18: 2 | J18: 1000 | L18: =H18*J18 -> 2000 | M18: =A18*L18 -> 2000
A19: 1 | B19: Hijswerkzaamheden | H19: 2 | J19: 850 | L19: =H19*J19 -> 1700 | M19: =A19*L19 -> 1700
A20: 1 | B20: Leveren nieuwe vijzel | H20: 1 | J20: 165000 | L20: =H20*J20 -> 165000 | M20: =A20*L20 -> 165000
B21: Montage en demontage op locatie | N21: =SUM(M22:M25) -> 21200
A22: 1 | B22: Manuren demontage | H22: =2*40 -> 80 | I22: uren | J22: 90 | L22: =H22*J22 -> 7200 | M22: =A22*L22 -> 7200
A23: 1 | B23: Manuren montage | H23: 80 | I23: uren | J23: 90 | L23: =H23*J23 -> 7200 | M23: =A23*L23 -> 7200
A24: 1 | B24: Kraanassistentie | H24: 3 | I24: dagen | J24: 600 | L24: =H24*J24 -> 1800 | M24: =A24*L24 -> 1800
A25: 1 | B25: Huur pompen droogzetten gemaal | H25: 1 | J25: 5000 | L25: =H25*J25 -> 5000 | M25: =A25*L25 -> 5000
B26: Civieltechnisch | N26: =SUM(M27:M29) -> 4440
A27: 1 | B27: Schoonspuiten beton | H27: 16 | I27: uren | J27: 90 | L27: =H27*J27 -> 1440 | M27: =A27*L27 -> 1440
A28: 1 | B28: Wegnemen maalkant | H28: 1 | J28: 2000 | L28: =H28*J28 -> 2000 | M28: =A28*L28 -> 2000
A29: 1 | B29: Conserveren opleider | H29: 20 | I29: m^2 | J29: 50 | L29: =H29*J29 -> 1000 | M29: =A29*L29 -> 1000
B30: Nieuwe aandrijflijn | N30: =SUM(M31:M34) -> 34000
A31: 1 | B31: Nieuwe twk+koppeling+fundatie+olie | H31: 1 | J31: 13000 | L31: =H31*J31 -> 13000 | M31: =A31*L31 -> 13000
A32: 1 | B32: Elektromotor 45kW IE4 | H32: 1 | J32: 4000 | L32: =H32*J32 -> 4000 | M32: =A32*L32 -> 4000
A33: 1 | B33: Nieuw bovenlager en nieuw ECO-lager verzwaard | H33: 1 | J33: 15000 | L33: =H33*J33 -> 15000 | M33: =A33*L33 -> 15000
A34: 1 | B34: Transport | H34: 2 | J34: 1000 | L34: =H34*J34 -> 2000 | M34: =A34*L34 -> 2000
B35: Tijdelijke pompinstallatie | N35: =SUM(M36:M36) -> 60000
A36: 1 | B36: TPI | H36: 3 | I36: Weken | J36: 20000 | L36: =H36*J36 -> 60000 | M36: =A36*L36 -> 60000
B37: Inbedrijfstelling | N37: =SUM(M38:M40) -> 3600
A38: 1 | B38: FAT en SAT test | H38: 24 | I38: uur | J38: 90 | L38: =H38*J38 -> 2160 | M38: =A38*L38 -> 2160
A39: 1 | B39: Inbedrijfstelling | H39: 8 | I39: uur | J39: 90 | L39: =H39*J39 -> 720 | M39: =A39*L39 -> 720
A40: 1 | B40: Oplevering | H40: 8 | I40: uur | J40: 90 | L40: =H40*J40 -> 720 | M40: =A40*L40 -> 720
B41: Kostprijs aannemer | M41: =SUM(M13:M40) -> 319940 | N41: =SUM(N13:N40) -> 319940
B43: Prijspeil 2022
...

Sheet Variant 5
A1: Project | C1: : Poldergemaal Baambrugge Westzijds
A2: Klant | C2: : Waternet
A3: Projectnummer | C3: : 0475204
A4: Datum | C4: : 10 januari 2022
A5: Gemaakt door | C5: : J.G.A. Bitter
A6: Revisie | C6: : 0
A7: Onderwerp | C7: :Variant 5
A8: Onderdeel | C8: :Opvoerwerktuig
A9: Situatie | C9: :
A11: Aantal | B11: Onderdeel | H11: Aantal | I11: Eenh | J11: Per stuk | L11: Totaal | M11: Groeptotaal | N11: Projecttotaal
B13: Voorbereiding aandrijvingen | N13: =SUM(M14:M16) -> 28000
A14: 1 | B14: Projectleiding | H14: 100 | I14: uur | J14: 100 | L14: =H14*J14 -> 10000 | M14: =A14*L14 -> 10000
A15: 1 | B15: Engineering | H15: 120 | I15: uur | J15: 90 | L15: =H15*J15 -> 10800 | M15: =A15*L15 -> 10800
A16: 1 | B16: Einddocumentatie | H16: 80 | I16: uur | J16: 90 | L16: =H16*J16 -> 7200 | M16: =A16*L16 -> 7200
B17: Vijzel | N17: =SUM(M18:M20) -> 198700
A18: 1 | B18: Transport vijzel van en naar gemaal | H18: 2 | J18: 1000 | L18: =H18*J18 -> 2000 | M18: =A18*L18 -> 2000
A19: 1 | B19: Hijswerkzaamheden | H19: 2 | J19: 850 | L19: =H19*J19 -> 1700 | M19: =A19*L19 -> 1700
A20: 1 | B20: Leveren nieuwe vijzel | H20: 1 | J20: =65000*3 -> 195000 | L20: =H20*J20 -> 195000 | M20: =A20*L20 -> 195000
B21: Montage en demontage op locatie | N21: =SUM(M22:M25) -> 28400
A22: 1 | B22: Manuren demontage | H22: =2*40 -> 80 | I22: uren | J22: 90 | L22: =H22*J22 -> 7200 | M22: =A22*L22 -> 7200
A23: 1 | B23: Manuren montage | H23: 160 | I23: uren | J23: 90 | L23: =H23*J23 -> 14400 | M23: =A23*L23 -> 14400
A24: 1 | B24: Kraanassistentie | H24: 3 | I24: dagen | J24: 600 | L24: =H24*J24 -> 1800 | M24: =A24*L24 -> 1800
A25: 1 | B25: Huur pompen droogzetten gemaal | H25: 1 | J25: 5000 | L25: =H25*J25 -> 5000 | M25: =A25*L25 -> 5000
B26: Civieltechnisch | N26: =SUM(M27:M29) -> 4440
A27: 1 | B27: Schoonspuiten beton | H27: 16 | I27: uren | J27: 90 | L27: =H27*J27 -> 1440 | M27: =A27*L27 -> 1440
A28: 1 | B28: Wegnemen maalkant | H28: 1 | J28: 2000 | L28: =H28*J28 -> 2000 | M28: =A28*L28 -> 2000
A29: 1 | B29: Conserveren opleider | H29: 20 | I29: m^2 | J29: 50 | L29: =H29*J29 -> 1000 | M29: =A29*L29 -> 1000
B30: Nieuwe aandrijflijn | N30: =SUM(M31:M34) -> 34000
A31: 1 | B31: Nieuwe twk+koppeling+fundatie+olie | H31: 1 | J31: 13000 | L31: =H31*J31 -> 13000 | M31: =A31*L31 -> 13000
A32: 1 | B32: Elektromotor 45kW IE4 | H32: 1 | J32: 4000 | L32: =H32*J32 -> 4000 | M32: =A32*L32 -> 4000
A33: 1 | B33: Nieuw bovenlager en nieuw ECO-lager verzwaard | H33: 1 | J33: 15000 | L33: =H33*J33 -> 15000 | M33: =A33*L33 -> 15000
A34: 1 | B34: Transport | H34: 2 | J34: 1000 | L34: =H34*J34 -> 2000 | M34: =A34*L34 -> 2000
B35: Tijdelijke pompinstallatie | N35: =SUM(M36:M36) -> 80000
A36: 1 | B36: TPI | H36: 4 | I36: Weken | J36: 20000 | L36: =H36*J36 -> 80000 | M36: =A36*L36 -> 80000
B37: Inbedrijfstelling | N37: =SUM(M38:M40) -> 3600
A38: 1 | B38: FAT en SAT test | H38: 24 | I38: uur | J38: 90 | L38: =H38*J38 -> 2160 | M38: =A38*L38 -> 2160
A39: 1 | B39: Inbedrijfstelling | H39: 8 | I39: uur | J39: 90 | L39: =H39*J39 -> 720 | M39: =A39*L39 -> 720
A40: 1 | B40: Oplevering | H40: 8 | I40: uur | J40: 90 | L40: =H40*J40 -> 720 | M40: =A40*L40 -> 720
B41: Kostprijs aannemer | M41: =SUM(M13:M40) -> 377140 | N41: =SUM(N13:N40) -> 377140
B43: Prijspeil 2022
...

Sheet Variant 4
A1: Project | C1: : Poldergemaal Baambrugge Westzijds
A2: Klant | C2: : Waternet
A3: Projectnummer | C3: : 0475204
A4: Datum | C4: : 10 januari 2022
A5: Gemaakt door | C5: : J.G.A. Bitter
A6: Revisie | C6: : 0
A7: Onderwerp | C7: :Variant 4
A8: Onderdeel | C8: :Opvoerwerktuig
A9: Situatie | C9: :
A11: Aantal | B11: Onderdeel | H11: Aantal | I11: Eenh | J11: Per stuk | L11: Totaal | M11: Groeptotaal | N11: Projecttotaal
B13: Voorbereiding aandrijvingen | N13: =SUM(M14:M16) -> 28000
A14: 1 | B14: Projectleiding | H14: 100 | I14: uur | J14: 100 | L14: =H14*J14 -> 10000 | M14: =A14*L14 -> 10000
A15: 1 | B15: Engineering | H15: 120 | I15: uur | J15: 90 | L15: =H15*J15 -> 10800 | M15: =A15*L15 -> 10800
A16: 1 | B16: Einddocumentatie | H16: 80 | I16: uur | J16: 90 | L16: =H16*J16 -> 7200 | M16: =A16*L16 -> 7200
B17: Vijzel | N17: =SUM(M18:M20) -> 56700
A18: 1 | B18: Transport vijzel van en naar gemaal | H18: 2 | J18: 1000 | L18: =H18*J18 -> 2000 | M18: =A18*L18 -> 2000
A19: 1 | B19: Hijswerkzaamheden | H19: 2 | J19: 850 | L19: =H19*J19 -> 1700 | M19: =A19*L19 -> 1700
A20: 1 | B20: Leveren nieuwe vijzel | H20: 1 | J20: 53000 | L20: =H20*J20 -> 53000 | M20: =A20*L20 -> 53000
B21: Montage en demontage op locatie | N21: =SUM(M22:M25) -> 28400
A22: 1 | B22: Manuren demontage | H22: =2*40 -> 80 | I22: uren | J22: 90 | L22: =H22*J22 -> 7200 | M22: =A22*L22 -> 7200
A23: 1 | B23: Manuren montage | H23: 160 | I23: uren | J23: 90 | L23: =H23*J23 -> 14400 | M23: =A23*L23 -> 14400
A24: 1 | B24: Kraanassistentie | H24: 3 | I24: dagen | J24: 600 | L24: =H24*J24 -> 1800 | M24: =A24*L24 -> 1800
A25: 1 | B25: Huur pompen droogzetten gemaal | H25: 1 | J25: 5000 | L25: =H25*J25 -> 5000 | M25: =A25*L25 -> 5000
B26: Civieltechnisch | N26: =SUM(M27:M29) -> 32440
A27: 1 | B27: Schoonspuiten beton | H27: 16 | I27: uren | J27: 90 | L27: =H27*J27 -> 1440 | M27: =A27*L27 -> 1440
A28: 1 | B28: Uithakken en opnieuw indraaien | H28: 1 | J28: 30000 | L28: =H28*J28 -> 30000 | M28: =A28*L28 -> 30000
A29: 1 | B29: Conserveren opleider | H29: 20 | I29: m^2 | J29: 50 | L29: =H29*J29 -> 1000 | M29: =A29*L29 -> 1000
B30: Nieuwe aandrijflijn | N30: =SUM(M31:M34) -> 27000
A31: 1 | B31: Nieuwe twk+koppeling+fundatie+olie | H31: 1 | J31: 13000 | L31: =H31*J31 -> 13000 | M31: =A31*L31 -> 13000
A32: 1 | B32: Elektromotor 45kW IE4 | H32: 1 | J32: 4000 | L32: =H32*J32 -> 4000 | M32: =A32*L32 -> 4000
A33: 1 | B33: Revisie bovenlager en nieuw ECO-lager | H33: 1 | J33: 8000 | L33: =H33*J33 -> 8000 | M33: =A33*L33 -> 8000
A34: 1 | B34: Transport | H34: 2 | J34: 1000 | L34: =H34*J34 -> 2000 | M34: =A34*L34 -> 2000
B35: Tijdelijke pompinstallatie | N35: =SUM(M36:M36) -> 100000
A36: 1 | B36: TPI | H36: 5 | I36: Weken | J36: 20000 | L36: =H36*J36 -> 100000 | M36: =A36*L36 -> 100000
B37: Inbedrijfstelling | N37: =SUM(M38:M40) -> 3600
A38: 1 | B38: FAT en SAT test | H38: 24 | I38: uur | J38: 90 | L38: =H38*J38 -> 2160 | M38: =A38*L38 -> 2160
A39: 1 | B39: Inbedrijfstelling | H39: 8 | I39: uur | J39: 90 | L39: =H39*J39 -> 720 | M39: =A39*L39 -> 720
A40: 1 | B40: Oplevering | H40: 8 | I40: uur | J40: 90 | L40: =H40*J40 -> 720 | M40: =A40*L40 -> 720
B41: Kostprijs aannemer | M41: =SUM(M13:M40) -> 276140 | N41: =SUM(N13:N40) -> 276140
B43: Prijspeil 2022
...

Sheet Variant 3
A1: Project | C1: : Poldergemaal Baambrugge Westzijds
A2: Klant | C2: : Waternet
A3: Projectnummer | C3: : 0475204
A4: Datum | C4: : 10 januari 2022
A5: Gemaakt door | C5: : J.G.A. Bitter
A6: Revisie | C6: : 0
A7: Onderwerp | C7: :Variant 3
A8: Onderdeel | C8: :Opvoerwerktuig
A9: Situatie | C9: :
A11: Aantal | B11: Onderdeel | H11: Aantal | I11: Eenh | J11: Per stuk | L11: Totaal | M11: Groeptotaal | N11: Projecttotaal
B13: Voorbereiding aandrijvingen | N13: =SUM(M14:M16) -> 28000
A14: 1 | B14: Projectleiding | H14: 100 | I14: uur | J14: 100 | L14: =H14*J14 -> 10000 | M14: =A14*L14 -> 10000
A15: 1 | B15: Engineering | H15: 120 | I15: uur | J15: 90 | L15: =H15*J15 -> 10800 | M15: =A15*L15 -> 10800
A16: 1 | B16: Einddocumentatie | H16: 80 | I16: uur | J16: 90 | L16: =H16*J16 -> 7200 | M16: =A16*L16 -> 7200
B17: Vijzel | N17: =SUM(M18:M20) -> 53700
A18: 1 | B18: Transport vijzel van en naar gemaal | H18: 2 | J18: 1000 | L18: =H18*J18 -> 2000 | M18: =A18*L18 -> 2000
A19: 1 | B19: Hijswerkzaamheden | H19: 2 | J19: 850 | L19: =H19*J19 -> 1700 | M19: =A19*L19 -> 1700
A20: 1 | B20: Leveren nieuwe vijzel | H20: 1 | J20: 50000 | L20: =H20*J20 -> 50000 | M20: =A20*L20 -> 50000
B21: Montage en demontage op locatie | N21: =SUM(M22:M25) -> 28400
A22: 1 | B22: Manuren demontage | H22: =2*40 -> 80 | I22: uren | J22: 90 | L22: =H22*J22 -> 7200 | M22: =A22*L22 -> 7200
A23: 1 | B23: Manuren montage | H23: 160 | I23: uren | J23: 90 | L23: =H23*J23 -> 14400 | M23: =A23*L23 -> 14400
A24: 1 | B24: Kraanassistentie | H24: 3 | I24: dagen | J24: 600 | L24: =H24*J24 -> 1800 | M24: =A24*L24 -> 1800
A25: 1 | B25: Huur pompen droogzetten gemaal | H25: 1 | J25: 5000 | L25: =H25*J25 -> 5000 | M25: =A25*L25 -> 5000
B26: Civieltechnisch | N26: =SUM(M27:M29) -> 4040
A27: 1 | B27: Schoonspuiten beton | H27: 16 | I27: uren | J27: 90 | L27: =H27*J27 -> 1440 | M27: =A27*L27 -> 1440
A28: 1 | B28: Klein herstelwerk betonschade | H28: 16 | I28: uren | J28: 100 | L28: =H28*J28 -> 1600 | M28: =A28*L28 -> 1600
A29: 1 | B29: Conserveren opleider | H29: 20 | I29: m^2 | J29: 50 | L29: =H29*J29 -> 1000 | M29: =A29*L29 -> 1000
B30: Nieuwe aandrijflijn | N30: =SUM(M31:M34) -> 27000
A31: 1 | B31: Nieuwe twk+koppeling+fundatie+olie | H31: 1 | J31: 13000 | L31: =H31*J31 -> 13000 | M31: =A31*L31 -> 13000
A32: 1 | B32: Elektromotor 45kW IE4 | H32: 1 | J32: 4000 | L32: =H32*J32 -> 4000 | M32: =A32*L32 -> 4000
A33: 1 | B33: Revisie bovenlager en nieuw ECO-lager | H33: 1 | J33: 8000 | L33: =H33*J33 -> 8000 | M33: =A33*L33 -> 8000
A34: 1 | B34: Transport | H34: 2 | J34: 1000 | L34: =H34*J34 -> 2000 | M34: =A34*L34 -> 2000
B35: Tijdelijke pompinstallatie | N35: =SUM(M36:M36) -> 80000
A36: 1 | B36: TPI | H36: 4 | I36: Weken | J36: 20000 | L36: =H36*J36 -> 80000 | M36: =A36*L36 -> 80000
B37: Inbedrijfstelling | N37: =SUM(M38:M40) -> 3600
A38: 1 | B38: FAT en SAT test | H38: 24 | I38: uur | J38: 90 | L38: =H38*J38 -> 2160 | M38: =A38*L38 -> 2160
A39: 1 | B39: Inbedrijfstelling | H39: 8 | I39: uur | J39: 90 | L39: =H39*J39 -> 720 | M39: =A39*L39 -> 720
A40: 1 | B40: Oplevering | H40: 8 | I40: uur | J40: 90 | L40: =H40*J40 -> 720 | M40: =A40*L40 -> 720
B41: Kostprijs aannemer | M41: =SUM(M13:M40) -> 224740 | N41: =SUM(N13:N40) -> 224740
B43: Prijspeil 2022
...

Sheet Variant 2
A1: Project | C1: : Poldergemaal Baambrugge Westzijds
A2: Klant | C2: : Waternet
A3: Projectnummer | C3: : 0475204
A4: Datum | C4: : 10 januari 2022
A5: Gemaakt door | C5: : J.G.A. Bitter
A6: Revisie | C6: : 0
A7: Onderwerp | C7: :Variant 2
A8: Onderdeel | C8: :Opvoerwerktuig
A9: Situatie | C9: :
A11: Aantal | B11: Onderdeel | H11: Aantal | I11: Eenh | J11: Per stuk | L11: Totaal | M11: Groeptotaal | N11: Projecttotaal
B13: Voorbereiding aandrijvingen | N13: =SUM(M14:M16) -> 28000
A14: 1 | B14: Projectleiding | H14: 100 | I14: uur | J14: 100 | L14: =H14*J14 -> 10000 | M14: =A14*L14 -> 10000
A15: 1 | B15: Engineering | H15: 120 | I15: uur | J15: 90 | L15: =H15*J15 -> 10800 | M15: =A15*L15 -> 10800
A16: 1 | B16: Einddocumentatie | H16: 80 | I16: uur | J16: 90 | L16: =H16*J16 -> 7200 | M16: =A16*L16 -> 7200
B17: Vijzel | N17: =SUM(M18:M23) -> 25900
A18: 1 | B18: Transport vijzel van en naar gemaal | H18: 2 | J18: 1500 | L18: =H18*J18 -> 3000 | M18: =A18*L18 -> 3000
A19: 1 | B19: Hijswerkzaamheden | H19: 2 | J19: 850 | L19: =H19*J19 -> 1700 | M19: =A19*L19 -> 1700
A20: 1 | B20: Stralen en conserveren vijzel | H20: 90 | I20: m^2 | J20: 80 | L20: =H20*J20 -> 7200 | M20: =A20*L20 -> 7200
A21: 1 | B21: Herstelwerkzaamheden | H21: 1 | J21: 5000 | L21: =H21*J21 -> 5000 | M21: =A21*L21 -> 5000
A22: 1 | B22: Verlinten | H22: 1 | J22: 7000 | L22: =H22*J22 -> 7000 | M22: =A22*L22 -> 7000
A23: 1 | B23: Visvriendelijke uitvoering | H23: 1 | J23: 2000 | L23: =H23*J23 -> 2000 | M23: =A23*L23 -> 2000
B24: Montage en demontage op locatie | N24: =SUM(M25:M28) -> 28400
A25: 1 | B25: Manuren demontage | H25: =2*40 -> 80 | I25: uren | J25: 90 | L25: =H25*J25 -> 7200 | M25: =A25*L25 -> 7200
A26: 1 | B26: Manuren montage | H26: 160 | I26: uren | J26: 90 | L26: =H26*J26 -> 14400 | M26: =A26*L26 -> 14400
A27: 1 | B27: Kraanassistentie | H27: 3 | I27: dagen | J27: 600 | L27: =H27*J27 -> 1800 | M27: =A27*L27 -> 1800
A28: 1 | B28: Huur pompen droogzetten gemaal | H28: 1 | J28: 5000 | L28: =H28*J28 -> 5000 | M28: =A28*L28 -> 5000
B29: Civieltechnisch | N29: =SUM(M30:M32) -> 32440
A30: 1 | B30: Schoonspuiten beton | H30: 16 | I30: uren | J30: 90 | L30: =H30*J30 -> 1440 | M30: =A30*L30 -> 1440
A31: 1 | B31: Uithakken en opnieuw indraaien | H31: 1 | J31: 30000 | L31: =H31*J31 -> 30000 | M31: =A31*L31 -> 30000
A32: 1 | B32: Conserveren opleider | H32: 20 | I32: m^2 | J32: 50 | L32: =H32*J32 -> 1000 | M32: =A32*L32 -> 1000
B33: Nieuwe aandrijflijn | N33: =SUM(M34:M37) -> 27000
A34: 1 | B34: Nieuwe twk+koppeling+fundatie+olie | H34: 1 | J34: 13000 | L34: =H34*J34 -> 13000 | M34: =A34*L34 -> 13000
A35: 1 | B35: Elektromotor 45kW IE4 | H35: 1 | J35: 4000 | L35: =H35*J35 -> 4000 | M35: =A35*L35 -> 4000
A36: 1 | B36: Revisie bovenlager en nieuw ECO-lager | H36: 1 | J36: 8000 | L36: =H36*J36 -> 8000 | M36: =A36*L36 -> 8000
A37: 1 | B37: Transport | H37: 2 | J37: 1000 | L37: =H37*J37 -> 2000 | M37: =A37*L37 -> 2000
B38: Tijdelijke pompinstallatie | N38: =SUM(M39:M39) -> 100000
A39: 1 | B39: TPI | H39: 5 | I39: Weken | J39: 20000 | L39: =H39*J39 -> 100000 | M39: =A39*L39 -> 100000
B40: Inbedrijfstelling | N40: =SUM(M41:M43) -> 3600
A41: 1 | B41: FAT en SAT test | H41: 24 | I41: uur | J41: 90 | L41: =H41*J41 -> 2160 | M41: =A41*L41 -> 2160
A42: 1 | B42: Inbedrijfstelling | H42: 8 | I42: uur | J42: 90 | L42: =H42*J42 -> 720 | M42: =A42*L42 -> 720
...

Sheet Oxena Brids
B2: Inschrijvingsstaat Werktuigbouw Oxena Brids
B11: Onderdeel | H11: Aantal | I11: Eenh | J11: Per stuk | L11: Totaal | M11: Groeptotaal
B13: Voorbereiding aandrijvingen | M13: =SUM(L14:L16) -> 0
B14: Projectleiding | H14: 0 | I14: uur | J14: 0 | L14: =H14*J14 -> 0
B15: Engineering | H15: 0 | I15: uur | J15: 0 | L15: =H15*J15 -> 0
B16: Einddocumentatie | H16: 0 | I16: uur | J16: 0 | L16: =H16*J16 -> 0
B17: Aandrijving elektromechanisch (leveren) | M17: =SUM(L18:L25) -> 0
B18: Kruk met toebehoren | H18: 1 | I18: post | J18: 0 | L18: =H18*J18 -> 0
B19: Drijfstang met toebehoren | H19: 1 | I19: post | J19: 0 | L19: =H19*J19 -> 0
B20: Tandwielkast met toebehoren | H20: 1 | I20: post | J20: 0 | L20: =H20*J20 -> 0
B21: Rem met toebehoren | H21: 1 | I21: post | J21: 0 | L21: =H21*J21 -> 0
B22: Elektromotor | H22: 1 | I22: post | J22: 0 | L22: =H22*J22 -> 0
B23: Handaandrijving met toebehoren | H23: 1 | I23: post | J23: 0 | L23: =H23*J23 -> 0
B24: Koppelingen | H24: 1 | I24: post | J24: 0 | L24: =H24*J24 -> 0
B25: Buffer en overige componenten | H25: 1 | I25: post | J25: 0 | L25: =H25*J25 -> 0
B26: Railconstructie (leveren) | M26: =SUM(L27:L30) -> 0
B27: Rail met toebehoren | H27: 1 | I27: post | J27: 0 | L27: =H27*J27 -> 0
B28: Loopwielen | H28: 4 | I28: post | J28: 0 | L28: =H28*J28 -> 0
B29: Reviseren houders wielen | H29: 4 | I29: post | J29: 0 | L29: =H29*J29 -> 0
B30: Stalen framewerk wielhouders | H30: 1 | I30: post | J30: 0 | L30: =H30*J30 -> 0
B31: Opzetinrichting (leveren) | M31: =SUM(L32:L36) -> 0
B32: Aandrijfcomponenten SEW | H32: 1 | I32: post | J32: 0 | L32: =H32*J32 -> 0
B33: Frame met afschermkappen | H33: 1 | I33: post | J33: 0 | L33: =H33*J33 -> 0
B34: Opzetwielen met kruk, lagers en as | H34: 2 | I34: post | J34: 0 | L34: =H34*J34 -> 0
B35: Bovenzadel | H35: 2 | I35: post | J35: 0 | L35: =H35*J35 -> 0
B36: Handaandrijving | H36: 1 | I36: post | J36: 0 | L36: =H36*J36 -> 0
B37: Opleggingen | M37: =SUM(L38:L39) -> 0
B38: Reviseren boven en onderzadel met toebehoren | H38: 4 | I38: st | J38: 0 | L38: =H38*J38 -> 0
B39: Reviseren hoofddraaipunt | H39: 1 | I39: st | J39: 0 | L39: =H39*J39 -> 0
B40: Trap | M40: =SUM(L41) -> 0
B41: Reviseren trap | H41: 1 | I41: st | J41: 0 | L41: =H41*J41 -> 0
B42: Afsluitboominstallatie (levering) | M42: =SUM(L43) -> 0
B43: Afsluitboomkast met toebehoren | H43: 2 | I43: st | J43: 0 | L43: =H43*J43 -> 0
B44: Val levering | M44: =SUM(L45:L46) -> 0
B45: Stalen val 20Ton | H45: 20000 | I45: kg | J45: 0 | L45: =H45*J45 -> 0
B46: Regelballast | H46: 1000 | I46: kg | J46: 0 | L46: =H46*J46 -> 0
B47: Leuningwerk | M47: =SUM(L48) -> 0
B48: Leuningwerk brug | H48: 82.5 | I48: m | J48: 0 | L48: =H48*J48 -> 0
B49: TSA val | M49: =SUM(L50:L52) -> 0
B50: Metaliseren val onderzijde (niet onder slijtlaag) | H50: =60*1.5 -> 90 | I50: m2 | J50: 0 | L50: =H50*J50 -> 0
...

Sheet Kootstertille
A1: Project | C1: : Kootstertille
A2: Klant | C2: : RWS
A3: Projectnummer | C3: : XXXXXXX
A4: Datum | C4: : 01-02-2024
A5: Gemaakt door | C5: : J.G.A. Bitter
A6: Revisie | C6: : 0.1
A7: Onderwerp | C7: :Raming
A8: Onderdeel | C8: :Bewegingswerk
A9: Situatie | C9: :
A11: Aantal | B11: Onderdeel | H11: Aantal | I11: Eenh | J11: Per stuk | L11: Totaal | M11: Groeptotaal | N11: Projecttotaal
B13: Voorbereiding aandrijvingen | N13: =SUM(M14:M16) -> 46000
A14: 1 | B14: Projectleiding | H14: 100 | I14: uur | J14: 100 | L14: =H14*J14 -> 10000 | M14: =A14*L14 -> 10000
A15: 1 | B15: Engineering | H15: =2*40*4 -> 320 | I15: uur | J15: 90 | L15: =H15*J15 -> 28800 | M15: =A15*L15 -> 28800
A16: 1 | B16: Einddocumentatie | H16: =1*40*2 -> 80 | I16: uur | J16: 90 | L16: =H16*J16 -> 7200 | M16: =A16*L16 -> 7200
B17: Aandrijving | N17: =SUM(M18:M32) -> 1187000
A18: 1 | B18: Noodmotor | H18: 1 | J18: 4000 | L18: =H18*J18 -> 4000 | M18: =A18*L18 -> 4000
A19: 1 | B19: Schakelbare koppeling | H19: 1 | J19: 3000 | L19: =H19*J19 -> 3000 | M19: =A19*L19 -> 3000
A20: 1 | B20: Hoofdmotor | H20: 1 | J20: 15000 | L20: =H20*J20 -> 15000 | M20: =A20*L20 -> 15000
A21: 1 | B21: Tandwielkast | H21: 1 | J21: 260000 | L21: =H21*J21 -> 260000 | M21: =A21*L21 -> 260000
A22: 1 | B22: Rem met afscherming | H22: 2 | J22: =22000+5000 -> 27000 | L22: =H22*J22 -> 54000 | M22: =A22*L22 -> 54000
A23: 1 | B23: Tandboogkoppeling | H23: 1 | J23: 90000 | L23: =H23*J23 -> 90000 | M23: =A23*L23 -> 90000
A24: 1 | B24: Papamawiel dubbel | H24: 2 | J24: 200000 | L24: =H24*J24 -> 400000 | M24: =A24*L24 -> 400000
A25: 1 | B25: Rondsels met as | E25: 3 Ton staal | H25: 1 | J25: =3000*12 -> 36000 | L25: =H25*J25 -> 36000 | M25: =A25*L25 -> 36000
A26: 1 | B26: Draaipunten rondsel | H26: 2 | J26: 25000 | L26: =H26*J26 -> 50000 | M26: =A26*L26 -> 50000
A27: 1 | B27: Veerbuffer | H27: 2 | J27: 20000 | L27: =H27*J27 -> 40000 | M27: =A27*L27 -> 40000
A28: 1 | B28: Drijfstang | H28: 2 | J28: 20000 | L28: =H28*J28 -> 40000 | M28: =A28*L28 -> 40000
A29: 1 | B29: Frame aandrijfcomponenten | E29: 15 Ton staal | H29: 1 | J29: =15000*6 -> 90000 | L29: =H29*J29 -> 90000 | M29: =A29*L29 -> 90000
A30: 1 | B30: Hoofddraaipunten val | H30: 2 | J30: 50000 | L30: =H30*J30 -> 100000 | M30: =A30*L30 -> 100000
A31: 1 | B31: Afscherkappen | H31: 1 | J31: 5000 | L31: =H31*J31 -> 5000 | M31: =A31*L31 -> 5000
B33: Montage op locatie | N33: =SUM(M34:M39) -> 22440
A35: 1 | B35: Manuren plaatsing tandwielkast | H35: =3*8 -> 24 | I35: uren | J35: 90 | L35: =H35*J35 -> 2160 | M35: =A35*L35 -> 2160
A36: 1 | B36: Manuren plaatsing panamawielen | H36: 32 | I36: uren | J36: 90 | L36: =H36*J36 -> 2880 | M36: =A36*L36 -> 2880
A37: 1 | B37: Manuren afbouw aandrijving | H37: 80 | I37: uren | J37: 90 | L37: =H37*J37 -> 7200 | M37: =A37*L37 -> 7200
A38: 1 | B38: Manuren afstellen en inregelen en afbouwen | H38: =2*8*5 -> 80 | I38: uren | J38: 90 | L38: =H38*J38 -> 7200 | M38: =A38*L38 -> 7200
A39: 1 | B39: Kraanassistentie | H39: 5 | I39: dagen | J39: 600 | L39: =H39*J39 -> 3000 | M39: =A39*L39 -> 3000
B40: Montagewerkzaamheden werkplaats | N40: =SUM(M41:M49) -> 28960
A41: 1 | B41: Conservering | H41: 1 | J41: 10000 | L41: =H41*J41 -> 10000 | M41: =A41*L41 -> 10000
A42: 1 | B42: Montage tandwielkast | H42: =2*8 -> 16 | I42: uren | J42: 80 | L42: =H42*J42 -> 1280 | M42: =A42*L42 -> 1280
A43: 1 | B43: Montage remmen | H43: =2*8 -> 16 | I43: uren | J43: 80 | L43: =H43*J43 -> 1280 | M43: =A43*L43 -> 1280
A44: 1 | B44: Montage motoren | H44: =2*8 -> 16 | I44: uren | J44: 80 | L44: =H44*J44 -> 1280 | M44: =A44*L44 -> 1280
...

Sheet Variant 1
A1: Project | C1: : Hartelkanaalbrug
A2: Klant | C2: : Provincie Zuid-Holland
A3: Projectnummer | C3: : 0465695
A4: Datum | C4: : 14 april 2022
A5: Gemaakt door | C5: : J.G.A. Bitter
A6: Revisie | C6: : 0.1
A7: Onderwerp | C7: :Raming
A8: Onderdeel | C8: :Bewegingswerk
A9: Situatie | C9: :
A11: Aantal | B11: Onderdeel | H11: Aantal | I11: Eenh | J11: Per stuk | L11: Totaal | M11: Groeptotaal | N11: Projecttotaal
B13: Voorbereiding aandrijvingen | N13: =SUM(M14:M16) -> 46000
A14: 1 | B14: Projectleiding | H14: 100 | I14: uur | J14: 100 | L14: =H14*J14 -> 10000 | M14: =A14*L14 -> 10000
A15: 1 | B15: Engineering | H15: =2*40*4 -> 320 | I15: uur | J15: 90 | L15: =H15*J15 -> 28800 | M15: =A15*L15 -> 28800
A16: 1 | B16: Einddocumentatie | H16: =1*40*2 -> 80 | I16: uur | J16: 90 | L16: =H16*J16 -> 7200 | M16: =A16*L16 -> 7200
B17: Aandrijving | N17: =SUM(M18:M35) -> 937000
A18: 1 | B18: Noodmotor | H18: 1 | J18: 4000 | L18: =H18*J18 -> 4000 | M18: =A18*L18 -> 4000
A19: 1 | B19: Schakelbare koppeling | H19: 1 | J19: 3000 | L19: =H19*J19 -> 3000 | M19: =A19*L19 -> 3000
A20: 1 | B20: Hoofdmotor | H20: 1 | J20: 15000 | L20: =H20*J20 -> 15000 | M20: =A20*L20 -> 15000
A21: 1 | B21: Tandwielkast | H21: 1 | J21: 260000 | L21: =H21*J21 -> 260000 | M21: =A21*L21 -> 260000
A22: 1 | B22: Rem met afscherming | H22: 2 | J22: =22000+5000 -> 27000 | L22: =H22*J22 -> 54000 | M22: =A22*L22 -> 54000
A23: 1 | B23: Tandboogkoppeling | H23: 1 | J23: 90000 | L23: =H23*J23 -> 90000 | M23: =A23*L23 -> 90000
A24: 1 | B24: Schelp | E24: 2 Ton staal | H24: 1 | J24: 60000 | L24: =H24*J24 -> 60000 | M24: =A24*L24 -> 60000
A25: 1 | B25: Rondsel met as | E25: 3 Ton staal | H25: 1 | J25: =3000*12 -> 36000 | L25: =H25*J25 -> 36000 | M25: =A25*L25 -> 36000
A26: 1 | B26: Draaipunten rondsel | H26: 2 | J26: 25000 | L26: =H26*J26 -> 50000 | M26: =A26*L26 -> 50000
A27: 1 | B27: Schamelstel | H27: 1 | J27: 45000 | L27: =H27*J27 -> 45000 | M27: =A27*L27 -> 45000
A28: 1 | B28: Veerbuffer | E28: 1,5 Ton staal | H28: 1 | J28: 20000 | L28: =H28*J28 -> 20000 | M28: =A28*L28 -> 20000
A29: 1 | B29: Heugelstang | E29: 7 Ton staal | H29: 1 | J29: =7000*7 -> 49000 | L29: =H29*J29 -> 49000 | M29: =A29*L29 -> 49000
A30: 1 | B30: Frame aandrijfcomponenten | E30: 15 Ton staal | H30: 1 | J30: =15000*6 -> 90000 | L30: =H30*J30 -> 90000 | M30: =A30*L30 -> 90000
A31: 1 | B31: Stabilisatoren | E31: 2 Ton staal | H31: 1 | J31: =2000*5 -> 10000 | L31: =H31*J31 -> 10000 | M31: =A31*L31 -> 10000
A32: 1 | B32: Draaipunten ballastkist | E32: 3,5 Ton staal | H32: 2 | J32: =3500*5+2000+3000 -> 22500 | L32: =H32*J32 -> 45000 | M32: =A32*L32 -> 45000
A33: 1 | B33: Hoofddraaipunten val | H33: 2 | J33: 50000 | L33: =H33*J33 -> 100000 | M33: =A33*L33 -> 100000
A34: 1 | B34: Afscherkappen tandboogkoppeling | H34: 1 | J34: 2000 | L34: =H34*J34 -> 2000 | M34: =A34*L34 -> 2000
A35: 1 | B35: Afschermkappen draaiende delen aandrijfassen motoren | H35: 2 | J35: 2000 | L35: =H35*J35 -> 4000 | M35: =A35*L35 -> 4000
B36: Montage op locatie | N36: =SUM(M37:M42) -> 20280
A37: 1 | B37: Manuren plaatsing stabilisator | H37: =2*8 -> 16 | I37: uren | J37: 90 | L37: =H37*J37 -> 1440 | M37: =A37*L37 -> 1440
A38: 1 | B38: Manuren plaatsing aandrijving op kist | H38: =3*8 -> 24 | I38: uren | J38: 90 | L38: =H38*J38 -> 2160 | M38: =A38*L38 -> 2160
A39: 1 | B39: Manuren plaatsing heugelstang | H39: =3*8 -> 24 | I39: uren | J39: 90 | L39: =H39*J39 -> 2160 | M39: =A39*L39 -> 2160
A40: 1 | B40: Manuren afbouw schamelstel met schelp | H40: =3*8*2 -> 48 | I40: uren | J40: 90 | L40: =H40*J40 -> 4320 | M40: =A40*L40 -> 4320
A41: 1 | B41: Manuren afstellen en inregelen en afbouwen | H41: =2*8*5 -> 80 | I41: uren | J41: 90 | L41: =H41*J41 -> 7200 | M41: =A41*L41 -> 7200
A42: 1 | B42: Kraanassistentie | H42: 5 | I42: dagen | J42: 600 | L42: =H42*J42 -> 3000 | M42: =A42*L42 -> 3000
...

Sheet Blad2
J18: =7.85*10^-6 -> 7.85e-06
J19: D | K19: A | L19: V | M19: M | N19: N | O19: Mtot
J20: 500 | K20: =PI()/4*J20^2 -> 196349.54 | N20: 14
J21: 251 | K21: =PI()/4*J21^2 -> 49480.87
J22: 27.8
L23: =(K20-K21)*J22 -> 4082949.1 | M23: =L23*J18 -> 32.05115 | O23: =M23*N20 -> 448.7161 | P23: kg
J25: B | K25: H | L25: L | M25: t
J26: 600 | K26: 600 | L26: 1000 | M26: 16 | N26: =2*(J26+K26)*L26*M26*1.5 -> 57600000 | O26: =N26*J18 -> 452.16 | P26: kg
O28: =SUM(O23:O26) -> 900.8761
O32: =15*O26 -> 6782.4
J35: 500 | K35: 800 | L35: =PI()/4*K35^2*J35*1.5*J18 -> 2959.3803
J38: 1500 | K38: 100 | L38: =PI()/4*J38^2*K38*J18*1.5 -> 2080.8143 | M38: kg
H41: 200 | I41: 10 | J41: 5000 | K41: 10000 | L41: =4*H41*I41*(J41+K41)*2*3*J18 -> 5652 | M41: =L41/J18/I41 -> 72000000 | N41: =M41/1000/1000 -> 72
H43: 2000 | I43: 1500 | J43: 40 | K43: =2*H43*I43*J43*J18*2 -> 3768

Sheet Variant 0 en B roldeur E
A1: Project | C1: : Kadoelerbrug
A2: Klant | C2: :
A3: Projectnummer | C3: :
A4: Datum | C4: : 07-04-2020
A5: Gemaakt door | C5: : J.G.A. Bitter
A6: Revisie | C6: : 0
A7: Onderwerp | C7: : Variant B brug
A8: Onderdeel | C8: : Elektrotechnische installatie
A9: Situatie | C9: :
A11: Aantal | B11: Onderdeel | H11: Aantal | I11: Eenh | J11: Per stuk | L11: Totaal | M11: Groeptotaal | N11: Projecttotaal
B13: Voorbereiding aandrijvingen | N13: =SUM(M14:M16) -> 29600
A14: 1 | B14: Projectleiding | H14: 80 | I14: uur | J14: 100 | L14: =H14*J14 -> 8000 | M14: =A14*L14 -> 8000
A15: 1 | B15: Engineering | H15: 160 | I15: uur | J15: 90 | L15: =H15*J15 -> 14400 | M15: =A15*L15 -> 14400
A16: 1 | B16: Einddocumentatie | H16: 80 | I16: uur | J16: 90 | L16: =H16*J16 -> 7200 | M16: =A16*L16 -> 7200
B18: Voeding | N18: =SUM(M19:M19) -> 0
B19: zit bij de bruginstallatie | L19: 0 | M19: =A19*L19 -> 0
B20: Besturingkast | N20: =SUM(M21:M23) -> 118000
A21: 2 | B21: Besturingskast | H21: 1 | J21: 30000 | L21: =H21*J21 -> 30000 | M21: =A21*L21 -> 60000
A22: 2 | B22: PLS/Software/display/encoder | H22: 1 | J22: 25000 | L22: =H22*J22 -> 25000 | M22: =A22*L22 -> 50000
A23: 2 | B23: FO | H23: 1 | J23: 4000 | L23: =H23*J23 -> 4000 | M23: =A23*L23 -> 8000
A24: 2 | B24: Montage ter plaatse | H24: 80 | I24: uur | J24: 75 | L24: =H24*J24 -> 6000 | M24: =A24*L24 -> 12000
B25: Inbedrijfstelling | N25: =SUM(M26:M28) -> 1950
A26: 1 | B26: FAT en SAT test | H26: 16 | I26: uur | J26: 75 | L26: =H26*J26 -> 1200 | M26: =A26*L26 -> 1200
A27: 1 | B27: Inbedrijfstelling | H27: 2 | I27: uur | J27: 75 | L27: =H27*J27 -> 150 | M27: =A27*L27 -> 150
A28: 1 | B28: Oplevering | H28: 8 | I28: uur | J28: 75 | L28: =H28*J28 -> 600 | M28: =A28*L28 -> 600
B29: Kostprijs aannemer | M29: =SUM(M13:M28) -> 161550 | N29: =SUM(N13:N28) -> 149550
B31: Prijspeil juni 2019
B33: Onvoorzien en algemeen | N33: =SUM(M34:M36) -> 64620
B34: Onvoorziene kosten | K34: 0.1 | L34: =M29 -> 161550 | M34: =K34*L34 -> 16155
B35: Algemene kosten | K35: 0.15 | L35: =M29 -> 161550 | M35: =K35*L35 -> 24232.5
B36: Winst en risico | K36: 0.15 | L36: =M29 -> 161550 | M36: =K36*L36 -> 24232.5
B38: Inschrijfsom aannemer | M38: =SUM(M29:M37) -> 226170 | N38: =SUM(N29:N37) -> 214170
B39: BTW | K39: 0.21 | L39: =M38 -> 226170 | M39: =K39*L39 -> 47495.7 | N39: =M39 -> 47495.7
B41: Totaalprijs inclusief B.T.W. | M41: =SUM(M38:M40) -> 273665.7 | N41: =SUM(N38:N40) -> 261665.7

Sheet Variant  B  roldeur W
A1: Project | C1: : Kadoelerbrug
A2: Klant | C2: :
A3: Projectnummer | C3: :
A4: Datum | C4: : 07-04-2020
A5: Gemaakt door | C5: : J.G.A. Bitter
A6: Revisie | C6: : 0
A7: Onderwerp | C7: : Variant B roldeur
A8: Onderdeel | C8: : Werktuigbouwkundige installatie
A9: Situatie | C9: :
A11: Aantal | B11: Onderdeel | H11: Aantal | I11: Eenh | J11: Per stuk | L11: Totaal | M11: Groeptotaal | N11: Projecttotaal
B13: Voorbereiding aandrijvingen | N13: =SUM(M14:M16) -> 48000
A14: 1 | B14: Projectleiding | H14: 120 | I14: uur | J14: 100 | L14: =H14*J14 -> 12000 | M14: =A14*L14 -> 12000
A15: 1 | B15: Engineering | H15: =2*4*40 -> 320 | I15: uur | J15: 90 | L15: =H15*J15 -> 28800 | M15: =A15*L15 -> 28800
A16: 1 | B16: Einddocumentatie | H16: 80 | I16: uur | J16: 90 | L16: =H16*J16 -> 7200 | M16: =A16*L16 -> 7200
B18: Leveringen Aandrijvingen brug incl. lagers val | N18: =SUM(M19:M20) -> 200000
A19: 2 | B19: Tandwielkast met elektromotor en rem | L19: 40000 | M19: =A19*L19 -> 80000
A20: 2 | B20: Lieraandrijving met omloopwielen en contragewicht | L20: 60000 | M20: =A20*L20 -> 120000
B21: Montage bewegingswerken | N21: =SUM(M22:M27) -> 44360
A22: 2 | B22: Plaatsen aandrijfcomponenten | H22: =40*2 -> 80 | I22: uur | J22: 75 | L22: =H22*J22 -> 6000 | M22: =A22*L22 -> 12000
A23: 2 | B23: Plaatsen lierwerk en omloopwielen | H23: =40*2 -> 80 | I23: uur | J23: 75 | L23: =H23*J23 -> 6000 | M23: =A23*L23 -> 12000
A24: 2 | B24: Afstellen / inregelen bewegingswerken | H24: 40 | I24: uur | J24: 75 | L24: =H24*J24 -> 3000 | M24: =A24*L24 -> 6000
A25: 2 | B25: Bevestigingsmaterialen | H25: 1 | I25: st | J25: 500 | L25: =H25*J25 -> 500 | M25: =A25*L25 -> 1000
A26: 2 | B26: Kraanassistentie | H26: =4*8 -> 32 | I26: uur | J26: 190 | L26: =H26*J26 -> 6080 | M26: =A26*L26 -> 12160
A27: 2 | B27: Touch-up conservering | H27: 8 | I27: uur | J27: 75 | L27: =H27*J27 -> 600 | M27: =A27*L27 -> 1200
B28: Inbedrijfstelling | N28: =SUM(M29:M32) -> 7950
A29: 1 | B29: FAT en SAT test | H29: 16 | I29: uur | J29: 75 | L29: =H29*J29 -> 1200 | M29: =A29*L29 -> 1200
A30: 1 | B30: Inbedrijfstelling | H30: 2 | I30: uur | J30: 75 | L30: =H30*J30 -> 150 | M30: =A30*L30 -> 150
A31: 1 | B31: Oplevering | H31: 8 | I31: uur | J31: 75 | L31: =H31*J31 -> 600 | M31: =A31*L31 -> 600
A32: 1 | B32: Arbo en CE markering | H32: 1 | I32: st | J32: 6000 | L32: =H32*J32 -> 6000 | M32: =A32*L32 -> 6000
B34: Kostprijs aannemer | M34: =SUM(M13:M33) -> 300310 | N34: =SUM(N13:N33) -> 300310
B36: Prijspeil juni 2019
B38: Onvoorzien en algemeen | N38: =SUM(M39:M41) -> 120124
B39: Onvoorziene kosten | K39: 0.1 | L39: =M34 -> 300310 | M39: =K39*L39 -> 30031
B40: Algemene kosten | K40: 0.15 | L40: =M34 -> 300310 | M40: =K40*L40 -> 45046.5
B41: Winst en risico | K41: 0.15 | L41: =M34 -> 300310 | M41: =K41*L41 -> 45046.5
B43: Inschrijfsom aannemer | M43: =SUM(M34:M42) -> 420434 | N43: =SUM(N34:N42) -> 420434
B44: BTW | K44: 0.21 | L44: =M43 -> 420434 | M44: =K44*L44 -> 88291.14 | N44: =M44 -> 88291.14
B46: Totaalprijs inclusief B.T.W. | M46: =SUM(M43:M45) -> 508725.14 | N46: =SUM(N43:N45) -> 508725.14

Sheet Variant  B  brug W
A1: Project | C1: : Kadoelerbrug
A2: Klant | C2: :
A3: Projectnummer | C3: :
A4: Datum | C4: : 07-04-2020
A5: Gemaakt door | C5: : J.G.A. Bitter
A6: Revisie | C6: : 0
A7: Onderwerp | C7: : Variant B brug
A8: Onderdeel | C8: : Werktuigbouwkundige installatie
A9: Situatie | C9: : Basculebrug met cilinder
A11: Aantal | B11: Onderdeel | H11: Aantal | I11: Eenh | J11: Per stuk | L11: Totaal | M11: Groeptotaal | N11: Projecttotaal
B13: Voorbereiding aandrijvingen | N13: =SUM(M14:M16) -> 48000
A14: 1 | B14: Projectleiding | H14: 120 | I14: uur | J14: 100 | L14: =H14*J14 -> 12000 | M14: =A14*L14 -> 12000
A15: 1 | B15: Engineering | H15: =2*4*40 -> 320 | I15: uur | J15: 90 | L15: =H15*J15 -> 28800 | M15: =A15*L15 -> 28800
A16: 1 | B16: Einddocumentatie | H16: 80 | I16: uur | J16: 90 | L16: =H16*J16 -> 7200 | M16: =A16*L16 -> 7200
B18: Leveringen Aandrijvingen brug incl. lagers val | N18: =SUM(M19:M29) -> 178000
A19: 1 | B19: Aggregaat | L19: 40000 | M19: =A19*L19 -> 40000
A20: 2 | B20: Cilinder met toebehoren | L20: 30000 | M20: =A20*L20 -> 60000
A21: 1 | B21: Leidingwerk | L21: 15000 | M21: =A21*L21 -> 15000
A22: 1 | B22: Behuizing aggregaat | L22: 5000 | M22: =A22*L22 -> 5000
A23: 1 | B23: Opvangbak olie | L23: 3000 | M23: =A23*L23 -> 3000
A24: 2 | B24: Opvangbak cilinder olie | L24: 1000 | M24: =A24*L24 -> 2000
A25: 1 | B25: Bevestigingsmiddelen en overige | L25: 1000 | M25: =A25*L25 -> 1000
A26: 1 | B26: Kosten verpakking en bescherming leverancier richting bouwplaats | L26: 2000 | M26: =A26*L26 -> 2000
A27: 1 | B27: Hydrouliek olie | L27: 7000 | M27: =A27*L27 -> 7000
A28: 1 | B28: Montagegereedschappen | L28: 7000 | M28: =A28*L28 -> 7000
A29: 2 | B29: Leveren onderstoel, lagerstoel en lager val | L29: 18000 | M29: =A29*L29 -> 36000
B31: Demontage en uitruimen aandrijfkelder | N31: =SUM(M32:M35) -> 5760
A32: 1 | B32: Monteurs demontage | H32: 40 | I32: uur | J32: 75 | L32: =H32*J32 -> 3000 | M32: =A32*L32 -> 3000
A33: 1 | B33: Huur kraan/reachtruck tbv. Verwijderen aandrijfcomponenten | H33: 1 | I33: dag | J33: 1000 | L33: =H33*J33 -> 1000 | M33: =A33*L33 -> 1000
A34: 1 | B34: Vrachtwagen afvoer machinewerken | H34: 8 | I34: uur | J34: 70 | L34: =H34*J34 -> 560 | M34: =A34*L34 -> 560
A35: 1 | B35: Uitruimen kelders bewegingswerk, verwijderen ankers | H35: 16 | I35: uur | J35: 75 | L35: =H35*J35 -> 1200 | M35: =A35*L35 -> 1200
B36: Montage bewegingswerken | N36: =SUM(M37:M43) -> 21560
A37: 2 | B37: Stellen lagerstoelen cilinder | H37: 16 | I37: uur | J37: 75 | L37: =H37*J37 -> 1200 | M37: =A37*L37 -> 2400
A38: 2 | B38: Plaatsing cilinder | H38: 16 | I38: uur | J38: 75 | L38: =H38*J38 -> 1200 | M38: =A38*L38 -> 2400
A39: 1 | B39: Plaatsen aggregaat en aansluiten | H39: 80 | I39: uur | J39: 85 | L39: =H39*J39 -> 6800 | M39: =A39*L39 -> 6800
A40: 1 | B40: Afstellen / inregelen bewegingswerken | H40: 40 | I40: uur | J40: 75 | L40: =H40*J40 -> 3000 | M40: =A40*L40 -> 3000
A41: 2 | B41: Kraanassistentie | H41: 8 | I41: uur | J41: 190 | L41: =H41*J41 -> 1520 | M41: =A41*L41 -> 3040
A42: 2 | B42: Plaatsen hoofdlagers | H42: 16 | I42: uur | J42: 75 | L42: =H42*J42 -> 1200 | M42: =A42*L42 -> 2400
A43: 1 | B43: Kraanassistentie lagers val | H43: 8 | I43: uur | J43: 190 | L43: =H43*J43 -> 1520 | M43: =A43*L43 -> 1520
B44: Inbedrijfstelling | N44: =SUM(M45:M48) -> 9000
...

Sheet Variant 0 en A E
A1: Project | C1: : Kadoelerbrug
A2: Klant | C2: :
A3: Projectnummer | C3: :
A4: Datum | C4: : 07-04-2020
A5: Gemaakt door | C5: : J.G.A. Bitter
A6: Revisie | C6: : 0
A7: Onderwerp | C7: : Variant 0 en A
A8: Onderdeel | C8: : Elektrotechnische installatie
A9: Situatie | C9: :
A11: Aantal | B11: Onderdeel | H11: Aantal | I11: Eenh | J11: Per stuk | L11: Totaal | M11: Groeptotaal | N11: Projecttotaal
B13: Voorbereiding aandrijvingen | N13: =SUM(M14:M16) -> 33600
A14: 1 | B14: Projectleiding | H14: 120 | I14: uur | J14: 100 | L14: =H14*J14 -> 12000 | M14: =A14*L14 -> 12000
A15: 1 | B15: Engineering | H15: 160 | I15: uur | J15: 90 | L15: =H15*J15 -> 14400 | M15: =A15*L15 -> 14400
A16: 1 | B16: Einddocumentatie | H16: 80 | I16: uur | J16: 90 | L16: =H16*J16 -> 7200 | M16: =A16*L16 -> 7200
B18: Voeding | N18: =SUM(M19:M21) -> 5000
A19: 1 | B19: Voeding energiebedrijf | L19: 1500 | M19: =A19*L19 -> 1500
A20: 1 | B20: Hoofdverdeelinrichting | L20: 2500 | M20: =A20*L20 -> 2500
A21: 1 | B21: Plaatsen en aansluiten | L21: 1000 | M21: =A21*L21 -> 1000
B23: Besturingkast | N23: =SUM(M24:M26) -> 71000
A24: 1 | B24: Besturingskast | H24: 1 | J24: 40000 | L24: =H24*J24 -> 40000 | M24: =A24*L24 -> 40000
A25: 1 | B25: PLS/Software/display/encoder | H25: 1 | J25: 25000 | L25: =H25*J25 -> 25000 | M25: =A25*L25 -> 25000
A26: 1 | B26: FO | H26: 1 | J26: 6000 | L26: =H26*J26 -> 6000 | M26: =A26*L26 -> 6000
A27: 1 | B27: Montage ter plaatse | H27: 80 | I27: uur | J27: 75 | L27: =H27*J27 -> 6000 | M27: =A27*L27 -> 6000
B28: Afsluitboomkasten | N28: =SUM(M29:M29) -> 74000
A29: 2 | B29: Plaatsen twee afsluitbomen NMA BAS-II | H29: 1 | I29: st | J29: 37000 | L29: =H29*J29 -> 37000 | M29: =A29*L29 -> 74000
B30: Inbedrijfstelling | N30: =SUM(M31:M33) -> 1950
A31: 1 | B31: FAT en SAT test | H31: 16 | I31: uur | J31: 75 | L31: =H31*J31 -> 1200 | M31: =A31*L31 -> 1200
A32: 1 | B32: Inbedrijfstelling | H32: 2 | I32: uur | J32: 75 | L32: =H32*J32 -> 150 | M32: =A32*L32 -> 150
A33: 1 | B33: Oplevering | H33: 8 | I33: uur | J33: 75 | L33: =H33*J33 -> 600 | M33: =A33*L33 -> 600
B34: Kostprijs aannemer | M34: =SUM(M13:M33) -> 191550 | N34: =SUM(N13:N33) -> 185550
B36: Prijspeil juni 2019
B38: Onvoorzien en algemeen | N38: =SUM(M39:M41) -> 76620
B39: Onvoorziene kosten | K39: 0.1 | L39: =M34 -> 191550 | M39: =K39*L39 -> 19155
B40: Algemene kosten | K40: 0.15 | L40: =M34 -> 191550 | M40: =K40*L40 -> 28732.5
B41: Winst en risico | K41: 0.15 | L41: =M34 -> 191550 | M41: =K41*L41 -> 28732.5
B43: Inschrijfsom aannemer | M43: =SUM(M34:M42) -> 268170 | N43: =SUM(N34:N42) -> 262170
B44: BTW | K44: 0.21 | L44: =M43 -> 268170 | M44: =K44*L44 -> 56315.7 | N44: =M44 -> 56315.7
B46: Totaalprijs inclusief B.T.W. | M46: =SUM(M43:M45) -> 324485.7 | N46: =SUM(N43:N45) -> 318485.7

Sheet Variant 0 en A W
A1: Project | C1: : Kadoelerbrug
A2: Klant | C2: :
A3: Projectnummer | C3: :
A4: Datum | C4: : 07-04-2020
A5: Gemaakt door | C5: : J.G.A. Bitter
A6: Revisie | C6: : 0
A7: Onderwerp | C7: : Variant 0 en A
A8: Onderdeel | C8: : Werktuigbouwkundige installatie
A9: Situatie | C9: : Klapbrug met cilinder
A11: Aantal | B11: Onderdeel | H11: Aantal | I11: Eenh | J11: Per stuk | L11: Totaal | M11: Groeptotaal | N11: Projecttotaal
B13: Voorbereiding aandrijvingen | N13: =SUM(M14:M16) -> 48000
A14: 1 | B14: Projectleiding | H14: 120 | I14: uur | J14: 100 | L14: =H14*J14 -> 12000 | M14: =A14*L14 -> 12000
A15: 1 | B15: Engineering | H15: =2*4*40 -> 320 | I15: uur | J15: 90 | L15: =H15*J15 -> 28800 | M15: =A15*L15 -> 28800
A16: 1 | B16: Einddocumentatie | H16: 80 | I16: uur | J16: 90 | L16: =H16*J16 -> 7200 | M16: =A16*L16 -> 7200
B18: Leveringen Aandrijvingen brug incl. lagers val | N18: =SUM(M19:M29) -> 198000
A19: 1 | B19: Aggregaat | L19: 50000 | M19: =A19*L19 -> 50000
A20: 2 | B20: Cilinder met toebehoren | L20: 40000 | M20: =A20*L20 -> 80000
A21: 1 | B21: Leidingwerk | L21: 15000 | M21: =A21*L21 -> 15000
A22: 1 | B22: Behuizing aggregaat | L22: 5000 | M22: =A22*L22 -> 5000
A23: 1 | B23: Opvangbak olie | L23: 3000 | M23: =A23*L23 -> 3000
A24: 2 | B24: Opvangbak cilinder olie | L24: 1000 | M24: =A24*L24 -> 2000
A25: 1 | B25: Bevestigingsmiddelen en overige | L25: 1000 | M25: =A25*L25 -> 1000
A26: 1 | B26: Kosten verpakking en bescherming leverancier richting bouwplaats | L26: 2000 | M26: =A26*L26 -> 2000
A27: 1 | B27: Hydrouliek olie | L27: 5000 | M27: =A27*L27 -> 5000
A28: 1 | B28: Montagegereedschappen | L28: 5000 | M28: =A28*L28 -> 5000
A29: 2 | B29: Leveren onderstoel, lagerstoel en lager val | L29: 15000 | M29: =A29*L29 -> 30000
B30: Demontage en uitruimen aandrijfkelder | N30: =SUM(M31:M34) -> 5760
A31: 1 | B31: Monteurs demontage | H31: 40 | I31: uur | J31: 75 | L31: =H31*J31 -> 3000 | M31: =A31*L31 -> 3000
A32: 1 | B32: Huur kraan/reachtruck tbv. Verwijderen aandrijfcomponenten | H32: 1 | I32: dag | J32: 1000 | L32: =H32*J32 -> 1000 | M32: =A32*L32 -> 1000
A33: 1 | B33: Vrachtwagen afvoer machinewerken | H33: 8 | I33: uur | J33: 70 | L33: =H33*J33 -> 560 | M33: =A33*L33 -> 560
A34: 1 | B34: Uitruimen kelders bewegingswerk, verwijderen ankers | H34: 16 | I34: uur | J34: 75 | L34: =H34*J34 -> 1200 | M34: =A34*L34 -> 1200
B35: Montage bewegingswerken | N35: =SUM(M36:M42) -> 21560
A36: 2 | B36: Stellen lagerstoelen cilinder | H36: 16 | I36: uur | J36: 75 | L36: =H36*J36 -> 1200 | M36: =A36*L36 -> 2400
A37: 2 | B37: Plaatsing cilinder | H37: 16 | I37: uur | J37: 75 | L37: =H37*J37 -> 1200 | M37: =A37*L37 -> 2400
A38: 1 | B38: Plaatsen aggregaat en aansluiten | H38: 80 | I38: uur | J38: 85 | L38: =H38*J38 -> 6800 | M38: =A38*L38 -> 6800
A39: 1 | B39: Afstellen / inregelen bewegingswerken | H39: 40 | I39: uur | J39: 75 | L39: =H39*J39 -> 3000 | M39: =A39*L39 -> 3000
A40: 2 | B40: Kraanassistentie | H40: 8 | I40: uur | J40: 190 | L40: =H40*J40 -> 1520 | M40: =A40*L40 -> 3040
A41: 2 | B41: Plaatsen hoofdlagers | H41: 16 | I41: uur | J41: 75 | L41: =H41*J41 -> 1200 | M41: =A41*L41 -> 2400
A42: 1 | B42: Kraanassistentie lagers val | H42: 8 | I42: uur | J42: 190 | L42: =H42*J42 -> 1520 | M42: =A42*L42 -> 1520
B43: Inbedrijfstelling | N43: =SUM(M44:M47) -> 7950
...

Sheet Variant 0 en A+ W
A1: Project | C1: : Kadoelerbrug
A2: Klant | C2: :
A3: Projectnummer | C3: :
A4: Datum | C4: : 07-04-2020
A5: Gemaakt door | C5: : J.G.A. Bitter
A6: Revisie | C6: : 0
A7: Onderwerp | C7: : Variant 0 en A
A8: Onderdeel | C8: : Werktuigbouwkundige installatie
A9: Situatie | C9: : Klapbrug met cilinder opbouw aggregaat
A11: Aantal | B11: Onderdeel | H11: Aantal | I11: Eenh | J11: Per stuk | L11: Totaal | M11: Groeptotaal | N11: Projecttotaal
B13: Voorbereiding aandrijvingen | N13: =SUM(M14:M16) -> 19200
A14: 1 | B14: Projectleiding | H14: 120 | I14: uur | J14: 100 | L14: =H14*J14 -> 12000 | M14: =A14*L14 -> 12000
A15: 0 | B15: Engineering | H15: =2*4*40 -> 320 | I15: uur | J15: 90 | L15: =H15*J15 -> 28800 | M15: =A15*L15 -> 0
A16: 1 | B16: Einddocumentatie | H16: 80 | I16: uur | J16: 90 | L16: =H16*J16 -> 7200 | M16: =A16*L16 -> 7200
B18: Leveringen Aandrijvingen brug incl. lagers val | N18: =SUM(M19:M29) -> 260000
A19: 0 | B19: Aggregaat | L19: 50000 | M19: =A19*L19 -> 0
A20: 2 | B20: Cilinder met toebehoren en opbouw aggregaat EHA compleet opgave Rexroth | L20: 130000 | M20: =A20*L20 -> 260000
A21: 0 | B21: Leidingwerk | L21: 15000 | M21: =A21*L21 -> 0
A22: 0 | B22: Behuizing aggregaat | L22: 5000 | M22: =A22*L22 -> 0
A23: 0 | B23: Opvangbak olie | L23: 3000 | M23: =A23*L23 -> 0
A24: 0 | B24: Opvangbak cilinder olie | L24: 1000 | M24: =A24*L24 -> 0
A25: 0 | B25: Bevestigingsmiddelen en overige | L25: 1000 | M25: =A25*L25 -> 0
A26: 0 | B26: Kosten verpakking en bescherming leverancier richting bouwplaats | L26: 2000 | M26: =A26*L26 -> 0
A27: 0 | B27: Hydrouliek olie | L27: 5000 | M27: =A27*L27 -> 0
A28: 0 | B28: Montagegereedschappen | L28: 5000 | M28: =A28*L28 -> 0
A29: 0 | B29: Leveren onderstoel, lagerstoel en lager val | L29: 15000 | M29: =A29*L29 -> 0
B30: Demontage en uitruimen aandrijfkelder | N30: =SUM(M31:M34) -> 5760
A31: 1 | B31: Monteurs demontage | H31: 40 | I31: uur | J31: 75 | L31: =H31*J31 -> 3000 | M31: =A31*L31 -> 3000
A32: 1 | B32: Huur kraan/reachtruck tbv. Verwijderen aandrijfcomponenten | H32: 1 | I32: dag | J32: 1000 | L32: =H32*J32 -> 1000 | M32: =A32*L32 -> 1000
A33: 1 | B33: Vrachtwagen afvoer machinewerken | H33: 8 | I33: uur | J33: 70 | L33: =H33*J33 -> 560 | M33: =A33*L33 -> 560
A34: 1 | B34: Uitruimen kelders bewegingswerk, verwijderen ankers | H34: 16 | I34: uur | J34: 75 | L34: =H34*J34 -> 1200 | M34: =A34*L34 -> 1200
B35: Montage bewegingswerken | N35: =SUM(M36:M42) -> 14760
A36: 2 | B36: Stellen lagerstoelen cilinder | H36: 16 | I36: uur | J36: 75 | L36: =H36*J36 -> 1200 | M36: =A36*L36 -> 2400
A37: 2 | B37: Plaatsing cilinder | H37: 16 | I37: uur | J37: 75 | L37: =H37*J37 -> 1200 | M37: =A37*L37 -> 2400
A38: 0 | B38: Plaatsen aggregaat en aansluiten | H38: 80 | I38: uur | J38: 85 | L38: =H38*J38 -> 6800 | M38: =A38*L38 -> 0
A39: 1 | B39: Afstellen / inregelen bewegingswerken | H39: 40 | I39: uur | J39: 75 | L39: =H39*J39 -> 3000 | M39: =A39*L39 -> 3000
A40: 2 | B40: Kraanassistentie | H40: 8 | I40: uur | J40: 190 | L40: =H40*J40 -> 1520 | M40: =A40*L40 -> 3040
A41: 2 | B41: Plaatsen hoofdlagers | H41: 16 | I41: uur | J41: 75 | L41: =H41*J41 -> 1200 | M41: =A41*L41 -> 2400
A42: 1 | B42: Kraanassistentie lagers val | H42: 8 | I42: uur | J42: 190 | L42: =H42*J42 -> 1520 | M42: =A42*L42 -> 1520
B43: Inbedrijfstelling | N43: =SUM(M44:M47) -> 7950
...

Sheet Variant 0 en A+ E
A1: Project | C1: : Kadoelerbrug
A2: Klant | C2: :
A3: Projectnummer | C3: :
A4: Datum | C4: : 07-04-2020
A5: Gemaakt door | C5: : J.G.A. Bitter
A6: Revisie | C6: : 0
A7: Onderwerp | C7: : Variant 0 en A
A8: Onderdeel | C8: : Elektrotechnische installatie
A9: Situatie | C9: : Klapbrug met cilinder opbouw aggregaat
A11: Aantal | B11: Onderdeel | H11: Aantal | I11: Eenh | J11: Per stuk | L11: Totaal | M11: Groeptotaal | N11: Projecttotaal
B13: Voorbereiding aandrijvingen | N13: =SUM(M14:M16) -> 26400
A14: 1 | B14: Projectleiding | H14: 120 | I14: uur | J14: 100 | L14: =H14*J14 -> 12000 | M14: =A14*L14 -> 12000
A15: 0.5 | B15: Engineering | H15: 160 | I15: uur | J15: 90 | L15: =H15*J15 -> 14400 | M15: =A15*L15 -> 7200
A16: 1 | B16: Einddocumentatie | H16: 80 | I16: uur | J16: 90 | L16: =H16*J16 -> 7200 | M16: =A16*L16 -> 7200
B18: Voeding | N18: =SUM(M19:M21) -> 5000
A19: 1 | B19: Voeding energiebedrijf | L19: 1500 | M19: =A19*L19 -> 1500
A20: 1 | B20: Hoofdverdeelinrichting | L20: 2500 | M20: =A20*L20 -> 2500
A21: 1 | B21: Plaatsen en aansluiten | L21: 1000 | M21: =A21*L21 -> 1000
B23: Besturingkast | N23: =SUM(M24:M26) -> 55000
A24: 1 | B24: Besturingskast | H24: 1 | J24: 20000 | L24: =H24*J24 -> 20000 | M24: =A24*L24 -> 20000
A25: 1 | B25: PLC/Software/display/encoder | E25: Rexroth | H25: 1 | J25: 35000 | L25: =H25*J25 -> 35000 | M25: =A25*L25 -> 35000
A26: 0 | B26: FO | H26: 1 | J26: 6000 | L26: =H26*J26 -> 6000 | M26: =A26*L26 -> 0
A27: 0 | B27: Montage ter plaatse | H27: 80 | I27: uur | J27: 75 | L27: =H27*J27 -> 6000 | M27: =A27*L27 -> 0
B28: Afsluitboomkasten | N28: =SUM(M29:M29) -> 74000
A29: 2 | B29: Plaatsen twee afsluitbomen NMA BAS-II | H29: 1 | I29: st | J29: 37000 | L29: =H29*J29 -> 37000 | M29: =A29*L29 -> 74000
B30: Inbedrijfstelling | N30: =SUM(M31:M33) -> 1950
A31: 1 | B31: FAT en SAT test | H31: 16 | I31: uur | J31: 75 | L31: =H31*J31 -> 1200 | M31: =A31*L31 -> 1200
A32: 1 | B32: Inbedrijfstelling | H32: 2 | I32: uur | J32: 75 | L32: =H32*J32 -> 150 | M32: =A32*L32 -> 150
A33: 1 | B33: Oplevering | H33: 8 | I33: uur | J33: 75 | L33: =H33*J33 -> 600 | M33: =A33*L33 -> 600
B34: Kostprijs aannemer | M34: =SUM(M13:M33) -> 162350 | N34: =SUM(N13:N33) -> 162350
B36: Prijspeil juni 2019
B38: Onvoorzien en algemeen | N38: =SUM(M39:M41) -> 64940
B39: Onvoorziene kosten | K39: 0.1 | L39: =M34 -> 162350 | M39: =K39*L39 -> 16235
B40: Algemene kosten | K40: 0.15 | L40: =M34 -> 162350 | M40: =K40*L40 -> 24352.5
B41: Winst en risico | K41: 0.15 | L41: =M34 -> 162350 | M41: =K41*L41 -> 24352.5
B43: Inschrijfsom aannemer | M43: =SUM(M34:M42) -> 227290 | N43: =SUM(N34:N42) -> 227290
B44: BTW | K44: 0.21 | L44: =M43 -> 227290 | M44: =K44*L44 -> 47730.9 | N44: =M44 -> 47730.9
B46: Totaalprijs inclusief B.T.W. | M46: =SUM(M43:M45) -> 275020.9 | N46: =SUM(N43:N45) -> 275020.9

Sheet Variant 0 en A++ W
A1: Project | C1: : Kadoelerbrug
A2: Klant | C2: :
A3: Projectnummer | C3: :
A4: Datum | C4: : 07-04-2020
A5: Gemaakt door | C5: : J.G.A. Bitter
A6: Revisie | C6: : 0
A7: Onderwerp | C7: : Variant 0 en A
A8: Onderdeel | C8: : Werktuigbouwkundige installatie
A9: Situatie | C9: : Klapbrug met cilinder opbouw aggregaat buffersystem
A11: Aantal | B11: Onderdeel | H11: Aantal | I11: Eenh | J11: Per stuk | L11: Totaal | M11: Groeptotaal | N11: Projecttotaal
B13: Voorbereiding aandrijvingen | N13: =SUM(M14:M16) -> 19200
A14: 1 | B14: Projectleiding | H14: 120 | I14: uur | J14: 100 | L14: =H14*J14 -> 12000 | M14: =A14*L14 -> 12000
A15: 0 | B15: Engineering | H15: =2*4*40 -> 320 | I15: uur | J15: 90 | L15: =H15*J15 -> 28800 | M15: =A15*L15 -> 0
A16: 1 | B16: Einddocumentatie | H16: 80 | I16: uur | J16: 90 | L16: =H16*J16 -> 7200 | M16: =A16*L16 -> 7200
B18: Leveringen Aandrijvingen brug incl. lagers val | N18: =SUM(M19:M29) -> 460000
A19: 0 | B19: Aggregaat | L19: 50000 | M19: =A19*L19 -> 0
A20: 2 | B20: Cilinder met toebehoren en opbouw aggregaat EHA-C1 compleet opgave Rexroth | L20: 230000 | M20: =A20*L20 -> 460000
A21: 0 | B21: Leidingwerk | L21: 15000 | M21: =A21*L21 -> 0
A22: 0 | B22: Behuizing aggregaat | L22: 5000 | M22: =A22*L22 -> 0
A23: 0 | B23: Opvangbak olie | L23: 3000 | M23: =A23*L23 -> 0
A24: 0 | B24: Opvangbak cilinder olie | L24: 1000 | M24: =A24*L24 -> 0
A25: 0 | B25: Bevestigingsmiddelen en overige | L25: 1000 | M25: =A25*L25 -> 0
A26: 0 | B26: Kosten verpakking en bescherming leverancier richting bouwplaats | L26: 2000 | M26: =A26*L26 -> 0
A27: 0 | B27: Hydrouliek olie | L27: 5000 | M27: =A27*L27 -> 0
A28: 0 | B28: Montagegereedschappen | L28: 5000 | M28: =A28*L28 -> 0
A29: 0 | B29: Leveren onderstoel, lagerstoel en lager val | L29: 15000 | M29: =A29*L29 -> 0
B30: Demontage en uitruimen aandrijfkelder | N30: =SUM(M31:M34) -> 5760
A31: 1 | B31: Monteurs demontage | H31: 40 | I31: uur | J31: 75 | L31: =H31*J31 -> 3000 | M31: =A31*L31 -> 3000
A32: 1 | B32: Huur kraan/reachtruck tbv. Verwijderen aandrijfcomponenten | H32: 1 | I32: dag | J32: 1000 | L32: =H32*J32 -> 1000 | M32: =A32*L32 -> 1000
A33: 1 | B33: Vrachtwagen afvoer machinewerken | H33: 8 | I33: uur | J33: 70 | L33: =H33*J33 -> 560 | M33: =A33*L33 -> 560
A34: 1 | B34: Uitruimen kelders bewegingswerk, verwijderen ankers | H34: 16 | I34: uur | J34: 75 | L34: =H34*J34 -> 1200 | M34: =A34*L34 -> 1200
B35: Montage bewegingswerken | N35: =SUM(M36:M42) -> 14760
A36: 2 | B36: Stellen lagerstoelen cilinder | H36: 16 | I36: uur | J36: 75 | L36: =H36*J36 -> 1200 | M36: =A36*L36 -> 2400
A37: 2 | B37: Plaatsing cilinder | H37: 16 | I37: uur | J37: 75 | L37: =H37*J37 -> 1200 | M37: =A37*L37 -> 2400
A38: 0 | B38: Plaatsen aggregaat en aansluiten | H38: 80 | I38: uur | J38: 85 | L38: =H38*J38 -> 6800 | M38: =A38*L38 -> 0
A39: 1 | B39: Afstellen / inregelen bewegingswerken | H39: 40 | I39: uur | J39: 75 | L39: =H39*J39 -> 3000 | M39: =A39*L39 -> 3000
A40: 2 | B40: Kraanassistentie | H40: 8 | I40: uur | J40: 190 | L40: =H40*J40 -> 1520 | M40: =A40*L40 -> 3040
A41: 2 | B41: Plaatsen hoofdlagers | H41: 16 | I41: uur | J41: 75 | L41: =H41*J41 -> 1200 | M41: =A41*L41 -> 2400
A42: 1 | B42: Kraanassistentie lagers val | H42: 8 | I42: uur | J42: 190 | L42: =H42*J42 -> 1520 | M42: =A42*L42 -> 1520
B43: Inbedrijfstelling | N43: =SUM(M44:M47) -> 7950
...

Sheet Variant 0 en A++ E 
A1: Project | C1: : Kadoelerbrug
A2: Klant | C2: :
A3: Projectnummer | C3: :
A4: Datum | C4: : 07-04-2020
A5: Gemaakt door | C5: : J.G.A. Bitter
A6: Revisie | C6: : 0
A7: Onderwerp | C7: : Variant 0 en A
A8: Onderdeel | C8: : Elektrotechnische installatie
A9: Situatie | C9: : Klapbrug met cilinder opbouw aggregaat buffersystem
A11: Aantal | B11: Onderdeel | H11: Aantal | I11: Eenh | J11: Per stuk | L11: Totaal | M11: Groeptotaal | N11: Projecttotaal
B13: Voorbereiding aandrijvingen | N13: =SUM(M14:M16) -> 26400
A14: 1 | B14: Projectleiding | H14: 120 | I14: uur | J14: 100 | L14: =H14*J14 -> 12000 | M14: =A14*L14 -> 12000
A15: 0.5 | B15: Engineering | H15: 160 | I15: uur | J15: 90 | L15: =H15*J15 -> 14400 | M15: =A15*L15 -> 7200
A16: 1 | B16: Einddocumentatie | H16: 80 | I16: uur | J16: 90 | L16: =H16*J16 -> 7200 | M16: =A16*L16 -> 7200
B18: Voeding | N18: =SUM(M19:M21) -> 5000
A19: 1 | B19: Voeding energiebedrijf | L19: 1500 | M19: =A19*L19 -> 1500
A20: 1 | B20: Hoofdverdeelinrichting | L20: 2500 | M20: =A20*L20 -> 2500
A21: 1 | B21: Plaatsen en aansluiten | L21: 1000 | M21: =A21*L21 -> 1000
B23: Besturingkast | N23: =SUM(M24:M26) -> 110000
A24: 1 | B24: Besturingskast | H24: 1 | J24: 20000 | L24: =H24*J24 -> 20000 | M24: =A24*L24 -> 20000
A25: 1 | B25: PLC/Software/display/encoder | E25: Rexroth | H25: 1 | J25: 35000 | L25: 90000 | M25: =A25*L25 -> 90000
A26: 0 | B26: FO | H26: 1 | J26: 6000 | L26: =H26*J26 -> 6000 | M26: =A26*L26 -> 0
A27: 0 | B27: Montage ter plaatse | H27: 80 | I27: uur | J27: 75 | L27: =H27*J27 -> 6000 | M27: =A27*L27 -> 0
B28: Afsluitboomkasten | N28: =SUM(M29:M29) -> 74000
A29: 2 | B29: Plaatsen twee afsluitbomen NMA BAS-II | H29: 1 | I29: st | J29: 37000 | L29: =H29*J29 -> 37000 | M29: =A29*L29 -> 74000
B30: Inbedrijfstelling | N30: =SUM(M31:M33) -> 1950
A31: 1 | B31: FAT en SAT test | H31: 16 | I31: uur | J31: 75 | L31: =H31*J31 -> 1200 | M31: =A31*L31 -> 1200
A32: 1 | B32: Inbedrijfstelling | H32: 2 | I32: uur | J32: 75 | L32: =H32*J32 -> 150 | M32: =A32*L32 -> 150
A33: 1 | B33: Oplevering | H33: 8 | I33: uur | J33: 75 | L33: =H33*J33 -> 600 | M33: =A33*L33 -> 600
B34: Kostprijs aannemer | M34: =SUM(M13:M33) -> 217350 | N34: =SUM(N13:N33) -> 217350
B36: Prijspeil juni 2019
B38: Onvoorzien en algemeen | N38: =SUM(M39:M41) -> 86940
B39: Onvoorziene kosten | K39: 0.1 | L39: =M34 -> 217350 | M39: =K39*L39 -> 21735
B40: Algemene kosten | K40: 0.15 | L40: =M34 -> 217350 | M40: =K40*L40 -> 32602.5
B41: Winst en risico | K41: 0.15 | L41: =M34 -> 217350 | M41: =K41*L41 -> 32602.5
B43: Inschrijfsom aannemer | M43: =SUM(M34:M42) -> 304290 | N43: =SUM(N34:N42) -> 304290
B44: BTW | K44: 0.21 | L44: =M43 -> 304290 | M44: =K44*L44 -> 63900.9 | N44: =M44 -> 63900.9
B46: Totaalprijs inclusief B.T.W. | M46: =SUM(M43:M45) -> 368190.9 | N46: =SUM(N43:N45) -> 368190.9
