Workbook
Name OLE_LINK1: Voorblad!#REF!

Sheet Voorblad
B11: Bijlage G
B12: Invulformulier Tarieven
B14: Behorend bij
B16: Europese aanbesteding
B17: IWR2025|WpWH|MFP NWP
B18: (inclusief optionele Diensten)
B20: ICT Werkomgeving Rijk
B26: Kenmerk | C26: IUC 202405066
B27: Versie | C27: 1.2
B28: Status | C28: Definitief
B33: Naam Inschrijver:
B35: Naam tekenbevoegde:
B37: Functie tekenbevoegde:

Sheet Invulinstructie

Sheet Tarieflijst kernassortiment
B6: Tarief kernassortiment - KOOP
B7: Kernassortiment* | C7: Merk en productnaam | D7: Unieke bestelcode | E7: Q: aantallen | F7: P: Maximale prijs Koop excl. BTW (eenmalig) | I7: Subtotaal: P*Q
B8: MFP-A | E8: 200 | F8: 0 | I8: =E8*F8 -> 0
B9: MFP-B | E9: 1500 | F9: 0 | I9: =E9*F9 -> 0
B10: NWP-A | E10: 100 | F10: 0 | I10: =E10*F10 -> 0
B11: Inschrijfprijs kernassortiment Koop | I11: =SUM(I8:I10) -> 0
B14: Tarief kernassortiment - HUUR
B15: Kernassortiment* | C15: Merk en productnaam | D15: Unieke bestelcode | E15: Q: aantallen | F15: Huur vaste termijn 7 jaar | G15: P: Maximale prijs per maand vaste huurperiode excl. BTW | I15: Subtotaal: P*Q*7 JAAR
B16: MFP-A | E16: 1300 | F16: 84 | G16: 0 | I16: =E16*F16*G16 -> 0
B17: MFP-B | E17: 3000 | F17: 84 | G17: 0 | I17: =E17*F17*G17 -> 0
B18: NWP-A | E18: 900 | F18: 84 | G18: 0 | I18: =E18*F18*G18 -> 0
B19: Inschrijfprijs kernassortiment Huur vaste termijn | I19: =SUM(I16:I18) -> 0
A23: Bijlage G – Invulformulier Tarieven, tabblad Tarieflijst kernassortiment; zie Bijlage 02- Specificatie van de Prestatie

Sheet Huur flex.termijn
A1: IWR2025|WpHW| MFP NWP
A2: Tarief kernassortiment - HUUR
D3: Maximale prijs per maand flexibele huurtermijn excl. BTW
A4: Kernassortiment | B4: Merk en product-naam | C4: Unieke bestel-code | D4: in jaar 8 | E4: in jaar 9 | F4: in jaar 10 | G4: in jaar 11 | H4: in jaar 12
A5: MFP-A | D5: 0 | E5: 0 | F5: 0 | G5: 0 | H5: 0
A6: MFP-B | D6: 0 | E6: 0 | F6: 0 | G6: 0 | H6: 0
A7: NWP-A | D7: 0 | E7: 0 | F7: 0 | G7: 0 | H7: 0
A8: Kernassortiment Huur flexibele termijn
A11: Randvoorwaarden
A12: - Maximale prijs per maand is gelijk of lager dan de aangeboden prijs per maand voor de vaste beheerperiode van 7 jaar
A13: - Inschrijver biedt een prijs/mnd voor de flexibele huurtermijn conform de door u ingevulde Wens 16.3.2 (levensduur)
A14: - Maximale huurtermijn is tot en met augustus 2037
A15: - Indien Deelnemer/ Opdrachtgever gebruikmaakt van de optie tot verlenging (flexibele termijn), gelden bovenstaande maandprijzen
A16: - Bovengenoemde prijzen worden NIET MEEGENOMEN IN DE BEOORDELING.

Sheet Tarieflijst accessoires
A1: IWR2025|WpHW| MFP NWP
A2: Onderstaande aantallen zijn ramingen, Inschrijver kan hieraan geen rechten ontlenen.
A3: Accessoires Koop - optioneel
B4: Aantal | C4: Tarief bij Koop | D4: Totaal Koop
A5: faxkaart MFP-A | B5: 75 | C5: 0 | D5: =B5*C5 -> 0
A6: Invoerlade 500 vel A4 MFP-A | B6: 600 | C6: 0 | D6: =B6*C6 -> 0
A7: Invoerlade 500 vel A4 NWP-A | B7: 400 | C7: 0 | D7: =B7*C7 -> 0
A8: Invoerlade 2000 vel A4 MFP-B | B8: 75 | C8: 0 | D8: =B8*C8 -> 0
A9: Perforeer module MFP-B | B9: 50 | C9: 0 | D9: =B9*C9 -> 0
A10: Boekjesmaker module MFP-B | B10: 25 | C10: 0 | D10: =B10*C10 -> 0
A11: 802.11 wireless connectie tbv NWP-A | B11: 100 | C11: 0 | D11: =B11*C11 -> 0
A12: Enveloppen module MFP-B | B12: 1 | C12: 0 | D12: =B12*C12 -> 0
A13: V&Z vouw module MFP-B | B13: 1 | C13: 0 | D13: =B13*C13 -> 0
A14: Grafische kleurencontroller MFP-B | B14: 1 | C14: 0 | D14: =B14*C14 -> 0
A15: Totale inschrijfprijs Koop accessoires | D15: =SUM(D5:D11) -> 0
A18: Huur van accessoires is vervallen.

Sheet Tarieflijst aanv.prod.
A1: IWR2025|WpHW| MFP NWP
A2: Tarief aanvullende Producten - OPTIE
B3: Aantal | C3: Prijs per stuk | D3: Totaal
A4: SSD/ HDD/ Interne opslag | B4: 500 | C4: 0 | D4: =B4*C4 -> 0
A5: Rijkspas kaartlezer | B5: 6000 | C5: 0 | D5: =B5*C5 -> 0
A8: Randvoorwaarden
A9: - Bovengenoemde prijzen worden NIET MEEGENOMEN IN DE BEOORDELING.

Sheet Tarieflijst Diensten
A1: IWR2025|WpHW| MFP NWP o.b.v. fictieve aantallen
A3: 1. Verbruik (Koop/ Huur)
A4: Afdruktype | C4: kleur als zw/w te verrekenen (%) | D4: Volume per maand | E4: Tarief per afdruk (€) in 4 decimalen | F4: aantal maanden
A5: Zwart/wit | D5: 11000000 | E5: 0 | F5: 84 | G5: =D5*E5*F5 -> 0
A6: % kleur dat als zwart/wit afdruk wordt berekend | D6: %
A7: Kleur | D7: 8200000 | E7: 0 | F7: 84 | G7: =D7*E7*F7 -> 0
A8: Totaal | G8: =SUM(G5:G7) -> 0
A10: 2. Dienst all-in onderhoud aangepaste tijden afhandeling incidenten (Huur)
A11: Dienst | D11: Aantal | E11: Opslagtarief per maand | F11: aantal maanden
A12: Incidentafhandeling gedurende werktijd 06:00 - 08:00 op Werkdagen | D12: 600 | E12: 0 | F12: 84 | G12: =D12*E12*F12 -> 0
A13: Incidentafhandeling gedurende werktijd 17:00 - 19:00 op Werkdagen | D13: 750 | E13: 0 | F13: 84 | G13: =D13*E13*F13 -> 0
A14: Incidentafhandeling gedurende werktijd 19:00 - 24:00 op Werkdagen | D14: 100 | E14: 0 | F14: 84 | G14: =D14*E14*F14 -> 0
A15: Incidentafhandeling gedurende werktijd 00:00 - 06:00 op Werkdagen | D15: 100 | E15: 0 | F15: 84 | G15: =D15*E15*F15 -> 0
A16: Incidentafhandeling gedurende werktijd 08:00 - 17:00 op zaterdagen | D16: 100 | E16: 0 | F16: 84 | G16: =D16*E16*F16 -> 0
A17: Incidentafhandeling gedurende werktijd 08:00 - 17:00 op zon- en feestdagen | D17: 100 | E17: 0 | F17: 84 | G17: =D17*E17*F17 -> 0
A18: Oplostijd incidentafhandeling binnen 6 Werkuren (alleen in combinatie met fleet management en incidentafhandeling) | D18: 400 | E18: 0 | F18: 84 | G18: =D18*E18*F18 -> 0
A19: Totaal | G19: =SUM(G12:G18) -> 0
A21: 3. Dienst verhuizingen
A22: Dienst | D22: Aantal | E22: Tarief per verhuizing
A23: Externe verhuizing tussen Locaties | D23: 1800 | E23: 0 | G23: =D23*E23 -> 0
A24: Interne verhuizing binnen Locatie | D24: 2300 | E24: 0 | G24: =D24*E24 -> 0
A25: Totaal | G25: =SUM(G23:G24) -> 0
A27: OPTIONELE DIENST
A28: 4A. Fleet management werkzaamheden (Koop/ Huur)
A29: Periodiek reinigen
A30: Opnemen tellerstanden
A31: Bijvullen, vervangen en afvoeren van Product verbruiksartikelen
A32: Bijvullen afdrukmedia
A33: Interne verhuizingen
A34: Voorraadbeheer verbruiksartikelen
A35: Voorraadbeheer afdrukmedia
A36: Incidentafhandeling
A37: Product monitoring | D37: Fictief aantal uren per jaar | G37: Fictieve kosten per jaar
A38: Uurtarief excl. BTW Fleetmanagement | C38: 0 | D38: 17100 | G38: =C38*D38 -> 0
A40: 4B. Toeslag buiten standaard tijd bij fleetmanagement (Werkdagen 08:00 - 17:00 uur) (Koop/ Huur) | B40: Fictief aantal uren | C40: Toeslag op uurtarief fleetmgt. (%) | D40: Toeslag op Uurtarief (EUR) | E40: Aantal uren | F40: Aantal maanden | G40: Totaal
A41: Tijdsperiode
A42: Werktijd 06:00 - 08:00 op Werkdagen | B42: 600 | C42: 0 | D42: =$C$38 -> 0 | E42: 2 | F42: 84 | G42: =B42*C42*D42*E42*F42 -> 0
A43: Werktijd 17:00 - 19:00 op Werkdagen | B43: 750 | C43: 0 | D43: =$C$38 -> 0 | E43: 2 | F43: 84 | G43: =B43*C43*D43*E43*F43 -> 0
A44: Werktijd 19:00 - 24:00 op Werkdagen | B44: 100 | C44: 0 | D44: =$C$38 -> 0 | E44: 5 | F44: 84 | G44: =B44*C44*D44*E44*F44 -> 0
A45: Werktijd 00:00 - 06:00 op Werkdagen | B45: 100 | C45: 0 | D45: =$C$38 -> 0 | E45: 6 | F45: 84 | G45: =B45*C45*D45*E45*F45 -> 0
A46: Werktijd 08:00 - 17:00 op zaterdagen | B46: 100 | C46: 0 | D46: =$C$38 -> 0 | E46: 9 | F46: 84 | G46: =B46*C46*D46*E46*F46 -> 0
A47: Werktijd 08:00 - 17:00 op zon- en feestdagen | B47: 50 | C47: 0 | D47: =$C$38 -> 0 | E47: 9 | F47: 84 | G47: =B47*C47*D47*E47*F47 -> 0
A48: Subtotaal | G48: =SUM(G42:G47) -> 0

Sheet Totale inschrijfprijs
A1: IWR2025|WpHW| MFP NWP
A3: Overzicht totale fictieve inschrijfprijs
A4: Omschrijving onderdeel
A5: Kernassortiment - Koop | B5: ='Tarieflijst kernassortiment'!I11 -> 0
A6: Kernassortiment - Huur | B6: ='Tarieflijst kernassortiment'!I19 -> 0
A7: Accessoires - Koop | B7: ='Tarieflijst accessoires'!D15 -> 0
A8: Verbruik (clicks/afdrukken) | B8: ='Tarieflijst Diensten'!G8 -> 0
A9: Dienst all-in aangepaste tijden afhandeling incidenten | B9: ='Tarieflijst Diensten'!G19 -> 0
A10: Dienst verhuizingen | B10: ='Tarieflijst Diensten'!G25 -> 0
A11: Fleet management | B11: ='Tarieflijst Diensten'!G38 -> 0
A12: Toeslag buiten standaard tijd bij fleetmanagement | B12: ='Tarieflijst Diensten'!G48 -> 0
A13: Totale fictieve Inschrijfprijs | B13: =SUM(B5:B12) -> 0
