Workbook
Name OLE_LINK1: Voorblad!#REF!

Sheet Voorblad
B11: Bijlage G
B12: Invulformulier Tarieven
B14: Behorend bij
B16: Europese aanbesteding
B17: IWR2025|WpWH|MFP NWP
B18: (inclusief optionele Diensten)
B20: ICT Werkomgeving Rijk
B26: Kenmerk | C26: IUC 202405066
B27: Versie | C27: 0.1
B28: Status | C28: Concept
B33: Naam Inschrijver:
B35: Naam tekenbevoegde
B37: Functie tekenbeveogde

Sheet Invulinstructie

Sheet Tarieflijst kernassortiment
B7: Tarief kernassortiment
B8: Kernassortiment* | C8: Merk en productnaam | D8: Unieke bestelcode | E8: Q: aantallen | F8: P: Maximale prijs Koop excl. BTW (eenmalig) | I8: Subtotaal: P*Q
B9: MFP-A | E9: 200 | F9: 0 | I9: =E9*F9 -> 0
B10: MFP-B | E10: 1500 | F10: 0 | I10: =E10*F10 -> 0
B11: NWP-A | E11: 100 | F11: 0 | I11: =E11*F11 -> 0
B12: Inschrijfprijs kernassortiment Koop | I12: =SUM(I9:I11) -> 0
B14: Tarief kernassortiment
B15: Kernassortiment* | C15: Merk en productnaam | D15: Unieke bestelcode | E15: Q: aantallen | F15: Huur vaste termijn 4 jaar | G15: P: Maximale prijs per maand vaste huurperiode excl. BTW | I15: Subtotaal: P*Q*4
B16: MFP-A | E16: 1300 | F16: 48 | I16: =E16*F16*G16 -> 0
B17: MFP-B | E17: 3000 | F17: 48 | I17: =E17*F17*G17 -> 0
B18: NWP-A | E18: 900 | F18: 48 | I18: =E18*F18*G18 -> 0
B19: Inschrijfprijs kernassortiment Huur vaste termijn | I19: =SUM(I16:I18) -> 0
B22: Tarief kernassortiment
B23: Kernassortiment* | C23: Merk en productnaam | D23: Unieke bestelcode | E23: Q: aantallen | F23: Huur flexibele termijn 3 jaar | H23: P: Maximale prijs per maand flexibele huurperiode excl. BTW | I23: Subtotaal: P*Q*3
B24: MFP-A | E24: 1300 | F24: 36 | I24: =E24*F268 -> 0
B25: MFP-B | E25: 3000 | F25: 36 | I25: =E25*F269 -> 0
B26: NWP-A | E26: 900 | F26: 36 | I26: =E26*F270 -> 0
B27: Inschrijfprijs kernassortiment Huur flexibele termijn | I27: =SUM(I24:I26) -> 0
B29: Totale Inschrijfprijs kernassortiment | I29: =I12+I19+I27 -> 0
A31: Bijlage G – Invulformulier Tarieven, tabblad Tarieflijst kernassortiment
A32: * zie Bijlage 2- Specificatie van de Prestatie

Sheet Tarieflijst accessoires
A1: IWR2025|WpHW| MFP NWP
A3: Accessoires Koop - optioneel
B4: Aantal | C4: Tarief bij Koop | D4: Totaal Koop
A5: faxkaart MFP-A | B5: 75 | C5: 0 | D5: =B5*C5 -> 0
A6: Invoerlade 500 vel A4 MFP-A | B6: 600 | C6: 0 | D6: =B6*C6 -> 0
A7: Invoerlade 500 vel A4 NWP-A | B7: 600 | C7: 0 | D7: =B7*C7 -> 0
A8: Invoerlade 2000 vel A4 NWP-B | B8: 75 | C8: 0 | D8: =B8*C8 -> 0
A9: Perforeer module NWP-B | B9: 50 | C9: 0 | D9: =B9*C9 -> 0
A10: Boekjesmaker module NWP-B | B10: 25 | C10: 0 | D10: =B10*C10 -> 0
A11: Enveloppen module NWP-B | B11: 1 | C11: 0 | D11: =B11*C11 -> 0
A12: V&Z vouw module NWP-B | B12: 1 | C12: 0 | D12: =B12*C12 -> 0
A13: Grafische kleurencontroller NWP-B | B13: 1 | C13: 0 | D13: =B13*C13 -> 0
A14: 802.11 wireless connectie tbv NWP-A | B14: 120 | C14: 0 | D14: =B14*C14 -> 0
A15: Totale inschrijfprijs Koop accessoires | D15: =SUM(D5:D14) -> 0
A17: Accessoires Huur - optioneel
B18: Aantal | C18: Tarief per maand vaste huurtermijn | D18: Aantal maanden vaste huurtermijn | E18: Totaal vaste huurtermijn | F18: Tarief per maand flexibele huurtermijn | G18: Aantal maanden flexibele huurtermijn | H18: Totaal flexibele huurtermijn | I18: Totaal
A19: faxkaart MFP-A | B19: 250 | C19: 0 | D19: 48 | E19: =B19*C19*D19 -> 0 | F19: 0 | G19: 36 | H19: =E19*F19*G19 -> 0 | I19: =E19+H19 -> 0
A20: Invoerlade 500 vel A4 MFP-A | B20: 600 | C20: 0 | D20: 48 | E20: =B20*C20*D20 -> 0 | F20: 0 | G20: 36 | H20: =E20*F20*G20 -> 0 | I20: =E20+H20 -> 0
A21: Invoerlade 500 vel A4 NWP-A | B21: 400 | C21: 0 | D21: 48 | E21: =B21*C21*D21 -> 0 | F21: 0 | G21: 36 | H21: =E21*F21*G21 -> 0 | I21: =E21+H21 -> 0
A22: Invoerlade 2000 vel A4 NWP-B | B22: 75 | C22: 0 | D22: 48 | E22: =B22*C22*D22 -> 0 | F22: 0 | G22: 36 | H22: =E22*F22*G22 -> 0 | I22: =E22+H22 -> 0
A23: Perforeer module NWP-B | B23: 1000 | C23: 0 | D23: 48 | E23: =B23*C23*D23 -> 0 | F23: 0 | G23: 36 | H23: =E23*F23*G23 -> 0 | I23: =E23+H23 -> 0
A24: Boekjesmaker module NWP-B | B24: 25 | C24: 0 | D24: 48 | E24: =B24*C24*D24 -> 0 | F24: 0 | G24: 36 | H24: =E24*F24*G24 -> 0 | I24: =E24+H24 -> 0
A25: Enveloppen module NWP-B | B25: 75 | C25: 0 | D25: 48 | E25: =B25*C25*D25 -> 0 | F25: 0 | G25: 36 | H25: =E25*F25*G25 -> 0 | I25: =E25+H25 -> 0
A26: V&Z vouw module NWP-B | B26: 10 | C26: 0 | D26: 48 | E26: =B26*C26*D26 -> 0 | F26: 0 | G26: 36 | H26: =E26*F26*G26 -> 0 | I26: =E26+H26 -> 0
A27: Grafische kleurencontroller NWP-B | B27: 75 | C27: 0 | D27: 48 | E27: =B27*C27*D27 -> 0 | F27: 0 | G27: 36 | H27: =E27*F27*G27 -> 0 | I27: =E27+H27 -> 0
A28: 802.11 wireless connectie tbv NWP-A | B28: 100 | C28: 0 | D28: 48 | E28: =B28*C28*D28 -> 0 | F28: 0 | G28: 36 | H28: =E28*F28*G28 -> 0 | I28: =E28+H28 -> 0
A29: Totale inschrijfprijs Huur accessoires | E29: =SUM(E19:E28) -> 0 | H29: =SUM(H19:H28) -> 0 | I29: =SUM(I19:I28) -> 0

Sheet Tarieflijst Diensten
A1: IWR2025|WpHW| MFP NWP
A3: Dienst all-in onderhoud standaaard
A4: Afdruktype | B4: kleur als zw/w te verrekenen (%) | C4: Volume per maand | D4: Tarief per afdruk (€) in 4 decimalen | E4: aantal maanden
A5: Zwart/wit | C5: 33850000 | D5: 0 | E5: 84 | F5: =C5*D5*E5 -> 0
A6: % kleur dat als zwart/wit afdruk wordt berekend | C6: %
A7: Kleur | C7: 24800000 | D7: 0 | E7: 84 | F7: =C7*D7*E7 -> 0
A8: Totaal
A10: Dienst all-in onderhoud aangepaste tijden afhandeling incidenten
A11: Dienst | C11: Aantal | D11: Opslagtarief per maand | E11: aantal maanden
A12: Incidentafhandeling gedurende werktijd 06:00 - 08:00 op Werkdagen | C12: 600 | D12: 0 | E12: 84 | F12: =C12*D12*E12 -> 0
A13: Incidentafhandeling gedurende werktijd 17:00 - 19:00 op Werkdagen | C13: 750 | D13: 0 | E13: 84 | F13: =C13*D13*E13 -> 0
A14: Incidentafhandeling gedurende werktijd 19:00 - 24:00 op Werkdagen | C14: 100 | D14: 0 | E14: 84 | F14: =C14*D14*E14 -> 0
A15: Incidentafhandeling gedurende werktijd 00:00 - 06:00 op Werkdagen | C15: 100 | D15: 0 | E15: 84 | F15: =C15*D15*E15 -> 0
A16: Incidentafhandeling gedurende werktijd 08:00 - 17:00 op zaterdagen | C16: 100 | D16: 0 | E16: 84 | F16: =C16*D16*E16 -> 0
A17: Incidentafhandeling gedurende werktijd 08:00 - 17:00 op zon- en feestdagen | C17: 100 | D17: 0 | E17: 84 | F17: =C17*D17*E17 -> 0
A18: Oplostijd incidentafhandeling binnen 6 Werkuren (alleen in combinatie met fleet management en incidentafhandeling) | C18: 400 | D18: 0 | E18: 84 | F18: =C18*D18*E18 -> 0
A19: Totaal | F19: =SUM(F12:F18) -> 0
A22: Dienst verhuizingen
A23: Dienst | C23: Aantal | D23: Tarief per verhuizing
A24: Externe verhuizing tussen Locaties | C24: 1800 | D24: 0 | F24: =C24*D24 -> 0
A25: Interne verhuizing binnen Locatie | C25: 2300 | D25: 0 | F25: =C25*D25 -> 0
A26: Totaal
A28: OPTIONELE DIENST
A29: Fleet management werkzaamheden
A30: Periodiek reinigen
A31: Opnemen tellerstanden
A32: Bijvullen, vervangen en afvoeren van Product verbruiksartikelen
A33: Bijvullen afdrukmedia
A34: Interne verhuizingen
A35: Voorraadbeheer verbruiksartikelen
A36: Voorraadbeheer afdrukmedia
A37: Incidentafhandeling
A38: Product monitoring | C38: Fictief aantal uren per jaar | F38: Fictieve kosten per jaar
A39: Uurtarief excl. BTW Fleetmanagement | B39: 0 | C39: 17100 | F39: =B39*C39 -> 0
A41: Toeslag buiten standaard tijd (Werkdagen 08:00 - 17:00 uur)
A42: Tijdsperiode | B42: Fictief aantal Producten | C42: Toeslag op uurtarief (EUR) | D42: Aantal uren | E42: Aantal maanden | F42: Totaal
A43: Werktijd 06:00 - 08:00 op Werkdagen | B43: 600 | C43: 0 | D43: 2 | E43: 84 | F43: =B43*C43*D43*E43 -> 0
A44: Werktijd 17:00 - 19:00 op Werkdagen | B44: 750 | C44: 0 | D44: 2 | E44: 84 | F44: =B44*C44*D44*E44 -> 0
A45: Werktijd 19:00 - 24:00 op Werkdagen | B45: 100 | C45: 0 | D45: 5 | E45: 84 | F45: =B45*C45*D45*E45 -> 0
A46: Werktijd 00:00 - 06:00 op Werkdagen | B46: 100 | C46: 0 | D46: 6 | E46: 84 | F46: =B46*C46*D46*E46 -> 0
...

Sheet Totale inschrijfprijs
A1: IWR2025|WpHW| MFP NWP
A3: Overzicht totale inschrijfprijs
A4: Omschrijving onderdeel
A5: Kernassortiment | B5: ='Tarieflijst kernassortiment'!I29 -> 0
A6: Accessoires Koop | B6: ='Tarieflijst accessoires'!D15 -> 0
A7: Accessoires Huur | B7: ='Tarieflijst accessoires'!I29 -> 0
A8: Fleet management | B8: ='Tarieflijst Diensten'!F39 -> 0
A9: Dienst all-in standaard | B9: ='Tarieflijst Diensten'!F8 -> 0
A10: Dienst all-in aangepaste tijden afhandeling incidenten | B10: ='Tarieflijst Diensten'!F19 -> 0
A11: Toeslag buiten standaard tijd | B11: ='Tarieflijst Diensten'!F49 -> 0
A12: Dienst verhuizingen | B12: ='Tarieflijst Diensten'!F26 -> 0
A13: Totale fictieve Inschrijfprijs | B13: =SUM(B5:B12) -> 0
