Workbook
Name _ftnref1: '2026'!$B$30
Name _ftnref2: '2026'!$B$33

Sheet 2026
B2: Bijlage 4 - Prijzenblad 'Europese Aanbesteding Meerjarenprogramma Bos- en houtstatistiek'
B4: Wijzigingen door Inschrijver aan dit document, anders dan waar staat aangegeven 'in te vullen door Inschrijver', leidt tot terzijdelegging van de Inschrijving.
D6: in te vullen uurtarief door Inschrijver
C8: Bandbreedte uurtarief (excl. btw)*
B9: Rollen | C9: Max | D9: Uurtarief (excl. btw)
B10: Directeur/partner/hoogleraar | C10: 300
B11: Senior | C11: 190
B12: Medior | C12: 160
B13: Junior | C13: 125
B14: Student/assistent/verwerker | C14: 50
C16: Max | D16: Uurtarief (excl. btw)
B17: Projectleider | C17: 220
C19: * Indien een uurtarief is ingevuld hoger dan het maximumuurtarief
C20: wordt uw Inschrijving terzijde gelegd.
D23: in te vullen aantal benodigde uren door Inschrijver / in te vullen activiteiten door Inschrijver / BTW %
D24: Benodigde uren wordt gebaseerd op de omschrijving onder Hoofdstuk 2 en 3 van het Aanbestedingsdocument.
D26: In te vullen activiteit/onderwerp voor het betreffende onderdeel door Inschrijver.
B29: Taken Rollen | C29: Directeur/partner/hoogleraar | D29: Senior | E29: Medior | F29: Junior | G29: Student/assistant/verwerker | H29: Projectleider | I29: Aantal uur per taak
B30: 1. Basis verzamelen en/of verwerken van data:
B31: a. Uitvoeren van één enquête onder bedrijven naar de rondhoutverwerking in Nederland inclusief marktbezoeken die nodig zijn om deze enquête uit te kunnen voeren | I31: =SUM(C31:H31) -> 0
B32: b. Uitvoeren van één enquête naar (houtige) biomassa-inzet uit bos, natuur, landschap en de houtketen inclusief marktbezoeken. Het is aan de Opdrachtnemer om aan te geven hoeveel marktbezoeken nodig zijn | I32: =SUM(C32:H32) -> 0
B33: c. Verwerken, controleren en analyseren van de CBS-handelsstatistieken voor hout, pulp, papier en karton Inclusief uitwisseling en contact onderhouden met CBS | I33: =SUM(C33:H33) -> 0
B34: Totaal aantal uur per rol onderdeel 1. | C34: =SUM(C31:C33) -> 0 | D34: =SUM(D31:D33) -> 0 | E34: =SUM(E31:E33) -> 0 | F34: =SUM(F31:F33) -> 0 | G34: =SUM(G31:G33) -> 0 | H34: =SUM(H31:H33) -> 0 | I34: =SUM(C34:H34) -> 0
B35: Totale kosten per rol (excl. btw) onderdeel 1. | C35: =C34*$D10 -> 0 | D35: =D34*D11 -> 0 | E35: =E34*D12 -> 0 | F35: =F34*D13 -> 0 | G35: =G34*D14 -> 0 | H35: =H34*D17 -> 0 | I35: =SUM(C35:H35) -> 0
B36: 2. Invullen van internationale enquêtes en schrijven van market statements voor zover in de periode van uitvoering aan de orde:
B37: a. Op verzoek van Eurostat en UNECE: invullen van de Joint Forest Sector Questionnaire (JFSQ) over de oogst, productie en handel van hout en houtproducten in Nederland. | I37: =SUM(C37:H37) -> 0
B38: c. Voor het UNECE/FAO Committee on Forests and the Forest Industry (COFFI): opstellen van het Market statement over de bosbouwsector in Nederland en het uitvoeren van de Timber Forecast Questionnaire tevens als input van de COFFI | I38: =SUM(C38:H38) -> 0
B39: f. Uitvoeren European Forestry Accounts (EFA) en Annual Quality Assurance of Environmental Reference Data (OECD-AQA) in samenwerking met het CBS. | I39: =SUM(C39:H39) -> 0
B40: Totaal aantal uur per rol onderdeel 2. | C40: =SUM(C37:C39) -> 0 | D40: =SUM(D37:D39) -> 0 | E40: =SUM(E37:E39) -> 0 | F40: =SUM(F37:F39) -> 0 | G40: =SUM(G37:G39) -> 0 | H40: =SUM(H37:H39) -> 0 | I40: =SUM(C40:H40) -> 0
B41: Totale kosten per rol (excl. btw) onderdeel 3. | C41: =C40*D10 -> 0 | D41: =D40*D11 -> 0 | E41: =E40*D12 -> 0 | F41: =F40*D13 -> 0 | G41: =G40*D14 -> 0 | H41: =H40*D17 -> 0 | I41: =SUM(C41:H41) -> 0
B42: 3. Bijwonen van internationale bijeenkomsten voor overleg over methoden en resultaten uit rapportages, met name van:
B43: b. Het UNECE Committee on Forests and the Forest Industry (COFFI, onderdeel UNECE/FAO). Overleg over dataverzameling en - analyse, beleid en communicatie | I43: =SUM(C43:H43) -> 0
B44: c. Het UNECE Team of Specialists on monitoring sustainable forest management en Team of Specialist on sustainable forest products. Overleg over verbetering van rapportages over de staat van bossen, duurzaam bosbeheer, en de rol van bosbouw in de groene economie | I44: =SUM(C44:H44) -> 0
B45: Totaal aantal uur per rol onderdeel 3. | C45: =SUM(C43:C44) -> 0 | D45: =SUM(D43:D44) -> 0 | E45: =SUM(E43:E44) -> 0 | F45: =SUM(F43:F44) -> 0 | G45: =SUM(G43:G44) -> 0 | H45: =SUM(H43:H44) -> 0 | I45: =SUM(C45:H45) -> 0
B46: Totale kosten per rol (excl. btw) onderdeel 3. | C46: =C45*D10 -> 0 | D46: =D45*D11 -> 0 | E46: =E45*D12 -> 0 | F46: =F45*D13 -> 0 | G46: =G45*D14 -> 0 | H46: =H45*D17 -> 0 | I46: =SUM(C46:H46) -> 0
B47: 4. Nationaal terugkoppelen van resultaten:
B48: a. Berekenen en publiceren van de Nederlandse houtbalans, volgens specificaties van het Planbureau voor de Leefomgeving, om het overheidsbeleid te kunnen toetsen en de Nederlandse voetafdruk te bepalen | I48: =SUM(C48:H48) -> 0
B49: b. Organiseren van een stakeholderbijeenkomst over recente resultaten uit het project Bos- en houtstatistieken en wensen met betrekking tot de informatievoorziening hierover | I49: =SUM(C49:H49) -> 0
B50: c. Schrijven van enkele artikelen in relevante vakbladen over trends in de bos- en houtketen op basis van het project Bos- en Houtstatistieken | I50: =SUM(C50:H50) -> 0
B51: d. Opstellen van het stroomschema voor de Nederlandse houtketen (oogst, import, verwerking, export en toepassing van hout en houtige biomassa) in Nederland | I51: =SUM(C51:H51) -> 0
B52: e. Publiek toegankelijk beschikbaar stellen van kengetallen over het Nederlandse bos, bosgebruik en de bos- en houtketen, bijvoorbeeld op de eigen website | I52: =SUM(C52:H52) -> 0
B53: f. Bijhouden en beheren van het archief van de Nederlandse bos- en houtstatistieken | I53: =SUM(C53:H53) -> 0
B54: g. Beschikbaar zijn voor ad-hoc vagen vanuit het ministerie voortkomend uit bijvoorbeeld Kamervragen of Europese vraagstukken met betrekking tot deze opdracht | I54: =SUM(C54:H54) -> 0
B55: Totaal aantal uur per rol onderdeel 4. | C55: =SUM(C48:C54) -> 0 | D55: =SUM(D48:D54) -> 0 | E55: =SUM(E48:E54) -> 0 | F55: =SUM(F48:F54) -> 0 | G55: =SUM(G48:G54) -> 0 | H55: =SUM(H48:H54) -> 0 | I55: =SUM(C55:H55) -> 0
B56: Totale kosten per rol (excl. btw) onderdeel 4. | C56: =C55*D10 -> 0 | D56: =D55*D11 -> 0 | E56: =E55*D12 -> 0 | F56: =F55*D13 -> 0 | G56: =G55*D14 -> 0 | H56: =H55*D17 -> 0 | I56: =SUM(C56:H56) -> 0
B57: 5. Uitwerken en uitvoeren van onderdelen in de bos- en houtstatistieken die informatie geven over actuele beleidsthema’s rond functievervulling, CO2 en hout:
I58: =SUM(C58:H58) -> 0
I59: =SUM(C59:H59) -> 0
I60: =SUM(C60:H60) -> 0
I61: =SUM(C61:H61) -> 0
I62: =SUM(C62:H62) -> 0
B63: Totaal aantal uur per rol onderdeel 5. | C63: =SUM(C58:C62) -> 0 | D63: =SUM(D58:D62) -> 0 | E63: =SUM(E58:E62) -> 0 | F63: =SUM(F58:F62) -> 0 | G63: =SUM(G58:G62) -> 0 | H63: =SUM(H58:H62) -> 0 | I63: =SUM(C63:H63) -> 0
B64: Totale kosten per rol (excl. btw) onderdeel 5. | C64: =C63*D10 -> 0 | D64: =D63*D11 -> 0 | E64: =E63*D12 -> 0 | F64: =F63*D13 -> 0 | G64: =G63*D14 -> 0 | H64: =H63*D17 -> 0 | I64: =SUM(C64:H64) -> 0
B65: Totaalprijs 2026 exclusief btw | I65: =I35+I41+I64+I46+I56 -> 0
B66: btw-percentage
B67: btw-bedrag | I67: =I65*I66 -> 0
B68: Totaalprijs 2026 inclusief btw | I68: =I65+I67 -> 0

Sheet 2027
B2: Bijlage 4 - Prijzenblad 'Europese Aanbesteding Meerjarenprogramma Bos- en houtstatistiek'
B4: Wijzigingen door Inschrijver aan dit document, anders dan waar staat aangegeven 'in te vullen door Inschrijver', leidt tot terzijdelegging van de Inschrijving.
D6: in te vullen uurtarief door Inschrijver
C8: Bandbreedte uurtarief (excl. btw)*
B9: Rollen | C9: Max | D9: Uurtarief (excl. btw)
B10: Directeur/partner/hoogleraar | C10: 300
B11: Senior | C11: 190
B12: Medior | C12: 160
B13: Junior | C13: 125
B14: Student/assistent/verwerker | C14: 50
C16: Max | D16: Uurtarief (excl. btw)
B17: Projectleider | C17: 220
C19: * Indien een uurtarief is ingevuld hoger dan het maximumuurtarief
C20: wordt uw Inschrijving terzijde gelegd.
D23: in te vullen aantal benodigde uren door Inschrijver / in te vullen activiteiten door Inschrijver / BTW %
D24: Benodigde uren wordt gebaseerd op de omschrijving onder Hoofdstuk 2 en 3 van het Aanbestedingsdocument.
D26: In te vullen activiteit/onderwerp voor het betreffende onderdeel door Inschrijver.
B29: Taken Rollen | C29: Directeur/partner/hoogleraar | D29: Senior | E29: Medior | F29: Junior | G29: Student/assistant/verwerker | H29: Projectleider | I29: Aantal uur per taak
B30: 1. Basis dataverzameling en/of verwerking
B31: a. Uitvoeren van één enquête onder bedrijven naar de rondhoutverwerking in Nederland inclusief marktbezoeken die nodig zijn om deze enquête uit te kunnen voeren | I31: =SUM(C31:H31) -> 0
B32: b. Uitvoeren van één enquête naar (houtige) biomassa-inzet uit bos, natuur, landschap en de houtketen inclusief marktbezoeken. Het is aan de Opdrachtnemer om aan te geven hoeveel marktbezoeken nodig zijn | I32: =SUM(C32:H32) -> 0
B33: c. Verwerken, controleren en analyseren van de CBS-handelsstatistieken voor hout, pulp, papier en karton Inclusief uitwisseling en contact onderhouden met CBS | I33: =SUM(C33:H33) -> 0
B34: Totaal aantal uur per rol onderdeel 1. | C34: =SUM(C31:C33) -> 0 | D34: =SUM(D31:D33) -> 0 | E34: =SUM(E31:E33) -> 0 | F34: =SUM(F31:F33) -> 0 | G34: =SUM(G31:G33) -> 0 | H34: =SUM(H31:H33) -> 0 | I34: =SUM(C34:H34) -> 0
B35: Totale kosten per rol (excl. btw) onderdeel 1. | C35: =C34*$D10 -> 0 | D35: =D34*D11 -> 0 | E35: =E34*D12 -> 0 | F35: =F34*D13 -> 0 | G35: =G34*D14 -> 0 | H35: =H34*D17 -> 0 | I35: =SUM(C35:H35) -> 0
B36: 2. Invullen van internationale enquêtes en schrijven van market statements voor zover in de periode van uitvoering aan de orde:
B37: a. Op verzoek van Eurostat en UNECE: invullen van de Joint Forest Sector Questionnaire (JFSQ) over de oogst, productie en handel van hout en houtproducten in Nederland. | I37: =SUM(C37:H37) -> 0
B38: c. Voor het UNECE/FAO Committee on Forests and the Forest Industry (COFFI): opstellen van het Market statement over de bosbouwsector in Nederland en het uitvoeren van de Timber Forecast Questionnaire tevens als input van de COFFI | I38: =SUM(C38:H38) -> 0
B39: f. Uitvoeren European Forestry Accounts (EFA) en Annual Quality Assurance of Environmental Reference Data (OECD-AQA) in samenwerking met het CBS. | I39: =SUM(C39:H39) -> 0
B40: Totaal aantal uur per rol onderdeel 2. | C40: =SUM(C37:C39) -> 0 | D40: =SUM(D37:D39) -> 0 | E40: =SUM(E37:E39) -> 0 | F40: =SUM(F37:F39) -> 0 | G40: =SUM(G37:G39) -> 0 | H40: =SUM(H37:H39) -> 0 | I40: =SUM(C40:H40) -> 0
B41: Totale kosten per rol (excl. btw) onderdeel 3. | C41: =C40*D10 -> 0 | D41: =D40*D11 -> 0 | E41: =E40*D12 -> 0 | F41: =F40*D13 -> 0 | G41: =G40*D14 -> 0 | H41: =H40*D17 -> 0 | I41: =SUM(C41:H41) -> 0
B42: 3. Bijwonen van internationale bijeenkomsten voor overleg over methoden en resultaten uit rapportages, met name van:
B43: b. Het UNECE Committee on Forests and the Forest Industry (COFFI, onderdeel UNECE/FAO). Overleg over dataverzameling en - analyse, beleid en communicatie | I43: =SUM(C43:H43) -> 0
B44: c. Het UNECE Team of Specialists on monitoring sustainable forest management en Team of Specialist on sustainable forest products. Overleg over verbetering van rapportages over de staat van bossen, duurzaam bosbeheer, en de rol van bosbouw in de groene economie | I44: =SUM(C44:H44) -> 0
B45: Totaal aantal uur per rol onderdeel 3. | C45: =SUM(C43:C44) -> 0 | D45: =SUM(D43:D44) -> 0 | E45: =SUM(E43:E44) -> 0 | F45: =SUM(F43:F44) -> 0 | G45: =SUM(G43:G44) -> 0 | H45: =SUM(H43:H44) -> 0 | I45: =SUM(C45:H45) -> 0
B46: Totale kosten per rol (excl. btw) onderdeel 3. | C46: =C45*D10 -> 0 | D46: =D45*D11 -> 0 | E46: =E45*D12 -> 0 | F46: =F45*D13 -> 0 | G46: =G45*D14 -> 0 | H46: =H45*D17 -> 0 | I46: =SUM(C46:H46) -> 0
B47: 4. Nationale terugkoppeling resultaten:
B48: a. Berekenen en publiceren van de Nederlandse houtbalans, volgens specificaties van het Planbureau voor de Leefomgeving, om het overheidsbeleid te kunnen toetsen en de Nederlandse voetafdruk te bepalen | I48: =SUM(C48:H48) -> 0
B49: b. Organiseren van een stakeholderbijeenkomst over recente resultaten uit het project Bos- en houtstatistieken en wensen met betrekking tot de informatievoorziening hierover | I49: =SUM(C49:H49) -> 0
B50: c. Schrijven van enkele artikelen in relevante vakbladen over trends in de bos- en houtketen op basis van het project Bos- en Houtstatistieken | I50: =SUM(C50:H50) -> 0
B51: e. Publiek toegankelijk beschikbaar stellen van kengetallen over het Nederlandse bos, bosgebruik en de bos- en houtketen, bijvoorbeeld op de eigen website | I51: =SUM(C51:H51) -> 0
B52: f. Bijhouden en beheren van het archief van de Nederlandse bos- en houtstatistieken | I52: =SUM(C52:H52) -> 0
B53: g. Beschikbaar zijn voor ad-hoc vagen vanuit het ministerie voortkomend uit bijvoorbeeld Kamervragen of Europese vraagstukken met betrekking tot deze opdracht | I53: =SUM(C53:H53) -> 0
B54: Totaal aantal uur per rol onderdeel 4. | C54: =SUM(C48:C53) -> 0 | D54: =SUM(D48:D53) -> 0 | E54: =SUM(E48:E53) -> 0 | F54: =SUM(F48:F53) -> 0 | G54: =SUM(G48:G53) -> 0 | H54: =SUM(H48:H53) -> 0 | I54: =SUM(C54:H54) -> 0
B55: Totale kosten per rol (excl. btw) onderdeel 4. | C55: =C54*D10 -> 0 | D55: =D54*D11 -> 0 | E55: =E54*D12 -> 0 | F55: =F54*D13 -> 0 | G55: =G54*D14 -> 0 | H55: =H54*D17 -> 0 | I55: =SUM(C55:H55) -> 0
B56: 5. Uitwerken en uitvoeren van onderdelen in de bos- en houtstatistieken die informatie geven over actuele beleidsthema’s rond functievervulling, CO2 en hout:
I57: =SUM(C57:H57) -> 0
I58: =SUM(C58:H58) -> 0
I59: =SUM(C59:H59) -> 0
I60: =SUM(C60:H60) -> 0
I61: =SUM(C61:H61) -> 0
B62: Totaal aantal uur per rol onderdeel 5. | C62: =SUM(C57:C61) -> 0 | D62: =SUM(D57:D61) -> 0 | E62: =SUM(E57:E61) -> 0 | F62: =SUM(F57:F61) -> 0 | G62: =SUM(G57:G61) -> 0 | H62: =SUM(H57:H61) -> 0 | I62: =SUM(C62:H62) -> 0
B63: Totale kosten per rol (excl. btw) onderdeel 5. | C63: =C62*D10 -> 0 | D63: =D62*D11 -> 0 | E63: =E62*D12 -> 0 | F63: =F62*D13 -> 0 | G63: =G62*D14 -> 0 | H63: =H62*D17 -> 0 | I63: =SUM(C63:H63) -> 0
B64: Totaalprijs 2027 exclusief btw | I64: =I35+I41+I63+I46+I55 -> 0
B65: btw-percentage
B66: btw-bedrag | I66: =I64*I65 -> 0
B67: Totaalprijs 2027 inclusief btw | I67: =I64+I66 -> 0

Sheet 2028
B2: Bijlage 4 - Prijzenblad 'Europese Aanbesteding Meerjarenprogramma Bos- en houtstatistiek'
B4: Wijzigingen door Inschrijver aan dit document, anders dan waar staat aangegeven 'in te vullen door Inschrijver', leidt tot terzijdelegging van de Inschrijving.
D6: in te vullen uurtarief door Inschrijver
C8: Bandbreedte uurtarief (excl. btw)*
B9: Rollen | C9: Max | D9: Uurtarief (excl. btw)
B10: Directeur/partner/hoogleraar | C10: 300
B11: Senior | C11: 190
B12: Medior | C12: 160
B13: Junior | C13: 125
B14: Student/assistent/verwerker | C14: 50
C16: Max | D16: Uurtarief (excl. btw)
B17: Projectleider | C17: 220
C19: * Indien een uurtarief is ingevuld hoger dan het maximumuurtarief
C20: wordt uw Inschrijving terzijde gelegd.
D23: in te vullen aantal benodigde uren door Inschrijver / in te vullen activiteiten door Inschrijver / BTW %
D24: Benodigde uren wordt gebaseerd op de omschrijving onder Hoofdstuk 2 en 3 van het Aanbestedingsdocument.
D26: In te vullen activiteit/onderwerp voor het betreffende onderdeel door Inschrijver.
B29: Taken Rollen | C29: Directeur/partner/hoogleraar | D29: Senior | E29: Medior | F29: Junior | G29: Student/assistant/verwerker | H29: Projectleider | I29: Aantal uur per taak
B30: 1. Basis dataverzameling en/of verwerking
B31: a. Uitvoeren van één enquête onder bedrijven naar de rondhoutverwerking in Nederland inclusief marktbezoeken die nodig zijn om deze enquête uit te kunnen voeren | I31: =SUM(C31:H31) -> 0
B32: b. Uitvoeren van één enquête naar (houtige) biomassa-inzet uit bos, natuur, landschap en de houtketen inclusief marktbezoeken. Het is aan de Opdrachtnemer om aan te geven hoeveel marktbezoeken nodig zijn | I32: =SUM(C32:H32) -> 0
B33: c. Verwerken, controleren en analyseren van de CBS-handelsstatistieken voor hout, pulp, papier en karton Inclusief uitwisseling en contact onderhouden met CBS | I33: =SUM(C33:H33) -> 0
B34: Totaal aantal uur per rol onderdeel 1. | C34: =SUM(C31:C33) -> 0 | D34: =SUM(D31:D33) -> 0 | E34: =SUM(E31:E33) -> 0 | F34: =SUM(F31:F33) -> 0 | G34: =SUM(G31:G33) -> 0 | H34: =SUM(H31:H33) -> 0 | I34: =SUM(C34:H34) -> 0
B35: Totale kosten per rol (excl. btw) onderdeel 1. | C35: =C34*$D10 -> 0 | D35: =D34*D11 -> 0 | E35: =E34*D12 -> 0 | F35: =F34*D13 -> 0 | G35: =G34*D14 -> 0 | H35: =H34*D17 -> 0 | I35: =SUM(C35:H35) -> 0
B36: 2. Invullen van internationale enquêtes en schrijven van market statements voor zover in de periode van uitvoering aan de orde:
B37: a. Op verzoek van Eurostat en UNECE: invullen van de Joint Forest Sector Questionnaire (JFSQ) over de oogst, productie en handel van hout en houtproducten in Nederland. | I37: =SUM(C37:H37) -> 0
B38: c. Voor het UNECE/FAO Committee on Forests and the Forest Industry (COFFI): opstellen van het Market statement over de bosbouwsector in Nederland en het uitvoeren van de Timber Forecast Questionnaire tevens als input van de COFFI | I38: =SUM(C38:H38) -> 0
B39: f. Uitvoeren European Forestry Accounts (EFA) en Annual Quality Assurance of Environmental Reference Data (OECD-AQA) in samenwerking met het CBS. | I39: =SUM(C39:H39) -> 0
B40: Totaal aantal uur per rol onderdeel 2. | C40: =SUM(C37:C39) -> 0 | D40: =SUM(D37:D39) -> 0 | E40: =SUM(E37:E39) -> 0 | F40: =SUM(F37:F39) -> 0 | G40: =SUM(G37:G39) -> 0 | H40: =SUM(H37:H39) -> 0 | I40: =SUM(C40:H40) -> 0
B41: Totale kosten per rol (excl. btw) onderdeel 3. | C41: =C40*D10 -> 0 | D41: =D40*D11 -> 0 | E41: =E40*D12 -> 0 | F41: =F40*D13 -> 0 | G41: =G40*D14 -> 0 | H41: =H40*D17 -> 0 | I41: =SUM(C41:H41) -> 0
B42: 3. Bijwonen van internationale bijeenkomsten voor overleg over methoden en resultaten uit rapportages, met name van:
B43: b. Het UNECE Committee on Forests and the Forest Industry (COFFI, onderdeel UNECE/FAO). Overleg over dataverzameling en - analyse, beleid en communicatie | I43: =SUM(C43:H43) -> 0
B44: c. Het UNECE Team of Specialists on monitoring sustainable forest management en Team of Specialist on sustainable forest products. Overleg over verbetering van rapportages over de staat van bossen, duurzaam bosbeheer, en de rol van bosbouw in de groene economie | I44: =SUM(C44:H44) -> 0
B45: Totaal aantal uur per rol onderdeel 3. | C45: =SUM(C43:C44) -> 0 | D45: =SUM(D43:D44) -> 0 | E45: =SUM(E43:E44) -> 0 | F45: =SUM(F43:F44) -> 0 | G45: =SUM(G43:G44) -> 0 | H45: =SUM(H43:H44) -> 0 | I45: =SUM(C45:H45) -> 0
B46: Totale kosten per rol (excl. btw) onderdeel 3. | C46: =C45*D10 -> 0 | D46: =D45*D11 -> 0 | E46: =E45*D12 -> 0 | F46: =F45*D13 -> 0 | G46: =G45*D14 -> 0 | H46: =H45*D17 -> 0 | I46: =SUM(C46:H46) -> 0
B47: 4. Nationale terugkoppeling resultaten:
B48: a. Berekenen en publiceren van de Nederlandse houtbalans, volgens specificaties van het Planbureau voor de Leefomgeving, om het overheidsbeleid te kunnen toetsen en de Nederlandse voetafdruk te bepalen | I48: =SUM(C48:H48) -> 0
B49: b. Organiseren van een stakeholderbijeenkomst over recente resultaten uit het project Bos- en houtstatistieken en wensen met betrekking tot de informatievoorziening hierover | I49: =SUM(C49:H49) -> 0
B50: c. Schrijven van enkele artikelen in relevante vakbladen over trends in de bos- en houtketen op basis van het project Bos- en Houtstatistieken | I50: =SUM(C50:H50) -> 0
B51: d. Opstellen van het stroomschema voor de Nederlandse houtketen (oogst, import, verwerking, export en toepassing van hout en houtige biomassa) in Nederland | I51: =SUM(C51:H51) -> 0
B52: e. Publiek toegankelijk beschikbaar stellen van kengetallen over het Nederlandse bos, bosgebruik en de bos- en houtketen, bijvoorbeeld op de eigen website | I52: =SUM(C52:H52) -> 0
B53: f. Bijhouden en beheren van het archief van de Nederlandse bos- en houtstatistieken | I53: =SUM(C53:H53) -> 0
B54: g. Beschikbaar zijn voor ad-hoc vagen vanuit het ministerie voortkomend uit bijvoorbeeld Kamervragen of Europese vraagstukken met betrekking tot deze opdracht | I54: =SUM(C54:H54) -> 0
B55: Totaal aantal uur per rol onderdeel 4. | C55: =SUM(C48:C54) -> 0 | D55: =SUM(D48:D54) -> 0 | E55: =SUM(E48:E54) -> 0 | F55: =SUM(F48:F54) -> 0 | G55: =SUM(G48:G54) -> 0 | H55: =SUM(H48:H54) -> 0 | I55: =SUM(C55:H55) -> 0
B56: Totale kosten per rol (excl. btw) onderdeel 4. | C56: =C55*D10 -> 0 | D56: =D55*D11 -> 0 | E56: =E55*D12 -> 0 | F56: =F55*D13 -> 0 | G56: =G55*D14 -> 0 | H56: =H55*D17 -> 0 | I56: =SUM(C56:H56) -> 0
B57: 5. Uitwerken en uitvoeren van onderdelen in de bos- en houtstatistieken die informatie geven over actuele beleidsthema’s rond functievervulling, CO2 en hout:
I58: =SUM(C58:H58) -> 0
I59: =SUM(C59:H59) -> 0
I60: =SUM(C60:H60) -> 0
I61: =SUM(C61:H61) -> 0
I62: =SUM(C62:H62) -> 0
B63: Totaal aantal uur per rol onderdeel 5. | C63: =SUM(C58:C62) -> 0 | D63: =SUM(D58:D62) -> 0 | E63: =SUM(E58:E62) -> 0 | F63: =SUM(F58:F62) -> 0 | G63: =SUM(G58:G62) -> 0 | H63: =SUM(H58:H62) -> 0 | I63: =SUM(C63:H63) -> 0
B64: Totale kosten per rol (excl. btw) onderdeel 5. | C64: =C63*D10 -> 0 | D64: =D63*D11 -> 0 | E64: =E63*D12 -> 0 | F64: =F63*D13 -> 0 | G64: =G63*D14 -> 0 | H64: =H63*D17 -> 0 | I64: =SUM(C64:H64) -> 0
B65: Totaalprijs 2028 exclusief btw | I65: =I35+I41+I64+I46+I56 -> 0
B66: btw-percentage
B67: btw-bedrag | I67: =I65*I66 -> 0
B68: Totaalprijs 2028 inclusief btw | I68: =I65+I67 -> 0

Sheet 2029
B2: Bijlage 4 - Prijzenblad 'Europese Aanbesteding Meerjarenprogramma Bos- en houtstatistiek'
B4: Wijzigingen door Inschrijver aan dit document, anders dan waar staat aangegeven 'in te vullen door Inschrijver', leidt tot terzijdelegging van de Inschrijving.
D6: in te vullen uurtarief door Inschrijver
C8: Bandbreedte uurtarief (excl. btw)*
B9: Rollen | C9: Max | D9: Uurtarief (excl. btw)
B10: Directeur/partner/hoogleraar | C10: 300
B11: Senior | C11: 190
B12: Medior | C12: 160
B13: Junior | C13: 125
B14: Student/assistent/verwerker | C14: 50
C16: Max | D16: Uurtarief (excl. btw)
B17: Projectleider | C17: 220
C19: * Indien een uurtarief is ingevuld hoger dan het maximumuurtarief
C20: wordt uw Inschrijving terzijde gelegd.
D23: in te vullen aantal benodigde uren door Inschrijver / in te vullen activiteiten door Inschrijver / BTW %
D24: Benodigde uren wordt gebaseerd op de omschrijving onder Hoofdstuk 2 en 3 van het Aanbestedingsdocument.
D26: In te vullen activiteit/onderwerp voor het betreffende onderdeel door Inschrijver.
B29: Taken Rollen | C29: Directeur/partner/hoogleraar | D29: Senior | E29: Medior | F29: Junior | G29: Student/assistant/verwerker | H29: Projectleider | I29: Aantal uur per taak
B30: 1. Basis dataverzameling en/of verwerking
B31: a. Uitvoeren van één enquête onder bedrijven naar de rondhoutverwerking in Nederland inclusief marktbezoeken die nodig zijn om deze enquête uit te kunnen voeren | I31: =SUM(C31:H31) -> 0
B32: b. Uitvoeren van één enquête naar (houtige) biomassa-inzet uit bos, natuur, landschap en de houtketen inclusief marktbezoeken. Het is aan de Opdrachtnemer om aan te geven hoeveel marktbezoeken nodig zijn | I32: =SUM(C32:H32) -> 0
B33: c. Verwerken, controleren en analyseren van de CBS-handelsstatistieken voor hout, pulp, papier en karton Inclusief uitwisseling en contact onderhouden met CBS | I33: =SUM(C33:H33) -> 0
B34: Totaal aantal uur per rol onderdeel 1. | C34: =SUM(C31:C33) -> 0 | D34: =SUM(D31:D33) -> 0 | E34: =SUM(E31:E33) -> 0 | F34: =SUM(F31:F33) -> 0 | G34: =SUM(G31:G33) -> 0 | H34: =SUM(H31:H33) -> 0 | I34: =SUM(C34:H34) -> 0
B35: Totale kosten per rol (excl. btw) onderdeel 1. | C35: =C34*$D10 -> 0 | D35: =D34*D11 -> 0 | E35: =E34*D12 -> 0 | F35: =F34*D13 -> 0 | G35: =G34*D14 -> 0 | H35: =H34*D17 -> 0 | I35: =SUM(C35:H35) -> 0
B36: 2. Invullen van internationale enquêtes en schrijven van market statements voor zover in de periode van uitvoering aan de orde:
B37: a. Op verzoek van Eurostat en UNECE: invullen van de Joint Forest Sector Questionnaire (JFSQ) over de oogst, productie en handel van hout en houtproducten in Nederland. | I37: =SUM(C37:H37) -> 0
B38: c. Voor het UNECE/FAO Committee on Forests and the Forest Industry (COFFI): opstellen van het Market statement over de bosbouwsector in Nederland en het uitvoeren van de Timber Forecast Questionnaire tevens als input van de COFFI | I38: =SUM(C38:H38) -> 0
B39: f. Uitvoeren European Forestry Accounts (EFA) en Annual Quality Assurance of Environmental Reference Data (OECD-AQA) in samenwerking met het CBS. | I39: =SUM(C39:H39) -> 0
B40: Totaal aantal uur per rol onderdeel 2. | C40: =SUM(C37:C39) -> 0 | D40: =SUM(D37:D39) -> 0 | E40: =SUM(E37:E39) -> 0 | F40: =SUM(F37:F39) -> 0 | G40: =SUM(G37:G39) -> 0 | H40: =SUM(H37:H39) -> 0 | I40: =SUM(C40:H40) -> 0
B41: Totale kosten per rol (excl. btw) onderdeel 3. | C41: =C40*D10 -> 0 | D41: =D40*D11 -> 0 | E41: =E40*D12 -> 0 | F41: =F40*D13 -> 0 | G41: =G40*D14 -> 0 | H41: =H40*D17 -> 0 | I41: =SUM(C41:H41) -> 0
B42: 3. Bijwonen van internationale bijeenkomsten voor overleg over methoden en resultaten uit rapportages, met name van:
B43: b. Het UNECE Committee on Forests and the Forest Industry (COFFI, onderdeel UNECE/FAO). Overleg over dataverzameling en - analyse, beleid en communicatie | I43: =SUM(C43:H43) -> 0
B44: c. Het UNECE Team of Specialists on monitoring sustainable forest management en Team of Specialist on sustainable forest products. Overleg over verbetering van rapportages over de staat van bossen, duurzaam bosbeheer, en de rol van bosbouw in de groene economie | I44: =SUM(C44:H44) -> 0
B45: Totaal aantal uur per rol onderdeel 3. | C45: =SUM(C43:C44) -> 0 | D45: =SUM(D43:D44) -> 0 | E45: =SUM(E43:E44) -> 0 | F45: =SUM(F43:F44) -> 0 | G45: =SUM(G43:G44) -> 0 | H45: =SUM(H43:H44) -> 0 | I45: =SUM(C45:H45) -> 0
B46: Totale kosten per rol (excl. btw) onderdeel 3. | C46: =C45*D10 -> 0 | D46: =D45*D11 -> 0 | E46: =E45*D12 -> 0 | F46: =F45*D13 -> 0 | G46: =G45*D14 -> 0 | H46: =H45*D17 -> 0 | I46: =SUM(C46:H46) -> 0
B47: 4. Nationale terugkoppeling resultaten:
B48: a. Berekenen en publiceren van de Nederlandse houtbalans, volgens specificaties van het Planbureau voor de Leefomgeving, om het overheidsbeleid te kunnen toetsen en de Nederlandse voetafdruk te bepalen | I48: =SUM(C48:H48) -> 0
B49: b. Organiseren van een stakeholderbijeenkomst over recente resultaten uit het project Bos- en houtstatistieken en wensen met betrekking tot de informatievoorziening hierover | I49: =SUM(C49:H49) -> 0
B50: c. Schrijven van enkele artikelen in relevante vakbladen over trends in de bos- en houtketen op basis van het project Bos- en Houtstatistieken | I50: =SUM(C50:H50) -> 0
B51: e. Publiek toegankelijk beschikbaar stellen van kengetallen over het Nederlandse bos, bosgebruik en de bos- en houtketen, bijvoorbeeld op de eigen website | I51: =SUM(C51:H51) -> 0
B52: f. Bijhouden en beheren van het archief van de Nederlandse bos- en houtstatistieken | I52: =SUM(C52:H52) -> 0
B53: g. Beschikbaar zijn voor ad-hoc vagen vanuit het ministerie voortkomend uit bijvoorbeeld Kamervragen of Europese vraagstukken met betrekking tot deze opdracht | I53: =SUM(C53:H53) -> 0
B54: Totaal aantal uur per rol onderdeel 4. | C54: =SUM(C48:C53) -> 0 | D54: =SUM(D48:D53) -> 0 | E54: =SUM(E48:E53) -> 0 | F54: =SUM(F48:F53) -> 0 | G54: =SUM(G48:G53) -> 0 | H54: =SUM(H48:H53) -> 0 | I54: =SUM(C54:H54) -> 0
B55: Totale kosten per rol (excl. btw) onderdeel 4. | C55: =C54*D10 -> 0 | D55: =D54*D11 -> 0 | E55: =E54*D12 -> 0 | F55: =F54*D13 -> 0 | G55: =G54*D14 -> 0 | H55: =H54*D17 -> 0 | I55: =SUM(C55:H55) -> 0
B56: 5. Uitwerken en uitvoeren van onderdelen in de bos- en houtstatistieken die informatie geven over actuele beleidsthema’s rond functievervulling, CO2 en hout:
I57: =SUM(C57:H57) -> 0
I58: =SUM(C58:H58) -> 0
I59: =SUM(C59:H59) -> 0
I60: =SUM(C60:H60) -> 0
I61: =SUM(C61:H61) -> 0
B62: Totaal aantal uur per rol onderdeel 5. | C62: =SUM(C57:C61) -> 0 | D62: =SUM(D57:D61) -> 0 | E62: =SUM(E57:E61) -> 0 | F62: =SUM(F57:F61) -> 0 | G62: =SUM(G57:G61) -> 0 | H62: =SUM(H57:H61) -> 0 | I62: =SUM(C62:H62) -> 0
B63: Totale kosten per rol (excl. btw) onderdeel 5. | C63: =C62*D10 -> 0 | D63: =D62*D11 -> 0 | E63: =E62*D12 -> 0 | F63: =F62*D13 -> 0 | G63: =G62*D14 -> 0 | H63: =H62*D17 -> 0 | I63: =SUM(C63:H63) -> 0
B64: Totaalprijs 2029 exclusief btw | I64: =I35+I41+I63+I46+I55 -> 0
B65: btw-percentage
B66: btw-bedrag | I66: =I64*I65 -> 0
B67: Totaalprijs 2029 inclusief btw | I67: =I64+I66 -> 0

Sheet 2030
B2: Bijlage 4 - Prijzenblad 'Europese Aanbesteding Meerjarenprogramma Bos- en houtstatistiek'
B4: Wijzigingen door Inschrijver aan dit document, anders dan waar staat aangegeven 'in te vullen door Inschrijver', leidt tot terzijdelegging van de Inschrijving.
D6: in te vullen uurtarief door Inschrijver
C8: Bandbreedte uurtarief (excl. btw)*
B9: Rollen | C9: Max | D9: Uurtarief (excl. btw)
B10: Directeur/partner/hoogleraar | C10: 300
B11: Senior | C11: 190
B12: Medior | C12: 160
B13: Junior | C13: 125
B14: Student/assistent/verwerker | C14: 50
C16: Max | D16: Uurtarief (excl. btw)
B17: Projectleider | C17: 220
C19: * Indien een uurtarief is ingevuld hoger dan het maximumuurtarief
C20: wordt uw Inschrijving terzijde gelegd.
D23: in te vullen aantal benodigde uren door Inschrijver / in te vullen activiteiten door Inschrijver / BTW %
D24: Benodigde uren wordt gebaseerd op de omschrijving onder Hoofdstuk 2 en 3 van het Aanbestedingsdocument.
D26: In te vullen activiteit/onderwerp voor het betreffende onderdeel door Inschrijver.
B29: Taken Rollen | C29: Directeur/partner/hoogleraar | D29: Senior | E29: Medior | F29: Junior | G29: Student/assistant/verwerker | H29: Projectleider | I29: Aantal uur per taak
B30: 1. Basis dataverzameling en/of verwerking
B31: a. Uitvoeren van één enquête onder bedrijven naar de rondhoutverwerking in Nederland inclusief marktbezoeken die nodig zijn om deze enquête uit te kunnen voeren | I31: =SUM(C31:H31) -> 0
B32: b. Uitvoeren van één enquête naar (houtige) biomassa-inzet uit bos, natuur, landschap en de houtketen inclusief marktbezoeken. Het is aan de Opdrachtnemer om aan te geven hoeveel marktbezoeken nodig zijn | I32: =SUM(C32:H32) -> 0
B33: c. Verwerken, controleren en analyseren van de CBS-handelsstatistieken voor hout, pulp, papier en karton Inclusief uitwisseling en contact onderhouden met CBS | I33: =SUM(C33:H33) -> 0
B34: Totaal aantal uur per rol onderdeel 1. | C34: =SUM(C31:C33) -> 0 | D34: =SUM(D31:D33) -> 0 | E34: =SUM(E31:E33) -> 0 | F34: =SUM(F31:F33) -> 0 | G34: =SUM(G31:G33) -> 0 | H34: =SUM(H31:H33) -> 0 | I34: =SUM(C34:H34) -> 0
B35: Totale kosten per rol (excl. btw) onderdeel 1. | C35: =C34*$D10 -> 0 | D35: =D34*D11 -> 0 | E35: =E34*D12 -> 0 | F35: =F34*D13 -> 0 | G35: =G34*D14 -> 0 | H35: =H34*D17 -> 0 | I35: =SUM(C35:H35) -> 0
B36: 2. Invullen van internationale enquêtes en schrijven van market statements voor zover in de periode van uitvoering aan de orde:
B37: a. Op verzoek van Eurostat en UNECE: invullen van de Joint Forest Sector Questionnaire (JFSQ) over de oogst, productie en handel van hout en houtproducten in Nederland. | I37: =SUM(C37:H37) -> 0
B38: c. Voor het UNECE/FAO Committee on Forests and the Forest Industry (COFFI): opstellen van het Market statement over de bosbouwsector in Nederland en het uitvoeren van de Timber Forecast Questionnaire tevens als input van de COFFI | I38: =SUM(C38:H38) -> 0
B39: f. Uitvoeren European Forestry Accounts (EFA) en Annual Quality Assurance of Environmental Reference Data (OECD-AQA) in samenwerking met het CBS. | I39: =SUM(C39:H39) -> 0
B40: Totaal aantal uur per rol onderdeel 2. | C40: =SUM(C37:C39) -> 0 | D40: =SUM(D37:D39) -> 0 | E40: =SUM(E37:E39) -> 0 | F40: =SUM(F37:F39) -> 0 | G40: =SUM(G37:G39) -> 0 | H40: =SUM(H37:H39) -> 0 | I40: =SUM(C40:H40) -> 0
B41: Totale kosten per rol (excl. btw) onderdeel 3. | C41: =C40*D10 -> 0 | D41: =D40*D11 -> 0 | E41: =E40*D12 -> 0 | F41: =F40*D13 -> 0 | G41: =G40*D14 -> 0 | H41: =H40*D17 -> 0 | I41: =SUM(C41:H41) -> 0
B42: 3. Bijwonen van internationale bijeenkomsten voor overleg over methoden en resultaten uit rapportages, met name van:
B43: b. Het UNECE Committee on Forests and the Forest Industry (COFFI, onderdeel UNECE/FAO). Overleg over dataverzameling en - analyse, beleid en communicatie | I43: =SUM(C43:H43) -> 0
B44: c. Het UNECE Team of Specialists on monitoring sustainable forest management en Team of Specialist on sustainable forest products. Overleg over verbetering van rapportages over de staat van bossen, duurzaam bosbeheer, en de rol van bosbouw in de groene economie | I44: =SUM(C44:H44) -> 0
B45: Totaal aantal uur per rol onderdeel 3. | C45: =SUM(C43:C44) -> 0 | D45: =SUM(D43:D44) -> 0 | E45: =SUM(E43:E44) -> 0 | F45: =SUM(F43:F44) -> 0 | G45: =SUM(G43:G44) -> 0 | H45: =SUM(H43:H44) -> 0 | I45: =SUM(C45:H45) -> 0
B46: Totale kosten per rol (excl. btw) onderdeel 3. | C46: =C45*D10 -> 0 | D46: =D45*D11 -> 0 | E46: =E45*D12 -> 0 | F46: =F45*D13 -> 0 | G46: =G45*D14 -> 0 | H46: =H45*D17 -> 0 | I46: =SUM(C46:H46) -> 0
B47: 4. Nationale terugkoppeling resultaten:
B48: a. Berekenen en publiceren van de Nederlandse houtbalans, volgens specificaties van het Planbureau voor de Leefomgeving, om het overheidsbeleid te kunnen toetsen en de Nederlandse voetafdruk te bepalen | I48: =SUM(C48:H48) -> 0
B49: b. Organiseren van een stakeholderbijeenkomst over recente resultaten uit het project Bos- en houtstatistieken en wensen met betrekking tot de informatievoorziening hierover | I49: =SUM(C49:H49) -> 0
B50: c. Schrijven van enkele artikelen in relevante vakbladen over trends in de bos- en houtketen op basis van het project Bos- en Houtstatistieken | I50: =SUM(C50:H50) -> 0
B51: d. Opstellen van het stroomschema voor de Nederlandse houtketen (oogst, import, verwerking, export en toepassing van hout en houtige biomassa) in Nederland | I51: =SUM(C51:H51) -> 0
B52: e. Publiek toegankelijk beschikbaar stellen van kengetallen over het Nederlandse bos, bosgebruik en de bos- en houtketen, bijvoorbeeld op de eigen website | I52: =SUM(C52:H52) -> 0
B53: f. Bijhouden en beheren van het archief van de Nederlandse bos- en houtstatistieken | I53: =SUM(C53:H53) -> 0
B54: g. Beschikbaar zijn voor ad-hoc vagen vanuit het ministerie voortkomend uit bijvoorbeeld Kamervragen of Europese vraagstukken met betrekking tot deze opdracht | I54: =SUM(C54:H54) -> 0
B55: Totaal aantal uur per rol onderdeel 4. | C55: =SUM(C48:C54) -> 0 | D55: =SUM(D48:D54) -> 0 | E55: =SUM(E48:E54) -> 0 | F55: =SUM(F48:F54) -> 0 | G55: =SUM(G48:G54) -> 0 | H55: =SUM(H48:H54) -> 0 | I55: =SUM(C55:H55) -> 0
B56: Totale kosten per rol (excl. btw) onderdeel 4. | C56: =C55*D10 -> 0 | D56: =D55*D11 -> 0 | E56: =E55*D12 -> 0 | F56: =F55*D13 -> 0 | G56: =G55*D14 -> 0 | H56: =H55*D17 -> 0 | I56: =SUM(C56:H56) -> 0
B57: 5. Uitwerken en uitvoeren van onderdelen in de bos- en houtstatistieken die informatie geven over actuele beleidsthema’s rond functievervulling, CO2 en hout:
I58: =SUM(C58:H58) -> 0
I59: =SUM(C59:H59) -> 0
I60: =SUM(C60:H60) -> 0
I61: =SUM(C61:H61) -> 0
I62: =SUM(C62:H62) -> 0
B63: Totaal aantal uur per rol onderdeel 5. | C63: =SUM(C58:C62) -> 0 | D63: =SUM(D58:D62) -> 0 | E63: =SUM(E58:E62) -> 0 | F63: =SUM(F58:F62) -> 0 | G63: =SUM(G58:G62) -> 0 | H63: =SUM(H58:H62) -> 0 | I63: =SUM(C63:H63) -> 0
B64: Totale kosten per rol (excl. btw) onderdeel 5. | C64: =C63*D10 -> 0 | D64: =D63*D11 -> 0 | E64: =E63*D12 -> 0 | F64: =F63*D13 -> 0 | G64: =G63*D14 -> 0 | H64: =H63*D17 -> 0 | I64: =SUM(C64:H64) -> 0
B65: Totaalprijs 2030 exclusief btw | I65: =I35+I41+I64+I46+I56 -> 0
B66: btw-percentage
B67: btw-bedrag | I67: =I65*I66 -> 0
B68: Totaalprijs 2030 inclusief btw | I68: =I65+I67 -> 0

Sheet Kosten op afroep
B2: Bijlage 4 - Prijzenblad 'Europese Aanbesteding Meerjarenprogramma Bos- en houtstatistiek'
B4: Wijzigingen door Inschrijver aan dit document, anders dan waar staat aangegeven 'in te vullen door Inschrijver', leidt tot terzijdelegging van de Inschrijving.
D6: in te vullen uurtarief door Inschrijver
C8: Bandbreedte uurtarief (excl. btw)*
B9: Rollen | C9: Max | D9: Uurtarief (excl. btw)
B10: Directeur/partner/hoogleraar | C10: 300
B11: Senior | C11: 190
B12: Medior | C12: 160
B13: Junior | C13: 125
B14: Student/assistent/verwerker | C14: 50
C16: Max | D16: Uurtarief (excl. btw)
B17: Projectleider | C17: 220
C19: *Indien een uurtarief is ingevuld hoger dan het maximumuurtarief | G19: wordt uw Inschrijving terzijde gelegd.
D22: in te vullen aantal benodigde uren door Inschrijver / in te vullen activiteiten door Inschrijver
D23: Benodigde uren wordt gebaseerd op de omschrijving onder Hoofdstuk 2 en 3 van het Aanbestedingsdocument.
D25: In te vullen activiteit/onderwerp voor het betreffende onderdeel door Inschrijver.
B28: Taken Rollen | C28: Directeur/partner/hoogleraar | D28: Senior | E28: Medior | F28: Junior | G28: Student/assistant/verwerker | H28: Projectleider
B29: 2. Invullen van internationale enquêtes en schrijven van market statements voor zover in de periode van uitvoering aan de orde:
B30: b. Op verzoek van UNECE/FAO: invullen van de Joint Wood Energy Enquiry (JWEE) over het gebruik van hout voor energie in Nederland
B31: d. Uitvoeren van Forest Resource Assessment
B32: e. Uitvoeren Forest Europe enquête
B33: Totaal aantal uur per rol onderdeel 2. | C33: =SUM(C30:C32) -> 0 | D33: =SUM(D30:D32) -> 0 | E33: =SUM(E30:E32) -> 0 | F33: =SUM(F30:F32) -> 0 | G33: =SUM(G30:G32) -> 0 | H33: =SUM(H30:H32) -> 0
B34: Totale kosten per rol (excl. btw) onderdeel 2. | C34: =C33*D10 -> 0 | D34: =D33*D11 -> 0 | E34: =E33*D12 -> 0 | F34: =F33*D13 -> 0 | G34: =G33*D14 -> 0 | H34: =H33*D17 -> 0
B35: 3. Invullen van internationale enquêtes en schrijven van market statements voor zover in de periode van uitvoering aan de orde:
B36: a. De Forestry Statistics and Accounts Working Group (Eurostat, Luxemburg). Overleg tussen samenstellers van bosstatistieken in de EU, onder meer over verbetering van dataverzameling en methodologie
B37: Totaal aantal uur per rol onderdeel 3. | C37: =C36 -> 0 | D37: =D36 -> 0 | E37: =E36 -> 0 | F37: =F36 -> 0 | G37: =G36 -> 0 | H37: =H36 -> 0
B38: Totale kosten per rol (excl. btw) onderdeel 3. | C38: =C37*D10 -> 0 | D38: =D37*D11 -> 0 | E38: =E37*D12 -> 0 | F38: =F37*D13 -> 0 | G38: =G37*D14 -> 0 | H38: =H37*D17 -> 0
C40: Taak 2b | D40: Taak 2d | E40: Taak 2e | F40: Taak 3a
B41: Totaal aantal uur per taak | C41: =SUM(C30:H30) -> 0 | D41: =SUM(C31:H31) -> 0 | E41: =SUM(C32:H32) -> 0 | F41: =SUM(C36:H36) -> 0
B42: Totale kosten per taak exclusief btw | C42: =(C30*D10)+(D30*D11)+(E30*D12)+(F30*D13)+(G30*D14)+(H30*D17) -> 0 | D42: =(C31*D10)+(D31*D11)+(E31*D12)+(F31*D13)+(G31*D14)+(H31*D17) -> 0 | E42: =(C32*D10)+(D32*D11)+(E32*D12)+(F32*D13)+(G32*D14)+(H32*D17) -> 0 | F42: =(C36*D10)+(D36*D11)+(E36*D12)+(F36*D13)+(G36*D14)+(H36*D17) -> 0
B43: btw-percentage
B44: btw-bedrag | C44: =C42*C43 -> 0 | D44: =D42*D43 -> 0 | E44: =E42*E43 -> 0 | F44: =F42*F43 -> 0
B45: Totaalprijs inclusief btw | C45: =C42+C44 -> 0 | D45: =D42+D44 -> 0 | E45: =E42+E44 -> 0 | F45: =F42+F44 -> 0

Sheet Externe kosten
B2: Bijlage 4 - Prijzenblad 'Europese Aanbesteding Meerjarenprogramma Bos- en houtstatistiek'
B4: Wijzigingen door Inschrijver aan dit document, anders dan waar staat aangegeven 'in te vullen door Inschrijver', leidt tot terzijdelegging van de Inschrijving.
D7: In te vullen maximale kosten door Inschrijver
D10: In te vullen externe kostenposten door Inschrijver.
B12: Externe kosten
B13: a. Opslag van het archief
B14: b. Externe vormgeving
B15: c. Aankoop van data
B23: Totaalprijs 2026 exclusief btw | C23: =SUM(C13:C22) -> 0
B24: btw-percentage
B25: btw-bedrag | C25: =C23*C24 -> 0
B26: Totaalprijs 2026 inclusief btw | C26: =C23+C25 -> 0
B28: Externe kosten
B29: a. Opslag van het archief
B30: b. Externe vormgeving
B31: c. Aankoop van data
B39: Totaalprijs 2027 exclusief btw | C39: =SUM(C29:C38) -> 0
B40: btw-percentage
B41: btw-bedrag | C41: =C39*C40 -> 0
B42: Totaalprijs 2027 inclusief btw | C42: =C39+C41 -> 0
B44: Externe kosten
B45: a. Opslag van het archief
B46: b. Externe vormgeving
B47: c. Aankoop van data
B55: Totaalprijs 2028 exclusief btw | C55: =SUM(C45:C54) -> 0
B56: btw-percentage
B57: btw-bedrag | C57: =C55*C56 -> 0
B58: Totaalprijs 2028 inclusief btw | C58: =C55+C57 -> 0
B60: Externe kosten
B61: a. Opslag van het archief
B62: b. Externe vormgeving
B63: c. Aankoop van data
B71: Totaalprijs 2029 exclusief btw | C71: =SUM(C61:C70) -> 0
B72: btw-percentage
B73: btw-bedrag | C73: =C71*C72 -> 0
B74: Totaalprijs 2029 inclusief btw | C74: =C71+C73 -> 0
B76: Externe kosten
B77: a. Opslag van het archief
B78: b. Externe vormgeving
B79: c. Aankoop van data
B87: Totaalprijs 2030 exclusief btw | C87: =SUM(C77:C86) -> 0
B88: btw-percentage
B89: btw-bedrag | C89: =C87*C88 -> 0
B90: Totaalprijs 2030 inclusief btw | C90: =C87+C89 -> 0

Sheet Totale inschrijfprijs
B3: Totaalprijs 2026 exclusief btw | I3: ='2026'!I65 -> 0
B4: Totaalprijs 2027 exclusief btw | I4: ='2027'!I64 -> 0
B5: Totaalprijs 2028 exclusief btw | I5: ='2028'!I65 -> 0
B6: Totaalprijs 2029 exclusief btw | I6: ='2029'!I64 -> 0
B7: Totaalprijs 2030 exclusief btw | I7: ='2030'!I65 -> 0
B8: Totale kosten afroep (exclusief btw) | I8: =SUM('Kosten op afroep'!C42:F42) -> 0
B9: Totale externe kosten (exclusief btw) | I9: ='Externe kosten'!C23+'Externe kosten'!C39+'Externe kosten'!C55+'Externe kosten'!C71+'Externe kosten'!C87 -> 0
B11: Totale inschrijfprijs 2026 t/m 2030 | I11: =SUM(I3:I9) -> 0
B13: *De totale maximale inschrijfprijs van Inschrijver is niet hoger dan € 650.000,- exclusief btw.
