Workbook
Name koers: Samenvatting!#REF!
Name tariefKwh: Samenvatting!$C$16

Sheet Samenvatting
B2: Europese openbare aanbesteding
B3: Vervanging LAN omgeving
B4: Samenvatting
B5: IUC24-009
B6: (Prijzen exclusief BTW)
B8: Naam Inschrijver:
B11: Offerte is gebaseerd op de volgende koers: Dollar /Euro | D11: <- aanduiding o.b.v. USD/EUR
B12: Datum koers USD/EUR
B13: Via bron:
B14: https://www.wisselkoers.nl/dollar
B16: Tarief per Kwh (wordt gebruikt voor de berekening van de TCO-energieverbruik) | C16: 0.5 | D16: per Kwh
B18: Geoffreerde prijzen worden gestand gedaan in Euro's!
B21: ='A. Bouwblok 1'!C4 -> A. Bouwblok 1: Centrale datacenter WAN koppelingen | E21: =SUM(C22:C25) -> 0
B22: Aanschaf Centrale WAN-koppeling, incl. O&S | C22: =SUM('0 Financiële Waarde'!D13:E13) -> 0
B23: Aanschaf Gebruiksrecht Centrale WAN-koppeling | C23: ='0 Financiële Waarde'!G16 -> 0
B24: Onderhoud & Support Gebruiksrecht | C24: ='0 Financiële Waarde'!G17 -> 0
B25: TCO-Energie | C25: ='0 Financiële Waarde'!F13 -> 0
B27: ='B0. Optics'!C4 -> B0: Bouwblok Diverse optics | E27: =SUM(C28:C30) -> 0
B28: Aanschaf | C28: ='0 Financiële Waarde'!K20 -> 0
B29: Onderhoud & Support | C29: ='0 Financiële Waarde'!L20 -> 0
B30: TCO-Energie | C30: ='0 Financiële Waarde'!M20 -> 0
B32: ='B. Bouwblok 2'!C4 -> B. Bouwblok 2 Decentrale WAN koppeling | E32: =SUM(C33:C35) -> 0
B33: Aanschaf | C33: ='0 Financiële Waarde'!K44 -> 0
B34: Onderhoud & Support | C34: ='0 Financiële Waarde'!L44 -> 0
B35: TCO-Energie | C35: ='0 Financiële Waarde'!M44 -> 0
B37: ='C. Bouwblok 3'!C4 -> C. Bouwblok 3 Decentrale distributie | E37: =SUM(C38:C40) -> 0
B38: Aanschaf | C38: ='0 Financiële Waarde'!K61 -> 0
B39: Onderhoud & Support | C39: ='0 Financiële Waarde'!L61 -> 0
B40: TCO-Energie | C40: ='0 Financiële Waarde'!M61 -> 0
B42: ='D. Bouwblok 4'!C4 -> D. Bouwblok 4 Decentrale LAN access | E42: =SUM(C43:C45) -> 0
B43: Aanschaf | C43: ='0 Financiële Waarde'!K90 -> 0
B44: Onderhoud & Support | C44: ='0 Financiële Waarde'!L90 -> 0
B45: TCO-Energie | C45: ='0 Financiële Waarde'!M90 -> 0
B47: ='E. Bouwblok 5 Integratie A'!C4 -> E. Bouwblok 5 Integratie A: WAN-koppeling & Decentrale distributie | E47: =SUM(C48:C50) -> 0
B48: Aanschaf | C48: ='0 Financiële Waarde'!K113 -> 0
B49: Onderhoud & Support | C49: ='0 Financiële Waarde'!L113 -> 0
B50: TCO-Energie | C50: ='0 Financiële Waarde'!M113 -> 0
B52: ='F. Bouwblok 6 Integratie B'!C4 -> F. Bouwblok 6 Integratie B: WAN-koppeling & Decentrale distributie / Decentrale LAN Access | E52: =SUM(C53:C55) -> 0
B53: Aanschaf | C53: ='0 Financiële Waarde'!K142 -> 0
B54: Onderhoud & Support | C54: ='0 Financiële Waarde'!L142 -> 0
B55: TCO-Energie | C55: ='0 Financiële Waarde'!M142 -> 0
B57: ='Additionele diensten'!B10 -> Implementatie | E57: ='Additionele diensten'!H16 -> 0
B59: ='Additionele diensten'!B20 -> Consultancy | E59: ='Additionele diensten'!H24 -> 0
B61: Opleidingen | E61: ='Additionele diensten'!I39 -> 0
B64: Vergelijkingswaarde t.b.v. BPK-formule | E64: =SUM(E21:E61) -> 0

Sheet Toelichting
B2: =+Samenvatting!B2 -> Europese openbare aanbesteding
B3: =+Samenvatting!B3 -> Vervanging LAN omgeving
B4: Toelichting Prijzenformulier
B5: =+Samenvatting!B5 -> IUC24-009
B9: Op dit tabblad treft u een schematische weergaven van het Prijzenformulier:
B11: Tabblad waar input van Inschrijver gewenst is!
B12: Tabblad ter informatie
G14: EMVI-Superformule
G15: Hier ziet u uw vergelijkingswaarde in de EMVI-grafiek
G16: Ter indicatie kan de eigen inschatting van de Q-score worden opgegeven,
G17: zodat een indicatie van uw totaalscore zichtbaar wordt.
B19: Samenvatting
B20: De berekende financiële | G20: Financiële waarden
B21: waarden worden overgenomen | G21: Aan de hand van de dimensionering (Inventarisatie huidige
B22: in het tabblad Samenvatting | G22: omgeving) wordt op basis van de geoffreerde bedragen in
G23: de BOUWBLOKKEN en de betreffende doorrekengrondslag | K23: BOUWBLOKKEN
G24: de totale financiële waarde berekend. | M24: Bouwblok Centrale WAN-koppeling
M25: In dit tabblad kan de Hardware en Programmatuur van de Centrale
M26: WAN-koppeling worden geoffreerd.
M27: De aanschaf, Fabrikantensupport en de ICT-energiekosten (o.b.v.
M28: het verbruik in Watt).
M29: Voor Licentiekosten kan of een Perpetual of Subscription worden aangeboden.
M33: Bouwblok Decentrale WAN-koppeling
M34: In dit tabblad kan de Hardware en Programmatuur van de Decentrale
M35: WAN-koppeling worden geoffreerd.
B36: Dimensionering | M36: De aanschaf, Fabrikantensupport en de ICT-energiekosten (o.b.v.
B37: Voor die dimensionering wordt verwezen | M37: het verbruik in Watt).
B38: naar Bijlage: Dimensionering-Decentrale-Locaties. | M38: Voor Licentiekosten kan of een Perpetual of Subscription worden aangeboden.
M40: Bouwblok Decentrale Distributie
M41: In dit tabblad kan de Hardware en Programmatuur van de Decentrale
M42: Distributie worden geoffreerd.
M43: De aanschaf, Fabrikantensupport en de ICT-energiekosten (o.b.v.
M44: het verbruik in Watt).
M45: Voor Licentiekosten kan of een Perpetual of Subscription worden aangeboden.
M47: Bouwblok Decentral LAN Access
M48: In dit tabblad kan de Hardware en Programmatuur van de Decentrale
M49: Distributie worden geoffreerd.
M50: De aanschaf, Fabrikantensupport en de ICT-energiekosten (o.b.v.
E51: Benodigde HW & SW | M51: het verbruik in Watt).
E52: Hier kunnen per locatie de door de inschrijver | M52: Voor Licentiekosten kan of een Perpetual of Subscription worden aangeboden.
E53: ingevulde bouwblokken (zie rechts) worden opgenomen,
E54: zodat per locatie de volledige en juiste hard- en software
E55: geregistreerd staat. | M55: Bouwblok Integratie A
M56: In dit tabblad kan de Hardware en Programmatuur bij integratie van
M57: de WAN-koppeling & Distributie worden geoffreerd.
M58: De aanschaf, Fabrikantensupport en de ICT-energiekosten (o.b.v.
M59: het verbruik in Watt).
M60: Voor Licentiekosten kan of een Perpetual of Subscription worden aangeboden.
M62: Bouwblok Integratie B
M63: In dit tabblad kan de Hardware en Programmatuur van de integratie van
M64: de Distributie en LAN-Access Stacks en van de WAN-koppeling, Distributie
M65: Distributie en LAN-Access worden geoffreerd voor de kleine locaties.
M66: De aanschaf, Fabrikantensupport en de ICT-energiekosten (o.b.v.
M67: het verbruik in Watt).
M68: Licenties kunnen ofwel Perpetual ofwel o.b.v. Subscription worden aangeboden.
... M71: Hier wordt een prijsopgave gevraagd voor consultancy.
B107: Toelichting / onderbouwing
B108: Vrije velden voor toelichting / onderbouwing / Licentie, Fabrikantensupport en overige kosten.

Sheet Dimensionering
B2: =+Samenvatting!B2 -> Europese openbare aanbesteding
B3: =+Samenvatting!B3 -> Vervanging LAN omgeving
B4: Dimensionering
B5: IUC24-009
B9: Voor de dimensionering wordt verwezen naar Bijlage 8 - 'Dimensionering-Decentrale-Locaties'.
B35: Toelichting / onderbouwing
B36: Vrije velden voor toelichting / onderbouwing / Licentie, Fabrikantensupport en overige kosten.

Sheet 0 Financiële Waarde
C2: =+Samenvatting!B2 -> Europese openbare aanbesteding
C3: =+Samenvatting!B3 -> Vervanging LAN omgeving
C4: Berekening financiële waarde
C5: IUC24-009
C6: (Prijzen exclusief BTW)
B9: ='A. Bouwblok 1'!C4 -> A. Bouwblok 1: Centrale datacenter WAN koppelingen
C11: Aanschaf WAN-koppeling | D11: Aanschaf | E11: Onderhoud & Support 7 jaren | F11: TCO-energie 7 jaren | G11: Totaal
C12: Locatie DC1 & DC2 | D12: =+'A. Bouwblok 1'!E12 -> 0 | E12: =+'A. Bouwblok 1'!F12 -> 0 | F12: =+'A. Bouwblok 1'!G12 -> 0 | G12: =SUM(D12:F12) -> 0 | H12: Zie tabblad "A1. Bouwblok 1"
C13: Totaal | D13: =SUM(D12:D12) -> 0 | E13: =SUM(E12:E12) -> 0 | F13: =SUM(F12:F12) -> 0 | G13: =SUM(D13:F13) -> 0 | H13: <-naar samenvatting
C15: Gebruiksrecht Management | E15: Aanschaf Jaar 1 | F15: Onderhoud & Support óf Subscription 7 Jaar | G15: Totaal bedrag
D16: Gebruiksrecht management aanschaf | E16: =+'A. Bouwblok 1'!J26 -> 0 | G16: =SUM(E16:F16) -> 0 | H16: Zie tabblad "A1. Bouwblok 1"
D17: Gebruiksrecht management Onderhoud & Support óf Subscription | F17: =+'A. Bouwblok 1'!T26 -> 0 | G17: =SUM(E17:F17) -> 0 | H17: Zie tabblad "A1. Bouwblok 1" | J17: <-naar samenvatting
B20: ='B0. Optics'!C4 -> B0: Bouwblok Diverse optics | I20: Subtotaal | K20: =+K24+K26+K28+K30+K32+K34+K36+K38+K40+K42 -> 0 | L20: =+L24+L26+L28+L30+L32+L34+L36+L38+L40+L42 -> 0 | M20: =+M24+M26+M28+M30+M32+M34+M36+M38+M40+M42 -> 0
E22: Aanschaf | F22: O&S | G22: TCO-energie | I22: Benodigde aantallen | K22: Aanschaf | L22: O&S | M22: TCO-energie
B23: 1a | C23: =+'B0. Optics'!C10 -> Optic 1 | E23: =+'B0. Optics'!E10 -> 0 | F23: =+'B0. Optics'!F10 -> 0 | G23: =+'B0. Optics'!G10 -> 0 | K23: =+I24*E23 -> 0 | L23: =I24*F23 -> 0 | M23: =+G23 -> 0
C24: Totaal | D24: =+'B0. Optics'!D11 -> Optic 1 : | E24: =SUM(E23:E23) -> 0 | F24: =SUM(F23:F23) -> 0 | G24: =SUM(G23:G23) -> 0 | I24: =SUMIF('0 Benodigde HW en SW '!G:H,D24,'0 Benodigde HW en SW '!H:H)+SUMIF('0 Benodigde HW en SW '!J:K,D24,'0 Benodigde HW en SW '!K:K)+SUMIF('0 Benodigde HW en SW '!M:N,D24,'0 Benodigde HW en SW '!N:N)+SUMIF('0 Benodigde HW en SW '!P:Q,D24,'0 Benodigde HW en SW '!Q:Q)+SUMIF('0 Benodigde HW en SW '!S:T,D24,'0 Benodigde HW en SW '!Q:Q) -> 0 | K24: =SUM(K22:K23) -> 0 | L24: =SUM(L22:L23) -> 0 | M24: =SUM(M22:M23) -> 0
B25: 2a | C25: Optic 2 | E25: =+'B0. Optics'!E12 -> 0 | F25: =+'B0. Optics'!F12 -> 0 | G25: =+'B0. Optics'!G12 -> 0 | K25: =+I26*E25 -> 0 | L25: =I26*F25 -> 0 | M25: =+G25 -> 0
C26: Totaal | D26: =+'B0. Optics'!D13 -> Optic 2 : | E26: =SUM(E25:E25) -> 0 | F26: =SUM(F25:F25) -> 0 | G26: =SUM(G25:G25) -> 0 | I26: =SUMIF('0 Benodigde HW en SW '!G:H,D26,'0 Benodigde HW en SW '!H:H)+SUMIF('0 Benodigde HW en SW '!J:K,D26,'0 Benodigde HW en SW '!K:K)+SUMIF('0 Benodigde HW en SW '!M:N,D26,'0 Benodigde HW en SW '!N:N)+SUMIF('0 Benodigde HW en SW '!P:Q,D26,'0 Benodigde HW en SW '!Q:Q)+SUMIF('0 Benodigde HW en SW '!S:T,D26,'0 Benodigde HW en SW '!Q:Q) -> 0 | K26: =SUM(K24:K25) -> 0 | L26: =SUM(L24:L25) -> 0 | M26: =SUM(M24:M25) -> 0
B27: 3a | C27: Optic 3 | E27: =+'B0. Optics'!E14 -> 0 | F27: =+'B0. Optics'!F14 -> 0 | G27: =+'B0. Optics'!G14 -> 0 | K27: =+I28*E27 -> 0 | L27: =I28*F27 -> 0 | M27: =+G27 -> 0
C28: Totaal | D28: =+'B0. Optics'!D15 -> Optic 3 : | E28: =SUM(E27:E27) -> 0 | F28: =SUM(F27:F27) -> 0 | G28: =SUM(G27:G27) -> 0 | I28: =SUMIF('0 Benodigde HW en SW '!G:H,D28,'0 Benodigde HW en SW '!H:H)+SUMIF('0 Benodigde HW en SW '!J:K,D28,'0 Benodigde HW en SW '!K:K)+SUMIF('0 Benodigde HW en SW '!M:N,D28,'0 Benodigde HW en SW '!N:N)+SUMIF('0 Benodigde HW en SW '!P:Q,D28,'0 Benodigde HW en SW '!Q:Q)+SUMIF('0 Benodigde HW en SW '!S:T,D28,'0 Benodigde HW en SW '!Q:Q) -> 0 | K28: =SUM(K26:K27) -> 0 | L28: =SUM(L26:L27) -> 0 | M28: =SUM(M26:M27) -> 0
B29: 4a | C29: Optic 4 | E29: =+'B0. Optics'!E16 -> 0 | F29: =+'B0. Optics'!F16 -> 0 | G29: =+'B0. Optics'!G16 -> 0 | K29: =+I30*E29 -> 0 | L29: =I30*F29 -> 0 | M29: =+G29 -> 0
C30: Totaal | D30: =+'B0. Optics'!D17 -> Optic 4 : | E30: =SUM(E29:E29) -> 0 | F30: =SUM(F29:F29) -> 0 | G30: =SUM(G29:G29) -> 0 | I30: =SUMIF('0 Benodigde HW en SW '!G:H,D30,'0 Benodigde HW en SW '!H:H)+SUMIF('0 Benodigde HW en SW '!J:K,D30,'0 Benodigde HW en SW '!K:K)+SUMIF('0 Benodigde HW en SW '!M:N,D30,'0 Benodigde HW en SW '!N:N)+SUMIF('0 Benodigde HW en SW '!P:Q,D30,'0 Benodigde HW en SW '!Q:Q)+SUMIF('0 Benodigde HW en SW '!S:T,D30,'0 Benodigde HW en SW '!Q:Q) -> 0 | K30: =SUM(K28:K29) -> 0 | L30: =SUM(L28:L29) -> 0 | M30: =SUM(M28:M29) -> 0
B31: 5a | C31: Optic 5 | E31: =+'B0. Optics'!E18 -> 0 | F31: =+'B0. Optics'!F18 -> 0 | G31: =+'B0. Optics'!G18 -> 0 | K31: =+I32*E31 -> 0 | L31: =I32*F31 -> 0 | M31: =+G31 -> 0
C32: Totaal | D32: =+'B0. Optics'!D19 -> Optic 5 : | E32: =SUM(E31:E31) -> 0 | F32: =SUM(F31:F31) -> 0 | G32: =SUM(G31:G31) -> 0 | I32: =SUMIF('0 Benodigde HW en SW '!G:H,D32,'0 Benodigde HW en SW '!H:H)+SUMIF('0 Benodigde HW en SW '!J:K,D32,'0 Benodigde HW en SW '!K:K)+SUMIF('0 Benodigde HW en SW '!M:N,D32,'0 Benodigde HW en SW '!N:N)+SUMIF('0 Benodigde HW en SW '!P:Q,D32,'0 Benodigde HW en SW '!Q:Q)+SUMIF('0 Benodigde HW en SW '!S:T,D32,'0 Benodigde HW en SW '!Q:Q) -> 0 | K32: =SUM(K30:K31) -> 0 | L32: =SUM(L30:L31) -> 0 | M32: =SUM(M30:M31) -> 0
B33: 6a | C33: =+'B0. Optics'!C20 -> Optic 6 | E33: =+'B0. Optics'!E20 -> 0 | F33: =+'B0. Optics'!F20 -> 0 | G33: =+'B0. Optics'!G20 -> 0 | K33: =+I34*E33 -> 0 | L33: =I34*F33 -> 0 | M33: =+G33 -> 0
C34: Totaal | D34: =+'B0. Optics'!D21 -> Optic 6 : | E34: =SUM(E33:E33) -> 0 | F34: =SUM(F33:F33) -> 0 | G34: =SUM(G33:G33) -> 0 | I34: =SUMIF('0 Benodigde HW en SW '!G:H,D34,'0 Benodigde HW en SW '!H:H)+SUMIF('0 Benodigde HW en SW '!J:K,D34,'0 Benodigde HW en SW '!K:K)+SUMIF('0 Benodigde HW en SW '!M:N,D34,'0 Benodigde HW en SW '!N:N)+SUMIF('0 Benodigde HW en SW '!P:Q,D34,'0 Benodigde HW en SW '!Q:Q)+SUMIF('0 Benodigde HW en SW '!S:T,D34,'0 Benodigde HW en SW '!Q:Q) -> 0 | K34: =SUM(K32:K33) -> 0 | L34: =SUM(L32:L33) -> 0 | M34: =SUM(M32:M33) -> 0
B35: 7a | C35: Optic 2 | E35: =+'B0. Optics'!E22 -> 0 | F35: =+'B0. Optics'!F22 -> 0 | G35: =+'B0. Optics'!G22 -> 0 | K35: =+I36*E35 -> 0 | L35: =I36*F35 -> 0 | M35: =+G35 -> 0
C36: Totaal | D36: =+'B0. Optics'!D23 -> Optic 7 : | E36: =SUM(E35:E35) -> 0 | F36: =SUM(F35:F35) -> 0 | G36: =SUM(G35:G35) -> 0 | I36: =SUMIF('0 Benodigde HW en SW '!G:H,D36,'0 Benodigde HW en SW '!H:H)+SUMIF('0 Benodigde HW en SW '!J:K,D36,'0 Benodigde HW en SW '!K:K)+SUMIF('0 Benodigde HW en SW '!M:N,D36,'0 Benodigde HW en SW '!N:N)+SUMIF('0 Benodigde HW en SW '!P:Q,D36,'0 Benodigde HW en SW '!Q:Q)+SUMIF('0 Benodigde HW en SW '!S:T,D36,'0 Benodigde HW en SW '!Q:Q) -> 0 | K36: =SUM(K34:K35) -> 0 | L36: =SUM(L34:L35) -> 0 | M36: =SUM(M34:M35) -> 0
B37: 8a | C37: Optic 3 | E37: =+'B0. Optics'!E24 -> 0 | F37: =+'B0. Optics'!F24 -> 0 | G37: =+'B0. Optics'!G24 -> 0 | K37: =+I38*E37 -> 0 | L37: =I38*F37 -> 0 | M37: =+G37 -> 0
C38: Totaal | D38: =+'B0. Optics'!D25 -> Optic 8 : | E38: =SUM(E37:E37) -> 0 | F38: =SUM(F37:F37) -> 0 | G38: =SUM(G37:G37) -> 0 | I38: =SUMIF('0 Benodigde HW en SW '!G:H,D38,'0 Benodigde HW en SW '!H:H)+SUMIF('0 Benodigde HW en SW '!J:K,D38,'0 Benodigde HW en SW '!K:K)+SUMIF('0 Benodigde HW en SW '!M:N,D38,'0 Benodigde HW en SW '!N:N)+SUMIF('0 Benodigde HW en SW '!P:Q,D38,'0 Benodigde HW en SW '!Q:Q)+SUMIF('0 Benodigde HW en SW '!S:T,D38,'0 Benodigde HW en SW '!Q:Q) -> 0 | K38: =SUM(K36:K37) -> 0 | L38: =SUM(L36:L37) -> 0 | M38: =SUM(M36:M37) -> 0
B39: 9a | C39: Optic 4 | E39: =+'B0. Optics'!E26 -> 0 | F39: =+'B0. Optics'!F26 -> 0 | G39: =+'B0. Optics'!G26 -> 0 | K39: =+I40*E39 -> 0 | L39: =I40*F39 -> 0 | M39: =+G39 -> 0
C40: Totaal | D40: =+'B0. Optics'!D27 -> Optic 9 : | E40: =SUM(E39:E39) -> 0 | F40: =SUM(F39:F39) -> 0 | G40: =SUM(G39:G39) -> 0 | I40: =SUMIF('0 Benodigde HW en SW '!G:H,D40,'0 Benodigde HW en SW '!H:H)+SUMIF('0 Benodigde HW en SW '!J:K,D40,'0 Benodigde HW en SW '!K:K)+SUMIF('0 Benodigde HW en SW '!M:N,D40,'0 Benodigde HW en SW '!N:N)+SUMIF('0 Benodigde HW en SW '!P:Q,D40,'0 Benodigde HW en SW '!Q:Q)+SUMIF('0 Benodigde HW en SW '!S:T,D40,'0 Benodigde HW en SW '!Q:Q) -> 0 | K40: =SUM(K38:K39) -> 0 | L40: =SUM(L38:L39) -> 0 | M40: =SUM(M38:M39) -> 0
B41: 10a | C41: Optic 5 | E41: =+'B0. Optics'!E28 -> 0 | F41: =+'B0. Optics'!F28 -> 0 | G41: =+'B0. Optics'!G28 -> 0 | K41: =+I42*E41 -> 0 | L41: =I42*F41 -> 0 | M41: =+G41 -> 0
C42: Totaal | D42: =+'B0. Optics'!D29 -> Optic 10 : | E42: =SUM(E41:E41) -> 0 | F42: =SUM(F41:F41) -> 0 | G42: =SUM(G41:G41) -> 0 | I42: =SUMIF('0 Benodigde HW en SW '!G:H,D42,'0 Benodigde HW en SW '!H:H)+SUMIF('0 Benodigde HW en SW '!J:K,D42,'0 Benodigde HW en SW '!K:K)+SUMIF('0 Benodigde HW en SW '!M:N,D42,'0 Benodigde HW en SW '!N:N)+SUMIF('0 Benodigde HW en SW '!P:Q,D42,'0 Benodigde HW en SW '!Q:Q)+SUMIF('0 Benodigde HW en SW '!S:T,D42,'0 Benodigde HW en SW '!Q:Q) -> 0 | K42: =SUM(K40:K41) -> 0 | L42: =SUM(L40:L41) -> 0 | M42: =SUM(M40:M41) -> 0
B44: ='B. Bouwblok 2'!C4 -> B. Bouwblok 2 Decentrale WAN koppeling | I44: Subtotaal | K44: =K49+K52+K55+K58 -> 0 | L44: =L49+L52+L55+L58 -> 0 | M44: =M49+M52+M55+M58 -> 0
E46: Aanschaf | F46: O&S | G46: TCO-energie | I46: Benodigde aantallen | K46: Aanschaf | L46: O&S | M46: TCO-energie
B47: 1a | C47: Variant 1: Decentrale Distributie | E47: ='B. Bouwblok 2'!E10 -> 0 | F47: ='B. Bouwblok 2'!F10 -> 0 | G47: ='B. Bouwblok 2'!G10 -> 0 | K47: =+I49*E47 -> 0 | L47: =+I49*F47 -> 0 | M47: =I49*G47 -> 0
B48: 1b | C48: Variant 1: Licentie(s) Decentrale WAN-koppeling | E48: ='B. Bouwblok 2'!E11 -> 0 | F48: ='B. Bouwblok 2'!F11 -> 0 | G48: ='B. Bouwblok 2'!G11 -> n.v.t. | K48: =+I49*E48 -> 0 | L48: =I49*F48 -> 0 | M48: =+G48 -> n.v.t.
C49: Totaal | D49: =+'B. Bouwblok 2'!D12 -> WAN 1 : | E49: =SUM(E47:E48) -> 0 | F49: =SUM(F47:F48) -> 0 | G49: =SUM(G47:G48) -> 0 | I49: =COUNTIF('0 Benodigde HW en SW '!$F$10:$BE$92,D49) -> 0 | K49: =SUM(K47:K48) -> 0 | L49: =SUM(L47:L48) -> 0 | M49: =SUM(M47:M48) -> 0
B50: 2a | C50: Variant 2: Decentrale Distributie | E50: ='B. Bouwblok 2'!E13 -> 0 | F50: ='B. Bouwblok 2'!F13 -> 0 | G50: ='B. Bouwblok 2'!G13 -> 0 | K50: =+I52*E50 -> 0 | L50: =+I52*F50 -> 0 | M50: =I52*G50 -> 0
B51: 2b | C51: Variant 2: Licentie(s) Decentrale WAN-koppeling | E51: ='B. Bouwblok 2'!E14 -> 0 | F51: ='B. Bouwblok 2'!F14 -> 0 | G51: ='B. Bouwblok 2'!G14 -> n.v.t. | K51: =+I52*E51 -> 0 | L51: =I52*F51 -> 0 | M51: =+G51 -> n.v.t.
C52: Totaal | D52: =+'B. Bouwblok 2'!D15 -> WAN 2 : | E52: =SUM(E50:E51) -> 0 | F52: =SUM(F50:F51) -> 0 | G52: =SUM(G50:G51) -> 0 | I52: =COUNTIF('0 Benodigde HW en SW '!$F$10:$BE$92,D52) -> 0 | K52: =SUM(K50:K51) -> 0 | L52: =SUM(L50:L51) -> 0 | M52: =SUM(M50:M51) -> 0
B53: 3a | C53: Variant 3: Decentrale Distributie | E53: ='B. Bouwblok 2'!E16 -> 0 | F53: ='B. Bouwblok 2'!F16 -> 0 | G53: ='B. Bouwblok 2'!G16 -> 0 | K53: =+I55*E53 -> 0 | L53: =+I55*F53 -> 0 | M53: =I55*G53 -> 0
B54: 3b | C54: Variant 3: Licentie(s) Decentrale WAN-koppeling | E54: ='B. Bouwblok 2'!E17 -> 0 | F54: ='B. Bouwblok 2'!F17 -> 0 | G54: ='B. Bouwblok 2'!G17 -> n.v.t. | K54: =+I55*E54 -> 0 | L54: =I55*F54 -> 0 | M54: =+G54 -> n.v.t.
C55: Totaal | D55: =+'B. Bouwblok 2'!D18 -> WAN 3 : | E55: =SUM(E53:E54) -> 0 | F55: =SUM(F53:F54) -> 0 | G55: =SUM(G53:G54) -> 0 | I55: =COUNTIF('0 Benodigde HW en SW '!$F$10:$BE$92,D55) -> 0 | K55: =SUM(K53:K54) -> 0 | L55: =SUM(L53:L54) -> 0 | M55: =SUM(M53:M54) -> 0
B56: 4a | C56: Variant 4: Decentrale Distributie | E56: ='B. Bouwblok 2'!E19 -> 0 | F56: ='B. Bouwblok 2'!F19 -> 0 | G56: ='B. Bouwblok 2'!G19 -> 0 | K56: =+I58*E56 -> 0 | L56: =+I58*F56 -> 0 | M56: =I58*G56 -> 0
B57: 4b | C57: Variant 4: Licentie(s) Decentrale WAN-koppeling | E57: ='B. Bouwblok 2'!E20 -> 0 | F57: ='B. Bouwblok 2'!F20 -> 0 | G57: ='B. Bouwblok 2'!G20 -> n.v.t. | K57: =+I58*E57 -> 0 | L57: =I58*F57 -> 0 | M57: =+G57 -> n.v.t.
C58: Totaal | D58: =+'B. Bouwblok 2'!D21 -> WAN 4 : | E58: =SUM(E56:E57) -> 0 | F58: =SUM(F56:F57) -> 0 | G58: =SUM(G56:G57) -> 0 | I58: =COUNTIF('0 Benodigde HW en SW '!$F$10:$BE$92,D58) -> 0 | K58: =SUM(K56:K57) -> 0 | L58: =SUM(L56:L57) -> 0 | M58: =SUM(M56:M57) -> 0
B61: ='C. Bouwblok 3'!C4 -> C. Bouwblok 3 Decentrale distributie | I61: Subtotaal | K61: =K66+K69+K72+K75+K78+K81+K84+K87 -> 0 | L61: =L66+L69+L72+L75+L78+L81+L84+L87 -> 0 | M61: =M66+M69+M72+M75+M78+M81+M84+M87 -> 0
E63: Aanschaf | F63: O&S | G63: TCO-energie | I63: Benodigde aantallen | K63: Aanschaf | L63: O&S | M63: TCO-energie
B64: 1a | C64: ='C. Bouwblok 3'!C10 -> Variant 1: Decentrale Distributie | E64: ='C. Bouwblok 3'!E10 -> 0 | F64: ='C. Bouwblok 3'!F10 -> 0 | G64: ='C. Bouwblok 3'!G10 -> 0 | K64: =+I66*E64 -> 0 | L64: =+I66*F64 -> 0 | M64: =I66*G64 -> 0
B65: 1b | C65: ='C. Bouwblok 3'!C11 -> Variant 1: Licentie(s) Decentrale Distributie | E65: ='C. Bouwblok 3'!E11 -> 0 | F65: ='C. Bouwblok 3'!F11 -> 0 | G65: ='C. Bouwblok 3'!G11 -> n.v.t. | K65: =+I66*E65 -> 0 | L65: =I66*F65 -> 0 | M65: =+G65 -> n.v.t.
C66: ='C. Bouwblok 3'!C12 -> Totaal | D66: ='C. Bouwblok 3'!D12 -> Distributie 1 : | E66: =SUM(E64:E65) -> 0 | F66: =SUM(F64:F65) -> 0 | G66: =SUM(G64:G65) -> 0 | I66: =COUNTIF('0 Benodigde HW en SW '!$F$10:$BE$92,D66) -> 0 | K66: =SUM(K64:K65) -> 0 | L66: =SUM(L64:L65) -> 0 | M66: =SUM(M64:M65) -> 0
B67: 2a | C67: ='C. Bouwblok 3'!C13 -> Variant 2: Decentrale Distributie | E67: ='C. Bouwblok 3'!E13 -> 0 | F67: ='C. Bouwblok 3'!F13 -> 0 | G67: ='C. Bouwblok 3'!G13 -> 0 | K67: =+I69*E67 -> 0 | L67: =+I69*F67 -> 0 | M67: =I69*G67 -> 0
B68: 2b | C68: ='C. Bouwblok 3'!C14 -> Variant 2: Licentie(s) Decentrale Distributie | E68: ='C. Bouwblok 3'!E14 -> 0 | F68: ='C. Bouwblok 3'!F14 -> 0 | G68: ='C. Bouwblok 3'!G14 -> n.v.t. | K68: =+I69*E68 -> 0 | L68: =I69*F68 -> 0 | M68: =+G68 -> n.v.t.
C69: ='C. Bouwblok 3'!C15 -> Totaal | D69: ='C. Bouwblok 3'!D15 -> Distributie 2 : | E69: =SUM(E67:E68) -> 0 | F69: =SUM(F67:F68) -> 0 | G69: =SUM(G67:G68) -> 0 | I69: =COUNTIF('0 Benodigde HW en SW '!$F$10:$BE$92,D69) -> 0 | K69: =SUM(K67:K68) -> 0 | L69: =SUM(L67:L68) -> 0 | M69: =SUM(M67:M68) -> 0
B70: 3a | C70: ='C. Bouwblok 3'!C16 -> Variant 3: Decentrale Distributie | E70: ='C. Bouwblok 3'!E16 -> 0 | F70: ='C. Bouwblok 3'!F16 -> 0 | G70: ='C. Bouwblok 3'!G16 -> 0 | K70: =+I72*E70 -> 0 | L70: =+I72*F70 -> 0 | M70: =I72*G70 -> 0
B71: 3b | C71: ='C. Bouwblok 3'!C17 -> Variant 3: Licentie(s) Decentrale Distributie | E71: ='C. Bouwblok 3'!E17 -> 0 | F71: ='C. Bouwblok 3'!F17 -> 0 | G71: ='C. Bouwblok 3'!G17 -> n.v.t. | K71: =+I72*E71 -> 0 | L71: =I72*F71 -> 0 | M71: =+G71 -> n.v.t.
C72: ='C. Bouwblok 3'!C18 -> Totaal | D72: ='C. Bouwblok 3'!D18 -> Distributie 3 : | E72: =SUM(E70:E71) -> 0 | F72: =SUM(F70:F71) -> 0 | G72: =SUM(G70:G71) -> 0 | I72: =COUNTIF('0 Benodigde HW en SW '!$F$10:$BE$92,D72) -> 0 | K72: =SUM(K70:K71) -> 0 | L72: =SUM(L70:L71) -> 0 | M72: =SUM(M70:M71) -> 0
B73: 4a | C73: ='C. Bouwblok 3'!C19 -> Variant 4: Decentrale Distributie | E73: ='C. Bouwblok 3'!E19 -> 0 | F73: ='C. Bouwblok 3'!F19 -> 0 | G73: ='C. Bouwblok 3'!G19 -> 0 | K73: =+I75*E73 -> 0 | L73: =+I75*F73 -> 0 | M73: =I75*G73 -> 0
B74: 4b | C74: ='C. Bouwblok 3'!C20 -> Variant 4: Licentie(s) Decentrale Distributie | E74: ='C. Bouwblok 3'!E20 -> 0 | F74: ='C. Bouwblok 3'!F20 -> 0 | G74: ='C. Bouwblok 3'!G20 -> n.v.t. | K74: =+I75*E74 -> 0 | L74: =I75*F74 -> 0 | M74: =+G74 -> n.v.t.
C75: ='C. Bouwblok 3'!C21 -> Totaal | D75: ='C. Bouwblok 3'!D21 -> Distributie 4 : | E75: =SUM(E73:E74) -> 0 | F75: =SUM(F73:F74) -> 0 | G75: =SUM(G73:G74) -> 0 | I75: =COUNTIF('0 Benodigde HW en SW '!$F$10:$BE$92,D75) -> 0 | K75: =SUM(K73:K74) -> 0 | L75: =SUM(L73:L74) -> 0 | M75: =SUM(M73:M74) -> 0
B76: 5a | C76: ='C. Bouwblok 3'!C22 -> Variant 5: Decentrale Distributie | E76: ='C. Bouwblok 3'!E22 -> 0 | F76: ='C. Bouwblok 3'!F22 -> 0 | G76: ='C. Bouwblok 3'!G22 -> 0 | K76: =+I78*E76 -> 0 | L76: =+I78*F76 -> 0 | M76: =I78*G76 -> 0
B77: 5b | C77: ='C. Bouwblok 3'!C23 -> Variant 5: Licentie(s) Decentrale Distributie | E77: ='C. Bouwblok 3'!E23 -> 0 | F77: ='C. Bouwblok 3'!F23 -> 0 | G77: ='C. Bouwblok 3'!G23 -> n.v.t. | K77: =+I78*E77 -> 0 | L77: =I78*F77 -> 0 | M77: =+G77 -> n.v.t.
C78: ='C. Bouwblok 3'!C24 -> Totaal | D78: ='C. Bouwblok 3'!D24 -> Distributie 5 : | E78: =SUM(E76:E77) -> 0 | F78: =SUM(F76:F77) -> 0 | G78: =SUM(G76:G77) -> 0 | I78: =COUNTIF('0 Benodigde HW en SW '!$F$10:$BE$92,D78) -> 0 | K78: =SUM(K76:K77) -> 0 | L78: =SUM(L76:L77) -> 0 | M78: =SUM(M76:M77) -> 0
B79: 6a | C79: ='C. Bouwblok 3'!C25 -> Variant 6: Decentrale Distributie | E79: ='C. Bouwblok 3'!E25 -> 0 | F79: ='C. Bouwblok 3'!F25 -> 0 | G79: ='C. Bouwblok 3'!G25 -> 0 | K79: =+I81*E79 -> 0 | L79: =+I81*F79 -> 0 | M79: =I81*G79 -> 0
B80: 6b | C80: ='C. Bouwblok 3'!C26 -> Variant 6: Licentie(s) Decentrale Distributie | E80: ='C. Bouwblok 3'!E26 -> 0 | F80: ='C. Bouwblok 3'!F26 -> 0 | G80: ='C. Bouwblok 3'!G26 -> n.v.t. | K80: =+I81*E80 -> 0 | L80: =I81*F80 -> 0 | M80: =+G80 -> n.v.t.
C81: ='C. Bouwblok 3'!C27 -> Totaal | D81: ='C. Bouwblok 3'!D27 -> Distributie 6 : | E81: =SUM(E79:E80) -> 0 | F81: =SUM(F79:F80) -> 0 | G81: =SUM(G79:G80) -> 0 | I81: =COUNTIF('0 Benodigde HW en SW '!$F$10:$BE$92,D81) -> 0 | K81: =SUM(K79:K80) -> 0 | L81: =SUM(L79:L80) -> 0 | M81: =SUM(M79:M80) -> 0
B82: 7a | C82: ='C. Bouwblok 3'!C28 -> Variant 7: Decentrale Distributie | E82: ='C. Bouwblok 3'!E28 -> 0 | F82: ='C. Bouwblok 3'!F28 -> 0 | G82: ='C. Bouwblok 3'!G28 -> 0 | K82: =+I84*E82 -> 0 | L82: =+I84*F82 -> 0 | M82: =I84*G82 -> 0
B83: 7b | C83: ='C. Bouwblok 3'!C29 -> Variant 7: Licentie(s) Decentrale Distributie | E83: ='C. Bouwblok 3'!E29 -> 0 | F83: ='C. Bouwblok 3'!F29 -> 0 | G83: ='C. Bouwblok 3'!G29 -> n.v.t. | K83: =+I84*E83 -> 0 | L83: =I84*F83 -> 0 | M83: =+G83 -> n.v.t.
C84: ='C. Bouwblok 3'!C30 -> Totaal | D84: ='C. Bouwblok 3'!D30 -> Distributie 7 : | E84: =SUM(E82:E83) -> 0 | F84: =SUM(F82:F83) -> 0 | G84: =SUM(G82:G83) -> 0 | I84: =COUNTIF('0 Benodigde HW en SW '!$F$10:$BE$92,D84) -> 0 | K84: =SUM(K82:K83) -> 0 | L84: =SUM(L82:L83) -> 0 | M84: =SUM(M82:M83) -> 0
B85: 8a | C85: ='C. Bouwblok 3'!C31 -> Variant 8: Decentrale Distributie | E85: ='C. Bouwblok 3'!E31 -> 0 | F85: ='C. Bouwblok 3'!F31 -> 0 | G85: ='C. Bouwblok 3'!G31 -> 0 | K85: =+I87*E85 -> 0 | L85: =+I87*F85 -> 0 | M85: =I87*G85 -> 0
B86: 8b | C86: ='C. Bouwblok 3'!C32 -> Variant 8: Licentie(s) Decentrale Distributie | E86: ='C. Bouwblok 3'!E32 -> 0 | F86: ='C. Bouwblok 3'!F32 -> 0 | G86: ='C. Bouwblok 3'!G32 -> n.v.t. | K86: =+I87*E86 -> 0 | L86: =I87*F86 -> 0 | M86: =+G86 -> n.v.t.
C87: ='C. Bouwblok 3'!C33 -> Totaal | D87: ='C. Bouwblok 3'!D33 -> Distributie 8 : | E87: =SUM(E85:E86) -> 0 | F87: =SUM(F85:F86) -> 0 | G87: =SUM(G85:G86) -> 0 | I87: =COUNTIF('0 Benodigde HW en SW '!$F$10:$BE$92,D87) -> 0 | K87: =SUM(K85:K86) -> 0 | L87: =SUM(L85:L86) -> 0 | M87: =SUM(M85:M86) -> 0
B90: ='D. Bouwblok 4'!C4 -> D. Bouwblok 4 Decentrale LAN access | I90: Subtotaal | K90: =K95+K98+K101+K104+K107+K110 -> 0 | L90: =L95+L98+L101+L104+L107+L110 -> 0 | M90: =M95+M98+M101+M104+M107+M110 -> 0
E92: Aanschaf | F92: O&S | G92: TCO-energie | I92: Benodigde aantallen | K92: Aanschaf | L92: O&S | M92: TCO-energie
B93: 1a | C93: Varian 1: LAN access | E93: ='D. Bouwblok 4'!E10 -> 0 | F93: ='D. Bouwblok 4'!F10 -> 0 | G93: ='D. Bouwblok 4'!G10 -> 0 | K93: =+I95*E93 -> 0 | L93: =+I95*F93 -> 0 | M93: =I95*G93 -> 0
B94: 1b | C94: Varian 1: Licentie(s) Basis LAN Access | E94: ='D. Bouwblok 4'!E11 -> 0 | F94: ='D. Bouwblok 4'!F11 -> 0 | G94: ='D. Bouwblok 4'!G11 -> n.v.t. | K94: =+I95*E94 -> 0 | L94: =I95*F94 -> 0 | M94: =+G94 -> n.v.t.
C95: Totaal | D95: ='D. Bouwblok 4'!D12 -> LAN 1 : | E95: =SUM(E93:E94) -> 0 | F95: =SUM(F93:F94) -> 0 | G95: =SUM(G93:G94) -> 0 | I95: =COUNTIF('0 Benodigde HW en SW '!$F$10:$BE$92,D95) -> 0 | K95: =SUM(K93:K94) -> 0 | L95: =SUM(L93:L94) -> 0 | M95: =SUM(M93:M94) -> 0
B96: 2a | C96: Variant 2: LAN access | E96: ='D. Bouwblok 4'!E13 -> 0 | F96: ='D. Bouwblok 4'!F13 -> 0 | G96: ='D. Bouwblok 4'!G13 -> 0 | K96: =+I98*E96 -> 0 | L96: =+I98*F96 -> 0 | M96: =I98*G96 -> 0
B97: 2b | C97: Variant 2: Licentie(s) Access | E97: ='D. Bouwblok 4'!E14 -> 0 | F97: ='D. Bouwblok 4'!F14 -> 0 | G97: ='D. Bouwblok 4'!G14 -> n.v.t. | K97: =+I98*E97 -> 0 | L97: =I98*F97 -> 0 | M97: =+G97 -> n.v.t.
C98: Totaal | D98: ='D. Bouwblok 4'!D15 -> LAN 2 : | E98: =SUM(E96:E97) -> 0 | F98: =SUM(F96:F97) -> 0 | G98: =SUM(G96:G97) -> 0 | I98: =COUNTIF('0 Benodigde HW en SW '!$F$10:$BE$92,D98) -> 0 | K98: =SUM(K96:K97) -> 0 | L98: =SUM(L96:L97) -> 0 | M98: =SUM(M96:M97) -> 0
B99: 3a | C99: Variant 3: LAN access | E99: ='D. Bouwblok 4'!E16 -> 0 | F99: ='D. Bouwblok 4'!F16 -> 0 | G99: ='D. Bouwblok 4'!G16 -> 0 | K99: =+I101*E99 -> 0 | L99: =+I101*F99 -> 0 | M99: =I101*G99 -> 0
B100: 3b | C100: Variant 3: Licentie(s) LAN Access | E100: ='D. Bouwblok 4'!E17 -> 0 | F100: ='D. Bouwblok 4'!F17 -> 0 | G100: ='D. Bouwblok 4'!G17 -> n.v.t. | K100: =+I101*E100 -> 0 | L100: =I101*F100 -> 0 | M100: =+G100 -> n.v.t.
C101: Totaal | D101: ='D. Bouwblok 4'!D18 -> LAN 3 : | E101: =SUM(E99:E100) -> 0 | F101: =SUM(F99:F100) -> 0 | G101: =SUM(G99:G100) -> 0 | I101: =COUNTIF('0 Benodigde HW en SW '!$F$10:$BE$92,D101) -> 0 | K101: =SUM(K99:K100) -> 0 | L101: =SUM(L99:L100) -> 0 | M101: =SUM(M99:M100) -> 0
B102: 4a | C102: Variant 4: LAN access | E102: ='D. Bouwblok 4'!E19 -> 0 | F102: ='D. Bouwblok 4'!F19 -> 0 | G102: ='D. Bouwblok 4'!G19 -> 0 | K102: =+I104*E102 -> 0 | L102: =+I104*F102 -> 0 | M102: =I104*G102 -> 0
B103: 4b | C103: Variant 4: Licentie(s)LAN Access | E103: ='D. Bouwblok 4'!E20 -> 0 | F103: ='D. Bouwblok 4'!F20 -> 0 | G103: ='D. Bouwblok 4'!G20 -> n.v.t. | K103: =+I104*E103 -> 0 | L103: =I104*F103 -> 0 | M103: =+G103 -> n.v.t.
C104: Totaal | D104: ='D. Bouwblok 4'!D21 -> LAN 4 : | E104: =SUM(E102:E103) -> 0 | F104: =SUM(F102:F103) -> 0 | G104: =SUM(G102:G103) -> 0 | I104: =COUNTIF('0 Benodigde HW en SW '!$F$10:$BE$92,D104) -> 0 | K104: =SUM(K102:K103) -> 0 | L104: =SUM(L102:L103) -> 0 | M104: =SUM(M102:M103) -> 0
B105: 5a | C105: Variant 5 LAN access | E105: ='D. Bouwblok 4'!E22 -> 0 | F105: ='D. Bouwblok 4'!F22 -> 0 | G105: ='D. Bouwblok 4'!G22 -> 0 | K105: =+I107*E105 -> 0 | L105: =+I107*F105 -> 0 | M105: =I107*G105 -> 0
B106: 5b | C106: Variant 5: Licentie(s) LAN Access | E106: ='D. Bouwblok 4'!E23 -> 0 | F106: ='D. Bouwblok 4'!F23 -> 0 | G106: ='D. Bouwblok 4'!G23 -> n.v.t. | K106: =+I107*E106 -> 0 | L106: =I107*F106 -> 0 | M106: =+G106 -> n.v.t.
C107: Totaal | D107: ='D. Bouwblok 4'!D24 -> LAN 5 : | E107: =SUM(E105:E106) -> 0 | F107: =SUM(F105:F106) -> 0 | G107: =SUM(G105:G106) -> 0 | I107: =COUNTIF('0 Benodigde HW en SW '!$F$10:$BE$92,D107) -> 0 | K107: =SUM(K105:K106) -> 0 | L107: =SUM(L105:L106) -> 0 | M107: =SUM(M105:M106) -> 0
B108: 6a | C108: Variant 6: LAN access | E108: ='D. Bouwblok 4'!E25 -> 0 | F108: ='D. Bouwblok 4'!F25 -> 0 | G108: ='D. Bouwblok 4'!G25 -> 0 | K108: =+I110*E108 -> 0 | L108: =+I110*F108 -> 0 | M108: =I110*G108 -> 0
B109: 6b | C109: Variant 6: Licentie(s) LAN Access | E109: ='D. Bouwblok 4'!E26 -> 0 | F109: ='D. Bouwblok 4'!F26 -> 0 | G109: ='D. Bouwblok 4'!G26 -> n.v.t. | K109: =+I110*E109 -> 0 | L109: =I110*F109 -> 0 | M109: =+G109 -> n.v.t.
C110: Totaal | D110: ='D. Bouwblok 4'!D27 -> LAN 6 : | E110: =SUM(E108:E109) -> 0 | F110: =SUM(F108:F109) -> 0 | G110: =SUM(G108:G109) -> 0 | I110: =COUNTIF('0 Benodigde HW en SW '!$F$10:$BE$92,D110) -> 0 | K110: =SUM(K108:K109) -> 0 | L110: =SUM(L108:L109) -> 0 | M110: =SUM(M108:M109) -> 0
B113: ='E. Bouwblok 5 Integratie A'!C4 -> E. Bouwblok 5 Integratie A: WAN-koppeling & Decentrale distributie | I113: Subtotaal | K113: =K118+K121+K124+K127 -> 0 | L113: =L118+L121+L124+L127 -> 0 | M113: =M118+M121+M124+M127 -> 0
E115: Aanschaf | F115: O&S | G115: TCO-energie | I115: Benodigde aantallen | K115: Aanschaf | L115: O&S | M115: TCO-energie
B116: 1a | C116: =+'E. Bouwblok 5 Integratie A'!C10 -> Variant 1, Integratie Decentrale WAN-koppeling & Distributie | E116: ='E. Bouwblok 5 Integratie A'!E10 -> 0 | F116: ='E. Bouwblok 5 Integratie A'!F10 -> 0 | G116: ='E. Bouwblok 5 Integratie A'!G10 -> 0 | K116: =+I118*E116 -> 0 | L116: =+I118*F116 -> 0 | M116: =I118*G116 -> 0
B117: 1b | C117: =+'E. Bouwblok 5 Integratie A'!C11 -> Variant 1: Licentie(s) Integratie WAN-koppeling & Distributie | E117: ='E. Bouwblok 5 Integratie A'!E11 -> 0 | F117: ='E. Bouwblok 5 Integratie A'!F11 -> 0 | G117: ='E. Bouwblok 5 Integratie A'!G11 -> n.v.t. | K117: =+I118*E117 -> 0 | L117: =I118*F117 -> 0 | M117: =+G117 -> n.v.t.
C118: =+'E. Bouwblok 5 Integratie A'!C12 -> Totaal | D118: ='E. Bouwblok 5 Integratie A'!D12 -> Integratie A1 : | E118: =SUM(E116:E117) -> 0 | F118: =SUM(F116:F117) -> 0 | G118: =SUM(G116:G117) -> 0 | I118: =COUNTIF('0 Benodigde HW en SW '!$F$10:$BE$92,D118) -> 0 | K118: =SUM(K116:K117) -> 0 | L118: =SUM(L116:L117) -> 0 | M118: =SUM(M116:M117) -> 0
B119: 2a | C119: =+'E. Bouwblok 5 Integratie A'!C13 -> Variant 2, Integratie Decentrale WAN-koppeling & Distributie | E119: ='E. Bouwblok 5 Integratie A'!E13 -> 0 | F119: ='E. Bouwblok 5 Integratie A'!F13 -> 0 | G119: ='E. Bouwblok 5 Integratie A'!G13 -> 0 | K119: =+I121*E119 -> 0 | L119: =+I121*F119 -> 0 | M119: =I121*G119 -> 0
...

Sheet 0 Benodigde HW en SW 
B2: =+Samenvatting!B2 -> Europese openbare aanbesteding
B3: =+Samenvatting!B3 -> Vervanging LAN omgeving
B4: Benodigde bouwblokken
B5: =+Samenvatting!B5 -> IUC24-009
B6: (Prijzen exclusief BTW)
F9: Conform tabblad B0… | V9: Conform tabblad B… | AA9: Conform tabblad C… | AK9: Conform tabblad D… | BB9: Conform tabbladen E.. en F..
F10: Bouwblok B0: Optics | V10: Bouwblok 2: Decentrale WAN-koppeling | AA10: Bouwblok 3: Decentrale Distributie | AK10: Bouwblok 4: LAN-ACCESS | BB10: Geïntegreerd
AM11: Minimaal twee componenten | AQ11: Additoneel benodigde componenten
B12: Locatie | C12: Situatie | F12: Locatie | G12: Benodigde Optic | H12: Benodigd aantal Optics | J12: Benodigde Optic | K12: Benodigd aantal Optics | M12: Benodigde Optic | N12: Benodigd aantal Optics | P12: Benodigde Optic | Q12: Benodigd aantal Optics | S12: Benodigde Optic | T12: Benodigd aantal Optics | V12: Locatie | W12: Aantal WAN- aansluitingen | X12: Aantal WAN-Bouwblokken | Y12: Variant | AA12: Locatie | AB12: Aantal Distributies | AC12: Inzet variant | AD12: Inzet variant | AE12: Inzet variant | AF12: Inzet variant | AG12: Inzet variant | AH12: Inzet variant | AI12: Inzet variant | AK12: Locatie | AL12: Stacks per locatie | AM12: Variant Bouwblok 4 | AN12: Aantal | AO12: Variant Bouwblok 4 | AP12: Aantal | AQ12: Variant Bouwblok 4 | AR12: Aantal | AS12: Variant Bouwblok 4 | AT12: Aantal | AU12: Variant Bouwblok 4 | AV12: Aantal | AW12: Variant Bouwblok 4 | AX12: Aantal | AY12: Variant Bouwblok 4 | AZ12: Aantal | BB12: Locatie | BC12: WAN-koppeling & Decentrale distributie | BE12: Decentrale distributie / Decentrale LAN Access
B14: Locatie 1 | C14: Situatie 2 | F14: Locatie 1 | V14: Locatie 1 | W14: 1 | X14: 2 | AA14: Locatie 1 | AB14: 1 | AK14: Locatie 1 | AL14: 15 | BB14: Locatie 1
B15: Locatie 2 | C15: Situatie 2 | F15: Locatie 2 | V15: Locatie 2 | W15: 1 | X15: 2 | AA15: Locatie 2 | AB15: 1 | AK15: Locatie 2 | AL15: 6 | BB15: Locatie 2
B16: Locatie 3 | C16: Situatie 3 | F16: Locatie 3 | V16: Locatie 3 | W16: 2 | X16: 2 | AA16: Locatie 3 | AB16: 2 | AK16: Locatie 3 | AL16: 58 | BB16: Locatie 3
B17: Locatie 4 | C17: Situatie 2 | F17: Locatie 4 | V17: Locatie 4 | W17: 1 | X17: 2 | AA17: Locatie 4 | AB17: 1 | AK17: Locatie 4 | AL17: 10 | BB17: Locatie 4
B18: Locatie 5 | C18: Situatie 1 | F18: Locatie 5 | V18: Locatie 5 | W18: 1 | X18: 1 | AA18: Locatie 5 | AB18: 1 | AK18: Locatie 5 | AL18: 2 | BB18: Locatie 5
B19: Locatie 6 | C19: Situatie 1 | F19: Locatie 6 | V19: Locatie 6 | W19: 1 | X19: 1 | AA19: Locatie 6 | AB19: 1 | AK19: Locatie 6 | AL19: 2 | BB19: Locatie 6
B20: Locatie 7 | C20: Situatie 3 | F20: Locatie 7 | V20: Locatie 7 | X20: 0 | AA20: Locatie 7 | AB20: 3 | AK20: Locatie 7 | AL20: 49 | BB20: Locatie 7
B21: Locatie 8 | C21: Situatie 2 | F21: Locatie 8 | V21: Locatie 8 | X21: 2 | AA21: Locatie 8 | AB21: 1 | AK21: Locatie 8 | AL21: 6 | BB21: Locatie 8
B22: Locatie 9 | C22: Situatie 1 | F22: Locatie 9 | V22: Locatie 9 | W22: 1 | X22: 1 | AA22: Locatie 9 | AB22: 1 | AK22: Locatie 9 | AL22: 1 | BB22: Locatie 9
B23: Locatie 10 | C23: Situatie 1 | F23: Locatie 10 | V23: Locatie 10 | W23: 1 | X23: 1 | AA23: Locatie 10 | AB23: 1 | AK23: Locatie 10 | AL23: 1 | BB23: Locatie 10
B24: Locatie 11 | C24: Situatie 3 | F24: Locatie 11 | V24: Locatie 11 | X24: 0 | AA24: Locatie 11 | AB24: 7 | AK24: Locatie 11 | AL24: 89 | BB24: Locatie 11
B25: Locatie 12 | C25: Situatie 2 | F25: Locatie 12 | V25: Locatie 12 | W25: 1 | X25: 2 | AA25: Locatie 12 | AB25: 1 | AK25: Locatie 12 | AL25: 17 | BB25: Locatie 12
B26: Locatie 13 | C26: Situatie 2 | F26: Locatie 13 | V26: Locatie 13 | W26: 1 | X26: 2 | AA26: Locatie 13 | AB26: 1 | AK26: Locatie 13 | AL26: 4 | BB26: Locatie 13
B27: Locatie 14 | C27: Situatie 1 | F27: Locatie 14 | V27: Locatie 14 | W27: 1 | X27: 2 | AA27: Locatie 14 | AB27: 1 | AK27: Locatie 14 | AL27: 2 | BB27: Locatie 14
B28: Locatie 15 | C28: Situatie 2 | F28: Locatie 15 | V28: Locatie 15 | W28: 2 | X28: 2 | AA28: Locatie 15 | AB28: 1 | AK28: Locatie 15 | AL28: 6 | BB28: Locatie 15
B29: Locatie 16 | C29: Situatie 1 | F29: Locatie 16 | V29: Locatie 16 | W29: 1 | X29: 2 | AA29: Locatie 16 | AB29: 1 | AK29: Locatie 16 | AL29: 2 | BB29: Locatie 16
B30: Locatie 17 | C30: Situatie 1 | F30: Locatie 17 | V30: Locatie 17 | W30: 1 | X30: 1 | AA30: Locatie 17 | AB30: 1 | AK30: Locatie 17 | AL30: 2 | BB30: Locatie 17
B31: Locatie 18 | C31: Situatie 1 | F31: Locatie 18 | V31: Locatie 18 | W31: 1 | X31: 1 | AA31: Locatie 18 | AB31: 1 | AK31: Locatie 18 | AL31: 1 | BB31: Locatie 18
B32: Locatie 19 | C32: Situatie 1 | F32: Locatie 19 | V32: Locatie 19 | W32: 1 | X32: 1 | AA32: Locatie 19 | AB32: 1 | AK32: Locatie 19 | AL32: 1 | BB32: Locatie 19
B33: Locatie 20 | C33: Situatie 1 | F33: Locatie 20 | V33: Locatie 20 | W33: 1 | X33: 2 | AA33: Locatie 20 | AB33: 1 | AK33: Locatie 20 | AL33: 2 | BB33: Locatie 20
B34: Locatie 21 | C34: Situatie 2 | F34: Locatie 21 | V34: Locatie 21 | W34: 1 | X34: 2 | AA34: Locatie 21 | AB34: 1 | AK34: Locatie 21 | AL34: 10 | BB34: Locatie 21
B35: Locatie 22 | C35: Situatie 1 | F35: Locatie 22 | V35: Locatie 22 | W35: 1 | X35: 1 | AA35: Locatie 22 | AB35: 1 | AK35: Locatie 22 | AL35: 1 | BB35: Locatie 22
B36: Locatie 23 | C36: Situatie 2 | F36: Locatie 23 | V36: Locatie 23 | W36: 1 | X36: 2 | AA36: Locatie 23 | AB36: 1 | AK36: Locatie 23 | AL36: 13 | BB36: Locatie 23
... B92: Locatie 79 | C92: Situatie 2 | F92: Locatie 79 | V92: Locatie 79 | W92: 1 | X92: 2 | AA92: Locatie 79 | AB92: 1 | AK92: Locatie 79 | AL92: 4 | BB92: Locatie 79
X157: 4

Sheet A. Bouwblok 1
A1: =D9 -> 0
A2: =D12 -> Centraal | C2: =+Samenvatting!B2 -> Europese openbare aanbesteding
A3: =#REF! -> #REF! | C3: =+Samenvatting!B3 -> Vervanging LAN omgeving
A4: =#REF! -> #REF! | C4: A. Bouwblok 1: Centrale datacenter WAN koppelingen
C5: =Samenvatting!B5 -> IUC24-009
C6: (Prijzen exclusief BTW)
E9: Aanschaf | F9: O&S | G9: TCO-energie | H9: Totaal
B10: 1a | C10: Aanschaf Apparatuur Centrale WAN-koppeling | E10: =J16 -> 0 | F10: =T16 -> 0 | G10: =AE16 -> 0 | H10: =SUM(E10:G10) -> 0
B11: 1b | C11: Licentie(s) Centrale WAN-koppeling | E11: =J26 -> 0 | F11: =T26 -> 0 | G11: n.v.t. | H11: =SUM(E11:G11) -> 0
C12: Totaal | D12: Centraal | E12: =SUM(E10:E11) -> 0 | F12: =SUM(F10:F11) -> 0 | G12: =SUM(G10:G11) -> 0 | H12: =SUM(H10:H11) -> 0
B15: 1a | C15: =VLOOKUP(B15,$B$9:$D$12,2,FALSE) -> Aanschaf Apparatuur Centrale WAN-koppeling | G15: Naam Variant | M15: Onderhoud & Support | W15: TCO-energie
C16: Aanschaf | E16: Max. aantal WAN's | G16: ="Variant 1 / max. "&F16&" WAN's" -> Variant 1 / max. WAN's | I16: Subtotaal | J16: =SUM(J18:J22) -> 0 | S16: Subtotaal | T16: =SUM(T18:T22) -> 0 | AD16: Subtotaal | AE16: =SUM(AE18:AE22) -> 0
C17: Artikelnummer | D17: Artikelomschrijving | E17: Merknaam | F17: Benodigd aantal in bouwblok | G17: Listprijs aanschaf per stuk in € | H17: Kortings- percentage | I17: Listprijs per stuk incl. korting | J17: Prijs totaal incl. korting | K17: Listprijs aanschaf per stuk in $ | M17: Artikelnummer | N17: Artikelomschrijving | O17: Benodigd aantal in bouwblok | P17: Van toepassing ja / nee | Q17: Listprijs Onderhoud & Support per stuk in € | R17: Kortings- percentage | S17: Listprijs Onderhoud & Support per stuk incl. korting | T17: Prijs 7 jaren totaal incl. korting | U17: Listprijs aanschaf per stuk in $ | W17: Artikelnummer | X17: Artikelomschrijving | Y17: Benodigd aantal in bouwblok | Z17: Van toepassing ja / nee | AA17: Normatief gebruik stroom in watt per eenheid | AB17: Verwijzing naar documentatie voor stroomverbuik | AC17: Normatief gebruik stroom in watt per eenheid | AD17: Totaal op jaarbasis in Kwh x24x365/1000 | AE17: Totaal kosten 7 JAREN stroomverbruik
I18: =G18*(1-H18) -> 0 | J18: =IF(ISERROR(+I18*F18),"",+I18*F18) -> 0 | M18: =IF(ISBLANK(+C18),"",+C18) | N18: =IF(ISBLANK(+D18),"",+D18) | O18: =IF(ISBLANK(+F18),"",+F18) | S18: =IF(ISERROR(+Q18*(1-(R18))),"",+Q18*(1-(R18))) -> 0 | T18: =IF(ISERROR(+S18*O18*7),0,+S18*O18*7) -> 0 | W18: =IF(ISBLANK(+M18),"",+M18) | X18: =IF(ISBLANK(+N18),"",+N18) | Y18: =IF(ISBLANK(+F18),"",+F18) | AC18: =IF(ISERROR(IF(OR(Z18="nee",Z18=""),"",+Y18*AA18)),"",IF(OR(Z18="nee",Z18=""),"",+Y18*AA18)) | AD18: =IF(ISERROR((AC18*24*365)/1000),"",(AC18*24*365)/1000) | AE18: =IF(ISERROR(+AD18*#REF!*5),"",+AD18*#REF!*5)
I19: =G19*(1-H19) -> 0 | J19: =IF(ISERROR(+I19*F19),"",+I19*F19) -> 0 | M19: =IF(ISBLANK(+C19),"",+C19) | N19: =IF(ISBLANK(+D19),"",+D19) | O19: =IF(ISBLANK(+F19),"",+F19) | S19: =IF(ISERROR(+Q19*(1-(R19))),"",+Q19*(1-(R19))) -> 0 | T19: =IF(ISERROR(+S19*O19*7),0,+S19*O19*7) -> 0 | W19: =IF(ISBLANK(+M19),"",+M19) | X19: =IF(ISBLANK(+N19),"",+N19) | Y19: =IF(ISBLANK(+F19),"",+F19) | AC19: =IF(ISERROR(IF(OR(Z19="nee",Z19=""),"",+Y19*AA19)),"",IF(OR(Z19="nee",Z19=""),"",+Y19*AA19)) | AD19: =IF(ISERROR((AC19*24*365)/1000),"",(AC19*24*365)/1000) | AE19: =IF(ISERROR(+AD19*#REF!*5),"",+AD19*#REF!*5)
I20: =G20*(1-H20) -> 0 | J20: =IF(ISERROR(+I20*F20),"",+I20*F20) -> 0 | M20: =IF(ISBLANK(+C20),"",+C20) | N20: =IF(ISBLANK(+D20),"",+D20) | O20: =IF(ISBLANK(+F20),"",+F20) | S20: =IF(ISERROR(+Q20*(1-(R20))),"",+Q20*(1-(R20))) -> 0 | T20: =IF(ISERROR(+S20*O20*7),0,+S20*O20*7) -> 0 | W20: =IF(ISBLANK(+M20),"",+M20) | X20: =IF(ISBLANK(+N20),"",+N20) | Y20: =IF(ISBLANK(+F20),"",+F20) | AC20: =IF(ISERROR(IF(OR(Z20="nee",Z20=""),"",+Y20*AA20)),"",IF(OR(Z20="nee",Z20=""),"",+Y20*AA20)) | AD20: =IF(ISERROR((AC20*24*365)/1000),"",(AC20*24*365)/1000) | AE20: =IF(ISERROR(+AD20*#REF!*5),"",+AD20*#REF!*5)
I21: =G21*(1-H21) -> 0 | J21: =IF(ISERROR(+I21*F21),"",+I21*F21) -> 0 | M21: =IF(ISBLANK(+C21),"",+C21) | N21: =IF(ISBLANK(+D21),"",+D21) | O21: =IF(ISBLANK(+F21),"",+F21) | S21: =IF(ISERROR(+Q21*(1-(R21))),"",+Q21*(1-(R21))) -> 0 | T21: =IF(ISERROR(+S21*O21*7),0,+S21*O21*7) -> 0 | W21: =IF(ISBLANK(+M21),"",+M21) | X21: =IF(ISBLANK(+N21),"",+N21) | Y21: =IF(ISBLANK(+F21),"",+F21) | AC21: =IF(ISERROR(IF(OR(Z21="nee",Z21=""),"",+Y21*AA21)),"",IF(OR(Z21="nee",Z21=""),"",+Y21*AA21)) | AD21: =IF(ISERROR((AC21*24*365)/1000),"",(AC21*24*365)/1000) | AE21: =IF(ISERROR(+AD21*#REF!*5),"",+AD21*#REF!*5)
I22: =G22*(1-H22) -> 0 | J22: =IF(ISERROR(+I22*F22),"",+I22*F22) -> 0 | M22: =IF(ISBLANK(+C22),"",+C22) | N22: =IF(ISBLANK(+D22),"",+D22) | O22: =IF(ISBLANK(+F22),"",+F22) | S22: =IF(ISERROR(+Q22*(1-(R22))),"",+Q22*(1-(R22))) -> 0 | T22: =IF(ISERROR(+S22*O22*7),0,+S22*O22*7) -> 0 | W22: =IF(ISBLANK(+M22),"",+M22) | X22: =IF(ISBLANK(+N22),"",+N22) | Y22: =IF(ISBLANK(+F22),"",+F22) | AC22: =IF(ISERROR(IF(OR(Z22="nee",Z22=""),"",+Y22*AA22)),"",IF(OR(Z22="nee",Z22=""),"",+Y22*AA22)) | AD22: =IF(ISERROR((AC22*24*365)/1000),"",(AC22*24*365)/1000) | AE22: =IF(ISERROR(+AD22*#REF!*5),"",+AD22*#REF!*5)
C23: N.B.: Indien voor dit bouwblok meer regels benodig zijn, graag dit verzoek via de Nota van Inlichtingen bekend te maken. Een aangepast model wordt dan gepubliceerd.
B25: 1b | C25: =VLOOKUP(B25,$B$9:$D$12,2,FALSE) -> Licentie(s) Centrale WAN-koppeling | D25: =VLOOKUP(C25,$B$9:$D$12,2,FALSE) -> #N/A | E25: =VLOOKUP(D25,$B$9:$D$12,2,FALSE) -> #N/A | J25: Totaalprijs Aanschaf Licenties | M25: =IF(E26="Subscription","Subscription","Onderhoud & Support") -> Onderhoud & Support | T25: ="Totaalprijs "&M25&" Licentie" -> Totaalprijs Onderhoud & Support Licentie
C26: Grondslag licentie: | E26: Aanschaf | Perpetual | F26: Gele velden invullen(!) | J26: =SUM(J28:J30) -> 0 | T26: =SUM(T28:T30) -> 0
C27: Artikelnummer | D27: Artikelomschrijving | E27: Merknaam | F27: Benodigd aantal in bouwblok | G27: Listprijs aanschaf per stuk in € | H27: Kortings- percentage | I27: Listprijs per stuk incl. korting | J27: Prijs totaal incl. korting | K27: Listprijs aanschaf per stuk in $ | M27: Artikelnummer | N27: Artikelomschrijving | O27: Benodigd aantal in bouwblok | P27: Van toepassing ja / nee | Q27: Listprijs Onderhoud & Support per stuk in € | R27: Kortings- percentage | S27: Listprijs Onderhoud & Support per stuk incl. korting | T27: Prijs 7 jaren totaal incl. korting | U27: Listprijs aanschaf per stuk in $ | W27: Artikelnummer | X27: Artikelomschrijving | Y27: Benodigd aantal in bouwblok | Z27: Van toepassing ja / nee | AA27: Normatief gebruik stroom in watt per eenheid | AB27: Verwijzing naar documentatie voor stroomverbuik | AC27: Normatief gebruik stroom in watt per eenheid | AD27: Totaal op jaarbasis in Kwh x24x365/1000 | AE27: Totaal kosten 7 JAREN stroomverbruik
I28: =G28*(1-H28) -> 0 | J28: =IF(ISERROR(+I28*F28),"",+I28*F28) -> 0 | M28: =IF(ISBLANK(+C28),"",+C28) | N28: =IF(ISBLANK(+D28),"",+D28) | O28: =IF(ISBLANK(+F28),"",+F28) | S28: =IF(ISERROR(+Q28*(1-(R28))),"",+Q28*(1-(R28))) -> 0 | T28: =IF(ISERROR(+S28*O28*7),0,+S28*O28*7) -> 0
I29: =G29*(1-H29) -> 0 | J29: =IF(ISERROR(+I29*F29),"",+I29*F29) -> 0 | M29: =IF(ISBLANK(+C29),"",+C29) | N29: =IF(ISBLANK(+D29),"",+D29) | O29: =IF(ISBLANK(+F29),"",+F29) | S29: =IF(ISERROR(+Q29*(1-(R29))),"",+Q29*(1-(R29))) -> 0 | T29: =IF(ISERROR(+S29*O29*7),0,+S29*O29*7) -> 0
I30: =G30*(1-H30) -> 0 | J30: =IF(ISERROR(+I30*F30),"",+I30*F30) -> 0 | M30: =IF(ISBLANK(+C30),"",+C30) | N30: =IF(ISBLANK(+D30),"",+D30) | O30: =IF(ISBLANK(+F30),"",+F30) | S30: =IF(ISERROR(+Q30*(1-(R30))),"",+Q30*(1-(R30))) -> 0 | T30: =IF(ISERROR(+S30*O30*7),0,+S30*O30*7) -> 0

Sheet B0. Optics
A1: =D11 -> Optic 1 :
A2: =D13 -> Optic 2 : | C2: =+Samenvatting!B2 -> Europese openbare aanbesteding
A3: =D15 -> Optic 3 : | C3: =+Samenvatting!B3 -> Vervanging LAN omgeving
A4: =D17 -> Optic 4 : | C4: B0: Bouwblok Diverse optics
A5: =C18 -> Optic 5 | C5: =Samenvatting!B5 -> IUC24-009
A6: =D21 -> Optic 6 : | C6: (Prijzen exclusief BTW)
A7: =D23 -> Optic 7 :
A8: =D25 -> Optic 8 :
A9: =D27 -> Optic 9 : | E9: Aanschaf | F9: O&S | G9: TCO-energie | H9: Totaal
A10: =D29 -> Optic 10 : | B10: 1 | C10: Optic 1 | E10: =J33 -> 0 | F10: =T33 -> 0 | G10: =AE33 -> 0 | H10: =SUM(E10:G10) -> 0
C11: Totaal | D11: =F33 & G33 -> Optic 1 : | E11: =SUM(E10:E10) -> 0 | F11: =SUM(F10:F10) -> 0 | G11: =SUM(G10:G10) -> 0 | H11: =SUM(H10:H10) -> 0
B12: 2 | C12: Optic 2 | E12: =J40 -> 0 | F12: =T40 -> 0 | G12: =AE40 -> 0 | H12: =SUM(E12:G12) -> 0
C13: Totaal | D13: =F40 & G40 -> Optic 2 : | E13: =SUM(E12:E12) -> 0 | F13: =SUM(F12:F12) -> 0 | G13: =SUM(G12:G12) -> 0 | H13: =SUM(H12:H12) -> 0
B14: 3 | C14: Optic 3 | E14: =J47 -> 0 | F14: =T47 -> 0 | G14: =AE47 -> 0 | H14: =SUM(E14:G14) -> 0
C15: Totaal | D15: =F47 & G47 -> Optic 3 : | E15: =SUM(E14:E14) -> 0 | F15: =SUM(F14:F14) -> 0 | G15: =SUM(G14:G14) -> 0 | H15: =SUM(H14:H14) -> 0
B16: 4 | C16: Optic 4 | E16: =J54 -> 0 | F16: =T54 -> 0 | G16: =AE54 -> 0 | H16: =SUM(E16:G16) -> 0
C17: Totaal | D17: =F54 & G54 -> Optic 4 : | E17: =SUM(E16:E16) -> 0 | F17: =SUM(F16:F16) -> 0 | G17: =SUM(G16:G16) -> 0 | H17: =SUM(H16:H16) -> 0
B18: 5 | C18: Optic 5 | E18: =J61 -> 0 | F18: =T61 -> 0 | G18: =AE61 -> 0 | H18: =SUM(E18:G18) -> 0
C19: Totaal | D19: =F61 & G61 -> Optic 5 : | E19: =SUM(E18:E18) -> 0 | F19: =SUM(F18:F18) -> 0 | G19: =SUM(G18:G18) -> 0 | H19: =SUM(H18:H18) -> 0
B20: 6 | C20: Optic 6 | E20: =J68 -> 0 | F20: =T68 -> 0 | G20: =AE68 -> 0 | H20: =SUM(E20:G20) -> 0
C21: Totaal | D21: =F68 & G68 -> Optic 6 : | E21: =SUM(E20:E20) -> 0 | F21: =SUM(F20:F20) -> 0 | G21: =SUM(G20:G20) -> 0 | H21: =SUM(H20:H20) -> 0
B22: 7 | C22: Optic 7 | E22: =J75 -> 0 | F22: =T75 -> 0 | G22: =AE75 -> 0 | H22: =SUM(E22:G22) -> 0
C23: Totaal | D23: =F75 & G75 -> Optic 7 : | E23: =SUM(E22:E22) -> 0 | F23: =SUM(F22:F22) -> 0 | G23: =SUM(G22:G22) -> 0 | H23: =SUM(H22:H22) -> 0
B24: 8 | C24: Optic 8 | E24: =J82 -> 0 | F24: =T82 -> 0 | G24: =AE82 -> 0 | H24: =SUM(E24:G24) -> 0
C25: Totaal | D25: =F82 & G82 -> Optic 8 : | E25: =SUM(E24:E24) -> 0 | F25: =SUM(F24:F24) -> 0 | G25: =SUM(G24:G24) -> 0 | H25: =SUM(H24:H24) -> 0
B26: 9 | C26: Optic 9 | E26: =J89 -> 0 | F26: =T89 -> 0 | G26: =AE89 -> 0 | H26: =SUM(E26:G26) -> 0
C27: Totaal | D27: =F89 & G89 -> Optic 9 : | E27: =SUM(E26:E26) -> 0 | F27: =SUM(F26:F26) -> 0 | G27: =SUM(G26:G26) -> 0 | H27: =SUM(H26:H26) -> 0
B28: 10 | C28: Optic 10 | E28: =J96 -> 0 | F28: =T96 -> 0 | G28: =AE96 -> 0 | H28: =SUM(E28:G28) -> 0
C29: Totaal | D29: =F96 & G96 -> Optic 10 : | E29: =SUM(E28:E28) -> 0 | F29: =SUM(F28:F28) -> 0 | G29: =SUM(G28:G28) -> 0 | H29: =SUM(H28:H28) -> 0
B32: 1 | C32: =VLOOKUP(B32,$B$10:$D$29,2,FALSE) -> Optic 1 | G32: Naam Optic | M32: Onderhoud & Support | W32: TCO-energie
C33: Aanschaf | F33: ="Optic "&B32&" : " -> Optic 1 : | I33: Subtotaal | J33: =SUM(J35:J35) -> 0 | S33: Subtotaal | T33: =SUM(T35:T35) -> 0 | AD33: Subtotaal | AE33: =SUM(AE35:AE35) -> 0
C34: Artikelnummer | D34: Artikelomschrijving | E34: Merknaam | G34: Listprijs aanschaf per stuk in € | H34: Kortings- percentage | I34: Listprijs per stuk incl. korting | J34: Prijs totaal incl. korting | K34: Listprijs aanschaf per stuk in $ | M34: Artikelnummer | N34: Artikelomschrijving | O34: Benodigd aantal in bouwblok | P34: Van toepassing ja / nee | Q34: Listprijs Onderhoud & Support per stuk in € | R34: Kortings- percentage | S34: Listprijs Onderhoud & Support per stuk incl. korting | T34: Prijs 7 jaren totaal incl. korting | U34: Listprijs aanschaf per stuk in $ | W34: Artikelnummer | X34: Artikelomschrijving | Y34: Benodigd aantal in bouwblok | Z34: Van toepassing ja / nee | AA34: Normatief gebruik stroom in watt per eeneid | AB34: Verwijzing naar documentatie voor stroomverbuik | AC34: Normatief gebruik stroom in watt per eeneid | AD34: Totaal op jaarbasis in Kwh x24x365/1000 | AE34: Totaal kosten 7 JAREN stroomverbruik
I35: =G35*(1-H35) -> 0 | J35: =IF(ISERROR(+I35),"",+I35) -> 0 | M35: =IF(ISBLANK(+C35),"",+C35) | N35: =IF(ISBLANK(+D35),"",+D35) | O35: =IF(ISBLANK(+F35),"",+F35) | S35: =IF(ISERROR(+Q35*(1-(R35))),"",+Q35*(1-(R35))) -> 0 | T35: =IF(ISERROR(+S35*O35*7),0,+S35*O35*7) -> 0 | W35: =IF(ISBLANK(+M35),"",+M35) | X35: =IF(ISBLANK(+N35),"",+N35) | Y35: =IF(ISBLANK(+F35),"",+F35) | AC35: =IF(ISERROR(IF(OR(Z35="nee",Z35=""),"",+Y35*AA35)),"",IF(OR(Z35="nee",Z35=""),"",+Y35*AA35)) | AD35: =IF(ISERROR((AC35*24*365)/1000),"",(AC35*24*365)/1000) | AE35: =IF(ISERROR(+AD35*tariefKwh*7),0,+AD35*tariefKwh*7) -> 0
C36: N.B.: Indien voor dit bouwblok meer regels benodig zijn, graag dit verzoek via de Nota van Inlichtingen bekend te maken. Een aangepast model wordt dan gepubliceerd.
B39: 2 | C39: =VLOOKUP(B39,$B$10:$D$29,2,FALSE) -> Optic 2 | G39: Naam Optic | M39: Onderhoud & Support | W39: TCO-energie
C40: Aanschaf | F40: ="Optic "&B39&" : " -> Optic 2 : | I40: Subtotaal | J40: =SUM(J42:J42) -> 0 | S40: Subtotaal | T40: =SUM(T42:T42) -> 0 | AD40: Subtotaal | AE40: =SUM(AE42:AE42) -> 0
C41: Artikelnummer | D41: Artikelomschrijving | E41: Merknaam | G41: Listprijs aanschaf per stuk in € | H41: Kortings- percentage | I41: Listprijs per stuk incl. korting | J41: Prijs totaal incl. korting | K41: Listprijs aanschaf per stuk in $ | M41: Artikelnummer | N41: Artikelomschrijving | O41: Benodigd aantal in bouwblok | P41: Van toepassing ja / nee | Q41: Listprijs Onderhoud & Support per stuk in € | R41: Kortings- percentage | S41: Listprijs Onderhoud & Support per stuk incl. korting | T41: Prijs 7 jaren totaal incl. korting | U41: Listprijs aanschaf per stuk in $ | W41: Artikelnummer | X41: Artikelomschrijving | Y41: Benodigd aantal in bouwblok | Z41: Van toepassing ja / nee | AA41: Normatief gebruik stroom in watt per eeneid | AB41: Verwijzing naar documentatie voor stroomverbuik | AC41: Normatief gebruik stroom in watt per eeneid | AD41: Totaal op jaarbasis in Kwh x24x365/1000 | AE41: Totaal kosten 7 JAREN stroomverbruik
I42: =G42*(1-H42) -> 0 | J42: =IF(ISERROR(+I42),"",+I42) -> 0 | M42: =IF(ISBLANK(+C42),"",+C42) | N42: =IF(ISBLANK(+D42),"",+D42) | O42: =IF(ISBLANK(+F42),"",+F42) | S42: =IF(ISERROR(+Q42*(1-(R42))),"",+Q42*(1-(R42))) -> 0 | T42: =IF(ISERROR(+S42*O42*7),0,+S42*O42*7) -> 0 | W42: =IF(ISBLANK(+M42),"",+M42) | X42: =IF(ISBLANK(+N42),"",+N42) | Y42: =IF(ISBLANK(+F42),"",+F42) | AC42: =IF(ISERROR(IF(OR(Z42="nee",Z42=""),"",+Y42*AA42)),"",IF(OR(Z42="nee",Z42=""),"",+Y42*AA42)) | AD42: =IF(ISERROR((AC42*24*365)/1000),"",(AC42*24*365)/1000) | AE42: =IF(ISERROR(+AD42*tariefKwh*7),0,+AD42*tariefKwh*7) -> 0
C43: N.B.: Indien voor dit bouwblok meer regels benodig zijn, graag dit verzoek via de Nota van Inlichtingen bekend te maken. Een aangepast model wordt dan gepubliceerd.
B46: 3 | C46: =VLOOKUP(B46,$B$10:$D$29,2,FALSE) -> Optic 3 | G46: Naam Optic | M46: Onderhoud & Support | W46: TCO-energie
C47: Aanschaf | F47: ="Optic "&B46&" : " -> Optic 3 : | I47: Subtotaal | J47: =SUM(J49:J49) -> 0 | S47: Subtotaal | T47: =SUM(T49:T49) -> 0 | AD47: Subtotaal | AE47: =SUM(AE49:AE49) -> 0
C48: Artikelnummer | D48: Artikelomschrijving | E48: Merknaam | G48: Listprijs aanschaf per stuk in € | H48: Kortings- percentage | I48: Listprijs per stuk incl. korting | J48: Prijs totaal incl. korting | K48: Listprijs aanschaf per stuk in $ | M48: Artikelnummer | N48: Artikelomschrijving | O48: Benodigd aantal in bouwblok | P48: Van toepassing ja / nee | Q48: Listprijs Onderhoud & Support per stuk in € | R48: Kortings- percentage | S48: Listprijs Onderhoud & Support per stuk incl. korting | T48: Prijs 7 jaren totaal incl. korting | U48: Listprijs aanschaf per stuk in $ | W48: Artikelnummer | X48: Artikelomschrijving | Y48: Benodigd aantal in bouwblok | Z48: Van toepassing ja / nee | AA48: Normatief gebruik stroom in watt per eeneid | AB48: Verwijzing naar documentatie voor stroomverbuik | AC48: Normatief gebruik stroom in watt per eeneid | AD48: Totaal op jaarbasis in Kwh x24x365/1000 | AE48: Totaal kosten 7 JAREN stroomverbruik
I49: =G49*(1-H49) -> 0 | J49: =IF(ISERROR(+I49),"",+I49) -> 0 | M49: =IF(ISBLANK(+C49),"",+C49) | N49: =IF(ISBLANK(+D49),"",+D49) | O49: =IF(ISBLANK(+F49),"",+F49) | S49: =IF(ISERROR(+Q49*(1-(R49))),"",+Q49*(1-(R49))) -> 0 | T49: =IF(ISERROR(+S49*O49*7),0,+S49*O49*7) -> 0 | W49: =IF(ISBLANK(+M49),"",+M49) | X49: =IF(ISBLANK(+N49),"",+N49) | Y49: =IF(ISBLANK(+F49),"",+F49) | AC49: =IF(ISERROR(IF(OR(Z49="nee",Z49=""),"",+Y49*AA49)),"",IF(OR(Z49="nee",Z49=""),"",+Y49*AA49)) | AD49: =IF(ISERROR((AC49*24*365)/1000),"",(AC49*24*365)/1000) | AE49: =IF(ISERROR(+AD49*tariefKwh*7),0,+AD49*tariefKwh*7) -> 0
C50: N.B.: Indien voor dit bouwblok meer regels benodig zijn, graag dit verzoek via de Nota van Inlichtingen bekend te maken. Een aangepast model wordt dan gepubliceerd.
B53: 4 | C53: =VLOOKUP(B53,$B$10:$D$29,2,FALSE) -> Optic 4 | G53: Naam Optic | M53: Onderhoud & Support | W53: TCO-energie
C54: Aanschaf | F54: ="Optic "&B53&" : " -> Optic 4 : | I54: Subtotaal | J54: =SUM(J56:J56) -> 0 | S54: Subtotaal | T54: =SUM(T56:T56) -> 0 | AD54: Subtotaal | AE54: =SUM(AE56:AE56) -> 0
C55: Artikelnummer | D55: Artikelomschrijving | E55: Merknaam | G55: Listprijs aanschaf per stuk in € | H55: Kortings- percentage | I55: Listprijs per stuk incl. korting | J55: Prijs totaal incl. korting | K55: Listprijs aanschaf per stuk in $ | M55: Artikelnummer | N55: Artikelomschrijving | O55: Benodigd aantal in bouwblok | P55: Van toepassing ja / nee | Q55: Listprijs Onderhoud & Support per stuk in € | R55: Kortings- percentage | S55: Listprijs Onderhoud & Support per stuk incl. korting | T55: Prijs 7 jaren totaal incl. korting | U55: Listprijs aanschaf per stuk in $ | W55: Artikelnummer | X55: Artikelomschrijving | Y55: Benodigd aantal in bouwblok | Z55: Van toepassing ja / nee | AA55: Normatief gebruik stroom in watt per eeneid | AB55: Verwijzing naar documentatie voor stroomverbuik | AC55: Normatief gebruik stroom in watt per eeneid | AD55: Totaal op jaarbasis in Kwh x24x365/1000 | AE55: Totaal kosten 7 JAREN stroomverbruik
I56: =G56*(1-H56) -> 0 | J56: =IF(ISERROR(+I56),"",+I56) -> 0 | M56: =IF(ISBLANK(+C56),"",+C56) | N56: =IF(ISBLANK(+D56),"",+D56) | O56: =IF(ISBLANK(+F56),"",+F56) | S56: =IF(ISERROR(+Q56*(1-(R56))),"",+Q56*(1-(R56))) -> 0 | T56: =IF(ISERROR(+S56*O56*7),0,+S56*O56*7) -> 0 | W56: =IF(ISBLANK(+M56),"",+M56) | X56: =IF(ISBLANK(+N56),"",+N56) | Y56: =IF(ISBLANK(+F56),"",+F56) | AC56: =IF(ISERROR(IF(OR(Z56="nee",Z56=""),"",+Y56*AA56)),"",IF(OR(Z56="nee",Z56=""),"",+Y56*AA56)) | AD56: =IF(ISERROR((AC56*24*365)/1000),"",(AC56*24*365)/1000) | AE56: =IF(ISERROR(+AD56*tariefKwh*7),0,+AD56*tariefKwh*7) -> 0
C57: N.B.: Indien voor dit bouwblok meer regels benodig zijn, graag dit verzoek via de Nota van Inlichtingen bekend te maken. Een aangepast model wordt dan gepubliceerd.
B60: 5 | C60: =VLOOKUP(B60,$B$10:$D$29,2,FALSE) -> Optic 5 | G60: Naam Optic | M60: Onderhoud & Support | W60: TCO-energie
C61: Aanschaf | F61: ="Optic "&B60&" : " -> Optic 5 : | I61: Subtotaal | J61: =SUM(J63:J63) -> 0 | S61: Subtotaal | T61: =SUM(T63:T63) -> 0 | AD61: Subtotaal | AE61: =SUM(AE63:AE63) -> 0
C62: Artikelnummer | D62: Artikelomschrijving | E62: Merknaam | G62: Listprijs aanschaf per stuk in € | H62: Kortings- percentage | I62: Listprijs per stuk incl. korting | J62: Prijs totaal incl. korting | K62: Listprijs aanschaf per stuk in $ | M62: Artikelnummer | N62: Artikelomschrijving | O62: Benodigd aantal in bouwblok | P62: Van toepassing ja / nee | Q62: Listprijs Onderhoud & Support per stuk in € | R62: Kortings- percentage | S62: Listprijs Onderhoud & Support per stuk incl. korting | T62: Prijs 7 jaren totaal incl. korting | U62: Listprijs aanschaf per stuk in $ | W62: Artikelnummer | X62: Artikelomschrijving | Y62: Benodigd aantal in bouwblok | Z62: Van toepassing ja / nee | AA62: Normatief gebruik stroom in watt per eeneid | AB62: Verwijzing naar documentatie voor stroomverbuik | AC62: Normatief gebruik stroom in watt per eeneid | AD62: Totaal op jaarbasis in Kwh x24x365/1000 | AE62: Totaal kosten 7 JAREN stroomverbruik
I63: =G63*(1-H63) -> 0 | J63: =IF(ISERROR(+I63),"",+I63) -> 0 | M63: =IF(ISBLANK(+C63),"",+C63) | N63: =IF(ISBLANK(+D63),"",+D63) | O63: =IF(ISBLANK(+F63),"",+F63) | S63: =IF(ISERROR(+Q63*(1-(R63))),"",+Q63*(1-(R63))) -> 0 | T63: =IF(ISERROR(+S63*O63*7),0,+S63*O63*7) -> 0 | W63: =IF(ISBLANK(+M63),"",+M63) | X63: =IF(ISBLANK(+N63),"",+N63) | Y63: =IF(ISBLANK(+F63),"",+F63) | AC63: =IF(ISERROR(IF(OR(Z63="nee",Z63=""),"",+Y63*AA63)),"",IF(OR(Z63="nee",Z63=""),"",+Y63*AA63)) | AD63: =IF(ISERROR((AC63*24*365)/1000),"",(AC63*24*365)/1000) | AE63: =IF(ISERROR(+AD63*tariefKwh*7),0,+AD63*tariefKwh*7) -> 0
C64: N.B.: Indien voor dit bouwblok meer regels benodig zijn, graag dit verzoek via de Nota van Inlichtingen bekend te maken. Een aangepast model wordt dan gepubliceerd.
B67: 6 | C67: =VLOOKUP(B67,$B$10:$D$29,2,FALSE) -> Optic 6 | G67: Naam Optic | M67: Onderhoud & Support | W67: TCO-energie
C68: Aanschaf | F68: ="Optic "&B67&" : " -> Optic 6 : | I68: Subtotaal | J68: =SUM(J70:J70) -> 0 | S68: Subtotaal | T68: =SUM(T70:T70) -> 0 | AD68: Subtotaal | AE68: =SUM(AE70:AE70) -> 0
C69: Artikelnummer | D69: Artikelomschrijving | E69: Merknaam | G69: Listprijs aanschaf per stuk in € | H69: Kortings- percentage | I69: Listprijs per stuk incl. korting | J69: Prijs totaal incl. korting | K69: Listprijs aanschaf per stuk in $ | M69: Artikelnummer | N69: Artikelomschrijving | O69: Benodigd aantal in bouwblok | P69: Van toepassing ja / nee | Q69: Listprijs Onderhoud & Support per stuk in € | R69: Kortings- percentage | S69: Listprijs Onderhoud & Support per stuk incl. korting | T69: Prijs 7 jaren totaal incl. korting | U69: Listprijs aanschaf per stuk in $ | W69: Artikelnummer | X69: Artikelomschrijving | Y69: Benodigd aantal in bouwblok | Z69: Van toepassing ja / nee | AA69: Normatief gebruik stroom in watt per eeneid | AB69: Verwijzing naar documentatie voor stroomverbuik | AC69: Normatief gebruik stroom in watt per eeneid | AD69: Totaal op jaarbasis in Kwh x24x365/1000 | AE69: Totaal kosten 7 JAREN stroomverbruik
I70: =G70*(1-H70) -> 0 | J70: =IF(ISERROR(+I70*F70),"",+I70*F70) -> 0 | M70: =IF(ISBLANK(+C70),"",+C70) | N70: =IF(ISBLANK(+D70),"",+D70) | O70: =IF(ISBLANK(+F70),"",+F70) | S70: =IF(ISERROR(+Q70*(1-(R70))),"",+Q70*(1-(R70))) -> 0 | T70: =IF(ISERROR(+S70*O70*7),0,+S70*O70*7) -> 0 | W70: =IF(ISBLANK(+M70),"",+M70) | X70: =IF(ISBLANK(+N70),"",+N70) | Y70: =IF(ISBLANK(+F70),"",+F70) | AC70: =IF(ISERROR(IF(OR(Z70="nee",Z70=""),"",+Y70*AA70)),"",IF(OR(Z70="nee",Z70=""),"",+Y70*AA70)) | AD70: =IF(ISERROR((AC70*24*365)/1000),"",(AC70*24*365)/1000) | AE70: =IF(ISERROR(+AD70*tariefKwh*7),0,+AD70*tariefKwh*7) -> 0
C71: N.B.: Indien voor dit bouwblok meer regels benodig zijn, graag dit verzoek via de Nota van Inlichtingen bekend te maken. Een aangepast model wordt dan gepubliceerd.
B74: 7 | C74: =VLOOKUP(B74,$B$10:$D$29,2,FALSE) -> Optic 7 | G74: Naam Optic | M74: Onderhoud & Support | W74: TCO-energie
C75: Aanschaf | F75: ="Optic "&B74&" : " -> Optic 7 : | I75: Subtotaal | J75: =SUM(J77:J77) -> 0 | S75: Subtotaal | T75: =SUM(T77:T77) -> 0 | AD75: Subtotaal | AE75: =SUM(AE77:AE77) -> 0
C76: Artikelnummer | D76: Artikelomschrijving | E76: Merknaam | G76: Listprijs aanschaf per stuk in € | H76: Kortings- percentage | I76: Listprijs per stuk incl. korting | J76: Prijs totaal incl. korting | K76: Listprijs aanschaf per stuk in $ | M76: Artikelnummer | N76: Artikelomschrijving | O76: Benodigd aantal in bouwblok | P76: Van toepassing ja / nee | Q76: Listprijs Onderhoud & Support per stuk in € | R76: Kortings- percentage | S76: Listprijs Onderhoud & Support per stuk incl. korting | T76: Prijs 7 jaren totaal incl. korting | U76: Listprijs aanschaf per stuk in $ | W76: Artikelnummer | X76: Artikelomschrijving | Y76: Benodigd aantal in bouwblok | Z76: Van toepassing ja / nee | AA76: Normatief gebruik stroom in watt per eeneid | AB76: Verwijzing naar documentatie voor stroomverbuik | AC76: Normatief gebruik stroom in watt per eeneid | AD76: Totaal op jaarbasis in Kwh x24x365/1000 | AE76: Totaal kosten 7 JAREN stroomverbruik
I77: =G77*(1-H77) -> 0 | J77: =IF(ISERROR(+I77),"",+I77) -> 0 | M77: =IF(ISBLANK(+C77),"",+C77) | N77: =IF(ISBLANK(+D77),"",+D77) | O77: =IF(ISBLANK(+F77),"",+F77) | S77: =IF(ISERROR(+Q77*(1-(R77))),"",+Q77*(1-(R77))) -> 0 | T77: =IF(ISERROR(+S77*O77*7),0,+S77*O77*7) -> 0 | W77: =IF(ISBLANK(+M77),"",+M77) | X77: =IF(ISBLANK(+N77),"",+N77) | Y77: =IF(ISBLANK(+F77),"",+F77) | AC77: =IF(ISERROR(IF(OR(Z77="nee",Z77=""),"",+Y77*AA77)),"",IF(OR(Z77="nee",Z77=""),"",+Y77*AA77)) | AD77: =IF(ISERROR((AC77*24*365)/1000),"",(AC77*24*365)/1000) | AE77: =IF(ISERROR(+AD77*tariefKwh*7),0,+AD77*tariefKwh*7) -> 0
C78: N.B.: Indien voor dit bouwblok meer regels benodig zijn, graag dit verzoek via de Nota van Inlichtingen bekend te maken. Een aangepast model wordt dan gepubliceerd.
B81: 8 | C81: =VLOOKUP(B81,$B$10:$D$29,2,FALSE) -> Optic 8 | G81: Naam Optic | M81: Onderhoud & Support | W81: TCO-energie
C82: Aanschaf | F82: ="Optic "&B81&" : " -> Optic 8 : | I82: Subtotaal | J82: =SUM(J84:J84) -> 0 | S82: Subtotaal | T82: =SUM(T84:T84) -> 0 | AD82: Subtotaal | AE82: =SUM(AE84:AE84) -> 0
C83: Artikelnummer | D83: Artikelomschrijving | E83: Merknaam | G83: Listprijs aanschaf per stuk in € | H83: Kortings- percentage | I83: Listprijs per stuk incl. korting | J83: Prijs totaal incl. korting | K83: Listprijs aanschaf per stuk in $ | M83: Artikelnummer | N83: Artikelomschrijving | O83: Benodigd aantal in bouwblok | P83: Van toepassing ja / nee | Q83: Listprijs Onderhoud & Support per stuk in € | R83: Kortings- percentage | S83: Listprijs Onderhoud & Support per stuk incl. korting | T83: Prijs 7 jaren totaal incl. korting | U83: Listprijs aanschaf per stuk in $ | W83: Artikelnummer | X83: Artikelomschrijving | Y83: Benodigd aantal in bouwblok | Z83: Van toepassing ja / nee | AA83: Normatief gebruik stroom in watt per eeneid | AB83: Verwijzing naar documentatie voor stroomverbuik | AC83: Normatief gebruik stroom in watt per eeneid | AD83: Totaal op jaarbasis in Kwh x24x365/1000 | AE83: Totaal kosten 7 JAREN stroomverbruik
I84: =G84*(1-H84) -> 0 | J84: =IF(ISERROR(+I84),"",+I84) -> 0 | M84: =IF(ISBLANK(+C84),"",+C84) | N84: =IF(ISBLANK(+D84),"",+D84) | O84: =IF(ISBLANK(+F84),"",+F84) | S84: =IF(ISERROR(+Q84*(1-(R84))),"",+Q84*(1-(R84))) -> 0 | T84: =IF(ISERROR(+S84*O84*7),0,+S84*O84*7) -> 0 | W84: =IF(ISBLANK(+M84),"",+M84) | X84: =IF(ISBLANK(+N84),"",+N84) | Y84: =IF(ISBLANK(+F84),"",+F84) | AC84: =IF(ISERROR(IF(OR(Z84="nee",Z84=""),"",+Y84*AA84)),"",IF(OR(Z84="nee",Z84=""),"",+Y84*AA84)) | AD84: =IF(ISERROR((AC84*24*365)/1000),"",(AC84*24*365)/1000) | AE84: =IF(ISERROR(+AD84*tariefKwh*7),0,+AD84*tariefKwh*7) -> 0
C85: N.B.: Indien voor dit bouwblok meer regels benodig zijn, graag dit verzoek via de Nota van Inlichtingen bekend te maken. Een aangepast model wordt dan gepubliceerd.
B88: 9 | C88: =VLOOKUP(B88,$B$10:$D$29,2,FALSE) -> Optic 9 | G88: Naam Optic | M88: Onderhoud & Support | W88: TCO-energie
C89: Aanschaf | F89: ="Optic "&B88&" : " -> Optic 9 : | I89: Subtotaal | J89: =SUM(J91:J91) -> 0 | S89: Subtotaal | T89: =SUM(T91:T91) -> 0 | AD89: Subtotaal | AE89: =SUM(AE91:AE91) -> 0
C90: Artikelnummer | D90: Artikelomschrijving | E90: Merknaam | G90: Listprijs aanschaf per stuk in € | H90: Kortings- percentage | I90: Listprijs per stuk incl. korting | J90: Prijs totaal incl. korting | K90: Listprijs aanschaf per stuk in $ | M90: Artikelnummer | N90: Artikelomschrijving | O90: Benodigd aantal in bouwblok | P90: Van toepassing ja / nee | Q90: Listprijs Onderhoud & Support per stuk in € | R90: Kortings- percentage | S90: Listprijs Onderhoud & Support per stuk incl. korting | T90: Prijs 7 jaren totaal incl. korting | U90: Listprijs aanschaf per stuk in $ | W90: Artikelnummer | X90: Artikelomschrijving | Y90: Benodigd aantal in bouwblok | Z90: Van toepassing ja / nee | AA90: Normatief gebruik stroom in watt per eeneid | AB90: Verwijzing naar documentatie voor stroomverbuik | AC90: Normatief gebruik stroom in watt per eeneid | AD90: Totaal op jaarbasis in Kwh x24x365/1000 | AE90: Totaal kosten 7 JAREN stroomverbruik
I91: =G91*(1-H91) -> 0 | J91: =IF(ISERROR(+I91),"",+I91) -> 0 | M91: =IF(ISBLANK(+C91),"",+C91) | N91: =IF(ISBLANK(+D91),"",+D91) | O91: =IF(ISBLANK(+F91),"",+F91) | S91: =IF(ISERROR(+Q91*(1-(R91))),"",+Q91*(1-(R91))) -> 0 | T91: =IF(ISERROR(+S91*O91*7),0,+S91*O91*7) -> 0 | W91: =IF(ISBLANK(+M91),"",+M91) | X91: =IF(ISBLANK(+N91),"",+N91) | Y91: =IF(ISBLANK(+F91),"",+F91) | AC91: =IF(ISERROR(IF(OR(Z91="nee",Z91=""),"",+Y91*AA91)),"",IF(OR(Z91="nee",Z91=""),"",+Y91*AA91)) | AD91: =IF(ISERROR((AC91*24*365)/1000),"",(AC91*24*365)/1000) | AE91: =IF(ISERROR(+AD91*tariefKwh*7),0,+AD91*tariefKwh*7) -> 0
C92: N.B.: Indien voor dit bouwblok meer regels benodig zijn, graag dit verzoek via de Nota van Inlichtingen bekend te maken. Een aangepast model wordt dan gepubliceerd.
B95: 10 | C95: =VLOOKUP(B95,$B$10:$D$29,2,FALSE) -> Optic 10 | G95: Naam Optic | M95: Onderhoud & Support | W95: TCO-energie
C96: Aanschaf | F96: ="Optic "&B95&" : " -> Optic 10 : | I96: Subtotaal | J96: =SUM(J98:J98) -> 0 | S96: Subtotaal | T96: =SUM(T98:T98) -> 0 | AD96: Subtotaal | AE96: =SUM(AE98:AE98) -> 0
C97: Artikelnummer | D97: Artikelomschrijving | E97: Merknaam | G97: Listprijs aanschaf per stuk in € | H97: Kortings- percentage | I97: Listprijs per stuk incl. korting | J97: Prijs totaal incl. korting | K97: Listprijs aanschaf per stuk in $ | M97: Artikelnummer | N97: Artikelomschrijving | O97: Benodigd aantal in bouwblok | P97: Van toepassing ja / nee | Q97: Listprijs Onderhoud & Support per stuk in € | R97: Kortings- percentage | S97: Listprijs Onderhoud & Support per stuk incl. korting | T97: Prijs 7 jaren totaal incl. korting | U97: Listprijs aanschaf per stuk in $ | W97: Artikelnummer | X97: Artikelomschrijving | Y97: Benodigd aantal in bouwblok | Z97: Van toepassing ja / nee | AA97: Normatief gebruik stroom in watt per eeneid | AB97: Verwijzing naar documentatie voor stroomverbuik | AC97: Normatief gebruik stroom in watt per eeneid | AD97: Totaal op jaarbasis in Kwh x24x365/1000 | AE97: Totaal kosten 7 JAREN stroomverbruik
I98: =G98*(1-H98) -> 0 | J98: =IF(ISERROR(+I98),"",+I98) -> 0 | M98: =IF(ISBLANK(+C98),"",+C98) | N98: =IF(ISBLANK(+D98),"",+D98) | O98: =IF(ISBLANK(+F98),"",+F98) | S98: =IF(ISERROR(+Q98*(1-(R98))),"",+Q98*(1-(R98))) -> 0 | T98: =IF(ISERROR(+S98*O98*7),0,+S98*O98*7) -> 0 | W98: =IF(ISBLANK(+M98),"",+M98) | X98: =IF(ISBLANK(+N98),"",+N98) | Y98: =IF(ISBLANK(+F98),"",+F98) | AC98: =IF(ISERROR(IF(OR(Z98="nee",Z98=""),"",+Y98*AA98)),"",IF(OR(Z98="nee",Z98=""),"",+Y98*AA98)) | AD98: =IF(ISERROR((AC98*24*365)/1000),"",(AC98*24*365)/1000) | AE98: =IF(ISERROR(+AD98*tariefKwh*7),0,+AD98*tariefKwh*7) -> 0
C99: N.B.: Indien voor dit bouwblok meer regels benodig zijn, graag dit verzoek via de Nota van Inlichtingen bekend te maken. Een aangepast model wordt dan gepubliceerd.

Sheet B. Bouwblok 2
A1: =D12 -> WAN 1 :
A2: =D15 -> WAN 2 : | C2: =+Samenvatting!B2 -> Europese openbare aanbesteding
A3: =D18 -> WAN 3 : | C3: =+Samenvatting!B3 -> Vervanging LAN omgeving
A4: =D21 -> WAN 4 : | C4: B. Bouwblok 2 Decentrale WAN koppeling
C5: =Samenvatting!B5 -> IUC24-009
C6: (Prijzen exclusief BTW)
E9: Aanschaf | F9: O&S | G9: TCO-energie | H9: Totaal
B10: 1a | C10: Variant 1: Decentrale WAN-koppeling | E10: =J25 -> 0 | F10: =T25 -> 0 | G10: =AE25 -> 0 | H10: =SUM(E10:G10) -> 0
B11: 1b | C11: Variant 1: Licentie(s) Decentrale WAN-koppeling | E11: =J35 -> 0 | F11: =T35 -> 0 | G11: n.v.t. | H11: =SUM(E11:G11) -> 0
C12: Totaal | D12: =E25&G25 -> WAN 1 : | E12: =SUM(E10:E11) -> 0 | F12: =SUM(F10:F11) -> 0 | G12: =SUM(G10:G11) -> 0 | H12: =SUM(H10:H11) -> 0
B13: 2a | C13: Variant 2: Decentrale WAN-koppeling | E13: =J43 -> 0 | F13: =T43 -> 0 | G13: =AE43 -> 0 | H13: =SUM(E13:G13) -> 0
B14: 2b | C14: Variant 2: Licentie(s) Decentrale WAN-koppeling | E14: =J53 -> 0 | F14: =T53 -> 0 | G14: n.v.t. | H14: =SUM(E14:G14) -> 0
C15: Totaal | D15: =E43&G43 -> WAN 2 : | E15: =SUM(E13:E14) -> 0 | F15: =SUM(F13:F14) -> 0 | G15: =SUM(G13:G14) -> 0 | H15: =SUM(H13:H14) -> 0
B16: 3a | C16: Variant 3: Decentrale WAN-koppeling | E16: =J61 -> 0 | F16: =T61 -> 0 | G16: =AE61 -> 0 | H16: =SUM(E16:G16) -> 0
B17: 3b | C17: Variant 3: Licentie(s) Decentrale WAN-koppeling | E17: =J71 -> 0 | F17: =T71 -> 0 | G17: n.v.t. | H17: =SUM(E17:G17) -> 0
C18: Totaal | D18: =E61&G61 -> WAN 3 : | E18: =SUM(E16:E17) -> 0 | F18: =SUM(F16:F17) -> 0 | G18: =SUM(G16:G17) -> 0 | H18: =SUM(H16:H17) -> 0
B19: 4a | C19: Variant 4: Decentrale WAN-koppeling | E19: =J79 -> 0 | F19: =T79 -> 0 | G19: =AE79 -> 0 | H19: =SUM(E19:G19) -> 0
B20: 4b | C20: Variant 4: Licentie(s) Decentrale WAN-koppeling | E20: =J89 -> 0 | F20: =T89 -> 0 | G20: n.v.t. | H20: =SUM(E20:G20) -> 0
C21: Totaal | D21: =E79&G79 -> WAN 4 : | E21: =SUM(E19:E20) -> 0 | F21: =SUM(F19:F20) -> 0 | G21: =SUM(G19:G20) -> 0 | H21: =SUM(H19:H20) -> 0
B24: 1a | C24: =VLOOKUP(B24,$B$10:$D$21,2,FALSE) -> Variant 1: Decentrale WAN-koppeling | G24: Naam Variant | M24: Onderhoud & Support | W24: TCO-energie
C25: Aanschaf | E25: ="WAN " & LEFT(B24,1)& " : " -> WAN 1 : | I25: Subtotaal | J25: =SUM(J27:J31) -> 0 | S25: Subtotaal | T25: =SUM(T27:T31) -> 0 | AD25: Subtotaal | AE25: =SUM(AE27:AE31) -> 0
C26: Artikelnummer | D26: Artikelomschrijving | E26: Merknaam | F26: Benodigd aantal in bouwblok | G26: Listprijs aanschaf per stuk in € | H26: Kortings- percentage | I26: Listprijs per stuk incl. korting | J26: Prijs totaal incl. korting | K26: Listprijs aanschaf per stuk in $ | M26: Artikelnummer | N26: Artikelomschrijving | O26: Benodigd aantal in bouwblok | P26: Van toepassing ja / nee | Q26: Listprijs Onderhoud & Support per stuk in € | R26: Kortings- percentage | S26: Listprijs Onderhoud & Support per stuk incl. korting | T26: Prijs 7 jaren totaal incl. korting | U26: Listprijs aanschaf per stuk in $ | W26: Artikelnummer | X26: Artikelomschrijving | Y26: Benodigd aantal in bouwblok | Z26: Van toepassing ja / nee | AA26: Normatief gebruik stroom in watt per eenheid | AB26: Verwijzing naar documentatie voor stroomverbuik | AC26: Normatief gebruik stroom in watt per eenheid | AD26: Totaal op jaarbasis in Kwh x24x365/1000 | AE26: Totaal kosten 7 JAREN stroomverbruik
I27: =G27*(1-H27) -> 0 | J27: =IF(ISERROR(+I27*F27),"",+I27*F27) -> 0 | M27: =IF(ISBLANK(+C27),"",+C27) | N27: =IF(ISBLANK(+D27),"",+D27) | O27: =IF(ISBLANK(+F27),"",+F27) | S27: =IF(ISERROR(+Q27*(1-(R27))),"",+Q27*(1-(R27))) -> 0 | T27: =IF(ISERROR(+S27*O27*7),0,+S27*O27*7) -> 0 | W27: =IF(ISBLANK(+M27),"",+M27) | X27: =IF(ISBLANK(+N27),"",+N27) | Y27: =IF(ISBLANK(+F27),"",+F27) | Z27: ja | AA27: 50 | AC27: =IF(ISERROR(IF(OR(Z27="nee",Z27=""),"",+Y27*AA27)),"",IF(OR(Z27="nee",Z27=""),"",+Y27*AA27)) | AD27: =IF(ISERROR((AC27*24*365)/1000),"",(AC27*24*365)/1000) | AE27: =IF(ISERROR(+AD27*tariefKwh*7),0,+AD27*tariefKwh*7) -> 0
I28: =G28*(1-H28) -> 0 | J28: =IF(ISERROR(+I28*F28),"",+I28*F28) -> 0 | M28: =IF(ISBLANK(+C28),"",+C28) | N28: =IF(ISBLANK(+D28),"",+D28) | O28: =IF(ISBLANK(+F28),"",+F28) | S28: =IF(ISERROR(+Q28*(1-(R28))),"",+Q28*(1-(R28))) -> 0 | T28: =IF(ISERROR(+S28*O28*7),0,+S28*O28*7) -> 0 | W28: =IF(ISBLANK(+M28),"",+M28) | X28: =IF(ISBLANK(+N28),"",+N28) | Y28: =IF(ISBLANK(+F28),"",+F28) | AC28: =IF(ISERROR(IF(OR(Z28="nee",Z28=""),"",+Y28*AA28)),"",IF(OR(Z28="nee",Z28=""),"",+Y28*AA28)) | AD28: =IF(ISERROR((AC28*24*365)/1000),"",(AC28*24*365)/1000) | AE28: =IF(ISERROR(+AD28*tariefKwh*7),0,+AD28*tariefKwh*7) -> 0
I29: =G29*(1-H29) -> 0 | J29: =IF(ISERROR(+I29*F29),"",+I29*F29) -> 0 | M29: =IF(ISBLANK(+C29),"",+C29) | N29: =IF(ISBLANK(+D29),"",+D29) | O29: =IF(ISBLANK(+F29),"",+F29) | S29: =IF(ISERROR(+Q29*(1-(R29))),"",+Q29*(1-(R29))) -> 0 | T29: =IF(ISERROR(+S29*O29*7),0,+S29*O29*7) -> 0 | W29: =IF(ISBLANK(+M29),"",+M29) | X29: =IF(ISBLANK(+N29),"",+N29) | Y29: =IF(ISBLANK(+F29),"",+F29) | AC29: =IF(ISERROR(IF(OR(Z29="nee",Z29=""),"",+Y29*AA29)),"",IF(OR(Z29="nee",Z29=""),"",+Y29*AA29)) | AD29: =IF(ISERROR((AC29*24*365)/1000),"",(AC29*24*365)/1000) | AE29: =IF(ISERROR(+AD29*tariefKwh*7),0,+AD29*tariefKwh*7) -> 0
I30: =G30*(1-H30) -> 0 | J30: =IF(ISERROR(+I30*F30),"",+I30*F30) -> 0 | M30: =IF(ISBLANK(+C30),"",+C30) | N30: =IF(ISBLANK(+D30),"",+D30) | O30: =IF(ISBLANK(+F30),"",+F30) | S30: =IF(ISERROR(+Q30*(1-(R30))),"",+Q30*(1-(R30))) -> 0 | T30: =IF(ISERROR(+S30*O30*7),0,+S30*O30*7) -> 0 | W30: =IF(ISBLANK(+M30),"",+M30) | X30: =IF(ISBLANK(+N30),"",+N30) | Y30: =IF(ISBLANK(+F30),"",+F30) | AC30: =IF(ISERROR(IF(OR(Z30="nee",Z30=""),"",+Y30*AA30)),"",IF(OR(Z30="nee",Z30=""),"",+Y30*AA30)) | AD30: =IF(ISERROR((AC30*24*365)/1000),"",(AC30*24*365)/1000) | AE30: =IF(ISERROR(+AD30*tariefKwh*7),0,+AD30*tariefKwh*7) -> 0
I31: =G31*(1-H31) -> 0 | J31: =IF(ISERROR(+I31*F31),"",+I31*F31) -> 0 | M31: =IF(ISBLANK(+C31),"",+C31) | N31: =IF(ISBLANK(+D31),"",+D31) | O31: =IF(ISBLANK(+F31),"",+F31) | S31: =IF(ISERROR(+Q31*(1-(R31))),"",+Q31*(1-(R31))) -> 0 | T31: =IF(ISERROR(+S31*O31*7),0,+S31*O31*7) -> 0 | W31: =IF(ISBLANK(+M31),"",+M31) | X31: =IF(ISBLANK(+N31),"",+N31) | Y31: =IF(ISBLANK(+F31),"",+F31) | AC31: =IF(ISERROR(IF(OR(Z31="nee",Z31=""),"",+Y31*AA31)),"",IF(OR(Z31="nee",Z31=""),"",+Y31*AA31)) | AD31: =IF(ISERROR((AC31*24*365)/1000),"",(AC31*24*365)/1000) | AE31: =IF(ISERROR(+AD31*tariefKwh*7),0,+AD31*tariefKwh*7) -> 0
C32: N.B.: Indien voor dit bouwblok meer regels benodig zijn, graag dit verzoek via de Nota van Inlichtingen bekend te maken. Een aangepast model wordt dan gepubliceerd.
B34: 1b | C34: =VLOOKUP(B34,$B$10:$D$21,2,FALSE) -> Variant 1: Licentie(s) Decentrale WAN-koppeling | D34: =VLOOKUP(C34,$B$10:$D$21,2,FALSE) -> #N/A | E34: =VLOOKUP(D34,$B$10:$D$21,2,FALSE) -> #N/A | J34: Totaalprijs Aanschaf Licenties | M34: =IF(E35="Subscription","Subscription","Onderhoud & Support") -> Onderhoud & Support | T34: ="Totaalprijs "&M34&" Licentie" -> Totaalprijs Onderhoud & Support Licentie
C35: Grondslag licentie: | F35: Gele velden invullen(!) | J35: =SUM(J37:J39) -> 0 | T35: =SUM(T37:T39) -> 0
C36: Artikelnummer | D36: Artikelomschrijving | E36: Merknaam | F36: Benodigd aantal in bouwblok | G36: Listprijs aanschaf per stuk in € | H36: Kortings- percentage | I36: Listprijs per stuk incl. korting | J36: Prijs totaal incl. korting | K36: Listprijs aanschaf per stuk in $ | M36: Artikelnummer | N36: Artikelomschrijving | O36: Benodigd aantal in bouwblok | P36: Van toepassing ja / nee | Q36: Listprijs Onderhoud & Support per stuk in € | R36: Kortings- percentage | S36: Listprijs Onderhoud & Support per stuk incl. korting | T36: Prijs 7 jaren totaal incl. korting | U36: Listprijs aanschaf per stuk in $
I37: =G37*(1-H37) -> 0 | J37: =IF(ISERROR(+I37*F37),"",+I37*F37) -> 0 | M37: =IF(ISBLANK(+C37),"",+C37) | N37: =IF(ISBLANK(+D37),"",+D37) | O37: =IF(ISBLANK(+F37),"",+F37) | P37: ja | S37: =IF(ISERROR(+Q37*(1-(R37))),"",+Q37*(1-(R37))) -> 0 | T37: =IF(ISERROR(+S37*O37*7),0,+S37*O37*7) -> 0
I38: =G38*(1-H38) -> 0 | J38: =IF(ISERROR(+I38*F38),"",+I38*F38) -> 0 | M38: =IF(ISBLANK(+C38),"",+C38) | N38: =IF(ISBLANK(+D38),"",+D38) | O38: =IF(ISBLANK(+F38),"",+F38) | P38: ja | S38: =IF(ISERROR(+Q38*(1-(R38))),"",+Q38*(1-(R38))) -> 0 | T38: =IF(ISERROR(+S38*O38*7),0,+S38*O38*7) -> 0
I39: =G39*(1-H39) -> 0 | J39: =IF(ISERROR(+I39*F39),"",+I39*F39) -> 0 | M39: =IF(ISBLANK(+C39),"",+C39) | N39: =IF(ISBLANK(+D39),"",+D39) | O39: =IF(ISBLANK(+F39),"",+F39) | P39: nee | S39: =IF(ISERROR(+Q39*(1-(R39))),"",+Q39*(1-(R39))) -> 0 | T39: =IF(ISERROR(+S39*O39*7),0,+S39*O39*7) -> 0
B42: 2a | C42: =VLOOKUP(B42,$B$10:$D$21,2,FALSE) -> Variant 2: Decentrale WAN-koppeling | G42: Naam Variant | M42: Onderhoud & Support | W42: TCO-energie
C43: Aanschaf | E43: ="WAN " & LEFT(B42,1)& " : " -> WAN 2 : | I43: Subtotaal | J43: =SUM(J45:J49) -> 0 | S43: Subtotaal | T43: =SUM(T45:T49) -> 0 | AD43: Subtotaal | AE43: =SUM(AE45:AE49) -> 0
C44: Artikelnummer | D44: Artikelomschrijving | E44: Merknaam | F44: Benodigd aantal in bouwblok | G44: Listprijs aanschaf per stuk in € | H44: Kortings- percentage | I44: Listprijs per stuk incl. korting | J44: Prijs totaal incl. korting | K44: Listprijs aanschaf per stuk in $ | M44: Artikelnummer | N44: Artikelomschrijving | O44: Benodigd aantal in bouwblok | P44: Van toepassing ja / nee | Q44: Listprijs Onderhoud & Support per stuk in € | R44: Kortings- percentage | S44: Listprijs Onderhoud & Support per stuk incl. korting | T44: Prijs 7 jaren totaal incl. korting | U44: Listprijs aanschaf per stuk in $ | W44: Artikelnummer | X44: Artikelomschrijving | Y44: Benodigd aantal in bouwblok | Z44: Van toepassing ja / nee | AA44: Normatief gebruik stroom in watt per eenheid | AB44: Verwijzing naar documentatie voor stroomverbuik | AC44: Normatief gebruik stroom in watt per eenheid | AD44: Totaal op jaarbasis in Kwh x24x365/1000 | AE44: Totaal kosten 7 JAREN stroomverbruik
I45: =G45*(1-H45) -> 0 | J45: =IF(ISERROR(+I45*F45),"",+I45*F45) -> 0 | M45: =IF(ISBLANK(+C45),"",+C45) | N45: =IF(ISBLANK(+D45),"",+D45) | O45: =IF(ISBLANK(+F45),"",+F45) | S45: =IF(ISERROR(+Q45*(1-(R45))),"",+Q45*(1-(R45))) -> 0 | T45: =IF(ISERROR(+S45*O45*7),0,+S45*O45*7) -> 0 | W45: =IF(ISBLANK(+M45),"",+M45) | X45: =IF(ISBLANK(+N45),"",+N45) | Y45: =IF(ISBLANK(+F45),"",+F45) | AC45: =IF(ISERROR(IF(OR(Z45="nee",Z45=""),"",+Y45*AA45)),"",IF(OR(Z45="nee",Z45=""),"",+Y45*AA45)) | AD45: =IF(ISERROR((AC45*24*365)/1000),"",(AC45*24*365)/1000) | AE45: =IF(ISERROR(+AD45*tariefKwh*7),0,+AD45*tariefKwh*7) -> 0
I46: =G46*(1-H46) -> 0 | J46: =IF(ISERROR(+I46*F46),"",+I46*F46) -> 0 | M46: =IF(ISBLANK(+C46),"",+C46) | N46: =IF(ISBLANK(+D46),"",+D46) | O46: =IF(ISBLANK(+F46),"",+F46) | S46: =IF(ISERROR(+Q46*(1-(R46))),"",+Q46*(1-(R46))) -> 0 | T46: =IF(ISERROR(+S46*O46*7),0,+S46*O46*7) -> 0 | W46: =IF(ISBLANK(+M46),"",+M46) | X46: =IF(ISBLANK(+N46),"",+N46) | Y46: =IF(ISBLANK(+F46),"",+F46) | AC46: =IF(ISERROR(IF(OR(Z46="nee",Z46=""),"",+Y46*AA46)),"",IF(OR(Z46="nee",Z46=""),"",+Y46*AA46)) | AD46: =IF(ISERROR((AC46*24*365)/1000),"",(AC46*24*365)/1000) | AE46: =IF(ISERROR(+AD46*tariefKwh*7),0,+AD46*tariefKwh*7) -> 0
I47: =G47*(1-H47) -> 0 | J47: =IF(ISERROR(+I47*F47),"",+I47*F47) -> 0 | M47: =IF(ISBLANK(+C47),"",+C47) | N47: =IF(ISBLANK(+D47),"",+D47) | O47: =IF(ISBLANK(+F47),"",+F47) | S47: =IF(ISERROR(+Q47*(1-(R47))),"",+Q47*(1-(R47))) -> 0 | T47: =IF(ISERROR(+S47*O47*7),0,+S47*O47*7) -> 0 | W47: =IF(ISBLANK(+M47),"",+M47) | X47: =IF(ISBLANK(+N47),"",+N47) | Y47: =IF(ISBLANK(+F47),"",+F47) | AC47: =IF(ISERROR(IF(OR(Z47="nee",Z47=""),"",+Y47*AA47)),"",IF(OR(Z47="nee",Z47=""),"",+Y47*AA47)) | AD47: =IF(ISERROR((AC47*24*365)/1000),"",(AC47*24*365)/1000) | AE47: =IF(ISERROR(+AD47*tariefKwh*7),0,+AD47*tariefKwh*7) -> 0
I48: =G48*(1-H48) -> 0 | J48: =IF(ISERROR(+I48*F48),"",+I48*F48) -> 0 | M48: =IF(ISBLANK(+C48),"",+C48) | N48: =IF(ISBLANK(+D48),"",+D48) | O48: =IF(ISBLANK(+F48),"",+F48) | S48: =IF(ISERROR(+Q48*(1-(R48))),"",+Q48*(1-(R48))) -> 0 | T48: =IF(ISERROR(+S48*O48*7),0,+S48*O48*7) -> 0 | W48: =IF(ISBLANK(+M48),"",+M48) | X48: =IF(ISBLANK(+N48),"",+N48) | Y48: =IF(ISBLANK(+F48),"",+F48) | AC48: =IF(ISERROR(IF(OR(Z48="nee",Z48=""),"",+Y48*AA48)),"",IF(OR(Z48="nee",Z48=""),"",+Y48*AA48)) | AD48: =IF(ISERROR((AC48*24*365)/1000),"",(AC48*24*365)/1000) | AE48: =IF(ISERROR(+AD48*tariefKwh*7),0,+AD48*tariefKwh*7) -> 0
I49: =G49*(1-H49) -> 0 | J49: =IF(ISERROR(+I49*F49),"",+I49*F49) -> 0 | M49: =IF(ISBLANK(+C49),"",+C49) | N49: =IF(ISBLANK(+D49),"",+D49) | O49: =IF(ISBLANK(+F49),"",+F49) | S49: =IF(ISERROR(+Q49*(1-(R49))),"",+Q49*(1-(R49))) -> 0 | T49: =IF(ISERROR(+S49*O49*7),0,+S49*O49*7) -> 0 | W49: =IF(ISBLANK(+M49),"",+M49) | X49: =IF(ISBLANK(+N49),"",+N49) | Y49: =IF(ISBLANK(+F49),"",+F49) | AC49: =IF(ISERROR(IF(OR(Z49="nee",Z49=""),"",+Y49*AA49)),"",IF(OR(Z49="nee",Z49=""),"",+Y49*AA49)) | AD49: =IF(ISERROR((AC49*24*365)/1000),"",(AC49*24*365)/1000) | AE49: =IF(ISERROR(+AD49*tariefKwh*7),0,+AD49*tariefKwh*7) -> 0
C50: N.B.: Indien voor dit bouwblok meer regels benodig zijn, graag dit verzoek via de Nota van Inlichtingen bekend te maken. Een aangepast model wordt dan gepubliceerd.
B52: 2b | C52: =VLOOKUP(B52,$B$10:$D$21,2,FALSE) -> Variant 2: Licentie(s) Decentrale WAN-koppeling | D52: =VLOOKUP(C52,$B$10:$D$21,2,FALSE) -> #N/A | E52: =VLOOKUP(D52,$B$10:$D$21,2,FALSE) -> #N/A | J52: Totaalprijs Aanschaf Licenties | M52: =IF(E53="Subscription","Subscription","Onderhoud & Support") -> Onderhoud & Support | T52: ="Totaalprijs "&M52&" Licentie" -> Totaalprijs Onderhoud & Support Licentie
C53: Grondslag licentie: | F53: Gele velden invullen(!) | J53: =SUM(J55:J57) -> 0 | T53: =SUM(T55:T57) -> 0
C54: Artikelnummer | D54: Artikelomschrijving | E54: Merknaam | F54: Benodigd aantal in bouwblok | G54: Listprijs aanschaf per stuk in € | H54: Kortings- percentage | I54: Listprijs per stuk incl. korting | J54: Prijs totaal incl. korting | K54: Listprijs aanschaf per stuk in $ | M54: Artikelnummer | N54: Artikelomschrijving | O54: Benodigd aantal in bouwblok | P54: Van toepassing ja / nee | Q54: Listprijs Onderhoud & Support per stuk in € | R54: Kortings- percentage | S54: Listprijs Onderhoud & Support per stuk incl. korting | T54: Prijs 7 jaren totaal incl. korting | U54: Listprijs aanschaf per stuk in $
I55: =G55*(1-H55) -> 0 | J55: =IF(ISERROR(+I55*F55),"",+I55*F55) -> 0 | M55: =IF(ISBLANK(+C55),"",+C55) | N55: =IF(ISBLANK(+D55),"",+D55) | O55: =IF(ISBLANK(+F55),"",+F55) | S55: =IF(ISERROR(+Q55*(1-(R55))),"",+Q55*(1-(R55))) -> 0 | T55: =IF(ISERROR(+S55*O55*7),0,+S55*O55*7) -> 0
I56: =G56*(1-H56) -> 0 | J56: =IF(ISERROR(+I56*F56),"",+I56*F56) -> 0 | M56: =IF(ISBLANK(+C56),"",+C56) | N56: =IF(ISBLANK(+D56),"",+D56) | O56: =IF(ISBLANK(+F56),"",+F56) | S56: =IF(ISERROR(+Q56*(1-(R56))),"",+Q56*(1-(R56))) -> 0 | T56: =IF(ISERROR(+S56*O56*7),0,+S56*O56*7) -> 0
I57: =G57*(1-H57) -> 0 | J57: =IF(ISERROR(+I57*F57),"",+I57*F57) -> 0 | M57: =IF(ISBLANK(+C57),"",+C57) | N57: =IF(ISBLANK(+D57),"",+D57) | O57: =IF(ISBLANK(+F57),"",+F57) | S57: =IF(ISERROR(+Q57*(1-(R57))),"",+Q57*(1-(R57))) -> 0 | T57: =IF(ISERROR(+S57*O57*7),0,+S57*O57*7) -> 0
B60: 3a | C60: =VLOOKUP(B60,$B$10:$D$21,2,FALSE) -> Variant 3: Decentrale WAN-koppeling | G60: Naam Variant | M60: Onderhoud & Support | W60: TCO-energie
C61: Aanschaf | E61: ="WAN " & LEFT(B60,1)& " : " -> WAN 3 : | I61: Subtotaal | J61: =SUM(J63:J67) -> 0 | S61: Subtotaal | T61: =SUM(T63:T67) -> 0 | AD61: Subtotaal | AE61: =SUM(AE63:AE67) -> 0
C62: Artikelnummer | D62: Artikelomschrijving | E62: Merknaam | F62: Benodigd aantal in bouwblok | G62: Listprijs aanschaf per stuk in € | H62: Kortings- percentage | I62: Listprijs per stuk incl. korting | J62: Prijs totaal incl. korting | K62: Listprijs aanschaf per stuk in $ | M62: Artikelnummer | N62: Artikelomschrijving | O62: Benodigd aantal in bouwblok | P62: Van toepassing ja / nee | Q62: Listprijs Onderhoud & Support per stuk in € | R62: Kortings- percentage | S62: Listprijs Onderhoud & Support per stuk incl. korting | T62: Prijs 7 jaren totaal incl. korting | U62: Listprijs aanschaf per stuk in $ | W62: Artikelnummer | X62: Artikelomschrijving | Y62: Benodigd aantal in bouwblok | Z62: Van toepassing ja / nee | AA62: Normatief gebruik stroom in watt per eenheid | AB62: Verwijzing naar documentatie voor stroomverbuik | AC62: Normatief gebruik stroom in watt per eenheid | AD62: Totaal op jaarbasis in Kwh x24x365/1000 | AE62: Totaal kosten 7 JAREN stroomverbruik
I63: =G63*(1-H63) -> 0 | J63: =IF(ISERROR(+I63*F63),"",+I63*F63) -> 0 | M63: =IF(ISBLANK(+C63),"",+C63) | N63: =IF(ISBLANK(+D63),"",+D63) | O63: =IF(ISBLANK(+F63),"",+F63) | S63: =IF(ISERROR(+Q63*(1-(R63))),"",+Q63*(1-(R63))) -> 0 | T63: =IF(ISERROR(+S63*O63*7),0,+S63*O63*7) -> 0 | W63: =IF(ISBLANK(+M63),"",+M63) | X63: =IF(ISBLANK(+N63),"",+N63) | Y63: =IF(ISBLANK(+F63),"",+F63) | AC63: =IF(ISERROR(IF(OR(Z63="nee",Z63=""),"",+Y63*AA63)),"",IF(OR(Z63="nee",Z63=""),"",+Y63*AA63)) | AD63: =IF(ISERROR((AC63*24*365)/1000),"",(AC63*24*365)/1000) | AE63: =IF(ISERROR(+AD63*tariefKwh*7),0,+AD63*tariefKwh*7) -> 0
I64: =G64*(1-H64) -> 0 | J64: =IF(ISERROR(+I64*F64),"",+I64*F64) -> 0 | M64: =IF(ISBLANK(+C64),"",+C64) | N64: =IF(ISBLANK(+D64),"",+D64) | O64: =IF(ISBLANK(+F64),"",+F64) | S64: =IF(ISERROR(+Q64*(1-(R64))),"",+Q64*(1-(R64))) -> 0 | T64: =IF(ISERROR(+S64*O64*7),0,+S64*O64*7) -> 0 | W64: =IF(ISBLANK(+M64),"",+M64) | X64: =IF(ISBLANK(+N64),"",+N64) | Y64: =IF(ISBLANK(+F64),"",+F64) | AC64: =IF(ISERROR(IF(OR(Z64="nee",Z64=""),"",+Y64*AA64)),"",IF(OR(Z64="nee",Z64=""),"",+Y64*AA64)) | AD64: =IF(ISERROR((AC64*24*365)/1000),"",(AC64*24*365)/1000) | AE64: =IF(ISERROR(+AD64*tariefKwh*7),0,+AD64*tariefKwh*7) -> 0
I65: =G65*(1-H65) -> 0 | J65: =IF(ISERROR(+I65*F65),"",+I65*F65) -> 0 | M65: =IF(ISBLANK(+C65),"",+C65) | N65: =IF(ISBLANK(+D65),"",+D65) | O65: =IF(ISBLANK(+F65),"",+F65) | S65: =IF(ISERROR(+Q65*(1-(R65))),"",+Q65*(1-(R65))) -> 0 | T65: =IF(ISERROR(+S65*O65*7),0,+S65*O65*7) -> 0 | W65: =IF(ISBLANK(+M65),"",+M65) | X65: =IF(ISBLANK(+N65),"",+N65) | Y65: =IF(ISBLANK(+F65),"",+F65) | AC65: =IF(ISERROR(IF(OR(Z65="nee",Z65=""),"",+Y65*AA65)),"",IF(OR(Z65="nee",Z65=""),"",+Y65*AA65)) | AD65: =IF(ISERROR((AC65*24*365)/1000),"",(AC65*24*365)/1000) | AE65: =IF(ISERROR(+AD65*tariefKwh*7),0,+AD65*tariefKwh*7) -> 0
I66: =G66*(1-H66) -> 0 | J66: =IF(ISERROR(+I66*F66),"",+I66*F66) -> 0 | M66: =IF(ISBLANK(+C66),"",+C66) | N66: =IF(ISBLANK(+D66),"",+D66) | O66: =IF(ISBLANK(+F66),"",+F66) | S66: =IF(ISERROR(+Q66*(1-(R66))),"",+Q66*(1-(R66))) -> 0 | T66: =IF(ISERROR(+S66*O66*7),0,+S66*O66*7) -> 0 | W66: =IF(ISBLANK(+M66),"",+M66) | X66: =IF(ISBLANK(+N66),"",+N66) | Y66: =IF(ISBLANK(+F66),"",+F66) | AC66: =IF(ISERROR(IF(OR(Z66="nee",Z66=""),"",+Y66*AA66)),"",IF(OR(Z66="nee",Z66=""),"",+Y66*AA66)) | AD66: =IF(ISERROR((AC66*24*365)/1000),"",(AC66*24*365)/1000) | AE66: =IF(ISERROR(+AD66*tariefKwh*7),0,+AD66*tariefKwh*7) -> 0
I67: =G67*(1-H67) -> 0 | J67: =IF(ISERROR(+I67*F67),"",+I67*F67) -> 0 | M67: =IF(ISBLANK(+C67),"",+C67) | N67: =IF(ISBLANK(+D67),"",+D67) | O67: =IF(ISBLANK(+F67),"",+F67) | S67: =IF(ISERROR(+Q67*(1-(R67))),"",+Q67*(1-(R67))) -> 0 | T67: =IF(ISERROR(+S67*O67*7),0,+S67*O67*7) -> 0 | W67: =IF(ISBLANK(+M67),"",+M67) | X67: =IF(ISBLANK(+N67),"",+N67) | Y67: =IF(ISBLANK(+F67),"",+F67) | AC67: =IF(ISERROR(IF(OR(Z67="nee",Z67=""),"",+Y67*AA67)),"",IF(OR(Z67="nee",Z67=""),"",+Y67*AA67)) | AD67: =IF(ISERROR((AC67*24*365)/1000),"",(AC67*24*365)/1000) | AE67: =IF(ISERROR(+AD67*tariefKwh*7),0,+AD67*tariefKwh*7) -> 0
C68: N.B.: Indien voor dit bouwblok meer regels benodig zijn, graag dit verzoek via de Nota van Inlichtingen bekend te maken. Een aangepast model wordt dan gepubliceerd.
B70: 3b | C70: =VLOOKUP(B70,$B$10:$D$21,2,FALSE) -> Variant 3: Licentie(s) Decentrale WAN-koppeling | D70: =VLOOKUP(C70,$B$10:$D$21,2,FALSE) -> #N/A | E70: =VLOOKUP(D70,$B$10:$D$21,2,FALSE) -> #N/A | J70: Totaalprijs Aanschaf Licenties | M70: =IF(E71="Subscription","Subscription","Onderhoud & Support") -> Onderhoud & Support | T70: ="Totaalprijs "&M70&" Licentie" -> Totaalprijs Onderhoud & Support Licentie
C71: Grondslag licentie: | F71: Gele velden invullen(!) | J71: =SUM(J73:J75) -> 0 | T71: =SUM(T73:T75) -> 0
C72: Artikelnummer | D72: Artikelomschrijving | E72: Merknaam | F72: Benodigd aantal in bouwblok | G72: Listprijs aanschaf per stuk in € | H72: Kortings- percentage | I72: Listprijs per stuk incl. korting | J72: Prijs totaal incl. korting | K72: Listprijs aanschaf per stuk in $ | M72: Artikelnummer | N72: Artikelomschrijving | O72: Benodigd aantal in bouwblok | P72: Van toepassing ja / nee | Q72: Listprijs Onderhoud & Support per stuk in € | R72: Kortings- percentage | S72: Listprijs Onderhoud & Support per stuk incl. korting | T72: Prijs 7 jaren totaal incl. korting | U72: Listprijs aanschaf per stuk in $
I73: =G73*(1-H73) -> 0 | J73: =IF(ISERROR(+I73*F73),"",+I73*F73) -> 0 | M73: =IF(ISBLANK(+C73),"",+C73) | N73: =IF(ISBLANK(+D73),"",+D73) | O73: =IF(ISBLANK(+F73),"",+F73) | S73: =IF(ISERROR(+Q73*(1-(R73))),"",+Q73*(1-(R73))) -> 0 | T73: =IF(ISERROR(+S73*O73*7),0,+S73*O73*7) -> 0
I74: =G74*(1-H74) -> 0 | J74: =IF(ISERROR(+I74*F74),"",+I74*F74) -> 0 | M74: =IF(ISBLANK(+C74),"",+C74) | N74: =IF(ISBLANK(+D74),"",+D74) | O74: =IF(ISBLANK(+F74),"",+F74) | S74: =IF(ISERROR(+Q74*(1-(R74))),"",+Q74*(1-(R74))) -> 0 | T74: =IF(ISERROR(+S74*O74*7),0,+S74*O74*7) -> 0
I75: =G75*(1-H75) -> 0 | J75: =IF(ISERROR(+I75*F75),"",+I75*F75) -> 0 | M75: =IF(ISBLANK(+C75),"",+C75) | N75: =IF(ISBLANK(+D75),"",+D75) | O75: =IF(ISBLANK(+F75),"",+F75) | S75: =IF(ISERROR(+Q75*(1-(R75))),"",+Q75*(1-(R75))) -> 0 | T75: =IF(ISERROR(+S75*O75*7),0,+S75*O75*7) -> 0
B78: 4a | C78: =VLOOKUP(B78,$B$10:$D$21,2,FALSE) -> Variant 4: Decentrale WAN-koppeling | G78: Naam Variant | M78: Onderhoud & Support | W78: TCO-energie
C79: Aanschaf | E79: ="WAN " & LEFT(B78,1)& " : " -> WAN 4 : | I79: Subtotaal | J79: =SUM(J81:J85) -> 0 | S79: Subtotaal | T79: =SUM(T81:T85) -> 0 | AD79: Subtotaal | AE79: =SUM(AE81:AE85) -> 0
C80: Artikelnummer | D80: Artikelomschrijving | E80: Merknaam | F80: Benodigd aantal in bouwblok | G80: Listprijs aanschaf per stuk in € | H80: Kortings- percentage | I80: Listprijs per stuk incl. korting | J80: Prijs totaal incl. korting | K80: Listprijs aanschaf per stuk in $ | M80: Artikelnummer | N80: Artikelomschrijving | O80: Benodigd aantal in bouwblok | P80: Van toepassing ja / nee | Q80: Listprijs Onderhoud & Support per stuk in € | R80: Kortings- percentage | S80: Listprijs Onderhoud & Support per stuk incl. korting | T80: Prijs 7 jaren totaal incl. korting | U80: Listprijs aanschaf per stuk in $ | W80: Artikelnummer | X80: Artikelomschrijving | Y80: Benodigd aantal in bouwblok | Z80: Van toepassing ja / nee | AA80: Normatief gebruik stroom in watt per eenheid | AB80: Verwijzing naar documentatie voor stroomverbuik | AC80: Normatief gebruik stroom in watt per eenheid | AD80: Totaal op jaarbasis in Kwh x24x365/1000 | AE80: Totaal kosten 7 JAREN stroomverbruik
I81: =G81*(1-H81) -> 0 | J81: =IF(ISERROR(+I81*F81),"",+I81*F81) -> 0 | M81: =IF(ISBLANK(+C81),"",+C81) | N81: =IF(ISBLANK(+D81),"",+D81) | O81: =IF(ISBLANK(+F81),"",+F81) | S81: =IF(ISERROR(+Q81*(1-(R81))),"",+Q81*(1-(R81))) -> 0 | T81: =IF(ISERROR(+S81*O81*7),0,+S81*O81*7) -> 0 | W81: =IF(ISBLANK(+M81),"",+M81) | X81: =IF(ISBLANK(+N81),"",+N81) | Y81: =IF(ISBLANK(+F81),"",+F81) | AC81: =IF(ISERROR(IF(OR(Z81="nee",Z81=""),"",+Y81*AA81)),"",IF(OR(Z81="nee",Z81=""),"",+Y81*AA81)) | AD81: =IF(ISERROR((AC81*24*365)/1000),"",(AC81*24*365)/1000) | AE81: =IF(ISERROR(+AD81*tariefKwh*7),0,+AD81*tariefKwh*7) -> 0
I82: =G82*(1-H82) -> 0 | J82: =IF(ISERROR(+I82*F82),"",+I82*F82) -> 0 | M82: =IF(ISBLANK(+C82),"",+C82) | N82: =IF(ISBLANK(+D82),"",+D82) | O82: =IF(ISBLANK(+F82),"",+F82) | S82: =IF(ISERROR(+Q82*(1-(R82))),"",+Q82*(1-(R82))) -> 0 | T82: =IF(ISERROR(+S82*O82*7),0,+S82*O82*7) -> 0 | W82: =IF(ISBLANK(+M82),"",+M82) | X82: =IF(ISBLANK(+N82),"",+N82) | Y82: =IF(ISBLANK(+F82),"",+F82) | AC82: =IF(ISERROR(IF(OR(Z82="nee",Z82=""),"",+Y82*AA82)),"",IF(OR(Z82="nee",Z82=""),"",+Y82*AA82)) | AD82: =IF(ISERROR((AC82*24*365)/1000),"",(AC82*24*365)/1000) | AE82: =IF(ISERROR(+AD82*tariefKwh*7),0,+AD82*tariefKwh*7) -> 0
I83: =G83*(1-H83) -> 0 | J83: =IF(ISERROR(+I83*F83),"",+I83*F83) -> 0 | M83: =IF(ISBLANK(+C83),"",+C83) | N83: =IF(ISBLANK(+D83),"",+D83) | O83: =IF(ISBLANK(+F83),"",+F83) | S83: =IF(ISERROR(+Q83*(1-(R83))),"",+Q83*(1-(R83))) -> 0 | T83: =IF(ISERROR(+S83*O83*7),0,+S83*O83*7) -> 0 | W83: =IF(ISBLANK(+M83),"",+M83) | X83: =IF(ISBLANK(+N83),"",+N83) | Y83: =IF(ISBLANK(+F83),"",+F83) | AC83: =IF(ISERROR(IF(OR(Z83="nee",Z83=""),"",+Y83*AA83)),"",IF(OR(Z83="nee",Z83=""),"",+Y83*AA83)) | AD83: =IF(ISERROR((AC83*24*365)/1000),"",(AC83*24*365)/1000) | AE83: =IF(ISERROR(+AD83*tariefKwh*7),0,+AD83*tariefKwh*7) -> 0
I84: =G84*(1-H84) -> 0 | J84: =IF(ISERROR(+I84*F84),"",+I84*F84) -> 0 | M84: =IF(ISBLANK(+C84),"",+C84) | N84: =IF(ISBLANK(+D84),"",+D84) | O84: =IF(ISBLANK(+F84),"",+F84) | S84: =IF(ISERROR(+Q84*(1-(R84))),"",+Q84*(1-(R84))) -> 0 | T84: =IF(ISERROR(+S84*O84*7),0,+S84*O84*7) -> 0 | W84: =IF(ISBLANK(+M84),"",+M84) | X84: =IF(ISBLANK(+N84),"",+N84) | Y84: =IF(ISBLANK(+F84),"",+F84) | AC84: =IF(ISERROR(IF(OR(Z84="nee",Z84=""),"",+Y84*AA84)),"",IF(OR(Z84="nee",Z84=""),"",+Y84*AA84)) | AD84: =IF(ISERROR((AC84*24*365)/1000),"",(AC84*24*365)/1000) | AE84: =IF(ISERROR(+AD84*tariefKwh*7),0,+AD84*tariefKwh*7) -> 0
I85: =G85*(1-H85) -> 0 | J85: =IF(ISERROR(+I85*F85),"",+I85*F85) -> 0 | M85: =IF(ISBLANK(+C85),"",+C85) | N85: =IF(ISBLANK(+D85),"",+D85) | O85: =IF(ISBLANK(+F85),"",+F85) | S85: =IF(ISERROR(+Q85*(1-(R85))),"",+Q85*(1-(R85))) -> 0 | T85: =IF(ISERROR(+S85*O85*7),0,+S85*O85*7) -> 0 | W85: =IF(ISBLANK(+M85),"",+M85) | X85: =IF(ISBLANK(+N85),"",+N85) | Y85: =IF(ISBLANK(+F85),"",+F85) | AC85: =IF(ISERROR(IF(OR(Z85="nee",Z85=""),"",+Y85*AA85)),"",IF(OR(Z85="nee",Z85=""),"",+Y85*AA85)) | AD85: =IF(ISERROR((AC85*24*365)/1000),"",(AC85*24*365)/1000) | AE85: =IF(ISERROR(+AD85*tariefKwh*7),0,+AD85*tariefKwh*7) -> 0
C86: N.B.: Indien voor dit bouwblok meer regels benodig zijn, graag dit verzoek via de Nota van Inlichtingen bekend te maken. Een aangepast model wordt dan gepubliceerd.
B88: 4b | C88: =VLOOKUP(B88,$B$10:$D$21,2,FALSE) -> Variant 4: Licentie(s) Decentrale WAN-koppeling | D88: =VLOOKUP(C88,$B$10:$D$21,2,FALSE) -> #N/A | E88: =VLOOKUP(D88,$B$10:$D$21,2,FALSE) -> #N/A | J88: Totaalprijs Aanschaf Licenties | M88: =IF(E89="Subscription","Subscription","Onderhoud & Support") -> Onderhoud & Support | T88: ="Totaalprijs "&M88&" Licentie" -> Totaalprijs Onderhoud & Support Licentie
C89: Grondslag licentie: | F89: Gele velden invullen(!) | J89: =SUM(J91:J93) -> 0 | T89: =SUM(T91:T93) -> 0
C90: Artikelnummer | D90: Artikelomschrijving | E90: Merknaam | F90: Benodigd aantal in bouwblok | G90: Listprijs aanschaf per stuk in € | H90: Kortings- percentage | I90: Listprijs per stuk incl. korting | J90: Prijs totaal incl. korting | K90: Listprijs aanschaf per stuk in $ | M90: Artikelnummer | N90: Artikelomschrijving | O90: Benodigd aantal in bouwblok | P90: Van toepassing ja / nee | Q90: Listprijs Onderhoud & Support per stuk in € | R90: Kortings- percentage | S90: Listprijs Onderhoud & Support per stuk incl. korting | T90: Prijs 7 jaren totaal incl. korting | U90: Listprijs aanschaf per stuk in $
I91: =G91*(1-H91) -> 0 | J91: =IF(ISERROR(+I91*F91),"",+I91*F91) -> 0 | M91: =IF(ISBLANK(+C91),"",+C91) | N91: =IF(ISBLANK(+D91),"",+D91) | O91: =IF(ISBLANK(+F91),"",+F91) | S91: =IF(ISERROR(+Q91*(1-(R91))),"",+Q91*(1-(R91))) -> 0 | T91: =IF(ISERROR(+S91*O91*7),0,+S91*O91*7) -> 0
I92: =G92*(1-H92) -> 0 | J92: =IF(ISERROR(+I92*F92),"",+I92*F92) -> 0 | M92: =IF(ISBLANK(+C92),"",+C92) | N92: =IF(ISBLANK(+D92),"",+D92) | O92: =IF(ISBLANK(+F92),"",+F92) | S92: =IF(ISERROR(+Q92*(1-(R92))),"",+Q92*(1-(R92))) -> 0 | T92: =IF(ISERROR(+S92*O92*7),0,+S92*O92*7) -> 0
I93: =G93*(1-H93) -> 0 | J93: =IF(ISERROR(+I93*F93),"",+I93*F93) -> 0 | M93: =IF(ISBLANK(+C93),"",+C93) | N93: =IF(ISBLANK(+D93),"",+D93) | O93: =IF(ISBLANK(+F93),"",+F93) | S93: =IF(ISERROR(+Q93*(1-(R93))),"",+Q93*(1-(R93))) -> 0 | T93: =IF(ISERROR(+S93*O93*7),0,+S93*O93*7) -> 0

Sheet C. Bouwblok 3
A1: =D12 -> Distributie 1 :
A2: =D15 -> Distributie 2 : | C2: =Samenvatting!B2 -> Europese openbare aanbesteding
A3: =D18 -> Distributie 3 : | C3: =Samenvatting!B3 -> Vervanging LAN omgeving
A4: =D21 -> Distributie 4 : | C4: C. Bouwblok 3 Decentrale distributie
A5: =D24 -> Distributie 5 : | C5: =Samenvatting!B5 -> IUC24-009
A6: =D27 -> Distributie 6 : | C6: (Prijzen exclusief BTW)
A7: =D30 -> Distributie 7 :
A8: =D33 -> Distributie 8 :
E9: Aanschaf | F9: O&S | G9: TCO-energie | H9: Totaal
B10: 1a | C10: Variant 1: Decentrale Distributie | E10: =J37 -> 0 | F10: =T37 -> 0 | G10: =AE37 -> 0 | H10: =SUM(E10:G10) -> 0
B11: 1b | C11: Variant 1: Licentie(s) Decentrale Distributie | E11: =J47 -> 0 | F11: =T47 -> 0 | G11: n.v.t. | H11: =SUM(E11:G11) -> 0
C12: Totaal | D12: =E37&G37 -> Distributie 1 : | E12: =SUM(E10:E11) -> 0 | F12: =SUM(F10:F11) -> 0 | G12: =SUM(G10:G11) -> 0 | H12: =SUM(H10:H11) -> 0
B13: 2a | C13: Variant 2: Decentrale Distributie | E13: =J55 -> 0 | F13: =T55 -> 0 | G13: =AE55 -> 0 | H13: =SUM(E13:G13) -> 0
B14: 2b | C14: Variant 2: Licentie(s) Decentrale Distributie | E14: =J65 -> 0 | F14: =T65 -> 0 | G14: n.v.t. | H14: =SUM(E14:G14) -> 0
C15: Totaal | D15: =E55&G55 -> Distributie 2 : | E15: =SUM(E13:E14) -> 0 | F15: =SUM(F13:F14) -> 0 | G15: =SUM(G13:G14) -> 0 | H15: =SUM(H13:H14) -> 0
B16: 3a | C16: Variant 3: Decentrale Distributie | E16: =J73 -> 0 | F16: =T73 -> 0 | G16: =AE73 -> 0 | H16: =SUM(E16:G16) -> 0
B17: 3b | C17: Variant 3: Licentie(s) Decentrale Distributie | E17: =J83 -> 0 | F17: =T83 -> 0 | G17: n.v.t. | H17: =SUM(E17:G17) -> 0
C18: Totaal | D18: =E73&G73 -> Distributie 3 : | E18: =SUM(E16:E17) -> 0 | F18: =SUM(F16:F17) -> 0 | G18: =SUM(G16:G17) -> 0 | H18: =SUM(H16:H17) -> 0
B19: 4a | C19: Variant 4: Decentrale Distributie | E19: =J91 -> 0 | F19: =T91 -> 0 | G19: =AE91 -> 0 | H19: =SUM(E19:G19) -> 0
B20: 4b | C20: Variant 4: Licentie(s) Decentrale Distributie | E20: =J101 -> 0 | F20: =T101 -> 0 | G20: n.v.t. | H20: =SUM(E20:G20) -> 0
C21: Totaal | D21: =E91&G91 -> Distributie 4 : | E21: =SUM(E19:E20) -> 0 | F21: =SUM(F19:F20) -> 0 | G21: =SUM(G19:G20) -> 0 | H21: =SUM(H19:H20) -> 0
B22: 5a | C22: Variant 5: Decentrale Distributie | E22: =J49 -> 0 | F22: =T49 -> 0 | G22: =AE49 -> 0 | H22: =SUM(E22:G22) -> 0
B23: 5b | C23: Variant 5: Licentie(s) Decentrale Distributie | E23: =J59 -> 0 | F23: =T59 -> 0 | G23: n.v.t. | H23: =SUM(E23:G23) -> 0
C24: Totaal | D24: =E109&G109 -> Distributie 5 : | E24: =SUM(E22:E23) -> 0 | F24: =SUM(F22:F23) -> 0 | G24: =SUM(G22:G23) -> 0 | H24: =SUM(H22:H23) -> 0
B25: 6a | C25: Variant 6: Decentrale Distributie | E25: =J67 -> 0 | F25: =T67 -> 0 | G25: =AE67 -> 0 | H25: =SUM(E25:G25) -> 0
B26: 6b | C26: Variant 6: Licentie(s) Decentrale Distributie | E26: =J77 -> 0 | F26: =T77 -> 0 | G26: n.v.t. | H26: =SUM(E26:G26) -> 0
C27: Totaal | D27: =E127&G127 -> Distributie 6 : | E27: =SUM(E25:E26) -> 0 | F27: =SUM(F25:F26) -> 0 | G27: =SUM(G25:G26) -> 0 | H27: =SUM(H25:H26) -> 0
B28: 7a | C28: Variant 7: Decentrale Distributie | E28: =J85 -> 0 | F28: =T85 -> 0 | G28: =AE85 -> 0 | H28: =SUM(E28:G28) -> 0
B29: 7b | C29: Variant 7: Licentie(s) Decentrale Distributie | E29: =J95 -> 0 | F29: =T95 -> 0 | G29: n.v.t. | H29: =SUM(E29:G29) -> 0
C30: Totaal | D30: =E145&G145 -> Distributie 7 : | E30: =SUM(E28:E29) -> 0 | F30: =SUM(F28:F29) -> 0 | G30: =SUM(G28:G29) -> 0 | H30: =SUM(H28:H29) -> 0
B31: 8a | C31: Variant 8: Decentrale Distributie | E31: =J103 -> 0 | F31: =T103 -> 0 | G31: =AE103 -> 0 | H31: =SUM(E31:G31) -> 0
B32: 8b | C32: Variant 8: Licentie(s) Decentrale Distributie | E32: =J113 -> 0 | F32: =T113 -> 0 | G32: n.v.t. | H32: =SUM(E32:G32) -> 0
C33: Totaal | D33: =E163&G163 -> Distributie 8 : | E33: =SUM(E31:E32) -> 0 | F33: =SUM(F31:F32) -> 0 | G33: =SUM(G31:G32) -> 0 | H33: =SUM(H31:H32) -> 0
B36: 1a | C36: =VLOOKUP(B36,$B$10:$D$32,2,FALSE) -> Variant 1: Decentrale Distributie | G36: Naam Variant | M36: Onderhoud & Support | W36: TCO-energie
C37: Aanschaf | E37: ="Distributie " & LEFT(B36,1) & " : " -> Distributie 1 : | I37: Subtotaal | J37: =SUM(J39:J43) -> 0 | S37: Subtotaal | T37: =SUM(T39:T43) -> 0 | AD37: Subtotaal | AE37: =SUM(AE39:AE43) -> 0
C38: Artikelnummer | D38: Artikelomschrijving | E38: Merknaam | F38: Benodigd aantal in bouwblok | G38: Listprijs aanschaf per stuk in € | H38: Kortings- percentage | I38: Listprijs per stuk incl. korting | J38: Prijs totaal incl. korting | K38: Listprijs aanschaf per stuk in $ | M38: Artikelnummer | N38: Artikelomschrijving | O38: Benodigd aantal in bouwblok | P38: Van toepassing ja / nee | Q38: Listprijs Onderhoud & Support per stuk in € | R38: Kortings- percentage | S38: Listprijs Onderhoud & Support per stuk incl. korting | T38: Prijs 7 jaren totaal incl. korting | U38: Listprijs aanschaf per stuk in $ | W38: Artikelnummer | X38: Artikelomschrijving | Y38: Benodigd aantal in bouwblok | Z38: Van toepassing ja / nee | AA38: Normatief gebruik stroom in watt per eenheid | AB38: Verwijzing naar documentatie voor stroomverbuik | AC38: Normatief gebruik stroom in watt per eenheid | AD38: Totaal op jaarbasis in Kwh x24x365/1000 | AE38: Totaal kosten 7 JAREN stroomverbruik
I39: =G39*(1-H39) -> 0 | J39: =IF(ISERROR(+I39*F39),"",+I39*F39) -> 0 | M39: =IF(ISBLANK(+C39),"",+C39) | N39: =IF(ISBLANK(+D39),"",+D39) | O39: =IF(ISBLANK(+F39),"",+F39) | S39: =IF(ISERROR(+Q39*(1-(R39))),"",+Q39*(1-(R39))) -> 0 | T39: =IF(ISERROR(+S39*O39*7),0,+S39*O39*7) -> 0 | W39: =IF(ISBLANK(+M39),"",+M39) | X39: =IF(ISBLANK(+N39),"",+N39) | Y39: =IF(ISBLANK(+F39),"",+F39) | AC39: =IF(ISERROR(IF(OR(Z39="nee",Z39=""),"",+Y39*AA39)),"",IF(OR(Z39="nee",Z39=""),"",+Y39*AA39)) | AD39: =IF(ISERROR((AC39*24*365)/1000),"",(AC39*24*365)/1000) | AE39: =IF(ISERROR(+AD39*tariefKwh*7),0,+AD39*tariefKwh*7) -> 0
I40: =G40*(1-H40) -> 0 | J40: =IF(ISERROR(+I40*F40),"",+I40*F40) -> 0 | M40: =IF(ISBLANK(+C40),"",+C40) | N40: =IF(ISBLANK(+D40),"",+D40) | O40: =IF(ISBLANK(+F40),"",+F40) | S40: =IF(ISERROR(+Q40*(1-(R40))),"",+Q40*(1-(R40))) -> 0 | T40: =IF(ISERROR(+S40*O40*7),0,+S40*O40*7) -> 0 | W40: =IF(ISBLANK(+M40),"",+M40) | X40: =IF(ISBLANK(+N40),"",+N40) | Y40: =IF(ISBLANK(+F40),"",+F40) | AC40: =IF(ISERROR(IF(OR(Z40="nee",Z40=""),"",+Y40*AA40)),"",IF(OR(Z40="nee",Z40=""),"",+Y40*AA40)) | AD40: =IF(ISERROR((AC40*24*365)/1000),"",(AC40*24*365)/1000) | AE40: =IF(ISERROR(+AD40*tariefKwh*7),0,+AD40*tariefKwh*7) -> 0
I41: =G41*(1-H41) -> 0 | J41: =IF(ISERROR(+I41*F41),"",+I41*F41) -> 0 | M41: =IF(ISBLANK(+C41),"",+C41) | N41: =IF(ISBLANK(+D41),"",+D41) | O41: =IF(ISBLANK(+F41),"",+F41) | S41: =IF(ISERROR(+Q41*(1-(R41))),"",+Q41*(1-(R41))) -> 0 | T41: =IF(ISERROR(+S41*O41*7),0,+S41*O41*7) -> 0 | W41: =IF(ISBLANK(+M41),"",+M41) | X41: =IF(ISBLANK(+N41),"",+N41) | Y41: =IF(ISBLANK(+F41),"",+F41) | AC41: =IF(ISERROR(IF(OR(Z41="nee",Z41=""),"",+Y41*AA41)),"",IF(OR(Z41="nee",Z41=""),"",+Y41*AA41)) | AD41: =IF(ISERROR((AC41*24*365)/1000),"",(AC41*24*365)/1000) | AE41: =IF(ISERROR(+AD41*tariefKwh*7),0,+AD41*tariefKwh*7) -> 0
I42: =G42*(1-H42) -> 0 | J42: =IF(ISERROR(+I42*F42),"",+I42*F42) -> 0 | M42: =IF(ISBLANK(+C42),"",+C42) | N42: =IF(ISBLANK(+D42),"",+D42) | O42: =IF(ISBLANK(+F42),"",+F42) | S42: =IF(ISERROR(+Q42*(1-(R42))),"",+Q42*(1-(R42))) -> 0 | T42: =IF(ISERROR(+S42*O42*7),0,+S42*O42*7) -> 0 | W42: =IF(ISBLANK(+M42),"",+M42) | X42: =IF(ISBLANK(+N42),"",+N42) | Y42: =IF(ISBLANK(+F42),"",+F42) | AC42: =IF(ISERROR(IF(OR(Z42="nee",Z42=""),"",+Y42*AA42)),"",IF(OR(Z42="nee",Z42=""),"",+Y42*AA42)) | AD42: =IF(ISERROR((AC42*24*365)/1000),"",(AC42*24*365)/1000) | AE42: =IF(ISERROR(+AD42*tariefKwh*7),0,+AD42*tariefKwh*7) -> 0
I43: =G43*(1-H43) -> 0 | J43: =IF(ISERROR(+I43*F43),"",+I43*F43) -> 0 | M43: =IF(ISBLANK(+C43),"",+C43) | N43: =IF(ISBLANK(+D43),"",+D43) | O43: =IF(ISBLANK(+F43),"",+F43) | S43: =IF(ISERROR(+Q43*(1-(R43))),"",+Q43*(1-(R43))) -> 0 | T43: =IF(ISERROR(+S43*O43*7),0,+S43*O43*7) -> 0 | W43: =IF(ISBLANK(+M43),"",+M43) | X43: =IF(ISBLANK(+N43),"",+N43) | Y43: =IF(ISBLANK(+F43),"",+F43) | AC43: =IF(ISERROR(IF(OR(Z43="nee",Z43=""),"",+Y43*AA43)),"",IF(OR(Z43="nee",Z43=""),"",+Y43*AA43)) | AD43: =IF(ISERROR((AC43*24*365)/1000),"",(AC43*24*365)/1000) | AE43: =IF(ISERROR(+AD43*tariefKwh*7),0,+AD43*tariefKwh*7) -> 0
C44: N.B.: Indien voor dit bouwblok meer regels benodig zijn, graag dit verzoek via de Nota van Inlichtingen bekend te maken. Een aangepast model wordt dan gepubliceerd.
B46: 1b | C46: =VLOOKUP(B46,$B$10:$D$32,2,FALSE) -> Variant 1: Licentie(s) Decentrale Distributie | D46: =VLOOKUP(C46,$B$10:$D$32,2,FALSE) -> #N/A | E46: =VLOOKUP(D46,$B$10:$D$32,2,FALSE) -> #N/A | J46: Totaalprijs Aanschaf Licenties | M46: =IF(E47="Subscription","Subscription","Onderhoud & Support") -> Onderhoud & Support | T46: ="Totaalprijs "&M46&" Licentie" -> Totaalprijs Onderhoud & Support Licentie
C47: Grondslag licentie: | F47: Gele velden invullen(!) | J47: =SUM(J49:J51) -> 0 | T47: =SUM(T49:T51) -> 0
C48: Artikelnummer | D48: Artikelomschrijving | E48: Merknaam | F48: Benodigd aantal in bouwblok | G48: Listprijs aanschaf per stuk in € | H48: Kortings- percentage | I48: Listprijs per stuk incl. korting | J48: Prijs totaal incl. korting | K48: Listprijs aanschaf per stuk in $ | M48: Artikelnummer | N48: Artikelomschrijving | O48: Benodigd aantal in bouwblok | P48: Van toepassing ja / nee | Q48: Listprijs Onderhoud & Support per stuk in € | R48: Kortings- percentage | S48: Listprijs Onderhoud & Support per stuk incl. korting | T48: Prijs 7 jaren totaal incl. korting | U48: Listprijs aanschaf per stuk in $
I49: =G49*(1-H49) -> 0 | J49: =IF(ISERROR(+I49*F49),"",+I49*F49) -> 0 | M49: =IF(ISBLANK(+C49),"",+C49) | N49: =IF(ISBLANK(+D49),"",+D49) | O49: =IF(ISBLANK(+F49),"",+F49) | S49: =IF(ISERROR(+Q49*(1-(R49))),"",+Q49*(1-(R49))) -> 0 | T49: =IF(ISERROR(+S49*O49*7),0,+S49*O49*7) -> 0
I50: =G50*(1-H50) -> 0 | J50: =IF(ISERROR(+I50*F50),"",+I50*F50) -> 0 | M50: =IF(ISBLANK(+C50),"",+C50) | N50: =IF(ISBLANK(+D50),"",+D50) | O50: =IF(ISBLANK(+F50),"",+F50) | S50: =IF(ISERROR(+Q50*(1-(R50))),"",+Q50*(1-(R50))) -> 0 | T50: =IF(ISERROR(+S50*O50*7),0,+S50*O50*7) -> 0
I51: =G51*(1-H51) -> 0 | J51: =IF(ISERROR(+I51*F51),"",+I51*F51) -> 0 | M51: =IF(ISBLANK(+C51),"",+C51) | N51: =IF(ISBLANK(+D51),"",+D51) | O51: =IF(ISBLANK(+F51),"",+F51) | S51: =IF(ISERROR(+Q51*(1-(R51))),"",+Q51*(1-(R51))) -> 0 | T51: =IF(ISERROR(+S51*O51*7),0,+S51*O51*7) -> 0
B54: 2a | C54: =VLOOKUP(B54,$B$10:$D$32,2,FALSE) -> Variant 2: Decentrale Distributie | D54: =VLOOKUP(C54,$B$10:$D$32,2,FALSE) -> #N/A | E54: =VLOOKUP(D54,$B$10:$D$32,2,FALSE) -> #N/A | G54: Naam Variant | M54: Onderhoud & Support | W54: TCO-energie
C55: Aanschaf | E55: ="Distributie " & LEFT(B54,1) & " : " -> Distributie 2 : | I55: Subtotaal | J55: =SUM(J57:J61) -> 0 | S55: Subtotaal | T55: =SUM(T57:T61) -> 0 | AD55: Subtotaal | AE55: =SUM(AE57:AE61) -> 0
C56: Artikelnummer | D56: Artikelomschrijving | E56: Merknaam | F56: Benodigd aantal in bouwblok | G56: Listprijs aanschaf per stuk in € | H56: Kortings- percentage | I56: Listprijs per stuk incl. korting | J56: Prijs totaal incl. korting | K56: Listprijs aanschaf per stuk in $ | M56: Artikelnummer | N56: Artikelomschrijving | O56: Benodigd aantal in bouwblok | P56: Van toepassing ja / nee | Q56: Listprijs Onderhoud & Support per stuk in € | R56: Kortings- percentage | S56: Listprijs Onderhoud & Support per stuk incl. korting | T56: Prijs 7 jaren totaal incl. korting | U56: Listprijs aanschaf per stuk in $ | W56: Artikelnummer | X56: Artikelomschrijving | Y56: Benodigd aantal in bouwblok | Z56: Van toepassing ja / nee | AA56: Normatief gebruik stroom in watt per eenheid | AB56: Verwijzing naar documentatie voor stroomverbuik | AC56: Normatief gebruik stroom in watt per eenheid | AD56: Totaal op jaarbasis in Kwh x24x365/1000 | AE56: Totaal kosten 7 JAREN stroomverbruik
I57: =G57*(1-H57) -> 0 | J57: =IF(ISERROR(+I57*F57),"",+I57*F57) -> 0 | M57: =IF(ISBLANK(+C57),"",+C57) | N57: =IF(ISBLANK(+D57),"",+D57) | O57: =IF(ISBLANK(+F57),"",+F57) | S57: =IF(ISERROR(+Q57*(1-(R57))),"",+Q57*(1-(R57))) -> 0 | T57: =IF(ISERROR(+S57*O57*7),0,+S57*O57*7) -> 0 | W57: =IF(ISBLANK(+M57),"",+M57) | X57: =IF(ISBLANK(+N57),"",+N57) | Y57: =IF(ISBLANK(+F57),"",+F57) | AC57: =IF(ISERROR(IF(OR(Z57="nee",Z57=""),"",+Y57*AA57)),"",IF(OR(Z57="nee",Z57=""),"",+Y57*AA57)) | AD57: =IF(ISERROR((AC57*24*365)/1000),"",(AC57*24*365)/1000) | AE57: =IF(ISERROR(+AD57*tariefKwh*7),0,+AD57*tariefKwh*7) -> 0
I58: =G58*(1-H58) -> 0 | J58: =IF(ISERROR(+I58*F58),"",+I58*F58) -> 0 | M58: =IF(ISBLANK(+C58),"",+C58) | N58: =IF(ISBLANK(+D58),"",+D58) | O58: =IF(ISBLANK(+F58),"",+F58) | S58: =IF(ISERROR(+Q58*(1-(R58))),"",+Q58*(1-(R58))) -> 0 | T58: =IF(ISERROR(+S58*O58*7),0,+S58*O58*7) -> 0 | W58: =IF(ISBLANK(+M58),"",+M58) | X58: =IF(ISBLANK(+N58),"",+N58) | Y58: =IF(ISBLANK(+F58),"",+F58) | AC58: =IF(ISERROR(IF(OR(Z58="nee",Z58=""),"",+Y58*AA58)),"",IF(OR(Z58="nee",Z58=""),"",+Y58*AA58)) | AD58: =IF(ISERROR((AC58*24*365)/1000),"",(AC58*24*365)/1000) | AE58: =IF(ISERROR(+AD58*tariefKwh*7),0,+AD58*tariefKwh*7) -> 0
I59: =G59*(1-H59) -> 0 | J59: =IF(ISERROR(+I59*F59),"",+I59*F59) -> 0 | M59: =IF(ISBLANK(+C59),"",+C59) | N59: =IF(ISBLANK(+D59),"",+D59) | O59: =IF(ISBLANK(+F59),"",+F59) | S59: =IF(ISERROR(+Q59*(1-(R59))),"",+Q59*(1-(R59))) -> 0 | T59: =IF(ISERROR(+S59*O59*7),0,+S59*O59*7) -> 0 | W59: =IF(ISBLANK(+M59),"",+M59) | X59: =IF(ISBLANK(+N59),"",+N59) | Y59: =IF(ISBLANK(+F59),"",+F59) | AC59: =IF(ISERROR(IF(OR(Z59="nee",Z59=""),"",+Y59*AA59)),"",IF(OR(Z59="nee",Z59=""),"",+Y59*AA59)) | AD59: =IF(ISERROR((AC59*24*365)/1000),"",(AC59*24*365)/1000) | AE59: =IF(ISERROR(+AD59*tariefKwh*7),0,+AD59*tariefKwh*7) -> 0
I60: =G60*(1-H60) -> 0 | J60: =IF(ISERROR(+I60*F60),"",+I60*F60) -> 0 | M60: =IF(ISBLANK(+C60),"",+C60) | N60: =IF(ISBLANK(+D60),"",+D60) | O60: =IF(ISBLANK(+F60),"",+F60) | S60: =IF(ISERROR(+Q60*(1-(R60))),"",+Q60*(1-(R60))) -> 0 | T60: =IF(ISERROR(+S60*O60*7),0,+S60*O60*7) -> 0 | W60: =IF(ISBLANK(+M60),"",+M60) | X60: =IF(ISBLANK(+N60),"",+N60) | Y60: =IF(ISBLANK(+F60),"",+F60) | AC60: =IF(ISERROR(IF(OR(Z60="nee",Z60=""),"",+Y60*AA60)),"",IF(OR(Z60="nee",Z60=""),"",+Y60*AA60)) | AD60: =IF(ISERROR((AC60*24*365)/1000),"",(AC60*24*365)/1000) | AE60: =IF(ISERROR(+AD60*tariefKwh*7),0,+AD60*tariefKwh*7) -> 0
I61: =G61*(1-H61) -> 0 | J61: =IF(ISERROR(+I61*F61),"",+I61*F61) -> 0 | M61: =IF(ISBLANK(+C61),"",+C61) | N61: =IF(ISBLANK(+D61),"",+D61) | O61: =IF(ISBLANK(+F61),"",+F61) | S61: =IF(ISERROR(+Q61*(1-(R61))),"",+Q61*(1-(R61))) -> 0 | T61: =IF(ISERROR(+S61*O61*7),0,+S61*O61*7) -> 0 | W61: =IF(ISBLANK(+M61),"",+M61) | X61: =IF(ISBLANK(+N61),"",+N61) | Y61: =IF(ISBLANK(+F61),"",+F61) | AC61: =IF(ISERROR(IF(OR(Z61="nee",Z61=""),"",+Y61*AA61)),"",IF(OR(Z61="nee",Z61=""),"",+Y61*AA61)) | AD61: =IF(ISERROR((AC61*24*365)/1000),"",(AC61*24*365)/1000) | AE61: =IF(ISERROR(+AD61*tariefKwh*7),0,+AD61*tariefKwh*7) -> 0
C62: N.B.: Indien voor dit bouwblok meer regels benodig zijn, graag dit verzoek via de Nota van Inlichtingen bekend te maken. Een aangepast model wordt dan gepubliceerd.
B64: 2b | C64: =VLOOKUP(B64,$B$10:$D$32,2,FALSE) -> Variant 2: Licentie(s) Decentrale Distributie | D64: =VLOOKUP(C64,$B$10:$D$32,2,FALSE) -> #N/A | E64: =VLOOKUP(D64,$B$10:$D$32,2,FALSE) -> #N/A | J64: Totaalprijs Aanschaf Licenties | M64: Onderhoud & Support | T64: ="Totaalprijs "&M64&" Licentie" -> Totaalprijs Onderhoud & Support Licentie
C65: Grondslag licentie: | F65: Gele velden invullen(!) | J65: =SUM(J67:J69) -> 0 | T65: =SUM(T67:T69) -> 0
C66: Artikelnummer | D66: Artikelomschrijving | E66: Merknaam | F66: Benodigd aantal in bouwblok | G66: Listprijs aanschaf per stuk in € | H66: Kortings- percentage | I66: Listprijs per stuk incl. korting | J66: Prijs totaal incl. korting | K66: Listprijs aanschaf per stuk in $ | M66: Artikelnummer | N66: Artikelomschrijving | O66: Benodigd aantal in bouwblok | P66: Van toepassing ja / nee | Q66: Listprijs Onderhoud & Support per stuk in € | R66: Kortings- percentage | S66: Listprijs Onderhoud & Support per stuk incl. korting | T66: Prijs 7 jaren totaal incl. korting | U66: Listprijs aanschaf per stuk in $
I67: =G67*(1-H67) -> 0 | J67: =IF(ISERROR(+I67*F67),"",+I67*F67) -> 0 | M67: =IF(ISBLANK(+C67),"",+C67) | N67: =IF(ISBLANK(+D67),"",+D67) | O67: =IF(ISBLANK(+F67),"",+F67) | S67: =IF(ISERROR(+Q67*(1-(R67))),"",+Q67*(1-(R67))) -> 0 | T67: =IF(ISERROR(+S67*O67*7),0,+S67*O67*7) -> 0
I68: =G68*(1-H68) -> 0 | J68: =IF(ISERROR(+I68*F68),"",+I68*F68) -> 0 | M68: =IF(ISBLANK(+C68),"",+C68) | N68: =IF(ISBLANK(+D68),"",+D68) | O68: =IF(ISBLANK(+F68),"",+F68) | S68: =IF(ISERROR(+Q68*(1-(R68))),"",+Q68*(1-(R68))) -> 0 | T68: =IF(ISERROR(+S68*O68*7),0,+S68*O68*7) -> 0
I69: =G69*(1-H69) -> 0 | J69: =IF(ISERROR(+I69*F69),"",+I69*F69) -> 0 | M69: =IF(ISBLANK(+C69),"",+C69) | N69: =IF(ISBLANK(+D69),"",+D69) | O69: =IF(ISBLANK(+F69),"",+F69) | S69: =IF(ISERROR(+Q69*(1-(R69))),"",+Q69*(1-(R69))) -> 0 | T69: =IF(ISERROR(+S69*O69*7),0,+S69*O69*7) -> 0
B72: 3a | C72: =VLOOKUP(B72,$B$10:$D$32,2,FALSE) -> Variant 3: Decentrale Distributie | D72: =VLOOKUP(C72,$B$10:$D$32,2,FALSE) -> #N/A | E72: =VLOOKUP(D72,$B$10:$D$32,2,FALSE) -> #N/A | G72: Naam Variant | M72: Onderhoud & Support | W72: TCO-energie
C73: Aanschaf | E73: ="Distributie " & LEFT(B72,1) & " : " -> Distributie 3 : | I73: Subtotaal | J73: =SUM(J75:J79) -> 0 | S73: Subtotaal | T73: =SUM(T75:T79) -> 0 | AD73: Subtotaal | AE73: =SUM(AE75:AE79) -> 0
C74: Artikelnummer | D74: Artikelomschrijving | E74: Merknaam | F74: Benodigd aantal in bouwblok | G74: Listprijs aanschaf per stuk in € | H74: Kortings- percentage | I74: Listprijs per stuk incl. korting | J74: Prijs totaal incl. korting | K74: Listprijs aanschaf per stuk in $ | M74: Artikelnummer | N74: Artikelomschrijving | O74: Benodigd aantal in bouwblok | P74: Van toepassing ja / nee | Q74: Listprijs Onderhoud & Support per stuk in € | R74: Kortings- percentage | S74: Listprijs Onderhoud & Support per stuk incl. korting | T74: Prijs 7 jaren totaal incl. korting | U74: Listprijs aanschaf per stuk in $ | W74: Artikelnummer | X74: Artikelomschrijving | Y74: Benodigd aantal in bouwblok | Z74: Van toepassing ja / nee | AA74: Normatief gebruik stroom in watt per eenheid | AB74: Verwijzing naar documentatie voor stroomverbuik | AC74: Normatief gebruik stroom in watt per eenheid | AD74: Totaal op jaarbasis in Kwh x24x365/1000 | AE74: Totaal kosten 7 JAREN stroomverbruik
I75: =G75*(1-H75) -> 0 | J75: =IF(ISERROR(+I75*F75),"",+I75*F75) -> 0 | M75: =IF(ISBLANK(+C75),"",+C75) | N75: =IF(ISBLANK(+D75),"",+D75) | O75: =IF(ISBLANK(+F75),"",+F75) | S75: =IF(ISERROR(+Q75*(1-(R75))),"",+Q75*(1-(R75))) -> 0 | T75: =IF(ISERROR(+S75*O75*7),0,+S75*O75*7) -> 0 | W75: =IF(ISBLANK(+M75),"",+M75) | X75: =IF(ISBLANK(+N75),"",+N75) | Y75: =IF(ISBLANK(+F75),"",+F75) | AC75: =IF(ISERROR(IF(OR(Z75="nee",Z75=""),"",+Y75*AA75)),"",IF(OR(Z75="nee",Z75=""),"",+Y75*AA75)) | AD75: =IF(ISERROR((AC75*24*365)/1000),"",(AC75*24*365)/1000) | AE75: =IF(ISERROR(+AD75*tariefKwh*7),0,+AD75*tariefKwh*7) -> 0
I76: =G76*(1-H76) -> 0 | J76: =IF(ISERROR(+I76*F76),"",+I76*F76) -> 0 | M76: =IF(ISBLANK(+C76),"",+C76) | N76: =IF(ISBLANK(+D76),"",+D76) | O76: =IF(ISBLANK(+F76),"",+F76) | S76: =IF(ISERROR(+Q76*(1-(R76))),"",+Q76*(1-(R76))) -> 0 | T76: =IF(ISERROR(+S76*O76*7),0,+S76*O76*7) -> 0 | W76: =IF(ISBLANK(+M76),"",+M76) | X76: =IF(ISBLANK(+N76),"",+N76) | Y76: =IF(ISBLANK(+F76),"",+F76) | AC76: =IF(ISERROR(IF(OR(Z76="nee",Z76=""),"",+Y76*AA76)),"",IF(OR(Z76="nee",Z76=""),"",+Y76*AA76)) | AD76: =IF(ISERROR((AC76*24*365)/1000),"",(AC76*24*365)/1000) | AE76: =IF(ISERROR(+AD76*tariefKwh*7),0,+AD76*tariefKwh*7) -> 0
I77: =G77*(1-H77) -> 0 | J77: =IF(ISERROR(+I77*F77),"",+I77*F77) -> 0 | M77: =IF(ISBLANK(+C77),"",+C77) | N77: =IF(ISBLANK(+D77),"",+D77) | O77: =IF(ISBLANK(+F77),"",+F77) | S77: =IF(ISERROR(+Q77*(1-(R77))),"",+Q77*(1-(R77))) -> 0 | T77: =IF(ISERROR(+S77*O77*7),0,+S77*O77*7) -> 0 | W77: =IF(ISBLANK(+M77),"",+M77) | X77: =IF(ISBLANK(+N77),"",+N77) | Y77: =IF(ISBLANK(+F77),"",+F77) | AC77: =IF(ISERROR(IF(OR(Z77="nee",Z77=""),"",+Y77*AA77)),"",IF(OR(Z77="nee",Z77=""),"",+Y77*AA77)) | AD77: =IF(ISERROR((AC77*24*365)/1000),"",(AC77*24*365)/1000) | AE77: =IF(ISERROR(+AD77*tariefKwh*7),0,+AD77*tariefKwh*7) -> 0
I78: =G78*(1-H78) -> 0 | J78: =IF(ISERROR(+I78*F78),"",+I78*F78) -> 0 | M78: =IF(ISBLANK(+C78),"",+C78) | N78: =IF(ISBLANK(+D78),"",+D78) | O78: =IF(ISBLANK(+F78),"",+F78) | S78: =IF(ISERROR(+Q78*(1-(R78))),"",+Q78*(1-(R78))) -> 0 | T78: =IF(ISERROR(+S78*O78*7),0,+S78*O78*7) -> 0 | W78: =IF(ISBLANK(+M78),"",+M78) | X78: =IF(ISBLANK(+N78),"",+N78) | Y78: =IF(ISBLANK(+F78),"",+F78) | AC78: =IF(ISERROR(IF(OR(Z78="nee",Z78=""),"",+Y78*AA78)),"",IF(OR(Z78="nee",Z78=""),"",+Y78*AA78)) | AD78: =IF(ISERROR((AC78*24*365)/1000),"",(AC78*24*365)/1000) | AE78: =IF(ISERROR(+AD78*tariefKwh*7),0,+AD78*tariefKwh*7) -> 0
I79: =G79*(1-H79) -> 0 | J79: =IF(ISERROR(+I79*F79),"",+I79*F79) -> 0 | M79: =IF(ISBLANK(+C79),"",+C79) | N79: =IF(ISBLANK(+D79),"",+D79) | O79: =IF(ISBLANK(+F79),"",+F79) | S79: =IF(ISERROR(+Q79*(1-(R79))),"",+Q79*(1-(R79))) -> 0 | T79: =IF(ISERROR(+S79*O79*7),0,+S79*O79*7) -> 0 | W79: =IF(ISBLANK(+M79),"",+M79) | X79: =IF(ISBLANK(+N79),"",+N79) | Y79: =IF(ISBLANK(+F79),"",+F79) | AC79: =IF(ISERROR(IF(OR(Z79="nee",Z79=""),"",+Y79*AA79)),"",IF(OR(Z79="nee",Z79=""),"",+Y79*AA79)) | AD79: =IF(ISERROR((AC79*24*365)/1000),"",(AC79*24*365)/1000) | AE79: =IF(ISERROR(+AD79*tariefKwh*7),0,+AD79*tariefKwh*7) -> 0
C80: N.B.: Indien voor dit bouwblok meer regels benodig zijn, graag dit verzoek via de Nota van Inlichtingen bekend te maken. Een aangepast model wordt dan gepubliceerd.
B82: 3b | C82: =VLOOKUP(B82,$B$10:$D$32,2,FALSE) -> Variant 3: Licentie(s) Decentrale Distributie | D82: =VLOOKUP(C82,$B$10:$D$32,2,FALSE) -> #N/A | E82: =VLOOKUP(D82,$B$10:$D$32,2,FALSE) -> #N/A | J82: Totaalprijs Aanschaf Licenties | M82: =IF(E83="Subscription","Subscription","Onderhoud & Support") -> Onderhoud & Support | T82: ="Totaalprijs "&M82&" Licentie" -> Totaalprijs Onderhoud & Support Licentie
C83: Grondslag licentie: | F83: Gele velden invullen(!) | J83: =SUM(J85:J87) -> 0 | T83: =SUM(T85:T87) -> 0
C84: Artikelnummer | D84: Artikelomschrijving | E84: Merknaam | F84: Benodigd aantal in bouwblok | G84: Listprijs aanschaf per stuk in € | H84: Kortings- percentage | I84: Listprijs per stuk incl. korting | J84: Prijs totaal incl. korting | K84: Listprijs aanschaf per stuk in $ | M84: Artikelnummer | N84: Artikelomschrijving | O84: Benodigd aantal in bouwblok | P84: Van toepassing ja / nee | Q84: Listprijs Onderhoud & Support per stuk in € | R84: Kortings- percentage | S84: Listprijs Onderhoud & Support per stuk incl. korting | T84: Prijs 7 jaren totaal incl. korting | U84: Listprijs aanschaf per stuk in $
I85: =G85*(1-H85) -> 0 | J85: =IF(ISERROR(+I85*F85),"",+I85*F85) -> 0 | M85: =IF(ISBLANK(+C85),"",+C85) | N85: =IF(ISBLANK(+D85),"",+D85) | O85: =IF(ISBLANK(+F85),"",+F85) | S85: =IF(ISERROR(+Q85*(1-(R85))),"",+Q85*(1-(R85))) -> 0 | T85: =IF(ISERROR(+S85*O85*7),0,+S85*O85*7) -> 0
I86: =G86*(1-H86) -> 0 | J86: =IF(ISERROR(+I86*F86),"",+I86*F86) -> 0 | M86: =IF(ISBLANK(+C86),"",+C86) | N86: =IF(ISBLANK(+D86),"",+D86) | O86: =IF(ISBLANK(+F86),"",+F86) | S86: =IF(ISERROR(+Q86*(1-(R86))),"",+Q86*(1-(R86))) -> 0 | T86: =IF(ISERROR(+S86*O86*7),0,+S86*O86*7) -> 0
I87: =G87*(1-H87) -> 0 | J87: =IF(ISERROR(+I87*F87),"",+I87*F87) -> 0 | M87: =IF(ISBLANK(+C87),"",+C87) | N87: =IF(ISBLANK(+D87),"",+D87) | O87: =IF(ISBLANK(+F87),"",+F87) | S87: =IF(ISERROR(+Q87*(1-(R87))),"",+Q87*(1-(R87))) -> 0 | T87: =IF(ISERROR(+S87*O87*7),0,+S87*O87*7) -> 0
B90: 4a | C90: =VLOOKUP(B90,$B$10:$D$32,2,FALSE) -> Variant 4: Decentrale Distributie | D90: =VLOOKUP(C90,$B$10:$D$32,2,FALSE) -> #N/A | E90: =VLOOKUP(D90,$B$10:$D$32,2,FALSE) -> #N/A | G90: Naam Variant | M90: Onderhoud & Support | W90: TCO-energie
C91: Aanschaf | E91: ="Distributie " & LEFT(B90,1) & " : " -> Distributie 4 : | I91: Subtotaal | J91: =SUM(J93:J97) -> 0 | S91: Subtotaal | T91: =SUM(T93:T97) -> 0 | AD91: Subtotaal | AE91: =SUM(AE93:AE97) -> 0
C92: Artikelnummer | D92: Artikelomschrijving | E92: Merknaam | F92: Benodigd aantal in bouwblok | G92: Listprijs aanschaf per stuk in € | H92: Kortings- percentage | I92: Listprijs per stuk incl. korting | J92: Prijs totaal incl. korting | K92: Listprijs aanschaf per stuk in $ | M92: Artikelnummer | N92: Artikelomschrijving | O92: Benodigd aantal in bouwblok | P92: Van toepassing ja / nee | Q92: Listprijs Onderhoud & Support per stuk in € | R92: Kortings- percentage | S92: Listprijs Onderhoud & Support per stuk incl. korting | T92: Prijs 7 jaren totaal incl. korting | U92: Listprijs aanschaf per stuk in $ | W92: Artikelnummer | X92: Artikelomschrijving | Y92: Benodigd aantal in bouwblok | Z92: Van toepassing ja / nee | AA92: Normatief gebruik stroom in watt per eenheid | AB92: Verwijzing naar documentatie voor stroomverbuik | AC92: Normatief gebruik stroom in watt per eenheid | AD92: Totaal op jaarbasis in Kwh x24x365/1000 | AE92: Totaal kosten 7 JAREN stroomverbruik
I93: =G93*(1-H93) -> 0 | J93: =IF(ISERROR(+I93*F93),"",+I93*F93) -> 0 | M93: =IF(ISBLANK(+C93),"",+C93) | N93: =IF(ISBLANK(+D93),"",+D93) | O93: =IF(ISBLANK(+F93),"",+F93) | S93: =IF(ISERROR(+Q93*(1-(R93))),"",+Q93*(1-(R93))) -> 0 | T93: =IF(ISERROR(+S93*O93*7),0,+S93*O93*7) -> 0 | W93: =IF(ISBLANK(+M93),"",+M93) | X93: =IF(ISBLANK(+N93),"",+N93) | Y93: =IF(ISBLANK(+F93),"",+F93) | AC93: =IF(ISERROR(IF(OR(Z93="nee",Z93=""),"",+Y93*AA93)),"",IF(OR(Z93="nee",Z93=""),"",+Y93*AA93)) | AD93: =IF(ISERROR((AC93*24*365)/1000),"",(AC93*24*365)/1000) | AE93: =IF(ISERROR(+AD93*tariefKwh*7),0,+AD93*tariefKwh*7) -> 0
I94: =G94*(1-H94) -> 0 | J94: =IF(ISERROR(+I94*F94),"",+I94*F94) -> 0 | M94: =IF(ISBLANK(+C94),"",+C94) | N94: =IF(ISBLANK(+D94),"",+D94) | O94: =IF(ISBLANK(+F94),"",+F94) | S94: =IF(ISERROR(+Q94*(1-(R94))),"",+Q94*(1-(R94))) -> 0 | T94: =IF(ISERROR(+S94*O94*7),0,+S94*O94*7) -> 0 | W94: =IF(ISBLANK(+M94),"",+M94) | X94: =IF(ISBLANK(+N94),"",+N94) | Y94: =IF(ISBLANK(+F94),"",+F94) | AC94: =IF(ISERROR(IF(OR(Z94="nee",Z94=""),"",+Y94*AA94)),"",IF(OR(Z94="nee",Z94=""),"",+Y94*AA94)) | AD94: =IF(ISERROR((AC94*24*365)/1000),"",(AC94*24*365)/1000) | AE94: =IF(ISERROR(+AD94*tariefKwh*7),0,+AD94*tariefKwh*7) -> 0
I95: =G95*(1-H95) -> 0 | J95: =IF(ISERROR(+I95*F95),"",+I95*F95) -> 0 | M95: =IF(ISBLANK(+C95),"",+C95) | N95: =IF(ISBLANK(+D95),"",+D95) | O95: =IF(ISBLANK(+F95),"",+F95) | S95: =IF(ISERROR(+Q95*(1-(R95))),"",+Q95*(1-(R95))) -> 0 | T95: =IF(ISERROR(+S95*O95*7),0,+S95*O95*7) -> 0 | W95: =IF(ISBLANK(+M95),"",+M95) | X95: =IF(ISBLANK(+N95),"",+N95) | Y95: =IF(ISBLANK(+F95),"",+F95) | AC95: =IF(ISERROR(IF(OR(Z95="nee",Z95=""),"",+Y95*AA95)),"",IF(OR(Z95="nee",Z95=""),"",+Y95*AA95)) | AD95: =IF(ISERROR((AC95*24*365)/1000),"",(AC95*24*365)/1000) | AE95: =IF(ISERROR(+AD95*tariefKwh*7),0,+AD95*tariefKwh*7) -> 0
I96: =G96*(1-H96) -> 0 | J96: =IF(ISERROR(+I96*F96),"",+I96*F96) -> 0 | M96: =IF(ISBLANK(+C96),"",+C96) | N96: =IF(ISBLANK(+D96),"",+D96) | O96: =IF(ISBLANK(+F96),"",+F96) | S96: =IF(ISERROR(+Q96*(1-(R96))),"",+Q96*(1-(R96))) -> 0 | T96: =IF(ISERROR(+S96*O96*7),0,+S96*O96*7) -> 0 | W96: =IF(ISBLANK(+M96),"",+M96) | X96: =IF(ISBLANK(+N96),"",+N96) | Y96: =IF(ISBLANK(+F96),"",+F96) | AC96: =IF(ISERROR(IF(OR(Z96="nee",Z96=""),"",+Y96*AA96)),"",IF(OR(Z96="nee",Z96=""),"",+Y96*AA96)) | AD96: =IF(ISERROR((AC96*24*365)/1000),"",(AC96*24*365)/1000) | AE96: =IF(ISERROR(+AD96*tariefKwh*7),0,+AD96*tariefKwh*7) -> 0
I97: =G97*(1-H97) -> 0 | J97: =IF(ISERROR(+I97*F97),"",+I97*F97) -> 0 | M97: =IF(ISBLANK(+C97),"",+C97) | N97: =IF(ISBLANK(+D97),"",+D97) | O97: =IF(ISBLANK(+F97),"",+F97) | S97: =IF(ISERROR(+Q97*(1-(R97))),"",+Q97*(1-(R97))) -> 0 | T97: =IF(ISERROR(+S97*O97*7),0,+S97*O97*7) -> 0 | W97: =IF(ISBLANK(+M97),"",+M97) | X97: =IF(ISBLANK(+N97),"",+N97) | Y97: =IF(ISBLANK(+F97),"",+F97) | AC97: =IF(ISERROR(IF(OR(Z97="nee",Z97=""),"",+Y97*AA97)),"",IF(OR(Z97="nee",Z97=""),"",+Y97*AA97)) | AD97: =IF(ISERROR((AC97*24*365)/1000),"",(AC97*24*365)/1000) | AE97: =IF(ISERROR(+AD97*tariefKwh*7),0,+AD97*tariefKwh*7) -> 0
C98: N.B.: Indien voor dit bouwblok meer regels benodig zijn, graag dit verzoek via de Nota van Inlichtingen bekend te maken. Een aangepast model wordt dan gepubliceerd.
B100: 4b | C100: =VLOOKUP(B100,$B$10:$D$32,2,FALSE) -> Variant 4: Licentie(s) Decentrale Distributie | D100: =VLOOKUP(C100,$B$10:$D$32,2,FALSE) -> #N/A | E100: =VLOOKUP(D100,$B$10:$D$32,2,FALSE) -> #N/A | J100: Totaalprijs Aanschaf Licenties | M100: =IF(E101="Subscription","Subscription","Onderhoud & Support") -> Onderhoud & Support | T100: ="Totaalprijs "&M100&" Licentie" -> Totaalprijs Onderhoud & Support Licentie
C101: Grondslag licentie: | F101: Gele velden invullen(!) | J101: =SUM(J103:J105) -> 0 | T101: =SUM(T103:T105) -> 0
C102: Artikelnummer | D102: Artikelomschrijving | E102: Merknaam | F102: Benodigd aantal in bouwblok | G102: Listprijs aanschaf per stuk in € | H102: Kortings- percentage | I102: Listprijs per stuk incl. korting | J102: Prijs totaal incl. korting | K102: Listprijs aanschaf per stuk in $ | M102: Artikelnummer | N102: Artikelomschrijving | O102: Benodigd aantal in bouwblok | P102: Van toepassing ja / nee | Q102: Listprijs Onderhoud & Support per stuk in € | R102: Kortings- percentage | S102: Listprijs Onderhoud & Support per stuk incl. korting | T102: Prijs 7 jaren totaal incl. korting | U102: Listprijs aanschaf per stuk in $
I103: =G103*(1-H103) -> 0 | J103: =IF(ISERROR(+I103*F103),"",+I103*F103) -> 0 | M103: =IF(ISBLANK(+C103),"",+C103) | N103: =IF(ISBLANK(+D103),"",+D103) | O103: =IF(ISBLANK(+F103),"",+F103) | S103: =IF(ISERROR(+Q103*(1-(R103))),"",+Q103*(1-(R103))) -> 0 | T103: =IF(ISERROR(+S103*O103*7),0,+S103*O103*7) -> 0
I104: =G104*(1-H104) -> 0 | J104: =IF(ISERROR(+I104*F104),"",+I104*F104) -> 0 | M104: =IF(ISBLANK(+C104),"",+C104) | N104: =IF(ISBLANK(+D104),"",+D104) | O104: =IF(ISBLANK(+F104),"",+F104) | S104: =IF(ISERROR(+Q104*(1-(R104))),"",+Q104*(1-(R104))) -> 0 | T104: =IF(ISERROR(+S104*O104*7),0,+S104*O104*7) -> 0
I105: =G105*(1-H105) -> 0 | J105: =IF(ISERROR(+I105*F105),"",+I105*F105) -> 0 | M105: =IF(ISBLANK(+C105),"",+C105) | N105: =IF(ISBLANK(+D105),"",+D105) | O105: =IF(ISBLANK(+F105),"",+F105) | S105: =IF(ISERROR(+Q105*(1-(R105))),"",+Q105*(1-(R105))) -> 0 | T105: =IF(ISERROR(+S105*O105*7),0,+S105*O105*7) -> 0
B108: 5a | C108: =VLOOKUP(B108,$B$10:$D$32,2,FALSE) -> Variant 5: Decentrale Distributie | G108: Naam Variant | M108: Onderhoud & Support | W108: TCO-energie
C109: Aanschaf | E109: ="Distributie " & LEFT(B108,1) & " : " -> Distributie 5 : | I109: Subtotaal | J109: =SUM(J111:J115) -> 0 | S109: Subtotaal | T109: =SUM(T111:T115) -> 0 | AD109: Subtotaal | AE109: =SUM(AE111:AE115) -> 0
C110: Artikelnummer | D110: Artikelomschrijving | E110: Merknaam | F110: Benodigd aantal in bouwblok | G110: Listprijs aanschaf per stuk in € | H110: Kortings- percentage | I110: Listprijs per stuk incl. korting | J110: Prijs totaal incl. korting | K110: Listprijs aanschaf per stuk in $ | M110: Artikelnummer | N110: Artikelomschrijving | O110: Benodigd aantal in bouwblok | P110: Van toepassing ja / nee | Q110: Listprijs Onderhoud & Support per stuk in € | R110: Kortings- percentage | S110: Listprijs Onderhoud & Support per stuk incl. korting | T110: Prijs 7 jaren totaal incl. korting | U110: Listprijs aanschaf per stuk in $ | W110: Artikelnummer | X110: Artikelomschrijving | Y110: Benodigd aantal in bouwblok | Z110: Van toepassing ja / nee | AA110: Normatief gebruik stroom in watt per eenheid | AB110: Verwijzing naar documentatie voor stroomverbuik | AC110: Normatief gebruik stroom in watt per eenheid | AD110: Totaal op jaarbasis in Kwh x24x365/1000 | AE110: Totaal kosten 7 JAREN stroomverbruik
I111: =G111*(1-H111) -> 0 | J111: =IF(ISERROR(+I111*F111),"",+I111*F111) -> 0 | M111: =IF(ISBLANK(+C111),"",+C111) | N111: =IF(ISBLANK(+D111),"",+D111) | O111: =IF(ISBLANK(+F111),"",+F111) | S111: =IF(ISERROR(+Q111*(1-(R111))),"",+Q111*(1-(R111))) -> 0 | T111: =IF(ISERROR(+S111*O111*7),0,+S111*O111*7) -> 0 | W111: =IF(ISBLANK(+M111),"",+M111) | X111: =IF(ISBLANK(+N111),"",+N111) | Y111: =IF(ISBLANK(+F111),"",+F111) | Z111: ja | AA111: 50 | AC111: =IF(ISERROR(IF(OR(Z111="nee",Z111=""),"",+Y111*AA111)),"",IF(OR(Z111="nee",Z111=""),"",+Y111*AA111)) | AD111: =IF(ISERROR((AC111*24*365)/1000),"",(AC111*24*365)/1000) | AE111: =IF(ISERROR(+AD111*tariefKwh*7),0,+AD111*tariefKwh*7) -> 0
I112: =G112*(1-H112) -> 0 | J112: =IF(ISERROR(+I112*F112),"",+I112*F112) -> 0 | M112: =IF(ISBLANK(+C112),"",+C112) | N112: =IF(ISBLANK(+D112),"",+D112) | O112: =IF(ISBLANK(+F112),"",+F112) | S112: =IF(ISERROR(+Q112*(1-(R112))),"",+Q112*(1-(R112))) -> 0 | T112: =IF(ISERROR(+S112*O112*7),0,+S112*O112*7) -> 0 | W112: =IF(ISBLANK(+M112),"",+M112) | X112: =IF(ISBLANK(+N112),"",+N112) | Y112: =IF(ISBLANK(+F112),"",+F112) | AC112: =IF(ISERROR(IF(OR(Z112="nee",Z112=""),"",+Y112*AA112)),"",IF(OR(Z112="nee",Z112=""),"",+Y112*AA112)) | AD112: =IF(ISERROR((AC112*24*365)/1000),"",(AC112*24*365)/1000) | AE112: =IF(ISERROR(+AD112*tariefKwh*7),0,+AD112*tariefKwh*7) -> 0
I113: =G113*(1-H113) -> 0 | J113: =IF(ISERROR(+I113*F113),"",+I113*F113) -> 0 | M113: =IF(ISBLANK(+C113),"",+C113) | N113: =IF(ISBLANK(+D113),"",+D113) | O113: =IF(ISBLANK(+F113),"",+F113) | S113: =IF(ISERROR(+Q113*(1-(R113))),"",+Q113*(1-(R113))) -> 0 | T113: =IF(ISERROR(+S113*O113*7),0,+S113*O113*7) -> 0 | W113: =IF(ISBLANK(+M113),"",+M113) | X113: =IF(ISBLANK(+N113),"",+N113) | Y113: =IF(ISBLANK(+F113),"",+F113) | AC113: =IF(ISERROR(IF(OR(Z113="nee",Z113=""),"",+Y113*AA113)),"",IF(OR(Z113="nee",Z113=""),"",+Y113*AA113)) | AD113: =IF(ISERROR((AC113*24*365)/1000),"",(AC113*24*365)/1000) | AE113: =IF(ISERROR(+AD113*tariefKwh*7),0,+AD113*tariefKwh*7) -> 0
I114: =G114*(1-H114) -> 0 | J114: =IF(ISERROR(+I114*F114),"",+I114*F114) -> 0 | M114: =IF(ISBLANK(+C114),"",+C114) | N114: =IF(ISBLANK(+D114),"",+D114) | O114: =IF(ISBLANK(+F114),"",+F114) | S114: =IF(ISERROR(+Q114*(1-(R114))),"",+Q114*(1-(R114))) -> 0 | T114: =IF(ISERROR(+S114*O114*7),0,+S114*O114*7) -> 0 | W114: =IF(ISBLANK(+M114),"",+M114) | X114: =IF(ISBLANK(+N114),"",+N114) | Y114: =IF(ISBLANK(+F114),"",+F114) | AC114: =IF(ISERROR(IF(OR(Z114="nee",Z114=""),"",+Y114*AA114)),"",IF(OR(Z114="nee",Z114=""),"",+Y114*AA114)) | AD114: =IF(ISERROR((AC114*24*365)/1000),"",(AC114*24*365)/1000) | AE114: =IF(ISERROR(+AD114*tariefKwh*7),0,+AD114*tariefKwh*7) -> 0
...

Sheet D. Bouwblok 4
A1: =D12 -> LAN 1 :
A2: =D15 -> LAN 2 : | C2: =Samenvatting!B2 -> Europese openbare aanbesteding
A3: =D18 -> LAN 3 : | C3: =Samenvatting!B3 -> Vervanging LAN omgeving
A4: =D21 -> LAN 4 : | C4: D. Bouwblok 4 Decentrale LAN access
A5: =D24 -> LAN 5 : | C5: =Samenvatting!B5 -> IUC24-009
A6: =D27 -> LAN 6 : | C6: (Prijzen exclusief BTW)
E9: Aanschaf | F9: O&S | G9: TCO-energie | H9: Totaal
B10: 1a | C10: Variant 1: LAN access | E10: =J31 -> 0 | F10: =T31 -> 0 | G10: =AE31 -> 0 | H10: =SUM(E10:G10) -> 0
B11: 1b | C11: Variant 1: Licentie(s) Basis LAN Access | E11: =J41 -> 0 | F11: =T41 -> 0 | G11: n.v.t. | H11: =SUM(E11:G11) -> 0
C12: Totaal | D12: =E31&G31 -> LAN 1 : | E12: =SUM(E10:E11) -> 0 | F12: =SUM(F10:F11) -> 0 | G12: =SUM(G10:G11) -> 0 | H12: =SUM(H10:H11) -> 0
B13: 2a | C13: Variant 2: LAN access | E13: =J49 -> 0 | F13: =T49 -> 0 | G13: =AE49 -> 0 | H13: =SUM(E13:G13) -> 0
B14: 2b | C14: Variant 2: Licentie(s) Access | E14: =J59 -> 0 | F14: =T59 -> 0 | G14: n.v.t. | H14: =SUM(E14:G14) -> 0
C15: Totaal | D15: =E49&G49 -> LAN 2 : | E15: =SUM(E13:E14) -> 0 | F15: =SUM(F13:F14) -> 0 | G15: =SUM(G13:G14) -> 0 | H15: =SUM(H13:H14) -> 0
B16: 3a | C16: Variant 3: LAN access | E16: =J67 -> 0 | F16: =T67 -> 0 | G16: =AE67 -> 0 | H16: =SUM(E16:G16) -> 0
B17: 3b | C17: Variant 3: Licentie(s) LAN Access | E17: =J77 -> 0 | F17: =T77 -> 0 | G17: n.v.t. | H17: =SUM(E17:G17) -> 0
C18: Totaal | D18: =E67&G67 -> LAN 3 : | E18: =SUM(E16:E17) -> 0 | F18: =SUM(F16:F17) -> 0 | G18: =SUM(G16:G17) -> 0 | H18: =SUM(H16:H17) -> 0
B19: 4a | C19: Variant 4: LAN access | E19: =J85 -> 0 | F19: =T85 -> 0 | G19: =AE85 -> 0 | H19: =SUM(E19:G19) -> 0
B20: 4b | C20: Variant 4: Licentie(s)LAN Access | E20: =J95 -> 0 | F20: =T95 -> 0 | G20: n.v.t. | H20: =SUM(E20:G20) -> 0
C21: Totaal | D21: =E85&G85 -> LAN 4 : | E21: =SUM(E19:E20) -> 0 | F21: =SUM(F19:F20) -> 0 | G21: =SUM(G19:G20) -> 0 | H21: =SUM(H19:H20) -> 0
B22: 5a | C22: Variant 5 LAN access | E22: =J103 -> 0 | F22: =T103 -> 0 | G22: =AE103 -> 0 | H22: =SUM(E22:G22) -> 0
B23: 5b | C23: Variant 5: Licentie(s) LAN Access | E23: =J113 -> 0 | F23: =T113 -> 0 | G23: n.v.t. | H23: =SUM(E23:G23) -> 0
C24: Totaal | D24: =E103&G103 -> LAN 5 : | E24: =SUM(E22:E23) -> 0 | F24: =SUM(F22:F23) -> 0 | G24: =SUM(G22:G23) -> 0 | H24: =SUM(H22:H23) -> 0
B25: 6a | C25: Variant 6: LAN access | E25: =+J121 -> 0 | F25: =+T121 -> 0 | G25: =+AE121 -> 0 | H25: =SUM(E25:G25) -> 0
B26: 6b | C26: Variant 6: Licentie(s) LAN Access | E26: =+J131 -> 0 | F26: =+T131 -> 0 | G26: n.v.t. | H26: =SUM(E26:G26) -> 0
C27: Totaal | D27: =E121&G121 -> LAN 6 : | E27: =SUM(E25:E26) -> 0 | F27: =SUM(F25:F26) -> 0 | G27: =SUM(G25:G26) -> 0 | H27: =SUM(H25:H26) -> 0
B30: 1a | C30: =VLOOKUP(B30,$B$10:$D$26,2,FALSE) -> Variant 1: LAN access | G30: Naam Variant | M30: Onderhoud & Support | W30: TCO-energie
C31: Aanschaf | E31: ="LAN "&LEFT(B30,1)&" : " -> LAN 1 : | I31: Subtotaal | J31: =SUM(J33:J37) -> 0 | S31: Subtotaal | T31: =SUM(T33:T37) -> 0 | AD31: Subtotaal | AE31: =SUM(AE33:AE37) -> 0
C32: Artikelnummer | D32: Artikelomschrijving | E32: Merknaam | F32: Benodigd aantal in bouwblok | G32: Listprijs aanschaf per stuk in € | H32: Kortings- percentage | I32: Listprijs per stuk incl. korting | J32: Prijs totaal incl. korting | K32: Listprijs aanschaf per stuk in $ | M32: Artikelnummer | N32: Artikelomschrijving | O32: Benodigd aantal in bouwblok | P32: Van toepassing ja / nee | Q32: Listprijs Onderhoud & Support per stuk in € | R32: Kortings- percentage | S32: Listprijs Onderhoud & Support per stuk incl. korting | T32: Prijs 7 jaren totaal incl. korting | U32: Listprijs aanschaf per stuk in $ | W32: Artikelnummer | X32: Artikelomschrijving | Y32: Benodigd aantal in bouwblok | Z32: Van toepassing ja / nee | AA32: Normatief gebruik stroom in watt per eenheid | AB32: Verwijzing naar documentatie voor stroomverbuik | AC32: Normatief gebruik stroom in watt per eenheid | AD32: Totaal op jaarbasis in Kwh x24x365/1000 | AE32: Totaal kosten 7 JAREN stroomverbruik
I33: =G33*(1-H33) -> 0 | J33: =IF(ISERROR(+I33*F33),"",+I33*F33) -> 0 | M33: =IF(ISBLANK(+C33),"",+C33) | N33: =IF(ISBLANK(+D33),"",+D33) | O33: =IF(ISBLANK(+F33),"",+F33) | S33: =IF(ISERROR(+Q33*(1-(R33))),"",+Q33*(1-(R33))) -> 0 | T33: =IF(ISERROR(+S33*O33*7),0,+S33*O33*7) -> 0 | W33: =IF(ISBLANK(+M33),"",+M33) | X33: =IF(ISBLANK(+N33),"",+N33) | Y33: =IF(ISBLANK(+F33),"",+F33) | AC33: =IF(ISERROR(IF(OR(Z33="nee",Z33=""),"",+Y33*AA33)),"",IF(OR(Z33="nee",Z33=""),"",+Y33*AA33)) | AD33: =IF(ISERROR((AC33*24*365)/1000),"",(AC33*24*365)/1000) | AE33: =IF(ISERROR(+AD33*tariefKwh*7),0,+AD33*tariefKwh*7) -> 0
I34: =G34*(1-H34) -> 0 | J34: =IF(ISERROR(+I34*F34),"",+I34*F34) -> 0 | M34: =IF(ISBLANK(+C34),"",+C34) | N34: =IF(ISBLANK(+D34),"",+D34) | O34: =IF(ISBLANK(+F34),"",+F34) | S34: =IF(ISERROR(+Q34*(1-(R34))),"",+Q34*(1-(R34))) -> 0 | T34: =IF(ISERROR(+S34*O34*7),0,+S34*O34*7) -> 0 | W34: =IF(ISBLANK(+M34),"",+M34) | X34: =IF(ISBLANK(+N34),"",+N34) | Y34: =IF(ISBLANK(+F34),"",+F34) | AC34: =IF(ISERROR(IF(OR(Z34="nee",Z34=""),"",+Y34*AA34)),"",IF(OR(Z34="nee",Z34=""),"",+Y34*AA34)) | AD34: =IF(ISERROR((AC34*24*365)/1000),"",(AC34*24*365)/1000) | AE34: =IF(ISERROR(+AD34*tariefKwh*7),0,+AD34*tariefKwh*7) -> 0
I35: =G35*(1-H35) -> 0 | J35: =IF(ISERROR(+I35*F35),"",+I35*F35) -> 0 | M35: =IF(ISBLANK(+C35),"",+C35) | N35: =IF(ISBLANK(+D35),"",+D35) | O35: =IF(ISBLANK(+F35),"",+F35) | S35: =IF(ISERROR(+Q35*(1-(R35))),"",+Q35*(1-(R35))) -> 0 | T35: =IF(ISERROR(+S35*O35*7),0,+S35*O35*7) -> 0 | W35: =IF(ISBLANK(+M35),"",+M35) | X35: =IF(ISBLANK(+N35),"",+N35) | Y35: =IF(ISBLANK(+F35),"",+F35) | AC35: =IF(ISERROR(IF(OR(Z35="nee",Z35=""),"",+Y35*AA35)),"",IF(OR(Z35="nee",Z35=""),"",+Y35*AA35)) | AD35: =IF(ISERROR((AC35*24*365)/1000),"",(AC35*24*365)/1000) | AE35: =IF(ISERROR(+AD35*tariefKwh*7),0,+AD35*tariefKwh*7) -> 0
I36: =G36*(1-H36) -> 0 | J36: =IF(ISERROR(+I36*F36),"",+I36*F36) -> 0 | M36: =IF(ISBLANK(+C36),"",+C36) | N36: =IF(ISBLANK(+D36),"",+D36) | O36: =IF(ISBLANK(+F36),"",+F36) | S36: =IF(ISERROR(+Q36*(1-(R36))),"",+Q36*(1-(R36))) -> 0 | T36: =IF(ISERROR(+S36*O36*7),0,+S36*O36*7) -> 0 | W36: =IF(ISBLANK(+M36),"",+M36) | X36: =IF(ISBLANK(+N36),"",+N36) | Y36: =IF(ISBLANK(+F36),"",+F36) | AC36: =IF(ISERROR(IF(OR(Z36="nee",Z36=""),"",+Y36*AA36)),"",IF(OR(Z36="nee",Z36=""),"",+Y36*AA36)) | AD36: =IF(ISERROR((AC36*24*365)/1000),"",(AC36*24*365)/1000) | AE36: =IF(ISERROR(+AD36*tariefKwh*7),0,+AD36*tariefKwh*7) -> 0
I37: =G37*(1-H37) -> 0 | J37: =IF(ISERROR(+I37*F37),"",+I37*F37) -> 0 | M37: =IF(ISBLANK(+C37),"",+C37) | N37: =IF(ISBLANK(+D37),"",+D37) | O37: =IF(ISBLANK(+F37),"",+F37) | S37: =IF(ISERROR(+Q37*(1-(R37))),"",+Q37*(1-(R37))) -> 0 | T37: =IF(ISERROR(+S37*O37*7),0,+S37*O37*7) -> 0 | W37: =IF(ISBLANK(+M37),"",+M37) | X37: =IF(ISBLANK(+N37),"",+N37) | Y37: =IF(ISBLANK(+F37),"",+F37) | AC37: =IF(ISERROR(IF(OR(Z37="nee",Z37=""),"",+Y37*AA37)),"",IF(OR(Z37="nee",Z37=""),"",+Y37*AA37)) | AD37: =IF(ISERROR((AC37*24*365)/1000),"",(AC37*24*365)/1000) | AE37: =IF(ISERROR(+AD37*tariefKwh*7),0,+AD37*tariefKwh*7) -> 0
C38: N.B.: Indien voor dit bouwblok meer regels benodig zijn, graag dit verzoek via de Nota van Inlichtingen bekend te maken. Een aangepast model wordt dan gepubliceerd.
B40: 1b | C40: =VLOOKUP(B40,$B$10:$D$26,2,FALSE) -> Variant 1: Licentie(s) Basis LAN Access | D40: =VLOOKUP(C40,$B$10:$D$26,2,FALSE) -> #N/A | E40: =VLOOKUP(D40,$B$10:$D$26,2,FALSE) -> #N/A | J40: Totaalprijs Aanschaf Licenties | M40: =IF(E41="Subscription","Subscription","Onderhoud & Support") -> Onderhoud & Support | T40: ="Totaalprijs "&M40&" Licentie" -> Totaalprijs Onderhoud & Support Licentie
C41: Grondslag licentie: | F41: Gele velden invullen(!) | J41: =SUM(J43:J45) -> 0 | T41: =SUM(T43:T45) -> 0
C42: Artikelnummer | D42: Artikelomschrijving | E42: Merknaam | F42: Benodigd aantal in bouwblok | G42: Listprijs aanschaf per stuk in € | H42: Kortings- percentage | I42: Listprijs per stuk incl. korting | J42: Prijs totaal incl. korting | K42: Listprijs aanschaf per stuk in $ | M42: Artikelnummer | N42: Artikelomschrijving | O42: Benodigd aantal in bouwblok | P42: Van toepassing ja / nee | Q42: Listprijs Onderhoud & Support per stuk in € | R42: Kortings- percentage | S42: Listprijs Onderhoud & Support per stuk incl. korting | T42: Prijs 7 jaren totaal incl. korting | U42: Listprijs aanschaf per stuk in $
I43: =G43*(1-H43) -> 0 | J43: =IF(ISERROR(+I43*F43),"",+I43*F43) -> 0 | M43: =IF(ISBLANK(+C43),"",+C43) | N43: =IF(ISBLANK(+D43),"",+D43) | O43: =IF(ISBLANK(+F43),"",+F43) | S43: =IF(ISERROR(+Q43*(1-(R43))),"",+Q43*(1-(R43))) -> 0 | T43: =IF(ISERROR(+S43*O43*7),0,+S43*O43*7) -> 0
I44: =G44*(1-H44) -> 0 | J44: =IF(ISERROR(+I44*F44),"",+I44*F44) -> 0 | M44: =IF(ISBLANK(+C44),"",+C44) | N44: =IF(ISBLANK(+D44),"",+D44) | O44: =IF(ISBLANK(+F44),"",+F44) | S44: =IF(ISERROR(+Q44*(1-(R44))),"",+Q44*(1-(R44))) -> 0 | T44: =IF(ISERROR(+S44*O44*7),0,+S44*O44*7) -> 0
I45: =G45*(1-H45) -> 0 | J45: =IF(ISERROR(+I45*F45),"",+I45*F45) -> 0 | M45: =IF(ISBLANK(+C45),"",+C45) | N45: =IF(ISBLANK(+D45),"",+D45) | O45: =IF(ISBLANK(+F45),"",+F45) | S45: =IF(ISERROR(+Q45*(1-(R45))),"",+Q45*(1-(R45))) -> 0 | T45: =IF(ISERROR(+S45*O45*7),0,+S45*O45*7) -> 0
B48: 2a | C48: =VLOOKUP(B48,$B$10:$D$26,2,FALSE) -> Variant 2: LAN access | G48: Naam Variant | M48: Onderhoud & Support | W48: TCO-energie
C49: Aanschaf | E49: ="LAN "&LEFT(B48,1)&" : " -> LAN 2 : | I49: Subtotaal | J49: =SUM(J51:J55) -> 0 | S49: Subtotaal | T49: =SUM(T51:T55) -> 0 | AD49: Subtotaal | AE49: =SUM(AE51:AE55) -> 0
C50: Artikelnummer | D50: Artikelomschrijving | E50: Merknaam | F50: Benodigd aantal in bouwblok | G50: Listprijs aanschaf per stuk in € | H50: Kortings- percentage | I50: Listprijs per stuk incl. korting | J50: Prijs totaal incl. korting | K50: Listprijs aanschaf per stuk in $ | M50: Artikelnummer | N50: Artikelomschrijving | O50: Benodigd aantal in bouwblok | P50: Van toepassing ja / nee | Q50: Listprijs Onderhoud & Support per stuk in € | R50: Kortings- percentage | S50: Listprijs Onderhoud & Support per stuk incl. korting | T50: Prijs 7 jaren totaal incl. korting | U50: Listprijs aanschaf per stuk in $ | W50: Artikelnummer | X50: Artikelomschrijving | Y50: Benodigd aantal in bouwblok | Z50: Van toepassing ja / nee | AA50: Normatief gebruik stroom in watt per eenheid | AB50: Verwijzing naar documentatie voor stroomverbuik | AC50: Normatief gebruik stroom in watt per eenheid | AD50: Totaal op jaarbasis in Kwh x24x365/1000 | AE50: Totaal kosten 7 JAREN stroomverbruik
I51: =G51*(1-H51) -> 0 | J51: =IF(ISERROR(+I51*F51),"",+I51*F51) -> 0 | M51: =IF(ISBLANK(+C51),"",+C51) | N51: =IF(ISBLANK(+D51),"",+D51) | O51: =IF(ISBLANK(+F51),"",+F51) | S51: =IF(ISERROR(+Q51*(1-(R51))),"",+Q51*(1-(R51))) -> 0 | T51: =IF(ISERROR(+S51*O51*7),0,+S51*O51*7) -> 0 | W51: =IF(ISBLANK(+M51),"",+M51) | X51: =IF(ISBLANK(+N51),"",+N51) | Y51: =IF(ISBLANK(+F51),"",+F51) | AC51: =IF(ISERROR(IF(OR(Z51="nee",Z51=""),"",+Y51*AA51)),"",IF(OR(Z51="nee",Z51=""),"",+Y51*AA51)) | AD51: =IF(ISERROR((AC51*24*365)/1000),"",(AC51*24*365)/1000) | AE51: =IF(ISERROR(+AD51*tariefKwh*7),0,+AD51*tariefKwh*7) -> 0
I52: =G52*(1-H52) -> 0 | J52: =IF(ISERROR(+I52*F52),"",+I52*F52) -> 0 | M52: =IF(ISBLANK(+C52),"",+C52) | N52: =IF(ISBLANK(+D52),"",+D52) | O52: =IF(ISBLANK(+F52),"",+F52) | S52: =IF(ISERROR(+Q52*(1-(R52))),"",+Q52*(1-(R52))) -> 0 | T52: =IF(ISERROR(+S52*O52*7),0,+S52*O52*7) -> 0 | W52: =IF(ISBLANK(+M52),"",+M52) | X52: =IF(ISBLANK(+N52),"",+N52) | Y52: =IF(ISBLANK(+F52),"",+F52) | AC52: =IF(ISERROR(IF(OR(Z52="nee",Z52=""),"",+Y52*AA52)),"",IF(OR(Z52="nee",Z52=""),"",+Y52*AA52)) | AD52: =IF(ISERROR((AC52*24*365)/1000),"",(AC52*24*365)/1000) | AE52: =IF(ISERROR(+AD52*tariefKwh*7),0,+AD52*tariefKwh*7) -> 0
I53: =G53*(1-H53) -> 0 | J53: =IF(ISERROR(+I53*F53),"",+I53*F53) -> 0 | M53: =IF(ISBLANK(+C53),"",+C53) | N53: =IF(ISBLANK(+D53),"",+D53) | O53: =IF(ISBLANK(+F53),"",+F53) | S53: =IF(ISERROR(+Q53*(1-(R53))),"",+Q53*(1-(R53))) -> 0 | T53: =IF(ISERROR(+S53*O53*7),0,+S53*O53*7) -> 0 | W53: =IF(ISBLANK(+M53),"",+M53) | X53: =IF(ISBLANK(+N53),"",+N53) | Y53: =IF(ISBLANK(+F53),"",+F53) | AC53: =IF(ISERROR(IF(OR(Z53="nee",Z53=""),"",+Y53*AA53)),"",IF(OR(Z53="nee",Z53=""),"",+Y53*AA53)) | AD53: =IF(ISERROR((AC53*24*365)/1000),"",(AC53*24*365)/1000) | AE53: =IF(ISERROR(+AD53*tariefKwh*7),0,+AD53*tariefKwh*7) -> 0
I54: =G54*(1-H54) -> 0 | J54: =IF(ISERROR(+I54*F54),"",+I54*F54) -> 0 | M54: =IF(ISBLANK(+C54),"",+C54) | N54: =IF(ISBLANK(+D54),"",+D54) | O54: =IF(ISBLANK(+F54),"",+F54) | S54: =IF(ISERROR(+Q54*(1-(R54))),"",+Q54*(1-(R54))) -> 0 | T54: =IF(ISERROR(+S54*O54*7),0,+S54*O54*7) -> 0 | W54: =IF(ISBLANK(+M54),"",+M54) | X54: =IF(ISBLANK(+N54),"",+N54) | Y54: =IF(ISBLANK(+F54),"",+F54) | AC54: =IF(ISERROR(IF(OR(Z54="nee",Z54=""),"",+Y54*AA54)),"",IF(OR(Z54="nee",Z54=""),"",+Y54*AA54)) | AD54: =IF(ISERROR((AC54*24*365)/1000),"",(AC54*24*365)/1000) | AE54: =IF(ISERROR(+AD54*tariefKwh*7),0,+AD54*tariefKwh*7) -> 0
I55: =G55*(1-H55) -> 0 | J55: =IF(ISERROR(+I55*F55),"",+I55*F55) -> 0 | M55: =IF(ISBLANK(+C55),"",+C55) | N55: =IF(ISBLANK(+D55),"",+D55) | O55: =IF(ISBLANK(+F55),"",+F55) | S55: =IF(ISERROR(+Q55*(1-(R55))),"",+Q55*(1-(R55))) -> 0 | T55: =IF(ISERROR(+S55*O55*7),0,+S55*O55*7) -> 0 | W55: =IF(ISBLANK(+M55),"",+M55) | X55: =IF(ISBLANK(+N55),"",+N55) | Y55: =IF(ISBLANK(+F55),"",+F55) | AC55: =IF(ISERROR(IF(OR(Z55="nee",Z55=""),"",+Y55*AA55)),"",IF(OR(Z55="nee",Z55=""),"",+Y55*AA55)) | AD55: =IF(ISERROR((AC55*24*365)/1000),"",(AC55*24*365)/1000) | AE55: =IF(ISERROR(+AD55*tariefKwh*7),0,+AD55*tariefKwh*7) -> 0
C56: N.B.: Indien voor dit bouwblok meer regels benodig zijn, graag dit verzoek via de Nota van Inlichtingen bekend te maken. Een aangepast model wordt dan gepubliceerd.
B58: 2b | C58: =VLOOKUP(B58,$B$10:$D$26,2,FALSE) -> Variant 2: Licentie(s) Access | D58: =VLOOKUP(C58,$B$10:$D$26,2,FALSE) -> #N/A | E58: =VLOOKUP(D58,$B$10:$D$26,2,FALSE) -> #N/A | J58: Totaalprijs Aanschaf Licenties | M58: =IF(E59="Subscription","Subscription","Onderhoud & Support") -> Onderhoud & Support | T58: ="Totaalprijs "&M58&" Licentie" -> Totaalprijs Onderhoud & Support Licentie
C59: Grondslag licentie: | F59: Gele velden invullen(!) | J59: =SUM(J61:J63) -> 0 | T59: =SUM(T61:T63) -> 0
C60: Artikelnummer | D60: Artikelomschrijving | E60: Merknaam | F60: Benodigd aantal in bouwblok | G60: Listprijs aanschaf per stuk in € | H60: Kortings- percentage | I60: Listprijs per stuk incl. korting | J60: Prijs totaal incl. korting | K60: Listprijs aanschaf per stuk in $ | M60: Artikelnummer | N60: Artikelomschrijving | O60: Benodigd aantal in bouwblok | P60: Van toepassing ja / nee | Q60: Listprijs Onderhoud & Support per stuk in € | R60: Kortings- percentage | S60: Listprijs Onderhoud & Support per stuk incl. korting | T60: Prijs 7 jaren totaal incl. korting | U60: Listprijs aanschaf per stuk in $
I61: =G61*(1-H61) -> 0 | J61: =IF(ISERROR(+I61*F61),"",+I61*F61) -> 0 | M61: =IF(ISBLANK(+C61),"",+C61) | N61: =IF(ISBLANK(+D61),"",+D61) | O61: =IF(ISBLANK(+F61),"",+F61) | S61: =IF(ISERROR(+Q61*(1-(R61))),"",+Q61*(1-(R61))) -> 0 | T61: =IF(ISERROR(+S61*O61*7),0,+S61*O61*7) -> 0
I62: =G62*(1-H62) -> 0 | J62: =IF(ISERROR(+I62*F62),"",+I62*F62) -> 0 | M62: =IF(ISBLANK(+C62),"",+C62) | N62: =IF(ISBLANK(+D62),"",+D62) | O62: =IF(ISBLANK(+F62),"",+F62) | S62: =IF(ISERROR(+Q62*(1-(R62))),"",+Q62*(1-(R62))) -> 0 | T62: =IF(ISERROR(+S62*O62*7),0,+S62*O62*7) -> 0
I63: =G63*(1-H63) -> 0 | J63: =IF(ISERROR(+I63*F63),"",+I63*F63) -> 0 | M63: =IF(ISBLANK(+C63),"",+C63) | N63: =IF(ISBLANK(+D63),"",+D63) | O63: =IF(ISBLANK(+F63),"",+F63) | S63: =IF(ISERROR(+Q63*(1-(R63))),"",+Q63*(1-(R63))) -> 0 | T63: =IF(ISERROR(+S63*O63*7),0,+S63*O63*7) -> 0
B66: 3a | C66: =VLOOKUP(B66,$B$10:$D$26,2,FALSE) -> Variant 3: LAN access | G66: Naam Variant | M66: Onderhoud & Support | W66: TCO-energie
C67: Aanschaf | E67: ="LAN "&LEFT(B66,1)&" : " -> LAN 3 : | I67: Subtotaal | J67: =SUM(J69:J73) -> 0 | S67: Subtotaal | T67: =SUM(T69:T73) -> 0 | AD67: Subtotaal | AE67: =SUM(AE69:AE73) -> 0
C68: Artikelnummer | D68: Artikelomschrijving | E68: Merknaam | F68: Benodigd aantal in bouwblok | G68: Listprijs aanschaf per stuk in € | H68: Kortings- percentage | I68: Listprijs per stuk incl. korting | J68: Prijs totaal incl. korting | K68: Listprijs aanschaf per stuk in $ | M68: Artikelnummer | N68: Artikelomschrijving | O68: Benodigd aantal in bouwblok | P68: Van toepassing ja / nee | Q68: Listprijs Onderhoud & Support per stuk in € | R68: Kortings- percentage | S68: Listprijs Onderhoud & Support per stuk incl. korting | T68: Prijs 7 jaren totaal incl. korting | U68: Listprijs aanschaf per stuk in $ | W68: Artikelnummer | X68: Artikelomschrijving | Y68: Benodigd aantal in bouwblok | Z68: Van toepassing ja / nee | AA68: Normatief gebruik stroom in watt per eenheid | AB68: Verwijzing naar documentatie voor stroomverbuik | AC68: Normatief gebruik stroom in watt per eenheid | AD68: Totaal op jaarbasis in Kwh x24x365/1000 | AE68: Totaal kosten 7 JAREN stroomverbruik
I69: =G69*(1-H69) -> 0 | J69: =IF(ISERROR(+I69*F69),"",+I69*F69) -> 0 | M69: =IF(ISBLANK(+C69),"",+C69) | N69: =IF(ISBLANK(+D69),"",+D69) | O69: =IF(ISBLANK(+F69),"",+F69) | S69: =IF(ISERROR(+Q69*(1-(R69))),"",+Q69*(1-(R69))) -> 0 | T69: =IF(ISERROR(+S69*O69*7),0,+S69*O69*7) -> 0 | W69: =IF(ISBLANK(+M69),"",+M69) | X69: =IF(ISBLANK(+N69),"",+N69) | Y69: =IF(ISBLANK(+F69),"",+F69) | AC69: =IF(ISERROR(IF(OR(Z69="nee",Z69=""),"",+Y69*AA69)),"",IF(OR(Z69="nee",Z69=""),"",+Y69*AA69)) | AD69: =IF(ISERROR((AC69*24*365)/1000),"",(AC69*24*365)/1000) | AE69: =IF(ISERROR(+AD69*tariefKwh*7),0,+AD69*tariefKwh*7) -> 0
I70: =G70*(1-H70) -> 0 | J70: =IF(ISERROR(+I70*F70),"",+I70*F70) -> 0 | M70: =IF(ISBLANK(+C70),"",+C70) | N70: =IF(ISBLANK(+D70),"",+D70) | O70: =IF(ISBLANK(+F70),"",+F70) | S70: =IF(ISERROR(+Q70*(1-(R70))),"",+Q70*(1-(R70))) -> 0 | T70: =IF(ISERROR(+S70*O70*7),0,+S70*O70*7) -> 0 | W70: =IF(ISBLANK(+M70),"",+M70) | X70: =IF(ISBLANK(+N70),"",+N70) | Y70: =IF(ISBLANK(+F70),"",+F70) | AC70: =IF(ISERROR(IF(OR(Z70="nee",Z70=""),"",+Y70*AA70)),"",IF(OR(Z70="nee",Z70=""),"",+Y70*AA70)) | AD70: =IF(ISERROR((AC70*24*365)/1000),"",(AC70*24*365)/1000) | AE70: =IF(ISERROR(+AD70*tariefKwh*7),0,+AD70*tariefKwh*7) -> 0
I71: =G71*(1-H71) -> 0 | J71: =IF(ISERROR(+I71*F71),"",+I71*F71) -> 0 | M71: =IF(ISBLANK(+C71),"",+C71) | N71: =IF(ISBLANK(+D71),"",+D71) | O71: =IF(ISBLANK(+F71),"",+F71) | S71: =IF(ISERROR(+Q71*(1-(R71))),"",+Q71*(1-(R71))) -> 0 | T71: =IF(ISERROR(+S71*O71*7),0,+S71*O71*7) -> 0 | W71: =IF(ISBLANK(+M71),"",+M71) | X71: =IF(ISBLANK(+N71),"",+N71) | Y71: =IF(ISBLANK(+F71),"",+F71) | AC71: =IF(ISERROR(IF(OR(Z71="nee",Z71=""),"",+Y71*AA71)),"",IF(OR(Z71="nee",Z71=""),"",+Y71*AA71)) | AD71: =IF(ISERROR((AC71*24*365)/1000),"",(AC71*24*365)/1000) | AE71: =IF(ISERROR(+AD71*tariefKwh*7),0,+AD71*tariefKwh*7) -> 0
I72: =G72*(1-H72) -> 0 | J72: =IF(ISERROR(+I72*F72),"",+I72*F72) -> 0 | M72: =IF(ISBLANK(+C72),"",+C72) | N72: =IF(ISBLANK(+D72),"",+D72) | O72: =IF(ISBLANK(+F72),"",+F72) | S72: =IF(ISERROR(+Q72*(1-(R72))),"",+Q72*(1-(R72))) -> 0 | T72: =IF(ISERROR(+S72*O72*7),0,+S72*O72*7) -> 0 | W72: =IF(ISBLANK(+M72),"",+M72) | X72: =IF(ISBLANK(+N72),"",+N72) | Y72: =IF(ISBLANK(+F72),"",+F72) | AC72: =IF(ISERROR(IF(OR(Z72="nee",Z72=""),"",+Y72*AA72)),"",IF(OR(Z72="nee",Z72=""),"",+Y72*AA72)) | AD72: =IF(ISERROR((AC72*24*365)/1000),"",(AC72*24*365)/1000) | AE72: =IF(ISERROR(+AD72*tariefKwh*7),0,+AD72*tariefKwh*7) -> 0
I73: =G73*(1-H73) -> 0 | J73: =IF(ISERROR(+I73*F73),"",+I73*F73) -> 0 | M73: =IF(ISBLANK(+C73),"",+C73) | N73: =IF(ISBLANK(+D73),"",+D73) | O73: =IF(ISBLANK(+F73),"",+F73) | S73: =IF(ISERROR(+Q73*(1-(R73))),"",+Q73*(1-(R73))) -> 0 | T73: =IF(ISERROR(+S73*O73*7),0,+S73*O73*7) -> 0 | W73: =IF(ISBLANK(+M73),"",+M73) | X73: =IF(ISBLANK(+N73),"",+N73) | Y73: =IF(ISBLANK(+F73),"",+F73) | AC73: =IF(ISERROR(IF(OR(Z73="nee",Z73=""),"",+Y73*AA73)),"",IF(OR(Z73="nee",Z73=""),"",+Y73*AA73)) | AD73: =IF(ISERROR((AC73*24*365)/1000),"",(AC73*24*365)/1000) | AE73: =IF(ISERROR(+AD73*tariefKwh*7),0,+AD73*tariefKwh*7) -> 0
C74: N.B.: Indien voor dit bouwblok meer regels benodig zijn, graag dit verzoek via de Nota van Inlichtingen bekend te maken. Een aangepast model wordt dan gepubliceerd.
B76: 3b | C76: =VLOOKUP(B76,$B$10:$D$26,2,FALSE) -> Variant 3: Licentie(s) LAN Access | D76: =VLOOKUP(C76,$B$10:$D$26,2,FALSE) -> #N/A | E76: =VLOOKUP(D76,$B$10:$D$26,2,FALSE) -> #N/A | J76: Totaalprijs Aanschaf Licenties | M76: =IF(E77="Subscription","Subscription","Onderhoud & Support") -> Onderhoud & Support | T76: ="Totaalprijs "&M76&" Licentie" -> Totaalprijs Onderhoud & Support Licentie
C77: Grondslag licentie: | F77: Gele velden invullen(!) | J77: =SUM(J79:J81) -> 0 | T77: =SUM(T79:T81) -> 0
C78: Artikelnummer | D78: Artikelomschrijving | E78: Merknaam | F78: Benodigd aantal in bouwblok | G78: Listprijs aanschaf per stuk in € | H78: Kortings- percentage | I78: Listprijs per stuk incl. korting | J78: Prijs totaal incl. korting | K78: Listprijs aanschaf per stuk in $ | M78: Artikelnummer | N78: Artikelomschrijving | O78: Benodigd aantal in bouwblok | P78: Van toepassing ja / nee | Q78: Listprijs Onderhoud & Support per stuk in € | R78: Kortings- percentage | S78: Listprijs Onderhoud & Support per stuk incl. korting | T78: Prijs 7 jaren totaal incl. korting | U78: Listprijs aanschaf per stuk in $
I79: =G79*(1-H79) -> 0 | J79: =IF(ISERROR(+I79*F79),"",+I79*F79) -> 0 | M79: =IF(ISBLANK(+C79),"",+C79) | N79: =IF(ISBLANK(+D79),"",+D79) | O79: =IF(ISBLANK(+F79),"",+F79) | S79: =IF(ISERROR(+Q79*(1-(R79))),"",+Q79*(1-(R79))) -> 0 | T79: =IF(ISERROR(+S79*O79*7),0,+S79*O79*7) -> 0
I80: =G80*(1-H80) -> 0 | J80: =IF(ISERROR(+I80*F80),"",+I80*F80) -> 0 | M80: =IF(ISBLANK(+C80),"",+C80) | N80: =IF(ISBLANK(+D80),"",+D80) | O80: =IF(ISBLANK(+F80),"",+F80) | S80: =IF(ISERROR(+Q80*(1-(R80))),"",+Q80*(1-(R80))) -> 0 | T80: =IF(ISERROR(+S80*O80*7),0,+S80*O80*7) -> 0
I81: =G81*(1-H81) -> 0 | J81: =IF(ISERROR(+I81*F81),"",+I81*F81) -> 0 | M81: =IF(ISBLANK(+C81),"",+C81) | N81: =IF(ISBLANK(+D81),"",+D81) | O81: =IF(ISBLANK(+F81),"",+F81) | S81: =IF(ISERROR(+Q81*(1-(R81))),"",+Q81*(1-(R81))) -> 0 | T81: =IF(ISERROR(+S81*O81*7),0,+S81*O81*7) -> 0
B84: 4a | C84: =VLOOKUP(B84,$B$10:$D$26,2,FALSE) -> Variant 4: LAN access | G84: Naam Variant | M84: Onderhoud & Support | W84: TCO-energie
C85: Aanschaf | E85: ="LAN "&LEFT(B84,1)&" : " -> LAN 4 : | I85: Subtotaal | J85: =SUM(J87:J91) -> 0 | S85: Subtotaal | T85: =SUM(T87:T91) -> 0 | AD85: Subtotaal | AE85: =SUM(AE87:AE91) -> 0
C86: Artikelnummer | D86: Artikelomschrijving | E86: Merknaam | F86: Benodigd aantal in bouwblok | G86: Listprijs aanschaf per stuk in € | H86: Kortings- percentage | I86: Listprijs per stuk incl. korting | J86: Prijs totaal incl. korting | K86: Listprijs aanschaf per stuk in $ | M86: Artikelnummer | N86: Artikelomschrijving | O86: Benodigd aantal in bouwblok | P86: Van toepassing ja / nee | Q86: Listprijs Onderhoud & Support per stuk in € | R86: Kortings- percentage | S86: Listprijs Onderhoud & Support per stuk incl. korting | T86: Prijs 7 jaren totaal incl. korting | U86: Listprijs aanschaf per stuk in $ | W86: Artikelnummer | X86: Artikelomschrijving | Y86: Benodigd aantal in bouwblok | Z86: Van toepassing ja / nee | AA86: Normatief gebruik stroom in watt per eenheid | AB86: Verwijzing naar documentatie voor stroomverbuik | AC86: Normatief gebruik stroom in watt per eenheid | AD86: Totaal op jaarbasis in Kwh x24x365/1000 | AE86: Totaal kosten 7 JAREN stroomverbruik
I87: =G87*(1-H87) -> 0 | J87: =IF(ISERROR(+I87*F87),"",+I87*F87) -> 0 | M87: =IF(ISBLANK(+C87),"",+C87) | N87: =IF(ISBLANK(+D87),"",+D87) | O87: =IF(ISBLANK(+F87),"",+F87) | S87: =IF(ISERROR(+Q87*(1-(R87))),"",+Q87*(1-(R87))) -> 0 | T87: =IF(ISERROR(+S87*O87*7),0,+S87*O87*7) -> 0 | W87: =IF(ISBLANK(+M87),"",+M87) | X87: =IF(ISBLANK(+N87),"",+N87) | Y87: =IF(ISBLANK(+F87),"",+F87) | AC87: =IF(ISERROR(IF(OR(Z87="nee",Z87=""),"",+Y87*AA87)),"",IF(OR(Z87="nee",Z87=""),"",+Y87*AA87)) | AD87: =IF(ISERROR((AC87*24*365)/1000),"",(AC87*24*365)/1000) | AE87: =IF(ISERROR(+AD87*tariefKwh*7),0,+AD87*tariefKwh*7) -> 0
I88: =G88*(1-H88) -> 0 | J88: =IF(ISERROR(+I88*F88),"",+I88*F88) -> 0 | M88: =IF(ISBLANK(+C88),"",+C88) | N88: =IF(ISBLANK(+D88),"",+D88) | O88: =IF(ISBLANK(+F88),"",+F88) | S88: =IF(ISERROR(+Q88*(1-(R88))),"",+Q88*(1-(R88))) -> 0 | T88: =IF(ISERROR(+S88*O88*7),0,+S88*O88*7) -> 0 | W88: =IF(ISBLANK(+M88),"",+M88) | X88: =IF(ISBLANK(+N88),"",+N88) | Y88: =IF(ISBLANK(+F88),"",+F88) | AC88: =IF(ISERROR(IF(OR(Z88="nee",Z88=""),"",+Y88*AA88)),"",IF(OR(Z88="nee",Z88=""),"",+Y88*AA88)) | AD88: =IF(ISERROR((AC88*24*365)/1000),"",(AC88*24*365)/1000) | AE88: =IF(ISERROR(+AD88*tariefKwh*7),0,+AD88*tariefKwh*7) -> 0
I89: =G89*(1-H89) -> 0 | J89: =IF(ISERROR(+I89*F89),"",+I89*F89) -> 0 | M89: =IF(ISBLANK(+C89),"",+C89) | N89: =IF(ISBLANK(+D89),"",+D89) | O89: =IF(ISBLANK(+F89),"",+F89) | S89: =IF(ISERROR(+Q89*(1-(R89))),"",+Q89*(1-(R89))) -> 0 | T89: =IF(ISERROR(+S89*O89*7),0,+S89*O89*7) -> 0 | W89: =IF(ISBLANK(+M89),"",+M89) | X89: =IF(ISBLANK(+N89),"",+N89) | Y89: =IF(ISBLANK(+F89),"",+F89) | AC89: =IF(ISERROR(IF(OR(Z89="nee",Z89=""),"",+Y89*AA89)),"",IF(OR(Z89="nee",Z89=""),"",+Y89*AA89)) | AD89: =IF(ISERROR((AC89*24*365)/1000),"",(AC89*24*365)/1000) | AE89: =IF(ISERROR(+AD89*tariefKwh*7),0,+AD89*tariefKwh*7) -> 0
I90: =G90*(1-H90) -> 0 | J90: =IF(ISERROR(+I90*F90),"",+I90*F90) -> 0 | M90: =IF(ISBLANK(+C90),"",+C90) | N90: =IF(ISBLANK(+D90),"",+D90) | O90: =IF(ISBLANK(+F90),"",+F90) | S90: =IF(ISERROR(+Q90*(1-(R90))),"",+Q90*(1-(R90))) -> 0 | T90: =IF(ISERROR(+S90*O90*7),0,+S90*O90*7) -> 0 | W90: =IF(ISBLANK(+M90),"",+M90) | X90: =IF(ISBLANK(+N90),"",+N90) | Y90: =IF(ISBLANK(+F90),"",+F90) | AC90: =IF(ISERROR(IF(OR(Z90="nee",Z90=""),"",+Y90*AA90)),"",IF(OR(Z90="nee",Z90=""),"",+Y90*AA90)) | AD90: =IF(ISERROR((AC90*24*365)/1000),"",(AC90*24*365)/1000) | AE90: =IF(ISERROR(+AD90*tariefKwh*7),0,+AD90*tariefKwh*7) -> 0
I91: =G91*(1-H91) -> 0 | J91: =IF(ISERROR(+I91*F91),"",+I91*F91) -> 0 | M91: =IF(ISBLANK(+C91),"",+C91) | N91: =IF(ISBLANK(+D91),"",+D91) | O91: =IF(ISBLANK(+F91),"",+F91) | S91: =IF(ISERROR(+Q91*(1-(R91))),"",+Q91*(1-(R91))) -> 0 | T91: =IF(ISERROR(+S91*O91*7),0,+S91*O91*7) -> 0 | W91: =IF(ISBLANK(+M91),"",+M91) | X91: =IF(ISBLANK(+N91),"",+N91) | Y91: =IF(ISBLANK(+F91),"",+F91) | AC91: =IF(ISERROR(IF(OR(Z91="nee",Z91=""),"",+Y91*AA91)),"",IF(OR(Z91="nee",Z91=""),"",+Y91*AA91)) | AD91: =IF(ISERROR((AC91*24*365)/1000),"",(AC91*24*365)/1000) | AE91: =IF(ISERROR(+AD91*tariefKwh*7),0,+AD91*tariefKwh*7) -> 0
C92: N.B.: Indien voor dit bouwblok meer regels benodig zijn, graag dit verzoek via de Nota van Inlichtingen bekend te maken. Een aangepast model wordt dan gepubliceerd.
B94: 4b | C94: =VLOOKUP(B94,$B$10:$D$26,2,FALSE) -> Variant 4: Licentie(s)LAN Access | D94: =VLOOKUP(C94,$B$10:$D$26,2,FALSE) -> #N/A | E94: =VLOOKUP(D94,$B$10:$D$26,2,FALSE) -> #N/A | J94: Totaalprijs Aanschaf Licenties | M94: =IF(E95="Subscription","Subscription","Onderhoud & Support") -> Onderhoud & Support | T94: ="Totaalprijs "&M94&" Licentie" -> Totaalprijs Onderhoud & Support Licentie
C95: Grondslag licentie: | F95: Gele velden invullen(!) | J95: =SUM(J97:J99) -> 0 | T95: =SUM(T97:T99) -> 0
C96: Artikelnummer | D96: Artikelomschrijving | E96: Merknaam | F96: Benodigd aantal in bouwblok | G96: Listprijs aanschaf per stuk in € | H96: Kortings- percentage | I96: Listprijs per stuk incl. korting | J96: Prijs totaal incl. korting | K96: Listprijs aanschaf per stuk in $ | M96: Artikelnummer | N96: Artikelomschrijving | O96: Benodigd aantal in bouwblok | P96: Van toepassing ja / nee | Q96: Listprijs Onderhoud & Support per stuk in € | R96: Kortings- percentage | S96: Listprijs Onderhoud & Support per stuk incl. korting | T96: Prijs 7 jaren totaal incl. korting | U96: Listprijs aanschaf per stuk in $
I97: =G97*(1-H97) -> 0 | J97: =IF(ISERROR(+I97*F97),"",+I97*F97) -> 0 | M97: =IF(ISBLANK(+C97),"",+C97) | N97: =IF(ISBLANK(+D97),"",+D97) | O97: =IF(ISBLANK(+F97),"",+F97) | S97: =IF(ISERROR(+Q97*(1-(R97))),"",+Q97*(1-(R97))) -> 0 | T97: =IF(ISERROR(+S97*O97*7),0,+S97*O97*7) -> 0
I98: =G98*(1-H98) -> 0 | J98: =IF(ISERROR(+I98*F98),"",+I98*F98) -> 0 | M98: =IF(ISBLANK(+C98),"",+C98) | N98: =IF(ISBLANK(+D98),"",+D98) | O98: =IF(ISBLANK(+F98),"",+F98) | S98: =IF(ISERROR(+Q98*(1-(R98))),"",+Q98*(1-(R98))) -> 0 | T98: =IF(ISERROR(+S98*O98*7),0,+S98*O98*7) -> 0
I99: =G99*(1-H99) -> 0 | J99: =IF(ISERROR(+I99*F99),"",+I99*F99) -> 0 | M99: =IF(ISBLANK(+C99),"",+C99) | N99: =IF(ISBLANK(+D99),"",+D99) | O99: =IF(ISBLANK(+F99),"",+F99) | S99: =IF(ISERROR(+Q99*(1-(R99))),"",+Q99*(1-(R99))) -> 0 | T99: =IF(ISERROR(+S99*O99*7),0,+S99*O99*7) -> 0
B102: 5a | C102: =VLOOKUP(B102,$B$10:$D$26,2,FALSE) -> Variant 5 LAN access | M102: Onderhoud & Support | W102: TCO-energie
C103: Aanschaf | E103: ="LAN "&LEFT(B102,1)&" : " -> LAN 5 : | I103: Subtotaal | J103: =SUM(J105:J109) -> 0 | S103: Subtotaal | T103: =SUM(T105:T109) -> 0 | AD103: Subtotaal | AE103: =SUM(AE105:AE109) -> 0
C104: Artikelnummer | D104: Artikelomschrijving | E104: Merknaam | F104: Benodigd aantal in bouwblok | G104: Listprijs aanschaf per stuk in € | H104: Kortings- percentage | I104: Listprijs per stuk incl. korting | J104: Prijs totaal incl. korting | K104: Listprijs aanschaf per stuk in $ | M104: Artikelnummer | N104: Artikelomschrijving | O104: Benodigd aantal in bouwblok | P104: Van toepassing ja / nee | Q104: Listprijs Onderhoud & Support per stuk in € | R104: Kortings- percentage | S104: Listprijs Onderhoud & Support per stuk incl. korting | T104: Prijs 7 jaren totaal incl. korting | U104: Listprijs aanschaf per stuk in $ | W104: Artikelnummer | X104: Artikelomschrijving | Y104: Benodigd aantal in bouwblok | Z104: Van toepassing ja / nee | AA104: Normatief gebruik stroom in watt per eenheid | AB104: Verwijzing naar documentatie voor stroomverbuik | AC104: Normatief gebruik stroom in watt per eenheid | AD104: Totaal op jaarbasis in Kwh x24x365/1000 | AE104: Totaal kosten 7 JAREN stroomverbruik
I105: =G105*(1-H105) -> 0 | J105: =IF(ISERROR(+I105*F105),"",+I105*F105) -> 0 | M105: =IF(ISBLANK(+C105),"",+C105) | N105: =IF(ISBLANK(+D105),"",+D105) | O105: =IF(ISBLANK(+F105),"",+F105) | S105: =IF(ISERROR(+Q105*(1-(R105))),"",+Q105*(1-(R105))) -> 0 | T105: =IF(ISERROR(+S105*O105*7),0,+S105*O105*7) -> 0 | W105: =IF(ISBLANK(+M105),"",+M105) | X105: =IF(ISBLANK(+N105),"",+N105) | Y105: =IF(ISBLANK(+F105),"",+F105) | AC105: =IF(ISERROR(IF(OR(Z105="nee",Z105=""),"",+Y105*AA105)),"",IF(OR(Z105="nee",Z105=""),"",+Y105*AA105)) | AD105: =IF(ISERROR((AC105*24*365)/1000),"",(AC105*24*365)/1000) | AE105: =IF(ISERROR(+AD105*tariefKwh*7),0,+AD105*tariefKwh*7) -> 0
I106: =G106*(1-H106) -> 0 | J106: =IF(ISERROR(+I106*F106),"",+I106*F106) -> 0 | M106: =IF(ISBLANK(+C106),"",+C106) | N106: =IF(ISBLANK(+D106),"",+D106) | O106: =IF(ISBLANK(+F106),"",+F106) | S106: =IF(ISERROR(+Q106*(1-(R106))),"",+Q106*(1-(R106))) -> 0 | T106: =IF(ISERROR(+S106*O106*7),0,+S106*O106*7) -> 0 | W106: =IF(ISBLANK(+M106),"",+M106) | X106: =IF(ISBLANK(+N106),"",+N106) | Y106: =IF(ISBLANK(+F106),"",+F106) | AC106: =IF(ISERROR(IF(OR(Z106="nee",Z106=""),"",+Y106*AA106)),"",IF(OR(Z106="nee",Z106=""),"",+Y106*AA106)) | AD106: =IF(ISERROR((AC106*24*365)/1000),"",(AC106*24*365)/1000) | AE106: =IF(ISERROR(+AD106*tariefKwh*7),0,+AD106*tariefKwh*7) -> 0
I107: =G107*(1-H107) -> 0 | J107: =IF(ISERROR(+I107*F107),"",+I107*F107) -> 0 | M107: =IF(ISBLANK(+C107),"",+C107) | N107: =IF(ISBLANK(+D107),"",+D107) | O107: =IF(ISBLANK(+F107),"",+F107) | S107: =IF(ISERROR(+Q107*(1-(R107))),"",+Q107*(1-(R107))) -> 0 | T107: =IF(ISERROR(+S107*O107*7),0,+S107*O107*7) -> 0 | W107: =IF(ISBLANK(+M107),"",+M107) | X107: =IF(ISBLANK(+N107),"",+N107) | Y107: =IF(ISBLANK(+F107),"",+F107) | AC107: =IF(ISERROR(IF(OR(Z107="nee",Z107=""),"",+Y107*AA107)),"",IF(OR(Z107="nee",Z107=""),"",+Y107*AA107)) | AD107: =IF(ISERROR((AC107*24*365)/1000),"",(AC107*24*365)/1000) | AE107: =IF(ISERROR(+AD107*tariefKwh*7),0,+AD107*tariefKwh*7) -> 0
I108: =G108*(1-H108) -> 0 | J108: =IF(ISERROR(+I108*F108),"",+I108*F108) -> 0 | M108: =IF(ISBLANK(+C108),"",+C108) | N108: =IF(ISBLANK(+D108),"",+D108) | O108: =IF(ISBLANK(+F108),"",+F108) | S108: =IF(ISERROR(+Q108*(1-(R108))),"",+Q108*(1-(R108))) -> 0 | T108: =IF(ISERROR(+S108*O108*7),0,+S108*O108*7) -> 0 | W108: =IF(ISBLANK(+M108),"",+M108) | X108: =IF(ISBLANK(+N108),"",+N108) | Y108: =IF(ISBLANK(+F108),"",+F108) | AC108: =IF(ISERROR(IF(OR(Z108="nee",Z108=""),"",+Y108*AA108)),"",IF(OR(Z108="nee",Z108=""),"",+Y108*AA108)) | AD108: =IF(ISERROR((AC108*24*365)/1000),"",(AC108*24*365)/1000) | AE108: =IF(ISERROR(+AD108*tariefKwh*7),0,+AD108*tariefKwh*7) -> 0
I109: =G109*(1-H109) -> 0 | J109: =IF(ISERROR(+I109*F109),"",+I109*F109) -> 0 | M109: =IF(ISBLANK(+C109),"",+C109) | N109: =IF(ISBLANK(+D109),"",+D109) | O109: =IF(ISBLANK(+F109),"",+F109) | S109: =IF(ISERROR(+Q109*(1-(R109))),"",+Q109*(1-(R109))) -> 0 | T109: =IF(ISERROR(+S109*O109*7),0,+S109*O109*7) -> 0 | W109: =IF(ISBLANK(+M109),"",+M109) | X109: =IF(ISBLANK(+N109),"",+N109) | Y109: =IF(ISBLANK(+F109),"",+F109) | AC109: =IF(ISERROR(IF(OR(Z109="nee",Z109=""),"",+Y109*AA109)),"",IF(OR(Z109="nee",Z109=""),"",+Y109*AA109)) | AD109: =IF(ISERROR((AC109*24*365)/1000),"",(AC109*24*365)/1000) | AE109: =IF(ISERROR(+AD109*tariefKwh*7),0,+AD109*tariefKwh*7) -> 0
C110: N.B.: Indien voor dit bouwblok meer regels benodig zijn, graag dit verzoek via de Nota van Inlichtingen bekend te maken. Een aangepast model wordt dan gepubliceerd.
B112: 5b | C112: =VLOOKUP(B112,$B$10:$D$26,2,FALSE) -> Variant 5: Licentie(s) LAN Access | D112: =VLOOKUP(C112,$B$10:$D$26,2,FALSE) -> #N/A | E112: =VLOOKUP(D112,$B$10:$D$26,2,FALSE) -> #N/A | J112: Totaalprijs Aanschaf Licenties | M112: =IF(E113="Subscription","Subscription","Onderhoud & Support") -> Onderhoud & Support | T112: ="Totaalprijs "&M112&" Licentie" -> Totaalprijs Onderhoud & Support Licentie
C113: Grondslag licentie: | F113: Gele velden invullen(!) | J113: =SUM(J115:J117) -> 0 | T113: =SUM(T115:T117) -> 0
C114: Artikelnummer | D114: Artikelomschrijving | E114: Merknaam | F114: Benodigd aantal in bouwblok | G114: Listprijs aanschaf per stuk in € | H114: Kortings- percentage | I114: Listprijs per stuk incl. korting | J114: Prijs totaal incl. korting | K114: Listprijs aanschaf per stuk in $ | M114: Artikelnummer | N114: Artikelomschrijving | O114: Benodigd aantal in bouwblok | P114: Van toepassing ja / nee | Q114: Listprijs Onderhoud & Support per stuk in € | R114: Kortings- percentage | S114: Listprijs Onderhoud & Support per stuk incl. korting | T114: Prijs 7 jaren totaal incl. korting | U114: Listprijs aanschaf per stuk in $
I115: =G115*(1-H115) -> 0 | J115: =IF(ISERROR(+I115*F115),"",+I115*F115) -> 0 | M115: =IF(ISBLANK(+C115),"",+C115) | N115: =IF(ISBLANK(+D115),"",+D115) | O115: =IF(ISBLANK(+F115),"",+F115) | S115: =IF(ISERROR(+Q115*(1-(R115))),"",+Q115*(1-(R115))) -> 0 | T115: =IF(ISERROR(+S115*O115*7),0,+S115*O115*7) -> 0
I116: =G116*(1-H116) -> 0 | J116: =IF(ISERROR(+I116*F116),"",+I116*F116) -> 0 | M116: =IF(ISBLANK(+C116),"",+C116) | N116: =IF(ISBLANK(+D116),"",+D116) | O116: =IF(ISBLANK(+F116),"",+F116) | S116: =IF(ISERROR(+Q116*(1-(R116))),"",+Q116*(1-(R116))) -> 0 | T116: =IF(ISERROR(+S116*O116*7),0,+S116*O116*7) -> 0
I117: =G117*(1-H117) -> 0 | J117: =IF(ISERROR(+I117*F117),"",+I117*F117) -> 0 | M117: =IF(ISBLANK(+C117),"",+C117) | N117: =IF(ISBLANK(+D117),"",+D117) | O117: =IF(ISBLANK(+F117),"",+F117) | S117: =IF(ISERROR(+Q117*(1-(R117))),"",+Q117*(1-(R117))) -> 0 | T117: =IF(ISERROR(+S117*O117*7),0,+S117*O117*7) -> 0
...

Sheet E. Bouwblok 5 Integratie A
A1: =D12 -> Integratie A1 :
A2: =D15 -> Integratie A2 : | C2: =Samenvatting!B2 -> Europese openbare aanbesteding
A3: =D18 -> Integratie A3 : | C3: =Samenvatting!B3 -> Vervanging LAN omgeving
A4: =D21 -> Integratie A4 : | C4: E. Bouwblok 5 Integratie A: WAN-koppeling & Decentrale distributie
A5: =D24 -> Integratie A5 : | C5: =Samenvatting!B5 -> IUC24-009
A6: =D27 -> Integratie A6 : | C6: (Prijzen exclusief BTW)
A7: =D30 -> Integratie A7 :
A8: =D33 -> Integratie A8 :
E9: Aanschaf | F9: O&S | G9: TCO-energie | H9: Totaal
B10: 1a | C10: Variant 1, Integratie Decentrale WAN-koppeling & Distributie | E10: =J37 -> 0 | F10: =T37 -> 0 | G10: =AE37 -> 0 | H10: =SUM(E10:G10) -> 0
B11: 1b | C11: Variant 1: Licentie(s) Integratie WAN-koppeling & Distributie | E11: =J47 -> 0 | F11: =T47 -> 0 | G11: n.v.t. | H11: =SUM(E11:G11) -> 0
C12: Totaal | D12: =E37&G37 -> Integratie A1 : | E12: =SUM(E10:E11) -> 0 | F12: =SUM(F10:F11) -> 0 | G12: =SUM(G10:G11) -> 0 | H12: =SUM(H10:H11) -> 0
B13: 2a | C13: Variant 2, Integratie Decentrale WAN-koppeling & Distributie | E13: =J55 -> 0 | F13: =T55 -> 0 | G13: =AE55 -> 0 | H13: =SUM(E13:G13) -> 0
B14: 2b | C14: Variant 2: Licentie(s) integratie WAN-koppeling & Distributie | E14: =J65 -> 0 | F14: =T65 -> 0 | G14: n.v.t. | H14: =SUM(E14:G14) -> 0
C15: Totaal | D15: =E55&G55 -> Integratie A2 : | E15: =SUM(E13:E14) -> 0 | F15: =SUM(F13:F14) -> 0 | G15: =SUM(G13:G14) -> 0 | H15: =SUM(H13:H14) -> 0
B16: 3a | C16: Variant 3, Integratie Decentrale WAN-koppeling & Distributie | E16: =J73 -> 0 | F16: =T73 -> 0 | G16: =AE73 -> 0 | H16: =SUM(E16:G16) -> 0
B17: 3b | C17: Variant 3: Licentie(s) integratie WAN-koppeling & Distributie | E17: =J83 -> 0 | F17: =T83 -> 0 | G17: n.v.t. | H17: =SUM(E17:G17) -> 0
C18: Totaal | D18: =E73&G73 -> Integratie A3 : | E18: =SUM(E16:E17) -> 0 | F18: =SUM(F16:F17) -> 0 | G18: =SUM(G16:G17) -> 0 | H18: =SUM(H16:H17) -> 0
B19: 4a | C19: Variant 4, Integratie Decentrale WAN-koppeling & Distributie | E19: =J91 -> 0 | F19: =T91 -> 0 | G19: =AE91 -> 0 | H19: =SUM(E19:G19) -> 0
B20: 4b | C20: Variant 4: Licentie(s) integratie WAN-koppeling & Distributie | E20: =J101 -> 0 | F20: =T101 -> 0 | G20: n.v.t. | H20: =SUM(E20:G20) -> 0
C21: Totaal | D21: =E91&G91 -> Integratie A4 : | E21: =SUM(E19:E20) -> 0 | F21: =SUM(F19:F20) -> 0 | G21: =SUM(G19:G20) -> 0 | H21: =SUM(H19:H20) -> 0
B22: 5a | C22: Variant 5, Integratie Decentrale WAN-koppeling & Distributie | E22: =J109 -> 900 | F22: =T109 -> 0 | G22: =AE109 -> 0 | H22: =SUM(E22:G22) -> 900
B23: 5b | C23: Variant 5: Licentie(s) Integratie WAN-koppeling & Distributie | E23: =J119 -> 0 | F23: =T119 -> 0 | G23: n.v.t. | H23: =SUM(E23:G23) -> 0
C24: Totaal | D24: =E109&G109 -> Integratie A5 : | E24: =SUM(E22:E23) -> 900 | F24: =SUM(F22:F23) -> 0 | G24: =SUM(G22:G23) -> 0 | H24: =SUM(H22:H23) -> 900
B25: 6a | C25: Variant 6, Integratie Decentrale WAN-koppeling & Distributie | E25: =J127 -> 0 | F25: =T127 -> 0 | G25: =AE127 -> 0 | H25: =SUM(E25:G25) -> 0
B26: 6b | C26: Variant 6: Licentie(s) integratie WAN-koppeling & Distributie | E26: =J137 -> 0 | F26: =T137 -> 0 | G26: n.v.t. | H26: =SUM(E26:G26) -> 0
C27: Totaal | D27: =E127&G127 -> Integratie A6 : | E27: =SUM(E25:E26) -> 0 | F27: =SUM(F25:F26) -> 0 | G27: =SUM(G25:G26) -> 0 | H27: =SUM(H25:H26) -> 0
B28: 7a | C28: Variant 7, Integratie Decentrale WAN-koppeling & Distributie | E28: =J145 -> 0 | F28: =T145 -> 0 | G28: =AE145 -> 0 | H28: =SUM(E28:G28) -> 0
B29: 7b | C29: Variant 7: Licentie(s) integratie WAN-koppeling & Distributie | E29: =J155 -> 0 | F29: =T155 -> 0 | G29: n.v.t. | H29: =SUM(E29:G29) -> 0
C30: Totaal | D30: =E145&G145 -> Integratie A7 : | E30: =SUM(E28:E29) -> 0 | F30: =SUM(F28:F29) -> 0 | G30: =SUM(G28:G29) -> 0 | H30: =SUM(H28:H29) -> 0
B31: 8a | C31: Variant 8, Integratie Decentrale WAN-koppeling & Distributie | E31: =J163 -> 0 | F31: =T163 -> 0 | G31: =AE163 -> 0 | H31: =SUM(E31:G31) -> 0
B32: 8b | C32: Variant 8: Licentie(s) integratie WAN-koppeling & Distributie | E32: =J173 -> 0 | F32: =T173 -> 0 | G32: n.v.t. | H32: =SUM(E32:G32) -> 0
C33: Totaal | D33: =E163&G163 -> Integratie A8 : | E33: =SUM(E31:E32) -> 0 | F33: =SUM(F31:F32) -> 0 | G33: =SUM(G31:G32) -> 0 | H33: =SUM(H31:H32) -> 0
B36: 1a | C36: =VLOOKUP(B36,$B$10:$D$32,2,FALSE) -> Variant 1, Integratie Decentrale WAN-koppeling & Distributie | G36: Naam Variant | M36: Onderhoud & Support | W36: TCO-energie
C37: Aanschaf | E37: ="Integratie A"&LEFT(B36,1)&" : " -> Integratie A1 : | I37: Subtotaal | J37: =SUM(J39:J43) -> 0 | S37: Subtotaal | T37: =SUM(T39:T43) -> 0 | AD37: Subtotaal | AE37: =SUM(AE39:AE43) -> 0
C38: Artikelnummer | D38: Artikelomschrijving | E38: Merknaam | F38: Benodigd aantal in bouwblok | G38: Listprijs aanschaf per stuk in € | H38: Kortings- percentage | I38: Listprijs per stuk incl. korting | J38: Prijs totaal incl. korting | K38: Listprijs aanschaf per stuk in $ | M38: Artikelnummer | N38: Artikelomschrijving | O38: Benodigd aantal in bouwblok | P38: Van toepassing ja / nee | Q38: Listprijs Onderhoud & Support per stuk in € | R38: Kortings- percentage | S38: Listprijs Onderhoud & Support per stuk incl. korting | T38: Prijs 7 jaren totaal incl. korting | U38: Listprijs aanschaf per stuk in $ | W38: Artikelnummer | X38: Artikelomschrijving | Y38: Benodigd aantal in bouwblok | Z38: Van toepassing ja / nee | AA38: Normatief gebruik stroom in watt per eenheid | AB38: Verwijzing naar documentatie voor stroomverbuik | AC38: Normatief gebruik stroom in watt per eenheid | AD38: Totaal op jaarbasis in Kwh x24x365/1000 | AE38: Totaal kosten 7 JAREN stroomverbruik
I39: =G39*(1-H39) -> 0 | J39: =IF(ISERROR(+I39*F39),"",+I39*F39) -> 0 | M39: =IF(ISBLANK(+C39),"",+C39) | N39: =IF(ISBLANK(+D39),"",+D39) | O39: =IF(ISBLANK(+F39),"",+F39) | S39: =IF(ISERROR(+Q39*(1-(R39))),"",+Q39*(1-(R39))) -> 0 | T39: =IF(ISERROR(+S39*O39*7),0,+S39*O39*7) -> 0 | W39: =IF(ISBLANK(+M39),"",+M39) | X39: =IF(ISBLANK(+N39),"",+N39) | Y39: =IF(ISBLANK(+F39),"",+F39) | AC39: =IF(ISERROR(IF(OR(Z39="nee",Z39=""),"",+Y39*AA39)),"",IF(OR(Z39="nee",Z39=""),"",+Y39*AA39)) | AD39: =IF(ISERROR((AC39*24*365)/1000),"",(AC39*24*365)/1000) | AE39: =IF(ISERROR(+AD39*tariefKwh*7),0,+AD39*tariefKwh*7) -> 0
I40: =G40*(1-H40) -> 0 | J40: =IF(ISERROR(+I40*F40),"",+I40*F40) -> 0 | M40: =IF(ISBLANK(+C40),"",+C40) | N40: =IF(ISBLANK(+D40),"",+D40) | O40: =IF(ISBLANK(+F40),"",+F40) | S40: =IF(ISERROR(+Q40*(1-(R40))),"",+Q40*(1-(R40))) -> 0 | T40: =IF(ISERROR(+S40*O40*7),0,+S40*O40*7) -> 0 | W40: =IF(ISBLANK(+M40),"",+M40) | X40: =IF(ISBLANK(+N40),"",+N40) | Y40: =IF(ISBLANK(+F40),"",+F40) | AC40: =IF(ISERROR(IF(OR(Z40="nee",Z40=""),"",+Y40*AA40)),"",IF(OR(Z40="nee",Z40=""),"",+Y40*AA40)) | AD40: =IF(ISERROR((AC40*24*365)/1000),"",(AC40*24*365)/1000) | AE40: =IF(ISERROR(+AD40*tariefKwh*7),0,+AD40*tariefKwh*7) -> 0
I41: =G41*(1-H41) -> 0 | J41: =IF(ISERROR(+I41*F41),"",+I41*F41) -> 0 | M41: =IF(ISBLANK(+C41),"",+C41) | N41: =IF(ISBLANK(+D41),"",+D41) | O41: =IF(ISBLANK(+F41),"",+F41) | S41: =IF(ISERROR(+Q41*(1-(R41))),"",+Q41*(1-(R41))) -> 0 | T41: =IF(ISERROR(+S41*O41*7),0,+S41*O41*7) -> 0 | W41: =IF(ISBLANK(+M41),"",+M41) | X41: =IF(ISBLANK(+N41),"",+N41) | Y41: =IF(ISBLANK(+F41),"",+F41) | AC41: =IF(ISERROR(IF(OR(Z41="nee",Z41=""),"",+Y41*AA41)),"",IF(OR(Z41="nee",Z41=""),"",+Y41*AA41)) | AD41: =IF(ISERROR((AC41*24*365)/1000),"",(AC41*24*365)/1000) | AE41: =IF(ISERROR(+AD41*tariefKwh*7),0,+AD41*tariefKwh*7) -> 0
I42: =G42*(1-H42) -> 0 | J42: =IF(ISERROR(+I42*F42),"",+I42*F42) -> 0 | M42: =IF(ISBLANK(+C42),"",+C42) | N42: =IF(ISBLANK(+D42),"",+D42) | O42: =IF(ISBLANK(+F42),"",+F42) | S42: =IF(ISERROR(+Q42*(1-(R42))),"",+Q42*(1-(R42))) -> 0 | T42: =IF(ISERROR(+S42*O42*7),0,+S42*O42*7) -> 0 | W42: =IF(ISBLANK(+M42),"",+M42) | X42: =IF(ISBLANK(+N42),"",+N42) | Y42: =IF(ISBLANK(+F42),"",+F42) | AC42: =IF(ISERROR(IF(OR(Z42="nee",Z42=""),"",+Y42*AA42)),"",IF(OR(Z42="nee",Z42=""),"",+Y42*AA42)) | AD42: =IF(ISERROR((AC42*24*365)/1000),"",(AC42*24*365)/1000) | AE42: =IF(ISERROR(+AD42*tariefKwh*7),0,+AD42*tariefKwh*7) -> 0
I43: =G43*(1-H43) -> 0 | J43: =IF(ISERROR(+I43*F43),"",+I43*F43) -> 0 | M43: =IF(ISBLANK(+C43),"",+C43) | N43: =IF(ISBLANK(+D43),"",+D43) | O43: =IF(ISBLANK(+F43),"",+F43) | S43: =IF(ISERROR(+Q43*(1-(R43))),"",+Q43*(1-(R43))) -> 0 | T43: =IF(ISERROR(+S43*O43*7),0,+S43*O43*7) -> 0 | W43: =IF(ISBLANK(+M43),"",+M43) | X43: =IF(ISBLANK(+N43),"",+N43) | Y43: =IF(ISBLANK(+F43),"",+F43) | AC43: =IF(ISERROR(IF(OR(Z43="nee",Z43=""),"",+Y43*AA43)),"",IF(OR(Z43="nee",Z43=""),"",+Y43*AA43)) | AD43: =IF(ISERROR((AC43*24*365)/1000),"",(AC43*24*365)/1000) | AE43: =IF(ISERROR(+AD43*tariefKwh*7),0,+AD43*tariefKwh*7) -> 0
C44: N.B.: Indien voor dit bouwblok meer regels benodig zijn, graag dit verzoek via de Nota van Inlichtingen bekend te maken. Een aangepast model wordt dan gepubliceerd.
B46: 1b | C46: =VLOOKUP(B46,$B$10:$D$21,2,FALSE) -> Variant 1: Licentie(s) Integratie WAN-koppeling & Distributie | D46: =VLOOKUP(C46,$B$10:$D$21,2,FALSE) -> #N/A | E46: =VLOOKUP(D46,$B$10:$D$21,2,FALSE) -> #N/A | J46: Totaalprijs Aanschaf Licenties | M46: =IF(E47="Subscription","Subscription","Onderhoud & Support") -> Onderhoud & Support | T46: ="Totaalprijs "&M46&" Licentie" -> Totaalprijs Onderhoud & Support Licentie
C47: Grondslag licentie: | F47: Gele velden invullen(!) | J47: =SUM(J49:J51) -> 0 | T47: =SUM(T49:T51) -> 0
C48: Artikelnummer | D48: Artikelomschrijving | E48: Merknaam | F48: Benodigd aantal in bouwblok | G48: Listprijs aanschaf per stuk in € | H48: Kortings- percentage | I48: Listprijs per stuk incl. korting | J48: Prijs totaal incl. korting | K48: Listprijs aanschaf per stuk in $ | M48: Artikelnummer | N48: Artikelomschrijving | O48: Benodigd aantal in bouwblok | P48: Van toepassing ja / nee | Q48: Listprijs Onderhoud & Support per stuk in € | R48: Kortings- percentage | S48: Listprijs Onderhoud & Support per stuk incl. korting | T48: Prijs 7 jaren totaal incl. korting | U48: Listprijs aanschaf per stuk in $
I49: =G49*(1-H49) -> 0 | J49: =IF(ISERROR(+I49*F49),"",+I49*F49) -> 0 | M49: =IF(ISBLANK(+C49),"",+C49) | N49: =IF(ISBLANK(+D49),"",+D49) | O49: =IF(ISBLANK(+F49),"",+F49) | S49: =IF(ISERROR(+Q49*(1-(R49))),"",+Q49*(1-(R49))) -> 0 | T49: =IF(ISERROR(+S49*O49*7),0,+S49*O49*7) -> 0
I50: =G50*(1-H50) -> 0 | J50: =IF(ISERROR(+I50*F50),"",+I50*F50) -> 0 | M50: =IF(ISBLANK(+C50),"",+C50) | N50: =IF(ISBLANK(+D50),"",+D50) | O50: =IF(ISBLANK(+F50),"",+F50) | S50: =IF(ISERROR(+Q50*(1-(R50))),"",+Q50*(1-(R50))) -> 0 | T50: =IF(ISERROR(+S50*O50*7),0,+S50*O50*7) -> 0
I51: =G51*(1-H51) -> 0 | J51: =IF(ISERROR(+I51*F51),"",+I51*F51) -> 0 | M51: =IF(ISBLANK(+C51),"",+C51) | N51: =IF(ISBLANK(+D51),"",+D51) | O51: =IF(ISBLANK(+F51),"",+F51) | S51: =IF(ISERROR(+Q51*(1-(R51))),"",+Q51*(1-(R51))) -> 0 | T51: =IF(ISERROR(+S51*O51*7),0,+S51*O51*7) -> 0
B54: 2a | C54: =VLOOKUP(B54,$B$10:$D$21,2,FALSE) -> Variant 2, Integratie Decentrale WAN-koppeling & Distributie | G54: Naam Variant | M54: Onderhoud & Support | W54: TCO-energie
C55: Aanschaf | E55: ="Integratie A"&LEFT(B54,1)&" : " -> Integratie A2 : | I55: Subtotaal | J55: =SUM(J57:J61) -> 0 | S55: Subtotaal | T55: =SUM(T57:T61) -> 0 | AD55: Subtotaal | AE55: =SUM(AE57:AE61) -> 0
C56: Artikelnummer | D56: Artikelomschrijving | E56: Merknaam | F56: Benodigd aantal in bouwblok | G56: Listprijs aanschaf per stuk in € | H56: Kortings- percentage | I56: Listprijs per stuk incl. korting | J56: Prijs totaal incl. korting | K56: Listprijs aanschaf per stuk in $ | M56: Artikelnummer | N56: Artikelomschrijving | O56: Benodigd aantal in bouwblok | P56: Van toepassing ja / nee | Q56: Listprijs Onderhoud & Support per stuk in € | R56: Kortings- percentage | S56: Listprijs Onderhoud & Support per stuk incl. korting | T56: Prijs 7 jaren totaal incl. korting | U56: Listprijs aanschaf per stuk in $ | W56: Artikelnummer | X56: Artikelomschrijving | Y56: Benodigd aantal in bouwblok | Z56: Van toepassing ja / nee | AA56: Normatief gebruik stroom in watt per eenheid | AB56: Verwijzing naar documentatie voor stroomverbuik | AC56: Normatief gebruik stroom in watt per eenheid | AD56: Totaal op jaarbasis in Kwh x24x365/1000 | AE56: Totaal kosten 7 JAREN stroomverbruik
I57: =G57*(1-H57) -> 0 | J57: =IF(ISERROR(+I57*F57),"",+I57*F57) -> 0 | M57: =IF(ISBLANK(+C57),"",+C57) | N57: =IF(ISBLANK(+D57),"",+D57) | O57: =IF(ISBLANK(+F57),"",+F57) | S57: =IF(ISERROR(+Q57*(1-(R57))),"",+Q57*(1-(R57))) -> 0 | T57: =IF(ISERROR(+S57*O57*7),0,+S57*O57*7) -> 0 | W57: =IF(ISBLANK(+M57),"",+M57) | X57: =IF(ISBLANK(+N57),"",+N57) | Y57: =IF(ISBLANK(+F57),"",+F57) | AC57: =IF(ISERROR(IF(OR(Z57="nee",Z57=""),"",+Y57*AA57)),"",IF(OR(Z57="nee",Z57=""),"",+Y57*AA57)) | AD57: =IF(ISERROR((AC57*24*365)/1000),"",(AC57*24*365)/1000) | AE57: =IF(ISERROR(+AD57*tariefKwh*7),0,+AD57*tariefKwh*7) -> 0
I58: =G58*(1-H58) -> 0 | J58: =IF(ISERROR(+I58*F58),"",+I58*F58) -> 0 | M58: =IF(ISBLANK(+C58),"",+C58) | N58: =IF(ISBLANK(+D58),"",+D58) | O58: =IF(ISBLANK(+F58),"",+F58) | S58: =IF(ISERROR(+Q58*(1-(R58))),"",+Q58*(1-(R58))) -> 0 | T58: =IF(ISERROR(+S58*O58*7),0,+S58*O58*7) -> 0 | W58: =IF(ISBLANK(+M58),"",+M58) | X58: =IF(ISBLANK(+N58),"",+N58) | Y58: =IF(ISBLANK(+F58),"",+F58) | AC58: =IF(ISERROR(IF(OR(Z58="nee",Z58=""),"",+Y58*AA58)),"",IF(OR(Z58="nee",Z58=""),"",+Y58*AA58)) | AD58: =IF(ISERROR((AC58*24*365)/1000),"",(AC58*24*365)/1000) | AE58: =IF(ISERROR(+AD58*tariefKwh*7),0,+AD58*tariefKwh*7) -> 0
I59: =G59*(1-H59) -> 0 | J59: =IF(ISERROR(+I59*F59),"",+I59*F59) -> 0 | M59: =IF(ISBLANK(+C59),"",+C59) | N59: =IF(ISBLANK(+D59),"",+D59) | O59: =IF(ISBLANK(+F59),"",+F59) | S59: =IF(ISERROR(+Q59*(1-(R59))),"",+Q59*(1-(R59))) -> 0 | T59: =IF(ISERROR(+S59*O59*7),0,+S59*O59*7) -> 0 | W59: =IF(ISBLANK(+M59),"",+M59) | X59: =IF(ISBLANK(+N59),"",+N59) | Y59: =IF(ISBLANK(+F59),"",+F59) | AC59: =IF(ISERROR(IF(OR(Z59="nee",Z59=""),"",+Y59*AA59)),"",IF(OR(Z59="nee",Z59=""),"",+Y59*AA59)) | AD59: =IF(ISERROR((AC59*24*365)/1000),"",(AC59*24*365)/1000) | AE59: =IF(ISERROR(+AD59*tariefKwh*7),0,+AD59*tariefKwh*7) -> 0
I60: =G60*(1-H60) -> 0 | J60: =IF(ISERROR(+I60*F60),"",+I60*F60) -> 0 | M60: =IF(ISBLANK(+C60),"",+C60) | N60: =IF(ISBLANK(+D60),"",+D60) | O60: =IF(ISBLANK(+F60),"",+F60) | S60: =IF(ISERROR(+Q60*(1-(R60))),"",+Q60*(1-(R60))) -> 0 | T60: =IF(ISERROR(+S60*O60*7),0,+S60*O60*7) -> 0 | W60: =IF(ISBLANK(+M60),"",+M60) | X60: =IF(ISBLANK(+N60),"",+N60) | Y60: =IF(ISBLANK(+F60),"",+F60) | AC60: =IF(ISERROR(IF(OR(Z60="nee",Z60=""),"",+Y60*AA60)),"",IF(OR(Z60="nee",Z60=""),"",+Y60*AA60)) | AD60: =IF(ISERROR((AC60*24*365)/1000),"",(AC60*24*365)/1000) | AE60: =IF(ISERROR(+AD60*tariefKwh*7),0,+AD60*tariefKwh*7) -> 0
I61: =G61*(1-H61) -> 0 | J61: =IF(ISERROR(+I61*F61),"",+I61*F61) -> 0 | M61: =IF(ISBLANK(+C61),"",+C61) | N61: =IF(ISBLANK(+D61),"",+D61) | O61: =IF(ISBLANK(+F61),"",+F61) | S61: =IF(ISERROR(+Q61*(1-(R61))),"",+Q61*(1-(R61))) -> 0 | T61: =IF(ISERROR(+S61*O61*7),0,+S61*O61*7) -> 0 | W61: =IF(ISBLANK(+M61),"",+M61) | X61: =IF(ISBLANK(+N61),"",+N61) | Y61: =IF(ISBLANK(+F61),"",+F61) | AC61: =IF(ISERROR(IF(OR(Z61="nee",Z61=""),"",+Y61*AA61)),"",IF(OR(Z61="nee",Z61=""),"",+Y61*AA61)) | AD61: =IF(ISERROR((AC61*24*365)/1000),"",(AC61*24*365)/1000) | AE61: =IF(ISERROR(+AD61*tariefKwh*7),0,+AD61*tariefKwh*7) -> 0
C62: N.B.: Indien voor dit bouwblok meer regels benodig zijn, graag dit verzoek via de Nota van Inlichtingen bekend te maken. Een aangepast model wordt dan gepubliceerd.
B64: 2b | C64: =VLOOKUP(B64,$B$10:$D$21,2,FALSE) -> Variant 2: Licentie(s) integratie WAN-koppeling & Distributie | D64: =VLOOKUP(C64,$B$10:$D$21,2,FALSE) -> #N/A | E64: =VLOOKUP(D64,$B$10:$D$21,2,FALSE) -> #N/A | J64: Totaalprijs Aanschaf Licenties | M64: =IF(E65="Subscription","Subscription","Onderhoud & Support") -> Onderhoud & Support | T64: ="Totaalprijs "&M64&" Licentie" -> Totaalprijs Onderhoud & Support Licentie
C65: Grondslag licentie: | F65: Gele velden invullen(!) | J65: =SUM(J67:J69) -> 0 | T65: =SUM(T67:T69) -> 0
C66: Artikelnummer | D66: Artikelomschrijving | E66: Merknaam | F66: Benodigd aantal in bouwblok | G66: Listprijs aanschaf per stuk in € | H66: Kortings- percentage | I66: Listprijs per stuk incl. korting | J66: Prijs totaal incl. korting | K66: Listprijs aanschaf per stuk in $ | M66: Artikelnummer | N66: Artikelomschrijving | O66: Benodigd aantal in bouwblok | P66: Van toepassing ja / nee | Q66: Listprijs Onderhoud & Support per stuk in € | R66: Kortings- percentage | S66: Listprijs Onderhoud & Support per stuk incl. korting | T66: Prijs 7 jaren totaal incl. korting | U66: Listprijs aanschaf per stuk in $
I67: =G67*(1-H67) -> 0 | J67: =IF(ISERROR(+I67*F67),"",+I67*F67) -> 0 | M67: =IF(ISBLANK(+C67),"",+C67) | N67: =IF(ISBLANK(+D67),"",+D67) | O67: =IF(ISBLANK(+F67),"",+F67) | S67: =IF(ISERROR(+Q67*(1-(R67))),"",+Q67*(1-(R67))) -> 0 | T67: =IF(ISERROR(+S67*O67*7),0,+S67*O67*7) -> 0
I68: =G68*(1-H68) -> 0 | J68: =IF(ISERROR(+I68*F68),"",+I68*F68) -> 0 | M68: =IF(ISBLANK(+C68),"",+C68) | N68: =IF(ISBLANK(+D68),"",+D68) | O68: =IF(ISBLANK(+F68),"",+F68) | S68: =IF(ISERROR(+Q68*(1-(R68))),"",+Q68*(1-(R68))) -> 0 | T68: =IF(ISERROR(+S68*O68*7),0,+S68*O68*7) -> 0
I69: =G69*(1-H69) -> 0 | J69: =IF(ISERROR(+I69*F69),"",+I69*F69) -> 0 | M69: =IF(ISBLANK(+C69),"",+C69) | N69: =IF(ISBLANK(+D69),"",+D69) | O69: =IF(ISBLANK(+F69),"",+F69) | S69: =IF(ISERROR(+Q69*(1-(R69))),"",+Q69*(1-(R69))) -> 0 | T69: =IF(ISERROR(+S69*O69*7),0,+S69*O69*7) -> 0
B72: 3a | C72: =VLOOKUP(B72,$B$10:$D$21,2,FALSE) -> Variant 3, Integratie Decentrale WAN-koppeling & Distributie | G72: Naam Variant | M72: Onderhoud & Support | W72: TCO-energie
C73: Aanschaf | E73: ="Integratie A"&LEFT(B72,1)&" : " -> Integratie A3 : | I73: Subtotaal | J73: =SUM(J75:J79) -> 0 | S73: Subtotaal | T73: =SUM(T75:T79) -> 0 | AD73: Subtotaal | AE73: =SUM(AE75:AE79) -> 0
C74: Artikelnummer | D74: Artikelomschrijving | E74: Merknaam | F74: Benodigd aantal in bouwblok | G74: Listprijs aanschaf per stuk in € | H74: Kortings- percentage | I74: Listprijs per stuk incl. korting | J74: Prijs totaal incl. korting | K74: Listprijs aanschaf per stuk in $ | M74: Artikelnummer | N74: Artikelomschrijving | O74: Benodigd aantal in bouwblok | P74: Van toepassing ja / nee | Q74: Listprijs Onderhoud & Support per stuk in € | R74: Kortings- percentage | S74: Listprijs Onderhoud & Support per stuk incl. korting | T74: Prijs 7 jaren totaal incl. korting | U74: Listprijs aanschaf per stuk in $ | W74: Artikelnummer | X74: Artikelomschrijving | Y74: Benodigd aantal in bouwblok | Z74: Van toepassing ja / nee | AA74: Normatief gebruik stroom in watt per eenheid | AB74: Verwijzing naar documentatie voor stroomverbuik | AC74: Normatief gebruik stroom in watt per eenheid | AD74: Totaal op jaarbasis in Kwh x24x365/1000 | AE74: Totaal kosten 7 JAREN stroomverbruik
I75: =G75*(1-H75) -> 0 | J75: =IF(ISERROR(+I75*F75),"",+I75*F75) -> 0 | M75: =IF(ISBLANK(+C75),"",+C75) | N75: =IF(ISBLANK(+D75),"",+D75) | O75: =IF(ISBLANK(+F75),"",+F75) | S75: =IF(ISERROR(+Q75*(1-(R75))),"",+Q75*(1-(R75))) -> 0 | T75: =IF(ISERROR(+S75*O75*7),0,+S75*O75*7) -> 0 | W75: =IF(ISBLANK(+M75),"",+M75) | X75: =IF(ISBLANK(+N75),"",+N75) | Y75: =IF(ISBLANK(+F75),"",+F75) | AC75: =IF(ISERROR(IF(OR(Z75="nee",Z75=""),"",+Y75*AA75)),"",IF(OR(Z75="nee",Z75=""),"",+Y75*AA75)) | AD75: =IF(ISERROR((AC75*24*365)/1000),"",(AC75*24*365)/1000) | AE75: =IF(ISERROR(+AD75*tariefKwh*7),0,+AD75*tariefKwh*7) -> 0
I76: =G76*(1-H76) -> 0 | J76: =IF(ISERROR(+I76*F76),"",+I76*F76) -> 0 | M76: =IF(ISBLANK(+C76),"",+C76) | N76: =IF(ISBLANK(+D76),"",+D76) | O76: =IF(ISBLANK(+F76),"",+F76) | S76: =IF(ISERROR(+Q76*(1-(R76))),"",+Q76*(1-(R76))) -> 0 | T76: =IF(ISERROR(+S76*O76*7),0,+S76*O76*7) -> 0 | W76: =IF(ISBLANK(+M76),"",+M76) | X76: =IF(ISBLANK(+N76),"",+N76) | Y76: =IF(ISBLANK(+F76),"",+F76) | AC76: =IF(ISERROR(IF(OR(Z76="nee",Z76=""),"",+Y76*AA76)),"",IF(OR(Z76="nee",Z76=""),"",+Y76*AA76)) | AD76: =IF(ISERROR((AC76*24*365)/1000),"",(AC76*24*365)/1000) | AE76: =IF(ISERROR(+AD76*tariefKwh*7),0,+AD76*tariefKwh*7) -> 0
I77: =G77*(1-H77) -> 0 | J77: =IF(ISERROR(+I77*F77),"",+I77*F77) -> 0 | M77: =IF(ISBLANK(+C77),"",+C77) | N77: =IF(ISBLANK(+D77),"",+D77) | O77: =IF(ISBLANK(+F77),"",+F77) | S77: =IF(ISERROR(+Q77*(1-(R77))),"",+Q77*(1-(R77))) -> 0 | T77: =IF(ISERROR(+S77*O77*7),0,+S77*O77*7) -> 0 | W77: =IF(ISBLANK(+M77),"",+M77) | X77: =IF(ISBLANK(+N77),"",+N77) | Y77: =IF(ISBLANK(+F77),"",+F77) | AC77: =IF(ISERROR(IF(OR(Z77="nee",Z77=""),"",+Y77*AA77)),"",IF(OR(Z77="nee",Z77=""),"",+Y77*AA77)) | AD77: =IF(ISERROR((AC77*24*365)/1000),"",(AC77*24*365)/1000) | AE77: =IF(ISERROR(+AD77*tariefKwh*7),0,+AD77*tariefKwh*7) -> 0
I78: =G78*(1-H78) -> 0 | J78: =IF(ISERROR(+I78*F78),"",+I78*F78) -> 0 | M78: =IF(ISBLANK(+C78),"",+C78) | N78: =IF(ISBLANK(+D78),"",+D78) | O78: =IF(ISBLANK(+F78),"",+F78) | S78: =IF(ISERROR(+Q78*(1-(R78))),"",+Q78*(1-(R78))) -> 0 | T78: =IF(ISERROR(+S78*O78*7),0,+S78*O78*7) -> 0 | W78: =IF(ISBLANK(+M78),"",+M78) | X78: =IF(ISBLANK(+N78),"",+N78) | Y78: =IF(ISBLANK(+F78),"",+F78) | AC78: =IF(ISERROR(IF(OR(Z78="nee",Z78=""),"",+Y78*AA78)),"",IF(OR(Z78="nee",Z78=""),"",+Y78*AA78)) | AD78: =IF(ISERROR((AC78*24*365)/1000),"",(AC78*24*365)/1000) | AE78: =IF(ISERROR(+AD78*tariefKwh*7),0,+AD78*tariefKwh*7) -> 0
I79: =G79*(1-H79) -> 0 | J79: =IF(ISERROR(+I79*F79),"",+I79*F79) -> 0 | M79: =IF(ISBLANK(+C79),"",+C79) | N79: =IF(ISBLANK(+D79),"",+D79) | O79: =IF(ISBLANK(+F79),"",+F79) | S79: =IF(ISERROR(+Q79*(1-(R79))),"",+Q79*(1-(R79))) -> 0 | T79: =IF(ISERROR(+S79*O79*7),0,+S79*O79*7) -> 0 | W79: =IF(ISBLANK(+M79),"",+M79) | X79: =IF(ISBLANK(+N79),"",+N79) | Y79: =IF(ISBLANK(+F79),"",+F79) | AC79: =IF(ISERROR(IF(OR(Z79="nee",Z79=""),"",+Y79*AA79)),"",IF(OR(Z79="nee",Z79=""),"",+Y79*AA79)) | AD79: =IF(ISERROR((AC79*24*365)/1000),"",(AC79*24*365)/1000) | AE79: =IF(ISERROR(+AD79*tariefKwh*7),0,+AD79*tariefKwh*7) -> 0
C80: N.B.: Indien voor dit bouwblok meer regels benodig zijn, graag dit verzoek via de Nota van Inlichtingen bekend te maken. Een aangepast model wordt dan gepubliceerd.
B82: 3b | C82: =VLOOKUP(B82,$B$10:$D$21,2,FALSE) -> Variant 3: Licentie(s) integratie WAN-koppeling & Distributie | D82: =VLOOKUP(C82,$B$10:$D$21,2,FALSE) -> #N/A | E82: =VLOOKUP(D82,$B$10:$D$21,2,FALSE) -> #N/A | J82: Totaalprijs Aanschaf Licenties | M82: =IF(E83="Subscription","Subscription","Onderhoud & Support") -> Onderhoud & Support | T82: ="Totaalprijs "&M82&" Licentie" -> Totaalprijs Onderhoud & Support Licentie
C83: Grondslag licentie: | F83: Gele velden invullen(!) | J83: =SUM(J85:J87) -> 0 | T83: =SUM(T85:T87) -> 0
C84: Artikelnummer | D84: Artikelomschrijving | E84: Merknaam | F84: Benodigd aantal in bouwblok | G84: Listprijs aanschaf per stuk in € | H84: Kortings- percentage | I84: Listprijs per stuk incl. korting | J84: Prijs totaal incl. korting | K84: Listprijs aanschaf per stuk in $ | M84: Artikelnummer | N84: Artikelomschrijving | O84: Benodigd aantal in bouwblok | P84: Van toepassing ja / nee | Q84: Listprijs Onderhoud & Support per stuk in € | R84: Kortings- percentage | S84: Listprijs Onderhoud & Support per stuk incl. korting | T84: Prijs 7 jaren totaal incl. korting | U84: Listprijs aanschaf per stuk in $
I85: =G85*(1-H85) -> 0 | J85: =IF(ISERROR(+I85*F85),"",+I85*F85) -> 0 | M85: =IF(ISBLANK(+C85),"",+C85) | N85: =IF(ISBLANK(+D85),"",+D85) | O85: =IF(ISBLANK(+F85),"",+F85) | S85: =IF(ISERROR(+Q85*(1-(R85))),"",+Q85*(1-(R85))) -> 0 | T85: =IF(ISERROR(+S85*O85*7),0,+S85*O85*7) -> 0
I86: =G86*(1-H86) -> 0 | J86: =IF(ISERROR(+I86*F86),"",+I86*F86) -> 0 | M86: =IF(ISBLANK(+C86),"",+C86) | N86: =IF(ISBLANK(+D86),"",+D86) | O86: =IF(ISBLANK(+F86),"",+F86) | S86: =IF(ISERROR(+Q86*(1-(R86))),"",+Q86*(1-(R86))) -> 0 | T86: =IF(ISERROR(+S86*O86*7),0,+S86*O86*7) -> 0
I87: =G87*(1-H87) -> 0 | J87: =IF(ISERROR(+I87*F87),"",+I87*F87) -> 0 | M87: =IF(ISBLANK(+C87),"",+C87) | N87: =IF(ISBLANK(+D87),"",+D87) | O87: =IF(ISBLANK(+F87),"",+F87) | S87: =IF(ISERROR(+Q87*(1-(R87))),"",+Q87*(1-(R87))) -> 0 | T87: =IF(ISERROR(+S87*O87*7),0,+S87*O87*7) -> 0
B90: 4a | C90: =VLOOKUP(B90,$B$10:$D$21,2,FALSE) -> Variant 4, Integratie Decentrale WAN-koppeling & Distributie | G90: Naam Variant | M90: Onderhoud & Support | W90: TCO-energie
C91: Aanschaf | E91: ="Integratie A"&LEFT(B90,1)&" : " -> Integratie A4 : | I91: Subtotaal | J91: =SUM(J93:J97) -> 0 | S91: Subtotaal | T91: =SUM(T93:T97) -> 0 | AD91: Subtotaal | AE91: =SUM(AE93:AE97) -> 0
C92: Artikelnummer | D92: Artikelomschrijving | E92: Merknaam | F92: Benodigd aantal in bouwblok | G92: Listprijs aanschaf per stuk in € | H92: Kortings- percentage | I92: Listprijs per stuk incl. korting | J92: Prijs totaal incl. korting | K92: Listprijs aanschaf per stuk in $ | M92: Artikelnummer | N92: Artikelomschrijving | O92: Benodigd aantal in bouwblok | P92: Van toepassing ja / nee | Q92: Listprijs Onderhoud & Support per stuk in € | R92: Kortings- percentage | S92: Listprijs Onderhoud & Support per stuk incl. korting | T92: Prijs 7 jaren totaal incl. korting | U92: Listprijs aanschaf per stuk in $ | W92: Artikelnummer | X92: Artikelomschrijving | Y92: Benodigd aantal in bouwblok | Z92: Van toepassing ja / nee | AA92: Normatief gebruik stroom in watt per eenheid | AB92: Verwijzing naar documentatie voor stroomverbuik | AC92: Normatief gebruik stroom in watt per eenheid | AD92: Totaal op jaarbasis in Kwh x24x365/1000 | AE92: Totaal kosten 7 JAREN stroomverbruik
I93: =G93*(1-H93) -> 0 | J93: =IF(ISERROR(+I93*F93),"",+I93*F93) -> 0 | M93: =IF(ISBLANK(+C93),"",+C93) | N93: =IF(ISBLANK(+D93),"",+D93) | O93: =IF(ISBLANK(+F93),"",+F93) | S93: =IF(ISERROR(+Q93*(1-(R93))),"",+Q93*(1-(R93))) -> 0 | T93: =IF(ISERROR(+S93*O93*7),0,+S93*O93*7) -> 0 | W93: =IF(ISBLANK(+M93),"",+M93) | X93: =IF(ISBLANK(+N93),"",+N93) | Y93: =IF(ISBLANK(+F93),"",+F93) | AC93: =IF(ISERROR(IF(OR(Z93="nee",Z93=""),"",+Y93*AA93)),"",IF(OR(Z93="nee",Z93=""),"",+Y93*AA93)) | AD93: =IF(ISERROR((AC93*24*365)/1000),"",(AC93*24*365)/1000) | AE93: =IF(ISERROR(+AD93*tariefKwh*7),0,+AD93*tariefKwh*7) -> 0
I94: =G94*(1-H94) -> 0 | J94: =IF(ISERROR(+I94*F94),"",+I94*F94) -> 0 | M94: =IF(ISBLANK(+C94),"",+C94) | N94: =IF(ISBLANK(+D94),"",+D94) | O94: =IF(ISBLANK(+F94),"",+F94) | S94: =IF(ISERROR(+Q94*(1-(R94))),"",+Q94*(1-(R94))) -> 0 | T94: =IF(ISERROR(+S94*O94*7),0,+S94*O94*7) -> 0 | W94: =IF(ISBLANK(+M94),"",+M94) | X94: =IF(ISBLANK(+N94),"",+N94) | Y94: =IF(ISBLANK(+F94),"",+F94) | AC94: =IF(ISERROR(IF(OR(Z94="nee",Z94=""),"",+Y94*AA94)),"",IF(OR(Z94="nee",Z94=""),"",+Y94*AA94)) | AD94: =IF(ISERROR((AC94*24*365)/1000),"",(AC94*24*365)/1000) | AE94: =IF(ISERROR(+AD94*tariefKwh*7),0,+AD94*tariefKwh*7) -> 0
I95: =G95*(1-H95) -> 0 | J95: =IF(ISERROR(+I95*F95),"",+I95*F95) -> 0 | M95: =IF(ISBLANK(+C95),"",+C95) | N95: =IF(ISBLANK(+D95),"",+D95) | O95: =IF(ISBLANK(+F95),"",+F95) | S95: =IF(ISERROR(+Q95*(1-(R95))),"",+Q95*(1-(R95))) -> 0 | T95: =IF(ISERROR(+S95*O95*7),0,+S95*O95*7) -> 0 | W95: =IF(ISBLANK(+M95),"",+M95) | X95: =IF(ISBLANK(+N95),"",+N95) | Y95: =IF(ISBLANK(+F95),"",+F95) | AC95: =IF(ISERROR(IF(OR(Z95="nee",Z95=""),"",+Y95*AA95)),"",IF(OR(Z95="nee",Z95=""),"",+Y95*AA95)) | AD95: =IF(ISERROR((AC95*24*365)/1000),"",(AC95*24*365)/1000) | AE95: =IF(ISERROR(+AD95*tariefKwh*7),0,+AD95*tariefKwh*7) -> 0
I96: =G96*(1-H96) -> 0 | J96: =IF(ISERROR(+I96*F96),"",+I96*F96) -> 0 | M96: =IF(ISBLANK(+C96),"",+C96) | N96: =IF(ISBLANK(+D96),"",+D96) | O96: =IF(ISBLANK(+F96),"",+F96) | S96: =IF(ISERROR(+Q96*(1-(R96))),"",+Q96*(1-(R96))) -> 0 | T96: =IF(ISERROR(+S96*O96*7),0,+S96*O96*7) -> 0 | W96: =IF(ISBLANK(+M96),"",+M96) | X96: =IF(ISBLANK(+N96),"",+N96) | Y96: =IF(ISBLANK(+F96),"",+F96) | AC96: =IF(ISERROR(IF(OR(Z96="nee",Z96=""),"",+Y96*AA96)),"",IF(OR(Z96="nee",Z96=""),"",+Y96*AA96)) | AD96: =IF(ISERROR((AC96*24*365)/1000),"",(AC96*24*365)/1000) | AE96: =IF(ISERROR(+AD96*tariefKwh*7),0,+AD96*tariefKwh*7) -> 0
I97: =G97*(1-H97) -> 0 | J97: =IF(ISERROR(+I97*F97),"",+I97*F97) -> 0 | M97: =IF(ISBLANK(+C97),"",+C97) | N97: =IF(ISBLANK(+D97),"",+D97) | O97: =IF(ISBLANK(+F97),"",+F97) | S97: =IF(ISERROR(+Q97*(1-(R97))),"",+Q97*(1-(R97))) -> 0 | T97: =IF(ISERROR(+S97*O97*7),0,+S97*O97*7) -> 0 | W97: =IF(ISBLANK(+M97),"",+M97) | X97: =IF(ISBLANK(+N97),"",+N97) | Y97: =IF(ISBLANK(+F97),"",+F97) | AC97: =IF(ISERROR(IF(OR(Z97="nee",Z97=""),"",+Y97*AA97)),"",IF(OR(Z97="nee",Z97=""),"",+Y97*AA97)) | AD97: =IF(ISERROR((AC97*24*365)/1000),"",(AC97*24*365)/1000) | AE97: =IF(ISERROR(+AD97*tariefKwh*7),0,+AD97*tariefKwh*7) -> 0
C98: N.B.: Indien voor dit bouwblok meer regels benodig zijn, graag dit verzoek via de Nota van Inlichtingen bekend te maken. Een aangepast model wordt dan gepubliceerd.
B100: 4b | C100: =VLOOKUP(B100,$B$10:$D$21,2,FALSE) -> Variant 4: Licentie(s) integratie WAN-koppeling & Distributie | D100: =VLOOKUP(C100,$B$10:$D$21,2,FALSE) -> #N/A | E100: =VLOOKUP(D100,$B$10:$D$21,2,FALSE) -> #N/A | J100: Totaalprijs Aanschaf Licenties | M100: =IF(E101="Subscription","Subscription","Onderhoud & Support") -> Onderhoud & Support | T100: ="Totaalprijs "&M100&" Licentie" -> Totaalprijs Onderhoud & Support Licentie
C101: Grondslag licentie: | F101: Gele velden invullen(!) | J101: =SUM(J103:J105) -> 0 | T101: =SUM(T103:T105) -> 0
C102: Artikelnummer | D102: Artikelomschrijving | E102: Merknaam | F102: Benodigd aantal in bouwblok | G102: Listprijs aanschaf per stuk in € | H102: Kortings- percentage | I102: Listprijs per stuk incl. korting | J102: Prijs totaal incl. korting | K102: Listprijs aanschaf per stuk in $ | M102: Artikelnummer | N102: Artikelomschrijving | O102: Benodigd aantal in bouwblok | P102: Van toepassing ja / nee | Q102: Listprijs Onderhoud & Support per stuk in € | R102: Kortings- percentage | S102: Listprijs Onderhoud & Support per stuk incl. korting | T102: Prijs 7 jaren totaal incl. korting | U102: Listprijs aanschaf per stuk in $
I103: =G103*(1-H103) -> 0 | J103: =IF(ISERROR(+I103*F103),"",+I103*F103) -> 0 | M103: =IF(ISBLANK(+C103),"",+C103) | N103: =IF(ISBLANK(+D103),"",+D103) | O103: =IF(ISBLANK(+F103),"",+F103) | S103: =IF(ISERROR(+Q103*(1-(R103))),"",+Q103*(1-(R103))) -> 0 | T103: =IF(ISERROR(+S103*O103*7),0,+S103*O103*7) -> 0
I104: =G104*(1-H104) -> 0 | J104: =IF(ISERROR(+I104*F104),"",+I104*F104) -> 0 | M104: =IF(ISBLANK(+C104),"",+C104) | N104: =IF(ISBLANK(+D104),"",+D104) | O104: =IF(ISBLANK(+F104),"",+F104) | S104: =IF(ISERROR(+Q104*(1-(R104))),"",+Q104*(1-(R104))) -> 0 | T104: =IF(ISERROR(+S104*O104*7),0,+S104*O104*7) -> 0
I105: =G105*(1-H105) -> 0 | J105: =IF(ISERROR(+I105*F105),"",+I105*F105) -> 0 | M105: =IF(ISBLANK(+C105),"",+C105) | N105: =IF(ISBLANK(+D105),"",+D105) | O105: =IF(ISBLANK(+F105),"",+F105) | S105: =IF(ISERROR(+Q105*(1-(R105))),"",+Q105*(1-(R105))) -> 0 | T105: =IF(ISERROR(+S105*O105*7),0,+S105*O105*7) -> 0
B108: 5a | C108: =VLOOKUP(B108,$B$10:$D$32,2,FALSE) -> Variant 5, Integratie Decentrale WAN-koppeling & Distributie | G108: Naam Variant | M108: Onderhoud & Support | W108: TCO-energie
C109: Aanschaf | E109: ="Integratie A"&LEFT(B108,1)&" : " -> Integratie A5 : | I109: Subtotaal | J109: =SUM(J111:J115) -> 900 | S109: Subtotaal | T109: =SUM(T111:T115) -> 0 | AD109: Subtotaal | AE109: =SUM(AE111:AE115) -> 0
C110: Artikelnummer | D110: Artikelomschrijving | E110: Merknaam | F110: Benodigd aantal in bouwblok | G110: Listprijs aanschaf per stuk in € | H110: Kortings- percentage | I110: Listprijs per stuk incl. korting | J110: Prijs totaal incl. korting | K110: Listprijs aanschaf per stuk in $ | M110: Artikelnummer | N110: Artikelomschrijving | O110: Benodigd aantal in bouwblok | P110: Van toepassing ja / nee | Q110: Listprijs Onderhoud & Support per stuk in € | R110: Kortings- percentage | S110: Listprijs Onderhoud & Support per stuk incl. korting | T110: Prijs 7 jaren totaal incl. korting | U110: Listprijs aanschaf per stuk in $ | W110: Artikelnummer | X110: Artikelomschrijving | Y110: Benodigd aantal in bouwblok | Z110: Van toepassing ja / nee | AA110: Normatief gebruik stroom in watt per eenheid | AB110: Verwijzing naar documentatie voor stroomverbuik | AC110: Normatief gebruik stroom in watt per eenheid | AD110: Totaal op jaarbasis in Kwh x24x365/1000 | AE110: Totaal kosten 7 JAREN stroomverbruik
F111: 10 | G111: 100 | H111: 0.1 | I111: =G111*(1-H111) -> 90 | J111: =IF(ISERROR(+I111*F111),"",+I111*F111) -> 900 | M111: =IF(ISBLANK(+C111),"",+C111) | N111: =IF(ISBLANK(+D111),"",+D111) | O111: =IF(ISBLANK(+F111),"",+F111) -> 10 | S111: =IF(ISERROR(+Q111*(1-(R111))),"",+Q111*(1-(R111))) -> 0 | T111: =IF(ISERROR(+S111*O111*7),0,+S111*O111*7) -> 0 | W111: =IF(ISBLANK(+M111),"",+M111) | X111: =IF(ISBLANK(+N111),"",+N111) | Y111: =IF(ISBLANK(+F111),"",+F111) -> 10 | AC111: =IF(ISERROR(IF(OR(Z111="nee",Z111=""),"",+Y111*AA111)),"",IF(OR(Z111="nee",Z111=""),"",+Y111*AA111)) | AD111: =IF(ISERROR((AC111*24*365)/1000),"",(AC111*24*365)/1000) | AE111: =IF(ISERROR(+AD111*tariefKwh*7),0,+AD111*tariefKwh*7) -> 0
