Workbook
Name koers: Samenvatting!#REF!
Name tariefKwh: Samenvatting!$C$16

Sheet Samenvatting
B2: Europese openbare aanbesteding
B3: Vervanging LAN omgeving
B4: Samenvatting
B5: IUC24-009
B6: (Prijzen exclusief BTW)
B8: Naam Inschrijver:
B11: Offerte is gebaseerd op de volgende koers: Dollar /Euro | D11: <- aanduiding o.b.v. USD/EUR
B12: Datum koers USD/EUR
B13: Via bron:
B14: https://www.wisselkoers.nl/dollar
B16: Tarief per Kwh (wordt gebruikt voor de berekening van de TCO-energieverbruik) | C16: 0.5 | D16: per Kwh
B18: Geoffreerde prijzen worden gestand gedaan in Euro's!
B21: ='A. Bouwblok 1'!C4 -> A. Bouwblok 1: Centrale datacenter WAN koppelingen | E21: =SUM(C22:C25) -> 0
B22: Aanschaf Centrale WAN-koppeling, incl. O&S | C22: =SUM('0 Financiële Waarde'!D13:E13) -> 0
B23: Aanschaf Gebruiksrecht Centrale WAN-koppeling | C23: ='0 Financiële Waarde'!G16 -> 0
B24: Onderhoud & Support Gebruiksrecht | C24: ='0 Financiële Waarde'!G17 -> 0
B25: TCO-Energie | C25: ='0 Financiële Waarde'!F13 -> 0
B27: ='B0. Optics'!C4 -> B0: Bouwblok Diverse optics | E27: =SUM(C28:C30) -> 0
B28: Aanschaf | C28: ='0 Financiële Waarde'!K20 -> 0
B29: Onderhoud & Support | C29: ='0 Financiële Waarde'!L20 -> 0
B30: TCO-Energie | C30: ='0 Financiële Waarde'!M20 -> 0
B32: ='B. Bouwblok 2'!C4 -> B. Bouwblok 2 Decentrale WAN koppeling | E32: =SUM(C33:C35) -> 0
B33: Aanschaf | C33: ='0 Financiële Waarde'!K44 -> 0
B34: Onderhoud & Support | C34: ='0 Financiële Waarde'!L44 -> 0
B35: TCO-Energie | C35: ='0 Financiële Waarde'!M44 -> 0
B37: ='C. Bouwblok 3'!C4 -> C. Bouwblok 3 Decentrale distributie | E37: =SUM(C38:C40) -> 0
B38: Aanschaf | C38: ='0 Financiële Waarde'!K61 -> 0
B39: Onderhoud & Support | C39: ='0 Financiële Waarde'!L61 -> 0
B40: TCO-Energie | C40: ='0 Financiële Waarde'!M61 -> 0
B42: ='D. Bouwblok 4'!C4 -> D. Bouwblok 4 Decentrale LAN access | E42: =SUM(C43:C45) -> 0
B43: Aanschaf | C43: ='0 Financiële Waarde'!K90 -> 0
B44: Onderhoud & Support | C44: ='0 Financiële Waarde'!L90 -> 0
B45: TCO-Energie | C45: ='0 Financiële Waarde'!M90 -> 0
B47: ='E. Bouwblok 5 Integratie A'!C4 -> E. Bouwblok 5 Integratie A: WAN-koppeling & Decentrale distributie | E47: =SUM(C48:C50) -> 0
B48: Aanschaf | C48: ='0 Financiële Waarde'!K113 -> 0
B49: Onderhoud & Support | C49: ='0 Financiële Waarde'!L113 -> 0
B50: TCO-Energie | C50: ='0 Financiële Waarde'!M113 -> 0
B52: ='F. Bouwblok 6 Integratie B'!C4 -> F. Bouwblok 6 Integratie B: WAN-koppeling & Decentrale distributie / Decentrale LAN Access | E52: =SUM(C53:C55) -> 0
B53: Aanschaf | C53: ='0 Financiële Waarde'!K142 -> 0
B54: Onderhoud & Support | C54: ='0 Financiële Waarde'!L142 -> 0
...

Sheet Toelichting
B2: =+Samenvatting!B2 -> Europese openbare aanbesteding
B3: =+Samenvatting!B3 -> Vervanging LAN omgeving
B4: Toelichting Prijzenformulier
B5: =+Samenvatting!B5 -> IUC24-009
B9: Op dit tabblad treft u een schematische weergaven van het Prijzenformulier:
B11: Tabblad waar input van Inschrijver gewenst is!
B12: Tabblad ter informatie
G14: EMVI-Superformule
G15: Hier ziet u uw vergelijkingswaarde in de EMVI-grafiek
G16: Ter indicatie kan de eigen inschatting van de Q-score worden opgegeven,
G17: zodat een indicatie van uw totaalscore zichtbaar wordt.
B19: Samenvatting
B20: De berekende financiële | G20: Financiële waarden
B21: waarden worden overgenomen | G21: Aan de hand van de dimensionering (Inventarisatie huidige
B22: in het tabblad Samenvatting | G22: omgeving) wordt op basis van de geoffreerde bedragen in
G23: de BOUWBLOKKEN en de betreffende doorrekengrondslag | K23: BOUWBLOKKEN
G24: de totale financiële waarde berekend. | M24: Bouwblok Centrale WAN-koppeling
M25: In dit tabblad kan de Hardware en Programmatuur van de Centrale
M26: WAN-koppeling worden geoffreerd.
M27: De aanschaf, Fabrikantensupport en de ICT-energiekosten (o.b.v.
M28: het verbruik in Watt).
M29: Voor Licentiekosten kan of een Perpetual of Subscription worden aangeboden.
M33: Bouwblok Decentrale WAN-koppeling
M34: In dit tabblad kan de Hardware en Programmatuur van de Decentrale
M35: WAN-koppeling worden geoffreerd.
B36: Dimensionering | M36: De aanschaf, Fabrikantensupport en de ICT-energiekosten (o.b.v.
B37: Voor die dimensionering wordt verwezen | M37: het verbruik in Watt).
B38: naar Bijlage: Dimensionering-Decentrale-Locaties. | M38: Voor Licentiekosten kan of een Perpetual of Subscription worden aangeboden.
M40: Bouwblok Decentrale Distributie
M41: In dit tabblad kan de Hardware en Programmatuur van de Decentrale
M42: Distributie worden geoffreerd.
M43: De aanschaf, Fabrikantensupport en de ICT-energiekosten (o.b.v.
M44: het verbruik in Watt).
M45: Voor Licentiekosten kan of een Perpetual of Subscription worden aangeboden.
M47: Bouwblok Decentral LAN Access
M48: In dit tabblad kan de Hardware en Programmatuur van de Decentrale
M49: Distributie worden geoffreerd.
M50: De aanschaf, Fabrikantensupport en de ICT-energiekosten (o.b.v.
E51: Benodigde HW & SW | M51: het verbruik in Watt).
E52: Hier kunnen per locatie de door de inschrijver | M52: Voor Licentiekosten kan of een Perpetual of Subscription worden aangeboden.
...

Sheet Dimensionering
B2: =+Samenvatting!B2 -> Europese openbare aanbesteding
B3: =+Samenvatting!B3 -> Vervanging LAN omgeving
B4: Dimensionering
B5: IUC24-009
B9: Voor de dimensionering wordt verwezen naar Bijlage 8 - 'Dimensionering-Decentrale-Locaties'.
B35: Toelichting / onderbouwing
B36: Vrije velden voor toelichting / onderbouwing / Licentie, Fabrikantensupport en overige kosten.

Sheet 0 Financiële Waarde
C2: =+Samenvatting!B2 -> Europese openbare aanbesteding
C3: =+Samenvatting!B3 -> Vervanging LAN omgeving
C4: Berekening financiële waarde
C5: IUC24-009
C6: (Prijzen exclusief BTW)
B9: ='A. Bouwblok 1'!C4 -> A. Bouwblok 1: Centrale datacenter WAN koppelingen
C11: Aanschaf WAN-koppeling | D11: Aanschaf | E11: Onderhoud & Support 7 jaren | F11: TCO-energie 7 jaren | G11: Totaal
C12: Locatie DC1 & DC2 | D12: =+'A. Bouwblok 1'!E12 -> 0 | E12: =+'A. Bouwblok 1'!F12 -> 0 | F12: =+'A. Bouwblok 1'!G12 -> 0 | G12: =SUM(D12:F12) -> 0 | H12: Zie tabblad "A1. Bouwblok 1"
C13: Totaal | D13: =SUM(D12:D12) -> 0 | E13: =SUM(E12:E12) -> 0 | F13: =SUM(F12:F12) -> 0 | G13: =SUM(D13:F13) -> 0 | H13: <-naar samenvatting
C15: Gebruiksrecht Management | E15: Aanschaf Jaar 1 | F15: Onderhoud & Support óf Subscription 7 Jaar | G15: Totaal bedrag
D16: Gebruiksrecht management aanschaf | E16: =+'A. Bouwblok 1'!J26 -> 0 | G16: =SUM(E16:F16) -> 0 | H16: Zie tabblad "A1. Bouwblok 1"
D17: Gebruiksrecht management Onderhoud & Support óf Subscription | F17: =+'A. Bouwblok 1'!T26 -> 0 | G17: =SUM(E17:F17) -> 0 | H17: Zie tabblad "A1. Bouwblok 1" | J17: <-naar samenvatting
B20: ='B0. Optics'!C4 -> B0: Bouwblok Diverse optics | I20: Subtotaal | K20: =+K24+K26+K28+K30+K32+K34+K36+K38+K40+K42 -> 0 | L20: =+L24+L26+L28+L30+L32+L34+L36+L38+L40+L42 -> 0 | M20: =+M24+M26+M28+M30+M32+M34+M36+M38+M40+M42 -> 0
E22: Aanschaf | F22: O&S | G22: TCO-energie | I22: Benodigde aantallen | K22: Aanschaf | L22: O&S | M22: TCO-energie
B23: 1a | C23: =+'B0. Optics'!C10 -> Optic 1 | E23: =+'B0. Optics'!E10 -> 0 | F23: =+'B0. Optics'!F10 -> 0 | G23: =+'B0. Optics'!G10 -> 0 | K23: =+I24*E23 -> 0 | L23: =I24*F23 -> 0 | M23: =+G23 -> 0
C24: Totaal | D24: =+'B0. Optics'!D11 -> Optic 1 : | E24: =SUM(E23:E23) -> 0 | F24: =SUM(F23:F23) -> 0 | G24: =SUM(G23:G23) -> 0 | I24: =SUMIF('0 Benodigde HW en SW '!G:H,D24,'0 Benodigde HW en SW '!H:H)+SUMIF('0 Benodigde HW en SW '!J:K,D24,'0 Benodigde HW en SW '!K:K)+SUMIF('0 Benodigde HW en SW '!M:N,D24,'0 Benodigde HW en SW '!N:N)+SUMIF('0 Benodigde HW en SW '!P:Q,D24,'0 Benodigde HW en SW '!Q:Q)+SUMIF('0 Benodigde HW en SW '!S:T,D24,'0 Benodigde HW en SW '!Q:Q) -> 0 | K24: =SUM(K22:K23) -> 0 | L24: =SUM(L22:L23) -> 0 | M24: =SUM(M22:M23) -> 0
B25: 2a | C25: Optic 2 | E25: =+'B0. Optics'!E12 -> 0 | F25: =+'B0. Optics'!F12 -> 0 | G25: =+'B0. Optics'!G12 -> 0 | K25: =+I26*E25 -> 0 | L25: =I26*F25 -> 0 | M25: =+G25 -> 0
C26: Totaal | D26: =+'B0. Optics'!D13 -> Optic 2 : | E26: =SUM(E25:E25) -> 0 | F26: =SUM(F25:F25) -> 0 | G26: =SUM(G25:G25) -> 0 | I26: =SUMIF('0 Benodigde HW en SW '!G:H,D26,'0 Benodigde HW en SW '!H:H)+SUMIF('0 Benodigde HW en SW '!J:K,D26,'0 Benodigde HW en SW '!K:K)+SUMIF('0 Benodigde HW en SW '!M:N,D26,'0 Benodigde HW en SW '!N:N)+SUMIF('0 Benodigde HW en SW '!P:Q,D26,'0 Benodigde HW en SW '!Q:Q)+SUMIF('0 Benodigde HW en SW '!S:T,D26,'0 Benodigde HW en SW '!Q:Q) -> 0 | K26: =SUM(K24:K25) -> 0 | L26: =SUM(L24:L25) -> 0 | M26: =SUM(M24:M25) -> 0
B27: 3a | C27: Optic 3 | E27: =+'B0. Optics'!E14 -> 0 | F27: =+'B0. Optics'!F14 -> 0 | G27: =+'B0. Optics'!G14 -> 0 | K27: =+I28*E27 -> 0 | L27: =I28*F27 -> 0 | M27: =+G27 -> 0
C28: Totaal | D28: =+'B0. Optics'!D15 -> Optic 3 : | E28: =SUM(E27:E27) -> 0 | F28: =SUM(F27:F27) -> 0 | G28: =SUM(G27:G27) -> 0 | I28: =SUMIF('0 Benodigde HW en SW '!G:H,D28,'0 Benodigde HW en SW '!H:H)+SUMIF('0 Benodigde HW en SW '!J:K,D28,'0 Benodigde HW en SW '!K:K)+SUMIF('0 Benodigde HW en SW '!M:N,D28,'0 Benodigde HW en SW '!N:N)+SUMIF('0 Benodigde HW en SW '!P:Q,D28,'0 Benodigde HW en SW '!Q:Q)+SUMIF('0 Benodigde HW en SW '!S:T,D28,'0 Benodigde HW en SW '!Q:Q) -> 0 | K28: =SUM(K26:K27) -> 0 | L28: =SUM(L26:L27) -> 0 | M28: =SUM(M26:M27) -> 0
B29: 4a | C29: Optic 4 | E29: =+'B0. Optics'!E16 -> 0 | F29: =+'B0. Optics'!F16 -> 0 | G29: =+'B0. Optics'!G16 -> 0 | K29: =+I30*E29 -> 0 | L29: =I30*F29 -> 0 | M29: =+G29 -> 0
C30: Totaal | D30: =+'B0. Optics'!D17 -> Optic 4 : | E30: =SUM(E29:E29) -> 0 | F30: =SUM(F29:F29) -> 0 | G30: =SUM(G29:G29) -> 0 | I30: =SUMIF('0 Benodigde HW en SW '!G:H,D30,'0 Benodigde HW en SW '!H:H)+SUMIF('0 Benodigde HW en SW '!J:K,D30,'0 Benodigde HW en SW '!K:K)+SUMIF('0 Benodigde HW en SW '!M:N,D30,'0 Benodigde HW en SW '!N:N)+SUMIF('0 Benodigde HW en SW '!P:Q,D30,'0 Benodigde HW en SW '!Q:Q)+SUMIF('0 Benodigde HW en SW '!S:T,D30,'0 Benodigde HW en SW '!Q:Q) -> 0 | K30: =SUM(K28:K29) -> 0 | L30: =SUM(L28:L29) -> 0 | M30: =SUM(M28:M29) -> 0
B31: 5a | C31: Optic 5 | E31: =+'B0. Optics'!E18 -> 0 | F31: =+'B0. Optics'!F18 -> 0 | G31: =+'B0. Optics'!G18 -> 0 | K31: =+I32*E31 -> 0 | L31: =I32*F31 -> 0 | M31: =+G31 -> 0
C32: Totaal | D32: =+'B0. Optics'!D19 -> Optic 5 : | E32: =SUM(E31:E31) -> 0 | F32: =SUM(F31:F31) -> 0 | G32: =SUM(G31:G31) -> 0 | I32: =SUMIF('0 Benodigde HW en SW '!G:H,D32,'0 Benodigde HW en SW '!H:H)+SUMIF('0 Benodigde HW en SW '!J:K,D32,'0 Benodigde HW en SW '!K:K)+SUMIF('0 Benodigde HW en SW '!M:N,D32,'0 Benodigde HW en SW '!N:N)+SUMIF('0 Benodigde HW en SW '!P:Q,D32,'0 Benodigde HW en SW '!Q:Q)+SUMIF('0 Benodigde HW en SW '!S:T,D32,'0 Benodigde HW en SW '!Q:Q) -> 0 | K32: =SUM(K30:K31) -> 0 | L32: =SUM(L30:L31) -> 0 | M32: =SUM(M30:M31) -> 0
B33: 6a | C33: =+'B0. Optics'!C20 -> Optic 6 | E33: =+'B0. Optics'!E20 -> 0 | F33: =+'B0. Optics'!F20 -> 0 | G33: =+'B0. Optics'!G20 -> 0 | K33: =+I34*E33 -> 0 | L33: =I34*F33 -> 0 | M33: =+G33 -> 0
C34: Totaal | D34: =+'B0. Optics'!D21 -> Optic 6 : | E34: =SUM(E33:E33) -> 0 | F34: =SUM(F33:F33) -> 0 | G34: =SUM(G33:G33) -> 0 | I34: =SUMIF('0 Benodigde HW en SW '!G:H,D34,'0 Benodigde HW en SW '!H:H)+SUMIF('0 Benodigde HW en SW '!J:K,D34,'0 Benodigde HW en SW '!K:K)+SUMIF('0 Benodigde HW en SW '!M:N,D34,'0 Benodigde HW en SW '!N:N)+SUMIF('0 Benodigde HW en SW '!P:Q,D34,'0 Benodigde HW en SW '!Q:Q)+SUMIF('0 Benodigde HW en SW '!S:T,D34,'0 Benodigde HW en SW '!Q:Q) -> 0 | K34: =SUM(K32:K33) -> 0 | L34: =SUM(L32:L33) -> 0 | M34: =SUM(M32:M33) -> 0
B35: 7a | C35: Optic 2 | E35: =+'B0. Optics'!E22 -> 0 | F35: =+'B0. Optics'!F22 -> 0 | G35: =+'B0. Optics'!G22 -> 0 | K35: =+I36*E35 -> 0 | L35: =I36*F35 -> 0 | M35: =+G35 -> 0
C36: Totaal | D36: =+'B0. Optics'!D23 -> Optic 7 : | E36: =SUM(E35:E35) -> 0 | F36: =SUM(F35:F35) -> 0 | G36: =SUM(G35:G35) -> 0 | I36: =SUMIF('0 Benodigde HW en SW '!G:H,D36,'0 Benodigde HW en SW '!H:H)+SUMIF('0 Benodigde HW en SW '!J:K,D36,'0 Benodigde HW en SW '!K:K)+SUMIF('0 Benodigde HW en SW '!M:N,D36,'0 Benodigde HW en SW '!N:N)+SUMIF('0 Benodigde HW en SW '!P:Q,D36,'0 Benodigde HW en SW '!Q:Q)+SUMIF('0 Benodigde HW en SW '!S:T,D36,'0 Benodigde HW en SW '!Q:Q) -> 0 | K36: =SUM(K34:K35) -> 0 | L36: =SUM(L34:L35) -> 0 | M36: =SUM(M34:M35) -> 0
B37: 8a | C37: Optic 3 | E37: =+'B0. Optics'!E24 -> 0 | F37: =+'B0. Optics'!F24 -> 0 | G37: =+'B0. Optics'!G24 -> 0 | K37: =+I38*E37 -> 0 | L37: =I38*F37 -> 0 | M37: =+G37 -> 0
C38: Totaal | D38: =+'B0. Optics'!D25 -> Optic 8 : | E38: =SUM(E37:E37) -> 0 | F38: =SUM(F37:F37) -> 0 | G38: =SUM(G37:G37) -> 0 | I38: =SUMIF('0 Benodigde HW en SW '!G:H,D38,'0 Benodigde HW en SW '!H:H)+SUMIF('0 Benodigde HW en SW '!J:K,D38,'0 Benodigde HW en SW '!K:K)+SUMIF('0 Benodigde HW en SW '!M:N,D38,'0 Benodigde HW en SW '!N:N)+SUMIF('0 Benodigde HW en SW '!P:Q,D38,'0 Benodigde HW en SW '!Q:Q)+SUMIF('0 Benodigde HW en SW '!S:T,D38,'0 Benodigde HW en SW '!Q:Q) -> 0 | K38: =SUM(K36:K37) -> 0 | L38: =SUM(L36:L37) -> 0 | M38: =SUM(M36:M37) -> 0
B39: 9a | C39: Optic 4 | E39: =+'B0. Optics'!E26 -> 0 | F39: =+'B0. Optics'!F26 -> 0 | G39: =+'B0. Optics'!G26 -> 0 | K39: =+I40*E39 -> 0 | L39: =I40*F39 -> 0 | M39: =+G39 -> 0
C40: Totaal | D40: =+'B0. Optics'!D27 -> Optic 9 : | E40: =SUM(E39:E39) -> 0 | F40: =SUM(F39:F39) -> 0 | G40: =SUM(G39:G39) -> 0 | I40: =SUMIF('0 Benodigde HW en SW '!G:H,D40,'0 Benodigde HW en SW '!H:H)+SUMIF('0 Benodigde HW en SW '!J:K,D40,'0 Benodigde HW en SW '!K:K)+SUMIF('0 Benodigde HW en SW '!M:N,D40,'0 Benodigde HW en SW '!N:N)+SUMIF('0 Benodigde HW en SW '!P:Q,D40,'0 Benodigde HW en SW '!Q:Q)+SUMIF('0 Benodigde HW en SW '!S:T,D40,'0 Benodigde HW en SW '!Q:Q) -> 0 | K40: =SUM(K38:K39) -> 0 | L40: =SUM(L38:L39) -> 0 | M40: =SUM(M38:M39) -> 0
B41: 10a | C41: Optic 5 | E41: =+'B0. Optics'!E28 -> 0 | F41: =+'B0. Optics'!F28 -> 0 | G41: =+'B0. Optics'!G28 -> 0 | K41: =+I42*E41 -> 0 | L41: =I42*F41 -> 0 | M41: =+G41 -> 0
C42: Totaal | D42: =+'B0. Optics'!D29 -> Optic 10 : | E42: =SUM(E41:E41) -> 0 | F42: =SUM(F41:F41) -> 0 | G42: =SUM(G41:G41) -> 0 | I42: =SUMIF('0 Benodigde HW en SW '!G:H,D42,'0 Benodigde HW en SW '!H:H)+SUMIF('0 Benodigde HW en SW '!J:K,D42,'0 Benodigde HW en SW '!K:K)+SUMIF('0 Benodigde HW en SW '!M:N,D42,'0 Benodigde HW en SW '!N:N)+SUMIF('0 Benodigde HW en SW '!P:Q,D42,'0 Benodigde HW en SW '!Q:Q)+SUMIF('0 Benodigde HW en SW '!S:T,D42,'0 Benodigde HW en SW '!Q:Q) -> 0 | K42: =SUM(K40:K41) -> 0 | L42: =SUM(L40:L41) -> 0 | M42: =SUM(M40:M41) -> 0
B44: ='B. Bouwblok 2'!C4 -> B. Bouwblok 2 Decentrale WAN koppeling | I44: Subtotaal | K44: =K49+K52+K55+K58 -> 0 | L44: =L49+L52+L55+L58 -> 0 | M44: =M49+M52+M55+M58 -> 0
E46: Aanschaf | F46: O&S | G46: TCO-energie | I46: Benodigde aantallen | K46: Aanschaf | L46: O&S | M46: TCO-energie
B47: 1a | C47: Variant 1: Decentrale Distributie | E47: ='B. Bouwblok 2'!E10 -> 0 | F47: ='B. Bouwblok 2'!F10 -> 0 | G47: ='B. Bouwblok 2'!G10 -> 0 | K47: =+I49*E47 -> 0 | L47: =+I49*F47 -> 0 | M47: =I49*G47 -> 0
B48: 1b | C48: Variant 1: Licentie(s) Decentrale WAN-koppeling | E48: ='B. Bouwblok 2'!E11 -> 0 | F48: ='B. Bouwblok 2'!F11 -> 0 | G48: ='B. Bouwblok 2'!G11 -> n.v.t. | K48: =+I49*E48 -> 0 | L48: =I49*F48 -> 0 | M48: =+G48 -> n.v.t.
C49: Totaal | D49: =+'B. Bouwblok 2'!D12 -> WAN 1 : | E49: =SUM(E47:E48) -> 0 | F49: =SUM(F47:F48) -> 0 | G49: =SUM(G47:G48) -> 0 | I49: =COUNTIF('0 Benodigde HW en SW '!$F$10:$BE$92,D49) -> 0 | K49: =SUM(K47:K48) -> 0 | L49: =SUM(L47:L48) -> 0 | M49: =SUM(M47:M48) -> 0
B50: 2a | C50: Variant 2: Decentrale Distributie | E50: ='B. Bouwblok 2'!E13 -> 0 | F50: ='B. Bouwblok 2'!F13 -> 0 | G50: ='B. Bouwblok 2'!G13 -> 0 | K50: =+I52*E50 -> 0 | L50: =+I52*F50 -> 0 | M50: =I52*G50 -> 0
...

Sheet 0 Benodigde HW en SW 
B2: =+Samenvatting!B2 -> Europese openbare aanbesteding
B3: =+Samenvatting!B3 -> Vervanging LAN omgeving
B4: Benodigde bouwblokken
B5: =+Samenvatting!B5 -> IUC24-009
B6: (Prijzen exclusief BTW)
F9: Conform tabblad B0… | V9: Conform tabblad B… | AA9: Conform tabblad C… | AK9: Conform tabblad D… | BB9: Conform tabbladen E.. en F..
F10: Bouwblok B0: Optics | V10: Bouwblok 2: Decentrale WAN-koppeling | AA10: Bouwblok 3: Decentrale Distributie | AK10: Bouwblok 4: LAN-ACCESS | BB10: Geïntegreerd
AM11: Minimaal twee componenten | AQ11: Additoneel benodigde componenten
B12: Locatie | C12: Situatie | F12: Locatie | G12: Benodigde Optic | H12: Benodigd aantal Optics | J12: Benodigde Optic | K12: Benodigd aantal Optics | M12: Benodigde Optic | N12: Benodigd aantal Optics | P12: Benodigde Optic | Q12: Benodigd aantal Optics | S12: Benodigde Optic | T12: Benodigd aantal Optics | V12: Locatie | W12: Aantal WAN- aansluitingen | X12: Aantal WAN-Bouwblokken | Y12: Variant | AA12: Locatie | AB12: Aantal Distributies | AC12: Inzet variant | AD12: Inzet variant | AE12: Inzet variant | AF12: Inzet variant | AG12: Inzet variant | AH12: Inzet variant | AI12: Inzet variant | AK12: Locatie | AL12: Stacks per locatie | AM12: Variant Bouwblok 4 | AN12: Aantal | AO12: Variant Bouwblok 4 | AP12: Aantal | AQ12: Variant Bouwblok 4 | AR12: Aantal | AS12: Variant Bouwblok 4 | AT12: Aantal | AU12: Variant Bouwblok 4 | AV12: Aantal | AW12: Variant Bouwblok 4 | AX12: Aantal | AY12: Variant Bouwblok 4 | AZ12: Aantal | BB12: Locatie | BC12: WAN-koppeling & Decentrale distributie | BE12: Decentrale distributie / Decentrale LAN Access
B14: Locatie 1 | C14: Situatie 2 | F14: Locatie 1 | V14: Locatie 1 | W14: 1 | X14: 2 | AA14: Locatie 1 | AB14: 1 | AK14: Locatie 1 | AL14: 15 | BB14: Locatie 1
B15: Locatie 2 | C15: Situatie 2 | F15: Locatie 2 | V15: Locatie 2 | W15: 1 | X15: 2 | AA15: Locatie 2 | AB15: 1 | AK15: Locatie 2 | AL15: 6 | BB15: Locatie 2
B16: Locatie 3 | C16: Situatie 3 | F16: Locatie 3 | V16: Locatie 3 | W16: 2 | X16: 2 | AA16: Locatie 3 | AB16: 2 | AK16: Locatie 3 | AL16: 58 | BB16: Locatie 3
B17: Locatie 4 | C17: Situatie 2 | F17: Locatie 4 | V17: Locatie 4 | W17: 1 | X17: 2 | AA17: Locatie 4 | AB17: 1 | AK17: Locatie 4 | AL17: 10 | BB17: Locatie 4
B18: Locatie 5 | C18: Situatie 1 | F18: Locatie 5 | V18: Locatie 5 | W18: 1 | X18: 1 | AA18: Locatie 5 | AB18: 1 | AK18: Locatie 5 | AL18: 2 | BB18: Locatie 5
B19: Locatie 6 | C19: Situatie 1 | F19: Locatie 6 | V19: Locatie 6 | W19: 1 | X19: 1 | AA19: Locatie 6 | AB19: 1 | AK19: Locatie 6 | AL19: 2 | BB19: Locatie 6
B20: Locatie 7 | C20: Situatie 3 | F20: Locatie 7 | V20: Locatie 7 | X20: 0 | AA20: Locatie 7 | AB20: 3 | AK20: Locatie 7 | AL20: 49 | BB20: Locatie 7
B21: Locatie 8 | C21: Situatie 2 | F21: Locatie 8 | V21: Locatie 8 | X21: 2 | AA21: Locatie 8 | AB21: 1 | AK21: Locatie 8 | AL21: 6 | BB21: Locatie 8
B22: Locatie 9 | C22: Situatie 1 | F22: Locatie 9 | V22: Locatie 9 | W22: 1 | X22: 1 | AA22: Locatie 9 | AB22: 1 | AK22: Locatie 9 | AL22: 1 | BB22: Locatie 9
B23: Locatie 10 | C23: Situatie 1 | F23: Locatie 10 | V23: Locatie 10 | W23: 1 | X23: 1 | AA23: Locatie 10 | AB23: 1 | AK23: Locatie 10 | AL23: 1 | BB23: Locatie 10
B24: Locatie 11 | C24: Situatie 3 | F24: Locatie 11 | V24: Locatie 11 | X24: 0 | AA24: Locatie 11 | AB24: 7 | AK24: Locatie 11 | AL24: 89 | BB24: Locatie 11
B25: Locatie 12 | C25: Situatie 2 | F25: Locatie 12 | V25: Locatie 12 | W25: 1 | X25: 2 | AA25: Locatie 12 | AB25: 1 | AK25: Locatie 12 | AL25: 17 | BB25: Locatie 12
B26: Locatie 13 | C26: Situatie 2 | F26: Locatie 13 | V26: Locatie 13 | W26: 1 | X26: 2 | AA26: Locatie 13 | AB26: 1 | AK26: Locatie 13 | AL26: 4 | BB26: Locatie 13
B27: Locatie 14 | C27: Situatie 1 | F27: Locatie 14 | V27: Locatie 14 | W27: 1 | X27: 2 | AA27: Locatie 14 | AB27: 1 | AK27: Locatie 14 | AL27: 2 | BB27: Locatie 14
B28: Locatie 15 | C28: Situatie 2 | F28: Locatie 15 | V28: Locatie 15 | W28: 2 | X28: 2 | AA28: Locatie 15 | AB28: 1 | AK28: Locatie 15 | AL28: 6 | BB28: Locatie 15
B29: Locatie 16 | C29: Situatie 1 | F29: Locatie 16 | V29: Locatie 16 | W29: 1 | X29: 2 | AA29: Locatie 16 | AB29: 1 | AK29: Locatie 16 | AL29: 2 | BB29: Locatie 16
B30: Locatie 17 | C30: Situatie 1 | F30: Locatie 17 | V30: Locatie 17 | W30: 1 | X30: 1 | AA30: Locatie 17 | AB30: 1 | AK30: Locatie 17 | AL30: 2 | BB30: Locatie 17
B31: Locatie 18 | C31: Situatie 1 | F31: Locatie 18 | V31: Locatie 18 | W31: 1 | X31: 1 | AA31: Locatie 18 | AB31: 1 | AK31: Locatie 18 | AL31: 1 | BB31: Locatie 18
B32: Locatie 19 | C32: Situatie 1 | F32: Locatie 19 | V32: Locatie 19 | W32: 1 | X32: 1 | AA32: Locatie 19 | AB32: 1 | AK32: Locatie 19 | AL32: 1 | BB32: Locatie 19
B33: Locatie 20 | C33: Situatie 1 | F33: Locatie 20 | V33: Locatie 20 | W33: 1 | X33: 2 | AA33: Locatie 20 | AB33: 1 | AK33: Locatie 20 | AL33: 2 | BB33: Locatie 20
B34: Locatie 21 | C34: Situatie 2 | F34: Locatie 21 | V34: Locatie 21 | W34: 1 | X34: 2 | AA34: Locatie 21 | AB34: 1 | AK34: Locatie 21 | AL34: 10 | BB34: Locatie 21
B35: Locatie 22 | C35: Situatie 1 | F35: Locatie 22 | V35: Locatie 22 | W35: 1 | X35: 1 | AA35: Locatie 22 | AB35: 1 | AK35: Locatie 22 | AL35: 1 | BB35: Locatie 22
B36: Locatie 23 | C36: Situatie 2 | F36: Locatie 23 | V36: Locatie 23 | W36: 1 | X36: 2 | AA36: Locatie 23 | AB36: 1 | AK36: Locatie 23 | AL36: 13 | BB36: Locatie 23
... B92: Locatie 79 | C92: Situatie 2 | F92: Locatie 79 | V92: Locatie 79 | W92: 1 | X92: 2 | AA92: Locatie 79 | AB92: 1 | AK92: Locatie 79 | AL92: 4 | BB92: Locatie 79
X157: 4

Sheet A. Bouwblok 1
A1: =D9 -> 0
A2: =D12 -> Centraal | C2: =+Samenvatting!B2 -> Europese openbare aanbesteding
A3: =#REF! -> #REF! | C3: =+Samenvatting!B3 -> Vervanging LAN omgeving
A4: =#REF! -> #REF! | C4: A. Bouwblok 1: Centrale datacenter WAN koppelingen
C5: =Samenvatting!B5 -> IUC24-009
C6: (Prijzen exclusief BTW)
E9: Aanschaf | F9: O&S | G9: TCO-energie | H9: Totaal
B10: 1a | C10: Aanschaf Apparatuur Centrale WAN-koppeling | E10: =J16 -> 0 | F10: =T16 -> 0 | G10: =AE16 -> 0 | H10: =SUM(E10:G10) -> 0
B11: 1b | C11: Licentie(s) Centrale WAN-koppeling | E11: =J26 -> 0 | F11: =T26 -> 0 | G11: n.v.t. | H11: =SUM(E11:G11) -> 0
C12: Totaal | D12: Centraal | E12: =SUM(E10:E11) -> 0 | F12: =SUM(F10:F11) -> 0 | G12: =SUM(G10:G11) -> 0 | H12: =SUM(H10:H11) -> 0
B15: 1a | C15: =VLOOKUP(B15,$B$9:$D$12,2,FALSE) -> Aanschaf Apparatuur Centrale WAN-koppeling | G15: Naam Variant | M15: Onderhoud & Support | W15: TCO-energie
C16: Aanschaf | E16: Max. aantal WAN's | G16: ="Variant 1 / max. "&F16&" WAN's" -> Variant 1 / max. WAN's | I16: Subtotaal | J16: =SUM(J18:J22) -> 0 | S16: Subtotaal | T16: =SUM(T18:T22) -> 0 | AD16: Subtotaal | AE16: =SUM(AE18:AE22) -> 0
C17: Artikelnummer | D17: Artikelomschrijving | E17: Merknaam | F17: Benodigd aantal in bouwblok | G17: Listprijs aanschaf per stuk in € | H17: Kortings- percentage | I17: Listprijs per stuk incl. korting | J17: Prijs totaal incl. korting | K17: Listprijs aanschaf per stuk in $ | M17: Artikelnummer | N17: Artikelomschrijving | O17: Benodigd aantal in bouwblok | P17: Van toepassing ja / nee | Q17: Listprijs Onderhoud & Support per stuk in € | R17: Kortings- percentage | S17: Listprijs Onderhoud & Support per stuk incl. korting | T17: Prijs 7 jaren totaal incl. korting | U17: Listprijs aanschaf per stuk in $ | W17: Artikelnummer | X17: Artikelomschrijving | Y17: Benodigd aantal in bouwblok | Z17: Van toepassing ja / nee | AA17: Normatief gebruik stroom in watt per eenheid | AB17: Verwijzing naar documentatie voor stroomverbuik | AC17: Normatief gebruik stroom in watt per eenheid | AD17: Totaal op jaarbasis in Kwh x24x365/1000 | AE17: Totaal kosten 7 JAREN stroomverbruik
I18: =G18*(1-H18) -> 0 | J18: =IF(ISERROR(+I18*F18),"",+I18*F18) -> 0 | M18: =IF(ISBLANK(+C18),"",+C18) | N18: =IF(ISBLANK(+D18),"",+D18) | O18: =IF(ISBLANK(+F18),"",+F18) | S18: =IF(ISERROR(+Q18*(1-(R18))),"",+Q18*(1-(R18))) -> 0 | T18: =IF(ISERROR(+S18*O18*7),0,+S18*O18*7) -> 0 | W18: =IF(ISBLANK(+M18),"",+M18) | X18: =IF(ISBLANK(+N18),"",+N18) | Y18: =IF(ISBLANK(+F18),"",+F18) | AC18: =IF(ISERROR(IF(OR(Z18="nee",Z18=""),"",+Y18*AA18)),"",IF(OR(Z18="nee",Z18=""),"",+Y18*AA18)) | AD18: =IF(ISERROR((AC18*24*365)/1000),"",(AC18*24*365)/1000) | AE18: =IF(ISERROR(+AD18*#REF!*5),"",+AD18*#REF!*5)
I19: =G19*(1-H19) -> 0 | J19: =IF(ISERROR(+I19*F19),"",+I19*F19) -> 0 | M19: =IF(ISBLANK(+C19),"",+C19) | N19: =IF(ISBLANK(+D19),"",+D19) | O19: =IF(ISBLANK(+F19),"",+F19) | S19: =IF(ISERROR(+Q19*(1-(R19))),"",+Q19*(1-(R19))) -> 0 | T19: =IF(ISERROR(+S19*O19*7),0,+S19*O19*7) -> 0 | W19: =IF(ISBLANK(+M19),"",+M19) | X19: =IF(ISBLANK(+N19),"",+N19) | Y19: =IF(ISBLANK(+F19),"",+F19) | AC19: =IF(ISERROR(IF(OR(Z19="nee",Z19=""),"",+Y19*AA19)),"",IF(OR(Z19="nee",Z19=""),"",+Y19*AA19)) | AD19: =IF(ISERROR((AC19*24*365)/1000),"",(AC19*24*365)/1000) | AE19: =IF(ISERROR(+AD19*#REF!*5),"",+AD19*#REF!*5)
I20: =G20*(1-H20) -> 0 | J20: =IF(ISERROR(+I20*F20),"",+I20*F20) -> 0 | M20: =IF(ISBLANK(+C20),"",+C20) | N20: =IF(ISBLANK(+D20),"",+D20) | O20: =IF(ISBLANK(+F20),"",+F20) | S20: =IF(ISERROR(+Q20*(1-(R20))),"",+Q20*(1-(R20))) -> 0 | T20: =IF(ISERROR(+S20*O20*7),0,+S20*O20*7) -> 0 | W20: =IF(ISBLANK(+M20),"",+M20) | X20: =IF(ISBLANK(+N20),"",+N20) | Y20: =IF(ISBLANK(+F20),"",+F20) | AC20: =IF(ISERROR(IF(OR(Z20="nee",Z20=""),"",+Y20*AA20)),"",IF(OR(Z20="nee",Z20=""),"",+Y20*AA20)) | AD20: =IF(ISERROR((AC20*24*365)/1000),"",(AC20*24*365)/1000) | AE20: =IF(ISERROR(+AD20*#REF!*5),"",+AD20*#REF!*5)
I21: =G21*(1-H21) -> 0 | J21: =IF(ISERROR(+I21*F21),"",+I21*F21) -> 0 | M21: =IF(ISBLANK(+C21),"",+C21) | N21: =IF(ISBLANK(+D21),"",+D21) | O21: =IF(ISBLANK(+F21),"",+F21) | S21: =IF(ISERROR(+Q21*(1-(R21))),"",+Q21*(1-(R21))) -> 0 | T21: =IF(ISERROR(+S21*O21*7),0,+S21*O21*7) -> 0 | W21: =IF(ISBLANK(+M21),"",+M21) | X21: =IF(ISBLANK(+N21),"",+N21) | Y21: =IF(ISBLANK(+F21),"",+F21) | AC21: =IF(ISERROR(IF(OR(Z21="nee",Z21=""),"",+Y21*AA21)),"",IF(OR(Z21="nee",Z21=""),"",+Y21*AA21)) | AD21: =IF(ISERROR((AC21*24*365)/1000),"",(AC21*24*365)/1000) | AE21: =IF(ISERROR(+AD21*#REF!*5),"",+AD21*#REF!*5)
I22: =G22*(1-H22) -> 0 | J22: =IF(ISERROR(+I22*F22),"",+I22*F22) -> 0 | M22: =IF(ISBLANK(+C22),"",+C22) | N22: =IF(ISBLANK(+D22),"",+D22) | O22: =IF(ISBLANK(+F22),"",+F22) | S22: =IF(ISERROR(+Q22*(1-(R22))),"",+Q22*(1-(R22))) -> 0 | T22: =IF(ISERROR(+S22*O22*7),0,+S22*O22*7) -> 0 | W22: =IF(ISBLANK(+M22),"",+M22) | X22: =IF(ISBLANK(+N22),"",+N22) | Y22: =IF(ISBLANK(+F22),"",+F22) | AC22: =IF(ISERROR(IF(OR(Z22="nee",Z22=""),"",+Y22*AA22)),"",IF(OR(Z22="nee",Z22=""),"",+Y22*AA22)) | AD22: =IF(ISERROR((AC22*24*365)/1000),"",(AC22*24*365)/1000) | AE22: =IF(ISERROR(+AD22*#REF!*5),"",+AD22*#REF!*5)
C23: N.B.: Indien voor dit bouwblok meer regels benodig zijn, graag dit verzoek via de Nota van Inlichtingen bekend te maken. Een aangepast model wordt dan gepubliceerd.
B25: 1b | C25: =VLOOKUP(B25,$B$9:$D$12,2,FALSE) -> Licentie(s) Centrale WAN-koppeling | D25: =VLOOKUP(C25,$B$9:$D$12,2,FALSE) -> #N/A | E25: =VLOOKUP(D25,$B$9:$D$12,2,FALSE) -> #N/A | J25: Totaalprijs Aanschaf Licenties | M25: =IF(E26="Subscription","Subscription","Onderhoud & Support") -> Onderhoud & Support | T25: ="Totaalprijs "&M25&" Licentie" -> Totaalprijs Onderhoud & Support Licentie
C26: Grondslag licentie: | E26: Aanschaf | Perpetual | F26: Gele velden invullen(!) | J26: =SUM(J28:J30) -> 0 | T26: =SUM(T28:T30) -> 0
C27: Artikelnummer | D27: Artikelomschrijving | E27: Merknaam | F27: Benodigd aantal in bouwblok | G27: Listprijs aanschaf per stuk in € | H27: Kortings- percentage | I27: Listprijs per stuk incl. korting | J27: Prijs totaal incl. korting | K27: Listprijs aanschaf per stuk in $ | M27: Artikelnummer | N27: Artikelomschrijving | O27: Benodigd aantal in bouwblok | P27: Van toepassing ja / nee | Q27: Listprijs Onderhoud & Support per stuk in € | R27: Kortings- percentage | S27: Listprijs Onderhoud & Support per stuk incl. korting | T27: Prijs 7 jaren totaal incl. korting | U27: Listprijs aanschaf per stuk in $ | W27: Artikelnummer | X27: Artikelomschrijving | Y27: Benodigd aantal in bouwblok | Z27: Van toepassing ja / nee | AA27: Normatief gebruik stroom in watt per eenheid | AB27: Verwijzing naar documentatie voor stroomverbuik | AC27: Normatief gebruik stroom in watt per eenheid | AD27: Totaal op jaarbasis in Kwh x24x365/1000 | AE27: Totaal kosten 7 JAREN stroomverbruik
I28: =G28*(1-H28) -> 0 | J28: =IF(ISERROR(+I28*F28),"",+I28*F28) -> 0 | M28: =IF(ISBLANK(+C28),"",+C28) | N28: =IF(ISBLANK(+D28),"",+D28) | O28: =IF(ISBLANK(+F28),"",+F28) | S28: =IF(ISERROR(+Q28*(1-(R28))),"",+Q28*(1-(R28))) -> 0 | T28: =IF(ISERROR(+S28*O28*7),0,+S28*O28*7) -> 0
I29: =G29*(1-H29) -> 0 | J29: =IF(ISERROR(+I29*F29),"",+I29*F29) -> 0 | M29: =IF(ISBLANK(+C29),"",+C29) | N29: =IF(ISBLANK(+D29),"",+D29) | O29: =IF(ISBLANK(+F29),"",+F29) | S29: =IF(ISERROR(+Q29*(1-(R29))),"",+Q29*(1-(R29))) -> 0 | T29: =IF(ISERROR(+S29*O29*7),0,+S29*O29*7) -> 0
I30: =G30*(1-H30) -> 0 | J30: =IF(ISERROR(+I30*F30),"",+I30*F30) -> 0 | M30: =IF(ISBLANK(+C30),"",+C30) | N30: =IF(ISBLANK(+D30),"",+D30) | O30: =IF(ISBLANK(+F30),"",+F30) | S30: =IF(ISERROR(+Q30*(1-(R30))),"",+Q30*(1-(R30))) -> 0 | T30: =IF(ISERROR(+S30*O30*7),0,+S30*O30*7) -> 0

Sheet B0. Optics
A1: =D11 -> Optic 1 :
A2: =D13 -> Optic 2 : | C2: =+Samenvatting!B2 -> Europese openbare aanbesteding
A3: =D15 -> Optic 3 : | C3: =+Samenvatting!B3 -> Vervanging LAN omgeving
A4: =D17 -> Optic 4 : | C4: B0: Bouwblok Diverse optics
A5: =C18 -> Optic 5 | C5: =Samenvatting!B5 -> IUC24-009
A6: =D21 -> Optic 6 : | C6: (Prijzen exclusief BTW)
A7: =D23 -> Optic 7 :
A8: =D25 -> Optic 8 :
A9: =D27 -> Optic 9 : | E9: Aanschaf | F9: O&S | G9: TCO-energie | H9: Totaal
A10: =D29 -> Optic 10 : | B10: 1 | C10: Optic 1 | E10: =J33 -> 0 | F10: =T33 -> 0 | G10: =AE33 -> 0 | H10: =SUM(E10:G10) -> 0
C11: Totaal | D11: =F33 & G33 -> Optic 1 : | E11: =SUM(E10:E10) -> 0 | F11: =SUM(F10:F10) -> 0 | G11: =SUM(G10:G10) -> 0 | H11: =SUM(H10:H10) -> 0
B12: 2 | C12: Optic 2 | E12: =J40 -> 0 | F12: =T40 -> 0 | G12: =AE40 -> 0 | H12: =SUM(E12:G12) -> 0
C13: Totaal | D13: =F40 & G40 -> Optic 2 : | E13: =SUM(E12:E12) -> 0 | F13: =SUM(F12:F12) -> 0 | G13: =SUM(G12:G12) -> 0 | H13: =SUM(H12:H12) -> 0
B14: 3 | C14: Optic 3 | E14: =J47 -> 0 | F14: =T47 -> 0 | G14: =AE47 -> 0 | H14: =SUM(E14:G14) -> 0
C15: Totaal | D15: =F47 & G47 -> Optic 3 : | E15: =SUM(E14:E14) -> 0 | F15: =SUM(F14:F14) -> 0 | G15: =SUM(G14:G14) -> 0 | H15: =SUM(H14:H14) -> 0
B16: 4 | C16: Optic 4 | E16: =J54 -> 0 | F16: =T54 -> 0 | G16: =AE54 -> 0 | H16: =SUM(E16:G16) -> 0
C17: Totaal | D17: =F54 & G54 -> Optic 4 : | E17: =SUM(E16:E16) -> 0 | F17: =SUM(F16:F16) -> 0 | G17: =SUM(G16:G16) -> 0 | H17: =SUM(H16:H16) -> 0
B18: 5 | C18: Optic 5 | E18: =J61 -> 0 | F18: =T61 -> 0 | G18: =AE61 -> 0 | H18: =SUM(E18:G18) -> 0
C19: Totaal | D19: =F61 & G61 -> Optic 5 : | E19: =SUM(E18:E18) -> 0 | F19: =SUM(F18:F18) -> 0 | G19: =SUM(G18:G18) -> 0 | H19: =SUM(H18:H18) -> 0
B20: 6 | C20: Optic 6 | E20: =J68 -> 0 | F20: =T68 -> 0 | G20: =AE68 -> 0 | H20: =SUM(E20:G20) -> 0
C21: Totaal | D21: =F68 & G68 -> Optic 6 : | E21: =SUM(E20:E20) -> 0 | F21: =SUM(F20:F20) -> 0 | G21: =SUM(G20:G20) -> 0 | H21: =SUM(H20:H20) -> 0
B22: 7 | C22: Optic 7 | E22: =J75 -> 0 | F22: =T75 -> 0 | G22: =AE75 -> 0 | H22: =SUM(E22:G22) -> 0
C23: Totaal | D23: =F75 & G75 -> Optic 7 : | E23: =SUM(E22:E22) -> 0 | F23: =SUM(F22:F22) -> 0 | G23: =SUM(G22:G22) -> 0 | H23: =SUM(H22:H22) -> 0
B24: 8 | C24: Optic 8 | E24: =J82 -> 0 | F24: =T82 -> 0 | G24: =AE82 -> 0 | H24: =SUM(E24:G24) -> 0
C25: Totaal | D25: =F82 & G82 -> Optic 8 : | E25: =SUM(E24:E24) -> 0 | F25: =SUM(F24:F24) -> 0 | G25: =SUM(G24:G24) -> 0 | H25: =SUM(H24:H24) -> 0
B26: 9 | C26: Optic 9 | E26: =J89 -> 0 | F26: =T89 -> 0 | G26: =AE89 -> 0 | H26: =SUM(E26:G26) -> 0
C27: Totaal | D27: =F89 & G89 -> Optic 9 : | E27: =SUM(E26:E26) -> 0 | F27: =SUM(F26:F26) -> 0 | G27: =SUM(G26:G26) -> 0 | H27: =SUM(H26:H26) -> 0
B28: 10 | C28: Optic 10 | E28: =J96 -> 0 | F28: =T96 -> 0 | G28: =AE96 -> 0 | H28: =SUM(E28:G28) -> 0
C29: Totaal | D29: =F96 & G96 -> Optic 10 : | E29: =SUM(E28:E28) -> 0 | F29: =SUM(F28:F28) -> 0 | G29: =SUM(G28:G28) -> 0 | H29: =SUM(H28:H28) -> 0
B32: 1 | C32: =VLOOKUP(B32,$B$10:$D$29,2,FALSE) -> Optic 1 | G32: Naam Optic | M32: Onderhoud & Support | W32: TCO-energie
C33: Aanschaf | F33: ="Optic "&B32&" : " -> Optic 1 : | I33: Subtotaal | J33: =SUM(J35:J35) -> 0 | S33: Subtotaal | T33: =SUM(T35:T35) -> 0 | AD33: Subtotaal | AE33: =SUM(AE35:AE35) -> 0
C34: Artikelnummer | D34: Artikelomschrijving | E34: Merknaam | G34: Listprijs aanschaf per stuk in € | H34: Kortings- percentage | I34: Listprijs per stuk incl. korting | J34: Prijs totaal incl. korting | K34: Listprijs aanschaf per stuk in $ | M34: Artikelnummer | N34: Artikelomschrijving | O34: Benodigd aantal in bouwblok | P34: Van toepassing ja / nee | Q34: Listprijs Onderhoud & Support per stuk in € | R34: Kortings- percentage | S34: Listprijs Onderhoud & Support per stuk incl. korting | T34: Prijs 7 jaren totaal incl. korting | U34: Listprijs aanschaf per stuk in $ | W34: Artikelnummer | X34: Artikelomschrijving | Y34: Benodigd aantal in bouwblok | Z34: Van toepassing ja / nee | AA34: Normatief gebruik stroom in watt per eeneid | AB34: Verwijzing naar documentatie voor stroomverbuik | AC34: Normatief gebruik stroom in watt per eeneid | AD34: Totaal op jaarbasis in Kwh x24x365/1000 | AE34: Totaal kosten 7 JAREN stroomverbruik
I35: =G35*(1-H35) -> 0 | J35: =IF(ISERROR(+I35),"",+I35) -> 0 | M35: =IF(ISBLANK(+C35),"",+C35) | N35: =IF(ISBLANK(+D35),"",+D35) | O35: =IF(ISBLANK(+F35),"",+F35) | S35: =IF(ISERROR(+Q35*(1-(R35))),"",+Q35*(1-(R35))) -> 0 | T35: =IF(ISERROR(+S35*O35*7),0,+S35*O35*7) -> 0 | W35: =IF(ISBLANK(+M35),"",+M35) | X35: =IF(ISBLANK(+N35),"",+N35) | Y35: =IF(ISBLANK(+F35),"",+F35) | AC35: =IF(ISERROR(IF(OR(Z35="nee",Z35=""),"",+Y35*AA35)),"",IF(OR(Z35="nee",Z35=""),"",+Y35*AA35)) | AD35: =IF(ISERROR((AC35*24*365)/1000),"",(AC35*24*365)/1000) | AE35: =IF(ISERROR(+AD35*tariefKwh*7),0,+AD35*tariefKwh*7) -> 0
C36: N.B.: Indien voor dit bouwblok meer regels benodig zijn, graag dit verzoek via de Nota van Inlichtingen bekend te maken. Een aangepast model wordt dan gepubliceerd.
B39: 2 | C39: =VLOOKUP(B39,$B$10:$D$29,2,FALSE) -> Optic 2 | G39: Naam Optic | M39: Onderhoud & Support | W39: TCO-energie
C40: Aanschaf | F40: ="Optic "&B39&" : " -> Optic 2 : | I40: Subtotaal | J40: =SUM(J42:J42) -> 0 | S40: Subtotaal | T40: =SUM(T42:T42) -> 0 | AD40: Subtotaal | AE40: =SUM(AE42:AE42) -> 0
C41: Artikelnummer | D41: Artikelomschrijving | E41: Merknaam | G41: Listprijs aanschaf per stuk in € | H41: Kortings- percentage | I41: Listprijs per stuk incl. korting | J41: Prijs totaal incl. korting | K41: Listprijs aanschaf per stuk in $ | M41: Artikelnummer | N41: Artikelomschrijving | O41: Benodigd aantal in bouwblok | P41: Van toepassing ja / nee | Q41: Listprijs Onderhoud & Support per stuk in € | R41: Kortings- percentage | S41: Listprijs Onderhoud & Support per stuk incl. korting | T41: Prijs 7 jaren totaal incl. korting | U41: Listprijs aanschaf per stuk in $ | W41: Artikelnummer | X41: Artikelomschrijving | Y41: Benodigd aantal in bouwblok | Z41: Van toepassing ja / nee | AA41: Normatief gebruik stroom in watt per eeneid | AB41: Verwijzing naar documentatie voor stroomverbuik | AC41: Normatief gebruik stroom in watt per eeneid | AD41: Totaal op jaarbasis in Kwh x24x365/1000 | AE41: Totaal kosten 7 JAREN stroomverbruik
I42: =G42*(1-H42) -> 0 | J42: =IF(ISERROR(+I42),"",+I42) -> 0 | M42: =IF(ISBLANK(+C42),"",+C42) | N42: =IF(ISBLANK(+D42),"",+D42) | O42: =IF(ISBLANK(+F42),"",+F42) | S42: =IF(ISERROR(+Q42*(1-(R42))),"",+Q42*(1-(R42))) -> 0 | T42: =IF(ISERROR(+S42*O42*7),0,+S42*O42*7) -> 0 | W42: =IF(ISBLANK(+M42),"",+M42) | X42: =IF(ISBLANK(+N42),"",+N42) | Y42: =IF(ISBLANK(+F42),"",+F42) | AC42: =IF(ISERROR(IF(OR(Z42="nee",Z42=""),"",+Y42*AA42)),"",IF(OR(Z42="nee",Z42=""),"",+Y42*AA42)) | AD42: =IF(ISERROR((AC42*24*365)/1000),"",(AC42*24*365)/1000) | AE42: =IF(ISERROR(+AD42*tariefKwh*7),0,+AD42*tariefKwh*7) -> 0
C43: N.B.: Indien voor dit bouwblok meer regels benodig zijn, graag dit verzoek via de Nota van Inlichtingen bekend te maken. Een aangepast model wordt dan gepubliceerd.
B46: 3 | C46: =VLOOKUP(B46,$B$10:$D$29,2,FALSE) -> Optic 3 | G46: Naam Optic | M46: Onderhoud & Support | W46: TCO-energie
...

Sheet B. Bouwblok 2
A1: =D12 -> WAN 1 :
A2: =D15 -> WAN 2 : | C2: =+Samenvatting!B2 -> Europese openbare aanbesteding
A3: =D18 -> WAN 3 : | C3: =+Samenvatting!B3 -> Vervanging LAN omgeving
A4: =D21 -> WAN 4 : | C4: B. Bouwblok 2 Decentrale WAN koppeling
C5: =Samenvatting!B5 -> IUC24-009
C6: (Prijzen exclusief BTW)
E9: Aanschaf | F9: O&S | G9: TCO-energie | H9: Totaal
B10: 1a | C10: Variant 1: Decentrale WAN-koppeling | E10: =J25 -> 0 | F10: =T25 -> 0 | G10: =AE25 -> 0 | H10: =SUM(E10:G10) -> 0
B11: 1b | C11: Variant 1: Licentie(s) Decentrale WAN-koppeling | E11: =J35 -> 0 | F11: =T35 -> 0 | G11: n.v.t. | H11: =SUM(E11:G11) -> 0
C12: Totaal | D12: =E25&G25 -> WAN 1 : | E12: =SUM(E10:E11) -> 0 | F12: =SUM(F10:F11) -> 0 | G12: =SUM(G10:G11) -> 0 | H12: =SUM(H10:H11) -> 0
B13: 2a | C13: Variant 2: Decentrale WAN-koppeling | E13: =J43 -> 0 | F13: =T43 -> 0 | G13: =AE43 -> 0 | H13: =SUM(E13:G13) -> 0
B14: 2b | C14: Variant 2: Licentie(s) Decentrale WAN-koppeling | E14: =J53 -> 0 | F14: =T53 -> 0 | G14: n.v.t. | H14: =SUM(E14:G14) -> 0
C15: Totaal | D15: =E43&G43 -> WAN 2 : | E15: =SUM(E13:E14) -> 0 | F15: =SUM(F13:F14) -> 0 | G15: =SUM(G13:G14) -> 0 | H15: =SUM(H13:H14) -> 0
B16: 3a | C16: Variant 3: Decentrale WAN-koppeling | E16: =J61 -> 0 | F16: =T61 -> 0 | G16: =AE61 -> 0 | H16: =SUM(E16:G16) -> 0
B17: 3b | C17: Variant 3: Licentie(s) Decentrale WAN-koppeling | E17: =J71 -> 0 | F17: =T71 -> 0 | G17: n.v.t. | H17: =SUM(E17:G17) -> 0
C18: Totaal | D18: =E61&G61 -> WAN 3 : | E18: =SUM(E16:E17) -> 0 | F18: =SUM(F16:F17) -> 0 | G18: =SUM(G16:G17) -> 0 | H18: =SUM(H16:H17) -> 0
B19: 4a | C19: Variant 4: Decentrale WAN-koppeling | E19: =J79 -> 0 | F19: =T79 -> 0 | G19: =AE79 -> 0 | H19: =SUM(E19:G19) -> 0
B20: 4b | C20: Variant 4: Licentie(s) Decentrale WAN-koppeling | E20: =J89 -> 0 | F20: =T89 -> 0 | G20: n.v.t. | H20: =SUM(E20:G20) -> 0
C21: Totaal | D21: =E79&G79 -> WAN 4 : | E21: =SUM(E19:E20) -> 0 | F21: =SUM(F19:F20) -> 0 | G21: =SUM(G19:G20) -> 0 | H21: =SUM(H19:H20) -> 0
B24: 1a | C24: =VLOOKUP(B24,$B$10:$D$21,2,FALSE) -> Variant 1: Decentrale WAN-koppeling | G24: Naam Variant | M24: Onderhoud & Support | W24: TCO-energie
C25: Aanschaf | E25: ="WAN " & LEFT(B24,1)& " : " -> WAN 1 : | I25: Subtotaal | J25: =SUM(J27:J31) -> 0 | S25: Subtotaal | T25: =SUM(T27:T31) -> 0 | AD25: Subtotaal | AE25: =SUM(AE27:AE31) -> 0
C26: Artikelnummer | D26: Artikelomschrijving | E26: Merknaam | F26: Benodigd aantal in bouwblok | G26: Listprijs aanschaf per stuk in € | H26: Kortings- percentage | I26: Listprijs per stuk incl. korting | J26: Prijs totaal incl. korting | K26: Listprijs aanschaf per stuk in $ | M26: Artikelnummer | N26: Artikelomschrijving | O26: Benodigd aantal in bouwblok | P26: Van toepassing ja / nee | Q26: Listprijs Onderhoud & Support per stuk in € | R26: Kortings- percentage | S26: Listprijs Onderhoud & Support per stuk incl. korting | T26: Prijs 7 jaren totaal incl. korting | U26: Listprijs aanschaf per stuk in $ | W26: Artikelnummer | X26: Artikelomschrijving | Y26: Benodigd aantal in bouwblok | Z26: Van toepassing ja / nee | AA26: Normatief gebruik stroom in watt per eenheid | AB26: Verwijzing naar documentatie voor stroomverbuik | AC26: Normatief gebruik stroom in watt per eenheid | AD26: Totaal op jaarbasis in Kwh x24x365/1000 | AE26: Totaal kosten 7 JAREN stroomverbruik
I27: =G27*(1-H27) -> 0 | J27: =IF(ISERROR(+I27*F27),"",+I27*F27) -> 0 | M27: =IF(ISBLANK(+C27),"",+C27) | N27: =IF(ISBLANK(+D27),"",+D27) | O27: =IF(ISBLANK(+F27),"",+F27) | S27: =IF(ISERROR(+Q27*(1-(R27))),"",+Q27*(1-(R27))) -> 0 | T27: =IF(ISERROR(+S27*O27*7),0,+S27*O27*7) -> 0 | W27: =IF(ISBLANK(+M27),"",+M27) | X27: =IF(ISBLANK(+N27),"",+N27) | Y27: =IF(ISBLANK(+F27),"",+F27) | Z27: ja | AA27: 50 | AC27: =IF(ISERROR(IF(OR(Z27="nee",Z27=""),"",+Y27*AA27)),"",IF(OR(Z27="nee",Z27=""),"",+Y27*AA27)) | AD27: =IF(ISERROR((AC27*24*365)/1000),"",(AC27*24*365)/1000) | AE27: =IF(ISERROR(+AD27*tariefKwh*7),0,+AD27*tariefKwh*7) -> 0
I28: =G28*(1-H28) -> 0 | J28: =IF(ISERROR(+I28*F28),"",+I28*F28) -> 0 | M28: =IF(ISBLANK(+C28),"",+C28) | N28: =IF(ISBLANK(+D28),"",+D28) | O28: =IF(ISBLANK(+F28),"",+F28) | S28: =IF(ISERROR(+Q28*(1-(R28))),"",+Q28*(1-(R28))) -> 0 | T28: =IF(ISERROR(+S28*O28*7),0,+S28*O28*7) -> 0 | W28: =IF(ISBLANK(+M28),"",+M28) | X28: =IF(ISBLANK(+N28),"",+N28) | Y28: =IF(ISBLANK(+F28),"",+F28) | AC28: =IF(ISERROR(IF(OR(Z28="nee",Z28=""),"",+Y28*AA28)),"",IF(OR(Z28="nee",Z28=""),"",+Y28*AA28)) | AD28: =IF(ISERROR((AC28*24*365)/1000),"",(AC28*24*365)/1000) | AE28: =IF(ISERROR(+AD28*tariefKwh*7),0,+AD28*tariefKwh*7) -> 0
I29: =G29*(1-H29) -> 0 | J29: =IF(ISERROR(+I29*F29),"",+I29*F29) -> 0 | M29: =IF(ISBLANK(+C29),"",+C29) | N29: =IF(ISBLANK(+D29),"",+D29) | O29: =IF(ISBLANK(+F29),"",+F29) | S29: =IF(ISERROR(+Q29*(1-(R29))),"",+Q29*(1-(R29))) -> 0 | T29: =IF(ISERROR(+S29*O29*7),0,+S29*O29*7) -> 0 | W29: =IF(ISBLANK(+M29),"",+M29) | X29: =IF(ISBLANK(+N29),"",+N29) | Y29: =IF(ISBLANK(+F29),"",+F29) | AC29: =IF(ISERROR(IF(OR(Z29="nee",Z29=""),"",+Y29*AA29)),"",IF(OR(Z29="nee",Z29=""),"",+Y29*AA29)) | AD29: =IF(ISERROR((AC29*24*365)/1000),"",(AC29*24*365)/1000) | AE29: =IF(ISERROR(+AD29*tariefKwh*7),0,+AD29*tariefKwh*7) -> 0
I30: =G30*(1-H30) -> 0 | J30: =IF(ISERROR(+I30*F30),"",+I30*F30) -> 0 | M30: =IF(ISBLANK(+C30),"",+C30) | N30: =IF(ISBLANK(+D30),"",+D30) | O30: =IF(ISBLANK(+F30),"",+F30) | S30: =IF(ISERROR(+Q30*(1-(R30))),"",+Q30*(1-(R30))) -> 0 | T30: =IF(ISERROR(+S30*O30*7),0,+S30*O30*7) -> 0 | W30: =IF(ISBLANK(+M30),"",+M30) | X30: =IF(ISBLANK(+N30),"",+N30) | Y30: =IF(ISBLANK(+F30),"",+F30) | AC30: =IF(ISERROR(IF(OR(Z30="nee",Z30=""),"",+Y30*AA30)),"",IF(OR(Z30="nee",Z30=""),"",+Y30*AA30)) | AD30: =IF(ISERROR((AC30*24*365)/1000),"",(AC30*24*365)/1000) | AE30: =IF(ISERROR(+AD30*tariefKwh*7),0,+AD30*tariefKwh*7) -> 0
I31: =G31*(1-H31) -> 0 | J31: =IF(ISERROR(+I31*F31),"",+I31*F31) -> 0 | M31: =IF(ISBLANK(+C31),"",+C31) | N31: =IF(ISBLANK(+D31),"",+D31) | O31: =IF(ISBLANK(+F31),"",+F31) | S31: =IF(ISERROR(+Q31*(1-(R31))),"",+Q31*(1-(R31))) -> 0 | T31: =IF(ISERROR(+S31*O31*7),0,+S31*O31*7) -> 0 | W31: =IF(ISBLANK(+M31),"",+M31) | X31: =IF(ISBLANK(+N31),"",+N31) | Y31: =IF(ISBLANK(+F31),"",+F31) | AC31: =IF(ISERROR(IF(OR(Z31="nee",Z31=""),"",+Y31*AA31)),"",IF(OR(Z31="nee",Z31=""),"",+Y31*AA31)) | AD31: =IF(ISERROR((AC31*24*365)/1000),"",(AC31*24*365)/1000) | AE31: =IF(ISERROR(+AD31*tariefKwh*7),0,+AD31*tariefKwh*7) -> 0
C32: N.B.: Indien voor dit bouwblok meer regels benodig zijn, graag dit verzoek via de Nota van Inlichtingen bekend te maken. Een aangepast model wordt dan gepubliceerd.
B34: 1b | C34: =VLOOKUP(B34,$B$10:$D$21,2,FALSE) -> Variant 1: Licentie(s) Decentrale WAN-koppeling | D34: =VLOOKUP(C34,$B$10:$D$21,2,FALSE) -> #N/A | E34: =VLOOKUP(D34,$B$10:$D$21,2,FALSE) -> #N/A | J34: Totaalprijs Aanschaf Licenties | M34: =IF(E35="Subscription","Subscription","Onderhoud & Support") -> Onderhoud & Support | T34: ="Totaalprijs "&M34&" Licentie" -> Totaalprijs Onderhoud & Support Licentie
C35: Grondslag licentie: | F35: Gele velden invullen(!) | J35: =SUM(J37:J39) -> 0 | T35: =SUM(T37:T39) -> 0
C36: Artikelnummer | D36: Artikelomschrijving | E36: Merknaam | F36: Benodigd aantal in bouwblok | G36: Listprijs aanschaf per stuk in € | H36: Kortings- percentage | I36: Listprijs per stuk incl. korting | J36: Prijs totaal incl. korting | K36: Listprijs aanschaf per stuk in $ | M36: Artikelnummer | N36: Artikelomschrijving | O36: Benodigd aantal in bouwblok | P36: Van toepassing ja / nee | Q36: Listprijs Onderhoud & Support per stuk in € | R36: Kortings- percentage | S36: Listprijs Onderhoud & Support per stuk incl. korting | T36: Prijs 7 jaren totaal incl. korting | U36: Listprijs aanschaf per stuk in $
I37: =G37*(1-H37) -> 0 | J37: =IF(ISERROR(+I37*F37),"",+I37*F37) -> 0 | M37: =IF(ISBLANK(+C37),"",+C37) | N37: =IF(ISBLANK(+D37),"",+D37) | O37: =IF(ISBLANK(+F37),"",+F37) | P37: ja | S37: =IF(ISERROR(+Q37*(1-(R37))),"",+Q37*(1-(R37))) -> 0 | T37: =IF(ISERROR(+S37*O37*7),0,+S37*O37*7) -> 0
I38: =G38*(1-H38) -> 0 | J38: =IF(ISERROR(+I38*F38),"",+I38*F38) -> 0 | M38: =IF(ISBLANK(+C38),"",+C38) | N38: =IF(ISBLANK(+D38),"",+D38) | O38: =IF(ISBLANK(+F38),"",+F38) | P38: ja | S38: =IF(ISERROR(+Q38*(1-(R38))),"",+Q38*(1-(R38))) -> 0 | T38: =IF(ISERROR(+S38*O38*7),0,+S38*O38*7) -> 0
I39: =G39*(1-H39) -> 0 | J39: =IF(ISERROR(+I39*F39),"",+I39*F39) -> 0 | M39: =IF(ISBLANK(+C39),"",+C39) | N39: =IF(ISBLANK(+D39),"",+D39) | O39: =IF(ISBLANK(+F39),"",+F39) | P39: nee | S39: =IF(ISERROR(+Q39*(1-(R39))),"",+Q39*(1-(R39))) -> 0 | T39: =IF(ISERROR(+S39*O39*7),0,+S39*O39*7) -> 0
B42: 2a | C42: =VLOOKUP(B42,$B$10:$D$21,2,FALSE) -> Variant 2: Decentrale WAN-koppeling | G42: Naam Variant | M42: Onderhoud & Support | W42: TCO-energie
C43: Aanschaf | E43: ="WAN " & LEFT(B42,1)& " : " -> WAN 2 : | I43: Subtotaal | J43: =SUM(J45:J49) -> 0 | S43: Subtotaal | T43: =SUM(T45:T49) -> 0 | AD43: Subtotaal | AE43: =SUM(AE45:AE49) -> 0
C44: Artikelnummer | D44: Artikelomschrijving | E44: Merknaam | F44: Benodigd aantal in bouwblok | G44: Listprijs aanschaf per stuk in € | H44: Kortings- percentage | I44: Listprijs per stuk incl. korting | J44: Prijs totaal incl. korting | K44: Listprijs aanschaf per stuk in $ | M44: Artikelnummer | N44: Artikelomschrijving | O44: Benodigd aantal in bouwblok | P44: Van toepassing ja / nee | Q44: Listprijs Onderhoud & Support per stuk in € | R44: Kortings- percentage | S44: Listprijs Onderhoud & Support per stuk incl. korting | T44: Prijs 7 jaren totaal incl. korting | U44: Listprijs aanschaf per stuk in $ | W44: Artikelnummer | X44: Artikelomschrijving | Y44: Benodigd aantal in bouwblok | Z44: Van toepassing ja / nee | AA44: Normatief gebruik stroom in watt per eenheid | AB44: Verwijzing naar documentatie voor stroomverbuik | AC44: Normatief gebruik stroom in watt per eenheid | AD44: Totaal op jaarbasis in Kwh x24x365/1000 | AE44: Totaal kosten 7 JAREN stroomverbruik
I45: =G45*(1-H45) -> 0 | J45: =IF(ISERROR(+I45*F45),"",+I45*F45) -> 0 | M45: =IF(ISBLANK(+C45),"",+C45) | N45: =IF(ISBLANK(+D45),"",+D45) | O45: =IF(ISBLANK(+F45),"",+F45) | S45: =IF(ISERROR(+Q45*(1-(R45))),"",+Q45*(1-(R45))) -> 0 | T45: =IF(ISERROR(+S45*O45*7),0,+S45*O45*7) -> 0 | W45: =IF(ISBLANK(+M45),"",+M45) | X45: =IF(ISBLANK(+N45),"",+N45) | Y45: =IF(ISBLANK(+F45),"",+F45) | AC45: =IF(ISERROR(IF(OR(Z45="nee",Z45=""),"",+Y45*AA45)),"",IF(OR(Z45="nee",Z45=""),"",+Y45*AA45)) | AD45: =IF(ISERROR((AC45*24*365)/1000),"",(AC45*24*365)/1000) | AE45: =IF(ISERROR(+AD45*tariefKwh*7),0,+AD45*tariefKwh*7) -> 0
I46: =G46*(1-H46) -> 0 | J46: =IF(ISERROR(+I46*F46),"",+I46*F46) -> 0 | M46: =IF(ISBLANK(+C46),"",+C46) | N46: =IF(ISBLANK(+D46),"",+D46) | O46: =IF(ISBLANK(+F46),"",+F46) | S46: =IF(ISERROR(+Q46*(1-(R46))),"",+Q46*(1-(R46))) -> 0 | T46: =IF(ISERROR(+S46*O46*7),0,+S46*O46*7) -> 0 | W46: =IF(ISBLANK(+M46),"",+M46) | X46: =IF(ISBLANK(+N46),"",+N46) | Y46: =IF(ISBLANK(+F46),"",+F46) | AC46: =IF(ISERROR(IF(OR(Z46="nee",Z46=""),"",+Y46*AA46)),"",IF(OR(Z46="nee",Z46=""),"",+Y46*AA46)) | AD46: =IF(ISERROR((AC46*24*365)/1000),"",(AC46*24*365)/1000) | AE46: =IF(ISERROR(+AD46*tariefKwh*7),0,+AD46*tariefKwh*7) -> 0
I47: =G47*(1-H47) -> 0 | J47: =IF(ISERROR(+I47*F47),"",+I47*F47) -> 0 | M47: =IF(ISBLANK(+C47),"",+C47) | N47: =IF(ISBLANK(+D47),"",+D47) | O47: =IF(ISBLANK(+F47),"",+F47) | S47: =IF(ISERROR(+Q47*(1-(R47))),"",+Q47*(1-(R47))) -> 0 | T47: =IF(ISERROR(+S47*O47*7),0,+S47*O47*7) -> 0 | W47: =IF(ISBLANK(+M47),"",+M47) | X47: =IF(ISBLANK(+N47),"",+N47) | Y47: =IF(ISBLANK(+F47),"",+F47) | AC47: =IF(ISERROR(IF(OR(Z47="nee",Z47=""),"",+Y47*AA47)),"",IF(OR(Z47="nee",Z47=""),"",+Y47*AA47)) | AD47: =IF(ISERROR((AC47*24*365)/1000),"",(AC47*24*365)/1000) | AE47: =IF(ISERROR(+AD47*tariefKwh*7),0,+AD47*tariefKwh*7) -> 0
...

Sheet C. Bouwblok 3
A1: =D12 -> Distributie 1 :
A2: =D15 -> Distributie 2 : | C2: =Samenvatting!B2 -> Europese openbare aanbesteding
A3: =D18 -> Distributie 3 : | C3: =Samenvatting!B3 -> Vervanging LAN omgeving
A4: =D21 -> Distributie 4 : | C4: C. Bouwblok 3 Decentrale distributie
A5: =D24 -> Distributie 5 : | C5: =Samenvatting!B5 -> IUC24-009
A6: =D27 -> Distributie 6 : | C6: (Prijzen exclusief BTW)
A7: =D30 -> Distributie 7 :
A8: =D33 -> Distributie 8 :
E9: Aanschaf | F9: O&S | G9: TCO-energie | H9: Totaal
B10: 1a | C10: Variant 1: Decentrale Distributie | E10: =J37 -> 0 | F10: =T37 -> 0 | G10: =AE37 -> 0 | H10: =SUM(E10:G10) -> 0
B11: 1b | C11: Variant 1: Licentie(s) Decentrale Distributie | E11: =J47 -> 0 | F11: =T47 -> 0 | G11: n.v.t. | H11: =SUM(E11:G11) -> 0
C12: Totaal | D12: =E37&G37 -> Distributie 1 : | E12: =SUM(E10:E11) -> 0 | F12: =SUM(F10:F11) -> 0 | G12: =SUM(G10:G11) -> 0 | H12: =SUM(H10:H11) -> 0
B13: 2a | C13: Variant 2: Decentrale Distributie | E13: =J55 -> 0 | F13: =T55 -> 0 | G13: =AE55 -> 0 | H13: =SUM(E13:G13) -> 0
B14: 2b | C14: Variant 2: Licentie(s) Decentrale Distributie | E14: =J65 -> 0 | F14: =T65 -> 0 | G14: n.v.t. | H14: =SUM(E14:G14) -> 0
C15: Totaal | D15: =E55&G55 -> Distributie 2 : | E15: =SUM(E13:E14) -> 0 | F15: =SUM(F13:F14) -> 0 | G15: =SUM(G13:G14) -> 0 | H15: =SUM(H13:H14) -> 0
B16: 3a | C16: Variant 3: Decentrale Distributie | E16: =J73 -> 0 | F16: =T73 -> 0 | G16: =AE73 -> 0 | H16: =SUM(E16:G16) -> 0
B17: 3b | C17: Variant 3: Licentie(s) Decentrale Distributie | E17: =J83 -> 0 | F17: =T83 -> 0 | G17: n.v.t. | H17: =SUM(E17:G17) -> 0
C18: Totaal | D18: =E73&G73 -> Distributie 3 : | E18: =SUM(E16:E17) -> 0 | F18: =SUM(F16:F17) -> 0 | G18: =SUM(G16:G17) -> 0 | H18: =SUM(H16:H17) -> 0
B19: 4a | C19: Variant 4: Decentrale Distributie | E19: =J91 -> 0 | F19: =T91 -> 0 | G19: =AE91 -> 0 | H19: =SUM(E19:G19) -> 0
B20: 4b | C20: Variant 4: Licentie(s) Decentrale Distributie | E20: =J101 -> 0 | F20: =T101 -> 0 | G20: n.v.t. | H20: =SUM(E20:G20) -> 0
C21: Totaal | D21: =E91&G91 -> Distributie 4 : | E21: =SUM(E19:E20) -> 0 | F21: =SUM(F19:F20) -> 0 | G21: =SUM(G19:G20) -> 0 | H21: =SUM(H19:H20) -> 0
B22: 5a | C22: Variant 5: Decentrale Distributie | E22: =J49 -> 0 | F22: =T49 -> 0 | G22: =AE49 -> 0 | H22: =SUM(E22:G22) -> 0
B23: 5b | C23: Variant 5: Licentie(s) Decentrale Distributie | E23: =J59 -> 0 | F23: =T59 -> 0 | G23: n.v.t. | H23: =SUM(E23:G23) -> 0
C24: Totaal | D24: =E109&G109 -> Distributie 5 : | E24: =SUM(E22:E23) -> 0 | F24: =SUM(F22:F23) -> 0 | G24: =SUM(G22:G23) -> 0 | H24: =SUM(H22:H23) -> 0
B25: 6a | C25: Variant 6: Decentrale Distributie | E25: =J67 -> 0 | F25: =T67 -> 0 | G25: =AE67 -> 0 | H25: =SUM(E25:G25) -> 0
B26: 6b | C26: Variant 6: Licentie(s) Decentrale Distributie | E26: =J77 -> 0 | F26: =T77 -> 0 | G26: n.v.t. | H26: =SUM(E26:G26) -> 0
C27: Totaal | D27: =E127&G127 -> Distributie 6 : | E27: =SUM(E25:E26) -> 0 | F27: =SUM(F25:F26) -> 0 | G27: =SUM(G25:G26) -> 0 | H27: =SUM(H25:H26) -> 0
B28: 7a | C28: Variant 7: Decentrale Distributie | E28: =J85 -> 0 | F28: =T85 -> 0 | G28: =AE85 -> 0 | H28: =SUM(E28:G28) -> 0
B29: 7b | C29: Variant 7: Licentie(s) Decentrale Distributie | E29: =J95 -> 0 | F29: =T95 -> 0 | G29: n.v.t. | H29: =SUM(E29:G29) -> 0
C30: Totaal | D30: =E145&G145 -> Distributie 7 : | E30: =SUM(E28:E29) -> 0 | F30: =SUM(F28:F29) -> 0 | G30: =SUM(G28:G29) -> 0 | H30: =SUM(H28:H29) -> 0
B31: 8a | C31: Variant 8: Decentrale Distributie | E31: =J103 -> 0 | F31: =T103 -> 0 | G31: =AE103 -> 0 | H31: =SUM(E31:G31) -> 0
B32: 8b | C32: Variant 8: Licentie(s) Decentrale Distributie | E32: =J113 -> 0 | F32: =T113 -> 0 | G32: n.v.t. | H32: =SUM(E32:G32) -> 0
C33: Totaal | D33: =E163&G163 -> Distributie 8 : | E33: =SUM(E31:E32) -> 0 | F33: =SUM(F31:F32) -> 0 | G33: =SUM(G31:G32) -> 0 | H33: =SUM(H31:H32) -> 0
B36: 1a | C36: =VLOOKUP(B36,$B$10:$D$32,2,FALSE) -> Variant 1: Decentrale Distributie | G36: Naam Variant | M36: Onderhoud & Support | W36: TCO-energie
C37: Aanschaf | E37: ="Distributie " & LEFT(B36,1) & " : " -> Distributie 1 : | I37: Subtotaal | J37: =SUM(J39:J43) -> 0 | S37: Subtotaal | T37: =SUM(T39:T43) -> 0 | AD37: Subtotaal | AE37: =SUM(AE39:AE43) -> 0
C38: Artikelnummer | D38: Artikelomschrijving | E38: Merknaam | F38: Benodigd aantal in bouwblok | G38: Listprijs aanschaf per stuk in € | H38: Kortings- percentage | I38: Listprijs per stuk incl. korting | J38: Prijs totaal incl. korting | K38: Listprijs aanschaf per stuk in $ | M38: Artikelnummer | N38: Artikelomschrijving | O38: Benodigd aantal in bouwblok | P38: Van toepassing ja / nee | Q38: Listprijs Onderhoud & Support per stuk in € | R38: Kortings- percentage | S38: Listprijs Onderhoud & Support per stuk incl. korting | T38: Prijs 7 jaren totaal incl. korting | U38: Listprijs aanschaf per stuk in $ | W38: Artikelnummer | X38: Artikelomschrijving | Y38: Benodigd aantal in bouwblok | Z38: Van toepassing ja / nee | AA38: Normatief gebruik stroom in watt per eenheid | AB38: Verwijzing naar documentatie voor stroomverbuik | AC38: Normatief gebruik stroom in watt per eenheid | AD38: Totaal op jaarbasis in Kwh x24x365/1000 | AE38: Totaal kosten 7 JAREN stroomverbruik
I39: =G39*(1-H39) -> 0 | J39: =IF(ISERROR(+I39*F39),"",+I39*F39) -> 0 | M39: =IF(ISBLANK(+C39),"",+C39) | N39: =IF(ISBLANK(+D39),"",+D39) | O39: =IF(ISBLANK(+F39),"",+F39) | S39: =IF(ISERROR(+Q39*(1-(R39))),"",+Q39*(1-(R39))) -> 0 | T39: =IF(ISERROR(+S39*O39*7),0,+S39*O39*7) -> 0 | W39: =IF(ISBLANK(+M39),"",+M39) | X39: =IF(ISBLANK(+N39),"",+N39) | Y39: =IF(ISBLANK(+F39),"",+F39) | AC39: =IF(ISERROR(IF(OR(Z39="nee",Z39=""),"",+Y39*AA39)),"",IF(OR(Z39="nee",Z39=""),"",+Y39*AA39)) | AD39: =IF(ISERROR((AC39*24*365)/1000),"",(AC39*24*365)/1000) | AE39: =IF(ISERROR(+AD39*tariefKwh*7),0,+AD39*tariefKwh*7) -> 0
I40: =G40*(1-H40) -> 0 | J40: =IF(ISERROR(+I40*F40),"",+I40*F40) -> 0 | M40: =IF(ISBLANK(+C40),"",+C40) | N40: =IF(ISBLANK(+D40),"",+D40) | O40: =IF(ISBLANK(+F40),"",+F40) | S40: =IF(ISERROR(+Q40*(1-(R40))),"",+Q40*(1-(R40))) -> 0 | T40: =IF(ISERROR(+S40*O40*7),0,+S40*O40*7) -> 0 | W40: =IF(ISBLANK(+M40),"",+M40) | X40: =IF(ISBLANK(+N40),"",+N40) | Y40: =IF(ISBLANK(+F40),"",+F40) | AC40: =IF(ISERROR(IF(OR(Z40="nee",Z40=""),"",+Y40*AA40)),"",IF(OR(Z40="nee",Z40=""),"",+Y40*AA40)) | AD40: =IF(ISERROR((AC40*24*365)/1000),"",(AC40*24*365)/1000) | AE40: =IF(ISERROR(+AD40*tariefKwh*7),0,+AD40*tariefKwh*7) -> 0
I41: =G41*(1-H41) -> 0 | J41: =IF(ISERROR(+I41*F41),"",+I41*F41) -> 0 | M41: =IF(ISBLANK(+C41),"",+C41) | N41: =IF(ISBLANK(+D41),"",+D41) | O41: =IF(ISBLANK(+F41),"",+F41) | S41: =IF(ISERROR(+Q41*(1-(R41))),"",+Q41*(1-(R41))) -> 0 | T41: =IF(ISERROR(+S41*O41*7),0,+S41*O41*7) -> 0 | W41: =IF(ISBLANK(+M41),"",+M41) | X41: =IF(ISBLANK(+N41),"",+N41) | Y41: =IF(ISBLANK(+F41),"",+F41) | AC41: =IF(ISERROR(IF(OR(Z41="nee",Z41=""),"",+Y41*AA41)),"",IF(OR(Z41="nee",Z41=""),"",+Y41*AA41)) | AD41: =IF(ISERROR((AC41*24*365)/1000),"",(AC41*24*365)/1000) | AE41: =IF(ISERROR(+AD41*tariefKwh*7),0,+AD41*tariefKwh*7) -> 0
I42: =G42*(1-H42) -> 0 | J42: =IF(ISERROR(+I42*F42),"",+I42*F42) -> 0 | M42: =IF(ISBLANK(+C42),"",+C42) | N42: =IF(ISBLANK(+D42),"",+D42) | O42: =IF(ISBLANK(+F42),"",+F42) | S42: =IF(ISERROR(+Q42*(1-(R42))),"",+Q42*(1-(R42))) -> 0 | T42: =IF(ISERROR(+S42*O42*7),0,+S42*O42*7) -> 0 | W42: =IF(ISBLANK(+M42),"",+M42) | X42: =IF(ISBLANK(+N42),"",+N42) | Y42: =IF(ISBLANK(+F42),"",+F42) | AC42: =IF(ISERROR(IF(OR(Z42="nee",Z42=""),"",+Y42*AA42)),"",IF(OR(Z42="nee",Z42=""),"",+Y42*AA42)) | AD42: =IF(ISERROR((AC42*24*365)/1000),"",(AC42*24*365)/1000) | AE42: =IF(ISERROR(+AD42*tariefKwh*7),0,+AD42*tariefKwh*7) -> 0
...

Sheet D. Bouwblok 4
A1: =D12 -> LAN 1 :
A2: =D15 -> LAN 2 : | C2: =Samenvatting!B2 -> Europese openbare aanbesteding
A3: =D18 -> LAN 3 : | C3: =Samenvatting!B3 -> Vervanging LAN omgeving
A4: =D21 -> LAN 4 : | C4: D. Bouwblok 4 Decentrale LAN access
A5: =D24 -> LAN 5 : | C5: =Samenvatting!B5 -> IUC24-009
A6: =D27 -> LAN 6 : | C6: (Prijzen exclusief BTW)
E9: Aanschaf | F9: O&S | G9: TCO-energie | H9: Totaal
B10: 1a | C10: Variant 1: LAN access | E10: =J31 -> 0 | F10: =T31 -> 0 | G10: =AE31 -> 0 | H10: =SUM(E10:G10) -> 0
B11: 1b | C11: Variant 1: Licentie(s) Basis LAN Access | E11: =J41 -> 0 | F11: =T41 -> 0 | G11: n.v.t. | H11: =SUM(E11:G11) -> 0
C12: Totaal | D12: =E31&G31 -> LAN 1 : | E12: =SUM(E10:E11) -> 0 | F12: =SUM(F10:F11) -> 0 | G12: =SUM(G10:G11) -> 0 | H12: =SUM(H10:H11) -> 0
B13: 2a | C13: Variant 2: LAN access | E13: =J49 -> 0 | F13: =T49 -> 0 | G13: =AE49 -> 0 | H13: =SUM(E13:G13) -> 0
B14: 2b | C14: Variant 2: Licentie(s) Access | E14: =J59 -> 0 | F14: =T59 -> 0 | G14: n.v.t. | H14: =SUM(E14:G14) -> 0
C15: Totaal | D15: =E49&G49 -> LAN 2 : | E15: =SUM(E13:E14) -> 0 | F15: =SUM(F13:F14) -> 0 | G15: =SUM(G13:G14) -> 0 | H15: =SUM(H13:H14) -> 0
B16: 3a | C16: Variant 3: LAN access | E16: =J67 -> 0 | F16: =T67 -> 0 | G16: =AE67 -> 0 | H16: =SUM(E16:G16) -> 0
B17: 3b | C17: Variant 3: Licentie(s) LAN Access | E17: =J77 -> 0 | F17: =T77 -> 0 | G17: n.v.t. | H17: =SUM(E17:G17) -> 0
C18: Totaal | D18: =E67&G67 -> LAN 3 : | E18: =SUM(E16:E17) -> 0 | F18: =SUM(F16:F17) -> 0 | G18: =SUM(G16:G17) -> 0 | H18: =SUM(H16:H17) -> 0
B19: 4a | C19: Variant 4: LAN access | E19: =J85 -> 0 | F19: =T85 -> 0 | G19: =AE85 -> 0 | H19: =SUM(E19:G19) -> 0
B20: 4b | C20: Variant 4: Licentie(s)LAN Access | E20: =J95 -> 0 | F20: =T95 -> 0 | G20: n.v.t. | H20: =SUM(E20:G20) -> 0
C21: Totaal | D21: =E85&G85 -> LAN 4 : | E21: =SUM(E19:E20) -> 0 | F21: =SUM(F19:F20) -> 0 | G21: =SUM(G19:G20) -> 0 | H21: =SUM(H19:H20) -> 0
B22: 5a | C22: Variant 5 LAN access | E22: =J103 -> 0 | F22: =T103 -> 0 | G22: =AE103 -> 0 | H22: =SUM(E22:G22) -> 0
B23: 5b | C23: Variant 5: Licentie(s) LAN Access | E23: =J113 -> 0 | F23: =T113 -> 0 | G23: n.v.t. | H23: =SUM(E23:G23) -> 0
C24: Totaal | D24: =E103&G103 -> LAN 5 : | E24: =SUM(E22:E23) -> 0 | F24: =SUM(F22:F23) -> 0 | G24: =SUM(G22:G23) -> 0 | H24: =SUM(H22:H23) -> 0
B25: 6a | C25: Variant 6: LAN access | E25: =+J121 -> 0 | F25: =+T121 -> 0 | G25: =+AE121 -> 0 | H25: =SUM(E25:G25) -> 0
B26: 6b | C26: Variant 6: Licentie(s) LAN Access | E26: =+J131 -> 0 | F26: =+T131 -> 0 | G26: n.v.t. | H26: =SUM(E26:G26) -> 0
C27: Totaal | D27: =E121&G121 -> LAN 6 : | E27: =SUM(E25:E26) -> 0 | F27: =SUM(F25:F26) -> 0 | G27: =SUM(G25:G26) -> 0 | H27: =SUM(H25:H26) -> 0
B30: 1a | C30: =VLOOKUP(B30,$B$10:$D$26,2,FALSE) -> Variant 1: LAN access | G30: Naam Variant | M30: Onderhoud & Support | W30: TCO-energie
C31: Aanschaf | E31: ="LAN "&LEFT(B30,1)&" : " -> LAN 1 : | I31: Subtotaal | J31: =SUM(J33:J37) -> 0 | S31: Subtotaal | T31: =SUM(T33:T37) -> 0 | AD31: Subtotaal | AE31: =SUM(AE33:AE37) -> 0
C32: Artikelnummer | D32: Artikelomschrijving | E32: Merknaam | F32: Benodigd aantal in bouwblok | G32: Listprijs aanschaf per stuk in € | H32: Kortings- percentage | I32: Listprijs per stuk incl. korting | J32: Prijs totaal incl. korting | K32: Listprijs aanschaf per stuk in $ | M32: Artikelnummer | N32: Artikelomschrijving | O32: Benodigd aantal in bouwblok | P32: Van toepassing ja / nee | Q32: Listprijs Onderhoud & Support per stuk in € | R32: Kortings- percentage | S32: Listprijs Onderhoud & Support per stuk incl. korting | T32: Prijs 7 jaren totaal incl. korting | U32: Listprijs aanschaf per stuk in $ | W32: Artikelnummer | X32: Artikelomschrijving | Y32: Benodigd aantal in bouwblok | Z32: Van toepassing ja / nee | AA32: Normatief gebruik stroom in watt per eenheid | AB32: Verwijzing naar documentatie voor stroomverbuik | AC32: Normatief gebruik stroom in watt per eenheid | AD32: Totaal op jaarbasis in Kwh x24x365/1000 | AE32: Totaal kosten 7 JAREN stroomverbruik
