Workbook

Sheet Uitleg
A2: Bijlage Prijzenblad
A4: Uitleg bij het invullen van het prijzenblad
A6: Alle kosten dienen te worden opgegeven exclusief BTW.
A7: De door inschrijver aangeboden tarieven zijn ‘all-in’, dat wil zeggen dat er dient te worden uitgegaan van een integraal calculatie-uurtarief voor de schoonmaak en glasbewassing waarin alle kosten, waaronder de kosten voor direct toezicht, administratieve werkzaamheden, suppletiekosten, investeringskosten, vervoerskosten, (duurzame) machines en overige additionele kosten zijn inbegrepen.
A8: Eenmalige bonussen of vergoedingen, worden niet in de beoordeling meegenomen.
A9: Tabblad Totaalblad | B9: De kosten voor het schoonmaakonderhoud worden in dit tabblad gesplitst per locatie. Deze kosten vormen samen de totale jaarprijs schoonmaak en glasbewassing exclusief BTW. Op dit tabblad hoeft de inschrijver niks in te vullen, de totalen worden automatisch berekend.
A10: Regie | B10: In tabblad "Regie" dient de inschrijver in de kolommen B, C en D de prijs in te vullen voor de gevraagde werkzaamheden als beschreven in kolom A. Kolom E telt de totalen per onderdeel samen. De inschrijver met de laagste prijs per onderdeel ontvangt de maximale punten (kolom G) voor dit onderdeel. De inschrijver met de meeste punten voor alle onderdelen ontvangt het volledige aantal punten voor regiewerkzaamheden (4). De andere inschrijvers krijgen punten toegekend in de verhouding van hun aantal punten ten opzichte van het aantal punten van de inschrijver die de meeste punten op alle onderdelen in totaal heeft gescoord.
A11: Tabblad Copernicus SG t/m Atlas Service Center | B11: In de tabbladen Copernicus SG t/m Atlas Service Center dient de inschrijver in kolom J het uurtarief in te vullen. Inschrijver dient hier uit te gaan van een calculatie-uurtarief waarin alle kosten, waaronder de kosten voor direct toezicht, administratieve werkzaamheden, suppletiekosten, investeringskosten, vervoerskosten, duurzame machines en overige additionele kosten zijn inbegrepen en waar rekening gehouden wordt met alle eisen uit het programma van eisen. De inschrijver dient in kolom L de prestatienorm in te vullen. De totale kosten voor de schoonmaak wordt berekend door de vermenigvuldiging van de gecalculeerde productie-uren op jaarbasis (kolom M) met het opgegeven uurtarief (kolom J). De prestatienorm dient te zijn gebaseerd op het reguliere onderhoud zoals beschreven in het werkprogramma en periodieke werkzaamheden. Inschrijver dient in deze tabbladen de geelgearceerde velden in te vullen.

Sheet Totaalblad
A1: Locatie: | B1: Adres: | C1: m2 | D1: Kosten per jaar | E1: Kosten per maand | F1: Uren per jaar | G1: Uren per week
A3: Copernicus SG | B3: Nieuwe Steen 11, 1625HV Hoorn | C3: ='Copernicus SG'!G198 -> 8198.35 | D3: ='Copernicus SG'!O198 -> #DIV/0! | E3: ='Copernicus SG'!N198 -> #DIV/0! | F3: ='Copernicus SG'!M198 -> #DIV/0! | G3: =F3/40 -> #DIV/0!
A4: OSG West-Friesland | B4: Bontekoestraat 3, 1623LL Hoorn | C4: ='OSG West-Friesland'!G188 -> 8488.86 | D4: ='OSG West-Friesland'!O188 -> #DIV/0! | E4: ='OSG West-Friesland'!N188 -> #DIV/0! | F4: ='OSG West-Friesland'!M188 -> #DIV/0! | G4: =F4/40 -> #DIV/0!
A5: SG Newton | B5: Dampten 22, 1624NR Hoorn | C5: ='SG Newton'!G233 -> 9603 | D5: ='SG Newton'!O233 -> #DIV/0! | E5: ='SG Newton'!N233 -> #DIV/0! | F5: ='SG Newton'!M233 -> #DIV/0! | G5: =F5/40 -> #DIV/0!
A6: Atlas Service Center | B6: Dampten 14, 1624NR Hoorn | C6: ='Atlas Service Center'!G30 -> 903 | D6: ='Atlas Service Center'!O30 -> #DIV/0! | E6: ='Atlas Service Center'!N30 -> #DIV/0! | F6: ='Atlas Service Center'!M30 -> #DIV/0! | G6: =F6/40 -> #DIV/0!
B8: Totaal: | C8: =SUM(C3:C6) -> 27193.21 | D8: =SUM(D3:D6) -> #DIV/0! | E8: =SUM(E3:E6) -> #DIV/0! | F8: =SUM(F3:F6) -> #DIV/0! | G8: =SUM(G3:G6) -> #DIV/0!

Sheet Copernicus SG
A1: Locatie | B1: Verdieping | C1: Ruimtenummer | D1: Nr. tekening | E1: Ruimte-omschrijving | F1: Werkprogramma | G1: m2 | H1: M2 NIO | I1: Vloerafwerking | J1: Uurtarief | K1: Frequentie | L1: Prestatienorm | M1: Uren per jaar | N1: Kosten per maand | O1: Kosten per jaar | P1: Opmerkingen
A2: Copernicus SG | B2: Begane grond | C2: 46 | E2: Leslokaal nederlands | F2: 4. Theorielokaal | G2: 53 | I2: Lino | J2: 0 | K2: 120 | M2: =G2/L2*K2 -> #DIV/0! | N2: =O2/12 -> #DIV/0! | O2: =M2*J2 -> #DIV/0!
A3: Copernicus SG | B3: Begane grond | C3: D006 | E3: Trapportaal | F3: 2. Verkeersruimte | G3: 32 | I3: Lino | J3: =J2 -> 0 | K3: 200 | M3: =G3/L3*K3 -> #DIV/0! | N3: =O3/12 -> #DIV/0! | O3: =M3*J3 -> #DIV/0!
A4: Copernicus SG | B4: Begane grond | C4: D007 | E4: Spreekkamer | F4: 3. Bureaukamers | G4: 10 | I4: Lino | J4: =J3 -> 0 | K4: 40 | M4: =G4/L4*K4 -> #DIV/0! | N4: =O4/12 -> #DIV/0! | O4: =M4*J4 -> #DIV/0!
A5: Copernicus SG | B5: Begane grond | C5: D008 | E5: Spreekkamer | F5: 3. Bureaukamers | G5: 11 | I5: Lino | J5: =J4 -> 0 | K5: 40 | M5: =G5/L5*K5 -> #DIV/0! | N5: =O5/12 -> #DIV/0! | O5: =M5*J5 -> #DIV/0!
A6: Copernicus SG | B6: Begane grond | C6: D009 | E6: Docenten werkplek | F6: 3. Bureaukamers | G6: 27 | I6: Vast tapijt | J6: =J5 -> 0 | K6: 80 | M6: =G6/L6*K6 -> #DIV/0! | N6: =O6/12 -> #DIV/0! | O6: =M6*J6 -> #DIV/0!
A7: Copernicus SG | B7: Begane grond | C7: D010 | E7: Toilet leerlingen (m) | F7: 1. Sanitair | G7: 13 | I7: Pvc | J7: =J6 -> 0 | K7: 400 | M7: =G7/L7*K7 -> #DIV/0! | N7: =O7/12 -> #DIV/0! | O7: =M7*J7 -> #DIV/0!
A8: Copernicus SG | B8: Begane grond | C8: D011 | E8: Toilet personeel (m) | F8: 1. Sanitair | G8: 3 | I8: Pvc | J8: =J7 -> 0 | K8: 200 | M8: =G8/L8*K8 -> #DIV/0! | N8: =O8/12 -> #DIV/0! | O8: =M8*J8 -> #DIV/0!
A9: Copernicus SG | B9: Begane grond | C9: D012 | E9: Toilet perosneel (v) | F9: 1. Sanitair | G9: 3 | I9: Pvc | J9: =J8 -> 0 | K9: 200 | M9: =G9/L9*K9 -> #DIV/0! | N9: =O9/12 -> #DIV/0! | O9: =M9*J9 -> #DIV/0!
A10: Copernicus SG | B10: Begane grond | C10: D013 | E10: Toilet leerlingen (v) | F10: 1. Sanitair | G10: 17 | I10: Pvc | J10: =J9 -> 0 | K10: 400 | M10: =G10/L10*K10 -> #DIV/0! | N10: =O10/12 -> #DIV/0! | O10: =M10*J10 -> #DIV/0!
A11: Copernicus SG | B11: Begane grond | C11: D015 | E11: Verkeersruimte | F11: 2. Verkeersruimte | G11: 144 | I11: Lino | J11: =J10 -> 0 | K11: 200 | M11: =G11/L11*K11 -> #DIV/0! | N11: =O11/12 -> #DIV/0! | O11: =M11*J11 -> #DIV/0!
A12: Copernicus SG | B12: 1e verdieping | C12: A102 | E12: Roosterkamer | F12: 3. Bureaukamers | G12: 25 | I12: Vast tapijt | J12: =J11 -> 0 | K12: 80 | M12: =G12/L12*K12 -> #DIV/0! | N12: =O12/12 -> #DIV/0! | O12: =M12*J12 -> #DIV/0!
A13: Copernicus SG | B13: 1e verdieping | C13: 110 | E13: Leslokaal engels | F13: 4. Theorielokaal | G13: 50 | I13: Lino | J13: =J12 -> 0 | K13: 120 | M13: =G13/L13*K13 -> #DIV/0! | N13: =O13/12 -> #DIV/0! | O13: =M13*J13 -> #DIV/0!
A14: Copernicus SG | B14: 1e verdieping | C14: 111 | E14: Leslokaal engels | F14: 4. Theorielokaal | G14: 50 | I14: Lino | J14: =J13 -> 0 | K14: 120 | M14: =G14/L14*K14 -> #DIV/0! | N14: =O14/12 -> #DIV/0! | O14: =M14*J14 -> #DIV/0!
... A50: Copernicus SG | B50: 1e verdieping | C50: D101 | E50: Trapportaal | F50: 2. Verkeersruimte | G50: 46 | I50: Lino | J50: =J49 -> 0 | K50: 200 | M50: =G50/L50*K50 -> #DIV/0! | N50: =O50/12 -> #DIV/0! | O50: =M50*J50 -> #DIV/0!
A51: Copernicus SG | B51: 1e verdieping | C51: D103 | E51: Werkkast | F51: NIO | H51: 4 | I51: Pvc | K51: NIO
A52: Copernicus SG | B52: 1e verdieping | C52: 140 | E52: Ondersteunings lokaal | F52: 4. Theorielokaal | G52: 36 | I52: Lino | J52: =J50 -> 0 | K52: 120 | M52: =G52/L52*K52 -> #DIV/0! | N52: =O52/12 -> #DIV/0! | O52: =M52*J52 -> #DIV/0!
A53: Copernicus SG | B53: 1e verdieping | C53: D104 | E53: Zorg werkplek | F53: 3. Bureaukamers | G53: 21 | I53: Vast tapijt | J53: =J52 -> 0 | K53: 80 | M53: =G53/L53*K53 -> #DIV/0! | N53: =O53/12 -> #DIV/0! | O53: =M53*J53 -> #DIV/0!
A54: Copernicus SG | B54: 1e verdieping | C54: D105 | E54: Docenten werkplek | F54: 3. Bureaukamers | G54: 55 | I54: Vast tapijt | J54: =J53 -> 0 | K54: 120 | M54: =G54/L54*K54 -> #DIV/0! | N54: =O54/12 -> #DIV/0! | O54: =M54*J54 -> #DIV/0!
A55: Copernicus SG | B55: 1e verdieping | C55: D107 | E55: Spreekkamer | F55: 3. Bureaukamers | G55: 10 | I55: Lino | J55: =J54 -> 0 | K55: 80 | M55: =G55/L55*K55 -> #DIV/0! | N55: =O55/12 -> #DIV/0! | O55: =M55*J55 -> #DIV/0!
A56: Copernicus SG | B56: 1e verdieping | C56: D108 | E56: Spreekkamer | F56: 3. Bureaukamers | G56: 10 | I56: Lino | J56: =J55 -> 0 | K56: 80 | M56: =G56/L56*K56 -> #DIV/0! | N56: =O56/12 -> #DIV/0! | O56: =M56*J56 -> #DIV/0!
A57: Copernicus SG | B57: 1e verdieping | C57: 141 | E57: Leslokaal economie | F57: 4. Theorielokaal | G57: 54 | I57: Lino | J57: =J56 -> 0 | K57: 120 | M57: =G57/L57*K57 -> #DIV/0! | N57: =O57/12 -> #DIV/0! | O57: =M57*J57 -> #DIV/0!
A58: Copernicus SG | B58: 1e verdieping | C58: 142 | E58: Leslokaal maatschappijleer | F58: 4. Theorielokaal | G58: 54 | I58: Lino | J58: =J57 -> 0 | K58: 120 | M58: =G58/L58*K58 -> #DIV/0! | N58: =O58/12 -> #DIV/0! | O58: =M58*J58 -> #DIV/0!
A59: Copernicus SG | B59: 1e verdieping | C59: 143 | E59: Leslokaal geschiedenis | F59: 4. Theorielokaal | G59: 54 | I59: Lino | J59: =J58 -> 0 | K59: 120 | M59: =G59/L59*K59 -> #DIV/0! | N59: =O59/12 -> #DIV/0! | O59: =M59*J59 -> #DIV/0!
A60: Copernicus SG | B60: 1e verdieping | C60: 144 | E60: Leslokaal geschiedenis | F60: 4. Theorielokaal | G60: 71 | I60: Lino | J60: =J59 -> 0 | K60: 120 | M60: =G60/L60*K60 -> #DIV/0! | N60: =O60/12 -> #DIV/0! | O60: =M60*J60 -> #DIV/0!
A61: Copernicus SG | B61: 1e verdieping | C61: 145 | E61: Leslokaal geschiedenis | F61: 4. Theorielokaal | G61: 53 | I61: Lino | J61: =J60 -> 0 | K61: 120 | M61: =G61/L61*K61 -> #DIV/0! | N61: =O61/12 -> #DIV/0! | O61: =M61*J61 -> #DIV/0!
A62: Copernicus SG | B62: 1e verdieping | C62: D109 | E62: Trapportaal | F62: 2. Verkeersruimte | G62: 32 | I62: Hout/vast tapijt | J62: =J61 -> 0 | K62: 200 | M62: =G62/L62*K62 -> #DIV/0! | N62: =O62/12 -> #DIV/0! | O62: =M62*J62 -> #DIV/0!
A63: Copernicus SG | B63: 1e verdieping | C63: D110 | E63: Kamer adjunct-directeur | F63: 3. Bureaukamers | G63: 32 | I63: Vast tapijt | J63: =J62 -> 0 | K63: 80 | M63: =G63/L63*K63 -> #DIV/0! | N63: =O63/12 -> #DIV/0! | O63: =M63*J63 -> #DIV/0!
A64: Copernicus SG | B64: 1e verdieping | C64: D111 | E64: Werkkamer al-h | F64: 3. Bureaukamers | G64: 16 | I64: Vast tapijt | J64: =J63 -> 0 | K64: 80 | M64: =G64/L64*K64 -> #DIV/0! | N64: =O64/12 -> #DIV/0! | O64: =M64*J64 -> #DIV/0!
... A86: Copernicus SG | B86: 2e verdieping | C86: B207 | E86: Kabinet scheikunde | F86: 5. Praktijklokaal | G86: 51 | I86: Sure step | J86: =J85 -> 0 | K86: 120 | M86: =G86/L86*K86 -> #DIV/0! | N86: =O86/12 -> #DIV/0! | O86: =M86*J86 -> #DIV/0!
A87: Copernicus SG | B87: 2e verdieping | C87: B208 | E87: Werkkast | F87: NIO | H87: 4 | I87: Pvc | K87: NIO
A88: Copernicus SG | B88: 2e verdieping | C88: B209 | E88: Toilet leerlingen (m) | F88: 1. Sanitair | G88: 10 | I88: Pvc | J88: =J86 -> 0 | K88: 400 | M88: =G88/L88*K88 -> #DIV/0! | N88: =O88/12 -> #DIV/0! | O88: =M88*J88 -> #DIV/0!
A89: Copernicus SG | B89: 2e verdieping | C89: B210 | E89: Trapportaal | F89: 2. Verkeersruimte | G89: 12 | I89: Lino | J89: =J88 -> 0 | K89: 200 | M89: =G89/L89*K89 -> #DIV/0! | N89: =O89/12 -> #DIV/0! | O89: =M89*J89 -> #DIV/0!
A90: Copernicus SG | B90: 2e verdieping | C90: B211 | E90: Verkeersruimte | F90: 2. Verkeersruimte | G90: 101 | I90: Lino | J90: =J89 -> 0 | K90: 200 | M90: =G90/L90*K90 -> #DIV/0! | N90: =O90/12 -> #DIV/0! | O90: =M90*J90 -> #DIV/0!
A91: Copernicus SG | B91: 2e verdieping | C91: 230 | E91: Leslokaal biologie | F91: 4. Theorielokaal | G91: 50 | I91: Sure step | J91: =J90 -> 0 | K91: 120 | M91: =G91/L91*K91 -> #DIV/0! | N91: =O91/12 -> #DIV/0! | O91: =M91*J91 -> #DIV/0!
A92: Copernicus SG | B92: 2e verdieping | C92: C201 | E92: Docenten werkplek | F92: 3. Bureaukamers | G92: 38 | I92: Sure step | J92: =J91 -> 0 | K92: 120 | M92: =G92/L92*K92 -> #DIV/0! | N92: =O92/12 -> #DIV/0! | O92: =M92*J92 -> #DIV/0!
A93: Copernicus SG | B93: 2e verdieping | C93: C203 | E93: Trapportaal | F93: 2. Verkeersruimte | G93: 12 | I93: Lino | J93: =J92 -> 0 | K93: 200 | M93: =G93/L93*K93 -> #DIV/0! | N93: =O93/12 -> #DIV/0! | O93: =M93*J93 -> #DIV/0!
A94: Copernicus SG | B94: 2e verdieping | C94: C204 | E94: Toilet leerlingen (v) | F94: 1. Sanitair | G94: 12 | I94: Pvc | J94: =J93 -> 0 | K94: 400 | M94: =G94/L94*K94 -> #DIV/0! | N94: =O94/12 -> #DIV/0! | O94: =M94*J94 -> #DIV/0!
A95: Copernicus SG | B95: 2e verdieping | C95: 231 | E95: Leslokaal scheikunde | F95: 4. Theorielokaal | G95: 75 | I95: Sure step | J95: =J94 -> 0 | K95: 120 | M95: =G95/L95*K95 -> #DIV/0! | N95: =O95/12 -> #DIV/0! | O95: =M95*J95 -> #DIV/0!
A96: Copernicus SG | B96: 2e verdieping | C96: 232 | E96: Leerlingen werkplek | F96: 3. Bureaukamers | G96: 100 | I96: Lino | J96: =J95 -> 0 | K96: 120 | M96: =G96/L96*K96 -> #DIV/0! | N96: =O96/12 -> #DIV/0! | O96: =M96*J96 -> #DIV/0!
...

Sheet OSG West-Friesland
A1: Locatie | B1: Verdieping | C1: Ruimtenummer | D1: Nr. tekening | E1: Ruimte-omschrijving | F1: Werkprogramma | G1: M2 | H1: m2 NIO | I1: Vloerafwerking | J1: Uurtarief | K1: Frequentie | L1: Prestatienorm | M1: Uren per jaar | N1: Kosten per maand | O1: Kosten per jaar | P1: Opmerkingen
A2: OSG West-Friesland | B2: 1e verdieping | C2: 200 | E2: Ondersteunings lokaal | F2: 3. Bureaukamers | G2: 107.6 | I2: Linoleum | J2: 0 | K2: 200 | M2: =G2/L2*K2 -> #DIV/0! | N2: =O2/12 -> #DIV/0! | O2: =M2*J2 -> #DIV/0!
A3: OSG West-Friesland | B3: 1e verdieping | C3: 201 | E3: Lokaal | F3: 4. Theorielokaal | G3: 65.9 | I3: Linoleum | J3: =J2 -> 0 | K3: 200 | M3: =G3/L3*K3 -> #DIV/0! | N3: =O3/12 -> #DIV/0! | O3: =M3*J3 -> #DIV/0!
A4: OSG West-Friesland | B4: 1e verdieping | C4: 203 | E4: Lokaal | F4: 4. Theorielokaal | G4: 58.48 | I4: Linoleum | J4: =J3 -> 0 | K4: 200 | M4: =G4/L4*K4 -> #DIV/0! | N4: =O4/12 -> #DIV/0! | O4: =M4*J4 -> #DIV/0!
A5: OSG West-Friesland | B5: 1e verdieping | C5: 222 | E5: Werkplek | F5: 3. Bureaukamers | G5: 17.1 | I5: Linoleum | J5: =J4 -> 0 | K5: 80 | M5: =G5/L5*K5 -> #DIV/0! | N5: =O5/12 -> #DIV/0! | O5: =M5*J5 -> #DIV/0!
A6: OSG West-Friesland | B6: 1e verdieping | C6: 200a | E6: Spreekkamer | F6: 3. Bureaukamers | G6: 21.4 | I6: Linoleum | J6: =J5 -> 0 | K6: 80 | M6: =G6/L6*K6 -> #DIV/0! | N6: =O6/12 -> #DIV/0! | O6: =M6*J6 -> #DIV/0!
A7: OSG West-Friesland | B7: 1e verdieping | C7: 201a | E7: Spreekkamer | F7: 3. Bureaukamers | G7: 7 | I7: Linoleum | J7: =J6 -> 0 | K7: 80 | M7: =G7/L7*K7 -> #DIV/0! | N7: =O7/12 -> #DIV/0! | O7: =M7*J7 -> #DIV/0!
A8: OSG West-Friesland | B8: 1e verdieping | C8: 202 | E8: Lokaal | F8: 4. Theorielokaal | G8: 45.6 | I8: Linoleum | J8: =J7 -> 0 | K8: 200 | M8: =G8/L8*K8 -> #DIV/0! | N8: =O8/12 -> #DIV/0! | O8: =M8*J8 -> #DIV/0!
A9: OSG West-Friesland | B9: 1e verdieping | C9: 203a | E9: Werkplek | F9: 3. Bureaukamers | G9: 17.07 | I9: Linoleum | J9: =J8 -> 0 | K9: 80 | M9: =G9/L9*K9 -> #DIV/0! | N9: =O9/12 -> #DIV/0! | O9: =M9*J9 -> #DIV/0!
A10: OSG West-Friesland | B10: 1e verdieping | C10: 204 | E10: Lokaal | F10: 4. Theorielokaal | G10: 52.2 | I10: Linoleum | J10: =J9 -> 0 | K10: 200 | M10: =G10/L10*K10 -> #DIV/0! | N10: =O10/12 -> #DIV/0! | O10: =M10*J10 -> #DIV/0!
A11: OSG West-Friesland | B11: 1e verdieping | C11: 205 | E11: Lokaal | F11: 4. Theorielokaal | G11: 45.9 | I11: Linoleum | J11: =J10 -> 0 | K11: 200 | M11: =G11/L11*K11 -> #DIV/0! | N11: =O11/12 -> #DIV/0! | O11: =M11*J11 -> #DIV/0!
A12: OSG West-Friesland | B12: 1e verdieping | C12: 206 | E12: Lokaal | F12: 4. Theorielokaal | G12: 45.6 | I12: Linoleum | J12: =J11 -> 0 | K12: 200 | M12: =G12/L12*K12 -> #DIV/0! | N12: =O12/12 -> #DIV/0! | O12: =M12*J12 -> #DIV/0!
A13: OSG West-Friesland | B13: 1e verdieping | C13: 207 | E13: Lokaal | F13: 4. Theorielokaal | G13: 90.7 | I13: Linoleum | J13: =J12 -> 0 | K13: 200 | M13: =G13/L13*K13 -> #DIV/0! | N13: =O13/12 -> #DIV/0! | O13: =M13*J13 -> #DIV/0!
A14: OSG West-Friesland | B14: 1e verdieping | C14: 208 | E14: Werkplek | F14: 4. Theorielokaal | G14: 45.5 | I14: Linoleum | J14: =J13 -> 0 | K14: 80 | M14: =G14/L14*K14 -> #DIV/0! | N14: =O14/12 -> #DIV/0! | O14: =M14*J14 -> #DIV/0!
A15: OSG West-Friesland | B15: 1e verdieping | C15: 209 | E15: Lokaal | F15: 4. Theorielokaal | G15: 98.2 | I15: Linoleum | J15: =J14 -> 0 | K15: 200 | M15: =G15/L15*K15 -> #DIV/0! | N15: =O15/12 -> #DIV/0! | O15: =M15*J15 -> #DIV/0!
A16: OSG West-Friesland | B16: 1e verdieping | C16: 210 | E16: Lokaal | F16: 4. Theorielokaal | G16: 120 | I16: Linoleum | J16: =J15 -> 0 | K16: 200 | M16: =G16/L16*K16 -> #DIV/0! | N16: =O16/12 -> #DIV/0! | O16: =M16*J16 -> #DIV/0!
A17: OSG West-Friesland | B17: 1e verdieping | C17: 211 | E17: Ondersteunings lokaal | F17: 4. Theorielokaal | G17: 67.5 | I17: Linoleum | J17: =J16 -> 0 | K17: 200 | M17: =G17/L17*K17 -> #DIV/0! | N17: =O17/12 -> #DIV/0! | O17: =M17*J17 -> #DIV/0!
A18: OSG West-Friesland | B18: 1e verdieping | C18: 213 | E18: Lokaal | F18: 4. Theorielokaal | G18: 57.1 | I18: Linoleum | J18: =J17 -> 0 | K18: 200 | M18: =G18/L18*K18 -> #DIV/0! | N18: =O18/12 -> #DIV/0! | O18: =M18*J18 -> #DIV/0!
A19: OSG West-Friesland | B19: 1e verdieping | C19: 214 | E19: Lokaal | F19: 4. Theorielokaal | G19: 58.2 | I19: Linoleum | J19: =J18 -> 0 | K19: 200 | M19: =G19/L19*K19 -> #DIV/0! | N19: =O19/12 -> #DIV/0! | O19: =M19*J19 -> #DIV/0!
A20: OSG West-Friesland | B20: 1e verdieping | C20: 214a | E20: Werkplek | F20: 3. Bureaukamers | G20: 12 | I20: Linoleum | J20: =J19 -> 0 | K20: 80 | M20: =G20/L20*K20 -> #DIV/0! | N20: =O20/12 -> #DIV/0! | O20: =M20*J20 -> #DIV/0!
A21: OSG West-Friesland | B21: 1e verdieping | C21: 215 | E21: Lokaal | F21: 4. Theorielokaal | G21: 47.3 | I21: Linoleum | J21: =J20 -> 0 | K21: 200 | M21: =G21/L21*K21 -> #DIV/0! | N21: =O21/12 -> #DIV/0! | O21: =M21*J21 -> #DIV/0!
A22: OSG West-Friesland | B22: 1e verdieping | C22: 216 | E22: Lokaal | F22: 4. Theorielokaal | G22: 59.2 | I22: Linoleum | J22: =J21 -> 0 | K22: 200 | M22: =G22/L22*K22 -> #DIV/0! | N22: =O22/12 -> #DIV/0! | O22: =M22*J22 -> #DIV/0!
A23: OSG West-Friesland | B23: 1e verdieping | C23: 217 | E23: Lokaal | F23: 4. Theorielokaal | G23: 59.2 | I23: Linoleum | J23: =J22 -> 0 | K23: 200 | M23: =G23/L23*K23 -> #DIV/0! | N23: =O23/12 -> #DIV/0! | O23: =M23*J23 -> #DIV/0!
A24: OSG West-Friesland | B24: 1e verdieping | C24: 218 | E24: Werkplek | F24: 3. Bureaukamers | G24: 21.8 | I24: Linoleum | J24: =J23 -> 0 | K24: 80 | M24: =G24/L24*K24 -> #DIV/0! | N24: =O24/12 -> #DIV/0! | O24: =M24*J24 -> #DIV/0!
A25: OSG West-Friesland | B25: 1e verdieping | C25: 219 | E25: administratie | F25: 3. Bureaukamers | G25: 41.8 | I25: Linoleum | J25: =J24 -> 0 | K25: 200 | M25: =G25/L25*K25 -> #DIV/0! | N25: =O25/12 -> #DIV/0! | O25: =M25*J25 -> #DIV/0!
A26: OSG West-Friesland | B26: 1e verdieping | C26: 220 | E26: Directeur | F26: 3. Bureaukamers | G26: 34 | I26: Linoleum | J26: =J25 -> 0 | K26: 80 | M26: =G26/L26*K26 -> #DIV/0! | N26: =O26/12 -> #DIV/0! | O26: =M26*J26 -> #DIV/0!
A27: OSG West-Friesland | B27: 1e verdieping | C27: 221 | E27: Werkplek | F27: 3. Bureaukamers | G27: 94.1 | I27: Linoleum | J27: =J26 -> 0 | K27: 80 | M27: =G27/L27*K27 -> #DIV/0! | N27: =O27/12 -> #DIV/0! | O27: =M27*J27 -> #DIV/0!
A28: OSG West-Friesland | B28: 1e verdieping | C28: 222a | E28: Werkplek | F28: 3. Bureaukamers | G28: 52.3 | I28: Linoleum | J28: =J27 -> 0 | K28: 80 | M28: =G28/L28*K28 -> #DIV/0! | N28: =O28/12 -> #DIV/0! | O28: =M28*J28 -> #DIV/0!
A29: OSG West-Friesland | B29: 1e verdieping | C29: 223 | E29: Kopieerruimte | F29: 2. Verkeersruimte | G29: 7 | I29: Linoleum | J29: =J28 -> 0 | K29: 80 | M29: =G29/L29*K29 -> #DIV/0! | N29: =O29/12 -> #DIV/0! | O29: =M29*J29 -> #DIV/0!
A30: OSG West-Friesland | B30: 1e verdieping | C30: 501 | E30: Lokaal | F30: 4. Theorielokaal | G30: 66.8 | I30: Linoleum | J30: =J29 -> 0 | K30: 200 | M30: =G30/L30*K30 -> #DIV/0! | N30: =O30/12 -> #DIV/0! | O30: =M30*J30 -> #DIV/0!
A31: OSG West-Friesland | B31: 1e verdieping | C31: 502 | E31: Lokaal | F31: 4. Theorielokaal | G31: 67.5 | I31: Linoleum | J31: =J30 -> 0 | K31: 200 | M31: =G31/L31*K31 -> #DIV/0! | N31: =O31/12 -> #DIV/0! | O31: =M31*J31 -> #DIV/0!
A32: OSG West-Friesland | B32: 1e verdieping | C32: 503 | E32: Lokaal | F32: 4. Theorielokaal | G32: 75.6 | I32: Linoleum | J32: =J31 -> 0 | K32: 200 | M32: =G32/L32*K32 -> #DIV/0! | N32: =O32/12 -> #DIV/0! | O32: =M32*J32 -> #DIV/0!
A33: OSG West-Friesland | B33: 1e verdieping | C33: 504 | E33: Lokaal | F33: 4. Theorielokaal | G33: 76.4 | I33: Linoleum | J33: =J32 -> 0 | K33: 200 | M33: =G33/L33*K33 -> #DIV/0! | N33: =O33/12 -> #DIV/0! | O33: =M33*J33 -> #DIV/0!
A34: OSG West-Friesland | B34: 1e verdieping | C34: 504a | E34: Werkplek | F34: 3. Bureaukamers | G34: 30.3 | I34: Linoleum | J34: =J33 -> 0 | K34: 80 | M34: =G34/L34*K34 -> #DIV/0! | N34: =O34/12 -> #DIV/0! | O34: =M34*J34 -> #DIV/0!
A35: OSG West-Friesland | B35: 1e verdieping | C35: 504b | E35: Werkplek | F35: 3. Bureaukamers | G35: 18.96 | I35: Linoleum | J35: =J34 -> 0 | K35: 80 | M35: =G35/L35*K35 -> #DIV/0! | N35: =O35/12 -> #DIV/0! | O35: =M35*J35 -> #DIV/0!
A36: OSG West-Friesland | B36: 1e verdieping | C36: 504c | E36: Werkplek | F36: 3. Bureaukamers | G36: 4.3 | I36: Linoleum | J36: =J35 -> 0 | K36: 80 | M36: =G36/L36*K36 -> #DIV/0! | N36: =O36/12 -> #DIV/0! | O36: =M36*J36 -> #DIV/0!
A37: OSG West-Friesland | B37: 1e verdieping | C37: 504d | E37: Werkplek | F37: 3. Bureaukamers | G37: 9.7 | I37: Linoleum | J37: =J36 -> 0 | K37: 80 | M37: =G37/L37*K37 -> #DIV/0! | N37: =O37/12 -> #DIV/0! | O37: =M37*J37 -> #DIV/0!
A38: OSG West-Friesland | B38: 1e verdieping | C38: 505 | E38: Lokaal | F38: 4. Theorielokaal | G38: 49.7 | I38: Linoleum | J38: =J37 -> 0 | K38: 200 | M38: =G38/L38*K38 -> #DIV/0! | N38: =O38/12 -> #DIV/0! | O38: =M38*J38 -> #DIV/0!
A39: OSG West-Friesland | B39: 1e verdieping | C39: 506 | E39: Lokaal | F39: 4. Theorielokaal | G39: 70 | I39: Linoleum | J39: =J38 -> 0 | K39: 200 | M39: =G39/L39*K39 -> #DIV/0! | N39: =O39/12 -> #DIV/0! | O39: =M39*J39 -> #DIV/0!
A40: OSG West-Friesland | B40: 1e verdieping | C40: 507 | E40: Lokaal | F40: 4. Theorielokaal | G40: 72.2 | I40: Gietvloer | J40: =J39 -> 0 | K40: 200 | M40: =G40/L40*K40 -> #DIV/0! | N40: =O40/12 -> #DIV/0! | O40: =M40*J40 -> #DIV/0!
...

Sheet SG Newton
A1: Locatie | B1: Verdieping | C1: Ruimtenummer | D1: Nr. tekening | E1: Ruimte-omschrijving | F1: Werkprogramma | G1: m2 | H1: M2 NIO | I1: Vloerafwerking | J1: Uurtarief | K1: Frequentie | L1: Prestatienorm | M1: Uren per jaar | N1: Kosten per maand | O1: Kosten per jaar | P1: Opmerkingen
A2: SG Newton | B2: 1e verdieping | C2: 125 | E2: Tochtportaal | F2: 2. Verkeersruimte | G2: 7 | I2: Tapijt | J2: 0 | K2: 200 | M2: =G2/L2*K2 -> #DIV/0! | N2: =O2/12 -> #DIV/0! | O2: =M2*J2 -> #DIV/0!
A3: SG Newton | B3: 1e verdieping | C3: 124 | E3: Hoofdentree | F3: 2. Verkeersruimte | G3: 26 | I3: Tapijt | J3: =J2 -> 0 | K3: 200 | M3: =G3/L3*K3 -> #DIV/0! | N3: =O3/12 -> #DIV/0! | O3: =M3*J3 -> #DIV/0!
A4: SG Newton | B4: 1e verdieping | C4: V109 | E4: Trap | F4: 2. Verkeersruimte | G4: 14 | I4: Rubber | J4: =J2 -> 0 | K4: 200 | M4: =G4/L4*K4 -> #DIV/0! | N4: =O4/12 -> #DIV/0! | O4: =M4*J4 -> #DIV/0!
A5: SG Newton | B5: 1e verdieping | C5: 101 | E5: Handel en administratie | F5: 4. Theorielokaal | G5: 87 | I5: Lino | J5: =J2 -> 0 | K5: 120 | M5: =G5/L5*K5 -> #DIV/0! | N5: =O5/12 -> #DIV/0! | O5: =M5*J5 -> #DIV/0!
A6: SG Newton | B6: 1e verdieping | C6: V01 | E6: Tochtsluis | F6: 2. Verkeersruimte | G6: 7 | I6: Lino | J6: =J5 -> 0 | K6: 40 | M6: =G6/L6*K6 -> #DIV/0! | N6: =O6/12 -> #DIV/0! | O6: =M6*J6 -> #DIV/0!
A7: SG Newton | B7: 1e verdieping | C7: V02 | E7: Noodtrappenhuis | F7: 2. Verkeersruimte | G7: 14 | I7: Beton | J7: =J6 -> 0 | K7: 20 | M7: =G7/L7*K7 -> #DIV/0! | N7: =O7/12 -> #DIV/0! | O7: =M7*J7 -> #DIV/0!
A8: SG Newton | B8: 1e verdieping | C8: 102 | E8: Handel en administratie | F8: 4. Theorielokaal | G8: 164 | I8: Lino | J8: =J7 -> 0 | K8: 120 | M8: =G8/L8*K8 -> #DIV/0! | N8: =O8/12 -> #DIV/0! | O8: =M8*J8 -> #DIV/0!
A9: SG Newton | B9: 1e verdieping | C9: 103 | E9: Vaklokaal zorg en welzijn | F9: 4. Theorielokaal | G9: 136 | I9: Lino | J9: =J8 -> 0 | K9: 120 | M9: =G9/L9*K9 -> #DIV/0! | N9: =O9/12 -> #DIV/0! | O9: =M9*J9 -> #DIV/0!
A10: SG Newton | B10: 1e verdieping | C10: V04 | E10: Tochtsluis | F10: 2. Verkeersruimte | G10: 7 | I10: Lino | J10: =J9 -> 0 | K10: 40 | M10: =G10/L10*K10 -> #DIV/0! | N10: =O10/12 -> #DIV/0! | O10: =M10*J10 -> #DIV/0!
A11: SG Newton | B11: 1e verdieping | C11: V105 | E11: Noodtrappenhuis | F11: 2. Verkeersruimte | G11: 14 | I11: Steen | J11: =J10 -> 0 | K11: 20 | M11: =G11/L11*K11 -> #DIV/0! | N11: =O11/12 -> #DIV/0! | O11: =M11*J11 -> #DIV/0!
A12: SG Newton | B12: 1e verdieping | C12: V1B | E12: Gang | F12: 2. Verkeersruimte | G12: 31 | I12: Lino | J12: =J11 -> 0 | K12: 200 | M12: =G12/L12*K12 -> #DIV/0! | N12: =O12/12 -> #DIV/0! | O12: =M12*J12 -> #DIV/0!
A13: SG Newton | B13: 1e verdieping | C13: 104 | E13: Winkel + balie | F13: 2. Verkeersruimte | G13: 33 | I13: Lino | J13: =J12 -> 0 | K13: 200 | M13: =G13/L13*K13 -> #DIV/0! | N13: =O13/12 -> #DIV/0! | O13: =M13*J13 -> #DIV/0!
A14: SG Newton | B14: 1e verdieping | E14: Tribune laag | F14: 2. Verkeersruimte | G14: 48 | I14: Hout | J14: =J13 -> 0 | K14: 200 | M14: =G14/L14*K14 -> #DIV/0! | N14: =O14/12 -> #DIV/0! | O14: =M14*J14 -> #DIV/0!
A15: SG Newton | B15: 1e verdieping | E15: Toiletgroep heren | F15: 1. Sanitair | G15: 12 | I15: Steen | J15: =J14 -> 0 | K15: 200 | M15: =G15/L15*K15 -> #DIV/0! | N15: =O15/12 -> #DIV/0! | O15: =M15*J15 -> #DIV/0!
A16: SG Newton | B16: 1e verdieping | E16: Toiletten dames | F16: 1. Sanitair | G16: 6 | I16: Tegels | J16: =J15 -> 0 | K16: 200 | M16: =G16/L16*K16 -> #DIV/0! | N16: =O16/12 -> #DIV/0! | O16: =M16*J16 -> #DIV/0!
A17: SG Newton | B17: 1e verdieping | C17: 149 | E17: Toiletten dames | F17: 1. Sanitair | G17: 6 | I17: Tegels | J17: =J16 -> 0 | K17: 200 | M17: =G17/L17*K17 -> #DIV/0! | N17: =O17/12 -> #DIV/0! | O17: =M17*J17 -> #DIV/0!
A18: SG Newton | B18: 1e verdieping | C18: 105 | E18: Podium/muzieklokaal | F18: 4. Theorielokaal | G18: 84 | I18: Lino | J18: =J17 -> 0 | K18: 120 | M18: =G18/L18*K18 -> #DIV/0! | N18: =O18/12 -> #DIV/0! | O18: =M18*J18 -> #DIV/0!
A19: SG Newton | B19: 1e verdieping | C19: 153 | E19: Tochtsluis | F19: 2. Verkeersruimte | G19: 21 | I19: Lino | J19: =J18 -> 0 | K19: 40 | M19: =G19/L19*K19 -> #DIV/0! | N19: =O19/12 -> #DIV/0! | O19: =M19*J19 -> #DIV/0!
A20: SG Newton | B20: 1e verdieping | C20: V107 | E20: Noodtrappenhuis | F20: 2. Verkeersruimte | G20: 14 | I20: Beton | J20: =J19 -> 0 | K20: 20 | M20: =G20/L20*K20 -> #DIV/0! | N20: =O20/12 -> #DIV/0! | O20: =M20*J20 -> #DIV/0!
A21: SG Newton | B21: 1e verdieping | C21: V1A | E21: # aula | F21: 2. Verkeersruimte | G21: 300 | I21: Lino | J21: =J20 -> 0 | K21: 200 | M21: =G21/L21*K21 -> #DIV/0! | N21: =O21/12 -> #DIV/0! | O21: =M21*J21 -> #DIV/0!
A22: SG Newton | B22: 1e verdieping | C22: T1A | E22: Aula tribune+trap | F22: 2. Verkeersruimte | G22: 216 | I22: Hout | J22: =J21 -> 0 | K22: 200 | M22: =G22/L22*K22 -> #DIV/0! | N22: =O22/12 -> #DIV/0! | O22: =M22*J22 -> #DIV/0!
A23: SG Newton | B23: 1e verdieping | C23: T1B | E23: Trap tussenverd. | F23: 2. Verkeersruimte | G23: 23 | I23: Rubber | J23: =J22 -> 0 | K23: 200 | M23: =G23/L23*K23 -> #DIV/0! | N23: =O23/12 -> #DIV/0! | O23: =M23*J23 -> #DIV/0!
A24: SG Newton | B24: 2e verdieping | C24: 240 | E24: Lockers | F24: 2. Verkeersruimte | G24: 12 | I24: Lino | J24: =J23 -> 0 | K24: 200 | M24: =G24/L24*K24 -> #DIV/0! | N24: =O24/12 -> #DIV/0! | O24: =M24*J24 -> #DIV/0!
A25: SG Newton | B25: 2e verdieping | C25: 210 | E25: Tochtsluis | F25: 2. Verkeersruimte | G25: 14 | I25: Lino | J25: =J24 -> 0 | K25: 40 | M25: =G25/L25*K25 -> #DIV/0! | N25: =O25/12 -> #DIV/0! | O25: =M25*J25 -> #DIV/0!
A26: SG Newton | B26: 2e verdieping | C26: V210 | E26: Noodtrappenhuis | F26: 2. Verkeersruimte | G26: 14 | I26: Steen | J26: =J25 -> 0 | K26: 20 | M26: =G26/L26*K26 -> #DIV/0! | N26: =O26/12 -> #DIV/0! | O26: =M26*J26 -> #DIV/0!
A27: SG Newton | B27: 2e verdieping | C27: 209 | E27: Theorievaklokaal na/sk | F27: 4. Theorielokaal | G27: 64 | I27: Lino | J27: =J26 -> 0 | K27: 120 | M27: =G27/L27*K27 -> #DIV/0! | N27: =O27/12 -> #DIV/0! | O27: =M27*J27 -> #DIV/0!
A28: SG Newton | B28: 2e verdieping | C28: 241 | E28: Toa-ruimte | F28: 5. Praktijklokaal | G28: 26 | I28: Lino | J28: =J27 -> 0 | K28: 40 | M28: =G28/L28*K28 -> #DIV/0! | N28: =O28/12 -> #DIV/0! | O28: =M28*J28 -> #DIV/0!
... A65: SG Newton | B65: 3e verdieping | C65: 313 | E65: Theorielokaal | F65: 4. Theorielokaal | G65: 52 | I65: Lino | J65: =J64 -> 0 | K65: 120 | M65: =G65/L65*K65 -> #DIV/0! | N65: =O65/12 -> #DIV/0! | O65: =M65*J65 -> #DIV/0!
A66: SG Newton | B66: 3e verdieping | C66: 340 | F66: 2. Verkeersruimte | G66: 12 | I66: Lino | J66: =J65 -> 0 | K66: 200 | M66: =G66/L66*K66 -> #DIV/0! | N66: =O66/12 -> #DIV/0! | O66: =M66*J66 -> #DIV/0!
A67: SG Newton | B67: 3e verdieping | C67: 312 | E67: Tochtsluis | F67: 2. Verkeersruimte | G67: 14 | I67: Lino | J67: =J66 -> 0 | K67: 40 | M67: =G67/L67*K67 -> #DIV/0! | N67: =O67/12 -> #DIV/0! | O67: =M67*J67 -> #DIV/0!
A68: SG Newton | B68: 3e verdieping | C68: V302 | E68: Noodtrappenhuis | F68: 2. Verkeersruimte | G68: 14 | I68: Beton | J68: =J67 -> 0 | K68: 20 | M68: =G68/L68*K68 -> #DIV/0! | N68: =O68/12 -> #DIV/0! | O68: =M68*J68 -> #DIV/0!
A69: SG Newton | B69: 3e verdieping | C69: 311 | E69: Theorievaklokaal bio | F69: 4. Theorielokaal | G69: 78 | I69: Lino | J69: =J68 -> 0 | K69: 120 | M69: =G69/L69*K69 -> #DIV/0! | N69: =O69/12 -> #DIV/0! | O69: =M69*J69 -> #DIV/0!
A70: SG Newton | B70: 3e verdieping | C70: 341 | E70: Berging | F70: 6. Bergingen | G70: NIO | H70: 3 | I70: Lino | K70: NIO
A71: SG Newton | B71: 3e verdieping | C71: 342 | E71: Berging | F71: 6. Bergingen | G71: NIO | H71: 4 | I71: Lino | K71: NIO
A72: SG Newton | B72: 3e verdieping | C72: 310 | E72: Theorievaklokaal na/sk | F72: 4. Theorielokaal | G72: 73 | I72: Lino | J72: =J69 -> 0 | K72: 120 | M72: =G72/L72*K72 -> #DIV/0! | N72: =O72/12 -> #DIV/0! | O72: =M72*J72 -> #DIV/0!
A73: SG Newton | B73: 3e verdieping | C73: 343 | E73: Herentoilet | F73: 1. Sanitair | G73: 10 | I73: Tegels | J73: =J72 -> 0 | K73: 200 | M73: =G73/L73*K73 -> #DIV/0! | N73: =O73/12 -> #DIV/0! | O73: =M73*J73 -> #DIV/0!
A74: SG Newton | B74: 4e verdieping | C74: 440 | E74: deelschoolplein | F74: 2. Verkeersruimte | G74: 16 | I74: Lino | J74: =J73 -> 0 | K74: 200 | M74: =G74/L74*K74 -> #DIV/0! | N74: =O74/12 -> #DIV/0! | O74: =M74*J74 -> #DIV/0!
A75: SG Newton | B75: 4e verdieping | C75: 413 | E75: Tochtsluis | F75: 2. Verkeersruimte | G75: 18 | I75: Lino | J75: =J74 -> 0 | K75: 40 | M75: =G75/L75*K75 -> #DIV/0! | N75: =O75/12 -> #DIV/0! | O75: =M75*J75 -> #DIV/0!
A76: SG Newton | B76: 4e verdieping | C76: V413 | E76: Noodtrappenhuis | F76: 2. Verkeersruimte | G76: 14 | I76: Beton | J76: =J75 -> 0 | K76: 20 | M76: =G76/L76*K76 -> #DIV/0! | N76: =O76/12 -> #DIV/0! | O76: =M76*J76 -> #DIV/0!
...

Sheet Atlas Service Center
A1: Locatie | B1: Verdieping | C1: Ruimtenummer | D1: Nr. tekening | E1: Ruimte-omschrijving | F1: Werkprogramma | G1: m2 | H1: M2 NIO | I1: Vloerafwerking | J1: Uurtarief | K1: Frequentie | L1: Prestatienorm | M1: Uren per jaar | N1: Kosten per maand | O1: Kosten per jaar | P1: Opmerkingen
A2: Atlas Service Center | B2: Begane grond | C2: 14 | E2: Entree | F2: 2. Verkeersruimte | G2: 24 | I2: Loopmat/tegels | J2: 0 | K2: 200 | M2: =G2/L2*K2 -> #DIV/0! | N2: =O2/12 -> #DIV/0! | O2: =M2*J2 -> #DIV/0!
A3: Atlas Service Center | B3: Begane grond | E3: Centrale hal | F3: 2. Verkeersruimte | G3: 133 | I3: Lino | J3: =J2 -> 0 | K3: 200 | M3: =G3/L3*K3 -> #DIV/0! | N3: =O3/12 -> #DIV/0! | O3: =M3*J3 -> #DIV/0!
A4: Atlas Service Center | B4: Begane grond | C4: 1 | E4: Receptie | F4: 2. Verkeersruimte | G4: 23 | I4: Lino | J4: =J3 -> 0 | K4: 80 | M4: =G4/L4*K4 -> #DIV/0! | N4: =O4/12 -> #DIV/0! | O4: =M4*J4 -> #DIV/0!
A5: Atlas Service Center | B5: Begane grond | C5: 2 | E5: Vergaderruimte | F5: 3. Bureaukamers | G5: 74 | I5: Lino | J5: =J4 -> 0 | K5: 200 | M5: =G5/L5*K5 -> #DIV/0! | N5: =O5/12 -> #DIV/0! | O5: =M5*J5 -> #DIV/0!
A6: Atlas Service Center | B6: Begane grond | C6: 3 | E6: Kantoorruimte | F6: 3. Bureaukamers | G6: 43 | I6: Lino | J6: =J5 -> 0 | K6: 80 | M6: =G6/L6*K6 -> #DIV/0! | N6: =O6/12 -> #DIV/0! | O6: =M6*J6 -> #DIV/0!
A7: Atlas Service Center | B7: Begane grond | C7: 4a | E7: Kantoorruimte | F7: 3. Bureaukamers | G7: 61 | I7: Lino | J7: =J6 -> 0 | K7: 80 | M7: =G7/L7*K7 -> #DIV/0! | N7: =O7/12 -> #DIV/0! | O7: =M7*J7 -> #DIV/0!
A8: Atlas Service Center | B8: Begane grond | C8: 4b | E8: Kantoorruimte | F8: 3. Bureaukamers | G8: 71 | I8: Vast tapijt | J8: =J7 -> 0 | K8: 80 | M8: =G8/L8*K8 -> #DIV/0! | N8: =O8/12 -> #DIV/0! | O8: =M8*J8 -> #DIV/0!
A9: Atlas Service Center | B9: Begane grond | C9: 4c | E9: Kantoorruimte | F9: 3. Bureaukamers | G9: 19 | I9: Vast tapijt | J9: =J8 -> 0 | K9: 80 | M9: =G9/L9*K9 -> #DIV/0! | N9: =O9/12 -> #DIV/0! | O9: =M9*J9 -> #DIV/0!
A10: Atlas Service Center | B10: Begane grond | C10: 5 | E10: Vergaderrruimte | F10: 3. Bureaukamers | G10: 36 | I10: Lino | J10: =J9 -> 0 | K10: 80 | M10: =G10/L10*K10 -> #DIV/0! | N10: =O10/12 -> #DIV/0! | O10: =M10*J10 -> #DIV/0!
A11: Atlas Service Center | B11: Begane grond | C11: 6 | E11: Kantoorruimte | F11: 3. Bureaukamers | G11: 20 | I11: Lino | J11: =J10 -> 0 | K11: 80 | M11: =G11/L11*K11 -> #DIV/0! | N11: =O11/12 -> #DIV/0! | O11: =M11*J11 -> #DIV/0!
A12: Atlas Service Center | B12: Begane grond | C12: 7 | E12: Kantoorruimte | F12: 3. Bureaukamers | G12: 30 | I12: Lino | J12: =J11 -> 0 | K12: 80 | M12: =G12/L12*K12 -> #DIV/0! | N12: =O12/12 -> #DIV/0! | O12: =M12*J12 -> #DIV/0!
A13: Atlas Service Center | B13: Begane grond | C13: 8 | E13: Kantoorruimte | F13: 3. Bureaukamers | G13: 20 | I13: Lino | J13: =J12 -> 0 | K13: 80 | M13: =G13/L13*K13 -> #DIV/0! | N13: =O13/12 -> #DIV/0! | O13: =M13*J13 -> #DIV/0!
A14: Atlas Service Center | B14: Begane grond | C14: 9 | E14: Kantoorruimte | F14: 3. Bureaukamers | G14: 29 | I14: Lino | J14: =J13 -> 0 | K14: 80 | M14: =G14/L14*K14 -> #DIV/0! | N14: =O14/12 -> #DIV/0! | O14: =M14*J14 -> #DIV/0!
A15: Atlas Service Center | B15: Begane grond | C15: 10 | E15: Kantoorruimte | F15: 3. Bureaukamers | G15: 31 | I15: Lino | J15: =J14 -> 0 | K15: 80 | M15: =G15/L15*K15 -> #DIV/0! | N15: =O15/12 -> #DIV/0! | O15: =M15*J15 -> #DIV/0!
... A21: Atlas Service Center | B21: Begane grond | C21: 15 | E21: Kantoorruimte | F21: 3. Bureaukamers | G21: 49 | I21: Lino | J21: =J20 -> 0 | K21: 80 | M21: =G21/L21*K21 -> #DIV/0! | N21: =O21/12 -> #DIV/0! | O21: =M21*J21 -> #DIV/0!
A22: Atlas Service Center | B22: Begane grond | E22: Opslag | F22: 6. Bergingen | G22: 9 | I22: Lino | J22: =J21 -> 0 | K22: 40 | M22: =G22/L22*K22 -> #DIV/0! | N22: =O22/12 -> #DIV/0! | O22: =M22*J22 -> #DIV/0!
A23: Atlas Service Center | B23: Begane grond | E23: Reproruimte | F23: 2. Verkeersruimte | G23: 12 | I23: Lino | J23: =J22 -> 0 | K23: 80 | M23: =G23/L23*K23 -> #DIV/0! | N23: =O23/12 -> #DIV/0! | O23: =M23*J23 -> #DIV/0!
A24: Atlas Service Center | B24: Begane grond | E24: Keuken | F24: 2. Verkeersruimte | G24: 28 | I24: Lino | J24: =J23 -> 0 | K24: 200 | M24: =G24/L24*K24 -> #DIV/0! | N24: =O24/12 -> #DIV/0! | O24: =M24*J24 -> #DIV/0!
A25: Atlas Service Center | B25: Begane grond | E25: Invalidentoilet | F25: 1. Sanitair | G25: 5 | I25: Tegels | J25: =J24 -> 0 | K25: 200 | M25: =G25/L25*K25 -> #DIV/0! | N25: =O25/12 -> #DIV/0! | O25: =M25*J25 -> #DIV/0!
A26: Atlas Service Center | B26: Begane grond | E26: Toiletgroep | F26: 1. Sanitair | G26: 12 | I26: Tegels | J26: =J25 -> 0 | K26: 200 | M26: =G26/L26*K26 -> #DIV/0! | N26: =O26/12 -> #DIV/0! | O26: =M26*J26 -> #DIV/0!
A27: Atlas Service Center | B27: Begane grond | E27: Toilet dames | F27: 1. Sanitair | G27: 5 | I27: Tegels | J27: =J26 -> 0 | K27: 200 | M27: =G27/L27*K27 -> #DIV/0! | N27: =O27/12 -> #DIV/0! | O27: =M27*J27 -> #DIV/0!
A28: Atlas Service Center | B28: Begane grond | E28: Verkeersruimte | F28: 2. Verkeersruimte | G28: 42 | I28: Tegels | J28: =J27 -> 0 | K28: 200 | M28: =G28/L28*K28 -> #DIV/0! | N28: =O28/12 -> #DIV/0! | O28: =M28*J28 -> #DIV/0!
A29: Atlas Service Center | B29: Begane grond | E29: Archief | F29: 6. Bergingen | G29: 12 | I29: Vast tapijt | J29: =J28 -> 0 | K29: 40 | M29: =G29/L29*K29 -> #DIV/0! | N29: =O29/12 -> #DIV/0! | O29: =M29*J29 -> #DIV/0!
A30: Atlas Service Center | F30: Totaal: | G30: =SUM(G2:G29) -> 903 | M30: =SUM(M2:M29) -> #DIV/0! | N30: =SUM(N2:N29) -> #DIV/0! | O30: =SUM(O2:O29) -> #DIV/0!

Sheet Regie
A2: Regie werkzaamheden worden op afroep aangevraagd.
A3: Werkzaamheden dienen exclusief BTW als volgt te worden afgeprijsd: Prijs per stuk of prijs per m2 in de betreffende staffel.
A4: A. VLOERONDERHOUD | B4: tot 100 m2 | C4: 100 - 500 m2 | D4: Vanaf 500 m2 | E4: Totaal excl. Btw
A5: Diepreinigen (sproeiextractie) van tapijt | B5: 0 | C5: 0 | D5: 0 | E5: =SUM(B5:D5) -> 0
A6: Dieptereiningen (shamponeren) van tapijt | B6: 0 | C6: 0 | D6: 0 | E6: =SUM(B6:D6) -> 0
A7: Spotclean tapijt (vlekverwijderen en kauwgom) | B7: 0 | C7: 0 | D7: 0 | E7: =SUM(B7:D7) -> 0
A8: Stofzuigen harde vloeren | B8: 0 | C8: 0 | D8: 0 | E8: =SUM(B8:D8) -> 0
A9: Moppen van harde vloeren | B9: 0 | C9: 0 | D9: 0 | E9: =SUM(B9:D9) -> 0
A10: Schrobben van harde vloeren | B10: 0 | C10: 0 | D10: 0 | E10: =SUM(B10:D10) -> 0
A11: Opwrijven van harde vloeren | B11: 0 | C11: 0 | D11: 0 | E11: =SUM(B11:D11) -> 0
A12: Sprayen en opwrijven van linoleum | B12: 0 | C12: 0 | D12: 0 | E12: =SUM(B12:D12) -> 0
A13: Conserveren (topcoaten) van linoleum | B13: 0 | C13: 0 | D13: 0 | E13: =SUM(B13:D13) -> 0
A14: Conserveren (recoaten) van llnoleum | B14: 0 | C14: 0 | D14: 0 | E14: =SUM(B14:D14) -> 0
A15: Vegen buitenbestrating ruw steen/beton | B15: 0 | C15: 0 | D15: 0 | E15: =SUM(B15:D15) -> 0
A16: Hogedrukreiniging vloeren buitenterrein (steen/beton) | B16: 0 | C16: 0 | D16: 0 | E16: =SUM(B16:D16) -> 0
... A20: Entree / Buitenterrein kauwgom verwijderen | B20: 0 | C20: 0 | D20: 0 | E20: =SUM(B20:D20) -> 0
A21: TOTAAL ONDERDEEL A | E21: =SUM(E5:E20) -> 0 | F21: maximale score: | G21: 6
A23: B. BINNENZONWERING | B23: tot 100 m2 | C23: 100 - 500 m2 | D23: Vanaf 500 m2 | E23: Totaal excl. btw
A24: Reinigen van horizontale lamellen | B24: 0 | C24: 0 | D24: 0 | E24: =SUM(B24:D24) -> 0
A25: Reinigen van verticale lamellen | B25: 0 | C25: 0 | D25: 0 | E25: =SUM(B25:D25) -> 0
A26: TOTAAL ONDERDEEL B | E26: =SUM(E24:E25) -> 0 | F26: maximale score: | G26: 2
A28: C. PLAFONDREINIGING | B28: tot 100 m2 | C28: 100 - 500 m2 | D28: Vanaf 500 m2 | E28: Totaal excl. btw
A29: Spinragverwijderen plafond, overkappingen en wanden | B29: 0 | C29: 0 | D29: 0 | E29: =SUM(B29:D29) -> 0
A30: PLAFONDREINIGING OVERIG | B30: tot 10 Stuks | C30: 10 - 50 stuks | D30: vanaf 50 stuks
A31: Luchtroosters buitenzijde reinigen | B31: 0 | C31: 0 | D31: 0 | E31: =SUM(B31:D31) -> 0
A32: TOTAAL ONDERDEEL C | E32: =SUM(E29:E29,E31) -> 0 | F32: maximale score: | G32: 2
A34: D. GEVELREINIGING | B34: tot 100 m2 | C34: 100 - 500 m2 | D34: Vanaf 500 m2 | E34: Totaal excl. btw
A35: Reiniging beplating | B35: 0 | C35: 0 | D35: 0 | E35: =SUM(B35:D35) -> 0
A36: Reinigen Steen | B36: 0 | C36: 0 | D36: 0 | E36: =SUM(B36:D36) -> 0
A37: Reinigen separatieglas (enkelzijdig) | B37: 0 | C37: 0 | D37: 0 | E37: =SUM(B37:D37) -> 0
A38: Reinigen gevelglas buitenzijde (enkelzijdig) | B38: 0 | C38: 0 | D38: 0 | E38: =SUM(B38:D38) -> 0
A39: Reinigen gevelglas binnenzijde (enkelzijdig) | B39: 0 | C39: 0 | D39: 0 | E39: =SUM(B39:D39) -> 0
A40: GEVELREINIGING OVERIG | B40: tot 10 m2 | C40: 10 - 50 m2 | D40: vanaf 100 m2
A41: Prijs per m2 graffiti verwijderen | B41: 0 | C41: 0 | D41: 0 | E41: =SUM(B41:D41) -> 0
A42: TOTAAL ONDERDEEL D | E42: =SUM(E35:E39,E41) -> 0 | F42: maximale score: | G42: 4
A44: E. BOUW / OPLEVERING | B44: tot 100 m2 | C44: 100 - 500 m2 | D44: Vanaf 500 m2 | E44: Totaal excl. btw
A45: Bouwschoonmaak: Geheel reinigen binnenruimten en glas na (ver)bouw(ing) | B45: 0 | C45: 0 | D45: 0 | E45: =SUM(B45:D45) -> 0
A46: Oplevering schoonmaak: Geheel reinigen binnenruimten en glas na inrichting | B46: 0 | C46: 0 | D46: 0 | E46: =SUM(B46:D46) -> 0
A47: TOTAAL ONDERDEEL E | E47: =SUM(E45:E46) -> 0 | F47: maximale score: | G47: 2
A49: F. REGIETARIEVEN | B49: Door de week 06:00-21:30 u. | C49: Door de week 21:30-06:00 u. | D49: Vrijdag 21.30- maandag 6.00 u. | E49: Totaal excl. btw
...
