Workbook

Sheet Uitleg
A2: Bijlage Prijzenblad
A4: Uitleg bij het invullen van het prijzenblad
A6: Alle kosten dienen te worden opgegeven exclusief BTW.
A7: De door inschrijver aangeboden tarieven zijn ‘all-in’, dat wil zeggen dat er dient te worden uitgegaan van een integraal calculatie-uurtarief voor de schoonmaak en glasbewassing waarin alle kosten, waaronder de kosten voor direct toezicht, administratieve werkzaamheden, suppletiekosten, investeringskosten, vervoerskosten, (duurzame) machines en overige additionele kosten zijn inbegrepen.
A8: Eenmalige bonussen of vergoedingen, worden niet in de beoordeling meegenomen.
A9: Tabblad Totaalblad | B9: De kosten voor het schoonmaakonderhoud worden in dit tabblad gesplitst per locatie. Deze kosten vormen samen de totale jaarprijs schoonmaak en glasbewassing exclusief BTW. Op dit tabblad hoeft de inschrijver niks in te vullen, de totalen worden automatisch berekend.
A10: Regie | B10: In tabblad "Regie" dient de inschrijver in de kolommen B, C en D de prijs in te vullen voor de gevraagde werkzaamheden als beschreven in kolom A. Kolom E telt de totalen per onderdeel samen. De inschrijver met de laagste prijs per onderdeel ontvangt de maximale punten (kolom G) voor dit onderdeel. De inschrijver met de meeste punten voor alle onderdelen ontvangt het volledige aantal punten voor regiewerkzaamheden (4). De andere inschrijvers krijgen punten toegekend in de verhouding van hun aantal punten ten opzichte van het aantal punten van de inschrijver die de meeste punten op alle onderdelen in totaal heeft gescoord.
A11: Tabblad Copernicus SG t/m Atlas Service Center | B11: In de tabbladen Copernicus SG t/m Atlas Service Center dient de inschrijver in kolom J het uurtarief in te vullen. Inschrijver dient hier uit te gaan van een calculatie-uurtarief waarin alle kosten, waaronder de kosten voor direct toezicht, administratieve werkzaamheden, suppletiekosten, investeringskosten, vervoerskosten, duurzame machines en overige additionele kosten zijn inbegrepen en waar rekening gehouden wordt met alle eisen uit het programma van eisen. De inschrijver dient in kolom L de prestatienorm in te vullen. De totale kosten voor de schoonmaak wordt berekend door de vermenigvuldiging van de gecalculeerde productie-uren op jaarbasis (kolom M) met het opgegeven uurtarief (kolom J). De prestatienorm dient te zijn gebaseerd op het reguliere onderhoud zoals beschreven in het werkprogramma en periodieke werkzaamheden. Inschrijver dient in deze tabbladen de geelgearceerde velden in te vullen.

Sheet Totaalblad
A1: Locatie: | B1: Adres: | C1: m2 | D1: Kosten per jaar | E1: Kosten per maand | F1: Uren per jaar | G1: Uren per week
A3: Copernicus SG | B3: Nieuwe Steen 11, 1625HV Hoorn | C3: ='Copernicus SG'!G198 -> 8198.35 | D3: ='Copernicus SG'!O198 -> #DIV/0! | E3: ='Copernicus SG'!N198 -> #DIV/0! | F3: ='Copernicus SG'!M198 -> #DIV/0! | G3: =F3/40 -> #DIV/0!
A4: OSG West-Friesland | B4: Bontekoestraat 3, 1623LL Hoorn | C4: ='OSG West-Friesland'!G188 -> 8488.86 | D4: ='OSG West-Friesland'!O188 -> #DIV/0! | E4: ='OSG West-Friesland'!N188 -> #DIV/0! | F4: ='OSG West-Friesland'!M188 -> #DIV/0! | G4: =F4/40 -> #DIV/0!
A5: SG Newton | B5: Dampten 22, 1624NR Hoorn | C5: ='SG Newton'!G233 -> 9603 | D5: ='SG Newton'!O233 -> #DIV/0! | E5: ='SG Newton'!N233 -> #DIV/0! | F5: ='SG Newton'!M233 -> #DIV/0! | G5: =F5/40 -> #DIV/0!
A6: Atlas Service Center | B6: Dampten 14, 1624NR Hoorn | C6: ='Atlas Service Center'!G30 -> 903 | D6: ='Atlas Service Center'!O30 -> #DIV/0! | E6: ='Atlas Service Center'!N30 -> #DIV/0! | F6: ='Atlas Service Center'!M30 -> #DIV/0! | G6: =F6/40 -> #DIV/0!
B8: Totaal: | C8: =SUM(C3:C6) -> 27193.21 | D8: =SUM(D3:D6) -> #DIV/0! | E8: =SUM(E3:E6) -> #DIV/0! | F8: =SUM(F3:F6) -> #DIV/0! | G8: =SUM(G3:G6) -> #DIV/0!

Sheet Copernicus SG
A1: Locatie | B1: Verdieping | C1: Ruimtenummer | D1: Nr. tekening | E1: Ruimte-omschrijving | F1: Werkprogramma | G1: m2 | H1: M2 NIO | I1: Vloerafwerking | J1: Uurtarief | K1: Frequentie | L1: Prestatienorm | M1: Uren per jaar | N1: Kosten per maand | O1: Kosten per jaar | P1: Opmerkingen
A2: Copernicus SG | B2: Begane grond | C2: 46 | E2: Leslokaal nederlands | F2: 4. Theorielokaal | G2: 53 | I2: Lino | J2: 0 | K2: 120 | M2: =G2/L2*K2 -> #DIV/0! | N2: =O2/12 -> #DIV/0! | O2: =M2*J2 -> #DIV/0!
A3: Copernicus SG | B3: Begane grond | C3: D006 | E3: Trapportaal | F3: 2. Verkeersruimte | G3: 32 | I3: Lino | J3: =J2 -> 0 | K3: 200 | M3: =G3/L3*K3 -> #DIV/0! | N3: =O3/12 -> #DIV/0! | O3: =M3*J3 -> #DIV/0!
A4: Copernicus SG | B4: Begane grond | C4: D007 | E4: Spreekkamer | F4: 3. Bureaukamers | G4: 10 | I4: Lino | J4: =J3 -> 0 | K4: 40 | M4: =G4/L4*K4 -> #DIV/0! | N4: =O4/12 -> #DIV/0! | O4: =M4*J4 -> #DIV/0!
A5: Copernicus SG | B5: Begane grond | C5: D008 | E5: Spreekkamer | F5: 3. Bureaukamers | G5: 11 | I5: Lino | J5: =J4 -> 0 | K5: 40 | M5: =G5/L5*K5 -> #DIV/0! | N5: =O5/12 -> #DIV/0! | O5: =M5*J5 -> #DIV/0!
A6: Copernicus SG | B6: Begane grond | C6: D009 | E6: Docenten werkplek | F6: 3. Bureaukamers | G6: 27 | I6: Vast tapijt | J6: =J5 -> 0 | K6: 80 | M6: =G6/L6*K6 -> #DIV/0! | N6: =O6/12 -> #DIV/0! | O6: =M6*J6 -> #DIV/0!
A7: Copernicus SG | B7: Begane grond | C7: D010 | E7: Toilet leerlingen (m) | F7: 1. Sanitair | G7: 13 | I7: Pvc | J7: =J6 -> 0 | K7: 400 | M7: =G7/L7*K7 -> #DIV/0! | N7: =O7/12 -> #DIV/0! | O7: =M7*J7 -> #DIV/0!
A8: Copernicus SG | B8: Begane grond | C8: D011 | E8: Toilet personeel (m) | F8: 1. Sanitair | G8: 3 | I8: Pvc | J8: =J7 -> 0 | K8: 200 | M8: =G8/L8*K8 -> #DIV/0! | N8: =O8/12 -> #DIV/0! | O8: =M8*J8 -> #DIV/0!
A9: Copernicus SG | B9: Begane grond | C9: D012 | E9: Toilet perosneel (v) | F9: 1. Sanitair | G9: 3 | I9: Pvc | J9: =J8 -> 0 | K9: 200 | M9: =G9/L9*K9 -> #DIV/0! | N9: =O9/12 -> #DIV/0! | O9: =M9*J9 -> #DIV/0!
A10: Copernicus SG | B10: Begane grond | C10: D013 | E10: Toilet leerlingen (v) | F10: 1. Sanitair | G10: 17 | I10: Pvc | J10: =J9 -> 0 | K10: 400 | M10: =G10/L10*K10 -> #DIV/0! | N10: =O10/12 -> #DIV/0! | O10: =M10*J10 -> #DIV/0!
A11: Copernicus SG | B11: Begane grond | C11: D015 | E11: Verkeersruimte | F11: 2. Verkeersruimte | G11: 144 | I11: Lino | J11: =J10 -> 0 | K11: 200 | M11: =G11/L11*K11 -> #DIV/0! | N11: =O11/12 -> #DIV/0! | O11: =M11*J11 -> #DIV/0!
A12: Copernicus SG | B12: 1e verdieping | C12: A102 | E12: Roosterkamer | F12: 3. Bureaukamers | G12: 25 | I12: Vast tapijt | J12: =J11 -> 0 | K12: 80 | M12: =G12/L12*K12 -> #DIV/0! | N12: =O12/12 -> #DIV/0! | O12: =M12*J12 -> #DIV/0!
A13: Copernicus SG | B13: 1e verdieping | C13: 110 | E13: Leslokaal engels | F13: 4. Theorielokaal | G13: 50 | I13: Lino | J13: =J12 -> 0 | K13: 120 | M13: =G13/L13*K13 -> #DIV/0! | N13: =O13/12 -> #DIV/0! | O13: =M13*J13 -> #DIV/0!
A14: Copernicus SG | B14: 1e verdieping | C14: 111 | E14: Leslokaal engels | F14: 4. Theorielokaal | G14: 50 | I14: Lino | J14: =J13 -> 0 | K14: 120 | M14: =G14/L14*K14 -> #DIV/0! | N14: =O14/12 -> #DIV/0! | O14: =M14*J14 -> #DIV/0!
... A50: Copernicus SG | B50: 1e verdieping | C50: D101 | E50: Trapportaal | F50: 2. Verkeersruimte | G50: 46 | I50: Lino | J50: =J49 -> 0 | K50: 200 | M50: =G50/L50*K50 -> #DIV/0! | N50: =O50/12 -> #DIV/0! | O50: =M50*J50 -> #DIV/0!
A51: Copernicus SG | B51: 1e verdieping | C51: D103 | E51: Werkkast | F51: NIO | H51: 4 | I51: Pvc | K51: NIO
A52: Copernicus SG | B52: 1e verdieping | C52: 140 | E52: Ondersteunings lokaal | F52: 4. Theorielokaal | G52: 36 | I52: Lino | J52: =J50 -> 0 | K52: 120 | M52: =G52/L52*K52 -> #DIV/0! | N52: =O52/12 -> #DIV/0! | O52: =M52*J52 -> #DIV/0!
A53: Copernicus SG | B53: 1e verdieping | C53: D104 | E53: Zorg werkplek | F53: 3. Bureaukamers | G53: 21 | I53: Vast tapijt | J53: =J52 -> 0 | K53: 80 | M53: =G53/L53*K53 -> #DIV/0! | N53: =O53/12 -> #DIV/0! | O53: =M53*J53 -> #DIV/0!
A54: Copernicus SG | B54: 1e verdieping | C54: D105 | E54: Docenten werkplek | F54: 3. Bureaukamers | G54: 55 | I54: Vast tapijt | J54: =J53 -> 0 | K54: 120 | M54: =G54/L54*K54 -> #DIV/0! | N54: =O54/12 -> #DIV/0! | O54: =M54*J54 -> #DIV/0!
A55: Copernicus SG | B55: 1e verdieping | C55: D107 | E55: Spreekkamer | F55: 3. Bureaukamers | G55: 10 | I55: Lino | J55: =J54 -> 0 | K55: 80 | M55: =G55/L55*K55 -> #DIV/0! | N55: =O55/12 -> #DIV/0! | O55: =M55*J55 -> #DIV/0!
A56: Copernicus SG | B56: 1e verdieping | C56: D108 | E56: Spreekkamer | F56: 3. Bureaukamers | G56: 10 | I56: Lino | J56: =J55 -> 0 | K56: 80 | M56: =G56/L56*K56 -> #DIV/0! | N56: =O56/12 -> #DIV/0! | O56: =M56*J56 -> #DIV/0!
A57: Copernicus SG | B57: 1e verdieping | C57: 141 | E57: Leslokaal economie | F57: 4. Theorielokaal | G57: 54 | I57: Lino | J57: =J56 -> 0 | K57: 120 | M57: =G57/L57*K57 -> #DIV/0! | N57: =O57/12 -> #DIV/0! | O57: =M57*J57 -> #DIV/0!
A58: Copernicus SG | B58: 1e verdieping | C58: 142 | E58: Leslokaal maatschappijleer | F58: 4. Theorielokaal | G58: 54 | I58: Lino | J58: =J57 -> 0 | K58: 120 | M58: =G58/L58*K58 -> #DIV/0! | N58: =O58/12 -> #DIV/0! | O58: =M58*J58 -> #DIV/0!
A59: Copernicus SG | B59: 1e verdieping | C59: 143 | E59: Leslokaal geschiedenis | F59: 4. Theorielokaal | G59: 54 | I59: Lino | J59: =J58 -> 0 | K59: 120 | M59: =G59/L59*K59 -> #DIV/0! | N59: =O59/12 -> #DIV/0! | O59: =M59*J59 -> #DIV/0!
A60: Copernicus SG | B60: 1e verdieping | C60: 144 | E60: Leslokaal geschiedenis | F60: 4. Theorielokaal | G60: 71 | I60: Lino | J60: =J59 -> 0 | K60: 120 | M60: =G60/L60*K60 -> #DIV/0! | N60: =O60/12 -> #DIV/0! | O60: =M60*J60 -> #DIV/0!
A61: Copernicus SG | B61: 1e verdieping | C61: 145 | E61: Leslokaal geschiedenis | F61: 4. Theorielokaal | G61: 53 | I61: Lino | J61: =J60 -> 0 | K61: 120 | M61: =G61/L61*K61 -> #DIV/0! | N61: =O61/12 -> #DIV/0! | O61: =M61*J61 -> #DIV/0!
A62: Copernicus SG | B62: 1e verdieping | C62: D109 | E62: Trapportaal | F62: 2. Verkeersruimte | G62: 32 | I62: Hout/vast tapijt | J62: =J61 -> 0 | K62: 200 | M62: =G62/L62*K62 -> #DIV/0! | N62: =O62/12 -> #DIV/0! | O62: =M62*J62 -> #DIV/0!
A63: Copernicus SG | B63: 1e verdieping | C63: D110 | E63: Kamer adjunct-directeur | F63: 3. Bureaukamers | G63: 32 | I63: Vast tapijt | J63: =J62 -> 0 | K63: 80 | M63: =G63/L63*K63 -> #DIV/0! | N63: =O63/12 -> #DIV/0! | O63: =M63*J63 -> #DIV/0!
A64: Copernicus SG | B64: 1e verdieping | C64: D111 | E64: Werkkamer al-h | F64: 3. Bureaukamers | G64: 16 | I64: Vast tapijt | J64: =J63 -> 0 | K64: 80 | M64: =G64/L64*K64 -> #DIV/0! | N64: =O64/12 -> #DIV/0! | O64: =M64*J64 -> #DIV/0!
... A86: Copernicus SG | B86: 2e verdieping | C86: B207 | E86: Kabinet scheikunde | F86: 5. Praktijklokaal | G86: 51 | I86: Sure step | J86: =J85 -> 0 | K86: 120 | M86: =G86/L86*K86 -> #DIV/0! | N86: =O86/12 -> #DIV/0! | O86: =M86*J86 -> #DIV/0!
A87: Copernicus SG | B87: 2e verdieping | C87: B208 | E87: Werkkast | F87: NIO | H87: 4 | I87: Pvc | K87: NIO
A88: Copernicus SG | B88: 2e verdieping | C88: B209 | E88: Toilet leerlingen (m) | F88: 1. Sanitair | G88: 10 | I88: Pvc | J88: =J86 -> 0 | K88: 400 | M88: =G88/L88*K88 -> #DIV/0! | N88: =O88/12 -> #DIV/0! | O88: =M88*J88 -> #DIV/0!
A89: Copernicus SG | B89: 2e verdieping | C89: B210 | E89: Trapportaal | F89: 2. Verkeersruimte | G89: 12 | I89: Lino | J89: =J88 -> 0 | K89: 200 | M89: =G89/L89*K89 -> #DIV/0! | N89: =O89/12 -> #DIV/0! | O89: =M89*J89 -> #DIV/0!
A90: Copernicus SG | B90: 2e verdieping | C90: B211 | E90: Verkeersruimte | F90: 2. Verkeersruimte | G90: 101 | I90: Lino | J90: =J89 -> 0 | K90: 200 | M90: =G90/L90*K90 -> #DIV/0! | N90: =O90/12 -> #DIV/0! | O90: =M90*J90 -> #DIV/0!
A91: Copernicus SG | B91: 2e verdieping | C91: 230 | E91: Leslokaal biologie | F91: 4. Theorielokaal | G91: 50 | I91: Sure step | J91: =J90 -> 0 | K91: 120 | M91: =G91/L91*K91 -> #DIV/0! | N91: =O91/12 -> #DIV/0! | O91: =M91*J91 -> #DIV/0!
A92: Copernicus SG | B92: 2e verdieping | C92: C201 | E92: Docenten werkplek | F92: 3. Bureaukamers | G92: 38 | I92: Sure step | J92: =J91 -> 0 | K92: 120 | M92: =G92/L92*K92 -> #DIV/0! | N92: =O92/12 -> #DIV/0! | O92: =M92*J92 -> #DIV/0!
A93: Copernicus SG | B93: 2e verdieping | C93: C203 | E93: Trapportaal | F93: 2. Verkeersruimte | G93: 12 | I93: Lino | J93: =J92 -> 0 | K93: 200 | M93: =G93/L93*K93 -> #DIV/0! | N93: =O93/12 -> #DIV/0! | O93: =M93*J93 -> #DIV/0!
A94: Copernicus SG | B94: 2e verdieping | C94: C204 | E94: Toilet leerlingen (v) | F94: 1. Sanitair | G94: 12 | I94: Pvc | J94: =J93 -> 0 | K94: 400 | M94: =G94/L94*K94 -> #DIV/0! | N94: =O94/12 -> #DIV/0! | O94: =M94*J94 -> #DIV/0!
A95: Copernicus SG | B95: 2e verdieping | C95: 231 | E95: Leslokaal scheikunde | F95: 4. Theorielokaal | G95: 75 | I95: Sure step | J95: =J94 -> 0 | K95: 120 | M95: =G95/L95*K95 -> #DIV/0! | N95: =O95/12 -> #DIV/0! | O95: =M95*J95 -> #DIV/0!
A96: Copernicus SG | B96: 2e verdieping | C96: 232 | E96: Leerlingen werkplek | F96: 3. Bureaukamers | G96: 100 | I96: Lino | J96: =J95 -> 0 | K96: 120 | M96: =G96/L96*K96 -> #DIV/0! | N96: =O96/12 -> #DIV/0! | O96: =M96*J96 -> #DIV/0!
A97: Copernicus SG | B97: 2e verdieping | C97: C205 | E97: Werkkamer al-m | F97: 3. Bureaukamers | G97: 23 | I97: Vast tapijt | J97: =J96 -> 0 | K97: 80 | M97: =G97/L97*K97 -> #DIV/0! | N97: =O97/12 -> #DIV/0! | O97: =M97*J97 -> #DIV/0!
A98: Copernicus SG | B98: 2e verdieping | C98: 233 | E98: Leslokaal biologie | F98: 4. Theorielokaal | G98: 75 | I98: Sure step | J98: =J97 -> 0 | K98: 120 | M98: =G98/L98*K98 -> #DIV/0! | N98: =O98/12 -> #DIV/0! | O98: =M98*J98 -> #DIV/0!
A99: Copernicus SG | B99: 2e verdieping | C99: C206 | E99: Trapportaal | F99: 2. Verkeersruimte | G99: 10 | I99: Lino | J99: =J98 -> 0 | K99: 200 | M99: =G99/L99*K99 -> #DIV/0! | N99: =O99/12 -> #DIV/0! | O99: =M99*J99 -> #DIV/0!
A100: Copernicus SG | B100: 2e verdieping | C100: 234 | E100: Practicumlokaal biologie | F100: 5. Praktijklokaal | G100: 50 | I100: Sure step | J100: =J99 -> 0 | K100: 120 | M100: =G100/L100*K100 -> #DIV/0! | N100: =O100/12 -> #DIV/0! | O100: =M100*J100 -> #DIV/0!
... A103: Copernicus SG | B103: 2e verdieping | C103: D201 | E103: Trapportaal | F103: 2. Verkeersruimte | G103: 46 | I103: Hout/vast tapijt | J103: =J102 -> 0 | K103: 200 | M103: =G103/L103*K103 -> #DIV/0! | N103: =O103/12 -> #DIV/0! | O103: =M103*J103 -> #DIV/0!
A104: Copernicus SG | B104: 2e verdieping | C104: D203 | E104: Werkkast | F104: NIO | G104: NIO | H104: 4 | I104: Pvc | K104: NIO
A105: Copernicus SG | B105: 2e verdieping | C105: 240 | E105: Leslokaal wiskunde | F105: 4. Theorielokaal | G105: 37 | I105: Lino | J105: =J103 -> 0 | K105: 120 | M105: =G105/L105*K105 -> #DIV/0! | N105: =O105/12 -> #DIV/0! | O105: =M105*J105 -> #DIV/0!
A106: Copernicus SG | B106: 2e verdieping | C106: 241 | E106: Leslokaal informatica | F106: 4. Theorielokaal | G106: 81 | I106: Lino | J106: =J105 -> 0 | K106: 120 | M106: =G106/L106*K106 -> #DIV/0! | N106: =O106/12 -> #DIV/0! | O106: =M106*J106 -> #DIV/0!
A107: Copernicus SG | B107: 2e verdieping | C107: D204 | E107: Docenten werkplek | F107: 3. Bureaukamers | G107: 27 | I107: Vast tapijt | J107: =J106 -> 0 | K107: 80 | M107: =G107/L107*K107 -> #DIV/0! | N107: =O107/12 -> #DIV/0! | O107: =M107*J107 -> #DIV/0!
A108: Copernicus SG | B108: 2e verdieping | C108: D205 | E108: Spreekkamer | F108: 3. Bureaukamers | G108: 9 | I108: Lino | J108: =J107 -> 0 | K108: 80 | M108: =G108/L108*K108 -> #DIV/0! | N108: =O108/12 -> #DIV/0! | O108: =M108*J108 -> #DIV/0!
A109: Copernicus SG | B109: 2e verdieping | C109: D206 | E109: Spreekkamer | F109: 3. Bureaukamers | G109: 9 | I109: vast tapijt | J109: =J108 -> 0 | K109: 80 | M109: =G109/L109*K109 -> #DIV/0! | N109: =O109/12 -> #DIV/0! | O109: =M109*J109 -> #DIV/0!
A110: Copernicus SG | B110: 2e verdieping | C110: 242 | E110: Leslokaal wiskunde | F110: 4. Theorielokaal | G110: 54 | I110: Lino | J110: =J109 -> 0 | K110: 120 | M110: =G110/L110*K110 -> #DIV/0! | N110: =O110/12 -> #DIV/0! | O110: =M110*J110 -> #DIV/0!
A111: Copernicus SG | B111: 2e verdieping | C111: 243 | E111: Leslokaal wiskunde | F111: 4. Theorielokaal | G111: 54 | I111: Lino | J111: =J110 -> 0 | K111: 120 | M111: =G111/L111*K111 -> #DIV/0! | N111: =O111/12 -> #DIV/0! | O111: =M111*J111 -> #DIV/0!
A112: Copernicus SG | B112: 2e verdieping | C112: 244 | E112: Leslokaal wiskunde | F112: 4. Theorielokaal | G112: 54 | I112: Lino | J112: =J111 -> 0 | K112: 120 | M112: =G112/L112*K112 -> #DIV/0! | N112: =O112/12 -> #DIV/0! | O112: =M112*J112 -> #DIV/0!
A113: Copernicus SG | B113: 2e verdieping | C113: 245 | E113: Leslokaal wiskunde | F113: 4. Theorielokaal | G113: 71 | I113: Lino | J113: =J112 -> 0 | K113: 120 | M113: =G113/L113*K113 -> #DIV/0! | N113: =O113/12 -> #DIV/0! | O113: =M113*J113 -> #DIV/0!
A114: Copernicus SG | B114: 2e verdieping | C114: 246 | E114: Leslokaal wiskunde | F114: 4. Theorielokaal | G114: 54 | I114: Lino | J114: =J113 -> 0 | K114: 120 | M114: =G114/L114*K114 -> #DIV/0! | N114: =O114/12 -> #DIV/0! | O114: =M114*J114 -> #DIV/0!
A115: Copernicus SG | B115: 2e verdieping | C115: D207 | E115: Trapportaal | F115: 2. Verkeersruimte | G115: 32 | I115: Lino | J115: =J114 -> 0 | K115: 200 | M115: =G115/L115*K115 -> #DIV/0! | N115: =O115/12 -> #DIV/0! | O115: =M115*J115 -> #DIV/0!
A116: Copernicus SG | B116: 2e verdieping | C116: D208 | E116: Werkkamer decanen | F116: 3. Bureaukamers | G116: 19 | I116: Vast tapijt | J116: =J115 -> 0 | K116: 80 | M116: =G116/L116*K116 -> #DIV/0! | N116: =O116/12 -> #DIV/0! | O116: =M116*J116 -> #DIV/0!
A117: Copernicus SG | B117: 2e verdieping | C117: D209 | E117: Kamer hoofd organisatie | F117: 3. Bureaukamers | G117: 12 | I117: Vast tapijt | J117: =J116 -> 0 | K117: 80 | M117: =G117/L117*K117 -> #DIV/0! | N117: =O117/12 -> #DIV/0! | O117: =M117*J117 -> #DIV/0!
... A151: Copernicus SG | B151: Begane grond | C151: - | E151: Hal | F151: 2. Verkeersruimte | G151: 8.5 | I151: Gietvloer | J151: =J150 -> 0 | K151: 200 | M151: =G151/L151*K151 -> #DIV/0! | N151: =O151/12 -> #DIV/0! | O151: =M151*J151 -> #DIV/0!
A152: Copernicus SG | B152: Begane grond | C152: - | E152: Toilet | F152: 1. Sanitair | G152: 3 | I152: Steen | J152: =J151 -> 0 | K152: 400 | M152: =G152/L152*K152 -> #DIV/0! | N152: =O152/12 -> #DIV/0! | O152: =M152*J152 -> #DIV/0! | P152: Nieuwe zaal
A153: Copernicus SG | B153: Begane grond | C153: - | E153: Toilet | F153: 1. Sanitair | G153: 3 | I153: Steen | J153: =J152 -> 0 | K153: 400 | M153: =G153/L153*K153 -> #DIV/0! | N153: =O153/12 -> #DIV/0! | O153: =M153*J153 -> #DIV/0! | P153: Nieuwe zaal
A154: Copernicus SG | B154: Begane grond | C154: - | E154: Toilet | F154: 1. Sanitair | G154: 3 | I154: Steen | J154: =J153 -> 0 | K154: 400 | M154: =G154/L154*K154 -> #DIV/0! | N154: =O154/12 -> #DIV/0! | O154: =M154*J154 -> #DIV/0! | P154: Nieuwe zaal
A155: Copernicus SG | B155: Begane grond | C155: - | E155: Miva toilet | F155: 1. Sanitair | G155: 3.5 | I155: Steen | J155: =J154 -> 0 | K155: 200 | M155: =G155/L155*K155 -> #DIV/0! | N155: =O155/12 -> #DIV/0! | O155: =M155*J155 -> #DIV/0! | P155: Nieuwe zaal
A156: Copernicus SG | B156: Begane grond | C156: - | E156: Kleedruimte | F156: 1. Sanitair | G156: 45.5 | I156: Gietvloer | J156: =J155 -> 0 | K156: 200 | M156: =G156/L156*K156 -> #DIV/0! | N156: =O156/12 -> #DIV/0! | O156: =M156*J156 -> #DIV/0! | P156: Nieuwe zaal
A157: Copernicus SG | B157: Begane grond | C157: - | E157: Kleedruimte | F157: 1. Sanitair | G157: 28.8 | I157: Gietvloer | J157: =J156 -> 0 | K157: 200 | M157: =G157/L157*K157 -> #DIV/0! | N157: =O157/12 -> #DIV/0! | O157: =M157*J157 -> #DIV/0! | P157: Nieuwe zaal
A158: Copernicus SG | B158: Begane grond | C158: - | E158: Doucheruimte | F158: 1. Sanitair | G158: 7 | I158: Steen | J158: =J157 -> 0 | K158: 200 | M158: =G158/L158*K158 -> #DIV/0! | N158: =O158/12 -> #DIV/0! | O158: =M158*J158 -> #DIV/0! | P158: Nieuwe zaal
A159: Copernicus SG | B159: Begane grond | C159: - | E159: Doucheruimte | F159: 1. Sanitair | G159: 5.2 | I159: Steen | J159: =J158 -> 0 | K159: 200 | M159: =G159/L159*K159 -> #DIV/0! | N159: =O159/12 -> #DIV/0! | O159: =M159*J159 -> #DIV/0! | P159: Nieuwe zaal
A160: Copernicus SG | B160: Begane grond | C160: - | E160: Gymzaal | F160: 7. Sportzalen | G160: 336 | I160: Pu | J160: =J159 -> 0 | K160: 200 | M160: =G160/L160*K160 -> #DIV/0! | N160: =O160/12 -> #DIV/0! | O160: =M160*J160 -> #DIV/0! | P160: Nieuwe zaal
A161: Copernicus SG | B161: Begane grond | C161: - | E161: Hal | F161: 2. Verkeersruimte | G161: 5.95 | I161: Gietvloer | J161: =J160 -> 0 | K161: 200 | M161: =G161/L161*K161 -> #DIV/0! | N161: =O161/12 -> #DIV/0! | O161: =M161*J161 -> #DIV/0! | P161: Nieuwe zaal
A162: Copernicus SG | B162: Begane grond | C162: - | E162: Entree | F162: 2. Verkeersruimte | G162: 11.9 | I162: Inloopmat | J162: =J161 -> 0 | K162: 200 | M162: =G162/L162*K162 -> #DIV/0! | N162: =O162/12 -> #DIV/0! | O162: =M162*J162 -> #DIV/0! | P162: Nieuwe zaal
A163: Copernicus SG | B163: Begane grond | C163: 14 | E163: Lift | F163: 2. Verkeersruimte | G163: 2 | I163: Lino | J163: =J162 -> 0 | K163: 200 | M163: =G163/L163*K163 -> #DIV/0! | N163: =O163/12 -> #DIV/0! | O163: =M163*J163 -> #DIV/0!
A164: Copernicus SG | B164: Begane grond | C164: A003 | E164: Toilet leerlingen (m) | F164: 1. Sanitair | G164: 12 | I164: Pvc | J164: =J163 -> 0 | K164: 400 | M164: =G164/L164*K164 -> #DIV/0! | N164: =O164/12 -> #DIV/0! | O164: =M164*J164 -> #DIV/0!
A165: Copernicus SG | B165: Begane grond | C165: A004 | E165: Docenten werkplek | F165: 3. Bureaukamers | G165: 25 | I165: Lino | J165: =J164 -> 0 | K165: 120 | M165: =G165/L165*K165 -> #DIV/0! | N165: =O165/12 -> #DIV/0! | O165: =M165*J165 -> #DIV/0!
A166: Copernicus SG | B166: Begane grond | C166: 10 | E166: Leslokaal textiel | F166: 4. Theorielokaal | G166: 75 | I166: Sure step | J166: =J165 -> 0 | K166: 120 | M166: =G166/L166*K166 -> #DIV/0! | N166: =O166/12 -> #DIV/0! | O166: =M166*J166 -> #DIV/0!
A167: Copernicus SG | B167: Begane grond | C167: A006 | E167: Trapportaal | F167: 2. Verkeersruimte | G167: 10 | I167: Hout/vast tapijt | J167: =J166 -> 0 | K167: 200 | M167: =G167/L167*K167 -> #DIV/0! | N167: =O167/12 -> #DIV/0! | O167: =M167*J167 -> #DIV/0!
A168: Copernicus SG | B168: Begane grond | C168: 11 | E168: Leslokaal muziek | F168: 4. Theorielokaal | G168: 75 | I168: Vast tapijt | J168: =J167 -> 0 | K168: 120 | M168: =G168/L168*K168 -> #DIV/0! | N168: =O168/12 -> #DIV/0! | O168: =M168*J168 -> #DIV/0!
A169: Copernicus SG | B169: Begane grond | C169: A007 | E169: Berging muziek | F169: 6. Bergingen | G169: 25 | I169: Vast tapijt | J169: =J168 -> 0 | K169: 80 | M169: =G169/L169*K169 -> #DIV/0! | N169: =O169/12 -> #DIV/0! | O169: =M169*J169 -> #DIV/0!
A170: Copernicus SG | B170: Begane grond | C170: A008 | E170: Verkeersruimte | F170: 2. Verkeersruimte | G170: 63 | I170: Lino | J170: =J169 -> 0 | K170: 200 | M170: =G170/L170*K170 -> #DIV/0! | N170: =O170/12 -> #DIV/0! | O170: =M170*J170 -> #DIV/0!
A171: Copernicus SG | B171: Begane grond | C171: 12 | E171: Leslokaal tekenen | F171: 4. Theorielokaal | G171: 101 | I171: Sure step | J171: =J170 -> 0 | K171: 120 | M171: =G171/L171*K171 -> #DIV/0! | N171: =O171/12 -> #DIV/0! | O171: =M171*J171 -> #DIV/0!
A172: Copernicus SG | B172: Begane grond | C172: B003 | E172: Toilet leerlingen (v) | F172: 1. Sanitair | G172: 12 | I172: Pvc | J172: =J171 -> 0 | K172: 400 | M172: =G172/L172*K172 -> #DIV/0! | N172: =O172/12 -> #DIV/0! | O172: =M172*J172 -> #DIV/0!
A173: Copernicus SG | B173: Begane grond | C173: 20 | E173: Leslokaal handvaardigheid | F173: 5. Praktijklokaal | G173: 75 | I173: Sure step | J173: =J172 -> 0 | K173: 120 | M173: =G173/L173*K173 -> #DIV/0! | N173: =O173/12 -> #DIV/0! | O173: =M173*J173 -> #DIV/0!
A174: Copernicus SG | B174: Begane grond | C174: 21 | E174: Leslokaal handvaardigheid | F174: 5. Praktijklokaal | G174: 82 | I174: Sure step | J174: =J173 -> 0 | K174: 120 | M174: =G174/L174*K174 -> #DIV/0! | N174: =O174/12 -> #DIV/0! | O174: =M174*J174 -> #DIV/0!
... A179: Copernicus SG | B179: Begane grond | C179: B008 | E179: Verkeersruimte | F179: 2. Verkeersruimte | G179: 101 | I179: Lino | J179: =J178 -> 0 | K179: 200 | M179: =G179/L179*K179 -> #DIV/0! | N179: =O179/12 -> #DIV/0! | O179: =M179*J179 -> #DIV/0!
A180: Copernicus SG | B180: Begane grond | C180: C004 | E180: Repro | F180: 2. Verkeersruimte | G180: NIO | H180: 8 | I180: Lino | K180: NIO
A181: Copernicus SG | B181: Begane grond | C181: C005 | E181: Ehbo | F181: 3. Bureaukamers | G181: 13 | I181: Lino | J181: =J179 -> 0 | K181: 80 | M181: =G181/L181*K181 -> #DIV/0! | N181: =O181/12 -> #DIV/0! | O181: =M181*J181 -> #DIV/0!
A182: Copernicus SG | B182: Begane grond | C182: C006 | E182: Keuken | F182: 2. Verkeersruimte | G182: 24 | I182: Sure step | J182: =J181 -> 0 | K182: 200 | M182: =G182/L182*K182 -> #DIV/0! | N182: =O182/12 -> #DIV/0! | O182: =M182*J182 -> #DIV/0!
A183: Copernicus SG | B183: Begane grond | C183: C008 | E183: Trapportaal | F183: 2. Verkeersruimte | G183: 16 | I183: Lino | J183: =J182 -> 0 | K183: 200 | M183: =G183/L183*K183 -> #DIV/0! | N183: =O183/12 -> #DIV/0! | O183: =M183*J183 -> #DIV/0!
A184: Copernicus SG | B184: Begane grond | C184: C009 | E184: Miva toilet | F184: 1. Sanitair | G184: 4 | I184: Pvc | J184: =J183 -> 0 | K184: 200 | M184: =G184/L184*K184 -> #DIV/0! | N184: =O184/12 -> #DIV/0! | O184: =M184*J184 -> #DIV/0!
A185: Copernicus SG | B185: Begane grond | C185: C011 | E185: Conciërge loge | F185: 3. Bureaukamers | G185: 38 | I185: Lino | J185: =J184 -> 0 | K185: 120 | M185: =G185/L185*K185 -> #DIV/0! | N185: =O185/12 -> #DIV/0! | O185: =M185*J185 -> #DIV/0!
A186: Copernicus SG | B186: Begane grond | C186: C012 | E186: Toilet personeel (v) | F186: 1. Sanitair | G186: 1 | I186: Pvc | J186: =J185 -> 0 | K186: 200 | M186: =G186/L186*K186 -> #DIV/0! | N186: =O186/12 -> #DIV/0! | O186: =M186*J186 -> #DIV/0!
A187: Copernicus SG | B187: Begane grond | C187: C013 | E187: Toilet personeel (m) | F187: 1. Sanitair | G187: 1 | I187: Pvc | J187: =J186 -> 0 | K187: 200 | M187: =G187/L187*K187 -> #DIV/0! | N187: =O187/12 -> #DIV/0! | O187: =M187*J187 -> #DIV/0!
A188: Copernicus SG | B188: Begane grond | C188: C014 | E188: Verzorgingsruimte | F188: 1. Sanitair | G188: 9 | I188: Pvc | J188: =J187 -> 0 | K188: 200 | M188: =G188/L188*K188 -> #DIV/0! | N188: =O188/12 -> #DIV/0! | O188: =M188*J188 -> #DIV/0!
A189: Copernicus SG | B189: Begane grond | C189: C018 | E189: Trapportaal | F189: 2. Verkeersruimte | G189: 10 | I189: Lino | J189: =J188 -> 0 | K189: 200 | M189: =G189/L189*K189 -> #DIV/0! | N189: =O189/12 -> #DIV/0! | O189: =M189*J189 -> #DIV/0!
A190: Copernicus SG | B190: Begane grond | C190: C019 | E190: Kamer locatie-directeur | F190: 3. Bureaukamers | G190: 37 | I190: Vast tapijt | J190: =J189 -> 0 | K190: 80 | M190: =G190/L190*K190 -> #DIV/0! | N190: =O190/12 -> #DIV/0! | O190: =M190*J190 -> #DIV/0!
A191: Copernicus SG | B191: Begane grond | C191: C020 | E191: Administratie | F191: 3. Bureaukamers | G191: 62 | I191: Vast tapijt | J191: =J190 -> 0 | K191: 120 | M191: =G191/L191*K191 -> #DIV/0! | N191: =O191/12 -> #DIV/0! | O191: =M191*J191 -> #DIV/0!
A192: Copernicus SG | B192: Begane grond | C192: C021 | E192: Verkeersruimte | F192: 2. Verkeersruimte | G192: 32 | I192: Lino | J192: =J191 -> 0 | K192: 200 | M192: =G192/L192*K192 -> #DIV/0! | N192: =O192/12 -> #DIV/0! | O192: =M192*J192 -> #DIV/0!
A193: Copernicus SG | B193: Begane grond | C193: C022 | E193: Entree (oost) | F193: 2. Verkeersruimte | G193: 36 | I193: Vast tapijt | J193: =J192 -> 0 | K193: 200 | M193: =G193/L193*K193 -> #DIV/0! | N193: =O193/12 -> #DIV/0! | O193: =M193*J193 -> #DIV/0!
A194: Copernicus SG | B194: Begane grond | C194: C023 | E194: Centrale hal | F194: 2. Verkeersruimte | G194: 264 | I194: Lino | J194: =J193 -> 0 | K194: 200 | M194: =G194/L194*K194 -> #DIV/0! | N194: =O194/12 -> #DIV/0! | O194: =M194*J194 -> #DIV/0!
A195: Copernicus SG | B195: Bijgebouw | C195: 401 | E195: Leslokaal | F195: 4. Theorielokaal | G195: 52 | I195: Sure step | J195: =J194 -> 0 | K195: 120 | M195: =G195/L195*K195 -> #DIV/0! | N195: =O195/12 -> #DIV/0! | O195: =M195*J195 -> #DIV/0!
...

Sheet OSG West-Friesland
A1: Locatie | B1: Verdieping | C1: Ruimtenummer | D1: Nr. tekening | E1: Ruimte-omschrijving | F1: Werkprogramma | G1: M2 | H1: m2 NIO | I1: Vloerafwerking | J1: Uurtarief | K1: Frequentie | L1: Prestatienorm | M1: Uren per jaar | N1: Kosten per maand | O1: Kosten per jaar | P1: Opmerkingen
A2: OSG West-Friesland | B2: 1e verdieping | C2: 200 | E2: Ondersteunings lokaal | F2: 3. Bureaukamers | G2: 107.6 | I2: Linoleum | J2: 0 | K2: 200 | M2: =G2/L2*K2 -> #DIV/0! | N2: =O2/12 -> #DIV/0! | O2: =M2*J2 -> #DIV/0!
A3: OSG West-Friesland | B3: 1e verdieping | C3: 201 | E3: Lokaal | F3: 4. Theorielokaal | G3: 65.9 | I3: Linoleum | J3: =J2 -> 0 | K3: 200 | M3: =G3/L3*K3 -> #DIV/0! | N3: =O3/12 -> #DIV/0! | O3: =M3*J3 -> #DIV/0!
A4: OSG West-Friesland | B4: 1e verdieping | C4: 203 | E4: Lokaal | F4: 4. Theorielokaal | G4: 58.48 | I4: Linoleum | J4: =J3 -> 0 | K4: 200 | M4: =G4/L4*K4 -> #DIV/0! | N4: =O4/12 -> #DIV/0! | O4: =M4*J4 -> #DIV/0!
A5: OSG West-Friesland | B5: 1e verdieping | C5: 222 | E5: Werkplek | F5: 3. Bureaukamers | G5: 17.1 | I5: Linoleum | J5: =J4 -> 0 | K5: 80 | M5: =G5/L5*K5 -> #DIV/0! | N5: =O5/12 -> #DIV/0! | O5: =M5*J5 -> #DIV/0!
A6: OSG West-Friesland | B6: 1e verdieping | C6: 200a | E6: Spreekkamer | F6: 3. Bureaukamers | G6: 21.4 | I6: Linoleum | J6: =J5 -> 0 | K6: 80 | M6: =G6/L6*K6 -> #DIV/0! | N6: =O6/12 -> #DIV/0! | O6: =M6*J6 -> #DIV/0!
A7: OSG West-Friesland | B7: 1e verdieping | C7: 201a | E7: Spreekkamer | F7: 3. Bureaukamers | G7: 7 | I7: Linoleum | J7: =J6 -> 0 | K7: 80 | M7: =G7/L7*K7 -> #DIV/0! | N7: =O7/12 -> #DIV/0! | O7: =M7*J7 -> #DIV/0!
A8: OSG West-Friesland | B8: 1e verdieping | C8: 202 | E8: Lokaal | F8: 4. Theorielokaal | G8: 45.6 | I8: Linoleum | J8: =J7 -> 0 | K8: 200 | M8: =G8/L8*K8 -> #DIV/0! | N8: =O8/12 -> #DIV/0! | O8: =M8*J8 -> #DIV/0!
A9: OSG West-Friesland | B9: 1e verdieping | C9: 203a | E9: Werkplek | F9: 3. Bureaukamers | G9: 17.07 | I9: Linoleum | J9: =J8 -> 0 | K9: 80 | M9: =G9/L9*K9 -> #DIV/0! | N9: =O9/12 -> #DIV/0! | O9: =M9*J9 -> #DIV/0!
A10: OSG West-Friesland | B10: 1e verdieping | C10: 204 | E10: Lokaal | F10: 4. Theorielokaal | G10: 52.2 | I10: Linoleum | J10: =J9 -> 0 | K10: 200 | M10: =G10/L10*K10 -> #DIV/0! | N10: =O10/12 -> #DIV/0! | O10: =M10*J10 -> #DIV/0!
A11: OSG West-Friesland | B11: 1e verdieping | C11: 205 | E11: Lokaal | F11: 4. Theorielokaal | G11: 45.9 | I11: Linoleum | J11: =J10 -> 0 | K11: 200 | M11: =G11/L11*K11 -> #DIV/0! | N11: =O11/12 -> #DIV/0! | O11: =M11*J11 -> #DIV/0!
A12: OSG West-Friesland | B12: 1e verdieping | C12: 206 | E12: Lokaal | F12: 4. Theorielokaal | G12: 45.6 | I12: Linoleum | J12: =J11 -> 0 | K12: 200 | M12: =G12/L12*K12 -> #DIV/0! | N12: =O12/12 -> #DIV/0! | O12: =M12*J12 -> #DIV/0!
A13: OSG West-Friesland | B13: 1e verdieping | C13: 207 | E13: Lokaal | F13: 4. Theorielokaal | G13: 90.7 | I13: Linoleum | J13: =J12 -> 0 | K13: 200 | M13: =G13/L13*K13 -> #DIV/0! | N13: =O13/12 -> #DIV/0! | O13: =M13*J13 -> #DIV/0!
A14: OSG West-Friesland | B14: 1e verdieping | C14: 208 | E14: Werkplek | F14: 4. Theorielokaal | G14: 45.5 | I14: Linoleum | J14: =J13 -> 0 | K14: 80 | M14: =G14/L14*K14 -> #DIV/0! | N14: =O14/12 -> #DIV/0! | O14: =M14*J14 -> #DIV/0!
A15: OSG West-Friesland | B15: 1e verdieping | C15: 209 | E15: Lokaal | F15: 4. Theorielokaal | G15: 98.2 | I15: Linoleum | J15: =J14 -> 0 | K15: 200 | M15: =G15/L15*K15 -> #DIV/0! | N15: =O15/12 -> #DIV/0! | O15: =M15*J15 -> #DIV/0!
A16: OSG West-Friesland | B16: 1e verdieping | C16: 210 | E16: Lokaal | F16: 4. Theorielokaal | G16: 120 | I16: Linoleum | J16: =J15 -> 0 | K16: 200 | M16: =G16/L16*K16 -> #DIV/0! | N16: =O16/12 -> #DIV/0! | O16: =M16*J16 -> #DIV/0!
A17: OSG West-Friesland | B17: 1e verdieping | C17: 211 | E17: Ondersteunings lokaal | F17: 4. Theorielokaal | G17: 67.5 | I17: Linoleum | J17: =J16 -> 0 | K17: 200 | M17: =G17/L17*K17 -> #DIV/0! | N17: =O17/12 -> #DIV/0! | O17: =M17*J17 -> #DIV/0!
A18: OSG West-Friesland | B18: 1e verdieping | C18: 213 | E18: Lokaal | F18: 4. Theorielokaal | G18: 57.1 | I18: Linoleum | J18: =J17 -> 0 | K18: 200 | M18: =G18/L18*K18 -> #DIV/0! | N18: =O18/12 -> #DIV/0! | O18: =M18*J18 -> #DIV/0!
A19: OSG West-Friesland | B19: 1e verdieping | C19: 214 | E19: Lokaal | F19: 4. Theorielokaal | G19: 58.2 | I19: Linoleum | J19: =J18 -> 0 | K19: 200 | M19: =G19/L19*K19 -> #DIV/0! | N19: =O19/12 -> #DIV/0! | O19: =M19*J19 -> #DIV/0!
A20: OSG West-Friesland | B20: 1e verdieping | C20: 214a | E20: Werkplek | F20: 3. Bureaukamers | G20: 12 | I20: Linoleum | J20: =J19 -> 0 | K20: 80 | M20: =G20/L20*K20 -> #DIV/0! | N20: =O20/12 -> #DIV/0! | O20: =M20*J20 -> #DIV/0!
A21: OSG West-Friesland | B21: 1e verdieping | C21: 215 | E21: Lokaal | F21: 4. Theorielokaal | G21: 47.3 | I21: Linoleum | J21: =J20 -> 0 | K21: 200 | M21: =G21/L21*K21 -> #DIV/0! | N21: =O21/12 -> #DIV/0! | O21: =M21*J21 -> #DIV/0!
A22: OSG West-Friesland | B22: 1e verdieping | C22: 216 | E22: Lokaal | F22: 4. Theorielokaal | G22: 59.2 | I22: Linoleum | J22: =J21 -> 0 | K22: 200 | M22: =G22/L22*K22 -> #DIV/0! | N22: =O22/12 -> #DIV/0! | O22: =M22*J22 -> #DIV/0!
A23: OSG West-Friesland | B23: 1e verdieping | C23: 217 | E23: Lokaal | F23: 4. Theorielokaal | G23: 59.2 | I23: Linoleum | J23: =J22 -> 0 | K23: 200 | M23: =G23/L23*K23 -> #DIV/0! | N23: =O23/12 -> #DIV/0! | O23: =M23*J23 -> #DIV/0!
A24: OSG West-Friesland | B24: 1e verdieping | C24: 218 | E24: Werkplek | F24: 3. Bureaukamers | G24: 21.8 | I24: Linoleum | J24: =J23 -> 0 | K24: 80 | M24: =G24/L24*K24 -> #DIV/0! | N24: =O24/12 -> #DIV/0! | O24: =M24*J24 -> #DIV/0!
A25: OSG West-Friesland | B25: 1e verdieping | C25: 219 | E25: administratie | F25: 3. Bureaukamers | G25: 41.8 | I25: Linoleum | J25: =J24 -> 0 | K25: 200 | M25: =G25/L25*K25 -> #DIV/0! | N25: =O25/12 -> #DIV/0! | O25: =M25*J25 -> #DIV/0!
A26: OSG West-Friesland | B26: 1e verdieping | C26: 220 | E26: Directeur | F26: 3. Bureaukamers | G26: 34 | I26: Linoleum | J26: =J25 -> 0 | K26: 80 | M26: =G26/L26*K26 -> #DIV/0! | N26: =O26/12 -> #DIV/0! | O26: =M26*J26 -> #DIV/0!
A27: OSG West-Friesland | B27: 1e verdieping | C27: 221 | E27: Werkplek | F27: 3. Bureaukamers | G27: 94.1 | I27: Linoleum | J27: =J26 -> 0 | K27: 80 | M27: =G27/L27*K27 -> #DIV/0! | N27: =O27/12 -> #DIV/0! | O27: =M27*J27 -> #DIV/0!
A28: OSG West-Friesland | B28: 1e verdieping | C28: 222a | E28: Werkplek | F28: 3. Bureaukamers | G28: 52.3 | I28: Linoleum | J28: =J27 -> 0 | K28: 80 | M28: =G28/L28*K28 -> #DIV/0! | N28: =O28/12 -> #DIV/0! | O28: =M28*J28 -> #DIV/0!
A29: OSG West-Friesland | B29: 1e verdieping | C29: 223 | E29: Kopieerruimte | F29: 2. Verkeersruimte | G29: 7 | I29: Linoleum | J29: =J28 -> 0 | K29: 80 | M29: =G29/L29*K29 -> #DIV/0! | N29: =O29/12 -> #DIV/0! | O29: =M29*J29 -> #DIV/0!
A30: OSG West-Friesland | B30: 1e verdieping | C30: 501 | E30: Lokaal | F30: 4. Theorielokaal | G30: 66.8 | I30: Linoleum | J30: =J29 -> 0 | K30: 200 | M30: =G30/L30*K30 -> #DIV/0! | N30: =O30/12 -> #DIV/0! | O30: =M30*J30 -> #DIV/0!
A31: OSG West-Friesland | B31: 1e verdieping | C31: 502 | E31: Lokaal | F31: 4. Theorielokaal | G31: 67.5 | I31: Linoleum | J31: =J30 -> 0 | K31: 200 | M31: =G31/L31*K31 -> #DIV/0! | N31: =O31/12 -> #DIV/0! | O31: =M31*J31 -> #DIV/0!
A32: OSG West-Friesland | B32: 1e verdieping | C32: 503 | E32: Lokaal | F32: 4. Theorielokaal | G32: 75.6 | I32: Linoleum | J32: =J31 -> 0 | K32: 200 | M32: =G32/L32*K32 -> #DIV/0! | N32: =O32/12 -> #DIV/0! | O32: =M32*J32 -> #DIV/0!
A33: OSG West-Friesland | B33: 1e verdieping | C33: 504 | E33: Lokaal | F33: 4. Theorielokaal | G33: 76.4 | I33: Linoleum | J33: =J32 -> 0 | K33: 200 | M33: =G33/L33*K33 -> #DIV/0! | N33: =O33/12 -> #DIV/0! | O33: =M33*J33 -> #DIV/0!
A34: OSG West-Friesland | B34: 1e verdieping | C34: 504a | E34: Werkplek | F34: 3. Bureaukamers | G34: 30.3 | I34: Linoleum | J34: =J33 -> 0 | K34: 80 | M34: =G34/L34*K34 -> #DIV/0! | N34: =O34/12 -> #DIV/0! | O34: =M34*J34 -> #DIV/0!
A35: OSG West-Friesland | B35: 1e verdieping | C35: 504b | E35: Werkplek | F35: 3. Bureaukamers | G35: 18.96 | I35: Linoleum | J35: =J34 -> 0 | K35: 80 | M35: =G35/L35*K35 -> #DIV/0! | N35: =O35/12 -> #DIV/0! | O35: =M35*J35 -> #DIV/0!
A36: OSG West-Friesland | B36: 1e verdieping | C36: 504c | E36: Werkplek | F36: 3. Bureaukamers | G36: 4.3 | I36: Linoleum | J36: =J35 -> 0 | K36: 80 | M36: =G36/L36*K36 -> #DIV/0! | N36: =O36/12 -> #DIV/0! | O36: =M36*J36 -> #DIV/0!
A37: OSG West-Friesland | B37: 1e verdieping | C37: 504d | E37: Werkplek | F37: 3. Bureaukamers | G37: 9.7 | I37: Linoleum | J37: =J36 -> 0 | K37: 80 | M37: =G37/L37*K37 -> #DIV/0! | N37: =O37/12 -> #DIV/0! | O37: =M37*J37 -> #DIV/0!
A38: OSG West-Friesland | B38: 1e verdieping | C38: 505 | E38: Lokaal | F38: 4. Theorielokaal | G38: 49.7 | I38: Linoleum | J38: =J37 -> 0 | K38: 200 | M38: =G38/L38*K38 -> #DIV/0! | N38: =O38/12 -> #DIV/0! | O38: =M38*J38 -> #DIV/0!
A39: OSG West-Friesland | B39: 1e verdieping | C39: 506 | E39: Lokaal | F39: 4. Theorielokaal | G39: 70 | I39: Linoleum | J39: =J38 -> 0 | K39: 200 | M39: =G39/L39*K39 -> #DIV/0! | N39: =O39/12 -> #DIV/0! | O39: =M39*J39 -> #DIV/0!
A40: OSG West-Friesland | B40: 1e verdieping | C40: 507 | E40: Lokaal | F40: 4. Theorielokaal | G40: 72.2 | I40: Gietvloer | J40: =J39 -> 0 | K40: 200 | M40: =G40/L40*K40 -> #DIV/0! | N40: =O40/12 -> #DIV/0! | O40: =M40*J40 -> #DIV/0!
A41: OSG West-Friesland | B41: 1e verdieping | C41: 509 | E41: Lokaal | F41: 4. Theorielokaal | G41: 71.9 | I41: Gietvloer | J41: =J40 -> 0 | K41: 200 | M41: =G41/L41*K41 -> #DIV/0! | N41: =O41/12 -> #DIV/0! | O41: =M41*J41 -> #DIV/0!
A42: OSG West-Friesland | B42: 1e verdieping | C42: 510 | E42: Lokaal | F42: 4. Theorielokaal | G42: 67.9 | I42: Linoleum | J42: =J41 -> 0 | K42: 200 | M42: =G42/L42*K42 -> #DIV/0! | N42: =O42/12 -> #DIV/0! | O42: =M42*J42 -> #DIV/0!
A43: OSG West-Friesland | B43: 1e verdieping | C43: 511 | E43: Lokaal | F43: 4. Theorielokaal | G43: 51.2 | I43: Linoleum | J43: =J42 -> 0 | K43: 200 | M43: =G43/L43*K43 -> #DIV/0! | N43: =O43/12 -> #DIV/0! | O43: =M43*J43 -> #DIV/0!
A44: OSG West-Friesland | B44: 1e verdieping | C44: 511a | E44: Opslag BINAS | F44: 6. Bergingen | G44: 10.8 | I44: Linoleum | J44: =J43 -> 0 | K44: 40 | M44: =G44/L44*K44 -> #DIV/0! | N44: =O44/12 -> #DIV/0! | O44: =M44*J44 -> #DIV/0!
A45: OSG West-Friesland | B45: 1e verdieping | C45: a1 01 | E45: Gang | F45: 2. Verkeersruimte | G45: 52.7 | I45: Linoleum | J45: =J44 -> 0 | K45: 200 | M45: =G45/L45*K45 -> #DIV/0! | N45: =O45/12 -> #DIV/0! | O45: =M45*J45 -> #DIV/0!
A46: OSG West-Friesland | B46: 1e verdieping | C46: a1 05 | E46: Gang | F46: 2. Verkeersruimte | G46: 13.2 | I46: Graniet | J46: =J45 -> 0 | K46: 200 | M46: =G46/L46*K46 -> #DIV/0! | N46: =O46/12 -> #DIV/0! | O46: =M46*J46 -> #DIV/0!
A47: OSG West-Friesland | B47: 1e verdieping | C47: a1 07 | E47: Gang | F47: 2. Verkeersruimte | G47: 23.5 | I47: Linoleum | J47: =J46 -> 0 | K47: 200 | M47: =G47/L47*K47 -> #DIV/0! | N47: =O47/12 -> #DIV/0! | O47: =M47*J47 -> #DIV/0!
A48: OSG West-Friesland | B48: 1e verdieping | C48: a1 08 | E48: Gang | F48: 2. Verkeersruimte | G48: 21.9 | I48: Linoleum | J48: =J47 -> 0 | K48: 200 | M48: =G48/L48*K48 -> #DIV/0! | N48: =O48/12 -> #DIV/0! | O48: =M48*J48 -> #DIV/0!
A49: OSG West-Friesland | B49: 1e verdieping | C49: a1 09 | E49: Gang | F49: 2. Verkeersruimte | G49: 74.7 | I49: Linoleum | J49: =J48 -> 0 | K49: 200 | M49: =G49/L49*K49 -> #DIV/0! | N49: =O49/12 -> #DIV/0! | O49: =M49*J49 -> #DIV/0!
A50: OSG West-Friesland | B50: 1e verdieping | C50: a1 11 | E50: Toiletruimte pers | F50: 1. Sanitair | G50: 8.3 | I50: Vloeivloer | J50: =J49 -> 0 | K50: 200 | M50: =G50/L50*K50 -> #DIV/0! | N50: =O50/12 -> #DIV/0! | O50: =M50*J50 -> #DIV/0!
A51: OSG West-Friesland | B51: 1e verdieping | C51: a1 13 | E51: Toiletruimte pers | F51: 1. Sanitair | G51: 8.2 | I51: Vloeivloer | J51: =J50 -> 0 | K51: 200 | M51: =G51/L51*K51 -> #DIV/0! | N51: =O51/12 -> #DIV/0! | O51: =M51*J51 -> #DIV/0!
A52: OSG West-Friesland | B52: 1e verdieping | C52: a1 25 | E52: Gang | F52: 2. Verkeersruimte | G52: 95.7 | I52: Linoleum | J52: =J51 -> 0 | K52: 200 | M52: =G52/L52*K52 -> #DIV/0! | N52: =O52/12 -> #DIV/0! | O52: =M52*J52 -> #DIV/0!
A53: OSG West-Friesland | B53: 1e verdieping | C53: a1 30 | E53: Toiletruimte | F53: 1. Sanitair | G53: 12 | I53: Vloeivloer | J53: =J52 -> 0 | K53: 200 | M53: =G53/L53*K53 -> #DIV/0! | N53: =O53/12 -> #DIV/0! | O53: =M53*J53 -> #DIV/0!
A54: OSG West-Friesland | B54: 1e verdieping | C54: a1 35 | E54: Toiletruimte | F54: 1. Sanitair | G54: 11.9 | I54: Vloeivloer | J54: =J53 -> 0 | K54: 400 | M54: =G54/L54*K54 -> #DIV/0! | N54: =O54/12 -> #DIV/0! | O54: =M54*J54 -> #DIV/0!
A55: OSG West-Friesland | B55: 1e verdieping | C55: a1 44 | E55: Trappenhuis | F55: 2. Verkeersruimte | G55: 11.8 | I55: hout | J55: =J54 -> 0 | K55: 200 | M55: =G55/L55*K55 -> #DIV/0! | N55: =O55/12 -> #DIV/0! | O55: =M55*J55 -> #DIV/0!
... A68: OSG West-Friesland | B68: 1e verdieping | C68: bo 38 | E68: Trappenhuis | F68: 2. Verkeersruimte | G68: 16.2 | I68: Linoleum | J68: =J67 -> 0 | K68: 200 | M68: =G68/L68*K68 -> #DIV/0! | N68: =O68/12 -> #DIV/0! | O68: =M68*J68 -> #DIV/0!
A69: OSG West-Friesland | B69: 1e verdieping | E69: Gang | F69: 2. Verkeersruimte | G69: 24.9 | I69: Linoleum | J69: =J68 -> 0 | K69: 200 | M69: =G69/L69*K69 -> #DIV/0! | N69: =O69/12 -> #DIV/0! | O69: =M69*J69 -> #DIV/0!
A70: OSG West-Friesland | B70: 1e verdieping | E70: Vide | F70: 2. Verkeersruimte | G70: 35 | I70: Linoleum | J70: =J69 -> 0 | K70: 200 | M70: =G70/L70*K70 -> #DIV/0! | N70: =O70/12 -> #DIV/0! | O70: =M70*J70 -> #DIV/0!
A71: OSG West-Friesland | B71: 1e verdieping | E71: Gang | F71: 2. Verkeersruimte | G71: 183.7 | I71: Linoleum | J71: =J70 -> 0 | K71: 200 | M71: =G71/L71*K71 -> #DIV/0! | N71: =O71/12 -> #DIV/0! | O71: =M71*J71 -> #DIV/0!
A72: OSG West-Friesland | B72: 2e verdieping | C72: 301 | E72: Lokaal | F72: 4. Theorielokaal | G72: 43.8 | I72: Linoleum | J72: =J71 -> 0 | K72: 200 | M72: =G72/L72*K72 -> #DIV/0! | N72: =O72/12 -> #DIV/0! | O72: =M72*J72 -> #DIV/0!
A73: OSG West-Friesland | B73: 2e verdieping | C73: 301a | E73: Lokaal | F73: 4. Theorielokaal | G73: 38.9 | I73: Linoleum | J73: =J72 -> 0 | K73: 200 | M73: =G73/L73*K73 -> #DIV/0! | N73: =O73/12 -> #DIV/0! | O73: =M73*J73 -> #DIV/0!
A74: OSG West-Friesland | B74: 2e verdieping | C74: 302 | E74: Lokaal | F74: 4. Theorielokaal | G74: 94.8 | I74: Linoleum | J74: =J73 -> 0 | K74: 200 | M74: =G74/L74*K74 -> #DIV/0! | N74: =O74/12 -> #DIV/0! | O74: =M74*J74 -> #DIV/0!
A75: OSG West-Friesland | B75: 2e verdieping | C75: 302a | E75: Lokaal | F75: 4. Theorielokaal | G75: 26.9 | I75: Linoleum | J75: =J74 -> 0 | K75: 200 | M75: =G75/L75*K75 -> #DIV/0! | N75: =O75/12 -> #DIV/0! | O75: =M75*J75 -> #DIV/0!
A76: OSG West-Friesland | B76: 2e verdieping | C76: a2 01 | E76: Trappenhuis | F76: 2. Verkeersruimte | G76: 16.2 | I76: hout | J76: =J75 -> 0 | K76: 200 | M76: =G76/L76*K76 -> #DIV/0! | N76: =O76/12 -> #DIV/0! | O76: =M76*J76 -> #DIV/0!
A77: OSG West-Friesland | B77: 2e verdieping | C77: a2 12 | E77: Trappenhuis | F77: 2. Verkeersruimte | G77: 17.8 | I77: hout | J77: =J76 -> 0 | K77: 200 | M77: =G77/L77*K77 -> #DIV/0! | N77: =O77/12 -> #DIV/0! | O77: =M77*J77 -> #DIV/0!
A78: OSG West-Friesland | B78: Begane grond | C78: 121 | E78: lokaal | F78: 4. Theorielokaal | G78: 52.12 | I78: Linoleum | J78: =J77 -> 0 | K78: 200 | M78: =G78/L78*K78 -> #DIV/0! | N78: =O78/12 -> #DIV/0! | O78: =M78*J78 -> #DIV/0!
A79: OSG West-Friesland | B79: Begane grond | C79: 122 | E79: Lokaal | F79: 4. Theorielokaal | G79: 54.37 | I79: Linoleum | J79: =J78 -> 0 | K79: 200 | M79: =G79/L79*K79 -> #DIV/0! | N79: =O79/12 -> #DIV/0! | O79: =M79*J79 -> #DIV/0!
A80: OSG West-Friesland | B80: Begane grond | C80: 100 | E80: Lokaal | F80: 4. Theorielokaal | G80: 105.4 | I80: Linoleum | J80: =J79 -> 0 | K80: 200 | M80: =G80/L80*K80 -> #DIV/0! | N80: =O80/12 -> #DIV/0! | O80: =M80*J80 -> #DIV/0!
A81: OSG West-Friesland | B81: Begane grond | C81: 100a | E81: werkplek | F81: 3. Bureaukamers | G81: 15.76 | I81: Linoleum | J81: =J80 -> 0 | K81: 80 | M81: =G81/L81*K81 -> #DIV/0! | N81: =O81/12 -> #DIV/0! | O81: =M81*J81 -> #DIV/0!
A82: OSG West-Friesland | B82: Begane grond | C82: 101 | E82: Lokaal | F82: 4. Theorielokaal | G82: 65.9 | I82: Linoleum | J82: =J81 -> 0 | K82: 200 | M82: =G82/L82*K82 -> #DIV/0! | N82: =O82/12 -> #DIV/0! | O82: =M82*J82 -> #DIV/0!
A83: OSG West-Friesland | B83: Begane grond | C83: 102 | E83: Lokaal | F83: 4. Theorielokaal | G83: 45.6 | I83: Linoleum | J83: =J82 -> 0 | K83: 200 | M83: =G83/L83*K83 -> #DIV/0! | N83: =O83/12 -> #DIV/0! | O83: =M83*J83 -> #DIV/0!
A84: OSG West-Friesland | B84: Begane grond | C84: 102a | E84: Werkplek ENG | F84: 3. Bureaukamers | G84: 20.5 | I84: Linoleum | J84: =J83 -> 0 | K84: 80 | M84: =G84/L84*K84 -> #DIV/0! | N84: =O84/12 -> #DIV/0! | O84: =M84*J84 -> #DIV/0!
A85: OSG West-Friesland | B85: Begane grond | C85: 103 | E85: Lokaal | F85: 4. Theorielokaal | G85: 54.7 | I85: Linoleum | J85: =J84 -> 0 | K85: 200 | M85: =G85/L85*K85 -> #DIV/0! | N85: =O85/12 -> #DIV/0! | O85: =M85*J85 -> #DIV/0!
A86: OSG West-Friesland | B86: Begane grond | C86: 104 | E86: Lokaal | F86: 4. Theorielokaal | G86: 52.7 | I86: Linoleum | J86: =J85 -> 0 | K86: 200 | M86: =G86/L86*K86 -> #DIV/0! | N86: =O86/12 -> #DIV/0! | O86: =M86*J86 -> #DIV/0!
A87: OSG West-Friesland | B87: Begane grond | C87: 105 | E87: Lokaal | F87: 4. Theorielokaal | G87: 45.9 | I87: Linoleum | J87: =J86 -> 0 | K87: 200 | M87: =G87/L87*K87 -> #DIV/0! | N87: =O87/12 -> #DIV/0! | O87: =M87*J87 -> #DIV/0!
A88: OSG West-Friesland | B88: Begane grond | C88: 106 | E88: Lokaal | F88: 4. Theorielokaal | G88: 45.9 | I88: Linoleum | J88: =J87 -> 0 | K88: 200 | M88: =G88/L88*K88 -> #DIV/0! | N88: =O88/12 -> #DIV/0! | O88: =M88*J88 -> #DIV/0!
A89: OSG West-Friesland | B89: Begane grond | C89: 106a | E89: Werkplek decanen | F89: 3. Bureaukamers | G89: 9 | I89: Linoleum | J89: =J88 -> 0 | K89: 80 | M89: =G89/L89*K89 -> #DIV/0! | N89: =O89/12 -> #DIV/0! | O89: =M89*J89 -> #DIV/0!
A90: OSG West-Friesland | B90: Begane grond | C90: 107 | E90: Lokaal | F90: 4. Theorielokaal | G90: 45.9 | I90: Linoleum | J90: =J89 -> 0 | K90: 200 | M90: =G90/L90*K90 -> #DIV/0! | N90: =O90/12 -> #DIV/0! | O90: =M90*J90 -> #DIV/0!
A91: OSG West-Friesland | B91: Begane grond | C91: 107a | E91: Werkplek ha/te/ckv | F91: 3. Bureaukamers | G91: 9 | I91: Linoleum | J91: =J90 -> 0 | K91: 80 | M91: =G91/L91*K91 -> #DIV/0! | N91: =O91/12 -> #DIV/0! | O91: =M91*J91 -> #DIV/0!
A92: OSG West-Friesland | B92: Begane grond | C92: 108 | E92: Lokaal | F92: 4. Theorielokaal | G92: 45.9 | I92: Linoleum | J92: =J91 -> 0 | K92: 200 | M92: =G92/L92*K92 -> #DIV/0! | N92: =O92/12 -> #DIV/0! | O92: =M92*J92 -> #DIV/0!
A93: OSG West-Friesland | B93: Begane grond | C93: 109 | E93: Lokaal | F93: 4. Theorielokaal | G93: 52.7 | I93: Linoleum | J93: =J92 -> 0 | K93: 200 | M93: =G93/L93*K93 -> #DIV/0! | N93: =O93/12 -> #DIV/0! | O93: =M93*J93 -> #DIV/0!
A94: OSG West-Friesland | B94: Begane grond | C94: 110 | E94: Handvaardigheid | F94: 5. Praktijklokaal | G94: 120.3 | I94: Gietvloer | J94: =J93 -> 0 | K94: 200 | M94: =G94/L94*K94 -> #DIV/0! | N94: =O94/12 -> #DIV/0! | O94: =M94*J94 -> #DIV/0!
A95: OSG West-Friesland | B95: Begane grond | C95: 110a | E95: Machineruimte | F95: NIO | G95: NIO | H95: 25.1 | I95: Gietvloer | K95: NIO
A96: OSG West-Friesland | B96: Begane grond | C96: 110b | E96: Droogruimte | F96: NIO | G96: 23 | I96: Gietvloer | K96: NIO
A97: OSG West-Friesland | B97: Begane grond | C97: 111 | E97: Handvaardigheid | F97: 5. Praktijklokaal | G97: 147.5 | I97: Gietvloer | J97: =J94 -> 0 | K97: 200 | M97: =G97/L97*K97 -> #DIV/0! | N97: =O97/12 -> #DIV/0! | O97: =M97*J97 -> #DIV/0!
A98: OSG West-Friesland | B98: Begane grond | C98: 112 | E98: Lokaal | F98: 4. Theorielokaal | G98: 83.6 | I98: Linoleum | J98: =J97 -> 0 | K98: 200 | M98: =G98/L98*K98 -> #DIV/0! | N98: =O98/12 -> #DIV/0! | O98: =M98*J98 -> #DIV/0!
A99: OSG West-Friesland | B99: Begane grond | C99: 113 | E99: Studieruimte | F99: 4. Theorielokaal | G99: 152.1 | I99: Linoleum | J99: =J98 -> 0 | K99: 200 | M99: =G99/L99*K99 -> #DIV/0! | N99: =O99/12 -> #DIV/0! | O99: =M99*J99 -> #DIV/0!
A100: OSG West-Friesland | B100: Begane grond | C100: 114 | E100: Stilteruimte | F100: 4. Theorielokaal | G100: 182.7 | I100: Linoleum | J100: =J97 -> 0 | K100: 80 | M100: =G100/L100*K100 -> #DIV/0! | N100: =O100/12 -> #DIV/0! | O100: =M100*J100 -> #DIV/0!
A101: OSG West-Friesland | B101: Begane grond | C101: 115 | E101: Lokaal | F101: 4. Theorielokaal | G101: 57.2 | I101: Linoleum | J101: =J98 -> 0 | K101: 200 | M101: =G101/L101*K101 -> #DIV/0! | N101: =O101/12 -> #DIV/0! | O101: =M101*J101 -> #DIV/0!
A102: OSG West-Friesland | B102: Begane grond | C102: 115a | E102: Werkplek NED | F102: 3. Bureaukamers | G102: 23.4 | I102: Linoleum | J102: =J99 -> 0 | K102: 80 | M102: =G102/L102*K102 -> #DIV/0! | N102: =O102/12 -> #DIV/0! | O102: =M102*J102 -> #DIV/0!
A103: OSG West-Friesland | B103: Begane grond | C103: 115b | E103: Drukkerij | F103: NIO | G103: NIO | H103: 25.3 | I103: Linoleum | K103: NIO
A104: OSG West-Friesland | B104: Begane grond | C104: 116 | E104: Lokaal | F104: 4. Theorielokaal | G104: 57.1 | I104: Linoleum | J104: =J102 -> 0 | K104: 200 | M104: =G104/L104*K104 -> #DIV/0! | N104: =O104/12 -> #DIV/0! | O104: =M104*J104 -> #DIV/0!
A105: OSG West-Friesland | B105: Begane grond | C105: 117 | E105: Lokaal | F105: 4. Theorielokaal | G105: 67.4 | I105: Linoleum | J105: =J104 -> 0 | K105: 200 | M105: =G105/L105*K105 -> #DIV/0! | N105: =O105/12 -> #DIV/0! | O105: =M105*J105 -> #DIV/0!
A106: OSG West-Friesland | B106: Begane grond | C106: 119 | E106: Lokaal | F106: 4. Theorielokaal | G106: 59.4 | I106: Linoleum | J106: =J105 -> 0 | K106: 200 | M106: =G106/L106*K106 -> #DIV/0! | N106: =O106/12 -> #DIV/0! | O106: =M106*J106 -> #DIV/0!
A107: OSG West-Friesland | B107: Begane grond | C107: 120 | E107: Lokaal | F107: 4. Theorielokaal | G107: 58.9 | I107: Linoleum | J107: =J106 -> 0 | K107: 200 | M107: =G107/L107*K107 -> #DIV/0! | N107: =O107/12 -> #DIV/0! | O107: =M107*J107 -> #DIV/0!
A108: OSG West-Friesland | B108: Begane grond | C108: 121 | E108: Kleine aula | F108: 2. Verkeersruimte | G108: 146.7 | I108: Linoleum | J108: =J107 -> 0 | K108: 200 | M108: =G108/L108*K108 -> #DIV/0! | N108: =O108/12 -> #DIV/0! | O108: =M108*J108 -> #DIV/0!
A109: OSG West-Friesland | B109: Begane grond | C109: 122 | E109: Aula | F109: 2. Verkeersruimte | G109: 254.3 | I109: Linoleum | J109: =J108 -> 0 | K109: 200 | M109: =G109/L109*K109 -> #DIV/0! | N109: =O109/12 -> #DIV/0! | O109: =M109*J109 -> #DIV/0!
A110: OSG West-Friesland | B110: Begane grond | C110: 400 | E110: Lokaal | F110: 4. Theorielokaal | G110: 221.8 | I110: Linoleum | J110: =J109 -> 0 | K110: 200 | M110: =G110/L110*K110 -> #DIV/0! | N110: =O110/12 -> #DIV/0! | O110: =M110*J110 -> #DIV/0!
A111: OSG West-Friesland | B111: Begane grond | C111: 401 | E111: Lokaal | F111: 4. Theorielokaal | G111: 59.2 | I111: Linoleum | J111: =J110 -> 0 | K111: 200 | M111: =G111/L111*K111 -> #DIV/0! | N111: =O111/12 -> #DIV/0! | O111: =M111*J111 -> #DIV/0!
A112: OSG West-Friesland | B112: Begane grond | C112: 401a | E112: Werkplek AK/GS/EC | F112: 3. Bureaukamers | G112: 22.4 | I112: Linoleum | J112: =J111 -> 0 | K112: 80 | M112: =G112/L112*K112 -> #DIV/0! | N112: =O112/12 -> #DIV/0! | O112: =M112*J112 -> #DIV/0!
...

Sheet SG Newton
A1: Locatie | B1: Verdieping | C1: Ruimtenummer | D1: Nr. tekening | E1: Ruimte-omschrijving | F1: Werkprogramma | G1: m2 | H1: M2 NIO | I1: Vloerafwerking | J1: Uurtarief | K1: Frequentie | L1: Prestatienorm | M1: Uren per jaar | N1: Kosten per maand | O1: Kosten per jaar | P1: Opmerkingen
A2: SG Newton | B2: 1e verdieping | C2: 125 | E2: Tochtportaal | F2: 2. Verkeersruimte | G2: 7 | I2: Tapijt | J2: 0 | K2: 200 | M2: =G2/L2*K2 -> #DIV/0! | N2: =O2/12 -> #DIV/0! | O2: =M2*J2 -> #DIV/0!
A3: SG Newton | B3: 1e verdieping | C3: 124 | E3: Hoofdentree | F3: 2. Verkeersruimte | G3: 26 | I3: Tapijt | J3: =J2 -> 0 | K3: 200 | M3: =G3/L3*K3 -> #DIV/0! | N3: =O3/12 -> #DIV/0! | O3: =M3*J3 -> #DIV/0!
A4: SG Newton | B4: 1e verdieping | C4: V109 | E4: Trap | F4: 2. Verkeersruimte | G4: 14 | I4: Rubber | J4: =J2 -> 0 | K4: 200 | M4: =G4/L4*K4 -> #DIV/0! | N4: =O4/12 -> #DIV/0! | O4: =M4*J4 -> #DIV/0!
A5: SG Newton | B5: 1e verdieping | C5: 101 | E5: Handel en administratie | F5: 4. Theorielokaal | G5: 87 | I5: Lino | J5: =J2 -> 0 | K5: 120 | M5: =G5/L5*K5 -> #DIV/0! | N5: =O5/12 -> #DIV/0! | O5: =M5*J5 -> #DIV/0!
A6: SG Newton | B6: 1e verdieping | C6: V01 | E6: Tochtsluis | F6: 2. Verkeersruimte | G6: 7 | I6: Lino | J6: =J5 -> 0 | K6: 40 | M6: =G6/L6*K6 -> #DIV/0! | N6: =O6/12 -> #DIV/0! | O6: =M6*J6 -> #DIV/0!
A7: SG Newton | B7: 1e verdieping | C7: V02 | E7: Noodtrappenhuis | F7: 2. Verkeersruimte | G7: 14 | I7: Beton | J7: =J6 -> 0 | K7: 20 | M7: =G7/L7*K7 -> #DIV/0! | N7: =O7/12 -> #DIV/0! | O7: =M7*J7 -> #DIV/0!
A8: SG Newton | B8: 1e verdieping | C8: 102 | E8: Handel en administratie | F8: 4. Theorielokaal | G8: 164 | I8: Lino | J8: =J7 -> 0 | K8: 120 | M8: =G8/L8*K8 -> #DIV/0! | N8: =O8/12 -> #DIV/0! | O8: =M8*J8 -> #DIV/0!
A9: SG Newton | B9: 1e verdieping | C9: 103 | E9: Vaklokaal zorg en welzijn | F9: 4. Theorielokaal | G9: 136 | I9: Lino | J9: =J8 -> 0 | K9: 120 | M9: =G9/L9*K9 -> #DIV/0! | N9: =O9/12 -> #DIV/0! | O9: =M9*J9 -> #DIV/0!
A10: SG Newton | B10: 1e verdieping | C10: V04 | E10: Tochtsluis | F10: 2. Verkeersruimte | G10: 7 | I10: Lino | J10: =J9 -> 0 | K10: 40 | M10: =G10/L10*K10 -> #DIV/0! | N10: =O10/12 -> #DIV/0! | O10: =M10*J10 -> #DIV/0!
A11: SG Newton | B11: 1e verdieping | C11: V105 | E11: Noodtrappenhuis | F11: 2. Verkeersruimte | G11: 14 | I11: Steen | J11: =J10 -> 0 | K11: 20 | M11: =G11/L11*K11 -> #DIV/0! | N11: =O11/12 -> #DIV/0! | O11: =M11*J11 -> #DIV/0!
A12: SG Newton | B12: 1e verdieping | C12: V1B | E12: Gang | F12: 2. Verkeersruimte | G12: 31 | I12: Lino | J12: =J11 -> 0 | K12: 200 | M12: =G12/L12*K12 -> #DIV/0! | N12: =O12/12 -> #DIV/0! | O12: =M12*J12 -> #DIV/0!
A13: SG Newton | B13: 1e verdieping | C13: 104 | E13: Winkel + balie | F13: 2. Verkeersruimte | G13: 33 | I13: Lino | J13: =J12 -> 0 | K13: 200 | M13: =G13/L13*K13 -> #DIV/0! | N13: =O13/12 -> #DIV/0! | O13: =M13*J13 -> #DIV/0!
A14: SG Newton | B14: 1e verdieping | E14: Tribune laag | F14: 2. Verkeersruimte | G14: 48 | I14: Hout | J14: =J13 -> 0 | K14: 200 | M14: =G14/L14*K14 -> #DIV/0! | N14: =O14/12 -> #DIV/0! | O14: =M14*J14 -> #DIV/0!
A15: SG Newton | B15: 1e verdieping | E15: Toiletgroep heren | F15: 1. Sanitair | G15: 12 | I15: Steen | J15: =J14 -> 0 | K15: 200 | M15: =G15/L15*K15 -> #DIV/0! | N15: =O15/12 -> #DIV/0! | O15: =M15*J15 -> #DIV/0!
A16: SG Newton | B16: 1e verdieping | E16: Toiletten dames | F16: 1. Sanitair | G16: 6 | I16: Tegels | J16: =J15 -> 0 | K16: 200 | M16: =G16/L16*K16 -> #DIV/0! | N16: =O16/12 -> #DIV/0! | O16: =M16*J16 -> #DIV/0!
A17: SG Newton | B17: 1e verdieping | C17: 149 | E17: Toiletten dames | F17: 1. Sanitair | G17: 6 | I17: Tegels | J17: =J16 -> 0 | K17: 200 | M17: =G17/L17*K17 -> #DIV/0! | N17: =O17/12 -> #DIV/0! | O17: =M17*J17 -> #DIV/0!
A18: SG Newton | B18: 1e verdieping | C18: 105 | E18: Podium/muzieklokaal | F18: 4. Theorielokaal | G18: 84 | I18: Lino | J18: =J17 -> 0 | K18: 120 | M18: =G18/L18*K18 -> #DIV/0! | N18: =O18/12 -> #DIV/0! | O18: =M18*J18 -> #DIV/0!
A19: SG Newton | B19: 1e verdieping | C19: 153 | E19: Tochtsluis | F19: 2. Verkeersruimte | G19: 21 | I19: Lino | J19: =J18 -> 0 | K19: 40 | M19: =G19/L19*K19 -> #DIV/0! | N19: =O19/12 -> #DIV/0! | O19: =M19*J19 -> #DIV/0!
A20: SG Newton | B20: 1e verdieping | C20: V107 | E20: Noodtrappenhuis | F20: 2. Verkeersruimte | G20: 14 | I20: Beton | J20: =J19 -> 0 | K20: 20 | M20: =G20/L20*K20 -> #DIV/0! | N20: =O20/12 -> #DIV/0! | O20: =M20*J20 -> #DIV/0!
A21: SG Newton | B21: 1e verdieping | C21: V1A | E21: # aula | F21: 2. Verkeersruimte | G21: 300 | I21: Lino | J21: =J20 -> 0 | K21: 200 | M21: =G21/L21*K21 -> #DIV/0! | N21: =O21/12 -> #DIV/0! | O21: =M21*J21 -> #DIV/0!
A22: SG Newton | B22: 1e verdieping | C22: T1A | E22: Aula tribune+trap | F22: 2. Verkeersruimte | G22: 216 | I22: Hout | J22: =J21 -> 0 | K22: 200 | M22: =G22/L22*K22 -> #DIV/0! | N22: =O22/12 -> #DIV/0! | O22: =M22*J22 -> #DIV/0!
A23: SG Newton | B23: 1e verdieping | C23: T1B | E23: Trap tussenverd. | F23: 2. Verkeersruimte | G23: 23 | I23: Rubber | J23: =J22 -> 0 | K23: 200 | M23: =G23/L23*K23 -> #DIV/0! | N23: =O23/12 -> #DIV/0! | O23: =M23*J23 -> #DIV/0!
A24: SG Newton | B24: 2e verdieping | C24: 240 | E24: Lockers | F24: 2. Verkeersruimte | G24: 12 | I24: Lino | J24: =J23 -> 0 | K24: 200 | M24: =G24/L24*K24 -> #DIV/0! | N24: =O24/12 -> #DIV/0! | O24: =M24*J24 -> #DIV/0!
A25: SG Newton | B25: 2e verdieping | C25: 210 | E25: Tochtsluis | F25: 2. Verkeersruimte | G25: 14 | I25: Lino | J25: =J24 -> 0 | K25: 40 | M25: =G25/L25*K25 -> #DIV/0! | N25: =O25/12 -> #DIV/0! | O25: =M25*J25 -> #DIV/0!
A26: SG Newton | B26: 2e verdieping | C26: V210 | E26: Noodtrappenhuis | F26: 2. Verkeersruimte | G26: 14 | I26: Steen | J26: =J25 -> 0 | K26: 20 | M26: =G26/L26*K26 -> #DIV/0! | N26: =O26/12 -> #DIV/0! | O26: =M26*J26 -> #DIV/0!
A27: SG Newton | B27: 2e verdieping | C27: 209 | E27: Theorievaklokaal na/sk | F27: 4. Theorielokaal | G27: 64 | I27: Lino | J27: =J26 -> 0 | K27: 120 | M27: =G27/L27*K27 -> #DIV/0! | N27: =O27/12 -> #DIV/0! | O27: =M27*J27 -> #DIV/0!
A28: SG Newton | B28: 2e verdieping | C28: 241 | E28: Toa-ruimte | F28: 5. Praktijklokaal | G28: 26 | I28: Lino | J28: =J27 -> 0 | K28: 40 | M28: =G28/L28*K28 -> #DIV/0! | N28: =O28/12 -> #DIV/0! | O28: =M28*J28 -> #DIV/0!
... A65: SG Newton | B65: 3e verdieping | C65: 313 | E65: Theorielokaal | F65: 4. Theorielokaal | G65: 52 | I65: Lino | J65: =J64 -> 0 | K65: 120 | M65: =G65/L65*K65 -> #DIV/0! | N65: =O65/12 -> #DIV/0! | O65: =M65*J65 -> #DIV/0!
A66: SG Newton | B66: 3e verdieping | C66: 340 | F66: 2. Verkeersruimte | G66: 12 | I66: Lino | J66: =J65 -> 0 | K66: 200 | M66: =G66/L66*K66 -> #DIV/0! | N66: =O66/12 -> #DIV/0! | O66: =M66*J66 -> #DIV/0!
A67: SG Newton | B67: 3e verdieping | C67: 312 | E67: Tochtsluis | F67: 2. Verkeersruimte | G67: 14 | I67: Lino | J67: =J66 -> 0 | K67: 40 | M67: =G67/L67*K67 -> #DIV/0! | N67: =O67/12 -> #DIV/0! | O67: =M67*J67 -> #DIV/0!
A68: SG Newton | B68: 3e verdieping | C68: V302 | E68: Noodtrappenhuis | F68: 2. Verkeersruimte | G68: 14 | I68: Beton | J68: =J67 -> 0 | K68: 20 | M68: =G68/L68*K68 -> #DIV/0! | N68: =O68/12 -> #DIV/0! | O68: =M68*J68 -> #DIV/0!
A69: SG Newton | B69: 3e verdieping | C69: 311 | E69: Theorievaklokaal bio | F69: 4. Theorielokaal | G69: 78 | I69: Lino | J69: =J68 -> 0 | K69: 120 | M69: =G69/L69*K69 -> #DIV/0! | N69: =O69/12 -> #DIV/0! | O69: =M69*J69 -> #DIV/0!
A70: SG Newton | B70: 3e verdieping | C70: 341 | E70: Berging | F70: 6. Bergingen | G70: NIO | H70: 3 | I70: Lino | K70: NIO
A71: SG Newton | B71: 3e verdieping | C71: 342 | E71: Berging | F71: 6. Bergingen | G71: NIO | H71: 4 | I71: Lino | K71: NIO
A72: SG Newton | B72: 3e verdieping | C72: 310 | E72: Theorievaklokaal na/sk | F72: 4. Theorielokaal | G72: 73 | I72: Lino | J72: =J69 -> 0 | K72: 120 | M72: =G72/L72*K72 -> #DIV/0! | N72: =O72/12 -> #DIV/0! | O72: =M72*J72 -> #DIV/0!
A73: SG Newton | B73: 3e verdieping | C73: 343 | E73: Herentoilet | F73: 1. Sanitair | G73: 10 | I73: Tegels | J73: =J72 -> 0 | K73: 200 | M73: =G73/L73*K73 -> #DIV/0! | N73: =O73/12 -> #DIV/0! | O73: =M73*J73 -> #DIV/0!
A74: SG Newton | B74: 4e verdieping | C74: 440 | E74: deelschoolplein | F74: 2. Verkeersruimte | G74: 16 | I74: Lino | J74: =J73 -> 0 | K74: 200 | M74: =G74/L74*K74 -> #DIV/0! | N74: =O74/12 -> #DIV/0! | O74: =M74*J74 -> #DIV/0!
A75: SG Newton | B75: 4e verdieping | C75: 413 | E75: Tochtsluis | F75: 2. Verkeersruimte | G75: 18 | I75: Lino | J75: =J74 -> 0 | K75: 40 | M75: =G75/L75*K75 -> #DIV/0! | N75: =O75/12 -> #DIV/0! | O75: =M75*J75 -> #DIV/0!
A76: SG Newton | B76: 4e verdieping | C76: V413 | E76: Noodtrappenhuis | F76: 2. Verkeersruimte | G76: 14 | I76: Beton | J76: =J75 -> 0 | K76: 20 | M76: =G76/L76*K76 -> #DIV/0! | N76: =O76/12 -> #DIV/0! | O76: =M76*J76 -> #DIV/0!
A77: SG Newton | B77: 4e verdieping | C77: 412 | E77: Theorievaklokaal na/sk | F77: 4. Theorielokaal | G77: 53 | I77: Lino | J77: =J76 -> 0 | K77: 120 | M77: =G77/L77*K77 -> #DIV/0! | N77: =O77/12 -> #DIV/0! | O77: =M77*J77 -> #DIV/0!
A78: SG Newton | B78: 4e verdieping | C78: 441 | E78: Berging | F78: 6. Bergingen | G78: NIO | H78: 6 | I78: Lino | K78: NIO
A79: SG Newton | B79: 4e verdieping | C79: 411 | E79: Kernteamleiders | F79: 3. Bureaukamers | G79: 22 | I79: laminaat | J79: =J77 -> 0 | K79: 40 | M79: =G79/L79*K79 -> #DIV/0! | N79: =O79/12 -> #DIV/0! | O79: =M79*J79 -> #DIV/0!
A80: SG Newton | B80: 4e verdieping | E80: Gang | F80: 2. Verkeersruimte | G80: 9 | I80: Lino | J80: =J79 -> 0 | K80: 200 | M80: =G80/L80*K80 -> #DIV/0! | N80: =O80/12 -> #DIV/0! | O80: =M80*J80 -> #DIV/0!
A81: SG Newton | B81: 4e verdieping | C81: 410 | E81: Vaklokaal biologie | F81: 4. Theorielokaal | G81: 88 | I81: Lino | J81: =J80 -> 0 | K81: 120 | M81: =G81/L81*K81 -> #DIV/0! | N81: =O81/12 -> #DIV/0! | O81: =M81*J81 -> #DIV/0!
A82: SG Newton | B82: 4e verdieping | C82: 443 | E82: Herentoilet | F82: 1. Sanitair | G82: 12 | I82: Tegels | J82: =J81 -> 0 | K82: 200 | M82: =G82/L82*K82 -> #DIV/0! | N82: =O82/12 -> #DIV/0! | O82: =M82*J82 -> #DIV/0!
A83: SG Newton | B83: 4e verdieping | C83: 447 | E83: Damestoilet | F83: 1. Sanitair | G83: 11 | I83: Tegels | J83: =J82 -> 0 | K83: 200 | M83: =G83/L83*K83 -> #DIV/0! | N83: =O83/12 -> #DIV/0! | O83: =M83*J83 -> #DIV/0!
A84: SG Newton | B84: 4e verdieping | C84: 448 | E84: Toilet docenten | F84: 1. Sanitair | G84: 3 | I84: Steen | J84: =J83 -> 0 | K84: 200 | M84: =G84/L84*K84 -> #DIV/0! | N84: =O84/12 -> #DIV/0! | O84: =M84*J84 -> #DIV/0!
A85: SG Newton | B85: 4e verdieping | C85: 409 | E85: Handvaardigheidslokaal | F85: 5. Praktijklokaal | G85: 108 | I85: Vinyl | J85: =J84 -> 0 | K85: 200 | M85: =G85/L85*K85 -> #DIV/0! | N85: =O85/12 -> #DIV/0! | O85: =M85*J85 -> #DIV/0!
A86: SG Newton | B86: 4e verdieping | C86: 409 | E86: Combilokaal | F86: 4. Theorielokaal | G86: 10 | I86: Lino | J86: =J85 -> 0 | K86: 120 | M86: =G86/L86*K86 -> #DIV/0! | N86: =O86/12 -> #DIV/0! | O86: =M86*J86 -> #DIV/0!
A87: SG Newton | B87: 4e verdieping | C87: 408 | E87: Tochtsluis | F87: 2. Verkeersruimte | G87: 14 | I87: Lino | J87: =J86 -> 0 | K87: 40 | M87: =G87/L87*K87 -> #DIV/0! | N87: =O87/12 -> #DIV/0! | O87: =M87*J87 -> #DIV/0!
A88: SG Newton | B88: 4e verdieping | C88: V418 | E88: Noodtrappenhuis | F88: 2. Verkeersruimte | G88: 14 | I88: Steen | J88: =J87 -> 0 | K88: 20 | M88: =G88/L88*K88 -> #DIV/0! | N88: =O88/12 -> #DIV/0! | O88: =M88*J88 -> #DIV/0!
A89: SG Newton | B89: 4e verdieping | C89: V4A | F89: 2. Verkeersruimte | G89: 12 | I89: Lino | J89: =J88 -> 0 | K89: 200 | M89: =G89/L89*K89 -> #DIV/0! | N89: =O89/12 -> #DIV/0! | O89: =M89*J89 -> #DIV/0!
A90: SG Newton | B90: 4e verdieping | C90: 407 | E90: Theorielokaal | F90: 4. Theorielokaal | G90: 52 | I90: Lino | J90: =J89 -> 0 | K90: 120 | M90: =G90/L90*K90 -> #DIV/0! | N90: =O90/12 -> #DIV/0! | O90: =M90*J90 -> #DIV/0!
A91: SG Newton | B91: 4e verdieping | C91: 406 | E91: Theorielokaal | F91: 4. Theorielokaal | G91: 52 | I91: Lino | J91: =J90 -> 0 | K91: 120 | M91: =G91/L91*K91 -> #DIV/0! | N91: =O91/12 -> #DIV/0! | O91: =M91*J91 -> #DIV/0!
A92: SG Newton | B92: 4e verdieping | C92: 405 | E92: Theorielokaal | F92: 4. Theorielokaal | G92: 52 | I92: Lino | J92: =J91 -> 0 | K92: 120 | M92: =G92/L92*K92 -> #DIV/0! | N92: =O92/12 -> #DIV/0! | O92: =M92*J92 -> #DIV/0!
A93: SG Newton | B93: 4e verdieping | C93: 404 | E93: Theorielokaal | F93: 4. Theorielokaal | G93: 72 | I93: Lino | J93: =J92 -> 0 | K93: 120 | M93: =G93/L93*K93 -> #DIV/0! | N93: =O93/12 -> #DIV/0! | O93: =M93*J93 -> #DIV/0!
A94: SG Newton | B94: 4e verdieping | C94: 403 | E94: Theorielokaal | F94: 4. Theorielokaal | G94: 48 | I94: Lino | J94: =J93 -> 0 | K94: 120 | M94: =G94/L94*K94 -> #DIV/0! | N94: =O94/12 -> #DIV/0! | O94: =M94*J94 -> #DIV/0!
A95: SG Newton | B95: 4e verdieping | C95: 402 | E95: Tochtsluis | F95: 2. Verkeersruimte | G95: 14 | I95: Lino | J95: =J94 -> 0 | K95: 40 | M95: =G95/L95*K95 -> #DIV/0! | N95: =O95/12 -> #DIV/0! | O95: =M95*J95 -> #DIV/0!
A96: SG Newton | B96: 4e verdieping | C96: V402 | E96: Noodtrappenhuis | F96: 2. Verkeersruimte | G96: 10 | I96: Steen | J96: =J95 -> 0 | K96: 20 | M96: =G96/L96*K96 -> #DIV/0! | N96: =O96/12 -> #DIV/0! | O96: =M96*J96 -> #DIV/0!
A97: SG Newton | B97: 4e verdieping | C97: V4B | E97: Verkeersruimte | F97: 2. Verkeersruimte | G97: 80 | I97: Lino | J97: =J96 -> 0 | K97: 200 | M97: =G97/L97*K97 -> #DIV/0! | N97: =O97/12 -> #DIV/0! | O97: =M97*J97 -> #DIV/0!
A98: SG Newton | B98: 4e verdieping | C98: 401 | E98: Vaklokaal tekenen | F98: 4. Theorielokaal | G98: 100 | I98: Lino | J98: =J97 -> 0 | K98: 120 | M98: =G98/L98*K98 -> #DIV/0! | N98: =O98/12 -> #DIV/0! | O98: =M98*J98 -> #DIV/0!
A99: SG Newton | B99: 4e verdieping | E99: Berging/expositie tekenen | F99: 6. Bergingen | G99: NIO | H99: 14 | I99: Lino | K99: NIO
A100: SG Newton | B100: 4e verdieping | C100: 414 | E100: Theorielokaal | F100: 4. Theorielokaal | G100: 54 | I100: Lino | J100: =J98 -> 0 | K100: 120 | M100: =G100/L100*K100 -> #DIV/0! | N100: =O100/12 -> #DIV/0! | O100: =M100*J100 -> #DIV/0!
A101: SG Newton | B101: 4e verdieping | C101: 415 | E101: Deelschoolplein onderbouw | F101: 2. Verkeersruimte | G101: 116 | I101: Lino | J101: =J100 -> 0 | K101: 200 | M101: =G101/L101*K101 -> #DIV/0! | N101: =O101/12 -> #DIV/0! | O101: =M101*J101 -> #DIV/0!
A102: SG Newton | B102: 4e verdieping | C102: V4C | E102: Docentenwerkplek | F102: 3. Bureaukamers | G102: 16 | I102: Vast tapijt | J102: =J101 -> 0 | K102: 200 | M102: =G102/L102*K102 -> #DIV/0! | N102: =O102/12 -> #DIV/0! | O102: =M102*J102 -> #DIV/0!
A103: SG Newton | B103: 5e verdieping | E103: Opslag | F103: 6. Bergingen | G103: NIO | H103: 24 | I103: Lino | K103: NIO
A104: SG Newton | B104: 5e verdieping | E104: Verkeersruimte opslag | F104: 6. Bergingen | G104: NIO | H104: 18 | I104: Lino | K104: NIO
A105: SG Newton | B105: 5e verdieping | E105: Trapbordes | F105: 2. Verkeersruimte | G105: NIO | H105: 5 | I105: Beton | K105: NIO
A106: SG Newton | B106: 5e verdieping | E106: Werkplek concierge | F106: 3. Bureaukamers | G106: NIO | H106: 40 | I106: Sure step | K106: NIO
A107: SG Newton | B107: Begane grond | C107: 14 | E107: Entree | F107: 2. Verkeersruimte | G107: 5 | I107: Vast tapijt | J107: =J102 -> 0 | K107: 200 | M107: =G107/L107*K107 -> #DIV/0! | N107: =O107/12 -> #DIV/0! | O107: =M107*J107 -> #DIV/0!
A108: SG Newton | B108: Begane grond | C108: GS02 | E108: Verkeersruimte | F108: 2. Verkeersruimte | G108: 16 | I108: Lino | J108: =J107 -> 0 | K108: 200 | M108: =G108/L108*K108 -> #DIV/0! | N108: =O108/12 -> #DIV/0! | O108: =M108*J108 -> #DIV/0!
A109: SG Newton | B109: Begane grond | C109: GS01 | E109: Verkeersruimte | F109: 2. Verkeersruimte | G109: 83 | I109: Lino | J109: =J108 -> 0 | K109: 200 | M109: =G109/L109*K109 -> #DIV/0! | N109: =O109/12 -> #DIV/0! | O109: =M109*J109 -> #DIV/0!
A110: SG Newton | B110: Begane grond | C110: S01 | E110: Docentenkamer | F110: 2. Verkeersruimte | G110: 46 | I110: Lino | J110: =J109 -> 0 | K110: 200 | M110: =G110/L110*K110 -> #DIV/0! | N110: =O110/12 -> #DIV/0! | O110: =M110*J110 -> #DIV/0!
A111: SG Newton | B111: Begane grond | C111: S01 | E111: Doucheruimte | F111: 1. Sanitair | G111: 2 | I111: Steen | J111: =J110 -> 0 | K111: 200 | M111: =G111/L111*K111 -> #DIV/0! | N111: =O111/12 -> #DIV/0! | O111: =M111*J111 -> #DIV/0!
A112: SG Newton | B112: Begane grond | C112: S41 | E112: Toilet | F112: 1. Sanitair | G112: 3 | I112: Steen | J112: =J111 -> 0 | K112: 200 | M112: =G112/L112*K112 -> #DIV/0! | N112: =O112/12 -> #DIV/0! | O112: =M112*J112 -> #DIV/0!
A113: SG Newton | B113: Begane grond | C113: S42 | E113: Toilet | F113: 1. Sanitair | G113: 3 | I113: Steen | J113: =J112 -> 0 | K113: 200 | M113: =G113/L113*K113 -> #DIV/0! | N113: =O113/12 -> #DIV/0! | O113: =M113*J113 -> #DIV/0!
A114: SG Newton | B114: Begane grond | C114: S43 | E114: Kleedruimte | F114: 1. Sanitair | G114: 20 | I114: Steen | J114: =J113 -> 0 | K114: 200 | M114: =G114/L114*K114 -> #DIV/0! | N114: =O114/12 -> #DIV/0! | O114: =M114*J114 -> #DIV/0!
A115: SG Newton | B115: Begane grond | C115: S43 | E115: Toilet | F115: 1. Sanitair | G115: 1 | I115: Steen | J115: =J114 -> 0 | K115: 200 | M115: =G115/L115*K115 -> #DIV/0! | N115: =O115/12 -> #DIV/0! | O115: =M115*J115 -> #DIV/0!
A116: SG Newton | B116: Begane grond | C116: S43 | E116: Wasruimte | F116: 1. Sanitair | G116: 6 | I116: Steen | J116: =J115 -> 0 | K116: 200 | M116: =G116/L116*K116 -> #DIV/0! | N116: =O116/12 -> #DIV/0! | O116: =M116*J116 -> #DIV/0!
A117: SG Newton | B117: Begane grond | C117: S44 | E117: Kleedruimte | F117: 1. Sanitair | G117: 20 | I117: Steen | J117: =J116 -> 0 | K117: 200 | M117: =G117/L117*K117 -> #DIV/0! | N117: =O117/12 -> #DIV/0! | O117: =M117*J117 -> #DIV/0!
A118: SG Newton | B118: Begane grond | C118: S44 | E118: Wasruimte | F118: 1. Sanitair | G118: 6 | I118: Steen | J118: =J117 -> 0 | K118: 200 | M118: =G118/L118*K118 -> #DIV/0! | N118: =O118/12 -> #DIV/0! | O118: =M118*J118 -> #DIV/0!
A119: SG Newton | B119: Begane grond | C119: S44 | E119: Toilet | F119: 1. Sanitair | G119: 1 | I119: Steen | J119: =J118 -> 0 | K119: 200 | M119: =G119/L119*K119 -> #DIV/0! | N119: =O119/12 -> #DIV/0! | O119: =M119*J119 -> #DIV/0!
... A126: SG Newton | B126: Begane grond | C126: GS03 | E126: Verkeersruimte | F126: 2. Verkeersruimte | G126: 14 | I126: Lino | J126: =J125 -> 0 | K126: 200 | M126: =G126/L126*K126 -> #DIV/0! | N126: =O126/12 -> #DIV/0! | O126: =M126*J126 -> #DIV/0!
A127: SG Newton | B127: Begane grond | C127: S47 | E127: Docent-/ehbo-ruimte | F127: 3. Bureaukamers | G127: NIO | H127: 6 | I127: Steen | K127: NIO
A128: SG Newton | B128: Begane grond | C128: S47 | E128: Toilet | F128: 1. Sanitair | G128: 1 | I128: Steen | J128: =J126 -> 0 | K128: 200 | M128: =G128/L128*K128 -> #DIV/0! | N128: =O128/12 -> #DIV/0! | O128: =M128*J128 -> #DIV/0!
A129: SG Newton | B129: Begane grond | C129: S47 | E129: Doucheruimte | F129: 1. Sanitair | G129: 1 | I129: Steen | J129: =J128 -> 0 | K129: 200 | M129: =G129/L129*K129 -> #DIV/0! | N129: =O129/12 -> #DIV/0! | O129: =M129*J129 -> #DIV/0!
A130: SG Newton | B130: Begane grond | C130: S48 | E130: Miva toilet | F130: 1. Sanitair | G130: NIO | H130: 8 | I130: Steen | K130: NIO
A131: SG Newton | B131: Begane grond | C131: S50 | E131: Docentruimte | F131: 1. Sanitair | G131: 7 | I131: Steen | J131: =J129 -> 0 | K131: 200 | M131: =G131/L131*K131 -> #DIV/0! | N131: =O131/12 -> #DIV/0! | O131: =M131*J131 -> #DIV/0!
A132: SG Newton | B132: Begane grond | C132: S50 | E132: Toilet | F132: 1. Sanitair | G132: 1 | I132: Steen | J132: =J131 -> 0 | K132: 200 | M132: =G132/L132*K132 -> #DIV/0! | N132: =O132/12 -> #DIV/0! | O132: =M132*J132 -> #DIV/0!
A133: SG Newton | B133: Begane grond | C133: S52 | E133: Kleedruimte | F133: 1. Sanitair | G133: 20 | I133: Steen | J133: =J132 -> 0 | K133: 200 | M133: =G133/L133*K133 -> #DIV/0! | N133: =O133/12 -> #DIV/0! | O133: =M133*J133 -> #DIV/0!
A134: SG Newton | B134: Begane grond | C134: S52 | E134: Wasruimte | F134: 1. Sanitair | G134: 6 | I134: Steen | J134: =J133 -> 0 | K134: 200 | M134: =G134/L134*K134 -> #DIV/0! | N134: =O134/12 -> #DIV/0! | O134: =M134*J134 -> #DIV/0!
A135: SG Newton | B135: Begane grond | C135: S52 | E135: Toilet | F135: 1. Sanitair | G135: 1 | I135: Steen | J135: =J134 -> 0 | K135: 200 | M135: =G135/L135*K135 -> #DIV/0! | N135: =O135/12 -> #DIV/0! | O135: =M135*J135 -> #DIV/0!
A136: SG Newton | B136: Begane grond | C136: S53 | E136: Kleedruimte | F136: 1. Sanitair | G136: 20 | I136: Steen | J136: =J135 -> 0 | K136: 200 | M136: =G136/L136*K136 -> #DIV/0! | N136: =O136/12 -> #DIV/0! | O136: =M136*J136 -> #DIV/0!
A137: SG Newton | B137: Begane grond | C137: S53 | E137: Toilet | F137: 1. Sanitair | G137: 1 | I137: Steen | J137: =J136 -> 0 | K137: 200 | M137: =G137/L137*K137 -> #DIV/0! | N137: =O137/12 -> #DIV/0! | O137: =M137*J137 -> #DIV/0!
A138: SG Newton | B138: Begane grond | C138: S53 | E138: Wasruimte | F138: 1. Sanitair | G138: 6 | I138: Steen | J138: =J137 -> 0 | K138: 200 | M138: =G138/L138*K138 -> #DIV/0! | N138: =O138/12 -> #DIV/0! | O138: =M138*J138 -> #DIV/0!
A139: SG Newton | B139: Begane grond | C139: 3 | E139: Sporthal | F139: 7. sportzalen | G139: 340 | I139: Descovloer | J139: =J138 -> 0 | K139: 200 | M139: =G139/L139*K139 -> #DIV/0! | N139: =O139/12 -> #DIV/0! | O139: =M139*J139 -> #DIV/0!
A140: SG Newton | B140: Begane grond | C140: 3 | E140: Toestelberging | F140: 6. Bergingen | G140: 40 | I140: Lino | J140: =J139 -> 0 | K140: 40 | M140: =G140/L140*K140 -> #DIV/0! | N140: =O140/12 -> #DIV/0! | O140: =M140*J140 -> #DIV/0!
A141: SG Newton | B141: Begane grond | C141: 2 | E141: Sporthal | F141: 7. sportzalen | G141: 373 | I141: Descovloer | J141: =J140 -> 0 | K141: 200 | M141: =G141/L141*K141 -> #DIV/0! | N141: =O141/12 -> #DIV/0! | O141: =M141*J141 -> #DIV/0!
A142: SG Newton | B142: Begane grond | C142: 2 | E142: Toestelberging | F142: 6. Bergingen | G142: 40 | I142: Lino | J142: =J141 -> 0 | K142: 40 | M142: =G142/L142*K142 -> #DIV/0! | N142: =O142/12 -> #DIV/0! | O142: =M142*J142 -> #DIV/0!
...

Sheet Atlas Service Center
A1: Locatie | B1: Verdieping | C1: Ruimtenummer | D1: Nr. tekening | E1: Ruimte-omschrijving | F1: Werkprogramma | G1: m2 | H1: M2 NIO | I1: Vloerafwerking | J1: Uurtarief | K1: Frequentie | L1: Prestatienorm | M1: Uren per jaar | N1: Kosten per maand | O1: Kosten per jaar | P1: Opmerkingen
A2: Atlas Service Center | B2: Begane grond | C2: 14 | E2: Entree | F2: 2. Verkeersruimte | G2: 24 | I2: Loopmat/tegels | J2: 0 | K2: 200 | M2: =G2/L2*K2 -> #DIV/0! | N2: =O2/12 -> #DIV/0! | O2: =M2*J2 -> #DIV/0!
A3: Atlas Service Center | B3: Begane grond | E3: Centrale hal | F3: 2. Verkeersruimte | G3: 133 | I3: Lino | J3: =J2 -> 0 | K3: 200 | M3: =G3/L3*K3 -> #DIV/0! | N3: =O3/12 -> #DIV/0! | O3: =M3*J3 -> #DIV/0!
A4: Atlas Service Center | B4: Begane grond | C4: 1 | E4: Receptie | F4: 2. Verkeersruimte | G4: 23 | I4: Lino | J4: =J3 -> 0 | K4: 80 | M4: =G4/L4*K4 -> #DIV/0! | N4: =O4/12 -> #DIV/0! | O4: =M4*J4 -> #DIV/0!
A5: Atlas Service Center | B5: Begane grond | C5: 2 | E5: Vergaderruimte | F5: 3. Bureaukamers | G5: 74 | I5: Lino | J5: =J4 -> 0 | K5: 200 | M5: =G5/L5*K5 -> #DIV/0! | N5: =O5/12 -> #DIV/0! | O5: =M5*J5 -> #DIV/0!
A6: Atlas Service Center | B6: Begane grond | C6: 3 | E6: Kantoorruimte | F6: 3. Bureaukamers | G6: 43 | I6: Lino | J6: =J5 -> 0 | K6: 80 | M6: =G6/L6*K6 -> #DIV/0! | N6: =O6/12 -> #DIV/0! | O6: =M6*J6 -> #DIV/0!
A7: Atlas Service Center | B7: Begane grond | C7: 4a | E7: Kantoorruimte | F7: 3. Bureaukamers | G7: 61 | I7: Lino | J7: =J6 -> 0 | K7: 80 | M7: =G7/L7*K7 -> #DIV/0! | N7: =O7/12 -> #DIV/0! | O7: =M7*J7 -> #DIV/0!
A8: Atlas Service Center | B8: Begane grond | C8: 4b | E8: Kantoorruimte | F8: 3. Bureaukamers | G8: 71 | I8: Vast tapijt | J8: =J7 -> 0 | K8: 80 | M8: =G8/L8*K8 -> #DIV/0! | N8: =O8/12 -> #DIV/0! | O8: =M8*J8 -> #DIV/0!
A9: Atlas Service Center | B9: Begane grond | C9: 4c | E9: Kantoorruimte | F9: 3. Bureaukamers | G9: 19 | I9: Vast tapijt | J9: =J8 -> 0 | K9: 80 | M9: =G9/L9*K9 -> #DIV/0! | N9: =O9/12 -> #DIV/0! | O9: =M9*J9 -> #DIV/0!
A10: Atlas Service Center | B10: Begane grond | C10: 5 | E10: Vergaderrruimte | F10: 3. Bureaukamers | G10: 36 | I10: Lino | J10: =J9 -> 0 | K10: 80 | M10: =G10/L10*K10 -> #DIV/0! | N10: =O10/12 -> #DIV/0! | O10: =M10*J10 -> #DIV/0!
A11: Atlas Service Center | B11: Begane grond | C11: 6 | E11: Kantoorruimte | F11: 3. Bureaukamers | G11: 20 | I11: Lino | J11: =J10 -> 0 | K11: 80 | M11: =G11/L11*K11 -> #DIV/0! | N11: =O11/12 -> #DIV/0! | O11: =M11*J11 -> #DIV/0!
A12: Atlas Service Center | B12: Begane grond | C12: 7 | E12: Kantoorruimte | F12: 3. Bureaukamers | G12: 30 | I12: Lino | J12: =J11 -> 0 | K12: 80 | M12: =G12/L12*K12 -> #DIV/0! | N12: =O12/12 -> #DIV/0! | O12: =M12*J12 -> #DIV/0!
A13: Atlas Service Center | B13: Begane grond | C13: 8 | E13: Kantoorruimte | F13: 3. Bureaukamers | G13: 20 | I13: Lino | J13: =J12 -> 0 | K13: 80 | M13: =G13/L13*K13 -> #DIV/0! | N13: =O13/12 -> #DIV/0! | O13: =M13*J13 -> #DIV/0!
A14: Atlas Service Center | B14: Begane grond | C14: 9 | E14: Kantoorruimte | F14: 3. Bureaukamers | G14: 29 | I14: Lino | J14: =J13 -> 0 | K14: 80 | M14: =G14/L14*K14 -> #DIV/0! | N14: =O14/12 -> #DIV/0! | O14: =M14*J14 -> #DIV/0!
A15: Atlas Service Center | B15: Begane grond | C15: 10 | E15: Kantoorruimte | F15: 3. Bureaukamers | G15: 31 | I15: Lino | J15: =J14 -> 0 | K15: 80 | M15: =G15/L15*K15 -> #DIV/0! | N15: =O15/12 -> #DIV/0! | O15: =M15*J15 -> #DIV/0!
... A21: Atlas Service Center | B21: Begane grond | C21: 15 | E21: Kantoorruimte | F21: 3. Bureaukamers | G21: 49 | I21: Lino | J21: =J20 -> 0 | K21: 80 | M21: =G21/L21*K21 -> #DIV/0! | N21: =O21/12 -> #DIV/0! | O21: =M21*J21 -> #DIV/0!
A22: Atlas Service Center | B22: Begane grond | E22: Opslag | F22: 6. Bergingen | G22: 9 | I22: Lino | J22: =J21 -> 0 | K22: 40 | M22: =G22/L22*K22 -> #DIV/0! | N22: =O22/12 -> #DIV/0! | O22: =M22*J22 -> #DIV/0!
A23: Atlas Service Center | B23: Begane grond | E23: Reproruimte | F23: 2. Verkeersruimte | G23: 12 | I23: Lino | J23: =J22 -> 0 | K23: 80 | M23: =G23/L23*K23 -> #DIV/0! | N23: =O23/12 -> #DIV/0! | O23: =M23*J23 -> #DIV/0!
A24: Atlas Service Center | B24: Begane grond | E24: Keuken | F24: 2. Verkeersruimte | G24: 28 | I24: Lino | J24: =J23 -> 0 | K24: 200 | M24: =G24/L24*K24 -> #DIV/0! | N24: =O24/12 -> #DIV/0! | O24: =M24*J24 -> #DIV/0!
A25: Atlas Service Center | B25: Begane grond | E25: Invalidentoilet | F25: 1. Sanitair | G25: 5 | I25: Tegels | J25: =J24 -> 0 | K25: 200 | M25: =G25/L25*K25 -> #DIV/0! | N25: =O25/12 -> #DIV/0! | O25: =M25*J25 -> #DIV/0!
A26: Atlas Service Center | B26: Begane grond | E26: Toiletgroep | F26: 1. Sanitair | G26: 12 | I26: Tegels | J26: =J25 -> 0 | K26: 200 | M26: =G26/L26*K26 -> #DIV/0! | N26: =O26/12 -> #DIV/0! | O26: =M26*J26 -> #DIV/0!
A27: Atlas Service Center | B27: Begane grond | E27: Toilet dames | F27: 1. Sanitair | G27: 5 | I27: Tegels | J27: =J26 -> 0 | K27: 200 | M27: =G27/L27*K27 -> #DIV/0! | N27: =O27/12 -> #DIV/0! | O27: =M27*J27 -> #DIV/0!
A28: Atlas Service Center | B28: Begane grond | E28: Verkeersruimte | F28: 2. Verkeersruimte | G28: 42 | I28: Tegels | J28: =J27 -> 0 | K28: 200 | M28: =G28/L28*K28 -> #DIV/0! | N28: =O28/12 -> #DIV/0! | O28: =M28*J28 -> #DIV/0!
A29: Atlas Service Center | B29: Begane grond | E29: Archief | F29: 6. Bergingen | G29: 12 | I29: Vast tapijt | J29: =J28 -> 0 | K29: 40 | M29: =G29/L29*K29 -> #DIV/0! | N29: =O29/12 -> #DIV/0! | O29: =M29*J29 -> #DIV/0!
A30: Atlas Service Center | F30: Totaal: | G30: =SUM(G2:G29) -> 903 | M30: =SUM(M2:M29) -> #DIV/0! | N30: =SUM(N2:N29) -> #DIV/0! | O30: =SUM(O2:O29) -> #DIV/0!

Sheet Regie
A2: Regie werkzaamheden worden op afroep aangevraagd.
A3: Werkzaamheden dienen exclusief BTW als volgt te worden afgeprijsd: Prijs per stuk of prijs per m2 in de betreffende staffel.
A4: A. VLOERONDERHOUD | B4: tot 100 m2 | C4: 100 - 500 m2 | D4: Vanaf 500 m2 | E4: Totaal excl. Btw
A5: Diepreinigen (sproeiextractie) van tapijt | B5: 0 | C5: 0 | D5: 0 | E5: =SUM(B5:D5) -> 0
A6: Dieptereiningen (shamponeren) van tapijt | B6: 0 | C6: 0 | D6: 0 | E6: =SUM(B6:D6) -> 0
A7: Spotclean tapijt (vlekverwijderen en kauwgom) | B7: 0 | C7: 0 | D7: 0 | E7: =SUM(B7:D7) -> 0
A8: Stofzuigen harde vloeren | B8: 0 | C8: 0 | D8: 0 | E8: =SUM(B8:D8) -> 0
A9: Moppen van harde vloeren | B9: 0 | C9: 0 | D9: 0 | E9: =SUM(B9:D9) -> 0
A10: Schrobben van harde vloeren | B10: 0 | C10: 0 | D10: 0 | E10: =SUM(B10:D10) -> 0
A11: Opwrijven van harde vloeren | B11: 0 | C11: 0 | D11: 0 | E11: =SUM(B11:D11) -> 0
A12: Sprayen en opwrijven van linoleum | B12: 0 | C12: 0 | D12: 0 | E12: =SUM(B12:D12) -> 0
A13: Conserveren (topcoaten) van linoleum | B13: 0 | C13: 0 | D13: 0 | E13: =SUM(B13:D13) -> 0
A14: Conserveren (recoaten) van llnoleum | B14: 0 | C14: 0 | D14: 0 | E14: =SUM(B14:D14) -> 0
A15: Vegen buitenbestrating ruw steen/beton | B15: 0 | C15: 0 | D15: 0 | E15: =SUM(B15:D15) -> 0
A16: Hogedrukreiniging vloeren buitenterrein (steen/beton) | B16: 0 | C16: 0 | D16: 0 | E16: =SUM(B16:D16) -> 0
... A20: Entree / Buitenterrein kauwgom verwijderen | B20: 0 | C20: 0 | D20: 0 | E20: =SUM(B20:D20) -> 0
A21: TOTAAL ONDERDEEL A | E21: =SUM(E5:E20) -> 0 | F21: maximale score: | G21: 6
A23: B. BINNENZONWERING | B23: tot 100 m2 | C23: 100 - 500 m2 | D23: Vanaf 500 m2 | E23: Totaal excl. btw
A24: Reinigen van horizontale lamellen | B24: 0 | C24: 0 | D24: 0 | E24: =SUM(B24:D24) -> 0
A25: Reinigen van verticale lamellen | B25: 0 | C25: 0 | D25: 0 | E25: =SUM(B25:D25) -> 0
A26: TOTAAL ONDERDEEL B | E26: =SUM(E24:E25) -> 0 | F26: maximale score: | G26: 2
A28: C. PLAFONDREINIGING | B28: tot 100 m2 | C28: 100 - 500 m2 | D28: Vanaf 500 m2 | E28: Totaal excl. btw
A29: Spinragverwijderen plafond, overkappingen en wanden | B29: 0 | C29: 0 | D29: 0 | E29: =SUM(B29:D29) -> 0
A30: PLAFONDREINIGING OVERIG | B30: tot 10 Stuks | C30: 10 - 50 stuks | D30: vanaf 50 stuks
A31: Luchtroosters buitenzijde reinigen | B31: 0 | C31: 0 | D31: 0 | E31: =SUM(B31:D31) -> 0
A32: TOTAAL ONDERDEEL C | E32: =SUM(E29:E29,E31) -> 0 | F32: maximale score: | G32: 2
A34: D. GEVELREINIGING | B34: tot 100 m2 | C34: 100 - 500 m2 | D34: Vanaf 500 m2 | E34: Totaal excl. btw
A35: Reiniging beplating | B35: 0 | C35: 0 | D35: 0 | E35: =SUM(B35:D35) -> 0
A36: Reinigen Steen | B36: 0 | C36: 0 | D36: 0 | E36: =SUM(B36:D36) -> 0
A37: Reinigen separatieglas (enkelzijdig) | B37: 0 | C37: 0 | D37: 0 | E37: =SUM(B37:D37) -> 0
A38: Reinigen gevelglas buitenzijde (enkelzijdig) | B38: 0 | C38: 0 | D38: 0 | E38: =SUM(B38:D38) -> 0
A39: Reinigen gevelglas binnenzijde (enkelzijdig) | B39: 0 | C39: 0 | D39: 0 | E39: =SUM(B39:D39) -> 0
A40: GEVELREINIGING OVERIG | B40: tot 10 m2 | C40: 10 - 50 m2 | D40: vanaf 100 m2
A41: Prijs per m2 graffiti verwijderen | B41: 0 | C41: 0 | D41: 0 | E41: =SUM(B41:D41) -> 0
A42: TOTAAL ONDERDEEL D | E42: =SUM(E35:E39,E41) -> 0 | F42: maximale score: | G42: 4
A44: E. BOUW / OPLEVERING | B44: tot 100 m2 | C44: 100 - 500 m2 | D44: Vanaf 500 m2 | E44: Totaal excl. btw
A45: Bouwschoonmaak: Geheel reinigen binnenruimten en glas na (ver)bouw(ing) | B45: 0 | C45: 0 | D45: 0 | E45: =SUM(B45:D45) -> 0
A46: Oplevering schoonmaak: Geheel reinigen binnenruimten en glas na inrichting | B46: 0 | C46: 0 | D46: 0 | E46: =SUM(B46:D46) -> 0
A47: TOTAAL ONDERDEEL E | E47: =SUM(E45:E46) -> 0 | F47: maximale score: | G47: 2
A49: F. REGIETARIEVEN | B49: Door de week 06:00-21:30 u. | C49: Door de week 21:30-06:00 u. | D49: Vrijdag 21.30- maandag 6.00 u. | E49: Totaal excl. btw
A50: Schoonmaakkracht | B50: 0 | C50: 0 | D50: 0 | E50: =SUM(B50:D50) -> 0
A51: Specialistisch | B51: 0 | C51: 0 | D51: 0 | E51: =SUM(B51:D51) -> 0
A52: Objectleiding | B52: 0 | C52: 0 | D52: 0 | E52: =SUM(B52:D52) -> 0
A53: Servicewerkzaamheden (servies, gastvrouw, ontvangst) | B53: 0 | C53: 0 | D53: 0 | E53: =SUM(B53:D53) -> 0
A54: TOTAAL ONDERDEEL F | E54: =SUM(E50:E53) -> 0 | F54: maximale score: | G54: 8
A56: G. INTERIEUR | B56: Tot 100 stuks | C56: 100 - 200 stuks | D56: vanaf 200 stuks | E56: Totaal excl. btw
A57: Reinigen stoelen (stoffen bekleding) | B57: 0 | C57: 0 | D57: 0 | E57: =SUM(B57:D57) -> 0
A58: Reinigen stoelen (o.a. hout, kunststof, leer) | B58: 0 | C58: 0 | D58: 0 | E58: =SUM(B58:D58) -> 0
A59: Reinigen banken (stoffen bekleding) | B59: 0 | C59: 0 | D59: 0 | E59: =SUM(B59:D59) -> 0
A60: Reinigen banken (o.a. hout, kunststof, leer) | B60: 0 | C60: 0 | D60: 0 | E60: =SUM(B60:D60) -> 0
A61: Reinigen lichtarmaturen | B61: 0 | C61: 0 | D61: 0 | E61: =SUM(B61:D61) -> 0
A62: TOTAAL ONDERDEEL G | E62: =SUM(E57:E61) -> 0 | F62: maximale score: | G62: 6
A64: H. SANITAIR, KEUKEN EN DIVERSEN | B64: tot 3 Stuks | C64: 3-5 stuks | D64: vanaf 5 stuks | E64: Totaal excl. btw
A65: Koelkast geheel reinigen (binnenzijde en buitenzijde) | B65: 0 | C65: 0 | D65: 0 | E65: =SUM(B65:D65) -> 0
A66: Magnetron geheel reinigen | B66: 0 | C66: 0 | D66: 0 | E66: =SUM(B66:D66) -> 0
A67: Vaatwasser reinigen (binnenzijde en buitenzijde) | B67: 0 | C67: 0 | D67: 0 | E67: =SUM(B67:D67) -> 0
A68: Vaatwasser in-uitruimen | B68: 0 | C68: 0 | D68: 0 | E68: =SUM(B68:D68) -> 0
A69: Koffieapparaat/machine buitenzijde reinigen | B69: 0 | C69: 0 | D69: 0 | E69: =SUM(B69:D69) -> 0
A70: Vuilnisbakken buiten ledigen | B70: 0 | C70: 0 | D70: 0 | E70: =SUM(B70:D70) -> 0
B71: tot 10 m2 | C71: 10 - 50 m2 | D71: vanaf 100 m2
A72: Extra toiletronde | B72: 0 | C72: 0 | D72: 0 | E72: =SUM(B72:D72) -> 0
A73: Geheel reinigen van afwasbare wanden | B73: 0 | C73: 0 | D73: 0 | E73: =SUM(B73:D73) -> 0
A74: Reinigen binnenzijde keukenkasten | B74: 0 | C74: 0 | D74: 0 | E74: =SUM(B74:D74) -> 0
A75: TOTAAL ONDERDEEL H | E75: =SUM(E65:E70,E72:E74) -> 0 | F75: maximale score: | G75: 6
C77: TOTAAL TE SCOREN PUNTEN ALLE ONDERDELEN: | G77: =SUM(G21,G26,G32,G42,G47,G54,G62,G75) -> 36
A79: TOELICHTING
A80: De inschrijver dient de prijzen per onderdeel helemaal in te vullen. Per onderdeel (alle prijzen per onderdeel worden bij elkaar opgeteld) is er een maximaal aantal te behalen punten te scoren (zie kolom G). Het maximaal aantal punten wordt toegekend aan de inschrijver met de laagste prijs op dat onderdeel. De andere inschrijvers krijgen punten toegekend in de verhouding van hun prijs ten opzichte van de laagste prijs op dat onderdeel. De formule die (per onderdeel) gehanteerd wordt is de volgende:
A81: (Laagste prijs/prijs inschrijver) x maximaal haalbare aantal punten (2,4,6,8)
A83: De punten voor alle onderdelen worden bij elkaar opgeteld. De inschrijver met de meeste punten voor alle onderdelen ontvangt hiervoor het maximaal aantal te behalen punten voor de regiewerkzaamheden zoals vermeld in het aanbestedingsdocument. De andere inschrijvers krijgen punten toegekend in de verhouding van hun aantal punten ten opzichte van het aantal punten van de inschrijver die de meeste punten op alle onderdelen in totaal heeft gescoord. De formule die gehanteerd wordt is de volgende:
A84: (Aantal punten inschrijver/aantal punten inschrijver met de meeste punten) x maximaal haalbare aantal punten.
