Workbook

Sheet Projectgegevens
A14: Proefsleuven formulier*
A17: =D37 & " - "&'Stap 1 - Aanvraag Deelopdracht '!B2 & " "& "Proefsleuven" -> Burgemeester Goudalaan - 15 Proefsleuven
B36: Projectnr. | D36: ='Stap 1 - Aanvraag Deelopdracht '!F2 -> 101887
B37: Project | D37: ='Stap 1 - Aanvraag Deelopdracht '!F3 -> Burgemeester Goudalaan
B38: Kenmerk/Zaaknummer | D38: ='Stap 1 - Aanvraag Deelopdracht '!B3 -> 1011273
B39: Versie | D39: 0.2
B41: Datum 1. Deelopdracht | D41: ='Stap 1 - Aanvraag Deelopdracht '!B4 -> 45658
B42: Datum 2. Bureaustudie | D42: ='Stap 2 - Bureaustudie'!C5 -> 45689
B43: Datum 3. Start Uitvoering | D43: ='Stap 3 - Uitvoering'!F4 -> 45717
B44: Datum 4. Analyse | D44: ='Stap 4 - Knelpuntenanalyse'!C6 -> 45748
B46: Opdrachtgever | D46: Gemeente Gouda
B47: Projectleider | D47: ='Stap 1 - Aanvraag Deelopdracht '!B31 -> Persoon 1
B48: Opdrachtnemer | D48: xxx
A50: Versie 0.2

Sheet Uitleg
A1: Actie | B1: Aanduiding - 1 | C1: Aanduiding - 2
A2: Cellen - Niet invullen, automatisch gegenereerd. | D2: x
A3: Cellen - In te vullen door documenten | C3: x | D3: x
A4: Werkblad - In te vullen door Opdrachtnemer | C4: x | D4: x
A5: Werkblad - In te vullen door Opdrachtgever | C5: x | D5: x
A6: Stap | B6: Doel | C6: Wat invullen | D6: Wie invullen
A7: Projectgegevens | B7: Voorblad Rapportage Proefsleuvenformulier | C7: Versienummer | D7: Opdrachtgever
A8: Stap 1 – Aanvraag Deelopdracht | B8: Formulier t.b.v. het uitvragen van de deelopdracht aan de Opdrachtnemer. | C8: Het formulier bevat de projectgegevens, hoeveelheid proefsleuven, aandachtspunten per proefsleuf, aanvullende gegevens als bijlagen en contactgegevens. | D8: Opdrachtgever
A9: Stap 2 – Bureaustudie | B9: Vooronderzoek uitgevoerd op basis van KLIC-melding. | C9: Het onderzoek omvat informatie uit de KLIC-melding, een inschatting van de risico’s en een verwachting van de in het veld aan te treffen objecten | D9: Opdrachtnemer
A10: Stap 3 – Uitvoering | B10: Het genereren van een proefsleuvenformulier t.b.v. de uitvoering, waarna voor invullen van de veldgegevens na uitvoering van de proefsleuf. | C10: Na de uitvoering worden de werkelijke sleufafmetingen, gegevens van aangetroffen kabels en leidingen, de aangetroffen grondsoort, grondwaterstanden en overige relevante waarnemingen vastgelegd. | D10: Opdrachtnemer
A11: Stap 4 – Knelpuntenanalyse | B11: Op basis van de aangetroffen situatie wordt een analyse uitgevoerd van de bijbehorende knelpunten, risico’s, en benodigde aanpassingen vastgelegd. | C11: Invulling van de diepte van het toekomstige ontwerp en de benodigde beheersmaatregelen voor de knelpunten. | D11: Opdrachtgever
B13: Wachtwoord beveiliging = | C13: gouda
A14: =Projectgegevens!A50 -> Versie 0.2
A15: auteur | B15: Nicha Zwarenstein Tutunji | C15: nicha.zwarensteintutunji@gouda.nl

Sheet Stap 1 - Aanvraag Deelopdracht 
A1: Stap 1 - Aanvraagformulier Deelopdracht Proefsleuven
A2: Aantal proefsleuven | B2: 15 | E2: =Projectgegevens!B36 -> Projectnr. | F2: 101887
A3: =Projectgegevens!B38 -> Kenmerk/Zaaknummer | B3: 1011273 | D3: =Projectgegevens!B37 -> Project | F3: Burgemeester Goudalaan
A4: Datum | B4: 45658 | D4: =Projectgegevens!B48 -> Opdrachtnemer | F4: xxx
A6: Bewonersbrieven verzenden | B6: Ja | D6: Bemalingsplan benodigd | F6: onbekend
A7: Verontreiniging geconstateerd | B7: onbekend | D7: ….. | F7: n.t.b.
A9: Opdrachtenformulier Proefsleuven | B9: 1 | C9: 2 | D9: 3 | E9: 4 | F9: 5 | G9: 6 | H9: 7 | I9: 8 | J9: 9 | K9: 10 | L9: 11 | M9: 12 | N9: 13 | O9: 14 | P9: 15 | Q9: 16 | R9: 17 | S9: 18 | T9: 19 | U9: 20 | V9: 21 | W9: 22 | X9: 23 | Y9: 24 | Z9: 25 | AA9: 26 | AB9: 27 | AC9: 28 | AD9: 29 | AE9: 30 | AF9: 31 | AG9: 32 | AH9: 33 | AI9: 34 | AJ9: 35 | AK9: 36 | AL9: 37 | AM9: 38 | AN9: 39 | AO9: 40
A10: Proefsleufnummer | B10: =IF(B9<=$B$2,B9,"") -> 1 | C10: =IF(C9<=$B$2,C9,"") -> 2 | D10: =IF(D9<=$B$2,D9,"") -> 3 | E10: =IF(E9<=$B$2,E9,"") -> 4 | F10: =IF(F9<=$B$2,F9,"") -> 5 | G10: =IF(G9<=$B$2,G9,"") -> 6 | H10: =IF(H9<=$B$2,H9,"") -> 7 | I10: =IF(I9<=$B$2,I9,"") -> 8 | ... AO10: =IF(AO9<=$B$2,AO9,"")
A11: Ontgravingsdiepte tot maximaal [m]: | B11: 1.25 | C11: 1
A12: Lengte [m]: | B12: 3 | C12: 2
A13: Breedte [m]: | B13: 0.6 | C13: 0.6
A14: Eisen Proefsleuf
A15: Vaststellen grondslag | B15: TRUE | C15: TRUE | D15: FALSE | E15: FALSE | F15: FALSE | G15: FALSE | H15: FALSE | I15: FALSE | J15: FALSE | K15: FALSE | L15: FALSE | M15: FALSE | N15: FALSE | O15: FALSE | P15: FALSE | Q15: FALSE | R15: FALSE | S15: FALSE | T15: FALSE | U15: FALSE | V15: FALSE | W15: FALSE | X15: FALSE | Y15: FALSE | Z15: FALSE | AA15: FALSE | AB15: FALSE | AC15: FALSE | AD15: FALSE | AE15: FALSE | AF15: FALSE | AG15: FALSE | AH15: FALSE | AI15: FALSE | AJ15: FALSE | AK15: FALSE | AL15: FALSE | AM15: FALSE | AN15: FALSE | AO15: FALSE
A16: Grondwaterstand bepalen | B16: TRUE | C16: FALSE | D16: FALSE | E16: FALSE | F16: FALSE | G16: FALSE | H16: FALSE | I16: FALSE | J16: FALSE | K16: FALSE | L16: FALSE | M16: FALSE | N16: FALSE | O16: FALSE | P16: FALSE | Q16: FALSE | R16: FALSE | S16: FALSE | T16: FALSE | U16: FALSE | V16: FALSE | W16: FALSE | X16: FALSE | Y16: FALSE | Z16: FALSE | AA16: FALSE | AB16: FALSE | AC16: FALSE | AD16: FALSE | AE16: FALSE | AF16: FALSE | AG16: FALSE | AH16: FALSE | AI16: FALSE | AJ16: FALSE | AK16: FALSE | AL16: FALSE | AM16: FALSE | AN16: FALSE | AO16: FALSE
A17: Aanwezigheid toezichthouder benodigd | B17: TRUE | C17: FALSE | D17: FALSE | E17: FALSE | F17: FALSE | G17: FALSE | H17: FALSE | I17: FALSE | J17: FALSE | K17: FALSE | L17: FALSE | M17: FALSE | N17: FALSE | O17: FALSE | P17: FALSE | Q17: FALSE | R17: FALSE | S17: FALSE | T17: FALSE | U17: FALSE | V17: FALSE | W17: FALSE | X17: FALSE | Y17: FALSE | Z17: FALSE | AA17: FALSE | AB17: FALSE | AC17: FALSE | AD17: FALSE | AE17: FALSE | AF17: FALSE | AG17: FALSE | AH17: FALSE | AI17: FALSE | AJ17: FALSE | AK17: FALSE | AL17: FALSE | AM17: FALSE | AN17: FALSE | AO17: FALSE
A18: Aanwezigheid (ass) projectleider benodigd | B18: TRUE | C18: FALSE | D18: FALSE | E18: FALSE | F18: FALSE | G18: FALSE | H18: FALSE | I18: FALSE | J18: FALSE | K18: FALSE | L18: FALSE | M18: FALSE | N18: FALSE | O18: FALSE | P18: FALSE | Q18: FALSE | R18: FALSE | S18: FALSE | T18: FALSE | U18: FALSE | V18: FALSE | W18: FALSE | X18: FALSE | Y18: FALSE | Z18: FALSE | AA18: FALSE | AB18: FALSE | AC18: FALSE | AD18: FALSE | AE18: FALSE | AF18: FALSE | AG18: FALSE | AH18: FALSE | AI18: FALSE | AJ18: FALSE | AK18: FALSE | AL18: FALSE | AM18: FALSE | AN18: FALSE | AO18: FALSE
A19: Doel Proefsleuf
A20: Aanleg riolering | B20: TRUE | C20: TRUE | D20: FALSE | E20: FALSE | F20: FALSE | G20: FALSE | H20: FALSE | I20: FALSE | J20: FALSE | K20: FALSE | L20: FALSE | M20: FALSE | N20: FALSE | O20: FALSE | P20: FALSE | Q20: FALSE | R20: FALSE | S20: FALSE | T20: FALSE | U20: FALSE | V20: FALSE | W20: FALSE | X20: FALSE | Y20: FALSE | Z20: FALSE | AA20: FALSE | AB20: FALSE | AC20: FALSE | AD20: FALSE | AE20: FALSE | AF20: FALSE | AG20: FALSE | AH20: FALSE | AI20: FALSE | AJ20: FALSE | AK20: FALSE | AL20: FALSE | AM20: FALSE | AN20: FALSE | AO20: FALSE
A21: Ophoging / dekking bepalen | B21: TRUE | C21: FALSE | D21: FALSE | E21: FALSE | F21: FALSE | G21: FALSE | H21: FALSE | I21: FALSE | J21: FALSE | K21: FALSE | L21: FALSE | M21: FALSE | N21: FALSE | O21: FALSE | P21: FALSE | Q21: FALSE | R21: FALSE | S21: FALSE | T21: FALSE | U21: FALSE | V21: FALSE | W21: FALSE | X21: FALSE | Y21: FALSE | Z21: FALSE | AA21: FALSE | AB21: FALSE | AC21: FALSE | AD21: FALSE | AE21: FALSE | AF21: FALSE | AG21: FALSE | AH21: FALSE | AI21: FALSE | AJ21: FALSE | AK21: FALSE | AL21: FALSE | AM21: FALSE | AN21: FALSE | AO21: FALSE
A22: ….. | B22: FALSE | C22: FALSE | D22: FALSE | E22: FALSE | F22: FALSE | G22: FALSE | H22: FALSE | I22: FALSE | J22: FALSE | K22: FALSE | L22: FALSE | M22: FALSE | N22: FALSE | O22: FALSE | P22: FALSE | Q22: FALSE | R22: FALSE | S22: FALSE | T22: FALSE | U22: FALSE | V22: FALSE | W22: FALSE | X22: FALSE | Y22: FALSE | Z22: FALSE | AA22: FALSE | AB22: FALSE | AC22: FALSE | AD22: FALSE | AE22: FALSE | AF22: FALSE | AG22: FALSE | AH22: FALSE | AI22: FALSE | AJ22: FALSE | AK22: FALSE | AL22: FALSE | AM22: FALSE | AN22: FALSE | AO22: FALSE
A23: ….. | B23: FALSE | C23: FALSE | D23: FALSE | E23: FALSE | F23: FALSE | G23: FALSE | H23: FALSE | I23: FALSE | J23: FALSE | K23: FALSE | L23: FALSE | M23: FALSE | N23: FALSE | O23: FALSE | P23: FALSE | Q23: FALSE | R23: FALSE | S23: FALSE | T23: FALSE | U23: FALSE | V23: FALSE | W23: FALSE | X23: FALSE | Y23: FALSE | Z23: FALSE | AA23: FALSE | AB23: FALSE | AC23: FALSE | AD23: FALSE | AE23: FALSE | AF23: FALSE | AG23: FALSE | AH23: FALSE | AI23: FALSE | AJ23: FALSE | AK23: FALSE | AL23: FALSE | AM23: FALSE | AN23: FALSE | AO23: FALSE
A24: ….. | B24: FALSE | C24: FALSE | D24: FALSE | E24: FALSE | F24: FALSE | G24: FALSE | H24: FALSE | I24: FALSE | J24: FALSE | K24: FALSE | L24: FALSE | M24: FALSE | N24: FALSE | O24: FALSE | P24: FALSE | Q24: FALSE | R24: FALSE | S24: FALSE | T24: FALSE | U24: FALSE | V24: FALSE | W24: FALSE | X24: FALSE | Y24: FALSE | Z24: FALSE | AA24: FALSE | AB24: FALSE | AC24: FALSE | AD24: FALSE | AE24: FALSE | AF24: FALSE | AG24: FALSE | AH24: FALSE | AI24: FALSE | AJ24: FALSE | AK24: FALSE | AL24: FALSE | AM24: FALSE | AN24: FALSE | AO24: FALSE
A25: Opmerkingen | B25: Indien gasleiding niet aangetroffen, overleg met (jun) Projectleider. | C25: Proefsleuf 2 op 12-05-2025 | D25: Geen opmerkingen | E25: Geen opmerkingen | F25: Geen opmerkingen | G25: Geen opmerkingen | H25: Geen opmerkingen | I25: Geen opmerkingen | J25: Geen opmerkingen | K25: Geen opmerkingen | L25: Geen opmerkingen | M25: Geen opmerkingen | N25: Geen opmerkingen | O25: Geen opmerkingen | P25: Geen opmerkingen | Q25: Geen opmerkingen | R25: Geen opmerkingen | S25: Geen opmerkingen | T25: Geen opmerkingen | U25: Geen opmerkingen | V25: Geen opmerkingen | W25: Geen opmerkingen | X25: Geen opmerkingen | Y25: Geen opmerkingen | Z25: Geen opmerkingen | AA25: Geen opmerkingen | AB25: Geen opmerkingen | AC25: Geen opmerkingen | AD25: Geen opmerkingen | AE25: Geen opmerkingen | AF25: Geen opmerkingen | AG25: Geen opmerkingen | AH25: Geen opmerkingen | AI25: Geen opmerkingen | AJ25: Geen opmerkingen | AK25: Geen opmerkingen | AL25: Geen opmerkingen | AM25: Geen opmerkingen | AN25: Geen opmerkingen | AO25: Geen opmerkingen
A26: Bijlagen
A27: Bijlage_1.pdf | D27: Bijlage_2.pdf
A28: Bijlage_3.pdf | D28: …
A29: … | D29: …
A30: Contactgegevens | B30: Naam | D30: Telefoon | E30: Email
A31: Projectleider | B31: Persoon 1 | D31: 06-00000001 | E31: Persoon1@gouda.nl
A32: Junior projectleider | B32: Persoon 2 | D32: 06-00000002 | E32: Persoon2@gouda.nl
A33: Toezichthouder | B33: Persoon 3 | D33: 06-00000003 | E33: Persoon3@gouda.nl
A34: Directievoerder | B34: Persoon 4 | D34: 06-00000004 | E34: Persoon4@gouda.nl

Sheet Stap 2 - Bureaustudie
B1: Stap 2: Bureaustudie inventarisatie KLIC-melding
B2: ='Stap 1 - Aanvraag Deelopdracht '!D3 -> Project | C2: =Projectgegevens!D37 -> Burgemeester Goudalaan
B3: ='Stap 1 - Aanvraag Deelopdracht '!E2 -> Projectnr. | C3: =Projectgegevens!D36 -> 101887
B4: Aantal proefsleuven | C4: ='Stap 1 - Aanvraag Deelopdracht '!B2 -> 15
B5: Datum Inventarisatie | C5: 45689
B6: Meldnummer KLIC-melding | C6: 12342
B8: Proefsleufnummer | C8: Type kabel/leiding | D8: Netbeheerder | E8: Eis voorzorgsmaatregel:
A9: =B9 + COUNTIF($B$9:B9,B9)/100 -> 1.01 | B9: 1 | C9: Datatransport | D9: Stedin B.V. | E9: Nee
A10: =B10 + COUNTIF($B$9:B10,B10)/100 -> 1.02 | B10: 1 | C10: Datatransport | D10: Gem. Gouda | E10: Nee
A11: =B11 + COUNTIF($B$9:B11,B11)/100 -> 2.01 | B11: 2 | C11: Datatransport | D11: Deltafiber Ned B.V. | E11: Nee
A12: =B12 + COUNTIF($B$9:B12,B12)/100 -> 0
A13: =B13 + COUNTIF($B$9:B13,B13)/100 -> 0
A14: =B14 + COUNTIF($B$9:B14,B14)/100 -> 0
A15: =B15 + COUNTIF($B$9:B15,B15)/100 -> 0
A16: =B16 + COUNTIF($B$9:B16,B16)/100 -> 0
A17: =B17 + COUNTIF($B$9:B17,B17)/100 -> 0
A18: =B18 + COUNTIF($B$9:B18,B18)/100 -> 0
A19: =B19 + COUNTIF($B$9:B19,B19)/100 -> 0
A20: =B20 + COUNTIF($B$9:B20,B20)/100 -> 0
A21: =B21 + COUNTIF($B$9:B21,B21)/100 -> 0
A22: =B22 + COUNTIF($B$9:B22,B22)/100 -> 0
A23: =B23 + COUNTIF($B$9:B23,B23)/100 -> 0
... A43: =B43 + COUNTIF($B$9:B43,B43)/100 -> 0

Sheet Stap 3 - Uitvoering
A1: =Projectgegevens!D36 & " " & Projectgegevens!D37 -> 101887 Burgemeester Goudalaan | E1: =IF(O1="","NIET PRINTEN!","") | K1: Aanvraag | L1: Uitvoering | O1: 1 | Q1: =Projectgegevens!T36 & " " & Projectgegevens!T37 | U1: =IF(AE1="","NIET PRINTEN!","") | AA1: Aanvraag | AB1: Uitvoering | AE1: ='Stap 1 - Aanvraag Deelopdracht '!$L$10 -> 11 | AG1: =Projectgegevens!AJ36 & " " & Projectgegevens!AJ37 | AK1: =IF(AU1="","NIET PRINTEN!","") -> NIET PRINTEN! | AQ1: Aanvraag | AR1: Uitvoering | AU1: ='Stap 1 - Aanvraag Deelopdracht '!$V$10 | AW1: =Projectgegevens!AZ36 & " " & Projectgegevens!AZ37 | BA1: =IF(BK1="","NIET PRINTEN!","") -> NIET PRINTEN! | BG1: Aanvraag | BH1: Uitvoering | BK1: ='Stap 1 - Aanvraag Deelopdracht '!$AF$10
E2: =IF(O1="","",Projectgegevens!$B$37) -> Project | F2: =Projectgegevens!$D$37 -> Burgemeester Goudalaan | I2: =IF(O1="","","Ontgravingsdiepte [in m]") -> Ontgravingsdiepte [in m] | K2: =OFFSET('Stap 1 - Aanvraag Deelopdracht '!$A$11,0,O1) -> 1.25 | U2: =IF(AE1="","",Projectgegevens!$B$37) -> Project | V2: =Projectgegevens!$D$37 -> Burgemeester Goudalaan | Y2: =IF(AE1="","","Ontgravingsdiepte [in m]") -> Ontgravingsdiepte [in m] | AA2: =OFFSET('Stap 1 - Aanvraag Deelopdracht '!$A$11,0,AE1) -> 0 | AK2: =IF(AU1="","",Projectgegevens!$B$37) | AL2: =Projectgegevens!$D$37 -> Burgemeester Goudalaan | AO2: =IF(AU1="","","Ontgravingsdiepte [in m]") | AQ2: =OFFSET('Stap 1 - Aanvraag Deelopdracht '!$A$11,0,AU1) -> #VALUE! | BA2: =IF(BK1="","",Projectgegevens!$B$37) | BB2: =Projectgegevens!$D$37 -> Burgemeester Goudalaan | BE2: =IF(BK1="","","Ontgravingsdiepte [in m]") | BG2: =OFFSET('Stap 1 - Aanvraag Deelopdracht '!$A$11,0,BK1) -> #VALUE!
E3: =IF(O1="","",Projectgegevens!$B$36) -> Projectnr. | F3: =Projectgegevens!$D$36 -> 101887 | I3: =IF(O1="","","Lengte [in m]") -> Lengte [in m] | K3: =OFFSET('Stap 1 - Aanvraag Deelopdracht '!$A$12,0,O1) -> 3 | U3: =IF(AE1="","",Projectgegevens!$B$36) -> Projectnr. | V3: =Projectgegevens!$D$36 -> 101887 | Y3: =IF(AE1="","","Lengte [in m]") -> Lengte [in m] | AA3: =OFFSET('Stap 1 - Aanvraag Deelopdracht '!$A$12,0,AE1) -> 0 | AK3: =IF(AU1="","",Projectgegevens!$B$36) | AL3: =Projectgegevens!$D$36 -> 101887 | AO3: =IF(AU1="","","Lengte [in m]") | AQ3: =OFFSET('Stap 1 - Aanvraag Deelopdracht '!$A$12,0,AU1) -> #VALUE! | BA3: =IF(BK1="","",Projectgegevens!$B$36) | BB3: =Projectgegevens!$D$36 -> 101887 | BE3: =IF(BK1="","","Lengte [in m]") | BG3: =OFFSET('Stap 1 - Aanvraag Deelopdracht '!$A$12,0,BK1) -> #VALUE!
E4: =IF(O1="","","Datum proefsleuf") -> Datum proefsleuf | F4: 45717 | I4: =IF(O1="","","Breedte [in m]") -> Breedte [in m] | K4: =OFFSET('Stap 1 - Aanvraag Deelopdracht '!$A$13,0,O1) -> 0.6 | U4: =IF(AE1="","","Datum proefsleuf") -> Datum proefsleuf | Y4: =IF(AE1="","","Breedte [in m]") -> Breedte [in m] | AA4: =OFFSET('Stap 1 - Aanvraag Deelopdracht '!$A$13,0,AE1) -> 0 | AK4: =IF(AU1="","","Datum proefsleuf") | AO4: =IF(AU1="","","Breedte [in m]") | AQ4: =OFFSET('Stap 1 - Aanvraag Deelopdracht '!$A$13,0,AU1) -> #VALUE! | BA4: =IF(BK1="","","Datum proefsleuf") | BE4: =IF(BK1="","","Breedte [in m]") | BG4: =OFFSET('Stap 1 - Aanvraag Deelopdracht '!$A$13,0,BK1) -> #VALUE!
E5: =IF(O1="","","Maaiveld t.o.v. NAP [in m]") -> Maaiveld t.o.v. NAP [in m] | F5: -1 | U5: =IF(AE1="","","Maaiveld t.o.v. NAP [in m]") -> Maaiveld t.o.v. NAP [in m] | AK5: =IF(AU1="","","Maaiveld t.o.v. NAP [in m]") | BA5: =IF(BK1="","","Maaiveld t.o.v. NAP [in m]")
E6: Te verwachten kabels en leidingen | U6: Te verwachten kabels en leidingen | AK6: Te verwachten kabels en leidingen | BA6: Te verwachten kabels en leidingen
D7: ID | E7: Type kabel/leiding | F7: Netbeheerder | G7: Eis Voorzorg | H7: Gevonden [Ja/Nee] | I7: Hoogte bovenkant t.o.v. N.A.P. [in m] | J7: Diameter of hoogte [in m] | K7: Afstand vanuit meetpunt [in m] | L7: Materiaal | M7: Kleur | O7: Grondslag bepalen | T7: ID | U7: Type kabel/leiding | V7: Netbeheerder | W7: Eis Voorzorg | X7: Gevonden [Ja/Nee] | Y7: Hoogte bovenkant t.o.v. N.A.P. [in m] | Z7: Diameter of hoogte [in m] | AA7: Afstand vanuit meetpunt [in m] | AB7: Materiaal | AC7: Kleur | AE7: Grondslag bepalen | AJ7: ID | AK7: Type kabel/leiding | AL7: Netbeheerder | AM7: Eis Voorzorg | AN7: Gevonden [Ja/Nee] | AO7: Hoogte bovenkant t.o.v. N.A.P. [in m] | AP7: Diameter of hoogte [in m] | AQ7: Afstand vanuit meetpunt [in m] | AR7: Materiaal | AS7: Kleur | AU7: Grondslag bepalen | AZ7: ID | BA7: Type kabel/leiding | BB7: Netbeheerder | BC7: Eis Voorzorg | BD7: Gevonden [Ja/Nee] | BE7: Hoogte bovenkant t.o.v. N.A.P. [in m] | BF7: Diameter of hoogte [in m] | BG7: Afstand vanuit meetpunt [in m] | BH7: Materiaal | BI7: Kleur | BK7: Grondslag bepalen
A8: =ROUND(O1+0.01,2) -> 1.01 | B8: =F5 -> -1 | C8: =VLOOKUP(A8,'Stap 2 - Bureaustudie'!$A$9:$D$44,1,FALSE) -> 1.01 | D8: =IFERROR(C8,"") -> 1.01 | E8: =IFERROR(VLOOKUP(D8,'Stap 2 - Bureaustudie'!$A$9:$E$300,3,FALSE),"") -> Datatransport | F8: =IFERROR(VLOOKUP(D8,'Stap 2 - Bureaustudie'!$A$9:$E$300,4,FALSE),"") -> Stedin B.V. | G8: =IFERROR(VLOOKUP(D8,'Stap 2 - Bureaustudie'!$A$9:$E$300,5,FALSE),"") -> Nee | H8: Ja | O8: Diepte t.o.v. MV [in m] | P8: Grondsoort/ materiaal | Q8: =ROUND(AE1+0.01,2) -> 11.01 | R8: =V5 -> 0 | S8: =VLOOKUP(Q8,'Stap 2 - Bureaustudie'!$A$9:$D$44,1,FALSE) -> #N/A | T8: =IFERROR(S8,"") | U8: =IFERROR(VLOOKUP(T8,'Stap 2 - Bureaustudie'!$A$9:$E$300,3,FALSE),"") | V8: =IFERROR(VLOOKUP(T8,'Stap 2 - Bureaustudie'!$A$9:$E$300,4,FALSE),"") | W8: =IFERROR(VLOOKUP(T8,'Stap 2 - Bureaustudie'!$A$9:$E$300,5,FALSE),"") | AE8: Diepte t.o.v. MV [in m] | AF8: Grondsoort/ materiaal | AG8: =ROUND(AU1+0.01,2) -> #VALUE! | AH8: =AL5 -> 0 | AI8: =VLOOKUP(AG8,'Stap 2 - Bureaustudie'!$A$9:$D$44,1,FALSE) -> #VALUE! | AJ8: =IFERROR(AI8,"") | AK8: =IFERROR(VLOOKUP(AJ8,'Stap 2 - Bureaustudie'!$A$9:$E$300,3,FALSE),"") | AL8: =IFERROR(VLOOKUP(AJ8,'Stap 2 - Bureaustudie'!$A$9:$E$300,4,FALSE),"") | AM8: =IFERROR(VLOOKUP(AJ8,'Stap 2 - Bureaustudie'!$A$9:$E$300,5,FALSE),"") | AU8: Diepte t.o.v. MV [in m] | AV8: Grondsoort/ materiaal | AW8: =ROUND(BK1+0.01,2) -> #VALUE! | AX8: =BB5 -> 0 | AY8: =VLOOKUP(AW8,'Stap 2 - Bureaustudie'!$A$9:$D$44,1,FALSE) -> #VALUE! | AZ8: =IFERROR(AY8,"") | BA8: =IFERROR(VLOOKUP(AZ8,'Stap 2 - Bureaustudie'!$A$9:$E$300,3,FALSE),"") | BB8: =IFERROR(VLOOKUP(AZ8,'Stap 2 - Bureaustudie'!$A$9:$E$300,4,FALSE),"") | BC8: =IFERROR(VLOOKUP(AZ8,'Stap 2 - Bureaustudie'!$A$9:$E$300,5,FALSE),"") | BK8: Diepte t.o.v. MV [in m] | BL8: Grondsoort/ materiaal
A9: =ROUND(A8+0.01,2) -> 1.02 | B9: =F5 -> -1 | C9: =VLOOKUP(A9,'Stap 2 - Bureaustudie'!$A$9:$D$44,1,FALSE) -> 1.02 | D9: =IFERROR(C9,"") -> 1.02 | E9: =IFERROR(VLOOKUP(D9,'Stap 2 - Bureaustudie'!$A$9:$E$300,3,FALSE),"") -> Datatransport | F9: =IFERROR(VLOOKUP(D9,'Stap 2 - Bureaustudie'!$A$9:$E$300,4,FALSE),"") -> Gem. Gouda | G9: =IFERROR(VLOOKUP(D9,'Stap 2 - Bureaustudie'!$A$9:$E$300,5,FALSE),"") -> Nee | H9: Nee | Q9: =ROUND(Q8+0.01,2) -> 11.02 | R9: =V5 -> 0 | S9: =VLOOKUP(Q9,'Stap 2 - Bureaustudie'!$A$9:$D$44,1,FALSE) -> #N/A | T9: =IFERROR(S9,"") | U9: =IFERROR(VLOOKUP(T9,'Stap 2 - Bureaustudie'!$A$9:$E$300,3,FALSE),"") | V9: =IFERROR(VLOOKUP(T9,'Stap 2 - Bureaustudie'!$A$9:$E$300,4,FALSE),"") | W9: =IFERROR(VLOOKUP(T9,'Stap 2 - Bureaustudie'!$A$9:$E$300,5,FALSE),"") | AG9: =ROUND(AG8+0.01,2) -> #VALUE! | AH9: =AL5 -> 0 | AI9: =VLOOKUP(AG9,'Stap 2 - Bureaustudie'!$A$9:$D$44,1,FALSE) -> #VALUE! | AJ9: =IFERROR(AI9,"") | AK9: =IFERROR(VLOOKUP(AJ9,'Stap 2 - Bureaustudie'!$A$9:$E$300,3,FALSE),"") | AL9: =IFERROR(VLOOKUP(AJ9,'Stap 2 - Bureaustudie'!$A$9:$E$300,4,FALSE),"") | AM9: =IFERROR(VLOOKUP(AJ9,'Stap 2 - Bureaustudie'!$A$9:$E$300,5,FALSE),"") | AW9: =ROUND(AW8+0.01,2) -> #VALUE! | AX9: =BB5 -> 0 | AY9: =VLOOKUP(AW9,'Stap 2 - Bureaustudie'!$A$9:$D$44,1,FALSE) -> #VALUE! | AZ9: =IFERROR(AY9,"") | BA9: =IFERROR(VLOOKUP(AZ9,'Stap 2 - Bureaustudie'!$A$9:$E$300,3,FALSE),"") | BB9: =IFERROR(VLOOKUP(AZ9,'Stap 2 - Bureaustudie'!$A$9:$E$300,4,FALSE),"") | BC9: =IFERROR(VLOOKUP(AZ9,'Stap 2 - Bureaustudie'!$A$9:$E$300,5,FALSE),"")
A10: =ROUND(A9+0.01,2) -> 1.03 | B10: =F5 -> -1 | C10: =VLOOKUP(A10,'Stap 2 - Bureaustudie'!$A$9:$D$44,1,FALSE) -> #N/A | D10: =IFERROR(C10,"") | E10: =IFERROR(VLOOKUP(D10,'Stap 2 - Bureaustudie'!$A$9:$E$300,3,FALSE),"") | F10: =IFERROR(VLOOKUP(D10,'Stap 2 - Bureaustudie'!$A$9:$E$300,4,FALSE),"") | G10: =IFERROR(VLOOKUP(D10,'Stap 2 - Bureaustudie'!$A$9:$E$300,5,FALSE),"") | Q10: =ROUND(Q9+0.01,2) -> 11.03 | R10: =V5 -> 0 | S10: =VLOOKUP(Q10,'Stap 2 - Bureaustudie'!$A$9:$D$44,1,FALSE) -> #N/A | T10: =IFERROR(S10,"") | U10: =IFERROR(VLOOKUP(T10,'Stap 2 - Bureaustudie'!$A$9:$E$300,3,FALSE),"") | V10: =IFERROR(VLOOKUP(T10,'Stap 2 - Bureaustudie'!$A$9:$E$300,4,FALSE),"") | W10: =IFERROR(VLOOKUP(T10,'Stap 2 - Bureaustudie'!$A$9:$E$300,5,FALSE),"") | AG10: =ROUND(AG9+0.01,2) -> #VALUE! | AH10: =AL5 -> 0 | AI10: =VLOOKUP(AG10,'Stap 2 - Bureaustudie'!$A$9:$D$44,1,FALSE) -> #VALUE! | AJ10: =IFERROR(AI10,"") | AK10: =IFERROR(VLOOKUP(AJ10,'Stap 2 - Bureaustudie'!$A$9:$E$300,3,FALSE),"") | AL10: =IFERROR(VLOOKUP(AJ10,'Stap 2 - Bureaustudie'!$A$9:$E$300,4,FALSE),"") | AM10: =IFERROR(VLOOKUP(AJ10,'Stap 2 - Bureaustudie'!$A$9:$E$300,5,FALSE),"") | AW10: =ROUND(AW9+0.01,2) -> #VALUE! | AX10: =BB5 -> 0 | AY10: =VLOOKUP(AW10,'Stap 2 - Bureaustudie'!$A$9:$D$44,1,FALSE) -> #VALUE! | AZ10: =IFERROR(AY10,"") | BA10: =IFERROR(VLOOKUP(AZ10,'Stap 2 - Bureaustudie'!$A$9:$E$300,3,FALSE),"") | BB10: =IFERROR(VLOOKUP(AZ10,'Stap 2 - Bureaustudie'!$A$9:$E$300,4,FALSE),"") | BC10: =IFERROR(VLOOKUP(AZ10,'Stap 2 - Bureaustudie'!$A$9:$E$300,5,FALSE),"")
A11: =ROUND(A10+0.01,2) -> 1.04 | B11: =F5 -> -1 | C11: =VLOOKUP(A11,'Stap 2 - Bureaustudie'!$A$9:$D$44,1,FALSE) -> #N/A | D11: =IFERROR(C11,"") | E11: =IFERROR(VLOOKUP(D11,'Stap 2 - Bureaustudie'!$A$9:$E$300,3,FALSE),"") | F11: =IFERROR(VLOOKUP(D11,'Stap 2 - Bureaustudie'!$A$9:$E$300,4,FALSE),"") | G11: =IFERROR(VLOOKUP(D11,'Stap 2 - Bureaustudie'!$A$9:$E$300,5,FALSE),"") | Q11: =ROUND(Q10+0.01,2) -> 11.04 | R11: =V5 -> 0 | S11: =VLOOKUP(Q11,'Stap 2 - Bureaustudie'!$A$9:$D$44,1,FALSE) -> #N/A | T11: =IFERROR(S11,"") | U11: =IFERROR(VLOOKUP(T11,'Stap 2 - Bureaustudie'!$A$9:$E$300,3,FALSE),"") | V11: =IFERROR(VLOOKUP(T11,'Stap 2 - Bureaustudie'!$A$9:$E$300,4,FALSE),"") | W11: =IFERROR(VLOOKUP(T11,'Stap 2 - Bureaustudie'!$A$9:$E$300,5,FALSE),"") | AG11: =ROUND(AG10+0.01,2) -> #VALUE! | AH11: =AL5 -> 0 | AI11: =VLOOKUP(AG11,'Stap 2 - Bureaustudie'!$A$9:$D$44,1,FALSE) -> #VALUE! | AJ11: =IFERROR(AI11,"") | AK11: =IFERROR(VLOOKUP(AJ11,'Stap 2 - Bureaustudie'!$A$9:$E$300,3,FALSE),"") | AL11: =IFERROR(VLOOKUP(AJ11,'Stap 2 - Bureaustudie'!$A$9:$E$300,4,FALSE),"") | AM11: =IFERROR(VLOOKUP(AJ11,'Stap 2 - Bureaustudie'!$A$9:$E$300,5,FALSE),"") | AW11: =ROUND(AW10+0.01,2) -> #VALUE! | AX11: =BB5 -> 0 | AY11: =VLOOKUP(AW11,'Stap 2 - Bureaustudie'!$A$9:$D$44,1,FALSE) -> #VALUE! | AZ11: =IFERROR(AY11,"") | BA11: =IFERROR(VLOOKUP(AZ11,'Stap 2 - Bureaustudie'!$A$9:$E$300,3,FALSE),"") | BB11: =IFERROR(VLOOKUP(AZ11,'Stap 2 - Bureaustudie'!$A$9:$E$300,4,FALSE),"") | BC11: =IFERROR(VLOOKUP(AZ11,'Stap 2 - Bureaustudie'!$A$9:$E$300,5,FALSE),"")
A12: =ROUND(A11+0.01,2) -> 1.05 | B12: =F5 -> -1 | C12: =VLOOKUP(A12,'Stap 2 - Bureaustudie'!$A$9:$D$44,1,FALSE) -> #N/A | D12: =IFERROR(C12,"") | E12: =IFERROR(VLOOKUP(D12,'Stap 2 - Bureaustudie'!$A$9:$E$300,3,FALSE),"") | F12: =IFERROR(VLOOKUP(D12,'Stap 2 - Bureaustudie'!$A$9:$E$300,4,FALSE),"") | G12: =IFERROR(VLOOKUP(D12,'Stap 2 - Bureaustudie'!$A$9:$E$300,5,FALSE),"") | Q12: =ROUND(Q11+0.01,2) -> 11.05 | R12: =V5 -> 0 | S12: =VLOOKUP(Q12,'Stap 2 - Bureaustudie'!$A$9:$D$44,1,FALSE) -> #N/A | T12: =IFERROR(S12,"") | U12: =IFERROR(VLOOKUP(T12,'Stap 2 - Bureaustudie'!$A$9:$E$300,3,FALSE),"") | V12: =IFERROR(VLOOKUP(T12,'Stap 2 - Bureaustudie'!$A$9:$E$300,4,FALSE),"") | W12: =IFERROR(VLOOKUP(T12,'Stap 2 - Bureaustudie'!$A$9:$E$300,5,FALSE),"") | AG12: =ROUND(AG11+0.01,2) -> #VALUE! | AH12: =AL5 -> 0 | AI12: =VLOOKUP(AG12,'Stap 2 - Bureaustudie'!$A$9:$D$44,1,FALSE) -> #VALUE! | AJ12: =IFERROR(AI12,"") | AK12: =IFERROR(VLOOKUP(AJ12,'Stap 2 - Bureaustudie'!$A$9:$E$300,3,FALSE),"") | AL12: =IFERROR(VLOOKUP(AJ12,'Stap 2 - Bureaustudie'!$A$9:$E$300,4,FALSE),"") | AM12: =IFERROR(VLOOKUP(AJ12,'Stap 2 - Bureaustudie'!$A$9:$E$300,5,FALSE),"") | AW12: =ROUND(AW11+0.01,2) -> #VALUE! | AX12: =BB5 -> 0 | AY12: =VLOOKUP(AW12,'Stap 2 - Bureaustudie'!$A$9:$D$44,1,FALSE) -> #VALUE! | AZ12: =IFERROR(AY12,"") | BA12: =IFERROR(VLOOKUP(AZ12,'Stap 2 - Bureaustudie'!$A$9:$E$300,3,FALSE),"") | BB12: =IFERROR(VLOOKUP(AZ12,'Stap 2 - Bureaustudie'!$A$9:$E$300,4,FALSE),"") | BC12: =IFERROR(VLOOKUP(AZ12,'Stap 2 - Bureaustudie'!$A$9:$E$300,5,FALSE),"")
A13: =ROUND(A12+0.01,2) -> 1.06 | B13: =F5 -> -1 | C13: =VLOOKUP(A13,'Stap 2 - Bureaustudie'!$A$9:$D$44,1,FALSE) -> #N/A | D13: =IFERROR(C13,"") | E13: =IFERROR(VLOOKUP(D13,'Stap 2 - Bureaustudie'!$A$9:$E$300,3,FALSE),"") | F13: =IFERROR(VLOOKUP(D13,'Stap 2 - Bureaustudie'!$A$9:$E$300,4,FALSE),"") | G13: =IFERROR(VLOOKUP(D13,'Stap 2 - Bureaustudie'!$A$9:$E$300,5,FALSE),"") | Q13: =ROUND(Q12+0.01,2) -> 11.06 | R13: =V5 -> 0 | S13: =VLOOKUP(Q13,'Stap 2 - Bureaustudie'!$A$9:$D$44,1,FALSE) -> #N/A | T13: =IFERROR(S13,"") | U13: =IFERROR(VLOOKUP(T13,'Stap 2 - Bureaustudie'!$A$9:$E$300,3,FALSE),"") | V13: =IFERROR(VLOOKUP(T13,'Stap 2 - Bureaustudie'!$A$9:$E$300,4,FALSE),"") | W13: =IFERROR(VLOOKUP(T13,'Stap 2 - Bureaustudie'!$A$9:$E$300,5,FALSE),"") | AG13: =ROUND(AG12+0.01,2) -> #VALUE! | AH13: =AL5 -> 0 | AI13: =VLOOKUP(AG13,'Stap 2 - Bureaustudie'!$A$9:$D$44,1,FALSE) -> #VALUE! | AJ13: =IFERROR(AI13,"") | AK13: =IFERROR(VLOOKUP(AJ13,'Stap 2 - Bureaustudie'!$A$9:$E$300,3,FALSE),"") | AL13: =IFERROR(VLOOKUP(AJ13,'Stap 2 - Bureaustudie'!$A$9:$E$300,4,FALSE),"") | AM13: =IFERROR(VLOOKUP(AJ13,'Stap 2 - Bureaustudie'!$A$9:$E$300,5,FALSE),"") | AW13: =ROUND(AW12+0.01,2) -> #VALUE! | AX13: =BB5 -> 0 | AY13: =VLOOKUP(AW13,'Stap 2 - Bureaustudie'!$A$9:$D$44,1,FALSE) -> #VALUE! | AZ13: =IFERROR(AY13,"") | BA13: =IFERROR(VLOOKUP(AZ13,'Stap 2 - Bureaustudie'!$A$9:$E$300,3,FALSE),"") | BB13: =IFERROR(VLOOKUP(AZ13,'Stap 2 - Bureaustudie'!$A$9:$E$300,4,FALSE),"") | BC13: =IFERROR(VLOOKUP(AZ13,'Stap 2 - Bureaustudie'!$A$9:$E$300,5,FALSE),"")
A14: =ROUND(A13+0.01,2) -> 1.07 | B14: =F5 -> -1 | C14: =VLOOKUP(A14,'Stap 2 - Bureaustudie'!$A$9:$D$44,1,FALSE) -> #N/A | D14: =IFERROR(C14,"") | E14: =IFERROR(VLOOKUP(D14,'Stap 2 - Bureaustudie'!$A$9:$E$300,3,FALSE),"") | F14: =IFERROR(VLOOKUP(D14,'Stap 2 - Bureaustudie'!$A$9:$E$300,4,FALSE),"") | G14: =IFERROR(VLOOKUP(D14,'Stap 2 - Bureaustudie'!$A$9:$E$300,5,FALSE),"") | Q14: =ROUND(Q13+0.01,2) -> 11.07 | R14: =V5 -> 0 | S14: =VLOOKUP(Q14,'Stap 2 - Bureaustudie'!$A$9:$D$44,1,FALSE) -> #N/A | T14: =IFERROR(S14,"") | U14: =IFERROR(VLOOKUP(T14,'Stap 2 - Bureaustudie'!$A$9:$E$300,3,FALSE),"") | V14: =IFERROR(VLOOKUP(T14,'Stap 2 - Bureaustudie'!$A$9:$E$300,4,FALSE),"") | W14: =IFERROR(VLOOKUP(T14,'Stap 2 - Bureaustudie'!$A$9:$E$300,5,FALSE),"") | AG14: =ROUND(AG13+0.01,2) -> #VALUE! | AH14: =AL5 -> 0 | AI14: =VLOOKUP(AG14,'Stap 2 - Bureaustudie'!$A$9:$D$44,1,FALSE) -> #VALUE! | AJ14: =IFERROR(AI14,"") | AK14: =IFERROR(VLOOKUP(AJ14,'Stap 2 - Bureaustudie'!$A$9:$E$300,3,FALSE),"") | AL14: =IFERROR(VLOOKUP(AJ14,'Stap 2 - Bureaustudie'!$A$9:$E$300,4,FALSE),"") | AM14: =IFERROR(VLOOKUP(AJ14,'Stap 2 - Bureaustudie'!$A$9:$E$300,5,FALSE),"") | AW14: =ROUND(AW13+0.01,2) -> #VALUE! | AX14: =BB5 -> 0 | AY14: =VLOOKUP(AW14,'Stap 2 - Bureaustudie'!$A$9:$D$44,1,FALSE) -> #VALUE! | AZ14: =IFERROR(AY14,"") | BA14: =IFERROR(VLOOKUP(AZ14,'Stap 2 - Bureaustudie'!$A$9:$E$300,3,FALSE),"") | BB14: =IFERROR(VLOOKUP(AZ14,'Stap 2 - Bureaustudie'!$A$9:$E$300,4,FALSE),"") | BC14: =IFERROR(VLOOKUP(AZ14,'Stap 2 - Bureaustudie'!$A$9:$E$300,5,FALSE),"")
A15: =ROUND(A14+0.01,2) -> 1.08 | B15: =F5 -> -1 | C15: =VLOOKUP(A15,'Stap 2 - Bureaustudie'!$A$9:$D$44,1,FALSE) -> #N/A | D15: =IFERROR(C15,"") | E15: =IFERROR(VLOOKUP(D15,'Stap 2 - Bureaustudie'!$A$9:$E$300,3,FALSE),"") | F15: =IFERROR(VLOOKUP(D15,'Stap 2 - Bureaustudie'!$A$9:$E$300,4,FALSE),"") | G15: =IFERROR(VLOOKUP(D15,'Stap 2 - Bureaustudie'!$A$9:$E$300,5,FALSE),"") | Q15: =ROUND(Q14+0.01,2) -> 11.08 | R15: =V5 -> 0 | S15: =VLOOKUP(Q15,'Stap 2 - Bureaustudie'!$A$9:$D$44,1,FALSE) -> #N/A | T15: =IFERROR(S15,"") | U15: =IFERROR(VLOOKUP(T15,'Stap 2 - Bureaustudie'!$A$9:$E$300,3,FALSE),"") | V15: =IFERROR(VLOOKUP(T15,'Stap 2 - Bureaustudie'!$A$9:$E$300,4,FALSE),"") | W15: =IFERROR(VLOOKUP(T15,'Stap 2 - Bureaustudie'!$A$9:$E$300,5,FALSE),"") | AG15: =ROUND(AG14+0.01,2) -> #VALUE! | AH15: =AL5 -> 0 | AI15: =VLOOKUP(AG15,'Stap 2 - Bureaustudie'!$A$9:$D$44,1,FALSE) -> #VALUE! | AJ15: =IFERROR(AI15,"") | AK15: =IFERROR(VLOOKUP(AJ15,'Stap 2 - Bureaustudie'!$A$9:$E$300,3,FALSE),"") | AL15: =IFERROR(VLOOKUP(AJ15,'Stap 2 - Bureaustudie'!$A$9:$E$300,4,FALSE),"") | AM15: =IFERROR(VLOOKUP(AJ15,'Stap 2 - Bureaustudie'!$A$9:$E$300,5,FALSE),"") | AW15: =ROUND(AW14+0.01,2) -> #VALUE! | AX15: =BB5 -> 0 | AY15: =VLOOKUP(AW15,'Stap 2 - Bureaustudie'!$A$9:$D$44,1,FALSE) -> #VALUE! | AZ15: =IFERROR(AY15,"") | BA15: =IFERROR(VLOOKUP(AZ15,'Stap 2 - Bureaustudie'!$A$9:$E$300,3,FALSE),"") | BB15: =IFERROR(VLOOKUP(AZ15,'Stap 2 - Bureaustudie'!$A$9:$E$300,4,FALSE),"") | BC15: =IFERROR(VLOOKUP(AZ15,'Stap 2 - Bureaustudie'!$A$9:$E$300,5,FALSE),"")
A16: =ROUND(A14+0.01,2) -> 1.08 | B16: =F5 -> -1 | C16: =VLOOKUP(A16,'Stap 2 - Bureaustudie'!$A$9:$D$44,1,FALSE) -> #N/A | D16: =IFERROR(C16,"") | E16: =IFERROR(VLOOKUP(D16,'Stap 2 - Bureaustudie'!$A$9:$E$300,3,FALSE),"") | F16: =IFERROR(VLOOKUP(D16,'Stap 2 - Bureaustudie'!$A$9:$E$300,4,FALSE),"") | G16: =IFERROR(VLOOKUP(D16,'Stap 2 - Bureaustudie'!$A$9:$E$300,5,FALSE),"") | Q16: =ROUND(Q14+0.01,2) -> 11.08 | R16: =V5 -> 0 | S16: =VLOOKUP(Q16,'Stap 2 - Bureaustudie'!$A$9:$D$44,1,FALSE) -> #N/A | T16: =IFERROR(S16,"") | U16: =IFERROR(VLOOKUP(T16,'Stap 2 - Bureaustudie'!$A$9:$E$300,3,FALSE),"") | V16: =IFERROR(VLOOKUP(T16,'Stap 2 - Bureaustudie'!$A$9:$E$300,4,FALSE),"") | W16: =IFERROR(VLOOKUP(T16,'Stap 2 - Bureaustudie'!$A$9:$E$300,5,FALSE),"") | AG16: =ROUND(AG14+0.01,2) -> #VALUE! | AH16: =AL5 -> 0 | AI16: =VLOOKUP(AG16,'Stap 2 - Bureaustudie'!$A$9:$D$44,1,FALSE) -> #VALUE! | AJ16: =IFERROR(AI16,"") | AK16: =IFERROR(VLOOKUP(AJ16,'Stap 2 - Bureaustudie'!$A$9:$E$300,3,FALSE),"") | AL16: =IFERROR(VLOOKUP(AJ16,'Stap 2 - Bureaustudie'!$A$9:$E$300,4,FALSE),"") | AM16: =IFERROR(VLOOKUP(AJ16,'Stap 2 - Bureaustudie'!$A$9:$E$300,5,FALSE),"") | AW16: =ROUND(AW14+0.01,2) -> #VALUE! | AX16: =BB5 -> 0 | AY16: =VLOOKUP(AW16,'Stap 2 - Bureaustudie'!$A$9:$D$44,1,FALSE) -> #VALUE! | AZ16: =IFERROR(AY16,"") | BA16: =IFERROR(VLOOKUP(AZ16,'Stap 2 - Bureaustudie'!$A$9:$E$300,3,FALSE),"") | BB16: =IFERROR(VLOOKUP(AZ16,'Stap 2 - Bureaustudie'!$A$9:$E$300,4,FALSE),"") | BC16: =IFERROR(VLOOKUP(AZ16,'Stap 2 - Bureaustudie'!$A$9:$E$300,5,FALSE),"")
A17: =ROUND(A16+0.01,2) -> 1.09 | B17: =F5 -> -1 | C17: =VLOOKUP(A17,'Stap 2 - Bureaustudie'!$A$9:$D$44,1,FALSE) -> #N/A | D17: =IFERROR(C17,"") | E17: =IFERROR(VLOOKUP(D17,'Stap 2 - Bureaustudie'!$A$9:$E$300,3,FALSE),"") | F17: =IFERROR(VLOOKUP(D17,'Stap 2 - Bureaustudie'!$A$9:$E$300,4,FALSE),"") | G17: =IFERROR(VLOOKUP(D17,'Stap 2 - Bureaustudie'!$A$9:$E$300,5,FALSE),"") | Q17: =ROUND(Q16+0.01,2) -> 11.09 | R17: =V5 -> 0 | S17: =VLOOKUP(Q17,'Stap 2 - Bureaustudie'!$A$9:$D$44,1,FALSE) -> #N/A | T17: =IFERROR(S17,"") | U17: =IFERROR(VLOOKUP(T17,'Stap 2 - Bureaustudie'!$A$9:$E$300,3,FALSE),"") | V17: =IFERROR(VLOOKUP(T17,'Stap 2 - Bureaustudie'!$A$9:$E$300,4,FALSE),"") | W17: =IFERROR(VLOOKUP(T17,'Stap 2 - Bureaustudie'!$A$9:$E$300,5,FALSE),"") | AG17: =ROUND(AG16+0.01,2) -> #VALUE! | AH17: =AL5 -> 0 | AI17: =VLOOKUP(AG17,'Stap 2 - Bureaustudie'!$A$9:$D$44,1,FALSE) -> #VALUE! | AJ17: =IFERROR(AI17,"") | AK17: =IFERROR(VLOOKUP(AJ17,'Stap 2 - Bureaustudie'!$A$9:$E$300,3,FALSE),"") | AL17: =IFERROR(VLOOKUP(AJ17,'Stap 2 - Bureaustudie'!$A$9:$E$300,4,FALSE),"") | AM17: =IFERROR(VLOOKUP(AJ17,'Stap 2 - Bureaustudie'!$A$9:$E$300,5,FALSE),"") | AW17: =ROUND(AW16+0.01,2) -> #VALUE! | AX17: =BB5 -> 0 | AY17: =VLOOKUP(AW17,'Stap 2 - Bureaustudie'!$A$9:$D$44,1,FALSE) -> #VALUE! | AZ17: =IFERROR(AY17,"") | BA17: =IFERROR(VLOOKUP(AZ17,'Stap 2 - Bureaustudie'!$A$9:$E$300,3,FALSE),"") | BB17: =IFERROR(VLOOKUP(AZ17,'Stap 2 - Bureaustudie'!$A$9:$E$300,4,FALSE),"") | BC17: =IFERROR(VLOOKUP(AZ17,'Stap 2 - Bureaustudie'!$A$9:$E$300,5,FALSE),"")
A18: =ROUND(A17+0.01,2) -> 1.1 | B18: =F5 -> -1 | C18: =VLOOKUP(A18,'Stap 2 - Bureaustudie'!$A$9:$D$44,1,FALSE) -> #N/A | D18: =IFERROR(C18,"") | E18: =IFERROR(VLOOKUP(D18,'Stap 2 - Bureaustudie'!$A$9:$E$300,3,FALSE),"") | F18: =IFERROR(VLOOKUP(D18,'Stap 2 - Bureaustudie'!$A$9:$E$300,4,FALSE),"") | G18: =IFERROR(VLOOKUP(D18,'Stap 2 - Bureaustudie'!$A$9:$E$300,5,FALSE),"") | Q18: =ROUND(Q17+0.01,2) -> 11.1 | R18: =V5 -> 0 | S18: =VLOOKUP(Q18,'Stap 2 - Bureaustudie'!$A$9:$D$44,1,FALSE) -> #N/A | T18: =IFERROR(S18,"") | U18: =IFERROR(VLOOKUP(T18,'Stap 2 - Bureaustudie'!$A$9:$E$300,3,FALSE),"") | V18: =IFERROR(VLOOKUP(T18,'Stap 2 - Bureaustudie'!$A$9:$E$300,4,FALSE),"") | W18: =IFERROR(VLOOKUP(T18,'Stap 2 - Bureaustudie'!$A$9:$E$300,5,FALSE),"") | AG18: =ROUND(AG17+0.01,2) -> #VALUE! | AH18: =AL5 -> 0 | AI18: =VLOOKUP(AG18,'Stap 2 - Bureaustudie'!$A$9:$D$44,1,FALSE) -> #VALUE! | AJ18: =IFERROR(AI18,"") | AK18: =IFERROR(VLOOKUP(AJ18,'Stap 2 - Bureaustudie'!$A$9:$E$300,3,FALSE),"") | AL18: =IFERROR(VLOOKUP(AJ18,'Stap 2 - Bureaustudie'!$A$9:$E$300,4,FALSE),"") | AM18: =IFERROR(VLOOKUP(AJ18,'Stap 2 - Bureaustudie'!$A$9:$E$300,5,FALSE),"") | AW18: =ROUND(AW17+0.01,2) -> #VALUE! | AX18: =BB5 -> 0 | AY18: =VLOOKUP(AW18,'Stap 2 - Bureaustudie'!$A$9:$D$44,1,FALSE) -> #VALUE! | AZ18: =IFERROR(AY18,"") | BA18: =IFERROR(VLOOKUP(AZ18,'Stap 2 - Bureaustudie'!$A$9:$E$300,3,FALSE),"") | BB18: =IFERROR(VLOOKUP(AZ18,'Stap 2 - Bureaustudie'!$A$9:$E$300,4,FALSE),"") | BC18: =IFERROR(VLOOKUP(AZ18,'Stap 2 - Bureaustudie'!$A$9:$E$300,5,FALSE),"")
A19: =ROUND(A18+0.01,2) -> 1.11 | B19: =F5 -> -1 | C19: =VLOOKUP(A19,'Stap 2 - Bureaustudie'!$A$9:$D$44,1,FALSE) -> #N/A | D19: =IFERROR(C19,"") | E19: =IFERROR(VLOOKUP(D19,'Stap 2 - Bureaustudie'!$A$9:$E$300,3,FALSE),"") | F19: =IFERROR(VLOOKUP(D19,'Stap 2 - Bureaustudie'!$A$9:$E$300,4,FALSE),"") | G19: =IFERROR(VLOOKUP(D19,'Stap 2 - Bureaustudie'!$A$9:$E$300,5,FALSE),"") | Q19: =ROUND(Q18+0.01,2) -> 11.11 | R19: =V5 -> 0 | S19: =VLOOKUP(Q19,'Stap 2 - Bureaustudie'!$A$9:$D$44,1,FALSE) -> #N/A | T19: =IFERROR(S19,"") | U19: =IFERROR(VLOOKUP(T19,'Stap 2 - Bureaustudie'!$A$9:$E$300,3,FALSE),"") | V19: =IFERROR(VLOOKUP(T19,'Stap 2 - Bureaustudie'!$A$9:$E$300,4,FALSE),"") | W19: =IFERROR(VLOOKUP(T19,'Stap 2 - Bureaustudie'!$A$9:$E$300,5,FALSE),"") | AG19: =ROUND(AG18+0.01,2) -> #VALUE! | AH19: =AL5 -> 0 | AI19: =VLOOKUP(AG19,'Stap 2 - Bureaustudie'!$A$9:$D$44,1,FALSE) -> #VALUE! | AJ19: =IFERROR(AI19,"") | AK19: =IFERROR(VLOOKUP(AJ19,'Stap 2 - Bureaustudie'!$A$9:$E$300,3,FALSE),"") | AL19: =IFERROR(VLOOKUP(AJ19,'Stap 2 - Bureaustudie'!$A$9:$E$300,4,FALSE),"") | AM19: =IFERROR(VLOOKUP(AJ19,'Stap 2 - Bureaustudie'!$A$9:$E$300,5,FALSE),"") | AW19: =ROUND(AW18+0.01,2) -> #VALUE! | AX19: =BB5 -> 0 | AY19: =VLOOKUP(AW19,'Stap 2 - Bureaustudie'!$A$9:$D$44,1,FALSE) -> #VALUE! | AZ19: =IFERROR(AY19,"") | BA19: =IFERROR(VLOOKUP(AZ19,'Stap 2 - Bureaustudie'!$A$9:$E$300,3,FALSE),"") | BB19: =IFERROR(VLOOKUP(AZ19,'Stap 2 - Bureaustudie'!$A$9:$E$300,4,FALSE),"") | BC19: =IFERROR(VLOOKUP(AZ19,'Stap 2 - Bureaustudie'!$A$9:$E$300,5,FALSE),"")
A20: =ROUND(#REF!+0.01,2) -> #REF! | C20: =VLOOKUP(A20,'Stap 2 - Bureaustudie'!$A$9:$D$44,1,FALSE) -> #REF! | E20: Onverwachte kabels en leidingen | Q20: =ROUND(#REF!+0.01,2) -> #REF! | S20: =VLOOKUP(Q20,'Stap 2 - Bureaustudie'!$A$9:$D$44,1,FALSE) -> #REF! | U20: Onverwachte kabels en leidingen | AG20: =ROUND(#REF!+0.01,2) -> #REF! | AI20: =VLOOKUP(AG20,'Stap 2 - Bureaustudie'!$A$9:$D$44,1,FALSE) -> #REF! | AK20: Onverwachte kabels en leidingen | AW20: =ROUND(#REF!+0.01,2) -> #REF! | AY20: =VLOOKUP(AW20,'Stap 2 - Bureaustudie'!$A$9:$D$44,1,FALSE) -> #REF! | BA20: Onverwachte kabels en leidingen
A21: =ROUND(A20+0.01,2) -> #REF! | B21: =F5 -> -1 | C21: =VLOOKUP(A21,'Stap 2 - Bureaustudie'!$A$9:$D$44,1,FALSE) -> #REF! | D21: =IF(E21<>"",MAX(D2:D19)+0.01,"") | H21: =IF(E21<>"","Ja","") | Q21: =ROUND(Q20+0.01,2) -> #REF! | R21: =V5 -> 0 | S21: =VLOOKUP(Q21,'Stap 2 - Bureaustudie'!$A$9:$D$44,1,FALSE) -> #REF! | T21: =IF(U21<>"",MAX(T2:T19)+0.01,"") | X21: =IF(U21<>"","Ja","") | AG21: =ROUND(AG20+0.01,2) -> #REF! | AH21: =AL5 -> 0 | AI21: =VLOOKUP(AG21,'Stap 2 - Bureaustudie'!$A$9:$D$44,1,FALSE) -> #REF! | AJ21: =IF(AK21<>"",MAX(AJ2:AJ19)+0.01,"") | AN21: =IF(AK21<>"","Ja","") | AW21: =ROUND(AW20+0.01,2) -> #REF! | AX21: =BB5 -> 0 | AY21: =VLOOKUP(AW21,'Stap 2 - Bureaustudie'!$A$9:$D$44,1,FALSE) -> #REF! | AZ21: =IF(BA21<>"",MAX(AZ2:AZ19)+0.01,"") | BD21: =IF(BA21<>"","Ja","")
A22: =ROUND(A21+0.01,2) -> #REF! | B22: =F5 -> -1 | C22: =VLOOKUP(A22,'Stap 2 - Bureaustudie'!$A$9:$D$44,1,FALSE) -> #REF! | D22: =IF(E22<>"",D21+0.01,"") | H22: =IF(E22<>"","Ja","") | Q22: =ROUND(Q21+0.01,2) -> #REF! | R22: =V5 -> 0 | S22: =VLOOKUP(Q22,'Stap 2 - Bureaustudie'!$A$9:$D$44,1,FALSE) -> #REF! | T22: =IF(U22<>"",T21+0.01,"") | X22: =IF(U22<>"","Ja","") | AG22: =ROUND(AG21+0.01,2) -> #REF! | AH22: =AL5 -> 0 | AI22: =VLOOKUP(AG22,'Stap 2 - Bureaustudie'!$A$9:$D$44,1,FALSE) -> #REF! | AJ22: =IF(AK22<>"",AJ21+0.01,"") | AN22: =IF(AK22<>"","Ja","") | AW22: =ROUND(AW21+0.01,2) -> #REF! | AX22: =BB5 -> 0 | AY22: =VLOOKUP(AW22,'Stap 2 - Bureaustudie'!$A$9:$D$44,1,FALSE) -> #REF! | AZ22: =IF(BA22<>"",AZ21+0.01,"") | BD22: =IF(BA22<>"","Ja","")
A23: =ROUND(A22+0.01,2) -> #REF! | B23: =F5 -> -1 | C23: =VLOOKUP(A23,'Stap 2 - Bureaustudie'!$A$9:$D$44,1,FALSE) -> #REF! | D23: =IF(E23<>"",D22+0.01,"") | H23: =IF(E23<>"","Ja","") | Q23: =ROUND(Q22+0.01,2) -> #REF! | R23: =V5 -> 0 | S23: =VLOOKUP(Q23,'Stap 2 - Bureaustudie'!$A$9:$D$44,1,FALSE) -> #REF! | T23: =IF(U23<>"",T22+0.01,"") | X23: =IF(U23<>"","Ja","") | AG23: =ROUND(AG22+0.01,2) -> #REF! | AH23: =AL5 -> 0 | AI23: =VLOOKUP(AG23,'Stap 2 - Bureaustudie'!$A$9:$D$44,1,FALSE) -> #REF! | AJ23: =IF(AK23<>"",AJ22+0.01,"") | AN23: =IF(AK23<>"","Ja","") | AW23: =ROUND(AW22+0.01,2) -> #REF! | AX23: =BB5 -> 0 | AY23: =VLOOKUP(AW23,'Stap 2 - Bureaustudie'!$A$9:$D$44,1,FALSE) -> #REF! | AZ23: =IF(BA23<>"",AZ22+0.01,"") | BD23: =IF(BA23<>"","Ja","")
B24: =F5 -> -1 | D24: =IF(E24<>"",D23+0.01,"") | H24: =IF(E24<>"","Ja","") | O24: Grondwaterstand in m t.o.v. N.A.P | R24: =V5 -> 0 | T24: =IF(U24<>"",T23+0.01,"") | X24: =IF(U24<>"","Ja","") | AE24: Grondwaterstand in m t.o.v. N.A.P | AH24: =AL5 -> 0 | AJ24: =IF(AK24<>"",AJ23+0.01,"") | AN24: =IF(AK24<>"","Ja","") | AU24: Grondwaterstand in m t.o.v. N.A.P | AX24: =BB5 -> 0 | AZ24: =IF(BA24<>"",AZ23+0.01,"") | BD24: =IF(BA24<>"","Ja","") | BK24: Grondwaterstand in m t.o.v. N.A.P
B25: =F5 -> -1 | D25: =IF(E25<>"",D24+0.01,"") | H25: =IF(E25<>"","Ja","") | R25: =V5 -> 0 | T25: =IF(U25<>"",T24+0.01,"") | X25: =IF(U25<>"","Ja","") | AH25: =AL5 -> 0 | AJ25: =IF(AK25<>"",AJ24+0.01,"") | AN25: =IF(AK25<>"","Ja","") | AX25: =BB5 -> 0 | AZ25: =IF(BA25<>"",AZ24+0.01,"") | BD25: =IF(BA25<>"","Ja","")
D26: Eisen proefsleuf | G26: Doel proefsleuf | J26: Opmerkingen in het veld | T26: Eisen proefsleuf | W26: Doel proefsleuf | Z26: Opmerkingen in het veld | AJ26: Eisen proefsleuf | AM26: Doel proefsleuf | AP26: Opmerkingen in het veld | AZ26: Eisen proefsleuf | BC26: Doel proefsleuf | BF26: Opmerkingen in het veld
D27: =IF(OFFSET('Stap 1 - Aanvraag Deelopdracht '!$A$15,0,O1)=TRUE, 'Stap 1 - Aanvraag Deelopdracht '!$A$15, "") & "; " & IF(OFFSET('Stap 1 - Aanvraag Deelopdracht '!$A$16,0,O1)=TRUE, 'Stap 1 - Aanvraag Deelopdracht '!$A$16, "") & "; " & IF(OFFSET('Stap 1 - Aanvraag Deelopdracht '!$A$17,0,O1)=TRUE, 'Stap 1 - Aanvraag Deelopdracht '!$A$17, "") & "; " & IF(OFFSET('Stap 1 - Aanvraag Deelopdracht '!$A$18,0,O1)=TRUE, 'Stap 1 - Aanvraag Deelopdracht '!$A$18, "") & "; " -> Vaststellen grondslag; Grondwaterstand bepalen; Aanwezigheid toezichthouder benodigd; Aanwezigheid (ass) projectleider benodigd; | G27: =IF(OFFSET('Stap 1 - Aanvraag Deelopdracht '!$A$20,0,O1)=TRUE, 'Stap 1 - Aanvraag Deelopdracht '!$A$20, "") & "; " & IF(OFFSET('Stap 1 - Aanvraag Deelopdracht '!$A$21,0,O1)=TRUE, 'Stap 1 - Aanvraag Deelopdracht '!$A$21, "") & "; " & IF(OFFSET('Stap 1 - Aanvraag Deelopdracht '!$A$22,0,O1)=TRUE, 'Stap 1 - Aanvraag Deelopdracht '!$A$22, "") & "; " & IF(OFFSET('Stap 1 - Aanvraag Deelopdracht '!$A$23,0,O1)=TRUE, 'Stap 1 - Aanvraag Deelopdracht '!$A$23, "") & "; " & IF(OFFSET('Stap 1 - Aanvraag Deelopdracht '!$A$24,0,O1)=TRUE,'Stap 1 - Aanvraag Deelopdracht '!$A$24, "") -> Aanleg riolering; Ophoging / dekking bepalen; ; ; | T27: =IF(OFFSET('Stap 1 - Aanvraag Deelopdracht '!$A$15,0,AE1)=TRUE, 'Stap 1 - Aanvraag Deelopdracht '!$A$15, "") & "; " & IF(OFFSET('Stap 1 - Aanvraag Deelopdracht '!$A$16,0,AE1)=TRUE, 'Stap 1 - Aanvraag Deelopdracht '!$A$16, "") & "; " & IF(OFFSET('Stap 1 - Aanvraag Deelopdracht '!$A$17,0,AE1)=TRUE, 'Stap 1 - Aanvraag Deelopdracht '!$A$17, "") & "; " & IF(OFFSET('Stap 1 - Aanvraag Deelopdracht '!$A$18,0,AE1)=TRUE, 'Stap 1 - Aanvraag Deelopdracht '!$A$18, "") & "; " -> ; ; ; ; | W27: =IF(OFFSET('Stap 1 - Aanvraag Deelopdracht '!$A$20,0,AE1)=TRUE, 'Stap 1 - Aanvraag Deelopdracht '!$A$20, "") & "; " & IF(OFFSET('Stap 1 - Aanvraag Deelopdracht '!$A$21,0,AE1)=TRUE, 'Stap 1 - Aanvraag Deelopdracht '!$A$21, "") & "; " & IF(OFFSET('Stap 1 - Aanvraag Deelopdracht '!$A$22,0,AE1)=TRUE, 'Stap 1 - Aanvraag Deelopdracht '!$A$22, "") & "; " & IF(OFFSET('Stap 1 - Aanvraag Deelopdracht '!$A$23,0,AE1)=TRUE, 'Stap 1 - Aanvraag Deelopdracht '!$A$23, "") & "; " & IF(OFFSET('Stap 1 - Aanvraag Deelopdracht '!$A$24,0,AE1)=TRUE,'Stap 1 - Aanvraag Deelopdracht '!$A$24, "") -> ; ; ; ; | AJ27: =IF(OFFSET('Stap 1 - Aanvraag Deelopdracht '!$A$15,0,AU1)=TRUE, 'Stap 1 - Aanvraag Deelopdracht '!$A$15, "") & "; " & IF(OFFSET('Stap 1 - Aanvraag Deelopdracht '!$A$16,0,AU1)=TRUE, 'Stap 1 - Aanvraag Deelopdracht '!$A$16, "") & "; " & IF(OFFSET('Stap 1 - Aanvraag Deelopdracht '!$A$17,0,AU1)=TRUE, 'Stap 1 - Aanvraag Deelopdracht '!$A$17, "") & "; " & IF(OFFSET('Stap 1 - Aanvraag Deelopdracht '!$A$18,0,AU1)=TRUE, 'Stap 1 - Aanvraag Deelopdracht '!$A$18, "") & "; " -> #VALUE! | AM27: =IF(OFFSET('Stap 1 - Aanvraag Deelopdracht '!$A$20,0,AU1)=TRUE, 'Stap 1 - Aanvraag Deelopdracht '!$A$20, "") & "; " & IF(OFFSET('Stap 1 - Aanvraag Deelopdracht '!$A$21,0,AU1)=TRUE, 'Stap 1 - Aanvraag Deelopdracht '!$A$21, "") & "; " & IF(OFFSET('Stap 1 - Aanvraag Deelopdracht '!$A$22,0,AU1)=TRUE, 'Stap 1 - Aanvraag Deelopdracht '!$A$22, "") & "; " & IF(OFFSET('Stap 1 - Aanvraag Deelopdracht '!$A$23,0,AU1)=TRUE, 'Stap 1 - Aanvraag Deelopdracht '!$A$23, "") & "; " & IF(OFFSET('Stap 1 - Aanvraag Deelopdracht '!$A$24,0,AU1)=TRUE,'Stap 1 - Aanvraag Deelopdracht '!$A$24, "") -> #VALUE! | AZ27: =IF(OFFSET('Stap 1 - Aanvraag Deelopdracht '!$A$15,0,BK1)=TRUE, 'Stap 1 - Aanvraag Deelopdracht '!$A$15, "") & "; " & IF(OFFSET('Stap 1 - Aanvraag Deelopdracht '!$A$16,0,BK1)=TRUE, 'Stap 1 - Aanvraag Deelopdracht '!$A$16, "") & "; " & IF(OFFSET('Stap 1 - Aanvraag Deelopdracht '!$A$17,0,BK1)=TRUE, 'Stap 1 - Aanvraag Deelopdracht '!$A$17, "") & "; " & IF(OFFSET('Stap 1 - Aanvraag Deelopdracht '!$A$18,0,BK1)=TRUE, 'Stap 1 - Aanvraag Deelopdracht '!$A$18, "") & "; " -> #VALUE! | BC27: =IF(OFFSET('Stap 1 - Aanvraag Deelopdracht '!$A$20,0,BK1)=TRUE, 'Stap 1 - Aanvraag Deelopdracht '!$A$20, "") & "; " & IF(OFFSET('Stap 1 - Aanvraag Deelopdracht '!$A$21,0,BK1)=TRUE, 'Stap 1 - Aanvraag Deelopdracht '!$A$21, "") & "; " & IF(OFFSET('Stap 1 - Aanvraag Deelopdracht '!$A$22,0,BK1)=TRUE, 'Stap 1 - Aanvraag Deelopdracht '!$A$22, "") & "; " & IF(OFFSET('Stap 1 - Aanvraag Deelopdracht '!$A$23,0,BK1)=TRUE, 'Stap 1 - Aanvraag Deelopdracht '!$A$23, "") & "; " & IF(OFFSET('Stap 1 - Aanvraag Deelopdracht '!$A$24,0,BK1)=TRUE,'Stap 1 - Aanvraag Deelopdracht '!$A$24, "") -> #VALUE!
D31: Opmerkingen vanuit kantoor | J31: Contactgegevens gemeente Gouda [Naam | Telefoon] | T31: Opmerkingen vanuit kantoor | Z31: Contactgegevens gemeente Gouda [Naam | Telefoon] | AJ31: Opmerkingen vanuit kantoor | AP31: Contactgegevens gemeente Gouda [Naam | Telefoon] | AZ31: Opmerkingen vanuit kantoor | BF31: Contactgegevens gemeente Gouda [Naam | Telefoon]
D32: =OFFSET('Stap 1 - Aanvraag Deelopdracht '!$A$25,0,O1) -> Indien gasleiding niet aangetroffen, overleg met (jun) Projectleider. | J32: Projectleider | K32: =IF('Stap 1 - Aanvraag Deelopdracht '!$B$31=0,"",'Stap 1 - Aanvraag Deelopdracht '!$B$31) -> Persoon 1 | N32: =IF('Stap 1 - Aanvraag Deelopdracht '!$D$31=0,"",'Stap 1 - Aanvraag Deelopdracht '!$D$31) -> 06-00000001 | T32: =OFFSET('Stap 1 - Aanvraag Deelopdracht '!$A$25,0,AE1) -> Geen opmerkingen | Z32: Projectleider | AA32: =IF('Stap 1 - Aanvraag Deelopdracht '!$B$31=0,"",'Stap 1 - Aanvraag Deelopdracht '!$B$31) -> Persoon 1 | AD32: =IF('Stap 1 - Aanvraag Deelopdracht '!$D$31=0,"",'Stap 1 - Aanvraag Deelopdracht '!$D$31) -> 06-00000001 | AJ32: =OFFSET('Stap 1 - Aanvraag Deelopdracht '!$A$25,0,AU1) -> #VALUE! | AP32: Projectleider | AQ32: =IF('Stap 1 - Aanvraag Deelopdracht '!$B$31=0,"",'Stap 1 - Aanvraag Deelopdracht '!$B$31) -> Persoon 1 | AT32: =IF('Stap 1 - Aanvraag Deelopdracht '!$D$31=0,"",'Stap 1 - Aanvraag Deelopdracht '!$D$31) -> 06-00000001 | AZ32: =OFFSET('Stap 1 - Aanvraag Deelopdracht '!$A$25,0,BK1) -> #VALUE! | BF32: Projectleider | BG32: =IF('Stap 1 - Aanvraag Deelopdracht '!$B$31=0,"",'Stap 1 - Aanvraag Deelopdracht '!$B$31) -> Persoon 1 | BJ32: =IF('Stap 1 - Aanvraag Deelopdracht '!$D$31=0,"",'Stap 1 - Aanvraag Deelopdracht '!$D$31) -> 06-00000001
J33: Jun-projectleider | K33: =IF('Stap 1 - Aanvraag Deelopdracht '!$B$32=0,"",'Stap 1 - Aanvraag Deelopdracht '!$B$32) -> Persoon 2 | N33: =IF('Stap 1 - Aanvraag Deelopdracht '!$D$32=0,"",'Stap 1 - Aanvraag Deelopdracht '!$D$32) -> 06-00000002 | Z33: Jun-projectleider | AA33: =IF('Stap 1 - Aanvraag Deelopdracht '!$B$32=0,"",'Stap 1 - Aanvraag Deelopdracht '!$B$32) -> Persoon 2 | AD33: =IF('Stap 1 - Aanvraag Deelopdracht '!$D$32=0,"",'Stap 1 - Aanvraag Deelopdracht '!$D$32) -> 06-00000002 | AP33: Jun-projectleider | AQ33: =IF('Stap 1 - Aanvraag Deelopdracht '!$B$32=0,"",'Stap 1 - Aanvraag Deelopdracht '!$B$32) -> Persoon 2 | AT33: =IF('Stap 1 - Aanvraag Deelopdracht '!$D$32=0,"",'Stap 1 - Aanvraag Deelopdracht '!$D$32) -> 06-00000002 | BF33: Jun-projectleider | BG33: =IF('Stap 1 - Aanvraag Deelopdracht '!$B$32=0,"",'Stap 1 - Aanvraag Deelopdracht '!$B$32) -> Persoon 2 | BJ33: =IF('Stap 1 - Aanvraag Deelopdracht '!$D$32=0,"",'Stap 1 - Aanvraag Deelopdracht '!$D$32) -> 06-00000002
J34: Toezichthouder | K34: =IF('Stap 1 - Aanvraag Deelopdracht '!$B$33=0,"",'Stap 1 - Aanvraag Deelopdracht '!$B$33) -> Persoon 3 | N34: =IF('Stap 1 - Aanvraag Deelopdracht '!$D$33=0,"",'Stap 1 - Aanvraag Deelopdracht '!$D$33) -> 06-00000003 | Z34: Toezichthouder | AA34: =IF('Stap 1 - Aanvraag Deelopdracht '!$B$33=0,"",'Stap 1 - Aanvraag Deelopdracht '!$B$33) -> Persoon 3 | AD34: =IF('Stap 1 - Aanvraag Deelopdracht '!$D$33=0,"",'Stap 1 - Aanvraag Deelopdracht '!$D$33) -> 06-00000003 | AP34: Toezichthouder | AQ34: =IF('Stap 1 - Aanvraag Deelopdracht '!$B$33=0,"",'Stap 1 - Aanvraag Deelopdracht '!$B$33) -> Persoon 3 | AT34: =IF('Stap 1 - Aanvraag Deelopdracht '!$D$33=0,"",'Stap 1 - Aanvraag Deelopdracht '!$D$33) -> 06-00000003 | BF34: Toezichthouder | BG34: =IF('Stap 1 - Aanvraag Deelopdracht '!$B$33=0,"",'Stap 1 - Aanvraag Deelopdracht '!$B$33) -> Persoon 3 | BJ34: =IF('Stap 1 - Aanvraag Deelopdracht '!$D$33=0,"",'Stap 1 - Aanvraag Deelopdracht '!$D$33) -> 06-00000003
D35: =IF(OFFSET('Stap 1 - Aanvraag Deelopdracht '!$A$17,0,O1)=TRUE, 'Stap 1 - Aanvraag Deelopdracht '!$A$17, "") & " " & IF(OFFSET('Stap 1 - Aanvraag Deelopdracht '!$A$18,0,O1)=TRUE, 'Stap 1 - Aanvraag Deelopdracht '!$A$18, "") -> Aanwezigheid toezichthouder benodigd Aanwezigheid (ass) projectleider benodigd | J35: Directievoerder | K35: =IF('Stap 1 - Aanvraag Deelopdracht '!$B$34=0,"",'Stap 1 - Aanvraag Deelopdracht '!$B$34) -> Persoon 4 | N35: =IF('Stap 1 - Aanvraag Deelopdracht '!$D$34=0,"",'Stap 1 - Aanvraag Deelopdracht '!$D$34) -> 06-00000004 | T35: =IF(OFFSET('Stap 1 - Aanvraag Deelopdracht '!$A$17,0,AE1)=TRUE, 'Stap 1 - Aanvraag Deelopdracht '!$A$17, "") & " " & IF(OFFSET('Stap 1 - Aanvraag Deelopdracht '!$A$18,0,AE1)=TRUE, 'Stap 1 - Aanvraag Deelopdracht '!$A$18, "") | Z35: Directievoerder | AA35: =IF('Stap 1 - Aanvraag Deelopdracht '!$B$34=0,"",'Stap 1 - Aanvraag Deelopdracht '!$B$34) -> Persoon 4 | AD35: =IF('Stap 1 - Aanvraag Deelopdracht '!$D$34=0,"",'Stap 1 - Aanvraag Deelopdracht '!$D$34) -> 06-00000004 | AJ35: =IF(OFFSET('Stap 1 - Aanvraag Deelopdracht '!$A$17,0,AU1)=TRUE, 'Stap 1 - Aanvraag Deelopdracht '!$A$17, "") & " " & IF(OFFSET('Stap 1 - Aanvraag Deelopdracht '!$A$18,0,AU1)=TRUE, 'Stap 1 - Aanvraag Deelopdracht '!$A$18, "") -> #VALUE! | AP35: Directievoerder | AQ35: =IF('Stap 1 - Aanvraag Deelopdracht '!$B$34=0,"",'Stap 1 - Aanvraag Deelopdracht '!$B$34) -> Persoon 4 | AT35: =IF('Stap 1 - Aanvraag Deelopdracht '!$D$34=0,"",'Stap 1 - Aanvraag Deelopdracht '!$D$34) -> 06-00000004 | AZ35: =IF(OFFSET('Stap 1 - Aanvraag Deelopdracht '!$A$17,0,BK1)=TRUE, 'Stap 1 - Aanvraag Deelopdracht '!$A$17, "") & " " & IF(OFFSET('Stap 1 - Aanvraag Deelopdracht '!$A$18,0,BK1)=TRUE, 'Stap 1 - Aanvraag Deelopdracht '!$A$18, "") -> #VALUE! | BF35: Directievoerder | BG35: =IF('Stap 1 - Aanvraag Deelopdracht '!$B$34=0,"",'Stap 1 - Aanvraag Deelopdracht '!$B$34) -> Persoon 4 | BJ35: =IF('Stap 1 - Aanvraag Deelopdracht '!$D$34=0,"",'Stap 1 - Aanvraag Deelopdracht '!$D$34) -> 06-00000004
A36: =Projectgegevens!D71 & " " & Projectgegevens!D72 | E36: =IF(O36="","NIET PRINTEN!","") | K36: Aanvraag | L36: Uitvoering | O36: ='Stap 1 - Aanvraag Deelopdracht '!$C$10 -> 2 | Q36: =Projectgegevens!T71 & " " & Projectgegevens!T72 | U36: =IF(AE36="","NIET PRINTEN!","") | AA36: Aanvraag | AB36: Uitvoering | AE36: ='Stap 1 - Aanvraag Deelopdracht '!$M$10 -> 12 | AG36: =Projectgegevens!AJ71 & " " & Projectgegevens!AJ72 | AK36: =IF(AU36="","NIET PRINTEN!","") -> NIET PRINTEN! | AQ36: Aanvraag | AR36: Uitvoering | AU36: ='Stap 1 - Aanvraag Deelopdracht '!$W$10 | AW36: =Projectgegevens!AZ71 & " " & Projectgegevens!AZ72 | BA36: =IF(BK36="","NIET PRINTEN!","") -> NIET PRINTEN! | BG36: Aanvraag | BH36: Uitvoering | BK36: ='Stap 1 - Aanvraag Deelopdracht '!$AG$10
E37: =IF(O36="","",Projectgegevens!$B$37) -> Project | F37: =Projectgegevens!$D$37 -> Burgemeester Goudalaan | I37: =IF(O36="","","Ontgravingsdiepte [in m]") -> Ontgravingsdiepte [in m] | K37: =OFFSET('Stap 1 - Aanvraag Deelopdracht '!$A$11,0,O36) -> 1 | U37: =IF(AE36="","",Projectgegevens!$B$37) -> Project | V37: =Projectgegevens!$D$37 -> Burgemeester Goudalaan | Y37: =IF(AE36="","","Ontgravingsdiepte [in m]") -> Ontgravingsdiepte [in m] | AA37: =OFFSET('Stap 1 - Aanvraag Deelopdracht '!$A$11,0,AE36) -> 0 | AK37: =IF(AU36="","",Projectgegevens!$B$37) | AL37: =Projectgegevens!$D$37 -> Burgemeester Goudalaan | AO37: =IF(AU36="","","Ontgravingsdiepte [in m]") | AQ37: =OFFSET('Stap 1 - Aanvraag Deelopdracht '!$A$11,0,AU36) -> #VALUE! | BA37: =IF(BK36="","",Projectgegevens!$B$37) | BB37: =Projectgegevens!$D$37 -> Burgemeester Goudalaan | BE37: =IF(BK36="","","Ontgravingsdiepte [in m]") | BG37: =OFFSET('Stap 1 - Aanvraag Deelopdracht '!$A$11,0,BK36) -> #VALUE!
E38: =IF(O36="","",Projectgegevens!$B$36) -> Projectnr. | F38: =Projectgegevens!$D$36 -> 101887 | I38: =IF(O36="","","Lengte [in m]") -> Lengte [in m] | K38: =OFFSET('Stap 1 - Aanvraag Deelopdracht '!$A$12,0,O36) -> 2 | U38: =IF(AE36="","",Projectgegevens!$B$36) -> Projectnr. | V38: =Projectgegevens!$D$36 -> 101887 | Y38: =IF(AE36="","","Lengte [in m]") -> Lengte [in m] | AA38: =OFFSET('Stap 1 - Aanvraag Deelopdracht '!$A$12,0,AE36) -> 0 | AK38: =IF(AU36="","",Projectgegevens!$B$36) | AL38: =Projectgegevens!$D$36 -> 101887 | AO38: =IF(AU36="","","Lengte [in m]") | AQ38: =OFFSET('Stap 1 - Aanvraag Deelopdracht '!$A$12,0,AU36) -> #VALUE! | BA38: =IF(BK36="","",Projectgegevens!$B$36) | BB38: =Projectgegevens!$D$36 -> 101887 | BE38: =IF(BK36="","","Lengte [in m]") | BG38: =OFFSET('Stap 1 - Aanvraag Deelopdracht '!$A$12,0,BK36) -> #VALUE!
E39: =IF(O36="","","Datum proefsleuf") -> Datum proefsleuf | I39: =IF(O36="","","Breedte [in m]") -> Breedte [in m] | K39: =OFFSET('Stap 1 - Aanvraag Deelopdracht '!$A$13,0,O36) -> 0.6 | U39: =IF(AE36="","","Datum proefsleuf") -> Datum proefsleuf | Y39: =IF(AE36="","","Breedte [in m]") -> Breedte [in m] | AA39: =OFFSET('Stap 1 - Aanvraag Deelopdracht '!$A$13,0,AE36) -> 0 | AK39: =IF(AU36="","","Datum proefsleuf") | AO39: =IF(AU36="","","Breedte [in m]") | AQ39: =OFFSET('Stap 1 - Aanvraag Deelopdracht '!$A$13,0,AU36) -> #VALUE! | BA39: =IF(BK36="","","Datum proefsleuf") | BE39: =IF(BK36="","","Breedte [in m]") | BG39: =OFFSET('Stap 1 - Aanvraag Deelopdracht '!$A$13,0,BK36) -> #VALUE!
E40: =IF(O36="","","Maaiveld t.o.v. NAP [in m]") -> Maaiveld t.o.v. NAP [in m] | U40: =IF(AE36="","","Maaiveld t.o.v. NAP [in m]") -> Maaiveld t.o.v. NAP [in m] | AK40: =IF(AU36="","","Maaiveld t.o.v. NAP [in m]") | BA40: =IF(BK36="","","Maaiveld t.o.v. NAP [in m]")
E41: Te verwachten kabels en leidingen | U41: Te verwachten kabels en leidingen | AK41: Te verwachten kabels en leidingen | BA41: Te verwachten kabels en leidingen
D42: ID | E42: Type kabel/leiding | F42: Netbeheerder | G42: Eis Voorzorg | H42: Gevonden [Ja/Nee] | I42: Hoogte bovenkant t.o.v. N.A.P. [in m] | J42: Diameter of hoogte [in m] | K42: Afstand vanuit meetpunt [in m] | L42: Materiaal | M42: Kleur | O42: Grondslag bepalen | T42: ID | U42: Type kabel/leiding | V42: Netbeheerder | W42: Eis Voorzorg | X42: Gevonden [Ja/Nee] | Y42: Hoogte bovenkant t.o.v. N.A.P. [in m] | Z42: Diameter of hoogte [in m] | AA42: Afstand vanuit meetpunt [in m] | AB42: Materiaal | AC42: Kleur | AE42: Grondslag bepalen | AJ42: ID | AK42: Type kabel/leiding | AL42: Netbeheerder | AM42: Eis Voorzorg | AN42: Gevonden [Ja/Nee] | AO42: Hoogte bovenkant t.o.v. N.A.P. [in m] | AP42: Diameter of hoogte [in m] | AQ42: Afstand vanuit meetpunt [in m] | AR42: Materiaal | AS42: Kleur | AU42: Grondslag bepalen | AZ42: ID | BA42: Type kabel/leiding | BB42: Netbeheerder | BC42: Eis Voorzorg | BD42: Gevonden [Ja/Nee] | BE42: Hoogte bovenkant t.o.v. N.A.P. [in m] | BF42: Diameter of hoogte [in m] | BG42: Afstand vanuit meetpunt [in m] | BH42: Materiaal | BI42: Kleur | BK42: Grondslag bepalen
A43: =ROUND(O36+0.01,2) -> 2.01 | B43: =F40 -> 0 | C43: =VLOOKUP(A43,'Stap 2 - Bureaustudie'!$A$9:$D$44,1,FALSE) -> 2.01 | D43: =IFERROR(C43,"") -> 2.01 | E43: =IFERROR(VLOOKUP(D43,'Stap 2 - Bureaustudie'!$A$9:$E$300,3,FALSE),"") -> Datatransport | F43: =IFERROR(VLOOKUP(D43,'Stap 2 - Bureaustudie'!$A$9:$E$300,4,FALSE),"") -> Deltafiber Ned B.V. | G43: =IFERROR(VLOOKUP(D43,'Stap 2 - Bureaustudie'!$A$9:$E$300,5,FALSE),"") -> Nee | O43: Diepte t.o.v. MV [in m] | P43: Grondsoort/ materiaal | Q43: =ROUND(AE36+0.01,2) -> 12.01 | R43: =V40 -> 0 | S43: =VLOOKUP(Q43,'Stap 2 - Bureaustudie'!$A$9:$D$44,1,FALSE) -> #N/A | T43: =IFERROR(S43,"") | U43: =IFERROR(VLOOKUP(T43,'Stap 2 - Bureaustudie'!$A$9:$E$300,3,FALSE),"") | V43: =IFERROR(VLOOKUP(T43,'Stap 2 - Bureaustudie'!$A$9:$E$300,4,FALSE),"") | W43: =IFERROR(VLOOKUP(T43,'Stap 2 - Bureaustudie'!$A$9:$E$300,5,FALSE),"") | AE43: Diepte t.o.v. MV [in m] | AF43: Grondsoort/ materiaal | AG43: =ROUND(AU36+0.01,2) -> #VALUE! | AH43: =AL40 -> 0 | AI43: =VLOOKUP(AG43,'Stap 2 - Bureaustudie'!$A$9:$D$44,1,FALSE) -> #VALUE! | AJ43: =IFERROR(AI43,"") | AK43: =IFERROR(VLOOKUP(AJ43,'Stap 2 - Bureaustudie'!$A$9:$E$300,3,FALSE),"") | AL43: =IFERROR(VLOOKUP(AJ43,'Stap 2 - Bureaustudie'!$A$9:$E$300,4,FALSE),"") | AM43: =IFERROR(VLOOKUP(AJ43,'Stap 2 - Bureaustudie'!$A$9:$E$300,5,FALSE),"") | AU43: Diepte t.o.v. MV [in m] | AV43: Grondsoort/ materiaal | AW43: =ROUND(BK36+0.01,2) -> #VALUE! | AX43: =BB40 -> 0 | AY43: =VLOOKUP(AW43,'Stap 2 - Bureaustudie'!$A$9:$D$44,1,FALSE) -> #VALUE! | AZ43: =IFERROR(AY43,"") | BA43: =IFERROR(VLOOKUP(AZ43,'Stap 2 - Bureaustudie'!$A$9:$E$300,3,FALSE),"") | BB43: =IFERROR(VLOOKUP(AZ43,'Stap 2 - Bureaustudie'!$A$9:$E$300,4,FALSE),"") | BC43: =IFERROR(VLOOKUP(AZ43,'Stap 2 - Bureaustudie'!$A$9:$E$300,5,FALSE),"") | BK43: Diepte t.o.v. MV [in m] | BL43: Grondsoort/ materiaal
...

Sheet Gegevens
A1: Maaiveld | C1: ID | D1: Type kabel/leiding | E1: Netbeheerder | F1: Eis Voorzorg | G1: Gevonden [Ja/Nee] | H1: Hoogte bovenkant t.o.v. N.A.P. [in m] | I1: Diameter of hoogte [in m] | J1: Afstand vanuit meetpunt [in m] | K1: Materiaal | L1: Kleur | P1: Maaiveld | R1: ID | S1: Type kabel/leiding | T1: Netbeheerder | U1: Eis Voorzorg | V1: Gevonden [Ja/Nee] | W1: Hoogte bovenkant t.o.v. N.A.P. [in m] | X1: Diameter of hoogte [in m] | Y1: Afstand vanuit meetpunt [in m] | Z1: Materiaal | AA1: Kleur
A2: {=_xlfn._xlws.FILTER('Stap 3 - Uitvoering'!B2:M500, (ISNUMBER('Stap 3 - Uitvoering'!D2:D500)) * ('Stap 3 - Uitvoering'!D2:D500 > 1))} -> -1 | B2: 1.01 | C2: 1.01 | D2: Datatransport | E2: Stedin B.V. | F2: Nee | G2: Ja | H2: 0 | I2: 0 | J2: 0 | K2: 0 | L2: 0 | P2: {=_xlfn._xlws.FILTER(A:L, (ISNUMBER(C:C)) * (C:C > 1))} -> -1 | Q2: 1.01 | R2: 1.01 | S2: Datatransport | T2: Stedin B.V. | U2: Nee | V2: Ja | W2: 0 | X2: 0 | Y2: 0 | Z2: 0 | AA2: 0
A3: -1 | B3: 1.02 | C3: 1.02 | D3: Datatransport | E3: Gem. Gouda | F3: Nee | G3: Nee | H3: 0 | I3: 0 | J3: 0 | K3: 0 | L3: 0 | P3: -1 | Q3: 1.02 | R3: 1.02 | S3: Datatransport | T3: Gem. Gouda | U3: Nee | V3: Nee | W3: 0 | X3: 0 | Y3: 0 | Z3: 0 | AA3: 0
A4: 0 | B4: 2.01 | C4: 2.01 | D4: Datatransport | E4: Deltafiber Ned B.V. | F4: Nee | G4: 0 | H4: 0 | I4: 0 | J4: 0 | K4: 0 | L4: 0 | P4: 0 | Q4: 2.01 | R4: 2.01 | S4: Datatransport | T4: Deltafiber Ned B.V. | U4: Nee | V4: 0 | W4: 0 | X4: 0 | Y4: 0 | Z4: 0 | AA4: 0
A400: {=_xlfn._xlws.FILTER('Stap 3 - Uitvoering'!R2:AC500, (ISNUMBER('Stap 3 - Uitvoering'!D2:D500)) * ('Stap 3 - Uitvoering'!D2:D500 > 1))} -> 0 | B400: #N/A | G400: 0 | H400: 0 | I400: 0 | J400: 0 | K400: 0 | L400: 0
A401: 0 | B401: #N/A | G401: 0 | H401: 0 | I401: 0 | J401: 0 | K401: 0 | L401: 0
A402: 0 | B402: #N/A | G402: 0 | H402: 0 | I402: 0 | J402: 0 | K402: 0 | L402: 0
A800: {=_xlfn._xlws.FILTER('Stap 3 - Uitvoering'!AH2:AS500, (ISNUMBER('Stap 3 - Uitvoering'!D2:D500)) * ('Stap 3 - Uitvoering'!D2:D500 > 1))} -> 0 | B800: #VALUE! | G800: 0 | H800: 0 | I800: 0 | J800: 0 | K800: 0 | L800: 0
A801: 0 | B801: #VALUE! | G801: 0 | H801: 0 | I801: 0 | J801: 0 | K801: 0 | L801: 0
A802: 0 | B802: #VALUE! | G802: 0 | H802: 0 | I802: 0 | J802: 0 | K802: 0 | L802: 0
A1200: {=_xlfn._xlws.FILTER('Stap 3 - Uitvoering'!AX2:BI500, (ISNUMBER('Stap 3 - Uitvoering'!D2:D500)) * ('Stap 3 - Uitvoering'!D2:D500 > 1))} -> 0 | B1200: #VALUE! | G1200: 0 | H1200: 0 | I1200: 0 | J1200: 0 | K1200: 0 | L1200: 0
A1201: 0 | B1201: #VALUE! | G1201: 0 | H1201: 0 | I1201: 0 | J1201: 0 | K1201: 0 | L1201: 0
A1202: 0 | B1202: #VALUE! | G1202: 0 | H1202: 0 | I1202: 0 | J1202: 0 | K1202: 0 | L1202: 0

Sheet Stap 4 - Knelpuntenanalyse
A1: Stap 4 - Knelpuntenanalyse
A2: Project: | C2: =Projectgegevens!D37 -> Burgemeester Goudalaan
A3: Project | C3: =Projectgegevens!D37 -> Burgemeester Goudalaan
A4: Projectnr | C4: =Projectgegevens!D36 -> 101887
A5: Aantal proefsleuven | C5: ='Stap 1 - Aanvraag Deelopdracht '!B2 -> 15 | E5: Wordt automatisch berekend
A6: Datum knelpuntanalyse | C6: 45748 | E6: In te vullen door Opdrachtgever
