Workbook

Sheet Projectgegevens
A14: Proefsleuven formulier*
A17: =D37 & " - "&'Stap 1 - Aanvraag Deelopdracht '!B2 & " "& "Proefsleuven" -> Burgemeester Goudalaan - 15 Proefsleuven
B36: Projectnr. | D36: ='Stap 1 - Aanvraag Deelopdracht '!F2 -> 101887
B37: Project | D37: ='Stap 1 - Aanvraag Deelopdracht '!F3 -> Burgemeester Goudalaan
B38: Kenmerk/Zaaknummer | D38: ='Stap 1 - Aanvraag Deelopdracht '!B3 -> 1011273
B39: Versie | D39: 0.2
B41: Datum 1. Deelopdracht | D41: ='Stap 1 - Aanvraag Deelopdracht '!B4 -> 45658
B42: Datum 2. Bureaustudie | D42: ='Stap 2 - Bureaustudie'!C5 -> 45689
B43: Datum 3. Start Uitvoering | D43: ='Stap 3 - Uitvoering'!F4 -> 45717
B44: Datum 4. Analyse | D44: ='Stap 4 - Knelpuntenanalyse'!C6 -> 45748
B46: Opdrachtgever | D46: Gemeente Gouda
B47: Projectleider | D47: ='Stap 1 - Aanvraag Deelopdracht '!B31 -> Persoon 1
B48: Opdrachtnemer | D48: xxx
A50: Versie 0.2

Sheet Uitleg
A1: Actie | B1: Aanduiding - 1 | C1: Aanduiding - 2
A2: Cellen - Niet invullen, automatisch gegenereerd. | D2: x
A3: Cellen - In te vullen door documenten | C3: x | D3: x
A4: Werkblad - In te vullen door Opdrachtnemer | C4: x | D4: x
A5: Werkblad - In te vullen door Opdrachtgever | C5: x | D5: x
A6: Stap | B6: Doel | C6: Wat invullen | D6: Wie invullen
A7: Projectgegevens | B7: Voorblad Rapportage Proefsleuvenformulier | C7: Versienummer | D7: Opdrachtgever
A8: Stap 1 – Aanvraag Deelopdracht | B8: Formulier t.b.v. het uitvragen van de deelopdracht aan de Opdrachtnemer. | C8: Het formulier bevat de projectgegevens, hoeveelheid proefsleuven, aandachtspunten per proefsleuf, aanvullende gegevens als bijlagen en contactgegevens. | D8: Opdrachtgever
A9: Stap 2 – Bureaustudie | B9: Vooronderzoek uitgevoerd op basis van KLIC-melding. | C9: Het onderzoek omvat informatie uit de KLIC-melding, een inschatting van de risico’s en een verwachting van de in het veld aan te treffen objecten | D9: Opdrachtnemer
A10: Stap 3 – Uitvoering | B10: Het genereren van een proefsleuvenformulier t.b.v. de uitvoering, waarna voor invullen van de veldgegevens na uitvoering van de proefsleuf. | C10: Na de uitvoering worden de werkelijke sleufafmetingen, gegevens van aangetroffen kabels en leidingen, de aangetroffen grondsoort, grondwaterstanden en overige relevante waarnemingen vastgelegd. | D10: Opdrachtnemer
A11: Stap 4 – Knelpuntenanalyse | B11: Op basis van de aangetroffen situatie wordt een analyse uitgevoerd van de bijbehorende knelpunten, risico’s, en benodigde aanpassingen vastgelegd. | C11: Invulling van de diepte van het toekomstige ontwerp en de benodigde beheersmaatregelen voor de knelpunten. | D11: Opdrachtgever
B13: Wachtwoord beveiliging = | C13: gouda
A14: =Projectgegevens!A50 -> Versie 0.2
A15: auteur | B15: Nicha Zwarenstein Tutunji | C15: nicha.zwarensteintutunji@gouda.nl

Sheet Stap 1 - Aanvraag Deelopdracht 
A1: Stap 1 - Aanvraagformulier Deelopdracht Proefsleuven
A2: Aantal proefsleuven | B2: 15 | E2: =Projectgegevens!B36 -> Projectnr. | F2: 101887
A3: =Projectgegevens!B38 -> Kenmerk/Zaaknummer | B3: 1011273 | D3: =Projectgegevens!B37 -> Project | F3: Burgemeester Goudalaan
A4: Datum | B4: 45658 | D4: =Projectgegevens!B48 -> Opdrachtnemer | F4: xxx
A6: Bewonersbrieven verzenden | B6: Ja | D6: Bemalingsplan benodigd | F6: onbekend
A7: Verontreiniging geconstateerd | B7: onbekend | D7: ….. | F7: n.t.b.
A9: Opdrachtenformulier Proefsleuven | B9: 1 | C9: 2 | D9: 3 | E9: 4 | F9: 5 | G9: 6 | H9: 7 | I9: 8 | J9: 9 | K9: 10 | L9: 11 | M9: 12 | N9: 13 | O9: 14 | P9: 15 | Q9: 16 | R9: 17 | S9: 18 | T9: 19 | U9: 20 | V9: 21 | W9: 22 | X9: 23 | Y9: 24 | Z9: 25 | AA9: 26 | AB9: 27 | AC9: 28 | AD9: 29 | AE9: 30 | AF9: 31 | AG9: 32 | AH9: 33 | AI9: 34 | AJ9: 35 | AK9: 36 | AL9: 37 | AM9: 38 | AN9: 39 | AO9: 40
A10: Proefsleufnummer | B10: =IF(B9<=$B$2,B9,"") -> 1 | C10: =IF(C9<=$B$2,C9,"") -> 2 | D10: =IF(D9<=$B$2,D9,"") -> 3 | E10: =IF(E9<=$B$2,E9,"") -> 4 | F10: =IF(F9<=$B$2,F9,"") -> 5 | G10: =IF(G9<=$B$2,G9,"") -> 6 | H10: =IF(H9<=$B$2,H9,"") -> 7 | I10: =IF(I9<=$B$2,I9,"") -> 8 | ... AO10: =IF(AO9<=$B$2,AO9,"")
A11: Ontgravingsdiepte tot maximaal [m]: | B11: 1.25 | C11: 1
A12: Lengte [m]: | B12: 3 | C12: 2
A13: Breedte [m]: | B13: 0.6 | C13: 0.6
A14: Eisen Proefsleuf
A15: Vaststellen grondslag | B15: TRUE | C15: TRUE | D15: FALSE | E15: FALSE | F15: FALSE | G15: FALSE | H15: FALSE | I15: FALSE | J15: FALSE | K15: FALSE | L15: FALSE | M15: FALSE | N15: FALSE | O15: FALSE | P15: FALSE | Q15: FALSE | R15: FALSE | S15: FALSE | T15: FALSE | U15: FALSE | V15: FALSE | W15: FALSE | X15: FALSE | Y15: FALSE | Z15: FALSE | AA15: FALSE | AB15: FALSE | AC15: FALSE | AD15: FALSE | AE15: FALSE | AF15: FALSE | AG15: FALSE | AH15: FALSE | AI15: FALSE | AJ15: FALSE | AK15: FALSE | AL15: FALSE | AM15: FALSE | AN15: FALSE | AO15: FALSE
A16: Grondwaterstand bepalen | B16: TRUE | C16: FALSE | D16: FALSE | E16: FALSE | F16: FALSE | G16: FALSE | H16: FALSE | I16: FALSE | J16: FALSE | K16: FALSE | L16: FALSE | M16: FALSE | N16: FALSE | O16: FALSE | P16: FALSE | Q16: FALSE | R16: FALSE | S16: FALSE | T16: FALSE | U16: FALSE | V16: FALSE | W16: FALSE | X16: FALSE | Y16: FALSE | Z16: FALSE | AA16: FALSE | AB16: FALSE | AC16: FALSE | AD16: FALSE | AE16: FALSE | AF16: FALSE | AG16: FALSE | AH16: FALSE | AI16: FALSE | AJ16: FALSE | AK16: FALSE | AL16: FALSE | AM16: FALSE | AN16: FALSE | AO16: FALSE
A17: Aanwezigheid toezichthouder benodigd | B17: TRUE | C17: FALSE | D17: FALSE | E17: FALSE | F17: FALSE | G17: FALSE | H17: FALSE | I17: FALSE | J17: FALSE | K17: FALSE | L17: FALSE | M17: FALSE | N17: FALSE | O17: FALSE | P17: FALSE | Q17: FALSE | R17: FALSE | S17: FALSE | T17: FALSE | U17: FALSE | V17: FALSE | W17: FALSE | X17: FALSE | Y17: FALSE | Z17: FALSE | AA17: FALSE | AB17: FALSE | AC17: FALSE | AD17: FALSE | AE17: FALSE | AF17: FALSE | AG17: FALSE | AH17: FALSE | AI17: FALSE | AJ17: FALSE | AK17: FALSE | AL17: FALSE | AM17: FALSE | AN17: FALSE | AO17: FALSE
A18: Aanwezigheid (ass) projectleider benodigd | B18: TRUE | C18: FALSE | D18: FALSE | E18: FALSE | F18: FALSE | G18: FALSE | H18: FALSE | I18: FALSE | J18: FALSE | K18: FALSE | L18: FALSE | M18: FALSE | N18: FALSE | O18: FALSE | P18: FALSE | Q18: FALSE | R18: FALSE | S18: FALSE | T18: FALSE | U18: FALSE | V18: FALSE | W18: FALSE | X18: FALSE | Y18: FALSE | Z18: FALSE | AA18: FALSE | AB18: FALSE | AC18: FALSE | AD18: FALSE | AE18: FALSE | AF18: FALSE | AG18: FALSE | AH18: FALSE | AI18: FALSE | AJ18: FALSE | AK18: FALSE | AL18: FALSE | AM18: FALSE | AN18: FALSE | AO18: FALSE
A19: Doel Proefsleuf
A20: Aanleg riolering | B20: TRUE | C20: TRUE | D20: FALSE | E20: FALSE | F20: FALSE | G20: FALSE | H20: FALSE | I20: FALSE | J20: FALSE | K20: FALSE | L20: FALSE | M20: FALSE | N20: FALSE | O20: FALSE | P20: FALSE | Q20: FALSE | R20: FALSE | S20: FALSE | T20: FALSE | U20: FALSE | V20: FALSE | W20: FALSE | X20: FALSE | Y20: FALSE | Z20: FALSE | AA20: FALSE | AB20: FALSE | AC20: FALSE | AD20: FALSE | AE20: FALSE | AF20: FALSE | AG20: FALSE | AH20: FALSE | AI20: FALSE | AJ20: FALSE | AK20: FALSE | AL20: FALSE | AM20: FALSE | AN20: FALSE | AO20: FALSE
A21: Ophoging / dekking bepalen | B21: TRUE | C21: FALSE | D21: FALSE | E21: FALSE | F21: FALSE | G21: FALSE | H21: FALSE | I21: FALSE | J21: FALSE | K21: FALSE | L21: FALSE | M21: FALSE | N21: FALSE | O21: FALSE | P21: FALSE | Q21: FALSE | R21: FALSE | S21: FALSE | T21: FALSE | U21: FALSE | V21: FALSE | W21: FALSE | X21: FALSE | Y21: FALSE | Z21: FALSE | AA21: FALSE | AB21: FALSE | AC21: FALSE | AD21: FALSE | AE21: FALSE | AF21: FALSE | AG21: FALSE | AH21: FALSE | AI21: FALSE | AJ21: FALSE | AK21: FALSE | AL21: FALSE | AM21: FALSE | AN21: FALSE | AO21: FALSE
A22: ….. | B22: FALSE | C22: FALSE | D22: FALSE | E22: FALSE | F22: FALSE | G22: FALSE | H22: FALSE | I22: FALSE | J22: FALSE | K22: FALSE | L22: FALSE | M22: FALSE | N22: FALSE | O22: FALSE | P22: FALSE | Q22: FALSE | R22: FALSE | S22: FALSE | T22: FALSE | U22: FALSE | V22: FALSE | W22: FALSE | X22: FALSE | Y22: FALSE | Z22: FALSE | AA22: FALSE | AB22: FALSE | AC22: FALSE | AD22: FALSE | AE22: FALSE | AF22: FALSE | AG22: FALSE | AH22: FALSE | AI22: FALSE | AJ22: FALSE | AK22: FALSE | AL22: FALSE | AM22: FALSE | AN22: FALSE | AO22: FALSE
A23: ….. | B23: FALSE | C23: FALSE | D23: FALSE | E23: FALSE | F23: FALSE | G23: FALSE | H23: FALSE | I23: FALSE | J23: FALSE | K23: FALSE | L23: FALSE | M23: FALSE | N23: FALSE | O23: FALSE | P23: FALSE | Q23: FALSE | R23: FALSE | S23: FALSE | T23: FALSE | U23: FALSE | V23: FALSE | W23: FALSE | X23: FALSE | Y23: FALSE | Z23: FALSE | AA23: FALSE | AB23: FALSE | AC23: FALSE | AD23: FALSE | AE23: FALSE | AF23: FALSE | AG23: FALSE | AH23: FALSE | AI23: FALSE | AJ23: FALSE | AK23: FALSE | AL23: FALSE | AM23: FALSE | AN23: FALSE | AO23: FALSE
A24: ….. | B24: FALSE | C24: FALSE | D24: FALSE | E24: FALSE | F24: FALSE | G24: FALSE | H24: FALSE | I24: FALSE | J24: FALSE | K24: FALSE | L24: FALSE | M24: FALSE | N24: FALSE | O24: FALSE | P24: FALSE | Q24: FALSE | R24: FALSE | S24: FALSE | T24: FALSE | U24: FALSE | V24: FALSE | W24: FALSE | X24: FALSE | Y24: FALSE | Z24: FALSE | AA24: FALSE | AB24: FALSE | AC24: FALSE | AD24: FALSE | AE24: FALSE | AF24: FALSE | AG24: FALSE | AH24: FALSE | AI24: FALSE | AJ24: FALSE | AK24: FALSE | AL24: FALSE | AM24: FALSE | AN24: FALSE | AO24: FALSE
A25: Opmerkingen | B25: Indien gasleiding niet aangetroffen, overleg met (jun) Projectleider. | C25: Proefsleuf 2 op 12-05-2025 | D25: Geen opmerkingen | E25: Geen opmerkingen | F25: Geen opmerkingen | G25: Geen opmerkingen | H25: Geen opmerkingen | I25: Geen opmerkingen | J25: Geen opmerkingen | K25: Geen opmerkingen | L25: Geen opmerkingen | M25: Geen opmerkingen | N25: Geen opmerkingen | O25: Geen opmerkingen | P25: Geen opmerkingen | Q25: Geen opmerkingen | R25: Geen opmerkingen | S25: Geen opmerkingen | T25: Geen opmerkingen | U25: Geen opmerkingen | V25: Geen opmerkingen | W25: Geen opmerkingen | X25: Geen opmerkingen | Y25: Geen opmerkingen | Z25: Geen opmerkingen | AA25: Geen opmerkingen | AB25: Geen opmerkingen | AC25: Geen opmerkingen | AD25: Geen opmerkingen | AE25: Geen opmerkingen | AF25: Geen opmerkingen | AG25: Geen opmerkingen | AH25: Geen opmerkingen | AI25: Geen opmerkingen | AJ25: Geen opmerkingen | AK25: Geen opmerkingen | AL25: Geen opmerkingen | AM25: Geen opmerkingen | AN25: Geen opmerkingen | AO25: Geen opmerkingen
A26: Bijlagen
A27: Bijlage_1.pdf | D27: Bijlage_2.pdf
A28: Bijlage_3.pdf | D28: …
A29: … | D29: …
A30: Contactgegevens | B30: Naam | D30: Telefoon | E30: Email
A31: Projectleider | B31: Persoon 1 | D31: 06-00000001 | E31: Persoon1@gouda.nl
A32: Junior projectleider | B32: Persoon 2 | D32: 06-00000002 | E32: Persoon2@gouda.nl
A33: Toezichthouder | B33: Persoon 3 | D33: 06-00000003 | E33: Persoon3@gouda.nl
A34: Directievoerder | B34: Persoon 4 | D34: 06-00000004 | E34: Persoon4@gouda.nl

Sheet Stap 2 - Bureaustudie
B1: Stap 2: Bureaustudie inventarisatie KLIC-melding
B2: ='Stap 1 - Aanvraag Deelopdracht '!D3 -> Project | C2: =Projectgegevens!D37 -> Burgemeester Goudalaan
B3: ='Stap 1 - Aanvraag Deelopdracht '!E2 -> Projectnr. | C3: =Projectgegevens!D36 -> 101887
B4: Aantal proefsleuven | C4: ='Stap 1 - Aanvraag Deelopdracht '!B2 -> 15
B5: Datum Inventarisatie | C5: 45689
B6: Meldnummer KLIC-melding | C6: 12342
B8: Proefsleufnummer | C8: Type kabel/leiding | D8: Netbeheerder | E8: Eis voorzorgsmaatregel:
A9: =B9 + COUNTIF($B$9:B9,B9)/100 -> 1.01 | B9: 1 | C9: Datatransport | D9: Stedin B.V. | E9: Nee
A10: =B10 + COUNTIF($B$9:B10,B10)/100 -> 1.02 | B10: 1 | C10: Datatransport | D10: Gem. Gouda | E10: Nee
A11: =B11 + COUNTIF($B$9:B11,B11)/100 -> 2.01 | B11: 2 | C11: Datatransport | D11: Deltafiber Ned B.V. | E11: Nee
A12: =B12 + COUNTIF($B$9:B12,B12)/100 -> 0
A13: =B13 + COUNTIF($B$9:B13,B13)/100 -> 0
A14: =B14 + COUNTIF($B$9:B14,B14)/100 -> 0
A15: =B15 + COUNTIF($B$9:B15,B15)/100 -> 0
A16: =B16 + COUNTIF($B$9:B16,B16)/100 -> 0
A17: =B17 + COUNTIF($B$9:B17,B17)/100 -> 0
A18: =B18 + COUNTIF($B$9:B18,B18)/100 -> 0
A19: =B19 + COUNTIF($B$9:B19,B19)/100 -> 0
A20: =B20 + COUNTIF($B$9:B20,B20)/100 -> 0
A21: =B21 + COUNTIF($B$9:B21,B21)/100 -> 0
A22: =B22 + COUNTIF($B$9:B22,B22)/100 -> 0
A23: =B23 + COUNTIF($B$9:B23,B23)/100 -> 0
... A43: =B43 + COUNTIF($B$9:B43,B43)/100 -> 0

Sheet Stap 3 - Uitvoering
A1: =Projectgegevens!D36 & " " & Projectgegevens!D37 -> 101887 Burgemeester Goudalaan | E1: =IF(O1="","NIET PRINTEN!","") | K1: Aanvraag | L1: Uitvoering | O1: 1 | Q1: =Projectgegevens!T36 & " " & Projectgegevens!T37 | U1: =IF(AE1="","NIET PRINTEN!","") | AA1: Aanvraag | AB1: Uitvoering | AE1: ='Stap 1 - Aanvraag Deelopdracht '!$L$10 -> 11 | AG1: =Projectgegevens!AJ36 & " " & Projectgegevens!AJ37 | AK1: =IF(AU1="","NIET PRINTEN!","") -> NIET PRINTEN! | AQ1: Aanvraag | AR1: Uitvoering | AU1: ='Stap 1 - Aanvraag Deelopdracht '!$V$10 | AW1: =Projectgegevens!AZ36 & " " & Projectgegevens!AZ37 | BA1: =IF(BK1="","NIET PRINTEN!","") -> NIET PRINTEN! | BG1: Aanvraag | BH1: Uitvoering | BK1: ='Stap 1 - Aanvraag Deelopdracht '!$AF$10
E2: =IF(O1="","",Projectgegevens!$B$37) -> Project | F2: =Projectgegevens!$D$37 -> Burgemeester Goudalaan | I2: =IF(O1="","","Ontgravingsdiepte [in m]") -> Ontgravingsdiepte [in m] | K2: =OFFSET('Stap 1 - Aanvraag Deelopdracht '!$A$11,0,O1) -> 1.25 | U2: =IF(AE1="","",Projectgegevens!$B$37) -> Project | V2: =Projectgegevens!$D$37 -> Burgemeester Goudalaan | Y2: =IF(AE1="","","Ontgravingsdiepte [in m]") -> Ontgravingsdiepte [in m] | AA2: =OFFSET('Stap 1 - Aanvraag Deelopdracht '!$A$11,0,AE1) -> 0 | AK2: =IF(AU1="","",Projectgegevens!$B$37) | AL2: =Projectgegevens!$D$37 -> Burgemeester Goudalaan | AO2: =IF(AU1="","","Ontgravingsdiepte [in m]") | AQ2: =OFFSET('Stap 1 - Aanvraag Deelopdracht '!$A$11,0,AU1) -> #VALUE! | BA2: =IF(BK1="","",Projectgegevens!$B$37) | BB2: =Projectgegevens!$D$37 -> Burgemeester Goudalaan | BE2: =IF(BK1="","","Ontgravingsdiepte [in m]") | BG2: =OFFSET('Stap 1 - Aanvraag Deelopdracht '!$A$11,0,BK1) -> #VALUE!
E3: =IF(O1="","",Projectgegevens!$B$36) -> Projectnr. | F3: =Projectgegevens!$D$36 -> 101887 | I3: =IF(O1="","","Lengte [in m]") -> Lengte [in m] | K3: =OFFSET('Stap 1 - Aanvraag Deelopdracht '!$A$12,0,O1) -> 3 | U3: =IF(AE1="","",Projectgegevens!$B$36) -> Projectnr. | V3: =Projectgegevens!$D$36 -> 101887 | Y3: =IF(AE1="","","Lengte [in m]") -> Lengte [in m] | AA3: =OFFSET('Stap 1 - Aanvraag Deelopdracht '!$A$12,0,AE1) -> 0 | AK3: =IF(AU1="","",Projectgegevens!$B$36) | AL3: =Projectgegevens!$D$36 -> 101887 | AO3: =IF(AU1="","","Lengte [in m]") | AQ3: =OFFSET('Stap 1 - Aanvraag Deelopdracht '!$A$12,0,AU1) -> #VALUE! | BA3: =IF(BK1="","",Projectgegevens!$B$36) | BB3: =Projectgegevens!$D$36 -> 101887 | BE3: =IF(BK1="","","Lengte [in m]") | BG3: =OFFSET('Stap 1 - Aanvraag Deelopdracht '!$A$12,0,BK1) -> #VALUE!
E4: =IF(O1="","","Datum proefsleuf") -> Datum proefsleuf | F4: 45717 | I4: =IF(O1="","","Breedte [in m]") -> Breedte [in m] | K4: =OFFSET('Stap 1 - Aanvraag Deelopdracht '!$A$13,0,O1) -> 0.6 | U4: =IF(AE1="","","Datum proefsleuf") -> Datum proefsleuf | Y4: =IF(AE1="","","Breedte [in m]") -> Breedte [in m] | AA4: =OFFSET('Stap 1 - Aanvraag Deelopdracht '!$A$13,0,AE1) -> 0 | AK4: =IF(AU1="","","Datum proefsleuf") | AO4: =IF(AU1="","","Breedte [in m]") | AQ4: =OFFSET('Stap 1 - Aanvraag Deelopdracht '!$A$13,0,AU1) -> #VALUE! | BA4: =IF(BK1="","","Datum proefsleuf") | BE4: =IF(BK1="","","Breedte [in m]") | BG4: =OFFSET('Stap 1 - Aanvraag Deelopdracht '!$A$13,0,BK1) -> #VALUE!
E5: =IF(O1="","","Maaiveld t.o.v. NAP [in m]") -> Maaiveld t.o.v. NAP [in m] | F5: -1 | U5: =IF(AE1="","","Maaiveld t.o.v. NAP [in m]") -> Maaiveld t.o.v. NAP [in m] | AK5: =IF(AU1="","","Maaiveld t.o.v. NAP [in m]") | BA5: =IF(BK1="","","Maaiveld t.o.v. NAP [in m]")
E6: Te verwachten kabels en leidingen | U6: Te verwachten kabels en leidingen | AK6: Te verwachten kabels en leidingen | BA6: Te verwachten kabels en leidingen
D7: ID | E7: Type kabel/leiding | F7: Netbeheerder | G7: Eis Voorzorg | H7: Gevonden [Ja/Nee] | I7: Hoogte bovenkant t.o.v. N.A.P. [in m] | J7: Diameter of hoogte [in m] | K7: Afstand vanuit meetpunt [in m] | L7: Materiaal | M7: Kleur | O7: Grondslag bepalen | T7: ID | U7: Type kabel/leiding | V7: Netbeheerder | W7: Eis Voorzorg | X7: Gevonden [Ja/Nee] | Y7: Hoogte bovenkant t.o.v. N.A.P. [in m] | Z7: Diameter of hoogte [in m] | AA7: Afstand vanuit meetpunt [in m] | AB7: Materiaal | AC7: Kleur | AE7: Grondslag bepalen | AJ7: ID | AK7: Type kabel/leiding | AL7: Netbeheerder | AM7: Eis Voorzorg | AN7: Gevonden [Ja/Nee] | AO7: Hoogte bovenkant t.o.v. N.A.P. [in m] | AP7: Diameter of hoogte [in m] | AQ7: Afstand vanuit meetpunt [in m] | AR7: Materiaal | AS7: Kleur | AU7: Grondslag bepalen | AZ7: ID | BA7: Type kabel/leiding | BB7: Netbeheerder | BC7: Eis Voorzorg | BD7: Gevonden [Ja/Nee] | BE7: Hoogte bovenkant t.o.v. N.A.P. [in m] | BF7: Diameter of hoogte [in m] | BG7: Afstand vanuit meetpunt [in m] | BH7: Materiaal | BI7: Kleur | BK7: Grondslag bepalen
A8: =ROUND(O1+0.01,2) -> 1.01 | B8: =F5 -> -1 | C8: =VLOOKUP(A8,'Stap 2 - Bureaustudie'!$A$9:$D$44,1,FALSE) -> 1.01 | D8: =IFERROR(C8,"") -> 1.01 | E8: =IFERROR(VLOOKUP(D8,'Stap 2 - Bureaustudie'!$A$9:$E$300,3,FALSE),"") -> Datatransport | F8: =IFERROR(VLOOKUP(D8,'Stap 2 - Bureaustudie'!$A$9:$E$300,4,FALSE),"") -> Stedin B.V. | G8: =IFERROR(VLOOKUP(D8,'Stap 2 - Bureaustudie'!$A$9:$E$300,5,FALSE),"") -> Nee | H8: Ja | O8: Diepte t.o.v. MV [in m] | P8: Grondsoort/ materiaal | Q8: =ROUND(AE1+0.01,2) -> 11.01 | R8: =V5 -> 0 | S8: =VLOOKUP(Q8,'Stap 2 - Bureaustudie'!$A$9:$D$44,1,FALSE) -> #N/A | T8: =IFERROR(S8,"") | U8: =IFERROR(VLOOKUP(T8,'Stap 2 - Bureaustudie'!$A$9:$E$300,3,FALSE),"") | V8: =IFERROR(VLOOKUP(T8,'Stap 2 - Bureaustudie'!$A$9:$E$300,4,FALSE),"") | W8: =IFERROR(VLOOKUP(T8,'Stap 2 - Bureaustudie'!$A$9:$E$300,5,FALSE),"") | AE8: Diepte t.o.v. MV [in m] | AF8: Grondsoort/ materiaal | AG8: =ROUND(AU1+0.01,2) -> #VALUE! | AH8: =AL5 -> 0 | AI8: =VLOOKUP(AG8,'Stap 2 - Bureaustudie'!$A$9:$D$44,1,FALSE) -> #VALUE! | AJ8: =IFERROR(AI8,"") | AK8: =IFERROR(VLOOKUP(AJ8,'Stap 2 - Bureaustudie'!$A$9:$E$300,3,FALSE),"") | AL8: =IFERROR(VLOOKUP(AJ8,'Stap 2 - Bureaustudie'!$A$9:$E$300,4,FALSE),"") | AM8: =IFERROR(VLOOKUP(AJ8,'Stap 2 - Bureaustudie'!$A$9:$E$300,5,FALSE),"") | AU8: Diepte t.o.v. MV [in m] | AV8: Grondsoort/ materiaal | AW8: =ROUND(BK1+0.01,2) -> #VALUE! | AX8: =BB5 -> 0 | AY8: =VLOOKUP(AW8,'Stap 2 - Bureaustudie'!$A$9:$D$44,1,FALSE) -> #VALUE! | AZ8: =IFERROR(AY8,"") | BA8: =IFERROR(VLOOKUP(AZ8,'Stap 2 - Bureaustudie'!$A$9:$E$300,3,FALSE),"") | BB8: =IFERROR(VLOOKUP(AZ8,'Stap 2 - Bureaustudie'!$A$9:$E$300,4,FALSE),"") | BC8: =IFERROR(VLOOKUP(AZ8,'Stap 2 - Bureaustudie'!$A$9:$E$300,5,FALSE),"") | BK8: Diepte t.o.v. MV [in m] | BL8: Grondsoort/ materiaal
A9: =ROUND(A8+0.01,2) -> 1.02 | B9: =F5 -> -1 | C9: =VLOOKUP(A9,'Stap 2 - Bureaustudie'!$A$9:$D$44,1,FALSE) -> 1.02 | D9: =IFERROR(C9,"") -> 1.02 | E9: =IFERROR(VLOOKUP(D9,'Stap 2 - Bureaustudie'!$A$9:$E$300,3,FALSE),"") -> Datatransport | F9: =IFERROR(VLOOKUP(D9,'Stap 2 - Bureaustudie'!$A$9:$E$300,4,FALSE),"") -> Gem. Gouda | G9: =IFERROR(VLOOKUP(D9,'Stap 2 - Bureaustudie'!$A$9:$E$300,5,FALSE),"") -> Nee | H9: Nee | Q9: =ROUND(Q8+0.01,2) -> 11.02 | R9: =V5 -> 0 | S9: =VLOOKUP(Q9,'Stap 2 - Bureaustudie'!$A$9:$D$44,1,FALSE) -> #N/A | T9: =IFERROR(S9,"") | U9: =IFERROR(VLOOKUP(T9,'Stap 2 - Bureaustudie'!$A$9:$E$300,3,FALSE),"") | V9: =IFERROR(VLOOKUP(T9,'Stap 2 - Bureaustudie'!$A$9:$E$300,4,FALSE),"") | W9: =IFERROR(VLOOKUP(T9,'Stap 2 - Bureaustudie'!$A$9:$E$300,5,FALSE),"") | AG9: =ROUND(AG8+0.01,2) -> #VALUE! | AH9: =AL5 -> 0 | AI9: =VLOOKUP(AG9,'Stap 2 - Bureaustudie'!$A$9:$D$44,1,FALSE) -> #VALUE! | AJ9: =IFERROR(AI9,"") | AK9: =IFERROR(VLOOKUP(AJ9,'Stap 2 - Bureaustudie'!$A$9:$E$300,3,FALSE),"") | AL9: =IFERROR(VLOOKUP(AJ9,'Stap 2 - Bureaustudie'!$A$9:$E$300,4,FALSE),"") | AM9: =IFERROR(VLOOKUP(AJ9,'Stap 2 - Bureaustudie'!$A$9:$E$300,5,FALSE),"") | AW9: =ROUND(AW8+0.01,2) -> #VALUE! | AX9: =BB5 -> 0 | AY9: =VLOOKUP(AW9,'Stap 2 - Bureaustudie'!$A$9:$D$44,1,FALSE) -> #VALUE! | AZ9: =IFERROR(AY9,"") | BA9: =IFERROR(VLOOKUP(AZ9,'Stap 2 - Bureaustudie'!$A$9:$E$300,3,FALSE),"") | BB9: =IFERROR(VLOOKUP(AZ9,'Stap 2 - Bureaustudie'!$A$9:$E$300,4,FALSE),"") | BC9: =IFERROR(VLOOKUP(AZ9,'Stap 2 - Bureaustudie'!$A$9:$E$300,5,FALSE),"")
A10: =ROUND(A9+0.01,2) -> 1.03 | B10: =F5 -> -1 | C10: =VLOOKUP(A10,'Stap 2 - Bureaustudie'!$A$9:$D$44,1,FALSE) -> #N/A | D10: =IFERROR(C10,"") | E10: =IFERROR(VLOOKUP(D10,'Stap 2 - Bureaustudie'!$A$9:$E$300,3,FALSE),"") | F10: =IFERROR(VLOOKUP(D10,'Stap 2 - Bureaustudie'!$A$9:$E$300,4,FALSE),"") | G10: =IFERROR(VLOOKUP(D10,'Stap 2 - Bureaustudie'!$A$9:$E$300,5,FALSE),"") | Q10: =ROUND(Q9+0.01,2) -> 11.03 | R10: =V5 -> 0 | S10: =VLOOKUP(Q10,'Stap 2 - Bureaustudie'!$A$9:$D$44,1,FALSE) -> #N/A | T10: =IFERROR(S10,"") | U10: =IFERROR(VLOOKUP(T10,'Stap 2 - Bureaustudie'!$A$9:$E$300,3,FALSE),"") | V10: =IFERROR(VLOOKUP(T10,'Stap 2 - Bureaustudie'!$A$9:$E$300,4,FALSE),"") | W10: =IFERROR(VLOOKUP(T10,'Stap 2 - Bureaustudie'!$A$9:$E$300,5,FALSE),"") | AG10: =ROUND(AG9+0.01,2) -> #VALUE! | AH10: =AL5 -> 0 | AI10: =VLOOKUP(AG10,'Stap 2 - Bureaustudie'!$A$9:$D$44,1,FALSE) -> #VALUE! | AJ10: =IFERROR(AI10,"") | AK10: =IFERROR(VLOOKUP(AJ10,'Stap 2 - Bureaustudie'!$A$9:$E$300,3,FALSE),"") | AL10: =IFERROR(VLOOKUP(AJ10,'Stap 2 - Bureaustudie'!$A$9:$E$300,4,FALSE),"") | AM10: =IFERROR(VLOOKUP(AJ10,'Stap 2 - Bureaustudie'!$A$9:$E$300,5,FALSE),"") | AW10: =ROUND(AW9+0.01,2) -> #VALUE! | AX10: =BB5 -> 0 | AY10: =VLOOKUP(AW10,'Stap 2 - Bureaustudie'!$A$9:$D$44,1,FALSE) -> #VALUE! | AZ10: =IFERROR(AY10,"") | BA10: =IFERROR(VLOOKUP(AZ10,'Stap 2 - Bureaustudie'!$A$9:$E$300,3,FALSE),"") | BB10: =IFERROR(VLOOKUP(AZ10,'Stap 2 - Bureaustudie'!$A$9:$E$300,4,FALSE),"") | BC10: =IFERROR(VLOOKUP(AZ10,'Stap 2 - Bureaustudie'!$A$9:$E$300,5,FALSE),"")
A11: =ROUND(A10+0.01,2) -> 1.04 | B11: =F5 -> -1 | C11: =VLOOKUP(A11,'Stap 2 - Bureaustudie'!$A$9:$D$44,1,FALSE) -> #N/A | D11: =IFERROR(C11,"") | E11: =IFERROR(VLOOKUP(D11,'Stap 2 - Bureaustudie'!$A$9:$E$300,3,FALSE),"") | F11: =IFERROR(VLOOKUP(D11,'Stap 2 - Bureaustudie'!$A$9:$E$300,4,FALSE),"") | G11: =IFERROR(VLOOKUP(D11,'Stap 2 - Bureaustudie'!$A$9:$E$300,5,FALSE),"") | Q11: =ROUND(Q10+0.01,2) -> 11.04 | R11: =V5 -> 0 | S11: =VLOOKUP(Q11,'Stap 2 - Bureaustudie'!$A$9:$D$44,1,FALSE) -> #N/A | T11: =IFERROR(S11,"") | U11: =IFERROR(VLOOKUP(T11,'Stap 2 - Bureaustudie'!$A$9:$E$300,3,FALSE),"") | V11: =IFERROR(VLOOKUP(T11,'Stap 2 - Bureaustudie'!$A$9:$E$300,4,FALSE),"") | W11: =IFERROR(VLOOKUP(T11,'Stap 2 - Bureaustudie'!$A$9:$E$300,5,FALSE),"") | AG11: =ROUND(AG10+0.01,2) -> #VALUE! | AH11: =AL5 -> 0 | AI11: =VLOOKUP(AG11,'Stap 2 - Bureaustudie'!$A$9:$D$44,1,FALSE) -> #VALUE! | AJ11: =IFERROR(AI11,"") | AK11: =IFERROR(VLOOKUP(AJ11,'Stap 2 - Bureaustudie'!$A$9:$E$300,3,FALSE),"") | AL11: =IFERROR(VLOOKUP(AJ11,'Stap 2 - Bureaustudie'!$A$9:$E$300,4,FALSE),"") | AM11: =IFERROR(VLOOKUP(AJ11,'Stap 2 - Bureaustudie'!$A$9:$E$300,5,FALSE),"") | AW11: =ROUND(AW10+0.01,2) -> #VALUE! | AX11: =BB5 -> 0 | AY11: =VLOOKUP(AW11,'Stap 2 - Bureaustudie'!$A$9:$D$44,1,FALSE) -> #VALUE! | AZ11: =IFERROR(AY11,"") | BA11: =IFERROR(VLOOKUP(AZ11,'Stap 2 - Bureaustudie'!$A$9:$E$300,3,FALSE),"") | BB11: =IFERROR(VLOOKUP(AZ11,'Stap 2 - Bureaustudie'!$A$9:$E$300,4,FALSE),"") | BC11: =IFERROR(VLOOKUP(AZ11,'Stap 2 - Bureaustudie'!$A$9:$E$300,5,FALSE),"")
A12: =ROUND(A11+0.01,2) -> 1.05 | B12: =F5 -> -1 | C12: =VLOOKUP(A12,'Stap 2 - Bureaustudie'!$A$9:$D$44,1,FALSE) -> #N/A | D12: =IFERROR(C12,"") | E12: =IFERROR(VLOOKUP(D12,'Stap 2 - Bureaustudie'!$A$9:$E$300,3,FALSE),"") | F12: =IFERROR(VLOOKUP(D12,'Stap 2 - Bureaustudie'!$A$9:$E$300,4,FALSE),"") | G12: =IFERROR(VLOOKUP(D12,'Stap 2 - Bureaustudie'!$A$9:$E$300,5,FALSE),"") | Q12: =ROUND(Q11+0.01,2) -> 11.05 | R12: =V5 -> 0 | S12: =VLOOKUP(Q12,'Stap 2 - Bureaustudie'!$A$9:$D$44,1,FALSE) -> #N/A | T12: =IFERROR(S12,"") | U12: =IFERROR(VLOOKUP(T12,'Stap 2 - Bureaustudie'!$A$9:$E$300,3,FALSE),"") | V12: =IFERROR(VLOOKUP(T12,'Stap 2 - Bureaustudie'!$A$9:$E$300,4,FALSE),"") | W12: =IFERROR(VLOOKUP(T12,'Stap 2 - Bureaustudie'!$A$9:$E$300,5,FALSE),"") | AG12: =ROUND(AG11+0.01,2) -> #VALUE! | AH12: =AL5 -> 0 | AI12: =VLOOKUP(AG12,'Stap 2 - Bureaustudie'!$A$9:$D$44,1,FALSE) -> #VALUE! | AJ12: =IFERROR(AI12,"") | AK12: =IFERROR(VLOOKUP(AJ12,'Stap 2 - Bureaustudie'!$A$9:$E$300,3,FALSE),"") | AL12: =IFERROR(VLOOKUP(AJ12,'Stap 2 - Bureaustudie'!$A$9:$E$300,4,FALSE),"") | AM12: =IFERROR(VLOOKUP(AJ12,'Stap 2 - Bureaustudie'!$A$9:$E$300,5,FALSE),"") | AW12: =ROUND(AW11+0.01,2) -> #VALUE! | AX12: =BB5 -> 0 | AY12: =VLOOKUP(AW12,'Stap 2 - Bureaustudie'!$A$9:$D$44,1,FALSE) -> #VALUE! | AZ12: =IFERROR(AY12,"") | BA12: =IFERROR(VLOOKUP(AZ12,'Stap 2 - Bureaustudie'!$A$9:$E$300,3,FALSE),"") | BB12: =IFERROR(VLOOKUP(AZ12,'Stap 2 - Bureaustudie'!$A$9:$E$300,4,FALSE),"") | BC12: =IFERROR(VLOOKUP(AZ12,'Stap 2 - Bureaustudie'!$A$9:$E$300,5,FALSE),"")
A13: =ROUND(A12+0.01,2) -> 1.06 | B13: =F5 -> -1 | C13: =VLOOKUP(A13,'Stap 2 - Bureaustudie'!$A$9:$D$44,1,FALSE) -> #N/A | D13: =IFERROR(C13,"") | E13: =IFERROR(VLOOKUP(D13,'Stap 2 - Bureaustudie'!$A$9:$E$300,3,FALSE),"") | F13: =IFERROR(VLOOKUP(D13,'Stap 2 - Bureaustudie'!$A$9:$E$300,4,FALSE),"") | G13: =IFERROR(VLOOKUP(D13,'Stap 2 - Bureaustudie'!$A$9:$E$300,5,FALSE),"") | Q13: =ROUND(Q12+0.01,2) -> 11.06 | R13: =V5 -> 0 | S13: =VLOOKUP(Q13,'Stap 2 - Bureaustudie'!$A$9:$D$44,1,FALSE) -> #N/A | T13: =IFERROR(S13,"") | U13: =IFERROR(VLOOKUP(T13,'Stap 2 - Bureaustudie'!$A$9:$E$300,3,FALSE),"") | V13: =IFERROR(VLOOKUP(T13,'Stap 2 - Bureaustudie'!$A$9:$E$300,4,FALSE),"") | W13: =IFERROR(VLOOKUP(T13,'Stap 2 - Bureaustudie'!$A$9:$E$300,5,FALSE),"") | AG13: =ROUND(AG12+0.01,2) -> #VALUE! | AH13: =AL5 -> 0 | AI13: =VLOOKUP(AG13,'Stap 2 - Bureaustudie'!$A$9:$D$44,1,FALSE) -> #VALUE! | AJ13: =IFERROR(AI13,"") | AK13: =IFERROR(VLOOKUP(AJ13,'Stap 2 - Bureaustudie'!$A$9:$E$300,3,FALSE),"") | AL13: =IFERROR(VLOOKUP(AJ13,'Stap 2 - Bureaustudie'!$A$9:$E$300,4,FALSE),"") | AM13: =IFERROR(VLOOKUP(AJ13,'Stap 2 - Bureaustudie'!$A$9:$E$300,5,FALSE),"") | AW13: =ROUND(AW12+0.01,2) -> #VALUE! | AX13: =BB5 -> 0 | AY13: =VLOOKUP(AW13,'Stap 2 - Bureaustudie'!$A$9:$D$44,1,FALSE) -> #VALUE! | AZ13: =IFERROR(AY13,"") | BA13: =IFERROR(VLOOKUP(AZ13,'Stap 2 - Bureaustudie'!$A$9:$E$300,3,FALSE),"") | BB13: =IFERROR(VLOOKUP(AZ13,'Stap 2 - Bureaustudie'!$A$9:$E$300,4,FALSE),"") | BC13: =IFERROR(VLOOKUP(AZ13,'Stap 2 - Bureaustudie'!$A$9:$E$300,5,FALSE),"")
A14: =ROUND(A13+0.01,2) -> 1.07 | B14: =F5 -> -1 | C14: =VLOOKUP(A14,'Stap 2 - Bureaustudie'!$A$9:$D$44,1,FALSE) -> #N/A | D14: =IFERROR(C14,"") | E14: =IFERROR(VLOOKUP(D14,'Stap 2 - Bureaustudie'!$A$9:$E$300,3,FALSE),"") | F14: =IFERROR(VLOOKUP(D14,'Stap 2 - Bureaustudie'!$A$9:$E$300,4,FALSE),"") | G14: =IFERROR(VLOOKUP(D14,'Stap 2 - Bureaustudie'!$A$9:$E$300,5,FALSE),"") | Q14: =ROUND(Q13+0.01,2) -> 11.07 | R14: =V5 -> 0 | S14: =VLOOKUP(Q14,'Stap 2 - Bureaustudie'!$A$9:$D$44,1,FALSE) -> #N/A | T14: =IFERROR(S14,"") | U14: =IFERROR(VLOOKUP(T14,'Stap 2 - Bureaustudie'!$A$9:$E$300,3,FALSE),"") | V14: =IFERROR(VLOOKUP(T14,'Stap 2 - Bureaustudie'!$A$9:$E$300,4,FALSE),"") | W14: =IFERROR(VLOOKUP(T14,'Stap 2 - Bureaustudie'!$A$9:$E$300,5,FALSE),"") | AG14: =ROUND(AG13+0.01,2) -> #VALUE! | AH14: =AL5 -> 0 | AI14: =VLOOKUP(AG14,'Stap 2 - Bureaustudie'!$A$9:$D$44,1,FALSE) -> #VALUE! | AJ14: =IFERROR(AI14,"") | AK14: =IFERROR(VLOOKUP(AJ14,'Stap 2 - Bureaustudie'!$A$9:$E$300,3,FALSE),"") | AL14: =IFERROR(VLOOKUP(AJ14,'Stap 2 - Bureaustudie'!$A$9:$E$300,4,FALSE),"") | AM14: =IFERROR(VLOOKUP(AJ14,'Stap 2 - Bureaustudie'!$A$9:$E$300,5,FALSE),"") | AW14: =ROUND(AW13+0.01,2) -> #VALUE! | AX14: =BB5 -> 0 | AY14: =VLOOKUP(AW14,'Stap 2 - Bureaustudie'!$A$9:$D$44,1,FALSE) -> #VALUE! | AZ14: =IFERROR(AY14,"") | BA14: =IFERROR(VLOOKUP(AZ14,'Stap 2 - Bureaustudie'!$A$9:$E$300,3,FALSE),"") | BB14: =IFERROR(VLOOKUP(AZ14,'Stap 2 - Bureaustudie'!$A$9:$E$300,4,FALSE),"") | BC14: =IFERROR(VLOOKUP(AZ14,'Stap 2 - Bureaustudie'!$A$9:$E$300,5,FALSE),"")
A15: =ROUND(A14+0.01,2) -> 1.08 | B15: =F5 -> -1 | C15: =VLOOKUP(A15,'Stap 2 - Bureaustudie'!$A$9:$D$44,1,FALSE) -> #N/A | D15: =IFERROR(C15,"") | E15: =IFERROR(VLOOKUP(D15,'Stap 2 - Bureaustudie'!$A$9:$E$300,3,FALSE),"") | F15: =IFERROR(VLOOKUP(D15,'Stap 2 - Bureaustudie'!$A$9:$E$300,4,FALSE),"") | G15: =IFERROR(VLOOKUP(D15,'Stap 2 - Bureaustudie'!$A$9:$E$300,5,FALSE),"") | Q15: =ROUND(Q14+0.01,2) -> 11.08 | R15: =V5 -> 0 | S15: =VLOOKUP(Q15,'Stap 2 - Bureaustudie'!$A$9:$D$44,1,FALSE) -> #N/A | T15: =IFERROR(S15,"") | U15: =IFERROR(VLOOKUP(T15,'Stap 2 - Bureaustudie'!$A$9:$E$300,3,FALSE),"") | V15: =IFERROR(VLOOKUP(T15,'Stap 2 - Bureaustudie'!$A$9:$E$300,4,FALSE),"") | W15: =IFERROR(VLOOKUP(T15,'Stap 2 - Bureaustudie'!$A$9:$E$300,5,FALSE),"") | AG15: =ROUND(AG14+0.01,2) -> #VALUE! | AH15: =AL5 -> 0 | AI15: =VLOOKUP(AG15,'Stap 2 - Bureaustudie'!$A$9:$D$44,1,FALSE) -> #VALUE! | AJ15: =IFERROR(AI15,"") | AK15: =IFERROR(VLOOKUP(AJ15,'Stap 2 - Bureaustudie'!$A$9:$E$300,3,FALSE),"") | AL15: =IFERROR(VLOOKUP(AJ15,'Stap 2 - Bureaustudie'!$A$9:$E$300,4,FALSE),"") | AM15: =IFERROR(VLOOKUP(AJ15,'Stap 2 - Bureaustudie'!$A$9:$E$300,5,FALSE),"") | AW15: =ROUND(AW14+0.01,2) -> #VALUE! | AX15: =BB5 -> 0 | AY15: =VLOOKUP(AW15,'Stap 2 - Bureaustudie'!$A$9:$D$44,1,FALSE) -> #VALUE! | AZ15: =IFERROR(AY15,"") | BA15: =IFERROR(VLOOKUP(AZ15,'Stap 2 - Bureaustudie'!$A$9:$E$300,3,FALSE),"") | BB15: =IFERROR(VLOOKUP(AZ15,'Stap 2 - Bureaustudie'!$A$9:$E$300,4,FALSE),"") | BC15: =IFERROR(VLOOKUP(AZ15,'Stap 2 - Bureaustudie'!$A$9:$E$300,5,FALSE),"")
A16: =ROUND(A14+0.01,2) -> 1.08 | B16: =F5 -> -1 | C16: =VLOOKUP(A16,'Stap 2 - Bureaustudie'!$A$9:$D$44,1,FALSE) -> #N/A | D16: =IFERROR(C16,"") | E16: =IFERROR(VLOOKUP(D16,'Stap 2 - Bureaustudie'!$A$9:$E$300,3,FALSE),"") | F16: =IFERROR(VLOOKUP(D16,'Stap 2 - Bureaustudie'!$A$9:$E$300,4,FALSE),"") | G16: =IFERROR(VLOOKUP(D16,'Stap 2 - Bureaustudie'!$A$9:$E$300,5,FALSE),"") | Q16: =ROUND(Q14+0.01,2) -> 11.08 | R16: =V5 -> 0 | S16: =VLOOKUP(Q16,'Stap 2 - Bureaustudie'!$A$9:$D$44,1,FALSE) -> #N/A | T16: =IFERROR(S16,"") | U16: =IFERROR(VLOOKUP(T16,'Stap 2 - Bureaustudie'!$A$9:$E$300,3,FALSE),"") | V16: =IFERROR(VLOOKUP(T16,'Stap 2 - Bureaustudie'!$A$9:$E$300,4,FALSE),"") | W16: =IFERROR(VLOOKUP(T16,'Stap 2 - Bureaustudie'!$A$9:$E$300,5,FALSE),"") | AG16: =ROUND(AG14+0.01,2) -> #VALUE! | AH16: =AL5 -> 0 | AI16: =VLOOKUP(AG16,'Stap 2 - Bureaustudie'!$A$9:$D$44,1,FALSE) -> #VALUE! | AJ16: =IFERROR(AI16,"") | AK16: =IFERROR(VLOOKUP(AJ16,'Stap 2 - Bureaustudie'!$A$9:$E$300,3,FALSE),"") | AL16: =IFERROR(VLOOKUP(AJ16,'Stap 2 - Bureaustudie'!$A$9:$E$300,4,FALSE),"") | AM16: =IFERROR(VLOOKUP(AJ16,'Stap 2 - Bureaustudie'!$A$9:$E$300,5,FALSE),"") | AW16: =ROUND(AW14+0.01,2) -> #VALUE! | AX16: =BB5 -> 0 | AY16: =VLOOKUP(AW16,'Stap 2 - Bureaustudie'!$A$9:$D$44,1,FALSE) -> #VALUE! | AZ16: =IFERROR(AY16,"") | BA16: =IFERROR(VLOOKUP(AZ16,'Stap 2 - Bureaustudie'!$A$9:$E$300,3,FALSE),"") | BB16: =IFERROR(VLOOKUP(AZ16,'Stap 2 - Bureaustudie'!$A$9:$E$300,4,FALSE),"") | BC16: =IFERROR(VLOOKUP(AZ16,'Stap 2 - Bureaustudie'!$A$9:$E$300,5,FALSE),"")
A17: =ROUND(A16+0.01,2) -> 1.09 | B17: =F5 -> -1 | C17: =VLOOKUP(A17,'Stap 2 - Bureaustudie'!$A$9:$D$44,1,FALSE) -> #N/A | D17: =IFERROR(C17,"") | E17: =IFERROR(VLOOKUP(D17,'Stap 2 - Bureaustudie'!$A$9:$E$300,3,FALSE),"") | F17: =IFERROR(VLOOKUP(D17,'Stap 2 - Bureaustudie'!$A$9:$E$300,4,FALSE),"") | G17: =IFERROR(VLOOKUP(D17,'Stap 2 - Bureaustudie'!$A$9:$E$300,5,FALSE),"") | Q17: =ROUND(Q16+0.01,2) -> 11.09 | R17: =V5 -> 0 | S17: =VLOOKUP(Q17,'Stap 2 - Bureaustudie'!$A$9:$D$44,1,FALSE) -> #N/A | T17: =IFERROR(S17,"") | U17: =IFERROR(VLOOKUP(T17,'Stap 2 - Bureaustudie'!$A$9:$E$300,3,FALSE),"") | V17: =IFERROR(VLOOKUP(T17,'Stap 2 - Bureaustudie'!$A$9:$E$300,4,FALSE),"") | W17: =IFERROR(VLOOKUP(T17,'Stap 2 - Bureaustudie'!$A$9:$E$300,5,FALSE),"") | AG17: =ROUND(AG16+0.01,2) -> #VALUE! | AH17: =AL5 -> 0 | AI17: =VLOOKUP(AG17,'Stap 2 - Bureaustudie'!$A$9:$D$44,1,FALSE) -> #VALUE! | AJ17: =IFERROR(AI17,"") | AK17: =IFERROR(VLOOKUP(AJ17,'Stap 2 - Bureaustudie'!$A$9:$E$300,3,FALSE),"") | AL17: =IFERROR(VLOOKUP(AJ17,'Stap 2 - Bureaustudie'!$A$9:$E$300,4,FALSE),"") | AM17: =IFERROR(VLOOKUP(AJ17,'Stap 2 - Bureaustudie'!$A$9:$E$300,5,FALSE),"") | AW17: =ROUND(AW16+0.01,2) -> #VALUE! | AX17: =BB5 -> 0 | AY17: =VLOOKUP(AW17,'Stap 2 - Bureaustudie'!$A$9:$D$44,1,FALSE) -> #VALUE! | AZ17: =IFERROR(AY17,"") | BA17: =IFERROR(VLOOKUP(AZ17,'Stap 2 - Bureaustudie'!$A$9:$E$300,3,FALSE),"") | BB17: =IFERROR(VLOOKUP(AZ17,'Stap 2 - Bureaustudie'!$A$9:$E$300,4,FALSE),"") | BC17: =IFERROR(VLOOKUP(AZ17,'Stap 2 - Bureaustudie'!$A$9:$E$300,5,FALSE),"")
A18: =ROUND(A17+0.01,2) -> 1.1 | B18: =F5 -> -1 | C18: =VLOOKUP(A18,'Stap 2 - Bureaustudie'!$A$9:$D$44,1,FALSE) -> #N/A | D18: =IFERROR(C18,"") | E18: =IFERROR(VLOOKUP(D18,'Stap 2 - Bureaustudie'!$A$9:$E$300,3,FALSE),"") | F18: =IFERROR(VLOOKUP(D18,'Stap 2 - Bureaustudie'!$A$9:$E$300,4,FALSE),"") | G18: =IFERROR(VLOOKUP(D18,'Stap 2 - Bureaustudie'!$A$9:$E$300,5,FALSE),"") | Q18: =ROUND(Q17+0.01,2) -> 11.1 | R18: =V5 -> 0 | S18: =VLOOKUP(Q18,'Stap 2 - Bureaustudie'!$A$9:$D$44,1,FALSE) -> #N/A | T18: =IFERROR(S18,"") | U18: =IFERROR(VLOOKUP(T18,'Stap 2 - Bureaustudie'!$A$9:$E$300,3,FALSE),"") | V18: =IFERROR(VLOOKUP(T18,'Stap 2 - Bureaustudie'!$A$9:$E$300,4,FALSE),"") | W18: =IFERROR(VLOOKUP(T18,'Stap 2 - Bureaustudie'!$A$9:$E$300,5,FALSE),"") | AG18: =ROUND(AG17+0.01,2) -> #VALUE! | AH18: =AL5 -> 0 | AI18: =VLOOKUP(AG18,'Stap 2 - Bureaustudie'!$A$9:$D$44,1,FALSE) -> #VALUE! | AJ18: =IFERROR(AI18,"") | AK18: =IFERROR(VLOOKUP(AJ18,'Stap 2 - Bureaustudie'!$A$9:$E$300,3,FALSE),"") | AL18: =IFERROR(VLOOKUP(AJ18,'Stap 2 - Bureaustudie'!$A$9:$E$300,4,FALSE),"") | AM18: =IFERROR(VLOOKUP(AJ18,'Stap 2 - Bureaustudie'!$A$9:$E$300,5,FALSE),"") | AW18: =ROUND(AW17+0.01,2) -> #VALUE! | AX18: =BB5 -> 0 | AY18: =VLOOKUP(AW18,'Stap 2 - Bureaustudie'!$A$9:$D$44,1,FALSE) -> #VALUE! | AZ18: =IFERROR(AY18,"") | BA18: =IFERROR(VLOOKUP(AZ18,'Stap 2 - Bureaustudie'!$A$9:$E$300,3,FALSE),"") | BB18: =IFERROR(VLOOKUP(AZ18,'Stap 2 - Bureaustudie'!$A$9:$E$300,4,FALSE),"") | BC18: =IFERROR(VLOOKUP(AZ18,'Stap 2 - Bureaustudie'!$A$9:$E$300,5,FALSE),"")
A19: =ROUND(A18+0.01,2) -> 1.11 | B19: =F5 -> -1 | C19: =VLOOKUP(A19,'Stap 2 - Bureaustudie'!$A$9:$D$44,1,FALSE) -> #N/A | D19: =IFERROR(C19,"") | E19: =IFERROR(VLOOKUP(D19,'Stap 2 - Bureaustudie'!$A$9:$E$300,3,FALSE),"") | F19: =IFERROR(VLOOKUP(D19,'Stap 2 - Bureaustudie'!$A$9:$E$300,4,FALSE),"") | G19: =IFERROR(VLOOKUP(D19,'Stap 2 - Bureaustudie'!$A$9:$E$300,5,FALSE),"") | Q19: =ROUND(Q18+0.01,2) -> 11.11 | R19: =V5 -> 0 | S19: =VLOOKUP(Q19,'Stap 2 - Bureaustudie'!$A$9:$D$44,1,FALSE) -> #N/A | T19: =IFERROR(S19,"") | U19: =IFERROR(VLOOKUP(T19,'Stap 2 - Bureaustudie'!$A$9:$E$300,3,FALSE),"") | V19: =IFERROR(VLOOKUP(T19,'Stap 2 - Bureaustudie'!$A$9:$E$300,4,FALSE),"") | W19: =IFERROR(VLOOKUP(T19,'Stap 2 - Bureaustudie'!$A$9:$E$300,5,FALSE),"") | AG19: =ROUND(AG18+0.01,2) -> #VALUE! | AH19: =AL5 -> 0 | AI19: =VLOOKUP(AG19,'Stap 2 - Bureaustudie'!$A$9:$D$44,1,FALSE) -> #VALUE! | AJ19: =IFERROR(AI19,"") | AK19: =IFERROR(VLOOKUP(AJ19,'Stap 2 - Bureaustudie'!$A$9:$E$300,3,FALSE),"") | AL19: =IFERROR(VLOOKUP(AJ19,'Stap 2 - Bureaustudie'!$A$9:$E$300,4,FALSE),"") | AM19: =IFERROR(VLOOKUP(AJ19,'Stap 2 - Bureaustudie'!$A$9:$E$300,5,FALSE),"") | AW19: =ROUND(AW18+0.01,2) -> #VALUE! | AX19: =BB5 -> 0 | AY19: =VLOOKUP(AW19,'Stap 2 - Bureaustudie'!$A$9:$D$44,1,FALSE) -> #VALUE! | AZ19: =IFERROR(AY19,"") | BA19: =IFERROR(VLOOKUP(AZ19,'Stap 2 - Bureaustudie'!$A$9:$E$300,3,FALSE),"") | BB19: =IFERROR(VLOOKUP(AZ19,'Stap 2 - Bureaustudie'!$A$9:$E$300,4,FALSE),"") | BC19: =IFERROR(VLOOKUP(AZ19,'Stap 2 - Bureaustudie'!$A$9:$E$300,5,FALSE),"")
A20: =ROUND(#REF!+0.01,2) -> #REF! | C20: =VLOOKUP(A20,'Stap 2 - Bureaustudie'!$A$9:$D$44,1,FALSE) -> #REF! | E20: Onverwachte kabels en leidingen | Q20: =ROUND(#REF!+0.01,2) -> #REF! | S20: =VLOOKUP(Q20,'Stap 2 - Bureaustudie'!$A$9:$D$44,1,FALSE) -> #REF! | U20: Onverwachte kabels en leidingen | AG20: =ROUND(#REF!+0.01,2) -> #REF! | AI20: =VLOOKUP(AG20,'Stap 2 - Bureaustudie'!$A$9:$D$44,1,FALSE) -> #REF! | AK20: Onverwachte kabels en leidingen | AW20: =ROUND(#REF!+0.01,2) -> #REF! | AY20: =VLOOKUP(AW20,'Stap 2 - Bureaustudie'!$A$9:$D$44,1,FALSE) -> #REF! | BA20: Onverwachte kabels en leidingen
A21: =ROUND(A20+0.01,2) -> #REF! | B21: =F5 -> -1 | C21: =VLOOKUP(A21,'Stap 2 - Bureaustudie'!$A$9:$D$44,1,FALSE) -> #REF! | D21: =IF(E21<>"",MAX(D2:D19)+0.01,"") | H21: =IF(E21<>"","Ja","") | Q21: =ROUND(Q20+0.01,2) -> #REF! | R21: =V5 -> 0 | S21: =VLOOKUP(Q21,'Stap 2 - Bureaustudie'!$A$9:$D$44,1,FALSE) -> #REF! | T21: =IF(U21<>"",MAX(T2:T19)+0.01,"") | X21: =IF(U21<>"","Ja","") | AG21: =ROUND(AG20+0.01,2) -> #REF! | AH21: =AL5 -> 0 | AI21: =VLOOKUP(AG21,'Stap 2 - Bureaustudie'!$A$9:$D$44,1,FALSE) -> #REF! | AJ21: =IF(AK21<>"",MAX(AJ2:AJ19)+0.01,"") | AN21: =IF(AK21<>"","Ja","") | AW21: =ROUND(AW20+0.01,2) -> #REF! | AX21: =BB5 -> 0 | AY21: =VLOOKUP(AW21,'Stap 2 - Bureaustudie'!$A$9:$D$44,1,FALSE) -> #REF! | AZ21: =IF(BA21<>"",MAX(AZ2:AZ19)+0.01,"") | BD21: =IF(BA21<>"","Ja","")
A22: =ROUND(A21+0.01,2) -> #REF! | B22: =F5 -> -1 | C22: =VLOOKUP(A22,'Stap 2 - Bureaustudie'!$A$9:$D$44,1,FALSE) -> #REF! | D22: =IF(E22<>"",D21+0.01,"") | H22: =IF(E22<>"","Ja","") | Q22: =ROUND(Q21+0.01,2) -> #REF! | R22: =V5 -> 0 | S22: =VLOOKUP(Q22,'Stap 2 - Bureaustudie'!$A$9:$D$44,1,FALSE) -> #REF! | T22: =IF(U22<>"",T21+0.01,"") | X22: =IF(U22<>"","Ja","") | AG22: =ROUND(AG21+0.01,2) -> #REF! | AH22: =AL5 -> 0 | AI22: =VLOOKUP(AG22,'Stap 2 - Bureaustudie'!$A$9:$D$44,1,FALSE) -> #REF! | AJ22: =IF(AK22<>"",AJ21+0.01,"") | AN22: =IF(AK22<>"","Ja","") | AW22: =ROUND(AW21+0.01,2) -> #REF! | AX22: =BB5 -> 0 | AY22: =VLOOKUP(AW22,'Stap 2 - Bureaustudie'!$A$9:$D$44,1,FALSE) -> #REF! | AZ22: =IF(BA22<>"",AZ21+0.01,"") | BD22: =IF(BA22<>"","Ja","")
A23: =ROUND(A22+0.01,2) -> #REF! | B23: =F5 -> -1 | C23: =VLOOKUP(A23,'Stap 2 - Bureaustudie'!$A$9:$D$44,1,FALSE) -> #REF! | D23: =IF(E23<>"",D22+0.01,"") | H23: =IF(E23<>"","Ja","") | Q23: =ROUND(Q22+0.01,2) -> #REF! | R23: =V5 -> 0 | S23: =VLOOKUP(Q23,'Stap 2 - Bureaustudie'!$A$9:$D$44,1,FALSE) -> #REF! | T23: =IF(U23<>"",T22+0.01,"") | X23: =IF(U23<>"","Ja","") | AG23: =ROUND(AG22+0.01,2) -> #REF! | AH23: =AL5 -> 0 | AI23: =VLOOKUP(AG23,'Stap 2 - Bureaustudie'!$A$9:$D$44,1,FALSE) -> #REF! | AJ23: =IF(AK23<>"",AJ22+0.01,"") | AN23: =IF(AK23<>"","Ja","") | AW23: =ROUND(AW22+0.01,2) -> #REF! | AX23: =BB5 -> 0 | AY23: =VLOOKUP(AW23,'Stap 2 - Bureaustudie'!$A$9:$D$44,1,FALSE) -> #REF! | AZ23: =IF(BA23<>"",AZ22+0.01,"") | BD23: =IF(BA23<>"","Ja","")
B24: =F5 -> -1 | D24: =IF(E24<>"",D23+0.01,"") | H24: =IF(E24<>"","Ja","") | O24: Grondwaterstand in m t.o.v. N.A.P | R24: =V5 -> 0 | T24: =IF(U24<>"",T23+0.01,"") | X24: =IF(U24<>"","Ja","") | AE24: Grondwaterstand in m t.o.v. N.A.P | AH24: =AL5 -> 0 | AJ24: =IF(AK24<>"",AJ23+0.01,"") | AN24: =IF(AK24<>"","Ja","") | AU24: Grondwaterstand in m t.o.v. N.A.P | AX24: =BB5 -> 0 | AZ24: =IF(BA24<>"",AZ23+0.01,"") | BD24: =IF(BA24<>"","Ja","") | BK24: Grondwaterstand in m t.o.v. N.A.P
B25: =F5 -> -1 | D25: =IF(E25<>"",D24+0.01,"") | H25: =IF(E25<>"","Ja","") | R25: =V5 -> 0 | T25: =IF(U25<>"",T24+0.01,"") | X25: =IF(U25<>"","Ja","") | AH25: =AL5 -> 0 | AJ25: =IF(AK25<>"",AJ24+0.01,"") | AN25: =IF(AK25<>"","Ja","") | AX25: =BB5 -> 0 | AZ25: =IF(BA25<>"",AZ24+0.01,"") | BD25: =IF(BA25<>"","Ja","")
D26: Eisen proefsleuf | G26: Doel proefsleuf | J26: Opmerkingen in het veld | T26: Eisen proefsleuf | W26: Doel proefsleuf | Z26: Opmerkingen in het veld | AJ26: Eisen proefsleuf | AM26: Doel proefsleuf | AP26: Opmerkingen in het veld | AZ26: Eisen proefsleuf | BC26: Doel proefsleuf | BF26: Opmerkingen in het veld
D27: =IF(OFFSET('Stap 1 - Aanvraag Deelopdracht '!$A$15,0,O1)=TRUE, 'Stap 1 - Aanvraag Deelopdracht '!$A$15, "") & "; " & IF(OFFSET('Stap 1 - Aanvraag Deelopdracht '!$A$16,0,O1)=TRUE, 'Stap 1 - Aanvraag Deelopdracht '!$A$16, "") & "; " & IF(OFFSET('Stap 1 - Aanvraag Deelopdracht '!$A$17,0,O1)=TRUE, 'Stap 1 - Aanvraag Deelopdracht '!$A$17, "") & "; " & IF(OFFSET('Stap 1 - Aanvraag Deelopdracht '!$A$18,0,O1)=TRUE, 'Stap 1 - Aanvraag Deelopdracht '!$A$18, "") & "; " -> Vaststellen grondslag; Grondwaterstand bepalen; Aanwezigheid toezichthouder benodigd; Aanwezigheid (ass) projectleider benodigd; | G27: =IF(OFFSET('Stap 1 - Aanvraag Deelopdracht '!$A$20,0,O1)=TRUE, 'Stap 1 - Aanvraag Deelopdracht '!$A$20, "") & "; " & IF(OFFSET('Stap 1 - Aanvraag Deelopdracht '!$A$21,0,O1)=TRUE, 'Stap 1 - Aanvraag Deelopdracht '!$A$21, "") & "; " & IF(OFFSET('Stap 1 - Aanvraag Deelopdracht '!$A$22,0,O1)=TRUE, 'Stap 1 - Aanvraag Deelopdracht '!$A$22, "") & "; " & IF(OFFSET('Stap 1 - Aanvraag Deelopdracht '!$A$23,0,O1)=TRUE, 'Stap 1 - Aanvraag Deelopdracht '!$A$23, "") & "; " & IF(OFFSET('Stap 1 - Aanvraag Deelopdracht '!$A$24,0,O1)=TRUE,'Stap 1 - Aanvraag Deelopdracht '!$A$24, "") -> Aanleg riolering; Ophoging / dekking bepalen; ; ; | T27: =IF(OFFSET('Stap 1 - Aanvraag Deelopdracht '!$A$15,0,AE1)=TRUE, 'Stap 1 - Aanvraag Deelopdracht '!$A$15, "") & "; " & IF(OFFSET('Stap 1 - Aanvraag Deelopdracht '!$A$16,0,AE1)=TRUE, 'Stap 1 - Aanvraag Deelopdracht '!$A$16, "") & "; " & IF(OFFSET('Stap 1 - Aanvraag Deelopdracht '!$A$17,0,AE1)=TRUE, 'Stap 1 - Aanvraag Deelopdracht '!$A$17, "") & "; " & IF(OFFSET('Stap 1 - Aanvraag Deelopdracht '!$A$18,0,AE1)=TRUE, 'Stap 1 - Aanvraag Deelopdracht '!$A$18, "") & "; " -> ; ; ; ; | W27: =IF(OFFSET('Stap 1 - Aanvraag Deelopdracht '!$A$20,0,AE1)=TRUE, 'Stap 1 - Aanvraag Deelopdracht '!$A$20, "") & "; " & IF(OFFSET('Stap 1 - Aanvraag Deelopdracht '!$A$21,0,AE1)=TRUE, 'Stap 1 - Aanvraag Deelopdracht '!$A$21, "") & "; " & IF(OFFSET('Stap 1 - Aanvraag Deelopdracht '!$A$22,0,AE1)=TRUE, 'Stap 1 - Aanvraag Deelopdracht '!$A$22, "") & "; " & IF(OFFSET('Stap 1 - Aanvraag Deelopdracht '!$A$23,0,AE1)=TRUE, 'Stap 1 - Aanvraag Deelopdracht '!$A$23, "") & "; " & IF(OFFSET('Stap 1 - Aanvraag Deelopdracht '!$A$24,0,AE1)=TRUE,'Stap 1 - Aanvraag Deelopdracht '!$A$24, "") -> ; ; ; ; | AJ27: =IF(OFFSET('Stap 1 - Aanvraag Deelopdracht '!$A$15,0,AU1)=TRUE, 'Stap 1 - Aanvraag Deelopdracht '!$A$15, "") & "; " & IF(OFFSET('Stap 1 - Aanvraag Deelopdracht '!$A$16,0,AU1)=TRUE, 'Stap 1 - Aanvraag Deelopdracht '!$A$16, "") & "; " & IF(OFFSET('Stap 1 - Aanvraag Deelopdracht '!$A$17,0,AU1)=TRUE, 'Stap 1 - Aanvraag Deelopdracht '!$A$17, "") & "; " & IF(OFFSET('Stap 1 - Aanvraag Deelopdracht '!$A$18,0,AU1)=TRUE, 'Stap 1 - Aanvraag Deelopdracht '!$A$18, "") & "; " -> #VALUE! | AM27: =IF(OFFSET('Stap 1 - Aanvraag Deelopdracht '!$A$20,0,AU1)=TRUE, 'Stap 1 - Aanvraag Deelopdracht '!$A$20, "") & "; " & IF(OFFSET('Stap 1 - Aanvraag Deelopdracht '!$A$21,0,AU1)=TRUE, 'Stap 1 - Aanvraag Deelopdracht '!$A$21, "") & "; " & IF(OFFSET('Stap 1 - Aanvraag Deelopdracht '!$A$22,0,AU1)=TRUE, 'Stap 1 - Aanvraag Deelopdracht '!$A$22, "") & "; " & IF(OFFSET('Stap 1 - Aanvraag Deelopdracht '!$A$23,0,AU1)=TRUE, 'Stap 1 - Aanvraag Deelopdracht '!$A$23, "") & "; " & IF(OFFSET('Stap 1 - Aanvraag Deelopdracht '!$A$24,0,AU1)=TRUE,'Stap 1 - Aanvraag Deelopdracht '!$A$24, "") -> #VALUE! | AZ27: =IF(OFFSET('Stap 1 - Aanvraag Deelopdracht '!$A$15,0,BK1)=TRUE, 'Stap 1 - Aanvraag Deelopdracht '!$A$15, "") & "; " & IF(OFFSET('Stap 1 - Aanvraag Deelopdracht '!$A$16,0,BK1)=TRUE, 'Stap 1 - Aanvraag Deelopdracht '!$A$16, "") & "; " & IF(OFFSET('Stap 1 - Aanvraag Deelopdracht '!$A$17,0,BK1)=TRUE, 'Stap 1 - Aanvraag Deelopdracht '!$A$17, "") & "; " & IF(OFFSET('Stap 1 - Aanvraag Deelopdracht '!$A$18,0,BK1)=TRUE, 'Stap 1 - Aanvraag Deelopdracht '!$A$18, "") & "; " -> #VALUE! | BC27: =IF(OFFSET('Stap 1 - Aanvraag Deelopdracht '!$A$20,0,BK1)=TRUE, 'Stap 1 - Aanvraag Deelopdracht '!$A$20, "") & "; " & IF(OFFSET('Stap 1 - Aanvraag Deelopdracht '!$A$21,0,BK1)=TRUE, 'Stap 1 - Aanvraag Deelopdracht '!$A$21, "") & "; " & IF(OFFSET('Stap 1 - Aanvraag Deelopdracht '!$A$22,0,BK1)=TRUE, 'Stap 1 - Aanvraag Deelopdracht '!$A$22, "") & "; " & IF(OFFSET('Stap 1 - Aanvraag Deelopdracht '!$A$23,0,BK1)=TRUE, 'Stap 1 - Aanvraag Deelopdracht '!$A$23, "") & "; " & IF(OFFSET('Stap 1 - Aanvraag Deelopdracht '!$A$24,0,BK1)=TRUE,'Stap 1 - Aanvraag Deelopdracht '!$A$24, "") -> #VALUE!
D31: Opmerkingen vanuit kantoor | J31: Contactgegevens gemeente Gouda [Naam | Telefoon] | T31: Opmerkingen vanuit kantoor | Z31: Contactgegevens gemeente Gouda [Naam | Telefoon] | AJ31: Opmerkingen vanuit kantoor | AP31: Contactgegevens gemeente Gouda [Naam | Telefoon] | AZ31: Opmerkingen vanuit kantoor | BF31: Contactgegevens gemeente Gouda [Naam | Telefoon]
D32: =OFFSET('Stap 1 - Aanvraag Deelopdracht '!$A$25,0,O1) -> Indien gasleiding niet aangetroffen, overleg met (jun) Projectleider. | J32: Projectleider | K32: =IF('Stap 1 - Aanvraag Deelopdracht '!$B$31=0,"",'Stap 1 - Aanvraag Deelopdracht '!$B$31) -> Persoon 1 | N32: =IF('Stap 1 - Aanvraag Deelopdracht '!$D$31=0,"",'Stap 1 - Aanvraag Deelopdracht '!$D$31) -> 06-00000001 | T32: =OFFSET('Stap 1 - Aanvraag Deelopdracht '!$A$25,0,AE1) -> Geen opmerkingen | Z32: Projectleider | AA32: =IF('Stap 1 - Aanvraag Deelopdracht '!$B$31=0,"",'Stap 1 - Aanvraag Deelopdracht '!$B$31) -> Persoon 1 | AD32: =IF('Stap 1 - Aanvraag Deelopdracht '!$D$31=0,"",'Stap 1 - Aanvraag Deelopdracht '!$D$31) -> 06-00000001 | AJ32: =OFFSET('Stap 1 - Aanvraag Deelopdracht '!$A$25,0,AU1) -> #VALUE! | AP32: Projectleider | AQ32: =IF('Stap 1 - Aanvraag Deelopdracht '!$B$31=0,"",'Stap 1 - Aanvraag Deelopdracht '!$B$31) -> Persoon 1 | AT32: =IF('Stap 1 - Aanvraag Deelopdracht '!$D$31=0,"",'Stap 1 - Aanvraag Deelopdracht '!$D$31) -> 06-00000001 | AZ32: =OFFSET('Stap 1 - Aanvraag Deelopdracht '!$A$25,0,BK1) -> #VALUE! | BF32: Projectleider | BG32: =IF('Stap 1 - Aanvraag Deelopdracht '!$B$31=0,"",'Stap 1 - Aanvraag Deelopdracht '!$B$31) -> Persoon 1 | BJ32: =IF('Stap 1 - Aanvraag Deelopdracht '!$D$31=0,"",'Stap 1 - Aanvraag Deelopdracht '!$D$31) -> 06-00000001
J33: Jun-projectleider | K33: =IF('Stap 1 - Aanvraag Deelopdracht '!$B$32=0,"",'Stap 1 - Aanvraag Deelopdracht '!$B$32) -> Persoon 2 | N33: =IF('Stap 1 - Aanvraag Deelopdracht '!$D$32=0,"",'Stap 1 - Aanvraag Deelopdracht '!$D$32) -> 06-00000002 | Z33: Jun-projectleider | AA33: =IF('Stap 1 - Aanvraag Deelopdracht '!$B$32=0,"",'Stap 1 - Aanvraag Deelopdracht '!$B$32) -> Persoon 2 | AD33: =IF('Stap 1 - Aanvraag Deelopdracht '!$D$32=0,"",'Stap 1 - Aanvraag Deelopdracht '!$D$32) -> 06-00000002 | AP33: Jun-projectleider | AQ33: =IF('Stap 1 - Aanvraag Deelopdracht '!$B$32=0,"",'Stap 1 - Aanvraag Deelopdracht '!$B$32) -> Persoon 2 | AT33: =IF('Stap 1 - Aanvraag Deelopdracht '!$D$32=0,"",'Stap 1 - Aanvraag Deelopdracht '!$D$32) -> 06-00000002 | BF33: Jun-projectleider | BG33: =IF('Stap 1 - Aanvraag Deelopdracht '!$B$32=0,"",'Stap 1 - Aanvraag Deelopdracht '!$B$32) -> Persoon 2 | BJ33: =IF('Stap 1 - Aanvraag Deelopdracht '!$D$32=0,"",'Stap 1 - Aanvraag Deelopdracht '!$D$32) -> 06-00000002
J34: Toezichthouder | K34: =IF('Stap 1 - Aanvraag Deelopdracht '!$B$33=0,"",'Stap 1 - Aanvraag Deelopdracht '!$B$33) -> Persoon 3 | N34: =IF('Stap 1 - Aanvraag Deelopdracht '!$D$33=0,"",'Stap 1 - Aanvraag Deelopdracht '!$D$33) -> 06-00000003 | Z34: Toezichthouder | AA34: =IF('Stap 1 - Aanvraag Deelopdracht '!$B$33=0,"",'Stap 1 - Aanvraag Deelopdracht '!$B$33) -> Persoon 3 | AD34: =IF('Stap 1 - Aanvraag Deelopdracht '!$D$33=0,"",'Stap 1 - Aanvraag Deelopdracht '!$D$33) -> 06-00000003 | AP34: Toezichthouder | AQ34: =IF('Stap 1 - Aanvraag Deelopdracht '!$B$33=0,"",'Stap 1 - Aanvraag Deelopdracht '!$B$33) -> Persoon 3 | AT34: =IF('Stap 1 - Aanvraag Deelopdracht '!$D$33=0,"",'Stap 1 - Aanvraag Deelopdracht '!$D$33) -> 06-00000003 | BF34: Toezichthouder | BG34: =IF('Stap 1 - Aanvraag Deelopdracht '!$B$33=0,"",'Stap 1 - Aanvraag Deelopdracht '!$B$33) -> Persoon 3 | BJ34: =IF('Stap 1 - Aanvraag Deelopdracht '!$D$33=0,"",'Stap 1 - Aanvraag Deelopdracht '!$D$33) -> 06-00000003
D35: =IF(OFFSET('Stap 1 - Aanvraag Deelopdracht '!$A$17,0,O1)=TRUE, 'Stap 1 - Aanvraag Deelopdracht '!$A$17, "") & " " & IF(OFFSET('Stap 1 - Aanvraag Deelopdracht '!$A$18,0,O1)=TRUE, 'Stap 1 - Aanvraag Deelopdracht '!$A$18, "") -> Aanwezigheid toezichthouder benodigd Aanwezigheid (ass) projectleider benodigd | J35: Directievoerder | K35: =IF('Stap 1 - Aanvraag Deelopdracht '!$B$34=0,"",'Stap 1 - Aanvraag Deelopdracht '!$B$34) -> Persoon 4 | N35: =IF('Stap 1 - Aanvraag Deelopdracht '!$D$34=0,"",'Stap 1 - Aanvraag Deelopdracht '!$D$34) -> 06-00000004 | T35: =IF(OFFSET('Stap 1 - Aanvraag Deelopdracht '!$A$17,0,AE1)=TRUE, 'Stap 1 - Aanvraag Deelopdracht '!$A$17, "") & " " & IF(OFFSET('Stap 1 - Aanvraag Deelopdracht '!$A$18,0,AE1)=TRUE, 'Stap 1 - Aanvraag Deelopdracht '!$A$18, "") | Z35: Directievoerder | AA35: =IF('Stap 1 - Aanvraag Deelopdracht '!$B$34=0,"",'Stap 1 - Aanvraag Deelopdracht '!$B$34) -> Persoon 4 | AD35: =IF('Stap 1 - Aanvraag Deelopdracht '!$D$34=0,"",'Stap 1 - Aanvraag Deelopdracht '!$D$34) -> 06-00000004 | AJ35: =IF(OFFSET('Stap 1 - Aanvraag Deelopdracht '!$A$17,0,AU1)=TRUE, 'Stap 1 - Aanvraag Deelopdracht '!$A$17, "") & " " & IF(OFFSET('Stap 1 - Aanvraag Deelopdracht '!$A$18,0,AU1)=TRUE, 'Stap 1 - Aanvraag Deelopdracht '!$A$18, "") -> #VALUE! | AP35: Directievoerder | AQ35: =IF('Stap 1 - Aanvraag Deelopdracht '!$B$34=0,"",'Stap 1 - Aanvraag Deelopdracht '!$B$34) -> Persoon 4 | AT35: =IF('Stap 1 - Aanvraag Deelopdracht '!$D$34=0,"",'Stap 1 - Aanvraag Deelopdracht '!$D$34) -> 06-00000004 | AZ35: =IF(OFFSET('Stap 1 - Aanvraag Deelopdracht '!$A$17,0,BK1)=TRUE, 'Stap 1 - Aanvraag Deelopdracht '!$A$17, "") & " " & IF(OFFSET('Stap 1 - Aanvraag Deelopdracht '!$A$18,0,BK1)=TRUE, 'Stap 1 - Aanvraag Deelopdracht '!$A$18, "") -> #VALUE! | BF35: Directievoerder | BG35: =IF('Stap 1 - Aanvraag Deelopdracht '!$B$34=0,"",'Stap 1 - Aanvraag Deelopdracht '!$B$34) -> Persoon 4 | BJ35: =IF('Stap 1 - Aanvraag Deelopdracht '!$D$34=0,"",'Stap 1 - Aanvraag Deelopdracht '!$D$34) -> 06-00000004
A36: =Projectgegevens!D71 & " " & Projectgegevens!D72 | E36: =IF(O36="","NIET PRINTEN!","") | K36: Aanvraag | L36: Uitvoering | O36: ='Stap 1 - Aanvraag Deelopdracht '!$C$10 -> 2 | Q36: =Projectgegevens!T71 & " " & Projectgegevens!T72 | U36: =IF(AE36="","NIET PRINTEN!","") | AA36: Aanvraag | AB36: Uitvoering | AE36: ='Stap 1 - Aanvraag Deelopdracht '!$M$10 -> 12 | AG36: =Projectgegevens!AJ71 & " " & Projectgegevens!AJ72 | AK36: =IF(AU36="","NIET PRINTEN!","") -> NIET PRINTEN! | AQ36: Aanvraag | AR36: Uitvoering | AU36: ='Stap 1 - Aanvraag Deelopdracht '!$W$10 | AW36: =Projectgegevens!AZ71 & " " & Projectgegevens!AZ72 | BA36: =IF(BK36="","NIET PRINTEN!","") -> NIET PRINTEN! | BG36: Aanvraag | BH36: Uitvoering | BK36: ='Stap 1 - Aanvraag Deelopdracht '!$AG$10
E37: =IF(O36="","",Projectgegevens!$B$37) -> Project | F37: =Projectgegevens!$D$37 -> Burgemeester Goudalaan | I37: =IF(O36="","","Ontgravingsdiepte [in m]") -> Ontgravingsdiepte [in m] | K37: =OFFSET('Stap 1 - Aanvraag Deelopdracht '!$A$11,0,O36) -> 1 | U37: =IF(AE36="","",Projectgegevens!$B$37) -> Project | V37: =Projectgegevens!$D$37 -> Burgemeester Goudalaan | Y37: =IF(AE36="","","Ontgravingsdiepte [in m]") -> Ontgravingsdiepte [in m] | AA37: =OFFSET('Stap 1 - Aanvraag Deelopdracht '!$A$11,0,AE36) -> 0 | AK37: =IF(AU36="","",Projectgegevens!$B$37) | AL37: =Projectgegevens!$D$37 -> Burgemeester Goudalaan | AO37: =IF(AU36="","","Ontgravingsdiepte [in m]") | AQ37: =OFFSET('Stap 1 - Aanvraag Deelopdracht '!$A$11,0,AU36) -> #VALUE! | BA37: =IF(BK36="","",Projectgegevens!$B$37) | BB37: =Projectgegevens!$D$37 -> Burgemeester Goudalaan | BE37: =IF(BK36="","","Ontgravingsdiepte [in m]") | BG37: =OFFSET('Stap 1 - Aanvraag Deelopdracht '!$A$11,0,BK36) -> #VALUE!
E38: =IF(O36="","",Projectgegevens!$B$36) -> Projectnr. | F38: =Projectgegevens!$D$36 -> 101887 | I38: =IF(O36="","","Lengte [in m]") -> Lengte [in m] | K38: =OFFSET('Stap 1 - Aanvraag Deelopdracht '!$A$12,0,O36) -> 2 | U38: =IF(AE36="","",Projectgegevens!$B$36) -> Projectnr. | V38: =Projectgegevens!$D$36 -> 101887 | Y38: =IF(AE36="","","Lengte [in m]") -> Lengte [in m] | AA38: =OFFSET('Stap 1 - Aanvraag Deelopdracht '!$A$12,0,AE36) -> 0 | AK38: =IF(AU36="","",Projectgegevens!$B$36) | AL38: =Projectgegevens!$D$36 -> 101887 | AO38: =IF(AU36="","","Lengte [in m]") | AQ38: =OFFSET('Stap 1 - Aanvraag Deelopdracht '!$A$12,0,AU36) -> #VALUE! | BA38: =IF(BK36="","",Projectgegevens!$B$36) | BB38: =Projectgegevens!$D$36 -> 101887 | BE38: =IF(BK36="","","Lengte [in m]") | BG38: =OFFSET('Stap 1 - Aanvraag Deelopdracht '!$A$12,0,BK36) -> #VALUE!
E39: =IF(O36="","","Datum proefsleuf") -> Datum proefsleuf | I39: =IF(O36="","","Breedte [in m]") -> Breedte [in m] | K39: =OFFSET('Stap 1 - Aanvraag Deelopdracht '!$A$13,0,O36) -> 0.6 | U39: =IF(AE36="","","Datum proefsleuf") -> Datum proefsleuf | Y39: =IF(AE36="","","Breedte [in m]") -> Breedte [in m] | AA39: =OFFSET('Stap 1 - Aanvraag Deelopdracht '!$A$13,0,AE36) -> 0 | AK39: =IF(AU36="","","Datum proefsleuf") | AO39: =IF(AU36="","","Breedte [in m]") | AQ39: =OFFSET('Stap 1 - Aanvraag Deelopdracht '!$A$13,0,AU36) -> #VALUE! | BA39: =IF(BK36="","","Datum proefsleuf") | BE39: =IF(BK36="","","Breedte [in m]") | BG39: =OFFSET('Stap 1 - Aanvraag Deelopdracht '!$A$13,0,BK36) -> #VALUE!
E40: =IF(O36="","","Maaiveld t.o.v. NAP [in m]") -> Maaiveld t.o.v. NAP [in m] | U40: =IF(AE36="","","Maaiveld t.o.v. NAP [in m]") -> Maaiveld t.o.v. NAP [in m] | AK40: =IF(AU36="","","Maaiveld t.o.v. NAP [in m]") | BA40: =IF(BK36="","","Maaiveld t.o.v. NAP [in m]")
E41: Te verwachten kabels en leidingen | U41: Te verwachten kabels en leidingen | AK41: Te verwachten kabels en leidingen | BA41: Te verwachten kabels en leidingen
D42: ID | E42: Type kabel/leiding | F42: Netbeheerder | G42: Eis Voorzorg | H42: Gevonden [Ja/Nee] | I42: Hoogte bovenkant t.o.v. N.A.P. [in m] | J42: Diameter of hoogte [in m] | K42: Afstand vanuit meetpunt [in m] | L42: Materiaal | M42: Kleur | O42: Grondslag bepalen | T42: ID | U42: Type kabel/leiding | V42: Netbeheerder | W42: Eis Voorzorg | X42: Gevonden [Ja/Nee] | Y42: Hoogte bovenkant t.o.v. N.A.P. [in m] | Z42: Diameter of hoogte [in m] | AA42: Afstand vanuit meetpunt [in m] | AB42: Materiaal | AC42: Kleur | AE42: Grondslag bepalen | AJ42: ID | AK42: Type kabel/leiding | AL42: Netbeheerder | AM42: Eis Voorzorg | AN42: Gevonden [Ja/Nee] | AO42: Hoogte bovenkant t.o.v. N.A.P. [in m] | AP42: Diameter of hoogte [in m] | AQ42: Afstand vanuit meetpunt [in m] | AR42: Materiaal | AS42: Kleur | AU42: Grondslag bepalen | AZ42: ID | BA42: Type kabel/leiding | BB42: Netbeheerder | BC42: Eis Voorzorg | BD42: Gevonden [Ja/Nee] | BE42: Hoogte bovenkant t.o.v. N.A.P. [in m] | BF42: Diameter of hoogte [in m] | BG42: Afstand vanuit meetpunt [in m] | BH42: Materiaal | BI42: Kleur | BK42: Grondslag bepalen
A43: =ROUND(O36+0.01,2) -> 2.01 | B43: =F40 -> 0 | C43: =VLOOKUP(A43,'Stap 2 - Bureaustudie'!$A$9:$D$44,1,FALSE) -> 2.01 | D43: =IFERROR(C43,"") -> 2.01 | E43: =IFERROR(VLOOKUP(D43,'Stap 2 - Bureaustudie'!$A$9:$E$300,3,FALSE),"") -> Datatransport | F43: =IFERROR(VLOOKUP(D43,'Stap 2 - Bureaustudie'!$A$9:$E$300,4,FALSE),"") -> Deltafiber Ned B.V. | G43: =IFERROR(VLOOKUP(D43,'Stap 2 - Bureaustudie'!$A$9:$E$300,5,FALSE),"") -> Nee | O43: Diepte t.o.v. MV [in m] | P43: Grondsoort/ materiaal | Q43: =ROUND(AE36+0.01,2) -> 12.01 | R43: =V40 -> 0 | S43: =VLOOKUP(Q43,'Stap 2 - Bureaustudie'!$A$9:$D$44,1,FALSE) -> #N/A | T43: =IFERROR(S43,"") | U43: =IFERROR(VLOOKUP(T43,'Stap 2 - Bureaustudie'!$A$9:$E$300,3,FALSE),"") | V43: =IFERROR(VLOOKUP(T43,'Stap 2 - Bureaustudie'!$A$9:$E$300,4,FALSE),"") | W43: =IFERROR(VLOOKUP(T43,'Stap 2 - Bureaustudie'!$A$9:$E$300,5,FALSE),"") | AE43: Diepte t.o.v. MV [in m] | AF43: Grondsoort/ materiaal | AG43: =ROUND(AU36+0.01,2) -> #VALUE! | AH43: =AL40 -> 0 | AI43: =VLOOKUP(AG43,'Stap 2 - Bureaustudie'!$A$9:$D$44,1,FALSE) -> #VALUE! | AJ43: =IFERROR(AI43,"") | AK43: =IFERROR(VLOOKUP(AJ43,'Stap 2 - Bureaustudie'!$A$9:$E$300,3,FALSE),"") | AL43: =IFERROR(VLOOKUP(AJ43,'Stap 2 - Bureaustudie'!$A$9:$E$300,4,FALSE),"") | AM43: =IFERROR(VLOOKUP(AJ43,'Stap 2 - Bureaustudie'!$A$9:$E$300,5,FALSE),"") | AU43: Diepte t.o.v. MV [in m] | AV43: Grondsoort/ materiaal | AW43: =ROUND(BK36+0.01,2) -> #VALUE! | AX43: =BB40 -> 0 | AY43: =VLOOKUP(AW43,'Stap 2 - Bureaustudie'!$A$9:$D$44,1,FALSE) -> #VALUE! | AZ43: =IFERROR(AY43,"") | BA43: =IFERROR(VLOOKUP(AZ43,'Stap 2 - Bureaustudie'!$A$9:$E$300,3,FALSE),"") | BB43: =IFERROR(VLOOKUP(AZ43,'Stap 2 - Bureaustudie'!$A$9:$E$300,4,FALSE),"") | BC43: =IFERROR(VLOOKUP(AZ43,'Stap 2 - Bureaustudie'!$A$9:$E$300,5,FALSE),"") | BK43: Diepte t.o.v. MV [in m] | BL43: Grondsoort/ materiaal
A44: =ROUND(A43+0.01,2) -> 2.02 | B44: =F40 -> 0 | C44: =VLOOKUP(A44,'Stap 2 - Bureaustudie'!$A$9:$D$44,1,FALSE) -> #N/A | D44: =IFERROR(C44,"") | E44: =IFERROR(VLOOKUP(D44,'Stap 2 - Bureaustudie'!$A$9:$E$300,3,FALSE),"") | F44: =IFERROR(VLOOKUP(D44,'Stap 2 - Bureaustudie'!$A$9:$E$300,4,FALSE),"") | G44: =IFERROR(VLOOKUP(D44,'Stap 2 - Bureaustudie'!$A$9:$E$300,5,FALSE),"") | Q44: =ROUND(Q43+0.01,2) -> 12.02 | R44: =V40 -> 0 | S44: =VLOOKUP(Q44,'Stap 2 - Bureaustudie'!$A$9:$D$44,1,FALSE) -> #N/A | T44: =IFERROR(S44,"") | U44: =IFERROR(VLOOKUP(T44,'Stap 2 - Bureaustudie'!$A$9:$E$300,3,FALSE),"") | V44: =IFERROR(VLOOKUP(T44,'Stap 2 - Bureaustudie'!$A$9:$E$300,4,FALSE),"") | W44: =IFERROR(VLOOKUP(T44,'Stap 2 - Bureaustudie'!$A$9:$E$300,5,FALSE),"") | AG44: =ROUND(AG43+0.01,2) -> #VALUE! | AH44: =AL40 -> 0 | AI44: =VLOOKUP(AG44,'Stap 2 - Bureaustudie'!$A$9:$D$44,1,FALSE) -> #VALUE! | AJ44: =IFERROR(AI44,"") | AK44: =IFERROR(VLOOKUP(AJ44,'Stap 2 - Bureaustudie'!$A$9:$E$300,3,FALSE),"") | AL44: =IFERROR(VLOOKUP(AJ44,'Stap 2 - Bureaustudie'!$A$9:$E$300,4,FALSE),"") | AM44: =IFERROR(VLOOKUP(AJ44,'Stap 2 - Bureaustudie'!$A$9:$E$300,5,FALSE),"") | AW44: =ROUND(AW43+0.01,2) -> #VALUE! | AX44: =BB40 -> 0 | AY44: =VLOOKUP(AW44,'Stap 2 - Bureaustudie'!$A$9:$D$44,1,FALSE) -> #VALUE! | AZ44: =IFERROR(AY44,"") | BA44: =IFERROR(VLOOKUP(AZ44,'Stap 2 - Bureaustudie'!$A$9:$E$300,3,FALSE),"") | BB44: =IFERROR(VLOOKUP(AZ44,'Stap 2 - Bureaustudie'!$A$9:$E$300,4,FALSE),"") | BC44: =IFERROR(VLOOKUP(AZ44,'Stap 2 - Bureaustudie'!$A$9:$E$300,5,FALSE),"")
A45: =ROUND(A44+0.01,2) -> 2.03 | B45: =F40 -> 0 | C45: =VLOOKUP(A45,'Stap 2 - Bureaustudie'!$A$9:$D$44,1,FALSE) -> #N/A | D45: =IFERROR(C45,"") | E45: =IFERROR(VLOOKUP(D45,'Stap 2 - Bureaustudie'!$A$9:$E$300,3,FALSE),"") | F45: =IFERROR(VLOOKUP(D45,'Stap 2 - Bureaustudie'!$A$9:$E$300,4,FALSE),"") | G45: =IFERROR(VLOOKUP(D45,'Stap 2 - Bureaustudie'!$A$9:$E$300,5,FALSE),"") | Q45: =ROUND(Q44+0.01,2) -> 12.03 | R45: =V40 -> 0 | S45: =VLOOKUP(Q45,'Stap 2 - Bureaustudie'!$A$9:$D$44,1,FALSE) -> #N/A | T45: =IFERROR(S45,"") | U45: =IFERROR(VLOOKUP(T45,'Stap 2 - Bureaustudie'!$A$9:$E$300,3,FALSE),"") | V45: =IFERROR(VLOOKUP(T45,'Stap 2 - Bureaustudie'!$A$9:$E$300,4,FALSE),"") | W45: =IFERROR(VLOOKUP(T45,'Stap 2 - Bureaustudie'!$A$9:$E$300,5,FALSE),"") | AG45: =ROUND(AG44+0.01,2) -> #VALUE! | AH45: =AL40 -> 0 | AI45: =VLOOKUP(AG45,'Stap 2 - Bureaustudie'!$A$9:$D$44,1,FALSE) -> #VALUE! | AJ45: =IFERROR(AI45,"") | AK45: =IFERROR(VLOOKUP(AJ45,'Stap 2 - Bureaustudie'!$A$9:$E$300,3,FALSE),"") | AL45: =IFERROR(VLOOKUP(AJ45,'Stap 2 - Bureaustudie'!$A$9:$E$300,4,FALSE),"") | AM45: =IFERROR(VLOOKUP(AJ45,'Stap 2 - Bureaustudie'!$A$9:$E$300,5,FALSE),"") | AW45: =ROUND(AW44+0.01,2) -> #VALUE! | AX45: =BB40 -> 0 | AY45: =VLOOKUP(AW45,'Stap 2 - Bureaustudie'!$A$9:$D$44,1,FALSE) -> #VALUE! | AZ45: =IFERROR(AY45,"") | BA45: =IFERROR(VLOOKUP(AZ45,'Stap 2 - Bureaustudie'!$A$9:$E$300,3,FALSE),"") | BB45: =IFERROR(VLOOKUP(AZ45,'Stap 2 - Bureaustudie'!$A$9:$E$300,4,FALSE),"") | BC45: =IFERROR(VLOOKUP(AZ45,'Stap 2 - Bureaustudie'!$A$9:$E$300,5,FALSE),"")
A46: =ROUND(A45+0.01,2) -> 2.04 | B46: =F40 -> 0 | C46: =VLOOKUP(A46,'Stap 2 - Bureaustudie'!$A$9:$D$44,1,FALSE) -> #N/A | D46: =IFERROR(C46,"") | E46: =IFERROR(VLOOKUP(D46,'Stap 2 - Bureaustudie'!$A$9:$E$300,3,FALSE),"") | F46: =IFERROR(VLOOKUP(D46,'Stap 2 - Bureaustudie'!$A$9:$E$300,4,FALSE),"") | G46: =IFERROR(VLOOKUP(D46,'Stap 2 - Bureaustudie'!$A$9:$E$300,5,FALSE),"") | Q46: =ROUND(Q45+0.01,2) -> 12.04 | R46: =V40 -> 0 | S46: =VLOOKUP(Q46,'Stap 2 - Bureaustudie'!$A$9:$D$44,1,FALSE) -> #N/A | T46: =IFERROR(S46,"") | U46: =IFERROR(VLOOKUP(T46,'Stap 2 - Bureaustudie'!$A$9:$E$300,3,FALSE),"") | V46: =IFERROR(VLOOKUP(T46,'Stap 2 - Bureaustudie'!$A$9:$E$300,4,FALSE),"") | W46: =IFERROR(VLOOKUP(T46,'Stap 2 - Bureaustudie'!$A$9:$E$300,5,FALSE),"") | AG46: =ROUND(AG45+0.01,2) -> #VALUE! | AH46: =AL40 -> 0 | AI46: =VLOOKUP(AG46,'Stap 2 - Bureaustudie'!$A$9:$D$44,1,FALSE) -> #VALUE! | AJ46: =IFERROR(AI46,"") | AK46: =IFERROR(VLOOKUP(AJ46,'Stap 2 - Bureaustudie'!$A$9:$E$300,3,FALSE),"") | AL46: =IFERROR(VLOOKUP(AJ46,'Stap 2 - Bureaustudie'!$A$9:$E$300,4,FALSE),"") | AM46: =IFERROR(VLOOKUP(AJ46,'Stap 2 - Bureaustudie'!$A$9:$E$300,5,FALSE),"") | AW46: =ROUND(AW45+0.01,2) -> #VALUE! | AX46: =BB40 -> 0 | AY46: =VLOOKUP(AW46,'Stap 2 - Bureaustudie'!$A$9:$D$44,1,FALSE) -> #VALUE! | AZ46: =IFERROR(AY46,"") | BA46: =IFERROR(VLOOKUP(AZ46,'Stap 2 - Bureaustudie'!$A$9:$E$300,3,FALSE),"") | BB46: =IFERROR(VLOOKUP(AZ46,'Stap 2 - Bureaustudie'!$A$9:$E$300,4,FALSE),"") | BC46: =IFERROR(VLOOKUP(AZ46,'Stap 2 - Bureaustudie'!$A$9:$E$300,5,FALSE),"")
A47: =ROUND(A46+0.01,2) -> 2.05 | B47: =F40 -> 0 | C47: =VLOOKUP(A47,'Stap 2 - Bureaustudie'!$A$9:$D$44,1,FALSE) -> #N/A | D47: =IFERROR(C47,"") | E47: =IFERROR(VLOOKUP(D47,'Stap 2 - Bureaustudie'!$A$9:$E$300,3,FALSE),"") | F47: =IFERROR(VLOOKUP(D47,'Stap 2 - Bureaustudie'!$A$9:$E$300,4,FALSE),"") | G47: =IFERROR(VLOOKUP(D47,'Stap 2 - Bureaustudie'!$A$9:$E$300,5,FALSE),"") | Q47: =ROUND(Q46+0.01,2) -> 12.05 | R47: =V40 -> 0 | S47: =VLOOKUP(Q47,'Stap 2 - Bureaustudie'!$A$9:$D$44,1,FALSE) -> #N/A | T47: =IFERROR(S47,"") | U47: =IFERROR(VLOOKUP(T47,'Stap 2 - Bureaustudie'!$A$9:$E$300,3,FALSE),"") | V47: =IFERROR(VLOOKUP(T47,'Stap 2 - Bureaustudie'!$A$9:$E$300,4,FALSE),"") | W47: =IFERROR(VLOOKUP(T47,'Stap 2 - Bureaustudie'!$A$9:$E$300,5,FALSE),"") | AG47: =ROUND(AG46+0.01,2) -> #VALUE! | AH47: =AL40 -> 0 | AI47: =VLOOKUP(AG47,'Stap 2 - Bureaustudie'!$A$9:$D$44,1,FALSE) -> #VALUE! | AJ47: =IFERROR(AI47,"") | AK47: =IFERROR(VLOOKUP(AJ47,'Stap 2 - Bureaustudie'!$A$9:$E$300,3,FALSE),"") | AL47: =IFERROR(VLOOKUP(AJ47,'Stap 2 - Bureaustudie'!$A$9:$E$300,4,FALSE),"") | AM47: =IFERROR(VLOOKUP(AJ47,'Stap 2 - Bureaustudie'!$A$9:$E$300,5,FALSE),"") | AW47: =ROUND(AW46+0.01,2) -> #VALUE! | AX47: =BB40 -> 0 | AY47: =VLOOKUP(AW47,'Stap 2 - Bureaustudie'!$A$9:$D$44,1,FALSE) -> #VALUE! | AZ47: =IFERROR(AY47,"") | BA47: =IFERROR(VLOOKUP(AZ47,'Stap 2 - Bureaustudie'!$A$9:$E$300,3,FALSE),"") | BB47: =IFERROR(VLOOKUP(AZ47,'Stap 2 - Bureaustudie'!$A$9:$E$300,4,FALSE),"") | BC47: =IFERROR(VLOOKUP(AZ47,'Stap 2 - Bureaustudie'!$A$9:$E$300,5,FALSE),"")
A48: =ROUND(A47+0.01,2) -> 2.06 | B48: =F40 -> 0 | C48: =VLOOKUP(A48,'Stap 2 - Bureaustudie'!$A$9:$D$44,1,FALSE) -> #N/A | D48: =IFERROR(C48,"") | E48: =IFERROR(VLOOKUP(D48,'Stap 2 - Bureaustudie'!$A$9:$E$300,3,FALSE),"") | F48: =IFERROR(VLOOKUP(D48,'Stap 2 - Bureaustudie'!$A$9:$E$300,4,FALSE),"") | G48: =IFERROR(VLOOKUP(D48,'Stap 2 - Bureaustudie'!$A$9:$E$300,5,FALSE),"") | Q48: =ROUND(Q47+0.01,2) -> 12.06 | R48: =V40 -> 0 | S48: =VLOOKUP(Q48,'Stap 2 - Bureaustudie'!$A$9:$D$44,1,FALSE) -> #N/A | T48: =IFERROR(S48,"") | U48: =IFERROR(VLOOKUP(T48,'Stap 2 - Bureaustudie'!$A$9:$E$300,3,FALSE),"") | V48: =IFERROR(VLOOKUP(T48,'Stap 2 - Bureaustudie'!$A$9:$E$300,4,FALSE),"") | W48: =IFERROR(VLOOKUP(T48,'Stap 2 - Bureaustudie'!$A$9:$E$300,5,FALSE),"") | AG48: =ROUND(AG47+0.01,2) -> #VALUE! | AH48: =AL40 -> 0 | AI48: =VLOOKUP(AG48,'Stap 2 - Bureaustudie'!$A$9:$D$44,1,FALSE) -> #VALUE! | AJ48: =IFERROR(AI48,"") | AK48: =IFERROR(VLOOKUP(AJ48,'Stap 2 - Bureaustudie'!$A$9:$E$300,3,FALSE),"") | AL48: =IFERROR(VLOOKUP(AJ48,'Stap 2 - Bureaustudie'!$A$9:$E$300,4,FALSE),"") | AM48: =IFERROR(VLOOKUP(AJ48,'Stap 2 - Bureaustudie'!$A$9:$E$300,5,FALSE),"") | AW48: =ROUND(AW47+0.01,2) -> #VALUE! | AX48: =BB40 -> 0 | AY48: =VLOOKUP(AW48,'Stap 2 - Bureaustudie'!$A$9:$D$44,1,FALSE) -> #VALUE! | AZ48: =IFERROR(AY48,"") | BA48: =IFERROR(VLOOKUP(AZ48,'Stap 2 - Bureaustudie'!$A$9:$E$300,3,FALSE),"") | BB48: =IFERROR(VLOOKUP(AZ48,'Stap 2 - Bureaustudie'!$A$9:$E$300,4,FALSE),"") | BC48: =IFERROR(VLOOKUP(AZ48,'Stap 2 - Bureaustudie'!$A$9:$E$300,5,FALSE),"")
A49: =ROUND(A48+0.01,2) -> 2.07 | B49: =F40 -> 0 | C49: =VLOOKUP(A49,'Stap 2 - Bureaustudie'!$A$9:$D$44,1,FALSE) -> #N/A | D49: =IFERROR(C49,"") | E49: =IFERROR(VLOOKUP(D49,'Stap 2 - Bureaustudie'!$A$9:$E$300,3,FALSE),"") | F49: =IFERROR(VLOOKUP(D49,'Stap 2 - Bureaustudie'!$A$9:$E$300,4,FALSE),"") | G49: =IFERROR(VLOOKUP(D49,'Stap 2 - Bureaustudie'!$A$9:$E$300,5,FALSE),"") | Q49: =ROUND(Q48+0.01,2) -> 12.07 | R49: =V40 -> 0 | S49: =VLOOKUP(Q49,'Stap 2 - Bureaustudie'!$A$9:$D$44,1,FALSE) -> #N/A | T49: =IFERROR(S49,"") | U49: =IFERROR(VLOOKUP(T49,'Stap 2 - Bureaustudie'!$A$9:$E$300,3,FALSE),"") | V49: =IFERROR(VLOOKUP(T49,'Stap 2 - Bureaustudie'!$A$9:$E$300,4,FALSE),"") | W49: =IFERROR(VLOOKUP(T49,'Stap 2 - Bureaustudie'!$A$9:$E$300,5,FALSE),"") | AG49: =ROUND(AG48+0.01,2) -> #VALUE! | AH49: =AL40 -> 0 | AI49: =VLOOKUP(AG49,'Stap 2 - Bureaustudie'!$A$9:$D$44,1,FALSE) -> #VALUE! | AJ49: =IFERROR(AI49,"") | AK49: =IFERROR(VLOOKUP(AJ49,'Stap 2 - Bureaustudie'!$A$9:$E$300,3,FALSE),"") | AL49: =IFERROR(VLOOKUP(AJ49,'Stap 2 - Bureaustudie'!$A$9:$E$300,4,FALSE),"") | AM49: =IFERROR(VLOOKUP(AJ49,'Stap 2 - Bureaustudie'!$A$9:$E$300,5,FALSE),"") | AW49: =ROUND(AW48+0.01,2) -> #VALUE! | AX49: =BB40 -> 0 | AY49: =VLOOKUP(AW49,'Stap 2 - Bureaustudie'!$A$9:$D$44,1,FALSE) -> #VALUE! | AZ49: =IFERROR(AY49,"") | BA49: =IFERROR(VLOOKUP(AZ49,'Stap 2 - Bureaustudie'!$A$9:$E$300,3,FALSE),"") | BB49: =IFERROR(VLOOKUP(AZ49,'Stap 2 - Bureaustudie'!$A$9:$E$300,4,FALSE),"") | BC49: =IFERROR(VLOOKUP(AZ49,'Stap 2 - Bureaustudie'!$A$9:$E$300,5,FALSE),"")
A50: =ROUND(A49+0.01,2) -> 2.08 | B50: =F40 -> 0 | C50: =VLOOKUP(A50,'Stap 2 - Bureaustudie'!$A$9:$D$44,1,FALSE) -> #N/A | D50: =IFERROR(C50,"") | E50: =IFERROR(VLOOKUP(D50,'Stap 2 - Bureaustudie'!$A$9:$E$300,3,FALSE),"") | F50: =IFERROR(VLOOKUP(D50,'Stap 2 - Bureaustudie'!$A$9:$E$300,4,FALSE),"") | G50: =IFERROR(VLOOKUP(D50,'Stap 2 - Bureaustudie'!$A$9:$E$300,5,FALSE),"") | Q50: =ROUND(Q49+0.01,2) -> 12.08 | R50: =V40 -> 0 | S50: =VLOOKUP(Q50,'Stap 2 - Bureaustudie'!$A$9:$D$44,1,FALSE) -> #N/A | T50: =IFERROR(S50,"") | U50: =IFERROR(VLOOKUP(T50,'Stap 2 - Bureaustudie'!$A$9:$E$300,3,FALSE),"") | V50: =IFERROR(VLOOKUP(T50,'Stap 2 - Bureaustudie'!$A$9:$E$300,4,FALSE),"") | W50: =IFERROR(VLOOKUP(T50,'Stap 2 - Bureaustudie'!$A$9:$E$300,5,FALSE),"") | AG50: =ROUND(AG49+0.01,2) -> #VALUE! | AH50: =AL40 -> 0 | AI50: =VLOOKUP(AG50,'Stap 2 - Bureaustudie'!$A$9:$D$44,1,FALSE) -> #VALUE! | AJ50: =IFERROR(AI50,"") | AK50: =IFERROR(VLOOKUP(AJ50,'Stap 2 - Bureaustudie'!$A$9:$E$300,3,FALSE),"") | AL50: =IFERROR(VLOOKUP(AJ50,'Stap 2 - Bureaustudie'!$A$9:$E$300,4,FALSE),"") | AM50: =IFERROR(VLOOKUP(AJ50,'Stap 2 - Bureaustudie'!$A$9:$E$300,5,FALSE),"") | AW50: =ROUND(AW49+0.01,2) -> #VALUE! | AX50: =BB40 -> 0 | AY50: =VLOOKUP(AW50,'Stap 2 - Bureaustudie'!$A$9:$D$44,1,FALSE) -> #VALUE! | AZ50: =IFERROR(AY50,"") | BA50: =IFERROR(VLOOKUP(AZ50,'Stap 2 - Bureaustudie'!$A$9:$E$300,3,FALSE),"") | BB50: =IFERROR(VLOOKUP(AZ50,'Stap 2 - Bureaustudie'!$A$9:$E$300,4,FALSE),"") | BC50: =IFERROR(VLOOKUP(AZ50,'Stap 2 - Bureaustudie'!$A$9:$E$300,5,FALSE),"")
A51: =ROUND(A49+0.01,2) -> 2.08 | B51: =F40 -> 0 | C51: =VLOOKUP(A51,'Stap 2 - Bureaustudie'!$A$9:$D$44,1,FALSE) -> #N/A | D51: =IFERROR(C51,"") | E51: =IFERROR(VLOOKUP(D51,'Stap 2 - Bureaustudie'!$A$9:$E$300,3,FALSE),"") | F51: =IFERROR(VLOOKUP(D51,'Stap 2 - Bureaustudie'!$A$9:$E$300,4,FALSE),"") | G51: =IFERROR(VLOOKUP(D51,'Stap 2 - Bureaustudie'!$A$9:$E$300,5,FALSE),"") | Q51: =ROUND(Q49+0.01,2) -> 12.08 | R51: =V40 -> 0 | S51: =VLOOKUP(Q51,'Stap 2 - Bureaustudie'!$A$9:$D$44,1,FALSE) -> #N/A | T51: =IFERROR(S51,"") | U51: =IFERROR(VLOOKUP(T51,'Stap 2 - Bureaustudie'!$A$9:$E$300,3,FALSE),"") | V51: =IFERROR(VLOOKUP(T51,'Stap 2 - Bureaustudie'!$A$9:$E$300,4,FALSE),"") | W51: =IFERROR(VLOOKUP(T51,'Stap 2 - Bureaustudie'!$A$9:$E$300,5,FALSE),"") | AG51: =ROUND(AG49+0.01,2) -> #VALUE! | AH51: =AL40 -> 0 | AI51: =VLOOKUP(AG51,'Stap 2 - Bureaustudie'!$A$9:$D$44,1,FALSE) -> #VALUE! | AJ51: =IFERROR(AI51,"") | AK51: =IFERROR(VLOOKUP(AJ51,'Stap 2 - Bureaustudie'!$A$9:$E$300,3,FALSE),"") | AL51: =IFERROR(VLOOKUP(AJ51,'Stap 2 - Bureaustudie'!$A$9:$E$300,4,FALSE),"") | AM51: =IFERROR(VLOOKUP(AJ51,'Stap 2 - Bureaustudie'!$A$9:$E$300,5,FALSE),"") | AW51: =ROUND(AW49+0.01,2) -> #VALUE! | AX51: =BB40 -> 0 | AY51: =VLOOKUP(AW51,'Stap 2 - Bureaustudie'!$A$9:$D$44,1,FALSE) -> #VALUE! | AZ51: =IFERROR(AY51,"") | BA51: =IFERROR(VLOOKUP(AZ51,'Stap 2 - Bureaustudie'!$A$9:$E$300,3,FALSE),"") | BB51: =IFERROR(VLOOKUP(AZ51,'Stap 2 - Bureaustudie'!$A$9:$E$300,4,FALSE),"") | BC51: =IFERROR(VLOOKUP(AZ51,'Stap 2 - Bureaustudie'!$A$9:$E$300,5,FALSE),"")
A52: =ROUND(A51+0.01,2) -> 2.09 | B52: =F40 -> 0 | C52: =VLOOKUP(A52,'Stap 2 - Bureaustudie'!$A$9:$D$44,1,FALSE) -> #N/A | D52: =IFERROR(C52,"") | E52: =IFERROR(VLOOKUP(D52,'Stap 2 - Bureaustudie'!$A$9:$E$300,3,FALSE),"") | F52: =IFERROR(VLOOKUP(D52,'Stap 2 - Bureaustudie'!$A$9:$E$300,4,FALSE),"") | G52: =IFERROR(VLOOKUP(D52,'Stap 2 - Bureaustudie'!$A$9:$E$300,5,FALSE),"") | Q52: =ROUND(Q51+0.01,2) -> 12.09 | R52: =V40 -> 0 | S52: =VLOOKUP(Q52,'Stap 2 - Bureaustudie'!$A$9:$D$44,1,FALSE) -> #N/A | T52: =IFERROR(S52,"") | U52: =IFERROR(VLOOKUP(T52,'Stap 2 - Bureaustudie'!$A$9:$E$300,3,FALSE),"") | V52: =IFERROR(VLOOKUP(T52,'Stap 2 - Bureaustudie'!$A$9:$E$300,4,FALSE),"") | W52: =IFERROR(VLOOKUP(T52,'Stap 2 - Bureaustudie'!$A$9:$E$300,5,FALSE),"") | AG52: =ROUND(AG51+0.01,2) -> #VALUE! | AH52: =AL40 -> 0 | AI52: =VLOOKUP(AG52,'Stap 2 - Bureaustudie'!$A$9:$D$44,1,FALSE) -> #VALUE! | AJ52: =IFERROR(AI52,"") | AK52: =IFERROR(VLOOKUP(AJ52,'Stap 2 - Bureaustudie'!$A$9:$E$300,3,FALSE),"") | AL52: =IFERROR(VLOOKUP(AJ52,'Stap 2 - Bureaustudie'!$A$9:$E$300,4,FALSE),"") | AM52: =IFERROR(VLOOKUP(AJ52,'Stap 2 - Bureaustudie'!$A$9:$E$300,5,FALSE),"") | AW52: =ROUND(AW51+0.01,2) -> #VALUE! | AX52: =BB40 -> 0 | AY52: =VLOOKUP(AW52,'Stap 2 - Bureaustudie'!$A$9:$D$44,1,FALSE) -> #VALUE! | AZ52: =IFERROR(AY52,"") | BA52: =IFERROR(VLOOKUP(AZ52,'Stap 2 - Bureaustudie'!$A$9:$E$300,3,FALSE),"") | BB52: =IFERROR(VLOOKUP(AZ52,'Stap 2 - Bureaustudie'!$A$9:$E$300,4,FALSE),"") | BC52: =IFERROR(VLOOKUP(AZ52,'Stap 2 - Bureaustudie'!$A$9:$E$300,5,FALSE),"")
A53: =ROUND(A52+0.01,2) -> 2.1 | B53: =F40 -> 0 | C53: =VLOOKUP(A53,'Stap 2 - Bureaustudie'!$A$9:$D$44,1,FALSE) -> #N/A | D53: =IFERROR(C53,"") | E53: =IFERROR(VLOOKUP(D53,'Stap 2 - Bureaustudie'!$A$9:$E$300,3,FALSE),"") | F53: =IFERROR(VLOOKUP(D53,'Stap 2 - Bureaustudie'!$A$9:$E$300,4,FALSE),"") | G53: =IFERROR(VLOOKUP(D53,'Stap 2 - Bureaustudie'!$A$9:$E$300,5,FALSE),"") | Q53: =ROUND(Q52+0.01,2) -> 12.1 | R53: =V40 -> 0 | S53: =VLOOKUP(Q53,'Stap 2 - Bureaustudie'!$A$9:$D$44,1,FALSE) -> #N/A | T53: =IFERROR(S53,"") | U53: =IFERROR(VLOOKUP(T53,'Stap 2 - Bureaustudie'!$A$9:$E$300,3,FALSE),"") | V53: =IFERROR(VLOOKUP(T53,'Stap 2 - Bureaustudie'!$A$9:$E$300,4,FALSE),"") | W53: =IFERROR(VLOOKUP(T53,'Stap 2 - Bureaustudie'!$A$9:$E$300,5,FALSE),"") | AG53: =ROUND(AG52+0.01,2) -> #VALUE! | AH53: =AL40 -> 0 | AI53: =VLOOKUP(AG53,'Stap 2 - Bureaustudie'!$A$9:$D$44,1,FALSE) -> #VALUE! | AJ53: =IFERROR(AI53,"") | AK53: =IFERROR(VLOOKUP(AJ53,'Stap 2 - Bureaustudie'!$A$9:$E$300,3,FALSE),"") | AL53: =IFERROR(VLOOKUP(AJ53,'Stap 2 - Bureaustudie'!$A$9:$E$300,4,FALSE),"") | AM53: =IFERROR(VLOOKUP(AJ53,'Stap 2 - Bureaustudie'!$A$9:$E$300,5,FALSE),"") | AW53: =ROUND(AW52+0.01,2) -> #VALUE! | AX53: =BB40 -> 0 | AY53: =VLOOKUP(AW53,'Stap 2 - Bureaustudie'!$A$9:$D$44,1,FALSE) -> #VALUE! | AZ53: =IFERROR(AY53,"") | BA53: =IFERROR(VLOOKUP(AZ53,'Stap 2 - Bureaustudie'!$A$9:$E$300,3,FALSE),"") | BB53: =IFERROR(VLOOKUP(AZ53,'Stap 2 - Bureaustudie'!$A$9:$E$300,4,FALSE),"") | BC53: =IFERROR(VLOOKUP(AZ53,'Stap 2 - Bureaustudie'!$A$9:$E$300,5,FALSE),"")
A54: =ROUND(A53+0.01,2) -> 2.11 | B54: =F40 -> 0 | C54: =VLOOKUP(A54,'Stap 2 - Bureaustudie'!$A$9:$D$44,1,FALSE) -> #N/A | D54: =IFERROR(C54,"") | E54: =IFERROR(VLOOKUP(D54,'Stap 2 - Bureaustudie'!$A$9:$E$300,3,FALSE),"") | F54: =IFERROR(VLOOKUP(D54,'Stap 2 - Bureaustudie'!$A$9:$E$300,4,FALSE),"") | G54: =IFERROR(VLOOKUP(D54,'Stap 2 - Bureaustudie'!$A$9:$E$300,5,FALSE),"") | Q54: =ROUND(Q53+0.01,2) -> 12.11 | R54: =V40 -> 0 | S54: =VLOOKUP(Q54,'Stap 2 - Bureaustudie'!$A$9:$D$44,1,FALSE) -> #N/A | T54: =IFERROR(S54,"") | U54: =IFERROR(VLOOKUP(T54,'Stap 2 - Bureaustudie'!$A$9:$E$300,3,FALSE),"") | V54: =IFERROR(VLOOKUP(T54,'Stap 2 - Bureaustudie'!$A$9:$E$300,4,FALSE),"") | W54: =IFERROR(VLOOKUP(T54,'Stap 2 - Bureaustudie'!$A$9:$E$300,5,FALSE),"") | AG54: =ROUND(AG53+0.01,2) -> #VALUE! | AH54: =AL40 -> 0 | AI54: =VLOOKUP(AG54,'Stap 2 - Bureaustudie'!$A$9:$D$44,1,FALSE) -> #VALUE! | AJ54: =IFERROR(AI54,"") | AK54: =IFERROR(VLOOKUP(AJ54,'Stap 2 - Bureaustudie'!$A$9:$E$300,3,FALSE),"") | AL54: =IFERROR(VLOOKUP(AJ54,'Stap 2 - Bureaustudie'!$A$9:$E$300,4,FALSE),"") | AM54: =IFERROR(VLOOKUP(AJ54,'Stap 2 - Bureaustudie'!$A$9:$E$300,5,FALSE),"") | AW54: =ROUND(AW53+0.01,2) -> #VALUE! | AX54: =BB40 -> 0 | AY54: =VLOOKUP(AW54,'Stap 2 - Bureaustudie'!$A$9:$D$44,1,FALSE) -> #VALUE! | AZ54: =IFERROR(AY54,"") | BA54: =IFERROR(VLOOKUP(AZ54,'Stap 2 - Bureaustudie'!$A$9:$E$300,3,FALSE),"") | BB54: =IFERROR(VLOOKUP(AZ54,'Stap 2 - Bureaustudie'!$A$9:$E$300,4,FALSE),"") | BC54: =IFERROR(VLOOKUP(AZ54,'Stap 2 - Bureaustudie'!$A$9:$E$300,5,FALSE),"")
A55: =ROUND(#REF!+0.01,2) -> #REF! | C55: =VLOOKUP(A55,'Stap 2 - Bureaustudie'!$A$9:$D$44,1,FALSE) -> #REF! | E55: Onverwachte kabels en leidingen | Q55: =ROUND(#REF!+0.01,2) -> #REF! | S55: =VLOOKUP(Q55,'Stap 2 - Bureaustudie'!$A$9:$D$44,1,FALSE) -> #REF! | U55: Onverwachte kabels en leidingen | AG55: =ROUND(#REF!+0.01,2) -> #REF! | AI55: =VLOOKUP(AG55,'Stap 2 - Bureaustudie'!$A$9:$D$44,1,FALSE) -> #REF! | AK55: Onverwachte kabels en leidingen | AW55: =ROUND(#REF!+0.01,2) -> #REF! | AY55: =VLOOKUP(AW55,'Stap 2 - Bureaustudie'!$A$9:$D$44,1,FALSE) -> #REF! | BA55: Onverwachte kabels en leidingen
A56: =ROUND(A55+0.01,2) -> #REF! | B56: =F40 -> 0 | C56: =VLOOKUP(A56,'Stap 2 - Bureaustudie'!$A$9:$D$44,1,FALSE) -> #REF! | D56: =IF(E56<>"",MAX(D37:D54)+0.01,"") | H56: =IF(E56<>"","Ja","") | Q56: =ROUND(Q55+0.01,2) -> #REF! | R56: =V40 -> 0 | S56: =VLOOKUP(Q56,'Stap 2 - Bureaustudie'!$A$9:$D$44,1,FALSE) -> #REF! | T56: =IF(U56<>"",MAX(T37:T54)+0.01,"") | X56: =IF(U56<>"","Ja","") | AG56: =ROUND(AG55+0.01,2) -> #REF! | AH56: =AL40 -> 0 | AI56: =VLOOKUP(AG56,'Stap 2 - Bureaustudie'!$A$9:$D$44,1,FALSE) -> #REF! | AJ56: =IF(AK56<>"",MAX(AJ37:AJ54)+0.01,"") | AN56: =IF(AK56<>"","Ja","") | AW56: =ROUND(AW55+0.01,2) -> #REF! | AX56: =BB40 -> 0 | AY56: =VLOOKUP(AW56,'Stap 2 - Bureaustudie'!$A$9:$D$44,1,FALSE) -> #REF! | AZ56: =IF(BA56<>"",MAX(AZ37:AZ54)+0.01,"") | BD56: =IF(BA56<>"","Ja","")
A57: =ROUND(A56+0.01,2) -> #REF! | B57: =F40 -> 0 | C57: =VLOOKUP(A57,'Stap 2 - Bureaustudie'!$A$9:$D$44,1,FALSE) -> #REF! | D57: =IF(E57<>"",D56+0.01,"") | H57: =IF(E57<>"","Ja","") | Q57: =ROUND(Q56+0.01,2) -> #REF! | R57: =V40 -> 0 | S57: =VLOOKUP(Q57,'Stap 2 - Bureaustudie'!$A$9:$D$44,1,FALSE) -> #REF! | T57: =IF(U57<>"",T56+0.01,"") | X57: =IF(U57<>"","Ja","") | AG57: =ROUND(AG56+0.01,2) -> #REF! | AH57: =AL40 -> 0 | AI57: =VLOOKUP(AG57,'Stap 2 - Bureaustudie'!$A$9:$D$44,1,FALSE) -> #REF! | AJ57: =IF(AK57<>"",AJ56+0.01,"") | AN57: =IF(AK57<>"","Ja","") | AW57: =ROUND(AW56+0.01,2) -> #REF! | AX57: =BB40 -> 0 | AY57: =VLOOKUP(AW57,'Stap 2 - Bureaustudie'!$A$9:$D$44,1,FALSE) -> #REF! | AZ57: =IF(BA57<>"",AZ56+0.01,"") | BD57: =IF(BA57<>"","Ja","")
A58: =ROUND(A57+0.01,2) -> #REF! | B58: =F40 -> 0 | C58: =VLOOKUP(A58,'Stap 2 - Bureaustudie'!$A$9:$D$44,1,FALSE) -> #REF! | D58: =IF(E58<>"",D57+0.01,"") | H58: =IF(E58<>"","Ja","") | Q58: =ROUND(Q57+0.01,2) -> #REF! | R58: =V40 -> 0 | S58: =VLOOKUP(Q58,'Stap 2 - Bureaustudie'!$A$9:$D$44,1,FALSE) -> #REF! | T58: =IF(U58<>"",T57+0.01,"") | X58: =IF(U58<>"","Ja","") | AG58: =ROUND(AG57+0.01,2) -> #REF! | AH58: =AL40 -> 0 | AI58: =VLOOKUP(AG58,'Stap 2 - Bureaustudie'!$A$9:$D$44,1,FALSE) -> #REF! | AJ58: =IF(AK58<>"",AJ57+0.01,"") | AN58: =IF(AK58<>"","Ja","") | AW58: =ROUND(AW57+0.01,2) -> #REF! | AX58: =BB40 -> 0 | AY58: =VLOOKUP(AW58,'Stap 2 - Bureaustudie'!$A$9:$D$44,1,FALSE) -> #REF! | AZ58: =IF(BA58<>"",AZ57+0.01,"") | BD58: =IF(BA58<>"","Ja","")
B59: =F40 -> 0 | D59: =IF(E59<>"",D58+0.01,"") | H59: =IF(E59<>"","Ja","") | O59: Grondwaterstand in m t.o.v. N.A.P | R59: =V40 -> 0 | T59: =IF(U59<>"",T58+0.01,"") | X59: =IF(U59<>"","Ja","") | AE59: Grondwaterstand in m t.o.v. N.A.P | AH59: =AL40 -> 0 | AJ59: =IF(AK59<>"",AJ58+0.01,"") | AN59: =IF(AK59<>"","Ja","") | AU59: Grondwaterstand in m t.o.v. N.A.P | AX59: =BB40 -> 0 | AZ59: =IF(BA59<>"",AZ58+0.01,"") | BD59: =IF(BA59<>"","Ja","") | BK59: Grondwaterstand in m t.o.v. N.A.P
B60: =F40 -> 0 | D60: =IF(E60<>"",D59+0.01,"") | H60: =IF(E60<>"","Ja","") | R60: =V40 -> 0 | T60: =IF(U60<>"",T59+0.01,"") | X60: =IF(U60<>"","Ja","") | AH60: =AL40 -> 0 | AJ60: =IF(AK60<>"",AJ59+0.01,"") | AN60: =IF(AK60<>"","Ja","") | AX60: =BB40 -> 0 | AZ60: =IF(BA60<>"",AZ59+0.01,"") | BD60: =IF(BA60<>"","Ja","")
D61: Eisen proefsleuf | G61: Doel proefsleuf | J61: Opmerkingen in het veld | T61: Eisen proefsleuf | W61: Doel proefsleuf | Z61: Opmerkingen in het veld | AJ61: Eisen proefsleuf | AM61: Doel proefsleuf | AP61: Opmerkingen in het veld | AZ61: Eisen proefsleuf | BC61: Doel proefsleuf | BF61: Opmerkingen in het veld
D62: =IF(OFFSET('Stap 1 - Aanvraag Deelopdracht '!$A$15,0,O36)=TRUE, 'Stap 1 - Aanvraag Deelopdracht '!$A$15, "") & "; " & IF(OFFSET('Stap 1 - Aanvraag Deelopdracht '!$A$16,0,O36)=TRUE, 'Stap 1 - Aanvraag Deelopdracht '!$A$16, "") & "; " & IF(OFFSET('Stap 1 - Aanvraag Deelopdracht '!$A$17,0,O36)=TRUE, 'Stap 1 - Aanvraag Deelopdracht '!$A$17, "") & "; " & IF(OFFSET('Stap 1 - Aanvraag Deelopdracht '!$A$18,0,O36)=TRUE, 'Stap 1 - Aanvraag Deelopdracht '!$A$18, "") & "; " -> Vaststellen grondslag; ; ; ; | G62: =IF(OFFSET('Stap 1 - Aanvraag Deelopdracht '!$A$20,0,O36)=TRUE, 'Stap 1 - Aanvraag Deelopdracht '!$A$20, "") & "; " & IF(OFFSET('Stap 1 - Aanvraag Deelopdracht '!$A$21,0,O36)=TRUE, 'Stap 1 - Aanvraag Deelopdracht '!$A$21, "") & "; " & IF(OFFSET('Stap 1 - Aanvraag Deelopdracht '!$A$22,0,O36)=TRUE, 'Stap 1 - Aanvraag Deelopdracht '!$A$22, "") & "; " & IF(OFFSET('Stap 1 - Aanvraag Deelopdracht '!$A$23,0,O36)=TRUE, 'Stap 1 - Aanvraag Deelopdracht '!$A$23, "") & "; " & IF(OFFSET('Stap 1 - Aanvraag Deelopdracht '!$A$24,0,O36)=TRUE,'Stap 1 - Aanvraag Deelopdracht '!$A$24, "") -> Aanleg riolering; ; ; ; | T62: =IF(OFFSET('Stap 1 - Aanvraag Deelopdracht '!$A$15,0,AE36)=TRUE, 'Stap 1 - Aanvraag Deelopdracht '!$A$15, "") & "; " & IF(OFFSET('Stap 1 - Aanvraag Deelopdracht '!$A$16,0,AE36)=TRUE, 'Stap 1 - Aanvraag Deelopdracht '!$A$16, "") & "; " & IF(OFFSET('Stap 1 - Aanvraag Deelopdracht '!$A$17,0,AE36)=TRUE, 'Stap 1 - Aanvraag Deelopdracht '!$A$17, "") & "; " & IF(OFFSET('Stap 1 - Aanvraag Deelopdracht '!$A$18,0,AE36)=TRUE, 'Stap 1 - Aanvraag Deelopdracht '!$A$18, "") & "; " -> ; ; ; ; | W62: =IF(OFFSET('Stap 1 - Aanvraag Deelopdracht '!$A$20,0,AE36)=TRUE, 'Stap 1 - Aanvraag Deelopdracht '!$A$20, "") & "; " & IF(OFFSET('Stap 1 - Aanvraag Deelopdracht '!$A$21,0,AE36)=TRUE, 'Stap 1 - Aanvraag Deelopdracht '!$A$21, "") & "; " & IF(OFFSET('Stap 1 - Aanvraag Deelopdracht '!$A$22,0,AE36)=TRUE, 'Stap 1 - Aanvraag Deelopdracht '!$A$22, "") & "; " & IF(OFFSET('Stap 1 - Aanvraag Deelopdracht '!$A$23,0,AE36)=TRUE, 'Stap 1 - Aanvraag Deelopdracht '!$A$23, "") & "; " & IF(OFFSET('Stap 1 - Aanvraag Deelopdracht '!$A$24,0,AE36)=TRUE,'Stap 1 - Aanvraag Deelopdracht '!$A$24, "") -> ; ; ; ; | AJ62: =IF(OFFSET('Stap 1 - Aanvraag Deelopdracht '!$A$15,0,AU36)=TRUE, 'Stap 1 - Aanvraag Deelopdracht '!$A$15, "") & "; " & IF(OFFSET('Stap 1 - Aanvraag Deelopdracht '!$A$16,0,AU36)=TRUE, 'Stap 1 - Aanvraag Deelopdracht '!$A$16, "") & "; " & IF(OFFSET('Stap 1 - Aanvraag Deelopdracht '!$A$17,0,AU36)=TRUE, 'Stap 1 - Aanvraag Deelopdracht '!$A$17, "") & "; " & IF(OFFSET('Stap 1 - Aanvraag Deelopdracht '!$A$18,0,AU36)=TRUE, 'Stap 1 - Aanvraag Deelopdracht '!$A$18, "") & "; " -> #VALUE! | AM62: =IF(OFFSET('Stap 1 - Aanvraag Deelopdracht '!$A$20,0,AU36)=TRUE, 'Stap 1 - Aanvraag Deelopdracht '!$A$20, "") & "; " & IF(OFFSET('Stap 1 - Aanvraag Deelopdracht '!$A$21,0,AU36)=TRUE, 'Stap 1 - Aanvraag Deelopdracht '!$A$21, "") & "; " & IF(OFFSET('Stap 1 - Aanvraag Deelopdracht '!$A$22,0,AU36)=TRUE, 'Stap 1 - Aanvraag Deelopdracht '!$A$22, "") & "; " & IF(OFFSET('Stap 1 - Aanvraag Deelopdracht '!$A$23,0,AU36)=TRUE, 'Stap 1 - Aanvraag Deelopdracht '!$A$23, "") & "; " & IF(OFFSET('Stap 1 - Aanvraag Deelopdracht '!$A$24,0,AU36)=TRUE,'Stap 1 - Aanvraag Deelopdracht '!$A$24, "") -> #VALUE! | AZ62: =IF(OFFSET('Stap 1 - Aanvraag Deelopdracht '!$A$15,0,BK36)=TRUE, 'Stap 1 - Aanvraag Deelopdracht '!$A$15, "") & "; " & IF(OFFSET('Stap 1 - Aanvraag Deelopdracht '!$A$16,0,BK36)=TRUE, 'Stap 1 - Aanvraag Deelopdracht '!$A$16, "") & "; " & IF(OFFSET('Stap 1 - Aanvraag Deelopdracht '!$A$17,0,BK36)=TRUE, 'Stap 1 - Aanvraag Deelopdracht '!$A$17, "") & "; " & IF(OFFSET('Stap 1 - Aanvraag Deelopdracht '!$A$18,0,BK36)=TRUE, 'Stap 1 - Aanvraag Deelopdracht '!$A$18, "") & "; " -> #VALUE! | BC62: =IF(OFFSET('Stap 1 - Aanvraag Deelopdracht '!$A$20,0,BK36)=TRUE, 'Stap 1 - Aanvraag Deelopdracht '!$A$20, "") & "; " & IF(OFFSET('Stap 1 - Aanvraag Deelopdracht '!$A$21,0,BK36)=TRUE, 'Stap 1 - Aanvraag Deelopdracht '!$A$21, "") & "; " & IF(OFFSET('Stap 1 - Aanvraag Deelopdracht '!$A$22,0,BK36)=TRUE, 'Stap 1 - Aanvraag Deelopdracht '!$A$22, "") & "; " & IF(OFFSET('Stap 1 - Aanvraag Deelopdracht '!$A$23,0,BK36)=TRUE, 'Stap 1 - Aanvraag Deelopdracht '!$A$23, "") & "; " & IF(OFFSET('Stap 1 - Aanvraag Deelopdracht '!$A$24,0,BK36)=TRUE,'Stap 1 - Aanvraag Deelopdracht '!$A$24, "") -> #VALUE!
D66: Opmerkingen vanuit kantoor | J66: Contactgegevens gemeente Gouda [Naam | Telefoon] | T66: Opmerkingen vanuit kantoor | Z66: Contactgegevens gemeente Gouda [Naam | Telefoon] | AJ66: Opmerkingen vanuit kantoor | AP66: Contactgegevens gemeente Gouda [Naam | Telefoon] | AZ66: Opmerkingen vanuit kantoor | BF66: Contactgegevens gemeente Gouda [Naam | Telefoon]
D67: =OFFSET('Stap 1 - Aanvraag Deelopdracht '!$A$25,0,O36) -> Proefsleuf 2 op 12-05-2025 | J67: Projectleider | K67: =IF('Stap 1 - Aanvraag Deelopdracht '!$B$31=0,"",'Stap 1 - Aanvraag Deelopdracht '!$B$31) -> Persoon 1 | N67: =IF('Stap 1 - Aanvraag Deelopdracht '!$D$31=0,"",'Stap 1 - Aanvraag Deelopdracht '!$D$31) -> 06-00000001 | T67: =OFFSET('Stap 1 - Aanvraag Deelopdracht '!$A$25,0,AE36) -> Geen opmerkingen | Z67: Projectleider | AA67: =IF('Stap 1 - Aanvraag Deelopdracht '!$B$31=0,"",'Stap 1 - Aanvraag Deelopdracht '!$B$31) -> Persoon 1 | AD67: =IF('Stap 1 - Aanvraag Deelopdracht '!$D$31=0,"",'Stap 1 - Aanvraag Deelopdracht '!$D$31) -> 06-00000001 | AJ67: =OFFSET('Stap 1 - Aanvraag Deelopdracht '!$A$25,0,AU36) -> #VALUE! | AP67: Projectleider | AQ67: =IF('Stap 1 - Aanvraag Deelopdracht '!$B$31=0,"",'Stap 1 - Aanvraag Deelopdracht '!$B$31) -> Persoon 1 | AT67: =IF('Stap 1 - Aanvraag Deelopdracht '!$D$31=0,"",'Stap 1 - Aanvraag Deelopdracht '!$D$31) -> 06-00000001 | AZ67: =OFFSET('Stap 1 - Aanvraag Deelopdracht '!$A$25,0,BK36) -> #VALUE! | BF67: Projectleider | BG67: =IF('Stap 1 - Aanvraag Deelopdracht '!$B$31=0,"",'Stap 1 - Aanvraag Deelopdracht '!$B$31) -> Persoon 1 | BJ67: =IF('Stap 1 - Aanvraag Deelopdracht '!$D$31=0,"",'Stap 1 - Aanvraag Deelopdracht '!$D$31) -> 06-00000001
J68: Jun-projectleider | K68: =IF('Stap 1 - Aanvraag Deelopdracht '!$B$32=0,"",'Stap 1 - Aanvraag Deelopdracht '!$B$32) -> Persoon 2 | N68: =IF('Stap 1 - Aanvraag Deelopdracht '!$D$32=0,"",'Stap 1 - Aanvraag Deelopdracht '!$D$32) -> 06-00000002 | Z68: Jun-projectleider | AA68: =IF('Stap 1 - Aanvraag Deelopdracht '!$B$32=0,"",'Stap 1 - Aanvraag Deelopdracht '!$B$32) -> Persoon 2 | AD68: =IF('Stap 1 - Aanvraag Deelopdracht '!$D$32=0,"",'Stap 1 - Aanvraag Deelopdracht '!$D$32) -> 06-00000002 | AP68: Jun-projectleider | AQ68: =IF('Stap 1 - Aanvraag Deelopdracht '!$B$32=0,"",'Stap 1 - Aanvraag Deelopdracht '!$B$32) -> Persoon 2 | AT68: =IF('Stap 1 - Aanvraag Deelopdracht '!$D$32=0,"",'Stap 1 - Aanvraag Deelopdracht '!$D$32) -> 06-00000002 | BF68: Jun-projectleider | BG68: =IF('Stap 1 - Aanvraag Deelopdracht '!$B$32=0,"",'Stap 1 - Aanvraag Deelopdracht '!$B$32) -> Persoon 2 | BJ68: =IF('Stap 1 - Aanvraag Deelopdracht '!$D$32=0,"",'Stap 1 - Aanvraag Deelopdracht '!$D$32) -> 06-00000002
J69: Toezichthouder | K69: =IF('Stap 1 - Aanvraag Deelopdracht '!$B$33=0,"",'Stap 1 - Aanvraag Deelopdracht '!$B$33) -> Persoon 3 | N69: =IF('Stap 1 - Aanvraag Deelopdracht '!$D$33=0,"",'Stap 1 - Aanvraag Deelopdracht '!$D$33) -> 06-00000003 | Z69: Toezichthouder | AA69: =IF('Stap 1 - Aanvraag Deelopdracht '!$B$33=0,"",'Stap 1 - Aanvraag Deelopdracht '!$B$33) -> Persoon 3 | AD69: =IF('Stap 1 - Aanvraag Deelopdracht '!$D$33=0,"",'Stap 1 - Aanvraag Deelopdracht '!$D$33) -> 06-00000003 | AP69: Toezichthouder | AQ69: =IF('Stap 1 - Aanvraag Deelopdracht '!$B$33=0,"",'Stap 1 - Aanvraag Deelopdracht '!$B$33) -> Persoon 3 | AT69: =IF('Stap 1 - Aanvraag Deelopdracht '!$D$33=0,"",'Stap 1 - Aanvraag Deelopdracht '!$D$33) -> 06-00000003 | BF69: Toezichthouder | BG69: =IF('Stap 1 - Aanvraag Deelopdracht '!$B$33=0,"",'Stap 1 - Aanvraag Deelopdracht '!$B$33) -> Persoon 3 | BJ69: =IF('Stap 1 - Aanvraag Deelopdracht '!$D$33=0,"",'Stap 1 - Aanvraag Deelopdracht '!$D$33) -> 06-00000003
D70: =IF(OFFSET('Stap 1 - Aanvraag Deelopdracht '!$A$17,0,O36)=TRUE, 'Stap 1 - Aanvraag Deelopdracht '!$A$17, "") & " " & IF(OFFSET('Stap 1 - Aanvraag Deelopdracht '!$A$18,0,O36)=TRUE, 'Stap 1 - Aanvraag Deelopdracht '!$A$18, "") | J70: Directievoerder | K70: =IF('Stap 1 - Aanvraag Deelopdracht '!$B$34=0,"",'Stap 1 - Aanvraag Deelopdracht '!$B$34) -> Persoon 4 | N70: =IF('Stap 1 - Aanvraag Deelopdracht '!$D$34=0,"",'Stap 1 - Aanvraag Deelopdracht '!$D$34) -> 06-00000004 | T70: =IF(OFFSET('Stap 1 - Aanvraag Deelopdracht '!$A$17,0,AE36)=TRUE, 'Stap 1 - Aanvraag Deelopdracht '!$A$17, "") & " " & IF(OFFSET('Stap 1 - Aanvraag Deelopdracht '!$A$18,0,AE36)=TRUE, 'Stap 1 - Aanvraag Deelopdracht '!$A$18, "") | Z70: Directievoerder | AA70: =IF('Stap 1 - Aanvraag Deelopdracht '!$B$34=0,"",'Stap 1 - Aanvraag Deelopdracht '!$B$34) -> Persoon 4 | AD70: =IF('Stap 1 - Aanvraag Deelopdracht '!$D$34=0,"",'Stap 1 - Aanvraag Deelopdracht '!$D$34) -> 06-00000004 | AJ70: =IF(OFFSET('Stap 1 - Aanvraag Deelopdracht '!$A$17,0,AU36)=TRUE, 'Stap 1 - Aanvraag Deelopdracht '!$A$17, "") & " " & IF(OFFSET('Stap 1 - Aanvraag Deelopdracht '!$A$18,0,AU36)=TRUE, 'Stap 1 - Aanvraag Deelopdracht '!$A$18, "") -> #VALUE! | AP70: Directievoerder | AQ70: =IF('Stap 1 - Aanvraag Deelopdracht '!$B$34=0,"",'Stap 1 - Aanvraag Deelopdracht '!$B$34) -> Persoon 4 | AT70: =IF('Stap 1 - Aanvraag Deelopdracht '!$D$34=0,"",'Stap 1 - Aanvraag Deelopdracht '!$D$34) -> 06-00000004 | AZ70: =IF(OFFSET('Stap 1 - Aanvraag Deelopdracht '!$A$17,0,BK36)=TRUE, 'Stap 1 - Aanvraag Deelopdracht '!$A$17, "") & " " & IF(OFFSET('Stap 1 - Aanvraag Deelopdracht '!$A$18,0,BK36)=TRUE, 'Stap 1 - Aanvraag Deelopdracht '!$A$18, "") -> #VALUE! | BF70: Directievoerder | BG70: =IF('Stap 1 - Aanvraag Deelopdracht '!$B$34=0,"",'Stap 1 - Aanvraag Deelopdracht '!$B$34) -> Persoon 4 | BJ70: =IF('Stap 1 - Aanvraag Deelopdracht '!$D$34=0,"",'Stap 1 - Aanvraag Deelopdracht '!$D$34) -> 06-00000004
A71: =Projectgegevens!D106 & " " & Projectgegevens!D107 | E71: =IF(O71="","NIET PRINTEN!","") | K71: Aanvraag | L71: Uitvoering | O71: ='Stap 1 - Aanvraag Deelopdracht '!$D$10 -> 3 | Q71: =Projectgegevens!T106 & " " & Projectgegevens!T107 | U71: =IF(AE71="","NIET PRINTEN!","") | AA71: Aanvraag | AB71: Uitvoering | AE71: ='Stap 1 - Aanvraag Deelopdracht '!$N$10 -> 13 | AG71: =Projectgegevens!AJ106 & " " & Projectgegevens!AJ107 | AK71: =IF(AU71="","NIET PRINTEN!","") -> NIET PRINTEN! | AQ71: Aanvraag | AR71: Uitvoering | AU71: ='Stap 1 - Aanvraag Deelopdracht '!$X$10 | AW71: =Projectgegevens!AZ106 & " " & Projectgegevens!AZ107 | BA71: =IF(BK71="","NIET PRINTEN!","") -> NIET PRINTEN! | BG71: Aanvraag | BH71: Uitvoering | BK71: ='Stap 1 - Aanvraag Deelopdracht '!$AH$10
E72: =IF(O71="","",Projectgegevens!$B$37) -> Project | F72: =Projectgegevens!$D$37 -> Burgemeester Goudalaan | I72: =IF(O71="","","Ontgravingsdiepte [in m]") -> Ontgravingsdiepte [in m] | K72: =OFFSET('Stap 1 - Aanvraag Deelopdracht '!$A$11,0,O71) -> 0 | U72: =IF(AE71="","",Projectgegevens!$B$37) -> Project | V72: =Projectgegevens!$D$37 -> Burgemeester Goudalaan | Y72: =IF(AE71="","","Ontgravingsdiepte [in m]") -> Ontgravingsdiepte [in m] | AA72: =OFFSET('Stap 1 - Aanvraag Deelopdracht '!$A$11,0,AE71) -> 0 | AK72: =IF(AU71="","",Projectgegevens!$B$37) | AL72: =Projectgegevens!$D$37 -> Burgemeester Goudalaan | AO72: =IF(AU71="","","Ontgravingsdiepte [in m]") | AQ72: =OFFSET('Stap 1 - Aanvraag Deelopdracht '!$A$11,0,AU71) -> #VALUE! | BA72: =IF(BK71="","",Projectgegevens!$B$37) | BB72: =Projectgegevens!$D$37 -> Burgemeester Goudalaan | BE72: =IF(BK71="","","Ontgravingsdiepte [in m]") | BG72: =OFFSET('Stap 1 - Aanvraag Deelopdracht '!$A$11,0,BK71) -> #VALUE!
E73: =IF(O71="","",Projectgegevens!$B$36) -> Projectnr. | F73: =Projectgegevens!$D$36 -> 101887 | I73: =IF(O71="","","Lengte [in m]") -> Lengte [in m] | K73: =OFFSET('Stap 1 - Aanvraag Deelopdracht '!$A$12,0,O71) -> 0 | U73: =IF(AE71="","",Projectgegevens!$B$36) -> Projectnr. | V73: =Projectgegevens!$D$36 -> 101887 | Y73: =IF(AE71="","","Lengte [in m]") -> Lengte [in m] | AA73: =OFFSET('Stap 1 - Aanvraag Deelopdracht '!$A$12,0,AE71) -> 0 | AK73: =IF(AU71="","",Projectgegevens!$B$36) | AL73: =Projectgegevens!$D$36 -> 101887 | AO73: =IF(AU71="","","Lengte [in m]") | AQ73: =OFFSET('Stap 1 - Aanvraag Deelopdracht '!$A$12,0,AU71) -> #VALUE! | BA73: =IF(BK71="","",Projectgegevens!$B$36) | BB73: =Projectgegevens!$D$36 -> 101887 | BE73: =IF(BK71="","","Lengte [in m]") | BG73: =OFFSET('Stap 1 - Aanvraag Deelopdracht '!$A$12,0,BK71) -> #VALUE!
E74: =IF(O71="","","Datum proefsleuf") -> Datum proefsleuf | I74: =IF(O71="","","Breedte [in m]") -> Breedte [in m] | K74: =OFFSET('Stap 1 - Aanvraag Deelopdracht '!$A$13,0,O71) -> 0 | U74: =IF(AE71="","","Datum proefsleuf") -> Datum proefsleuf | Y74: =IF(AE71="","","Breedte [in m]") -> Breedte [in m] | AA74: =OFFSET('Stap 1 - Aanvraag Deelopdracht '!$A$13,0,AE71) -> 0 | AK74: =IF(AU71="","","Datum proefsleuf") | AO74: =IF(AU71="","","Breedte [in m]") | AQ74: =OFFSET('Stap 1 - Aanvraag Deelopdracht '!$A$13,0,AU71) -> #VALUE! | BA74: =IF(BK71="","","Datum proefsleuf") | BE74: =IF(BK71="","","Breedte [in m]") | BG74: =OFFSET('Stap 1 - Aanvraag Deelopdracht '!$A$13,0,BK71) -> #VALUE!
E75: =IF(O71="","","Maaiveld t.o.v. NAP [in m]") -> Maaiveld t.o.v. NAP [in m] | U75: =IF(AE71="","","Maaiveld t.o.v. NAP [in m]") -> Maaiveld t.o.v. NAP [in m] | AK75: =IF(AU71="","","Maaiveld t.o.v. NAP [in m]") | BA75: =IF(BK71="","","Maaiveld t.o.v. NAP [in m]")
E76: Te verwachten kabels en leidingen | U76: Te verwachten kabels en leidingen | AK76: Te verwachten kabels en leidingen | BA76: Te verwachten kabels en leidingen
D77: ID | E77: Type kabel/leiding | F77: Netbeheerder | G77: Eis Voorzorg | H77: Gevonden [Ja/Nee] | I77: Hoogte bovenkant t.o.v. N.A.P. [in m] | J77: Diameter of hoogte [in m] | K77: Afstand vanuit meetpunt [in m] | L77: Materiaal | M77: Kleur | O77: Grondslag bepalen | T77: ID | U77: Type kabel/leiding | V77: Netbeheerder | W77: Eis Voorzorg | X77: Gevonden [Ja/Nee] | Y77: Hoogte bovenkant t.o.v. N.A.P. [in m] | Z77: Diameter of hoogte [in m] | AA77: Afstand vanuit meetpunt [in m] | AB77: Materiaal | AC77: Kleur | AE77: Grondslag bepalen | AJ77: ID | AK77: Type kabel/leiding | AL77: Netbeheerder | AM77: Eis Voorzorg | AN77: Gevonden [Ja/Nee] | AO77: Hoogte bovenkant t.o.v. N.A.P. [in m] | AP77: Diameter of hoogte [in m] | AQ77: Afstand vanuit meetpunt [in m] | AR77: Materiaal | AS77: Kleur | AU77: Grondslag bepalen | AZ77: ID | BA77: Type kabel/leiding | BB77: Netbeheerder | BC77: Eis Voorzorg | BD77: Gevonden [Ja/Nee] | BE77: Hoogte bovenkant t.o.v. N.A.P. [in m] | BF77: Diameter of hoogte [in m] | BG77: Afstand vanuit meetpunt [in m] | BH77: Materiaal | BI77: Kleur | BK77: Grondslag bepalen
A78: =ROUND(O71+0.01,2) -> 3.01 | B78: =F75 -> 0 | C78: =VLOOKUP(A78,'Stap 2 - Bureaustudie'!$A$9:$D$44,1,FALSE) -> #N/A | D78: =IFERROR(C78,"") | E78: =IFERROR(VLOOKUP(D78,'Stap 2 - Bureaustudie'!$A$9:$E$300,3,FALSE),"") | F78: =IFERROR(VLOOKUP(D78,'Stap 2 - Bureaustudie'!$A$9:$E$300,4,FALSE),"") | G78: =IFERROR(VLOOKUP(D78,'Stap 2 - Bureaustudie'!$A$9:$E$300,5,FALSE),"") | O78: Diepte t.o.v. MV [in m] | P78: Grondsoort/ materiaal | Q78: =ROUND(AE71+0.01,2) -> 13.01 | R78: =V75 -> 0 | S78: =VLOOKUP(Q78,'Stap 2 - Bureaustudie'!$A$9:$D$44,1,FALSE) -> #N/A | T78: =IFERROR(S78,"") | U78: =IFERROR(VLOOKUP(T78,'Stap 2 - Bureaustudie'!$A$9:$E$300,3,FALSE),"") | V78: =IFERROR(VLOOKUP(T78,'Stap 2 - Bureaustudie'!$A$9:$E$300,4,FALSE),"") | W78: =IFERROR(VLOOKUP(T78,'Stap 2 - Bureaustudie'!$A$9:$E$300,5,FALSE),"") | AE78: Diepte t.o.v. MV [in m] | AF78: Grondsoort/ materiaal | AG78: =ROUND(AU71+0.01,2) -> #VALUE! | AH78: =AL75 -> 0 | AI78: =VLOOKUP(AG78,'Stap 2 - Bureaustudie'!$A$9:$D$44,1,FALSE) -> #VALUE! | AJ78: =IFERROR(AI78,"") | AK78: =IFERROR(VLOOKUP(AJ78,'Stap 2 - Bureaustudie'!$A$9:$E$300,3,FALSE),"") | AL78: =IFERROR(VLOOKUP(AJ78,'Stap 2 - Bureaustudie'!$A$9:$E$300,4,FALSE),"") | AM78: =IFERROR(VLOOKUP(AJ78,'Stap 2 - Bureaustudie'!$A$9:$E$300,5,FALSE),"") | AU78: Diepte t.o.v. MV [in m] | AV78: Grondsoort/ materiaal | AW78: =ROUND(BK71+0.01,2) -> #VALUE! | AX78: =BB75 -> 0 | AY78: =VLOOKUP(AW78,'Stap 2 - Bureaustudie'!$A$9:$D$44,1,FALSE) -> #VALUE! | AZ78: =IFERROR(AY78,"") | BA78: =IFERROR(VLOOKUP(AZ78,'Stap 2 - Bureaustudie'!$A$9:$E$300,3,FALSE),"") | BB78: =IFERROR(VLOOKUP(AZ78,'Stap 2 - Bureaustudie'!$A$9:$E$300,4,FALSE),"") | BC78: =IFERROR(VLOOKUP(AZ78,'Stap 2 - Bureaustudie'!$A$9:$E$300,5,FALSE),"") | BK78: Diepte t.o.v. MV [in m] | BL78: Grondsoort/ materiaal
A79: =ROUND(A78+0.01,2) -> 3.02 | B79: =F75 -> 0 | C79: =VLOOKUP(A79,'Stap 2 - Bureaustudie'!$A$9:$D$44,1,FALSE) -> #N/A | D79: =IFERROR(C79,"") | E79: =IFERROR(VLOOKUP(D79,'Stap 2 - Bureaustudie'!$A$9:$E$300,3,FALSE),"") | F79: =IFERROR(VLOOKUP(D79,'Stap 2 - Bureaustudie'!$A$9:$E$300,4,FALSE),"") | G79: =IFERROR(VLOOKUP(D79,'Stap 2 - Bureaustudie'!$A$9:$E$300,5,FALSE),"") | Q79: =ROUND(Q78+0.01,2) -> 13.02 | R79: =V75 -> 0 | S79: =VLOOKUP(Q79,'Stap 2 - Bureaustudie'!$A$9:$D$44,1,FALSE) -> #N/A | T79: =IFERROR(S79,"") | U79: =IFERROR(VLOOKUP(T79,'Stap 2 - Bureaustudie'!$A$9:$E$300,3,FALSE),"") | V79: =IFERROR(VLOOKUP(T79,'Stap 2 - Bureaustudie'!$A$9:$E$300,4,FALSE),"") | W79: =IFERROR(VLOOKUP(T79,'Stap 2 - Bureaustudie'!$A$9:$E$300,5,FALSE),"") | AG79: =ROUND(AG78+0.01,2) -> #VALUE! | AH79: =AL75 -> 0 | AI79: =VLOOKUP(AG79,'Stap 2 - Bureaustudie'!$A$9:$D$44,1,FALSE) -> #VALUE! | AJ79: =IFERROR(AI79,"") | AK79: =IFERROR(VLOOKUP(AJ79,'Stap 2 - Bureaustudie'!$A$9:$E$300,3,FALSE),"") | AL79: =IFERROR(VLOOKUP(AJ79,'Stap 2 - Bureaustudie'!$A$9:$E$300,4,FALSE),"") | AM79: =IFERROR(VLOOKUP(AJ79,'Stap 2 - Bureaustudie'!$A$9:$E$300,5,FALSE),"") | AW79: =ROUND(AW78+0.01,2) -> #VALUE! | AX79: =BB75 -> 0 | AY79: =VLOOKUP(AW79,'Stap 2 - Bureaustudie'!$A$9:$D$44,1,FALSE) -> #VALUE! | AZ79: =IFERROR(AY79,"") | BA79: =IFERROR(VLOOKUP(AZ79,'Stap 2 - Bureaustudie'!$A$9:$E$300,3,FALSE),"") | BB79: =IFERROR(VLOOKUP(AZ79,'Stap 2 - Bureaustudie'!$A$9:$E$300,4,FALSE),"") | BC79: =IFERROR(VLOOKUP(AZ79,'Stap 2 - Bureaustudie'!$A$9:$E$300,5,FALSE),"")
A80: =ROUND(A79+0.01,2) -> 3.03 | B80: =F75 -> 0 | C80: =VLOOKUP(A80,'Stap 2 - Bureaustudie'!$A$9:$D$44,1,FALSE) -> #N/A | D80: =IFERROR(C80,"") | E80: =IFERROR(VLOOKUP(D80,'Stap 2 - Bureaustudie'!$A$9:$E$300,3,FALSE),"") | F80: =IFERROR(VLOOKUP(D80,'Stap 2 - Bureaustudie'!$A$9:$E$300,4,FALSE),"") | G80: =IFERROR(VLOOKUP(D80,'Stap 2 - Bureaustudie'!$A$9:$E$300,5,FALSE),"") | Q80: =ROUND(Q79+0.01,2) -> 13.03 | R80: =V75 -> 0 | S80: =VLOOKUP(Q80,'Stap 2 - Bureaustudie'!$A$9:$D$44,1,FALSE) -> #N/A | T80: =IFERROR(S80,"") | U80: =IFERROR(VLOOKUP(T80,'Stap 2 - Bureaustudie'!$A$9:$E$300,3,FALSE),"") | V80: =IFERROR(VLOOKUP(T80,'Stap 2 - Bureaustudie'!$A$9:$E$300,4,FALSE),"") | W80: =IFERROR(VLOOKUP(T80,'Stap 2 - Bureaustudie'!$A$9:$E$300,5,FALSE),"") | AG80: =ROUND(AG79+0.01,2) -> #VALUE! | AH80: =AL75 -> 0 | AI80: =VLOOKUP(AG80,'Stap 2 - Bureaustudie'!$A$9:$D$44,1,FALSE) -> #VALUE! | AJ80: =IFERROR(AI80,"") | AK80: =IFERROR(VLOOKUP(AJ80,'Stap 2 - Bureaustudie'!$A$9:$E$300,3,FALSE),"") | AL80: =IFERROR(VLOOKUP(AJ80,'Stap 2 - Bureaustudie'!$A$9:$E$300,4,FALSE),"") | AM80: =IFERROR(VLOOKUP(AJ80,'Stap 2 - Bureaustudie'!$A$9:$E$300,5,FALSE),"") | AW80: =ROUND(AW79+0.01,2) -> #VALUE! | AX80: =BB75 -> 0 | AY80: =VLOOKUP(AW80,'Stap 2 - Bureaustudie'!$A$9:$D$44,1,FALSE) -> #VALUE! | AZ80: =IFERROR(AY80,"") | BA80: =IFERROR(VLOOKUP(AZ80,'Stap 2 - Bureaustudie'!$A$9:$E$300,3,FALSE),"") | BB80: =IFERROR(VLOOKUP(AZ80,'Stap 2 - Bureaustudie'!$A$9:$E$300,4,FALSE),"") | BC80: =IFERROR(VLOOKUP(AZ80,'Stap 2 - Bureaustudie'!$A$9:$E$300,5,FALSE),"")
A81: =ROUND(A80+0.01,2) -> 3.04 | B81: =F75 -> 0 | C81: =VLOOKUP(A81,'Stap 2 - Bureaustudie'!$A$9:$D$44,1,FALSE) -> #N/A | D81: =IFERROR(C81,"") | E81: =IFERROR(VLOOKUP(D81,'Stap 2 - Bureaustudie'!$A$9:$E$300,3,FALSE),"") | F81: =IFERROR(VLOOKUP(D81,'Stap 2 - Bureaustudie'!$A$9:$E$300,4,FALSE),"") | G81: =IFERROR(VLOOKUP(D81,'Stap 2 - Bureaustudie'!$A$9:$E$300,5,FALSE),"") | Q81: =ROUND(Q80+0.01,2) -> 13.04 | R81: =V75 -> 0 | S81: =VLOOKUP(Q81,'Stap 2 - Bureaustudie'!$A$9:$D$44,1,FALSE) -> #N/A | T81: =IFERROR(S81,"") | U81: =IFERROR(VLOOKUP(T81,'Stap 2 - Bureaustudie'!$A$9:$E$300,3,FALSE),"") | V81: =IFERROR(VLOOKUP(T81,'Stap 2 - Bureaustudie'!$A$9:$E$300,4,FALSE),"") | W81: =IFERROR(VLOOKUP(T81,'Stap 2 - Bureaustudie'!$A$9:$E$300,5,FALSE),"") | AG81: =ROUND(AG80+0.01,2) -> #VALUE! | AH81: =AL75 -> 0 | AI81: =VLOOKUP(AG81,'Stap 2 - Bureaustudie'!$A$9:$D$44,1,FALSE) -> #VALUE! | AJ81: =IFERROR(AI81,"") | AK81: =IFERROR(VLOOKUP(AJ81,'Stap 2 - Bureaustudie'!$A$9:$E$300,3,FALSE),"") | AL81: =IFERROR(VLOOKUP(AJ81,'Stap 2 - Bureaustudie'!$A$9:$E$300,4,FALSE),"") | AM81: =IFERROR(VLOOKUP(AJ81,'Stap 2 - Bureaustudie'!$A$9:$E$300,5,FALSE),"") | AW81: =ROUND(AW80+0.01,2) -> #VALUE! | AX81: =BB75 -> 0 | AY81: =VLOOKUP(AW81,'Stap 2 - Bureaustudie'!$A$9:$D$44,1,FALSE) -> #VALUE! | AZ81: =IFERROR(AY81,"") | BA81: =IFERROR(VLOOKUP(AZ81,'Stap 2 - Bureaustudie'!$A$9:$E$300,3,FALSE),"") | BB81: =IFERROR(VLOOKUP(AZ81,'Stap 2 - Bureaustudie'!$A$9:$E$300,4,FALSE),"") | BC81: =IFERROR(VLOOKUP(AZ81,'Stap 2 - Bureaustudie'!$A$9:$E$300,5,FALSE),"")
A82: =ROUND(A81+0.01,2) -> 3.05 | B82: =F75 -> 0 | C82: =VLOOKUP(A82,'Stap 2 - Bureaustudie'!$A$9:$D$44,1,FALSE) -> #N/A | D82: =IFERROR(C82,"") | E82: =IFERROR(VLOOKUP(D82,'Stap 2 - Bureaustudie'!$A$9:$E$300,3,FALSE),"") | F82: =IFERROR(VLOOKUP(D82,'Stap 2 - Bureaustudie'!$A$9:$E$300,4,FALSE),"") | G82: =IFERROR(VLOOKUP(D82,'Stap 2 - Bureaustudie'!$A$9:$E$300,5,FALSE),"") | Q82: =ROUND(Q81+0.01,2) -> 13.05 | R82: =V75 -> 0 | S82: =VLOOKUP(Q82,'Stap 2 - Bureaustudie'!$A$9:$D$44,1,FALSE) -> #N/A | T82: =IFERROR(S82,"") | U82: =IFERROR(VLOOKUP(T82,'Stap 2 - Bureaustudie'!$A$9:$E$300,3,FALSE),"") | V82: =IFERROR(VLOOKUP(T82,'Stap 2 - Bureaustudie'!$A$9:$E$300,4,FALSE),"") | W82: =IFERROR(VLOOKUP(T82,'Stap 2 - Bureaustudie'!$A$9:$E$300,5,FALSE),"") | AG82: =ROUND(AG81+0.01,2) -> #VALUE! | AH82: =AL75 -> 0 | AI82: =VLOOKUP(AG82,'Stap 2 - Bureaustudie'!$A$9:$D$44,1,FALSE) -> #VALUE! | AJ82: =IFERROR(AI82,"") | AK82: =IFERROR(VLOOKUP(AJ82,'Stap 2 - Bureaustudie'!$A$9:$E$300,3,FALSE),"") | AL82: =IFERROR(VLOOKUP(AJ82,'Stap 2 - Bureaustudie'!$A$9:$E$300,4,FALSE),"") | AM82: =IFERROR(VLOOKUP(AJ82,'Stap 2 - Bureaustudie'!$A$9:$E$300,5,FALSE),"") | AW82: =ROUND(AW81+0.01,2) -> #VALUE! | AX82: =BB75 -> 0 | AY82: =VLOOKUP(AW82,'Stap 2 - Bureaustudie'!$A$9:$D$44,1,FALSE) -> #VALUE! | AZ82: =IFERROR(AY82,"") | BA82: =IFERROR(VLOOKUP(AZ82,'Stap 2 - Bureaustudie'!$A$9:$E$300,3,FALSE),"") | BB82: =IFERROR(VLOOKUP(AZ82,'Stap 2 - Bureaustudie'!$A$9:$E$300,4,FALSE),"") | BC82: =IFERROR(VLOOKUP(AZ82,'Stap 2 - Bureaustudie'!$A$9:$E$300,5,FALSE),"")
A83: =ROUND(A82+0.01,2) -> 3.06 | B83: =F75 -> 0 | C83: =VLOOKUP(A83,'Stap 2 - Bureaustudie'!$A$9:$D$44,1,FALSE) -> #N/A | D83: =IFERROR(C83,"") | E83: =IFERROR(VLOOKUP(D83,'Stap 2 - Bureaustudie'!$A$9:$E$300,3,FALSE),"") | F83: =IFERROR(VLOOKUP(D83,'Stap 2 - Bureaustudie'!$A$9:$E$300,4,FALSE),"") | G83: =IFERROR(VLOOKUP(D83,'Stap 2 - Bureaustudie'!$A$9:$E$300,5,FALSE),"") | Q83: =ROUND(Q82+0.01,2) -> 13.06 | R83: =V75 -> 0 | S83: =VLOOKUP(Q83,'Stap 2 - Bureaustudie'!$A$9:$D$44,1,FALSE) -> #N/A | T83: =IFERROR(S83,"") | U83: =IFERROR(VLOOKUP(T83,'Stap 2 - Bureaustudie'!$A$9:$E$300,3,FALSE),"") | V83: =IFERROR(VLOOKUP(T83,'Stap 2 - Bureaustudie'!$A$9:$E$300,4,FALSE),"") | W83: =IFERROR(VLOOKUP(T83,'Stap 2 - Bureaustudie'!$A$9:$E$300,5,FALSE),"") | AG83: =ROUND(AG82+0.01,2) -> #VALUE! | AH83: =AL75 -> 0 | AI83: =VLOOKUP(AG83,'Stap 2 - Bureaustudie'!$A$9:$D$44,1,FALSE) -> #VALUE! | AJ83: =IFERROR(AI83,"") | AK83: =IFERROR(VLOOKUP(AJ83,'Stap 2 - Bureaustudie'!$A$9:$E$300,3,FALSE),"") | AL83: =IFERROR(VLOOKUP(AJ83,'Stap 2 - Bureaustudie'!$A$9:$E$300,4,FALSE),"") | AM83: =IFERROR(VLOOKUP(AJ83,'Stap 2 - Bureaustudie'!$A$9:$E$300,5,FALSE),"") | AW83: =ROUND(AW82+0.01,2) -> #VALUE! | AX83: =BB75 -> 0 | AY83: =VLOOKUP(AW83,'Stap 2 - Bureaustudie'!$A$9:$D$44,1,FALSE) -> #VALUE! | AZ83: =IFERROR(AY83,"") | BA83: =IFERROR(VLOOKUP(AZ83,'Stap 2 - Bureaustudie'!$A$9:$E$300,3,FALSE),"") | BB83: =IFERROR(VLOOKUP(AZ83,'Stap 2 - Bureaustudie'!$A$9:$E$300,4,FALSE),"") | BC83: =IFERROR(VLOOKUP(AZ83,'Stap 2 - Bureaustudie'!$A$9:$E$300,5,FALSE),"")
A84: =ROUND(A83+0.01,2) -> 3.07 | B84: =F75 -> 0 | C84: =VLOOKUP(A84,'Stap 2 - Bureaustudie'!$A$9:$D$44,1,FALSE) -> #N/A | D84: =IFERROR(C84,"") | E84: =IFERROR(VLOOKUP(D84,'Stap 2 - Bureaustudie'!$A$9:$E$300,3,FALSE),"") | F84: =IFERROR(VLOOKUP(D84,'Stap 2 - Bureaustudie'!$A$9:$E$300,4,FALSE),"") | G84: =IFERROR(VLOOKUP(D84,'Stap 2 - Bureaustudie'!$A$9:$E$300,5,FALSE),"") | Q84: =ROUND(Q83+0.01,2) -> 13.07 | R84: =V75 -> 0 | S84: =VLOOKUP(Q84,'Stap 2 - Bureaustudie'!$A$9:$D$44,1,FALSE) -> #N/A | T84: =IFERROR(S84,"") | U84: =IFERROR(VLOOKUP(T84,'Stap 2 - Bureaustudie'!$A$9:$E$300,3,FALSE),"") | V84: =IFERROR(VLOOKUP(T84,'Stap 2 - Bureaustudie'!$A$9:$E$300,4,FALSE),"") | W84: =IFERROR(VLOOKUP(T84,'Stap 2 - Bureaustudie'!$A$9:$E$300,5,FALSE),"") | AG84: =ROUND(AG83+0.01,2) -> #VALUE! | AH84: =AL75 -> 0 | AI84: =VLOOKUP(AG84,'Stap 2 - Bureaustudie'!$A$9:$D$44,1,FALSE) -> #VALUE! | AJ84: =IFERROR(AI84,"") | AK84: =IFERROR(VLOOKUP(AJ84,'Stap 2 - Bureaustudie'!$A$9:$E$300,3,FALSE),"") | AL84: =IFERROR(VLOOKUP(AJ84,'Stap 2 - Bureaustudie'!$A$9:$E$300,4,FALSE),"") | AM84: =IFERROR(VLOOKUP(AJ84,'Stap 2 - Bureaustudie'!$A$9:$E$300,5,FALSE),"") | AW84: =ROUND(AW83+0.01,2) -> #VALUE! | AX84: =BB75 -> 0 | AY84: =VLOOKUP(AW84,'Stap 2 - Bureaustudie'!$A$9:$D$44,1,FALSE) -> #VALUE! | AZ84: =IFERROR(AY84,"") | BA84: =IFERROR(VLOOKUP(AZ84,'Stap 2 - Bureaustudie'!$A$9:$E$300,3,FALSE),"") | BB84: =IFERROR(VLOOKUP(AZ84,'Stap 2 - Bureaustudie'!$A$9:$E$300,4,FALSE),"") | BC84: =IFERROR(VLOOKUP(AZ84,'Stap 2 - Bureaustudie'!$A$9:$E$300,5,FALSE),"")
A85: =ROUND(A84+0.01,2) -> 3.08 | B85: =F75 -> 0 | C85: =VLOOKUP(A85,'Stap 2 - Bureaustudie'!$A$9:$D$44,1,FALSE) -> #N/A | D85: =IFERROR(C85,"") | E85: =IFERROR(VLOOKUP(D85,'Stap 2 - Bureaustudie'!$A$9:$E$300,3,FALSE),"") | F85: =IFERROR(VLOOKUP(D85,'Stap 2 - Bureaustudie'!$A$9:$E$300,4,FALSE),"") | G85: =IFERROR(VLOOKUP(D85,'Stap 2 - Bureaustudie'!$A$9:$E$300,5,FALSE),"") | Q85: =ROUND(Q84+0.01,2) -> 13.08 | R85: =V75 -> 0 | S85: =VLOOKUP(Q85,'Stap 2 - Bureaustudie'!$A$9:$D$44,1,FALSE) -> #N/A | T85: =IFERROR(S85,"") | U85: =IFERROR(VLOOKUP(T85,'Stap 2 - Bureaustudie'!$A$9:$E$300,3,FALSE),"") | V85: =IFERROR(VLOOKUP(T85,'Stap 2 - Bureaustudie'!$A$9:$E$300,4,FALSE),"") | W85: =IFERROR(VLOOKUP(T85,'Stap 2 - Bureaustudie'!$A$9:$E$300,5,FALSE),"") | AG85: =ROUND(AG84+0.01,2) -> #VALUE! | AH85: =AL75 -> 0 | AI85: =VLOOKUP(AG85,'Stap 2 - Bureaustudie'!$A$9:$D$44,1,FALSE) -> #VALUE! | AJ85: =IFERROR(AI85,"") | AK85: =IFERROR(VLOOKUP(AJ85,'Stap 2 - Bureaustudie'!$A$9:$E$300,3,FALSE),"") | AL85: =IFERROR(VLOOKUP(AJ85,'Stap 2 - Bureaustudie'!$A$9:$E$300,4,FALSE),"") | AM85: =IFERROR(VLOOKUP(AJ85,'Stap 2 - Bureaustudie'!$A$9:$E$300,5,FALSE),"") | AW85: =ROUND(AW84+0.01,2) -> #VALUE! | AX85: =BB75 -> 0 | AY85: =VLOOKUP(AW85,'Stap 2 - Bureaustudie'!$A$9:$D$44,1,FALSE) -> #VALUE! | AZ85: =IFERROR(AY85,"") | BA85: =IFERROR(VLOOKUP(AZ85,'Stap 2 - Bureaustudie'!$A$9:$E$300,3,FALSE),"") | BB85: =IFERROR(VLOOKUP(AZ85,'Stap 2 - Bureaustudie'!$A$9:$E$300,4,FALSE),"") | BC85: =IFERROR(VLOOKUP(AZ85,'Stap 2 - Bureaustudie'!$A$9:$E$300,5,FALSE),"")
A86: =ROUND(A84+0.01,2) -> 3.08 | B86: =F75 -> 0 | C86: =VLOOKUP(A86,'Stap 2 - Bureaustudie'!$A$9:$D$44,1,FALSE) -> #N/A | D86: =IFERROR(C86,"") | E86: =IFERROR(VLOOKUP(D86,'Stap 2 - Bureaustudie'!$A$9:$E$300,3,FALSE),"") | F86: =IFERROR(VLOOKUP(D86,'Stap 2 - Bureaustudie'!$A$9:$E$300,4,FALSE),"") | G86: =IFERROR(VLOOKUP(D86,'Stap 2 - Bureaustudie'!$A$9:$E$300,5,FALSE),"") | Q86: =ROUND(Q84+0.01,2) -> 13.08 | R86: =V75 -> 0 | S86: =VLOOKUP(Q86,'Stap 2 - Bureaustudie'!$A$9:$D$44,1,FALSE) -> #N/A | T86: =IFERROR(S86,"") | U86: =IFERROR(VLOOKUP(T86,'Stap 2 - Bureaustudie'!$A$9:$E$300,3,FALSE),"") | V86: =IFERROR(VLOOKUP(T86,'Stap 2 - Bureaustudie'!$A$9:$E$300,4,FALSE),"") | W86: =IFERROR(VLOOKUP(T86,'Stap 2 - Bureaustudie'!$A$9:$E$300,5,FALSE),"") | AG86: =ROUND(AG84+0.01,2) -> #VALUE! | AH86: =AL75 -> 0 | AI86: =VLOOKUP(AG86,'Stap 2 - Bureaustudie'!$A$9:$D$44,1,FALSE) -> #VALUE! | AJ86: =IFERROR(AI86,"") | AK86: =IFERROR(VLOOKUP(AJ86,'Stap 2 - Bureaustudie'!$A$9:$E$300,3,FALSE),"") | AL86: =IFERROR(VLOOKUP(AJ86,'Stap 2 - Bureaustudie'!$A$9:$E$300,4,FALSE),"") | AM86: =IFERROR(VLOOKUP(AJ86,'Stap 2 - Bureaustudie'!$A$9:$E$300,5,FALSE),"") | AW86: =ROUND(AW84+0.01,2) -> #VALUE! | AX86: =BB75 -> 0 | AY86: =VLOOKUP(AW86,'Stap 2 - Bureaustudie'!$A$9:$D$44,1,FALSE) -> #VALUE! | AZ86: =IFERROR(AY86,"") | BA86: =IFERROR(VLOOKUP(AZ86,'Stap 2 - Bureaustudie'!$A$9:$E$300,3,FALSE),"") | BB86: =IFERROR(VLOOKUP(AZ86,'Stap 2 - Bureaustudie'!$A$9:$E$300,4,FALSE),"") | BC86: =IFERROR(VLOOKUP(AZ86,'Stap 2 - Bureaustudie'!$A$9:$E$300,5,FALSE),"")
A87: =ROUND(A86+0.01,2) -> 3.09 | B87: =F75 -> 0 | C87: =VLOOKUP(A87,'Stap 2 - Bureaustudie'!$A$9:$D$44,1,FALSE) -> #N/A | D87: =IFERROR(C87,"") | E87: =IFERROR(VLOOKUP(D87,'Stap 2 - Bureaustudie'!$A$9:$E$300,3,FALSE),"") | F87: =IFERROR(VLOOKUP(D87,'Stap 2 - Bureaustudie'!$A$9:$E$300,4,FALSE),"") | G87: =IFERROR(VLOOKUP(D87,'Stap 2 - Bureaustudie'!$A$9:$E$300,5,FALSE),"") | Q87: =ROUND(Q86+0.01,2) -> 13.09 | R87: =V75 -> 0 | S87: =VLOOKUP(Q87,'Stap 2 - Bureaustudie'!$A$9:$D$44,1,FALSE) -> #N/A | T87: =IFERROR(S87,"") | U87: =IFERROR(VLOOKUP(T87,'Stap 2 - Bureaustudie'!$A$9:$E$300,3,FALSE),"") | V87: =IFERROR(VLOOKUP(T87,'Stap 2 - Bureaustudie'!$A$9:$E$300,4,FALSE),"") | W87: =IFERROR(VLOOKUP(T87,'Stap 2 - Bureaustudie'!$A$9:$E$300,5,FALSE),"") | AG87: =ROUND(AG86+0.01,2) -> #VALUE! | AH87: =AL75 -> 0 | AI87: =VLOOKUP(AG87,'Stap 2 - Bureaustudie'!$A$9:$D$44,1,FALSE) -> #VALUE! | AJ87: =IFERROR(AI87,"") | AK87: =IFERROR(VLOOKUP(AJ87,'Stap 2 - Bureaustudie'!$A$9:$E$300,3,FALSE),"") | AL87: =IFERROR(VLOOKUP(AJ87,'Stap 2 - Bureaustudie'!$A$9:$E$300,4,FALSE),"") | AM87: =IFERROR(VLOOKUP(AJ87,'Stap 2 - Bureaustudie'!$A$9:$E$300,5,FALSE),"") | AW87: =ROUND(AW86+0.01,2) -> #VALUE! | AX87: =BB75 -> 0 | AY87: =VLOOKUP(AW87,'Stap 2 - Bureaustudie'!$A$9:$D$44,1,FALSE) -> #VALUE! | AZ87: =IFERROR(AY87,"") | BA87: =IFERROR(VLOOKUP(AZ87,'Stap 2 - Bureaustudie'!$A$9:$E$300,3,FALSE),"") | BB87: =IFERROR(VLOOKUP(AZ87,'Stap 2 - Bureaustudie'!$A$9:$E$300,4,FALSE),"") | BC87: =IFERROR(VLOOKUP(AZ87,'Stap 2 - Bureaustudie'!$A$9:$E$300,5,FALSE),"")
A88: =ROUND(A87+0.01,2) -> 3.1 | B88: =F75 -> 0 | C88: =VLOOKUP(A88,'Stap 2 - Bureaustudie'!$A$9:$D$44,1,FALSE) -> #N/A | D88: =IFERROR(C88,"") | E88: =IFERROR(VLOOKUP(D88,'Stap 2 - Bureaustudie'!$A$9:$E$300,3,FALSE),"") | F88: =IFERROR(VLOOKUP(D88,'Stap 2 - Bureaustudie'!$A$9:$E$300,4,FALSE),"") | G88: =IFERROR(VLOOKUP(D88,'Stap 2 - Bureaustudie'!$A$9:$E$300,5,FALSE),"") | Q88: =ROUND(Q87+0.01,2) -> 13.1 | R88: =V75 -> 0 | S88: =VLOOKUP(Q88,'Stap 2 - Bureaustudie'!$A$9:$D$44,1,FALSE) -> #N/A | T88: =IFERROR(S88,"") | U88: =IFERROR(VLOOKUP(T88,'Stap 2 - Bureaustudie'!$A$9:$E$300,3,FALSE),"") | V88: =IFERROR(VLOOKUP(T88,'Stap 2 - Bureaustudie'!$A$9:$E$300,4,FALSE),"") | W88: =IFERROR(VLOOKUP(T88,'Stap 2 - Bureaustudie'!$A$9:$E$300,5,FALSE),"") | AG88: =ROUND(AG87+0.01,2) -> #VALUE! | AH88: =AL75 -> 0 | AI88: =VLOOKUP(AG88,'Stap 2 - Bureaustudie'!$A$9:$D$44,1,FALSE) -> #VALUE! | AJ88: =IFERROR(AI88,"") | AK88: =IFERROR(VLOOKUP(AJ88,'Stap 2 - Bureaustudie'!$A$9:$E$300,3,FALSE),"") | AL88: =IFERROR(VLOOKUP(AJ88,'Stap 2 - Bureaustudie'!$A$9:$E$300,4,FALSE),"") | AM88: =IFERROR(VLOOKUP(AJ88,'Stap 2 - Bureaustudie'!$A$9:$E$300,5,FALSE),"") | AW88: =ROUND(AW87+0.01,2) -> #VALUE! | AX88: =BB75 -> 0 | AY88: =VLOOKUP(AW88,'Stap 2 - Bureaustudie'!$A$9:$D$44,1,FALSE) -> #VALUE! | AZ88: =IFERROR(AY88,"") | BA88: =IFERROR(VLOOKUP(AZ88,'Stap 2 - Bureaustudie'!$A$9:$E$300,3,FALSE),"") | BB88: =IFERROR(VLOOKUP(AZ88,'Stap 2 - Bureaustudie'!$A$9:$E$300,4,FALSE),"") | BC88: =IFERROR(VLOOKUP(AZ88,'Stap 2 - Bureaustudie'!$A$9:$E$300,5,FALSE),"")
A89: =ROUND(A88+0.01,2) -> 3.11 | B89: =F75 -> 0 | C89: =VLOOKUP(A89,'Stap 2 - Bureaustudie'!$A$9:$D$44,1,FALSE) -> #N/A | D89: =IFERROR(C89,"") | E89: =IFERROR(VLOOKUP(D89,'Stap 2 - Bureaustudie'!$A$9:$E$300,3,FALSE),"") | F89: =IFERROR(VLOOKUP(D89,'Stap 2 - Bureaustudie'!$A$9:$E$300,4,FALSE),"") | G89: =IFERROR(VLOOKUP(D89,'Stap 2 - Bureaustudie'!$A$9:$E$300,5,FALSE),"") | Q89: =ROUND(Q88+0.01,2) -> 13.11 | R89: =V75 -> 0 | S89: =VLOOKUP(Q89,'Stap 2 - Bureaustudie'!$A$9:$D$44,1,FALSE) -> #N/A | T89: =IFERROR(S89,"") | U89: =IFERROR(VLOOKUP(T89,'Stap 2 - Bureaustudie'!$A$9:$E$300,3,FALSE),"") | V89: =IFERROR(VLOOKUP(T89,'Stap 2 - Bureaustudie'!$A$9:$E$300,4,FALSE),"") | W89: =IFERROR(VLOOKUP(T89,'Stap 2 - Bureaustudie'!$A$9:$E$300,5,FALSE),"") | AG89: =ROUND(AG88+0.01,2) -> #VALUE! | AH89: =AL75 -> 0 | AI89: =VLOOKUP(AG89,'Stap 2 - Bureaustudie'!$A$9:$D$44,1,FALSE) -> #VALUE! | AJ89: =IFERROR(AI89,"") | AK89: =IFERROR(VLOOKUP(AJ89,'Stap 2 - Bureaustudie'!$A$9:$E$300,3,FALSE),"") | AL89: =IFERROR(VLOOKUP(AJ89,'Stap 2 - Bureaustudie'!$A$9:$E$300,4,FALSE),"") | AM89: =IFERROR(VLOOKUP(AJ89,'Stap 2 - Bureaustudie'!$A$9:$E$300,5,FALSE),"") | AW89: =ROUND(AW88+0.01,2) -> #VALUE! | AX89: =BB75 -> 0 | AY89: =VLOOKUP(AW89,'Stap 2 - Bureaustudie'!$A$9:$D$44,1,FALSE) -> #VALUE! | AZ89: =IFERROR(AY89,"") | BA89: =IFERROR(VLOOKUP(AZ89,'Stap 2 - Bureaustudie'!$A$9:$E$300,3,FALSE),"") | BB89: =IFERROR(VLOOKUP(AZ89,'Stap 2 - Bureaustudie'!$A$9:$E$300,4,FALSE),"") | BC89: =IFERROR(VLOOKUP(AZ89,'Stap 2 - Bureaustudie'!$A$9:$E$300,5,FALSE),"")
A90: =ROUND(#REF!+0.01,2) -> #REF! | C90: =VLOOKUP(A90,'Stap 2 - Bureaustudie'!$A$9:$D$44,1,FALSE) -> #REF! | E90: Onverwachte kabels en leidingen | Q90: =ROUND(#REF!+0.01,2) -> #REF! | S90: =VLOOKUP(Q90,'Stap 2 - Bureaustudie'!$A$9:$D$44,1,FALSE) -> #REF! | U90: Onverwachte kabels en leidingen | AG90: =ROUND(#REF!+0.01,2) -> #REF! | AI90: =VLOOKUP(AG90,'Stap 2 - Bureaustudie'!$A$9:$D$44,1,FALSE) -> #REF! | AK90: Onverwachte kabels en leidingen | AW90: =ROUND(#REF!+0.01,2) -> #REF! | AY90: =VLOOKUP(AW90,'Stap 2 - Bureaustudie'!$A$9:$D$44,1,FALSE) -> #REF! | BA90: Onverwachte kabels en leidingen
A91: =ROUND(A90+0.01,2) -> #REF! | B91: =F75 -> 0 | C91: =VLOOKUP(A91,'Stap 2 - Bureaustudie'!$A$9:$D$44,1,FALSE) -> #REF! | D91: =IF(E91<>"",MAX(D72:D89)+0.01,"") | H91: =IF(E91<>"","Ja","") | Q91: =ROUND(Q90+0.01,2) -> #REF! | R91: =V75 -> 0 | S91: =VLOOKUP(Q91,'Stap 2 - Bureaustudie'!$A$9:$D$44,1,FALSE) -> #REF! | T91: =IF(U91<>"",MAX(T72:T89)+0.01,"") | X91: =IF(U91<>"","Ja","") | AG91: =ROUND(AG90+0.01,2) -> #REF! | AH91: =AL75 -> 0 | AI91: =VLOOKUP(AG91,'Stap 2 - Bureaustudie'!$A$9:$D$44,1,FALSE) -> #REF! | AJ91: =IF(AK91<>"",MAX(AJ72:AJ89)+0.01,"") | AN91: =IF(AK91<>"","Ja","") | AW91: =ROUND(AW90+0.01,2) -> #REF! | AX91: =BB75 -> 0 | AY91: =VLOOKUP(AW91,'Stap 2 - Bureaustudie'!$A$9:$D$44,1,FALSE) -> #REF! | AZ91: =IF(BA91<>"",MAX(AZ72:AZ89)+0.01,"") | BD91: =IF(BA91<>"","Ja","")
A92: =ROUND(A91+0.01,2) -> #REF! | B92: =F75 -> 0 | C92: =VLOOKUP(A92,'Stap 2 - Bureaustudie'!$A$9:$D$44,1,FALSE) -> #REF! | D92: =IF(E92<>"",D91+0.01,"") | H92: =IF(E92<>"","Ja","") | Q92: =ROUND(Q91+0.01,2) -> #REF! | R92: =V75 -> 0 | S92: =VLOOKUP(Q92,'Stap 2 - Bureaustudie'!$A$9:$D$44,1,FALSE) -> #REF! | T92: =IF(U92<>"",T91+0.01,"") | X92: =IF(U92<>"","Ja","") | AG92: =ROUND(AG91+0.01,2) -> #REF! | AH92: =AL75 -> 0 | AI92: =VLOOKUP(AG92,'Stap 2 - Bureaustudie'!$A$9:$D$44,1,FALSE) -> #REF! | AJ92: =IF(AK92<>"",AJ91+0.01,"") | AN92: =IF(AK92<>"","Ja","") | AW92: =ROUND(AW91+0.01,2) -> #REF! | AX92: =BB75 -> 0 | AY92: =VLOOKUP(AW92,'Stap 2 - Bureaustudie'!$A$9:$D$44,1,FALSE) -> #REF! | AZ92: =IF(BA92<>"",AZ91+0.01,"") | BD92: =IF(BA92<>"","Ja","")
A93: =ROUND(A92+0.01,2) -> #REF! | B93: =F75 -> 0 | C93: =VLOOKUP(A93,'Stap 2 - Bureaustudie'!$A$9:$D$44,1,FALSE) -> #REF! | D93: =IF(E93<>"",D92+0.01,"") | H93: =IF(E93<>"","Ja","") | Q93: =ROUND(Q92+0.01,2) -> #REF! | R93: =V75 -> 0 | S93: =VLOOKUP(Q93,'Stap 2 - Bureaustudie'!$A$9:$D$44,1,FALSE) -> #REF! | T93: =IF(U93<>"",T92+0.01,"") | X93: =IF(U93<>"","Ja","") | AG93: =ROUND(AG92+0.01,2) -> #REF! | AH93: =AL75 -> 0 | AI93: =VLOOKUP(AG93,'Stap 2 - Bureaustudie'!$A$9:$D$44,1,FALSE) -> #REF! | AJ93: =IF(AK93<>"",AJ92+0.01,"") | AN93: =IF(AK93<>"","Ja","") | AW93: =ROUND(AW92+0.01,2) -> #REF! | AX93: =BB75 -> 0 | AY93: =VLOOKUP(AW93,'Stap 2 - Bureaustudie'!$A$9:$D$44,1,FALSE) -> #REF! | AZ93: =IF(BA93<>"",AZ92+0.01,"") | BD93: =IF(BA93<>"","Ja","")
B94: =F75 -> 0 | D94: =IF(E94<>"",D93+0.01,"") | H94: =IF(E94<>"","Ja","") | O94: Grondwaterstand in m t.o.v. N.A.P | R94: =V75 -> 0 | T94: =IF(U94<>"",T93+0.01,"") | X94: =IF(U94<>"","Ja","") | AE94: Grondwaterstand in m t.o.v. N.A.P | AH94: =AL75 -> 0 | AJ94: =IF(AK94<>"",AJ93+0.01,"") | AN94: =IF(AK94<>"","Ja","") | AU94: Grondwaterstand in m t.o.v. N.A.P | AX94: =BB75 -> 0 | AZ94: =IF(BA94<>"",AZ93+0.01,"") | BD94: =IF(BA94<>"","Ja","") | BK94: Grondwaterstand in m t.o.v. N.A.P
B95: =F75 -> 0 | D95: =IF(E95<>"",D94+0.01,"") | H95: =IF(E95<>"","Ja","") | R95: =V75 -> 0 | T95: =IF(U95<>"",T94+0.01,"") | X95: =IF(U95<>"","Ja","") | AH95: =AL75 -> 0 | AJ95: =IF(AK95<>"",AJ94+0.01,"") | AN95: =IF(AK95<>"","Ja","") | AX95: =BB75 -> 0 | AZ95: =IF(BA95<>"",AZ94+0.01,"") | BD95: =IF(BA95<>"","Ja","")
D96: Eisen proefsleuf | G96: Doel proefsleuf | J96: Opmerkingen in het veld | T96: Eisen proefsleuf | W96: Doel proefsleuf | Z96: Opmerkingen in het veld | AJ96: Eisen proefsleuf | AM96: Doel proefsleuf | AP96: Opmerkingen in het veld | AZ96: Eisen proefsleuf | BC96: Doel proefsleuf | BF96: Opmerkingen in het veld
D97: =IF(OFFSET('Stap 1 - Aanvraag Deelopdracht '!$A$15,0,O71)=TRUE, 'Stap 1 - Aanvraag Deelopdracht '!$A$15, "") & "; " & IF(OFFSET('Stap 1 - Aanvraag Deelopdracht '!$A$16,0,O71)=TRUE, 'Stap 1 - Aanvraag Deelopdracht '!$A$16, "") & "; " & IF(OFFSET('Stap 1 - Aanvraag Deelopdracht '!$A$17,0,O71)=TRUE, 'Stap 1 - Aanvraag Deelopdracht '!$A$17, "") & "; " & IF(OFFSET('Stap 1 - Aanvraag Deelopdracht '!$A$18,0,O71)=TRUE, 'Stap 1 - Aanvraag Deelopdracht '!$A$18, "") & "; " -> ; ; ; ; | G97: =IF(OFFSET('Stap 1 - Aanvraag Deelopdracht '!$A$20,0,O71)=TRUE, 'Stap 1 - Aanvraag Deelopdracht '!$A$20, "") & "; " & IF(OFFSET('Stap 1 - Aanvraag Deelopdracht '!$A$21,0,O71)=TRUE, 'Stap 1 - Aanvraag Deelopdracht '!$A$21, "") & "; " & IF(OFFSET('Stap 1 - Aanvraag Deelopdracht '!$A$22,0,O71)=TRUE, 'Stap 1 - Aanvraag Deelopdracht '!$A$22, "") & "; " & IF(OFFSET('Stap 1 - Aanvraag Deelopdracht '!$A$23,0,O71)=TRUE, 'Stap 1 - Aanvraag Deelopdracht '!$A$23, "") & "; " & IF(OFFSET('Stap 1 - Aanvraag Deelopdracht '!$A$24,0,O71)=TRUE,'Stap 1 - Aanvraag Deelopdracht '!$A$24, "") -> ; ; ; ; | T97: =IF(OFFSET('Stap 1 - Aanvraag Deelopdracht '!$A$15,0,AE71)=TRUE, 'Stap 1 - Aanvraag Deelopdracht '!$A$15, "") & "; " & IF(OFFSET('Stap 1 - Aanvraag Deelopdracht '!$A$16,0,AE71)=TRUE, 'Stap 1 - Aanvraag Deelopdracht '!$A$16, "") & "; " & IF(OFFSET('Stap 1 - Aanvraag Deelopdracht '!$A$17,0,AE71)=TRUE, 'Stap 1 - Aanvraag Deelopdracht '!$A$17, "") & "; " & IF(OFFSET('Stap 1 - Aanvraag Deelopdracht '!$A$18,0,AE71)=TRUE, 'Stap 1 - Aanvraag Deelopdracht '!$A$18, "") & "; " -> ; ; ; ; | W97: =IF(OFFSET('Stap 1 - Aanvraag Deelopdracht '!$A$20,0,AE71)=TRUE, 'Stap 1 - Aanvraag Deelopdracht '!$A$20, "") & "; " & IF(OFFSET('Stap 1 - Aanvraag Deelopdracht '!$A$21,0,AE71)=TRUE, 'Stap 1 - Aanvraag Deelopdracht '!$A$21, "") & "; " & IF(OFFSET('Stap 1 - Aanvraag Deelopdracht '!$A$22,0,AE71)=TRUE, 'Stap 1 - Aanvraag Deelopdracht '!$A$22, "") & "; " & IF(OFFSET('Stap 1 - Aanvraag Deelopdracht '!$A$23,0,AE71)=TRUE, 'Stap 1 - Aanvraag Deelopdracht '!$A$23, "") & "; " & IF(OFFSET('Stap 1 - Aanvraag Deelopdracht '!$A$24,0,AE71)=TRUE,'Stap 1 - Aanvraag Deelopdracht '!$A$24, "") -> ; ; ; ; | AJ97: =IF(OFFSET('Stap 1 - Aanvraag Deelopdracht '!$A$15,0,AU71)=TRUE, 'Stap 1 - Aanvraag Deelopdracht '!$A$15, "") & "; " & IF(OFFSET('Stap 1 - Aanvraag Deelopdracht '!$A$16,0,AU71)=TRUE, 'Stap 1 - Aanvraag Deelopdracht '!$A$16, "") & "; " & IF(OFFSET('Stap 1 - Aanvraag Deelopdracht '!$A$17,0,AU71)=TRUE, 'Stap 1 - Aanvraag Deelopdracht '!$A$17, "") & "; " & IF(OFFSET('Stap 1 - Aanvraag Deelopdracht '!$A$18,0,AU71)=TRUE, 'Stap 1 - Aanvraag Deelopdracht '!$A$18, "") & "; " -> #VALUE! | AM97: =IF(OFFSET('Stap 1 - Aanvraag Deelopdracht '!$A$20,0,AU71)=TRUE, 'Stap 1 - Aanvraag Deelopdracht '!$A$20, "") & "; " & IF(OFFSET('Stap 1 - Aanvraag Deelopdracht '!$A$21,0,AU71)=TRUE, 'Stap 1 - Aanvraag Deelopdracht '!$A$21, "") & "; " & IF(OFFSET('Stap 1 - Aanvraag Deelopdracht '!$A$22,0,AU71)=TRUE, 'Stap 1 - Aanvraag Deelopdracht '!$A$22, "") & "; " & IF(OFFSET('Stap 1 - Aanvraag Deelopdracht '!$A$23,0,AU71)=TRUE, 'Stap 1 - Aanvraag Deelopdracht '!$A$23, "") & "; " & IF(OFFSET('Stap 1 - Aanvraag Deelopdracht '!$A$24,0,AU71)=TRUE,'Stap 1 - Aanvraag Deelopdracht '!$A$24, "") -> #VALUE! | AZ97: =IF(OFFSET('Stap 1 - Aanvraag Deelopdracht '!$A$15,0,BK71)=TRUE, 'Stap 1 - Aanvraag Deelopdracht '!$A$15, "") & "; " & IF(OFFSET('Stap 1 - Aanvraag Deelopdracht '!$A$16,0,BK71)=TRUE, 'Stap 1 - Aanvraag Deelopdracht '!$A$16, "") & "; " & IF(OFFSET('Stap 1 - Aanvraag Deelopdracht '!$A$17,0,BK71)=TRUE, 'Stap 1 - Aanvraag Deelopdracht '!$A$17, "") & "; " & IF(OFFSET('Stap 1 - Aanvraag Deelopdracht '!$A$18,0,BK71)=TRUE, 'Stap 1 - Aanvraag Deelopdracht '!$A$18, "") & "; " -> #VALUE! | BC97: =IF(OFFSET('Stap 1 - Aanvraag Deelopdracht '!$A$20,0,BK71)=TRUE, 'Stap 1 - Aanvraag Deelopdracht '!$A$20, "") & "; " & IF(OFFSET('Stap 1 - Aanvraag Deelopdracht '!$A$21,0,BK71)=TRUE, 'Stap 1 - Aanvraag Deelopdracht '!$A$21, "") & "; " & IF(OFFSET('Stap 1 - Aanvraag Deelopdracht '!$A$22,0,BK71)=TRUE, 'Stap 1 - Aanvraag Deelopdracht '!$A$22, "") & "; " & IF(OFFSET('Stap 1 - Aanvraag Deelopdracht '!$A$23,0,BK71)=TRUE, 'Stap 1 - Aanvraag Deelopdracht '!$A$23, "") & "; " & IF(OFFSET('Stap 1 - Aanvraag Deelopdracht '!$A$24,0,BK71)=TRUE,'Stap 1 - Aanvraag Deelopdracht '!$A$24, "") -> #VALUE!
D101: Opmerkingen vanuit kantoor | J101: Contactgegevens gemeente Gouda [Naam | Telefoon] | T101: Opmerkingen vanuit kantoor | Z101: Contactgegevens gemeente Gouda [Naam | Telefoon] | AJ101: Opmerkingen vanuit kantoor | AP101: Contactgegevens gemeente Gouda [Naam | Telefoon] | AZ101: Opmerkingen vanuit kantoor | BF101: Contactgegevens gemeente Gouda [Naam | Telefoon]
D102: =OFFSET('Stap 1 - Aanvraag Deelopdracht '!$A$25,0,O71) -> Geen opmerkingen | J102: Projectleider | K102: =IF('Stap 1 - Aanvraag Deelopdracht '!$B$31=0,"",'Stap 1 - Aanvraag Deelopdracht '!$B$31) -> Persoon 1 | N102: =IF('Stap 1 - Aanvraag Deelopdracht '!$D$31=0,"",'Stap 1 - Aanvraag Deelopdracht '!$D$31) -> 06-00000001 | T102: =OFFSET('Stap 1 - Aanvraag Deelopdracht '!$A$25,0,AE71) -> Geen opmerkingen | Z102: Projectleider | AA102: =IF('Stap 1 - Aanvraag Deelopdracht '!$B$31=0,"",'Stap 1 - Aanvraag Deelopdracht '!$B$31) -> Persoon 1 | AD102: =IF('Stap 1 - Aanvraag Deelopdracht '!$D$31=0,"",'Stap 1 - Aanvraag Deelopdracht '!$D$31) -> 06-00000001 | AJ102: =OFFSET('Stap 1 - Aanvraag Deelopdracht '!$A$25,0,AU71) -> #VALUE! | AP102: Projectleider | AQ102: =IF('Stap 1 - Aanvraag Deelopdracht '!$B$31=0,"",'Stap 1 - Aanvraag Deelopdracht '!$B$31) -> Persoon 1 | AT102: =IF('Stap 1 - Aanvraag Deelopdracht '!$D$31=0,"",'Stap 1 - Aanvraag Deelopdracht '!$D$31) -> 06-00000001 | AZ102: =OFFSET('Stap 1 - Aanvraag Deelopdracht '!$A$25,0,BK71) -> #VALUE! | BF102: Projectleider | BG102: =IF('Stap 1 - Aanvraag Deelopdracht '!$B$31=0,"",'Stap 1 - Aanvraag Deelopdracht '!$B$31) -> Persoon 1 | BJ102: =IF('Stap 1 - Aanvraag Deelopdracht '!$D$31=0,"",'Stap 1 - Aanvraag Deelopdracht '!$D$31) -> 06-00000001
J103: Jun-projectleider | K103: =IF('Stap 1 - Aanvraag Deelopdracht '!$B$32=0,"",'Stap 1 - Aanvraag Deelopdracht '!$B$32) -> Persoon 2 | N103: =IF('Stap 1 - Aanvraag Deelopdracht '!$D$32=0,"",'Stap 1 - Aanvraag Deelopdracht '!$D$32) -> 06-00000002 | Z103: Jun-projectleider | AA103: =IF('Stap 1 - Aanvraag Deelopdracht '!$B$32=0,"",'Stap 1 - Aanvraag Deelopdracht '!$B$32) -> Persoon 2 | AD103: =IF('Stap 1 - Aanvraag Deelopdracht '!$D$32=0,"",'Stap 1 - Aanvraag Deelopdracht '!$D$32) -> 06-00000002 | AP103: Jun-projectleider | AQ103: =IF('Stap 1 - Aanvraag Deelopdracht '!$B$32=0,"",'Stap 1 - Aanvraag Deelopdracht '!$B$32) -> Persoon 2 | AT103: =IF('Stap 1 - Aanvraag Deelopdracht '!$D$32=0,"",'Stap 1 - Aanvraag Deelopdracht '!$D$32) -> 06-00000002 | BF103: Jun-projectleider | BG103: =IF('Stap 1 - Aanvraag Deelopdracht '!$B$32=0,"",'Stap 1 - Aanvraag Deelopdracht '!$B$32) -> Persoon 2 | BJ103: =IF('Stap 1 - Aanvraag Deelopdracht '!$D$32=0,"",'Stap 1 - Aanvraag Deelopdracht '!$D$32) -> 06-00000002
J104: Toezichthouder | K104: =IF('Stap 1 - Aanvraag Deelopdracht '!$B$33=0,"",'Stap 1 - Aanvraag Deelopdracht '!$B$33) -> Persoon 3 | N104: =IF('Stap 1 - Aanvraag Deelopdracht '!$D$33=0,"",'Stap 1 - Aanvraag Deelopdracht '!$D$33) -> 06-00000003 | Z104: Toezichthouder | AA104: =IF('Stap 1 - Aanvraag Deelopdracht '!$B$33=0,"",'Stap 1 - Aanvraag Deelopdracht '!$B$33) -> Persoon 3 | AD104: =IF('Stap 1 - Aanvraag Deelopdracht '!$D$33=0,"",'Stap 1 - Aanvraag Deelopdracht '!$D$33) -> 06-00000003 | AP104: Toezichthouder | AQ104: =IF('Stap 1 - Aanvraag Deelopdracht '!$B$33=0,"",'Stap 1 - Aanvraag Deelopdracht '!$B$33) -> Persoon 3 | AT104: =IF('Stap 1 - Aanvraag Deelopdracht '!$D$33=0,"",'Stap 1 - Aanvraag Deelopdracht '!$D$33) -> 06-00000003 | BF104: Toezichthouder | BG104: =IF('Stap 1 - Aanvraag Deelopdracht '!$B$33=0,"",'Stap 1 - Aanvraag Deelopdracht '!$B$33) -> Persoon 3 | BJ104: =IF('Stap 1 - Aanvraag Deelopdracht '!$D$33=0,"",'Stap 1 - Aanvraag Deelopdracht '!$D$33) -> 06-00000003
D105: =IF(OFFSET('Stap 1 - Aanvraag Deelopdracht '!$A$17,0,O71)=TRUE, 'Stap 1 - Aanvraag Deelopdracht '!$A$17, "") & " " & IF(OFFSET('Stap 1 - Aanvraag Deelopdracht '!$A$18,0,O71)=TRUE, 'Stap 1 - Aanvraag Deelopdracht '!$A$18, "") | J105: Directievoerder | K105: =IF('Stap 1 - Aanvraag Deelopdracht '!$B$34=0,"",'Stap 1 - Aanvraag Deelopdracht '!$B$34) -> Persoon 4 | N105: =IF('Stap 1 - Aanvraag Deelopdracht '!$D$34=0,"",'Stap 1 - Aanvraag Deelopdracht '!$D$34) -> 06-00000004 | T105: =IF(OFFSET('Stap 1 - Aanvraag Deelopdracht '!$A$17,0,AE71)=TRUE, 'Stap 1 - Aanvraag Deelopdracht '!$A$17, "") & " " & IF(OFFSET('Stap 1 - Aanvraag Deelopdracht '!$A$18,0,AE71)=TRUE, 'Stap 1 - Aanvraag Deelopdracht '!$A$18, "") | Z105: Directievoerder | AA105: =IF('Stap 1 - Aanvraag Deelopdracht '!$B$34=0,"",'Stap 1 - Aanvraag Deelopdracht '!$B$34) -> Persoon 4 | AD105: =IF('Stap 1 - Aanvraag Deelopdracht '!$D$34=0,"",'Stap 1 - Aanvraag Deelopdracht '!$D$34) -> 06-00000004 | AJ105: =IF(OFFSET('Stap 1 - Aanvraag Deelopdracht '!$A$17,0,AU71)=TRUE, 'Stap 1 - Aanvraag Deelopdracht '!$A$17, "") & " " & IF(OFFSET('Stap 1 - Aanvraag Deelopdracht '!$A$18,0,AU71)=TRUE, 'Stap 1 - Aanvraag Deelopdracht '!$A$18, "") -> #VALUE! | AP105: Directievoerder | AQ105: =IF('Stap 1 - Aanvraag Deelopdracht '!$B$34=0,"",'Stap 1 - Aanvraag Deelopdracht '!$B$34) -> Persoon 4 | AT105: =IF('Stap 1 - Aanvraag Deelopdracht '!$D$34=0,"",'Stap 1 - Aanvraag Deelopdracht '!$D$34) -> 06-00000004 | AZ105: =IF(OFFSET('Stap 1 - Aanvraag Deelopdracht '!$A$17,0,BK71)=TRUE, 'Stap 1 - Aanvraag Deelopdracht '!$A$17, "") & " " & IF(OFFSET('Stap 1 - Aanvraag Deelopdracht '!$A$18,0,BK71)=TRUE, 'Stap 1 - Aanvraag Deelopdracht '!$A$18, "") -> #VALUE! | BF105: Directievoerder | BG105: =IF('Stap 1 - Aanvraag Deelopdracht '!$B$34=0,"",'Stap 1 - Aanvraag Deelopdracht '!$B$34) -> Persoon 4 | BJ105: =IF('Stap 1 - Aanvraag Deelopdracht '!$D$34=0,"",'Stap 1 - Aanvraag Deelopdracht '!$D$34) -> 06-00000004
A106: =Projectgegevens!D141 & " " & Projectgegevens!D142 | E106: =IF(O106="","NIET PRINTEN!","") | K106: Aanvraag | L106: Uitvoering | O106: ='Stap 1 - Aanvraag Deelopdracht '!$E$10 -> 4 | Q106: =Projectgegevens!T141 & " " & Projectgegevens!T142 | U106: =IF(AE106="","NIET PRINTEN!","") | AA106: Aanvraag | AB106: Uitvoering | AE106: ='Stap 1 - Aanvraag Deelopdracht '!$O$10 -> 14 | AG106: =Projectgegevens!AJ141 & " " & Projectgegevens!AJ142 | AK106: =IF(AU106="","NIET PRINTEN!","") -> NIET PRINTEN! | AQ106: Aanvraag | AR106: Uitvoering | AU106: ='Stap 1 - Aanvraag Deelopdracht '!$Y$10 | AW106: =Projectgegevens!AZ141 & " " & Projectgegevens!AZ142 | BA106: =IF(BK106="","NIET PRINTEN!","") -> NIET PRINTEN! | BG106: Aanvraag | BH106: Uitvoering | BK106: ='Stap 1 - Aanvraag Deelopdracht '!$AI$10
E107: =IF(O106="","",Projectgegevens!$B$37) -> Project | F107: =Projectgegevens!$D$37 -> Burgemeester Goudalaan | I107: =IF(O106="","","Ontgravingsdiepte [in m]") -> Ontgravingsdiepte [in m] | K107: =OFFSET('Stap 1 - Aanvraag Deelopdracht '!$A$11,0,O106) -> 0 | U107: =IF(AE106="","",Projectgegevens!$B$37) -> Project | V107: =Projectgegevens!$D$37 -> Burgemeester Goudalaan | Y107: =IF(AE106="","","Ontgravingsdiepte [in m]") -> Ontgravingsdiepte [in m] | AA107: =OFFSET('Stap 1 - Aanvraag Deelopdracht '!$A$11,0,AE106) -> 0 | AK107: =IF(AU106="","",Projectgegevens!$B$37) | AL107: =Projectgegevens!$D$37 -> Burgemeester Goudalaan | AO107: =IF(AU106="","","Ontgravingsdiepte [in m]") | AQ107: =OFFSET('Stap 1 - Aanvraag Deelopdracht '!$A$11,0,AU106) -> #VALUE! | BA107: =IF(BK106="","",Projectgegevens!$B$37) | BB107: =Projectgegevens!$D$37 -> Burgemeester Goudalaan | BE107: =IF(BK106="","","Ontgravingsdiepte [in m]") | BG107: =OFFSET('Stap 1 - Aanvraag Deelopdracht '!$A$11,0,BK106) -> #VALUE!
E108: =IF(O106="","",Projectgegevens!$B$36) -> Projectnr. | F108: =Projectgegevens!$D$36 -> 101887 | I108: =IF(O106="","","Lengte [in m]") -> Lengte [in m] | K108: =OFFSET('Stap 1 - Aanvraag Deelopdracht '!$A$12,0,O106) -> 0 | U108: =IF(AE106="","",Projectgegevens!$B$36) -> Projectnr. | V108: =Projectgegevens!$D$36 -> 101887 | Y108: =IF(AE106="","","Lengte [in m]") -> Lengte [in m] | AA108: =OFFSET('Stap 1 - Aanvraag Deelopdracht '!$A$12,0,AE106) -> 0 | AK108: =IF(AU106="","",Projectgegevens!$B$36) | AL108: =Projectgegevens!$D$36 -> 101887 | AO108: =IF(AU106="","","Lengte [in m]") | AQ108: =OFFSET('Stap 1 - Aanvraag Deelopdracht '!$A$12,0,AU106) -> #VALUE! | BA108: =IF(BK106="","",Projectgegevens!$B$36) | BB108: =Projectgegevens!$D$36 -> 101887 | BE108: =IF(BK106="","","Lengte [in m]") | BG108: =OFFSET('Stap 1 - Aanvraag Deelopdracht '!$A$12,0,BK106) -> #VALUE!
E109: =IF(O106="","","Datum proefsleuf") -> Datum proefsleuf | I109: =IF(O106="","","Breedte [in m]") -> Breedte [in m] | K109: =OFFSET('Stap 1 - Aanvraag Deelopdracht '!$A$13,0,O106) -> 0 | U109: =IF(AE106="","","Datum proefsleuf") -> Datum proefsleuf | Y109: =IF(AE106="","","Breedte [in m]") -> Breedte [in m] | AA109: =OFFSET('Stap 1 - Aanvraag Deelopdracht '!$A$13,0,AE106) -> 0 | AK109: =IF(AU106="","","Datum proefsleuf") | AO109: =IF(AU106="","","Breedte [in m]") | AQ109: =OFFSET('Stap 1 - Aanvraag Deelopdracht '!$A$13,0,AU106) -> #VALUE! | BA109: =IF(BK106="","","Datum proefsleuf") | BE109: =IF(BK106="","","Breedte [in m]") | BG109: =OFFSET('Stap 1 - Aanvraag Deelopdracht '!$A$13,0,BK106) -> #VALUE!
...

Sheet Gegevens
A1: Maaiveld | C1: ID | D1: Type kabel/leiding | E1: Netbeheerder | F1: Eis Voorzorg | G1: Gevonden [Ja/Nee] | H1: Hoogte bovenkant t.o.v. N.A.P. [in m] | I1: Diameter of hoogte [in m] | J1: Afstand vanuit meetpunt [in m] | K1: Materiaal | L1: Kleur | P1: Maaiveld | R1: ID | S1: Type kabel/leiding | T1: Netbeheerder | U1: Eis Voorzorg | V1: Gevonden [Ja/Nee] | W1: Hoogte bovenkant t.o.v. N.A.P. [in m] | X1: Diameter of hoogte [in m] | Y1: Afstand vanuit meetpunt [in m] | Z1: Materiaal | AA1: Kleur
A2: {=_xlfn._xlws.FILTER('Stap 3 - Uitvoering'!B2:M500, (ISNUMBER('Stap 3 - Uitvoering'!D2:D500)) * ('Stap 3 - Uitvoering'!D2:D500 > 1))} -> -1 | B2: 1.01 | C2: 1.01 | D2: Datatransport | E2: Stedin B.V. | F2: Nee | G2: Ja | H2: 0 | I2: 0 | J2: 0 | K2: 0 | L2: 0 | P2: {=_xlfn._xlws.FILTER(A:L, (ISNUMBER(C:C)) * (C:C > 1))} -> -1 | Q2: 1.01 | R2: 1.01 | S2: Datatransport | T2: Stedin B.V. | U2: Nee | V2: Ja | W2: 0 | X2: 0 | Y2: 0 | Z2: 0 | AA2: 0
A3: -1 | B3: 1.02 | C3: 1.02 | D3: Datatransport | E3: Gem. Gouda | F3: Nee | G3: Nee | H3: 0 | I3: 0 | J3: 0 | K3: 0 | L3: 0 | P3: -1 | Q3: 1.02 | R3: 1.02 | S3: Datatransport | T3: Gem. Gouda | U3: Nee | V3: Nee | W3: 0 | X3: 0 | Y3: 0 | Z3: 0 | AA3: 0
A4: 0 | B4: 2.01 | C4: 2.01 | D4: Datatransport | E4: Deltafiber Ned B.V. | F4: Nee | G4: 0 | H4: 0 | I4: 0 | J4: 0 | K4: 0 | L4: 0 | P4: 0 | Q4: 2.01 | R4: 2.01 | S4: Datatransport | T4: Deltafiber Ned B.V. | U4: Nee | V4: 0 | W4: 0 | X4: 0 | Y4: 0 | Z4: 0 | AA4: 0
A400: {=_xlfn._xlws.FILTER('Stap 3 - Uitvoering'!R2:AC500, (ISNUMBER('Stap 3 - Uitvoering'!D2:D500)) * ('Stap 3 - Uitvoering'!D2:D500 > 1))} -> 0 | B400: #N/A | G400: 0 | H400: 0 | I400: 0 | J400: 0 | K400: 0 | L400: 0
A401: 0 | B401: #N/A | G401: 0 | H401: 0 | I401: 0 | J401: 0 | K401: 0 | L401: 0
A402: 0 | B402: #N/A | G402: 0 | H402: 0 | I402: 0 | J402: 0 | K402: 0 | L402: 0
A800: {=_xlfn._xlws.FILTER('Stap 3 - Uitvoering'!AH2:AS500, (ISNUMBER('Stap 3 - Uitvoering'!D2:D500)) * ('Stap 3 - Uitvoering'!D2:D500 > 1))} -> 0 | B800: #VALUE! | G800: 0 | H800: 0 | I800: 0 | J800: 0 | K800: 0 | L800: 0
A801: 0 | B801: #VALUE! | G801: 0 | H801: 0 | I801: 0 | J801: 0 | K801: 0 | L801: 0
A802: 0 | B802: #VALUE! | G802: 0 | H802: 0 | I802: 0 | J802: 0 | K802: 0 | L802: 0
A1200: {=_xlfn._xlws.FILTER('Stap 3 - Uitvoering'!AX2:BI500, (ISNUMBER('Stap 3 - Uitvoering'!D2:D500)) * ('Stap 3 - Uitvoering'!D2:D500 > 1))} -> 0 | B1200: #VALUE! | G1200: 0 | H1200: 0 | I1200: 0 | J1200: 0 | K1200: 0 | L1200: 0
A1201: 0 | B1201: #VALUE! | G1201: 0 | H1201: 0 | I1201: 0 | J1201: 0 | K1201: 0 | L1201: 0
A1202: 0 | B1202: #VALUE! | G1202: 0 | H1202: 0 | I1202: 0 | J1202: 0 | K1202: 0 | L1202: 0

Sheet Stap 4 - Knelpuntenanalyse
A1: Stap 4 - Knelpuntenanalyse
A2: Project: | C2: =Projectgegevens!D37 -> Burgemeester Goudalaan
A3: Project | C3: =Projectgegevens!D37 -> Burgemeester Goudalaan
A4: Projectnr | C4: =Projectgegevens!D36 -> 101887
A5: Aantal proefsleuven | C5: ='Stap 1 - Aanvraag Deelopdracht '!B2 -> 15 | E5: Wordt automatisch berekend
A6: Datum knelpuntanalyse | C6: 45748 | E6: In te vullen door Opdrachtgever
A8: ID | B8: Proefsleuf-nummer | C8: Type kabel/leiding | D8: Nutsbedrijf | E8: Kabel gevonden in proefsleuf | F8: Diameter of hoogte buitenkant kabel/leiding | G8: Bovenkant K&L | H8: Onderzijde K&L | I8: Maaiveld hoogte | J8: Dekking | K8: Toekomstig maaiveld hoogte | L8: Toekomstige Dekking | M8: Onderzijde riool conform ontwerp | N8: Diameter buitenkant riool/duiker conform ontwerp | O8: Bovenzijde riool/duiker conform ontwerp | P8: Plaats kabel/leiding t.o.v. nieuw riool/duiker | Q8: Onderlinge verticale afstand (D-I) | R8: Knelpunt | S8: Kruising met: | T8: Opmerking | U8: Maatregel | V8: Werkzaamheden door:
F9: [m] | G9: [m t.o.v. NAP] | H9: [m t.o.v. NAP] | I9: [m t.o.v. NAP] | J9: [m] | K9: [m t.o.v. NAP] | L9: [m] | M9: [m t.o.v. NAP] | N9: [m] | O9: [m t.o.v. NAP] | Q9: [m] | R9: [ja als afstand < 0,20 m] | V9: [naam netbeheerder]
A10: {=Gegevens!R2:R9999} -> 1.01 | B10: =ROUNDDOWN(A10,0) -> 1 | C10: {=Gegevens!S2:S9999} -> Datatransport | D10: {=Gegevens!T2:T9999} -> Stedin B.V. | E10: {=Gegevens!V2:V9999} -> Ja | F10: {=Gegevens!X2:X9999} -> 0 | G10: {=Gegevens!W2:W9999} -> 0 | H10: =IF(G10-F10=0,"",G10-F10) | I10: {=Gegevens!P2:P9999} -> -1 | J10: =ABS(G10-I10) -> 1 | L10: =ABS(G10-K10) -> 0 | O10: =M10+N10 -> 0 | P10: =IF(H10>=O10,"Boven",IF(AND(H10<O10,H10>=M10),"Samenvallend",(IF(G10<=M10,"Onder",(IF(G10>M10,"Samenvallend",0)))))) -> Boven | Q10: =IF(P10="boven",H10-O10,IF(P10="samenvallend",0,IF(P10="onder",M10-G10))) -> #VALUE! | R10: =IF(ABS(Q10)<0.2,"ja","nee") -> #VALUE!
A11: 1.02 | B11: =ROUNDDOWN(A11,0) -> 1 | C11: Datatransport | D11: Gem. Gouda | E11: Nee | F11: 0 | G11: 0 | H11: =IF(G11-F11=0,"",G11-F11) | I11: -1 | J11: =ABS(G11-I11) -> 1 | L11: =ABS(G11-K11) -> 0 | O11: =M11+N11 -> 0 | P11: =IF(H11>=O11,"Boven",IF(AND(H11<O11,H11>=M11),"Samenvallend",(IF(G11<=M11,"Onder",(IF(G11>M11,"Samenvallend",0)))))) -> Boven | Q11: =IF(P11="boven",H11-O11,IF(P11="samenvallend",0,IF(P11="onder",M11-G11))) -> #VALUE! | R11: =IF(ABS(Q11)<0.2,"ja","nee") -> #VALUE!
A12: 2.01 | B12: =ROUNDDOWN(A12,0) -> 2 | C12: Datatransport | D12: Deltafiber Ned B.V. | E12: 0 | F12: 0 | G12: 0 | H12: =IF(G12-F12=0,"",G12-F12) | I12: 0 | J12: =ABS(G12-I12) -> 0 | L12: =ABS(G12-K12) -> 0 | O12: =M12+N12 -> 0 | P12: =IF(H12>=O12,"Boven",IF(AND(H12<O12,H12>=M12),"Samenvallend",(IF(G12<=M12,"Onder",(IF(G12>M12,"Samenvallend",0)))))) -> Boven | Q12: =IF(P12="boven",H12-O12,IF(P12="samenvallend",0,IF(P12="onder",M12-G12))) -> #VALUE! | R12: =IF(ABS(Q12)<0.2,"ja","nee") -> #VALUE!
A13: 0 | B13: =ROUNDDOWN(A13,0) -> 0 | C13: 0 | D13: 0 | E13: 0 | F13: 0 | G13: 0 | H13: =IF(G13-F13=0,"",G13-F13) | I13: 0 | J13: =ABS(G13-I13) -> 0 | L13: =ABS(G13-K13) -> 0 | O13: =M13+N13 -> 0 | P13: =IF(H13>=O13,"Boven",IF(AND(H13<O13,H13>=M13),"Samenvallend",(IF(G13<=M13,"Onder",(IF(G13>M13,"Samenvallend",0)))))) -> Boven | Q13: =IF(P13="boven",H13-O13,IF(P13="samenvallend",0,IF(P13="onder",M13-G13))) -> #VALUE! | R13: =IF(ABS(Q13)<0.2,"ja","nee") -> #VALUE!
A14: 0 | B14: =ROUNDDOWN(A14,0) -> 0 | C14: 0 | D14: 0 | E14: 0 | F14: 0 | G14: 0 | H14: =IF(G14-F14=0,"",G14-F14) | I14: 0 | J14: =ABS(G14-I14) -> 0 | L14: =ABS(G14-K14) -> 0 | O14: =M14+N14 -> 0 | P14: =IF(H14>=O14,"Boven",IF(AND(H14<O14,H14>=M14),"Samenvallend",(IF(G14<=M14,"Onder",(IF(G14>M14,"Samenvallend",0)))))) -> Boven | Q14: =IF(P14="boven",H14-O14,IF(P14="samenvallend",0,IF(P14="onder",M14-G14))) -> #VALUE! | R14: =IF(ABS(Q14)<0.2,"ja","nee") -> #VALUE!
A15: 0 | B15: =ROUNDDOWN(A15,0) -> 0 | C15: 0 | D15: 0 | E15: 0 | F15: 0 | G15: 0 | H15: =IF(G15-F15=0,"",G15-F15) | I15: 0 | J15: =ABS(G15-I15) -> 0 | L15: =ABS(G15-K15) -> 0 | O15: =M15+N15 -> 0 | P15: =IF(H15>=O15,"Boven",IF(AND(H15<O15,H15>=M15),"Samenvallend",(IF(G15<=M15,"Onder",(IF(G15>M15,"Samenvallend",0)))))) -> Boven | Q15: =IF(P15="boven",H15-O15,IF(P15="samenvallend",0,IF(P15="onder",M15-G15))) -> #VALUE! | R15: =IF(ABS(Q15)<0.2,"ja","nee") -> #VALUE!
A16: 0 | B16: =ROUNDDOWN(A16,0) -> 0 | C16: 0 | D16: 0 | E16: 0 | F16: 0 | G16: 0 | H16: =IF(G16-F16=0,"",G16-F16) | I16: 0 | J16: =ABS(G16-I16) -> 0 | L16: =ABS(G16-K16) -> 0 | O16: =M16+N16 -> 0 | P16: =IF(H16>=O16,"Boven",IF(AND(H16<O16,H16>=M16),"Samenvallend",(IF(G16<=M16,"Onder",(IF(G16>M16,"Samenvallend",0)))))) -> Boven | Q16: =IF(P16="boven",H16-O16,IF(P16="samenvallend",0,IF(P16="onder",M16-G16))) -> #VALUE! | R16: =IF(ABS(Q16)<0.2,"ja","nee") -> #VALUE!
A17: 0 | B17: =ROUNDDOWN(A17,0) -> 0 | C17: 0 | D17: 0 | E17: 0 | F17: 0 | G17: 0 | H17: =IF(G17-F17=0,"",G17-F17) | I17: 0 | J17: =ABS(G17-I17) -> 0 | L17: =ABS(G17-K17) -> 0 | O17: =M17+N17 -> 0 | P17: =IF(H17>=O17,"Boven",IF(AND(H17<O17,H17>=M17),"Samenvallend",(IF(G17<=M17,"Onder",(IF(G17>M17,"Samenvallend",0)))))) -> Boven | Q17: =IF(P17="boven",H17-O17,IF(P17="samenvallend",0,IF(P17="onder",M17-G17))) -> #VALUE! | R17: =IF(ABS(Q17)<0.2,"ja","nee") -> #VALUE!
A18: 0 | B18: =ROUNDDOWN(A18,0) -> 0 | C18: 0 | D18: 0 | E18: 0 | F18: 0 | G18: 0 | H18: =IF(G18-F18=0,"",G18-F18) | I18: 0 | J18: =ABS(G18-I18) -> 0 | L18: =ABS(G18-K18) -> 0 | O18: =M18+N18 -> 0 | P18: =IF(H18>=O18,"Boven",IF(AND(H18<O18,H18>=M18),"Samenvallend",(IF(G18<=M18,"Onder",(IF(G18>M18,"Samenvallend",0)))))) -> Boven | Q18: =IF(P18="boven",H18-O18,IF(P18="samenvallend",0,IF(P18="onder",M18-G18))) -> #VALUE! | R18: =IF(ABS(Q18)<0.2,"ja","nee") -> #VALUE!
A19: 0 | B19: =ROUNDDOWN(A19,0) -> 0 | C19: 0 | D19: 0 | E19: 0 | F19: 0 | G19: 0 | H19: =IF(G19-F19=0,"",G19-F19) | I19: 0 | J19: =ABS(G19-I19) -> 0 | L19: =ABS(G19-K19) -> 0 | O19: =M19+N19 -> 0 | P19: =IF(H19>=O19,"Boven",IF(AND(H19<O19,H19>=M19),"Samenvallend",(IF(G19<=M19,"Onder",(IF(G19>M19,"Samenvallend",0)))))) -> Boven | Q19: =IF(P19="boven",H19-O19,IF(P19="samenvallend",0,IF(P19="onder",M19-G19))) -> #VALUE! | R19: =IF(ABS(Q19)<0.2,"ja","nee") -> #VALUE!
A20: 0 | B20: =ROUNDDOWN(A20,0) -> 0 | C20: 0 | D20: 0 | E20: 0 | F20: 0 | G20: 0 | H20: =IF(G20-F20=0,"",G20-F20) | I20: 0 | J20: =ABS(G20-I20) -> 0 | L20: =ABS(G20-K20) -> 0 | O20: =M20+N20 -> 0 | P20: =IF(H20>=O20,"Boven",IF(AND(H20<O20,H20>=M20),"Samenvallend",(IF(G20<=M20,"Onder",(IF(G20>M20,"Samenvallend",0)))))) -> Boven | Q20: =IF(P20="boven",H20-O20,IF(P20="samenvallend",0,IF(P20="onder",M20-G20))) -> #VALUE! | R20: =IF(ABS(Q20)<0.2,"ja","nee") -> #VALUE!
A21: 0 | B21: =ROUNDDOWN(A21,0) -> 0 | C21: 0 | D21: 0 | E21: 0 | F21: 0 | G21: 0 | H21: =IF(G21-F21=0,"",G21-F21) | I21: 0 | J21: =ABS(G21-I21) -> 0 | L21: =ABS(G21-K21) -> 0 | O21: =M21+N21 -> 0 | P21: =IF(H21>=O21,"Boven",IF(AND(H21<O21,H21>=M21),"Samenvallend",(IF(G21<=M21,"Onder",(IF(G21>M21,"Samenvallend",0)))))) -> Boven | Q21: =IF(P21="boven",H21-O21,IF(P21="samenvallend",0,IF(P21="onder",M21-G21))) -> #VALUE! | R21: =IF(ABS(Q21)<0.2,"ja","nee") -> #VALUE!
A22: 0 | B22: =ROUNDDOWN(A22,0) -> 0 | C22: 0 | D22: 0 | E22: 0 | F22: 0 | G22: 0 | H22: =IF(G22-F22=0,"",G22-F22) | I22: 0 | J22: =ABS(G22-I22) -> 0 | L22: =ABS(G22-K22) -> 0 | O22: =M22+N22 -> 0 | P22: =IF(H22>=O22,"Boven",IF(AND(H22<O22,H22>=M22),"Samenvallend",(IF(G22<=M22,"Onder",(IF(G22>M22,"Samenvallend",0)))))) -> Boven | Q22: =IF(P22="boven",H22-O22,IF(P22="samenvallend",0,IF(P22="onder",M22-G22))) -> #VALUE! | R22: =IF(ABS(Q22)<0.2,"ja","nee") -> #VALUE!
A23: 0 | B23: =ROUNDDOWN(A23,0) -> 0 | C23: 0 | D23: 0 | E23: 0 | F23: 0 | G23: 0 | H23: =IF(G23-F23=0,"",G23-F23) | I23: 0 | J23: =ABS(G23-I23) -> 0 | L23: =ABS(G23-K23) -> 0 | O23: =M23+N23 -> 0 | P23: =IF(H23>=O23,"Boven",IF(AND(H23<O23,H23>=M23),"Samenvallend",(IF(G23<=M23,"Onder",(IF(G23>M23,"Samenvallend",0)))))) -> Boven | Q23: =IF(P23="boven",H23-O23,IF(P23="samenvallend",0,IF(P23="onder",M23-G23))) -> #VALUE! | R23: =IF(ABS(Q23)<0.2,"ja","nee") -> #VALUE!
A24: 0 | B24: =ROUNDDOWN(A24,0) -> 0 | C24: 0 | D24: 0 | E24: 0 | F24: 0 | G24: 0 | H24: =IF(G24-F24=0,"",G24-F24) | I24: 0 | J24: =ABS(G24-I24) -> 0 | L24: =ABS(G24-K24) -> 0 | O24: =M24+N24 -> 0 | P24: =IF(H24>=O24,"Boven",IF(AND(H24<O24,H24>=M24),"Samenvallend",(IF(G24<=M24,"Onder",(IF(G24>M24,"Samenvallend",0)))))) -> Boven | Q24: =IF(P24="boven",H24-O24,IF(P24="samenvallend",0,IF(P24="onder",M24-G24))) -> #VALUE! | R24: =IF(ABS(Q24)<0.2,"ja","nee") -> #VALUE!
... A702: 0 | B702: =ROUNDDOWN(A702,0) -> 0 | C702: 0 | D702: 0 | E702: 0 | F702: 0 | G702: 0 | H702: =IF(G702-F702=0,"",G702-F702) | I702: 0 | J702: =ABS(G702-I702) -> 0 | L702: =ABS(G702-K702) -> 0 | O702: =M702+N702 -> 0 | P702: =IF(H702>=O702,"Boven",IF(AND(H702<O702,H702>=M702),"Samenvallend",(IF(G702<=M702,"Onder",(IF(G702>M702,"Samenvallend",0)))))) -> Boven | Q702: =IF(P702="boven",H702-O702,IF(P702="samenvallend",0,IF(P702="onder",M702-G702))) -> #VALUE! | R702: =IF(ABS(Q702)<0.2,"ja","nee") -> #VALUE!
A703: 0 | C703: 0 | D703: 0 | E703: 0 | F703: 0 | G703: 0 | I703: 0
A704: 0 | C704: 0 | D704: 0 | E704: 0 | F704: 0 | G704: 0 | I704: 0
A705: 0 | C705: 0 | D705: 0 | E705: 0 | F705: 0 | G705: 0 | I705: 0
A706: 0 | C706: 0 | D706: 0 | E706: 0 | F706: 0 | G706: 0 | I706: 0
A707: 0 | C707: 0 | D707: 0 | E707: 0 | F707: 0 | G707: 0 | I707: 0
A708: 0 | C708: 0 | D708: 0 | E708: 0 | F708: 0 | G708: 0 | I708: 0
A709: 0 | C709: 0 | D709: 0 | E709: 0 | F709: 0 | G709: 0 | I709: 0
A710: 0 | C710: 0 | D710: 0 | E710: 0 | F710: 0 | G710: 0 | I710: 0
A711: 0 | C711: 0 | D711: 0 | E711: 0 | F711: 0 | G711: 0 | I711: 0
A712: 0 | C712: 0 | D712: 0 | E712: 0 | F712: 0 | G712: 0 | I712: 0
A713: 0 | C713: 0 | D713: 0 | E713: 0 | F713: 0 | G713: 0 | I713: 0
A714: 0 | C714: 0 | D714: 0 | E714: 0 | F714: 0 | G714: 0 | I714: 0
... A10007: 0 | C10007: 0 | D10007: 0 | E10007: 0 | F10007: 0 | G10007: 0 | I10007: 0

Sheet Opties
A2: Kruising met: | B2: Maatregel | C2: Diepte | D2: Type kabel/leiding | E2: Netbeheerder | F2: Eis voorzorgsmaatregel: | G2: Opties
G3: Ja
A4: DWA-stelsel | B4: ophalen | C4: 0.75 | D4: Laagspanning | E4: Stedin B.V. | F4: Ja | G4: Nee
A5: HWA-stelsel | B5: zinkeren | C5: 1 | D5: Middenspanning | E5: Oasen N.V. | F5: Nee | G5: n.t.b.
A6: Drainstelsel | B6: verleggen | C6: 1.25 | D6: Hoogspanning | E6: KPN B.V. | G6: onbekend
A7: Duiker | B7: verwijderen | C7: 1.5 | D7: Gas lagedruk | E7: Deltafiber Ned B.V.
B8: niet nodig | C8: 2 | D8: Gas hoge druk | E8: Ziggo B.V.
C9: 3 | D9: Waterleiding | E9: Gasunie
D10: Datatransport | E10: Gem. Gouda
D11: Glasvezel | E11: Eurofiber
D12: Riool vrijverval | E12: Reggefiber
D13: Riool over-/onderdruk | E13: Verizon B.V.
D14: Overig | E14: Blauw Glas West
D15: Onbekend | E15: BT Nederland N.V.
E16: DFN
E17: EUnetworks
E18: Hoogheemraadschap van Rijnland
E19: NKM Network Services
E20: Odido Netherlands
E21: Omgevingsdienst Midden-Holland
E22: ProRail
E23: Provincie Zuid-Holland
E24: Rijkswaterstaat
E25: Tennet Tso
E26: T-Mobile Netherlands
E27: Uniscape
... E29: onbekend
