Workbook
Name SCORE: Productdemonstratie!$B$1:$B$4

Sheet Productdemonstratie
A1: 7.2 Productdemonstratie | B1: Score:
A2: Aanbestedende dienst zal conform een nader te bepalen planning een productdemonstratie organiseren op haar locatie. Tijdens deze productdemonstratie zal de kwaliteit van diverse uitgevraagde producten conform objectieve criteria worden getoetst, getest en beoordeeld. | B2: Beter
A3: 1. Leerlingtafel VMBO – Item 1 prijzenblad leerlingsets. | B3: Vergelijkbaar
A4: 1. Stabiliteit | B4: Minder | C4: Onvoldoende | D4: SCORE
A5: 2. Constructie tussen frame en blad | B5: Onacceptabel
A6: 3. Uitstraling/vormgeving
A7: 4. Gemak schoonmaken | B7: maximaal 2 maal negatief
A8: 5. Mate veiligheid (scherpe randen en hoeken) | C8: Voldoende | D8: SCORE
A9: 2. Leerlingstoel VMBO – Item 19 prijzenblad leerlingsets. | L9: SCORE | M9: SCORE
A10: 1. Stabiliteit | C10: Onvoldoende | D10: SCORE | L10: Beter
A11: 2. Constructie tussen frame en zitting | L11: Vergelijkbaar
A12: 3. Uitstraling/vormgeving | L12: Minder
A13: 4. Gemak schoonmaken | B13: maximaal 2 maal negatief | L13: Onacceptabel
A14: 5. Mate veiligheid (scherpe randen en hoeken) | C14: Voldoende | D14: SCORE
A15: 6. Zit-comfort
A16: 3. Leerlingtafel HBO/MBO – Item 12 prijzenblad leerlingsets.
A17: 1. Stabiliteit | C17: Onvoldoende | D17: SCORE
A18: 2. Constructie tussen frame en blad
A19: 3. Uitstraling/vormgeving
A20: 4. Gemak schoonmaken | B20: maximaal 2 maal negatief
A21: 5. Mate veiligheid (scherpe randen en hoeken) | C21: Voldoende | D21: SCORE
A22: 4. Leerlingstoel HBO/MBO – Item 27 prijzenblad leerlingsets.
A23: 1. Stabiliteit
A24: 2. Constructie tussen frame en zitting
A25: 3. Uitstraling/vormgeving
A26: 4. Gemak schoonmaken | B26: maximaal 2 maal negatief
A27: 5. Mate veiligheid (scherpe randen en hoeken)
A28: 6. Zit-comfort
A29: 5. Elektrisch zit-sta bureau docent – Item 5 prijzenblad kantoormeubilair.
A30: 1. Stabiliteit op alle hoogtes
A31: 2. Mate van geluid bij verstellen hoogte
A32: 3. Constructie onderstel, afwerking
A33: 4. Uitstraling/vormgeving | B33: maximaal 2 maal negatief
A34: 5. Gemak schoonmaken
A35: 6. Bereikbaarheid knoppen instellen hoogte
A36: 6. Bureaustoel docent – Item 1 prijzenblad kantoormeubilair.
A37: 1. Stabiliteit
A38: 2. Constructie tussen frame en zitting
A39: 3. Uitstraling/vormgeving
A40: 4. Gemak schoonmaken | B40: maximaal 2 maal negatief
...

Sheet Beoordelaar 1 Concierge
A1: Beoordelaar 1: Conciërge | C1: Inschrijver 1 | E1: Inschrijver 2 | G1: Inschrijver 3
A2: =Productdemonstratie!A1:A1 -> 7.2 Productdemonstratie | C2: Score: | E2: Score: | G2: Score: | Q2: SCORE | R2: SCORE
A3: =Productdemonstratie!A3 -> 1. Leerlingtafel VMBO – Item 1 prijzenblad leerlingsets. | Q3: Beter
A4: =Productdemonstratie!A4:A4 -> 1. Stabiliteit | C4: SCORE | E4: SCORE | G4: SCORE | Q4: Vergelijkbaar
C5: <MOTIVATIE> | E5: <MOTIVATIE> | G5: <MOTIVATIE> | Q5: Minder
A6: =Productdemonstratie!A5:A5 -> 2. Constructie tussen frame en blad | C6: SCORE | E6: SCORE | G6: SCORE | Q6: Onacceptabel
C7: <MOTIVATIE> | E7: <MOTIVATIE> | G7: <MOTIVATIE>
A8: =Productdemonstratie!A6:A6 -> 3. Uitstraling/vormgeving | C8: SCORE | E8: SCORE | G8: SCORE
C9: <MOTIVATIE> | E9: <MOTIVATIE> | G9: <MOTIVATIE>
A10: =Productdemonstratie!A7:A7 -> 4. Gemak schoonmaken | C10: SCORE | E10: SCORE | G10: SCORE
C11: <MOTIVATIE> | E11: <MOTIVATIE> | G11: <MOTIVATIE>
A12: =Productdemonstratie!A8:A8 -> 5. Mate veiligheid (scherpe randen en hoeken) | C12: SCORE | E12: SCORE | G12: SCORE
C13: <MOTIVATIE> | E13: <MOTIVATIE> | G13: <MOTIVATIE>
A14: =Productdemonstratie!A9 -> 2. Leerlingstoel VMBO – Item 19 prijzenblad leerlingsets.
A15: =Productdemonstratie!A10 -> 1. Stabiliteit | C15: SCORE | E15: SCORE | G15: SCORE
C16: <MOTIVATIE> | E16: <MOTIVATIE> | G16: <MOTIVATIE>
A17: =Productdemonstratie!A11 -> 2. Constructie tussen frame en zitting | C17: SCORE | E17: SCORE | G17: SCORE
C18: <MOTIVATIE> | E18: <MOTIVATIE> | G18: <MOTIVATIE>
A19: =Productdemonstratie!A12 -> 3. Uitstraling/vormgeving | C19: SCORE | E19: SCORE | G19: SCORE
C20: <MOTIVATIE> | E20: <MOTIVATIE> | G20: <MOTIVATIE>
A21: =Productdemonstratie!A13 -> 4. Gemak schoonmaken | C21: SCORE | E21: SCORE | G21: SCORE
C22: <MOTIVATIE> | E22: <MOTIVATIE> | G22: <MOTIVATIE>
A23: =Productdemonstratie!A14 -> 5. Mate veiligheid (scherpe randen en hoeken) | C23: SCORE | E23: SCORE | G23: SCORE
C24: <MOTIVATIE> | E24: <MOTIVATIE> | G24: <MOTIVATIE>
A25: =Productdemonstratie!A15 -> 6. Zit-comfort | C25: SCORE | E25: SCORE | G25: SCORE
C26: <MOTIVATIE> | E26: <MOTIVATIE> | G26: <MOTIVATIE>
A27: =Productdemonstratie!A16 -> 3. Leerlingtafel HBO/MBO – Item 12 prijzenblad leerlingsets.
A28: =Productdemonstratie!A17 -> 1. Stabiliteit | C28: SCORE | E28: SCORE | G28: SCORE
C29: <MOTIVATIE> | E29: <MOTIVATIE> | G29: <MOTIVATIE>
A30: =Productdemonstratie!A18 -> 2. Constructie tussen frame en blad | C30: SCORE | E30: SCORE | G30: SCORE
C31: <MOTIVATIE> | E31: <MOTIVATIE> | G31: <MOTIVATIE>
A32: =Productdemonstratie!A19 -> 3. Uitstraling/vormgeving | C32: SCORE | E32: SCORE | G32: SCORE
C33: <MOTIVATIE> | E33: <MOTIVATIE> | G33: <MOTIVATIE>
A34: =Productdemonstratie!A20 -> 4. Gemak schoonmaken | C34: SCORE | E34: SCORE | G34: SCORE
C35: <MOTIVATIE> | E35: <MOTIVATIE> | G35: <MOTIVATIE>
A36: =Productdemonstratie!A21 -> 5. Mate veiligheid (scherpe randen en hoeken) | C36: SCORE | E36: SCORE | G36: SCORE
C37: <MOTIVATIE> | E37: <MOTIVATIE> | G37: <MOTIVATIE>
A38: =+Productdemonstratie!A22 -> 4. Leerlingstoel HBO/MBO – Item 27 prijzenblad leerlingsets.
A39: =Productdemonstratie!A23 -> 1. Stabiliteit | C39: SCORE | E39: SCORE | G39: SCORE
C40: <MOTIVATIE> | E40: <MOTIVATIE> | G40: <MOTIVATIE>
...

Sheet Beoordelaar 2 Concierge
A1: Beoordelaar 2: Conciërge | C1: Inschrijver 1 | E1: Inschrijver 2 | G1: Inschrijver 3
A2: =Productdemonstratie!A1:A1 -> 7.2 Productdemonstratie | C2: Score: | E2: Score: | G2: Score: | Q2: SCORE | R2: SCORE
A3: =Productdemonstratie!A3 -> 1. Leerlingtafel VMBO – Item 1 prijzenblad leerlingsets. | Q3: Beter
A4: =Productdemonstratie!A4:A4 -> 1. Stabiliteit | C4: SCORE | E4: SCORE | G4: SCORE | Q4: Vergelijkbaar
C5: <MOTIVATIE> | E5: <MOTIVATIE> | G5: <MOTIVATIE> | Q5: Minder
A6: =Productdemonstratie!A5:A5 -> 2. Constructie tussen frame en blad | C6: SCORE | E6: SCORE | G6: SCORE | Q6: Onacceptabel
C7: <MOTIVATIE> | E7: <MOTIVATIE> | G7: <MOTIVATIE>
A8: =Productdemonstratie!A6:A6 -> 3. Uitstraling/vormgeving | C8: SCORE | E8: SCORE | G8: SCORE
C9: <MOTIVATIE> | E9: <MOTIVATIE> | G9: <MOTIVATIE>
A10: =Productdemonstratie!A7:A7 -> 4. Gemak schoonmaken | C10: SCORE | E10: SCORE | G10: SCORE
C11: <MOTIVATIE> | E11: <MOTIVATIE> | G11: <MOTIVATIE>
A12: =Productdemonstratie!A8:A8 -> 5. Mate veiligheid (scherpe randen en hoeken) | C12: SCORE | E12: SCORE | G12: SCORE
C13: <MOTIVATIE> | E13: <MOTIVATIE> | G13: <MOTIVATIE>
A14: =Productdemonstratie!A9 -> 2. Leerlingstoel VMBO – Item 19 prijzenblad leerlingsets.
A15: =Productdemonstratie!A10 -> 1. Stabiliteit | C15: SCORE | E15: SCORE | G15: SCORE
C16: <MOTIVATIE> | E16: <MOTIVATIE> | G16: <MOTIVATIE>
A17: =Productdemonstratie!A11 -> 2. Constructie tussen frame en zitting | C17: SCORE | E17: SCORE | G17: SCORE
C18: <MOTIVATIE> | E18: <MOTIVATIE> | G18: <MOTIVATIE>
A19: =Productdemonstratie!A12 -> 3. Uitstraling/vormgeving | C19: SCORE | E19: SCORE | G19: SCORE
C20: <MOTIVATIE> | E20: <MOTIVATIE> | G20: <MOTIVATIE>
A21: =Productdemonstratie!A13 -> 4. Gemak schoonmaken | C21: SCORE | E21: SCORE | G21: SCORE
C22: <MOTIVATIE> | E22: <MOTIVATIE> | G22: <MOTIVATIE>
A23: =Productdemonstratie!A14 -> 5. Mate veiligheid (scherpe randen en hoeken) | C23: SCORE | E23: SCORE | G23: SCORE
C24: <MOTIVATIE> | E24: <MOTIVATIE> | G24: <MOTIVATIE>
A25: =Productdemonstratie!A15 -> 6. Zit-comfort | C25: SCORE | E25: SCORE | G25: SCORE
C26: <MOTIVATIE> | E26: <MOTIVATIE> | G26: <MOTIVATIE>
A27: =Productdemonstratie!A16 -> 3. Leerlingtafel HBO/MBO – Item 12 prijzenblad leerlingsets.
A28: =Productdemonstratie!A17 -> 1. Stabiliteit | C28: SCORE | E28: SCORE | G28: SCORE
C29: <MOTIVATIE> | E29: <MOTIVATIE> | G29: <MOTIVATIE>
A30: =Productdemonstratie!A18 -> 2. Constructie tussen frame en blad | C30: SCORE | E30: SCORE | G30: SCORE
C31: <MOTIVATIE> | E31: <MOTIVATIE> | G31: <MOTIVATIE>
A32: =Productdemonstratie!A19 -> 3. Uitstraling/vormgeving | C32: SCORE | E32: SCORE | G32: SCORE
C33: <MOTIVATIE> | E33: <MOTIVATIE> | G33: <MOTIVATIE>
A34: =Productdemonstratie!A20 -> 4. Gemak schoonmaken | C34: SCORE | E34: SCORE | G34: SCORE
C35: <MOTIVATIE> | E35: <MOTIVATIE> | G35: <MOTIVATIE>
A36: =Productdemonstratie!A21 -> 5. Mate veiligheid (scherpe randen en hoeken) | C36: SCORE | E36: SCORE | G36: SCORE
C37: <MOTIVATIE> | E37: <MOTIVATIE> | G37: <MOTIVATIE>
A38: =+Productdemonstratie!A22 -> 4. Leerlingstoel HBO/MBO – Item 27 prijzenblad leerlingsets.
A39: =Productdemonstratie!A23 -> 1. Stabiliteit | C39: SCORE | E39: SCORE | G39: SCORE
C40: <MOTIVATIE> | E40: <MOTIVATIE> | G40: <MOTIVATIE>
...

Sheet Beoordelaar 3 Docent
A1: Beoordelaar 3: Docent | C1: Inschrijver 1 | E1: Inschrijver 2 | G1: Inschrijver 3
A2: =Productdemonstratie!A1:A1 -> 7.2 Productdemonstratie | C2: Score: | E2: Score: | G2: Score: | Q2: SCORE | R2: SCORE
A3: =Productdemonstratie!A3 -> 1. Leerlingtafel VMBO – Item 1 prijzenblad leerlingsets. | Q3: Beter
A4: =Productdemonstratie!A4:A4 -> 1. Stabiliteit | C4: SCORE | E4: SCORE | G4: SCORE | Q4: Vergelijkbaar
C5: <MOTIVATIE> | E5: <MOTIVATIE> | G5: <MOTIVATIE> | Q5: Minder
A6: =Productdemonstratie!A5:A5 -> 2. Constructie tussen frame en blad | C6: SCORE | E6: SCORE | G6: SCORE | Q6: Onacceptabel
C7: <MOTIVATIE> | E7: <MOTIVATIE> | G7: <MOTIVATIE>
A8: =Productdemonstratie!A6:A6 -> 3. Uitstraling/vormgeving | C8: SCORE | E8: SCORE | G8: SCORE
C9: <MOTIVATIE> | E9: <MOTIVATIE> | G9: <MOTIVATIE>
A10: =Productdemonstratie!A7:A7 -> 4. Gemak schoonmaken | C10: SCORE | E10: SCORE | G10: SCORE
C11: <MOTIVATIE> | E11: <MOTIVATIE> | G11: <MOTIVATIE>
A12: =Productdemonstratie!A8:A8 -> 5. Mate veiligheid (scherpe randen en hoeken) | C12: SCORE | E12: SCORE | G12: SCORE
C13: <MOTIVATIE> | E13: <MOTIVATIE> | G13: <MOTIVATIE>
A14: =Productdemonstratie!A9 -> 2. Leerlingstoel VMBO – Item 19 prijzenblad leerlingsets.
A15: =Productdemonstratie!A10 -> 1. Stabiliteit | C15: SCORE | E15: SCORE | G15: SCORE
C16: <MOTIVATIE> | E16: <MOTIVATIE> | G16: <MOTIVATIE>
A17: =Productdemonstratie!A11 -> 2. Constructie tussen frame en zitting | C17: SCORE | E17: SCORE | G17: SCORE
C18: <MOTIVATIE> | E18: <MOTIVATIE> | G18: <MOTIVATIE>
A19: =Productdemonstratie!A12 -> 3. Uitstraling/vormgeving | C19: SCORE | E19: SCORE | G19: SCORE
C20: <MOTIVATIE> | E20: <MOTIVATIE> | G20: <MOTIVATIE>
A21: =Productdemonstratie!A13 -> 4. Gemak schoonmaken | C21: SCORE | E21: SCORE | G21: SCORE
C22: <MOTIVATIE> | E22: <MOTIVATIE> | G22: <MOTIVATIE>
A23: =Productdemonstratie!A14 -> 5. Mate veiligheid (scherpe randen en hoeken) | C23: SCORE | E23: SCORE | G23: SCORE
C24: <MOTIVATIE> | E24: <MOTIVATIE> | G24: <MOTIVATIE>
A25: =Productdemonstratie!A15 -> 6. Zit-comfort | C25: SCORE | E25: SCORE | G25: SCORE
C26: <MOTIVATIE> | E26: <MOTIVATIE> | G26: <MOTIVATIE>
A27: =Productdemonstratie!A16 -> 3. Leerlingtafel HBO/MBO – Item 12 prijzenblad leerlingsets.
A28: =Productdemonstratie!A17 -> 1. Stabiliteit | C28: SCORE | E28: SCORE | G28: SCORE
C29: <MOTIVATIE> | E29: <MOTIVATIE> | G29: <MOTIVATIE>
A30: =Productdemonstratie!A18 -> 2. Constructie tussen frame en blad | C30: SCORE | E30: SCORE | G30: SCORE
C31: <MOTIVATIE> | E31: <MOTIVATIE> | G31: <MOTIVATIE>
A32: =Productdemonstratie!A19 -> 3. Uitstraling/vormgeving | C32: SCORE | E32: SCORE | G32: SCORE
C33: <MOTIVATIE> | E33: <MOTIVATIE> | G33: <MOTIVATIE>
A34: =Productdemonstratie!A20 -> 4. Gemak schoonmaken | C34: SCORE | E34: SCORE | G34: SCORE
C35: <MOTIVATIE> | E35: <MOTIVATIE> | G35: <MOTIVATIE>
A36: =Productdemonstratie!A21 -> 5. Mate veiligheid (scherpe randen en hoeken) | C36: SCORE | E36: SCORE | G36: SCORE
C37: <MOTIVATIE> | E37: <MOTIVATIE> | G37: <MOTIVATIE>
A38: =+Productdemonstratie!A22 -> 4. Leerlingstoel HBO/MBO – Item 27 prijzenblad leerlingsets.
A39: =Productdemonstratie!A23 -> 1. Stabiliteit | C39: SCORE | E39: SCORE | G39: SCORE
C40: <MOTIVATIE> | E40: <MOTIVATIE> | G40: <MOTIVATIE>
...

Sheet Beoordelaar 4 Docent
A1: Beoordelaar 4: Docent | C1: Inschrijver 1 | E1: Inschrijver 2 | G1: Inschrijver 3
A2: =Productdemonstratie!A1:A1 -> 7.2 Productdemonstratie | C2: Score: | E2: Score: | G2: Score: | Q2: SCORE
A3: =Productdemonstratie!A3 -> 1. Leerlingtafel VMBO – Item 1 prijzenblad leerlingsets. | Q3: Beter
A4: =Productdemonstratie!A4:A4 -> 1. Stabiliteit | C4: SCORE | E4: SCORE | G4: SCORE | Q4: Vergelijkbaar
C5: <MOTIVATIE> | E5: <MOTIVATIE> | G5: <MOTIVATIE> | Q5: Minder
A6: =Productdemonstratie!A5:A5 -> 2. Constructie tussen frame en blad | C6: SCORE | E6: SCORE | G6: SCORE | Q6: Onacceptabel
C7: <MOTIVATIE> | E7: <MOTIVATIE> | G7: <MOTIVATIE>
A8: =Productdemonstratie!A6:A6 -> 3. Uitstraling/vormgeving | C8: SCORE | E8: SCORE | G8: SCORE
C9: <MOTIVATIE> | E9: <MOTIVATIE> | G9: <MOTIVATIE>
A10: =Productdemonstratie!A7:A7 -> 4. Gemak schoonmaken | C10: SCORE | E10: SCORE | G10: SCORE
C11: <MOTIVATIE> | E11: <MOTIVATIE> | G11: <MOTIVATIE>
A12: =Productdemonstratie!A8:A8 -> 5. Mate veiligheid (scherpe randen en hoeken) | C12: SCORE | E12: SCORE | G12: SCORE
C13: <MOTIVATIE> | E13: <MOTIVATIE> | G13: <MOTIVATIE>
A14: =Productdemonstratie!A9 -> 2. Leerlingstoel VMBO – Item 19 prijzenblad leerlingsets.
A15: =Productdemonstratie!A10 -> 1. Stabiliteit | C15: SCORE | E15: SCORE | G15: SCORE
C16: <MOTIVATIE> | E16: <MOTIVATIE> | G16: <MOTIVATIE>
A17: =Productdemonstratie!A11 -> 2. Constructie tussen frame en zitting | C17: SCORE | E17: SCORE | G17: SCORE
C18: <MOTIVATIE> | E18: <MOTIVATIE> | G18: <MOTIVATIE>
A19: =Productdemonstratie!A12 -> 3. Uitstraling/vormgeving | C19: SCORE | E19: SCORE | G19: SCORE
C20: <MOTIVATIE> | E20: <MOTIVATIE> | G20: <MOTIVATIE>
A21: =Productdemonstratie!A13 -> 4. Gemak schoonmaken | C21: SCORE | E21: SCORE | G21: SCORE
C22: <MOTIVATIE> | E22: <MOTIVATIE> | G22: <MOTIVATIE>
A23: =Productdemonstratie!A14 -> 5. Mate veiligheid (scherpe randen en hoeken) | C23: SCORE | E23: SCORE | G23: SCORE
C24: <MOTIVATIE> | E24: <MOTIVATIE> | G24: <MOTIVATIE>
A25: =Productdemonstratie!A15 -> 6. Zit-comfort | C25: SCORE | E25: SCORE | G25: SCORE
C26: <MOTIVATIE> | E26: <MOTIVATIE> | G26: <MOTIVATIE>
A27: =Productdemonstratie!A16 -> 3. Leerlingtafel HBO/MBO – Item 12 prijzenblad leerlingsets.
A28: =Productdemonstratie!A17 -> 1. Stabiliteit | C28: SCORE | E28: SCORE | G28: SCORE
C29: <MOTIVATIE> | E29: <MOTIVATIE> | G29: <MOTIVATIE>
A30: =Productdemonstratie!A18 -> 2. Constructie tussen frame en blad | C30: SCORE | E30: SCORE | G30: SCORE
C31: <MOTIVATIE> | E31: <MOTIVATIE> | G31: <MOTIVATIE>
A32: =Productdemonstratie!A19 -> 3. Uitstraling/vormgeving | C32: SCORE | E32: SCORE | G32: SCORE
C33: <MOTIVATIE> | E33: <MOTIVATIE> | G33: <MOTIVATIE>
A34: =Productdemonstratie!A20 -> 4. Gemak schoonmaken | C34: SCORE | E34: SCORE | G34: SCORE
C35: <MOTIVATIE> | E35: <MOTIVATIE> | G35: <MOTIVATIE>
A36: =Productdemonstratie!A21 -> 5. Mate veiligheid (scherpe randen en hoeken) | C36: SCORE | E36: SCORE | G36: SCORE
C37: <MOTIVATIE> | E37: <MOTIVATIE> | G37: <MOTIVATIE>
A38: =+Productdemonstratie!A22 -> 4. Leerlingstoel HBO/MBO – Item 27 prijzenblad leerlingsets.
A39: =Productdemonstratie!A23 -> 1. Stabiliteit | C39: SCORE | E39: SCORE | G39: SCORE
C40: <MOTIVATIE> | E40: <MOTIVATIE> | G40: <MOTIVATIE>
...

Sheet Beoordelaar 5 Mw Bestuursbureau
A1: Beoordelaar 5: Medewerker Bestuursbureau | C1: Inschrijver 1 | E1: Inschrijver 2 | G1: Inschrijver 3
A2: =Productdemonstratie!A1:A1 -> 7.2 Productdemonstratie | C2: Score: | E2: Score: | G2: Score: | Q2: SCORE
A3: =Productdemonstratie!A3 -> 1. Leerlingtafel VMBO – Item 1 prijzenblad leerlingsets. | Q3: Beter
A4: =Productdemonstratie!A4:A4 -> 1. Stabiliteit | C4: SCORE | E4: SCORE | G4: SCORE | Q4: Vergelijkbaar
C5: <MOTIVATIE> | E5: <MOTIVATIE> | G5: <MOTIVATIE> | Q5: Minder
A6: =Productdemonstratie!A5:A5 -> 2. Constructie tussen frame en blad | C6: SCORE | E6: SCORE | G6: SCORE | Q6: Onacceptabel
C7: <MOTIVATIE> | E7: <MOTIVATIE> | G7: <MOTIVATIE>
A8: =Productdemonstratie!A6:A6 -> 3. Uitstraling/vormgeving | C8: SCORE | E8: SCORE | G8: SCORE
C9: <MOTIVATIE> | E9: <MOTIVATIE> | G9: <MOTIVATIE>
A10: =Productdemonstratie!A7:A7 -> 4. Gemak schoonmaken | C10: SCORE | E10: SCORE | G10: SCORE
C11: <MOTIVATIE> | E11: <MOTIVATIE> | G11: <MOTIVATIE>
A12: =Productdemonstratie!A8:A8 -> 5. Mate veiligheid (scherpe randen en hoeken) | C12: SCORE | E12: SCORE | G12: SCORE
C13: <MOTIVATIE> | E13: <MOTIVATIE> | G13: <MOTIVATIE>
A14: =Productdemonstratie!A9 -> 2. Leerlingstoel VMBO – Item 19 prijzenblad leerlingsets.
A15: =Productdemonstratie!A10 -> 1. Stabiliteit | C15: SCORE | E15: SCORE | G15: SCORE
C16: <MOTIVATIE> | E16: <MOTIVATIE> | G16: <MOTIVATIE>
A17: =Productdemonstratie!A11 -> 2. Constructie tussen frame en zitting | C17: SCORE | E17: SCORE | G17: SCORE
C18: <MOTIVATIE> | E18: <MOTIVATIE> | G18: <MOTIVATIE>
A19: =Productdemonstratie!A12 -> 3. Uitstraling/vormgeving | C19: SCORE | E19: SCORE | G19: SCORE
C20: <MOTIVATIE> | E20: <MOTIVATIE> | G20: <MOTIVATIE>
A21: =Productdemonstratie!A13 -> 4. Gemak schoonmaken | C21: SCORE | E21: SCORE | G21: SCORE
C22: <MOTIVATIE> | E22: <MOTIVATIE> | G22: <MOTIVATIE>
A23: =Productdemonstratie!A14 -> 5. Mate veiligheid (scherpe randen en hoeken) | C23: SCORE | E23: SCORE | G23: SCORE
C24: <MOTIVATIE> | E24: <MOTIVATIE> | G24: <MOTIVATIE>
A25: =Productdemonstratie!A15 -> 6. Zit-comfort | C25: SCORE | E25: SCORE | G25: SCORE
C26: <MOTIVATIE> | E26: <MOTIVATIE> | G26: <MOTIVATIE>
A27: =Productdemonstratie!A16 -> 3. Leerlingtafel HBO/MBO – Item 12 prijzenblad leerlingsets.
A28: =Productdemonstratie!A17 -> 1. Stabiliteit | C28: SCORE | E28: SCORE | G28: SCORE
C29: <MOTIVATIE> | E29: <MOTIVATIE> | G29: <MOTIVATIE>
A30: =Productdemonstratie!A18 -> 2. Constructie tussen frame en blad | C30: SCORE | E30: SCORE | G30: SCORE
C31: <MOTIVATIE> | E31: <MOTIVATIE> | G31: <MOTIVATIE>
A32: =Productdemonstratie!A19 -> 3. Uitstraling/vormgeving | C32: SCORE | E32: SCORE | G32: SCORE
C33: <MOTIVATIE> | E33: <MOTIVATIE> | G33: <MOTIVATIE>
A34: =Productdemonstratie!A20 -> 4. Gemak schoonmaken | C34: SCORE | E34: SCORE | G34: SCORE
C35: <MOTIVATIE> | E35: <MOTIVATIE> | G35: <MOTIVATIE>
A36: =Productdemonstratie!A21 -> 5. Mate veiligheid (scherpe randen en hoeken) | C36: SCORE | E36: SCORE | G36: SCORE
C37: <MOTIVATIE> | E37: <MOTIVATIE> | G37: <MOTIVATIE>
A38: =+Productdemonstratie!A22 -> 4. Leerlingstoel HBO/MBO – Item 27 prijzenblad leerlingsets.
A39: =Productdemonstratie!A23 -> 1. Stabiliteit | C39: SCORE | E39: SCORE | G39: SCORE
C40: <MOTIVATIE> | E40: <MOTIVATIE> | G40: <MOTIVATIE>
...

Sheet Beoordelaar 6 Facilitair Man.
A1: Beoordelaar 6: Facilitair Manager | C1: Inschrijver 1 | E1: Inschrijver 2 | G1: Inschrijver 3
A2: =Productdemonstratie!A1:A1 -> 7.2 Productdemonstratie | C2: Score: | E2: Score: | G2: Score: | Q2: SCORE
A3: =Productdemonstratie!A3 -> 1. Leerlingtafel VMBO – Item 1 prijzenblad leerlingsets. | Q3: Beter
A4: =Productdemonstratie!A4:A4 -> 1. Stabiliteit | C4: SCORE | E4: SCORE | G4: SCORE | Q4: Vergelijkbaar
C5: <MOTIVATIE> | E5: <MOTIVATIE> | G5: <MOTIVATIE> | Q5: Minder
A6: =Productdemonstratie!A5:A5 -> 2. Constructie tussen frame en blad | C6: SCORE | E6: SCORE | G6: SCORE | Q6: Onacceptabel
C7: <MOTIVATIE> | E7: <MOTIVATIE> | G7: <MOTIVATIE>
A8: =Productdemonstratie!A6:A6 -> 3. Uitstraling/vormgeving | C8: SCORE | E8: SCORE | G8: SCORE
C9: <MOTIVATIE> | E9: <MOTIVATIE> | G9: <MOTIVATIE>
A10: =Productdemonstratie!A7:A7 -> 4. Gemak schoonmaken | C10: SCORE | E10: SCORE | G10: SCORE
C11: <MOTIVATIE> | E11: <MOTIVATIE> | G11: <MOTIVATIE>
A12: =Productdemonstratie!A8:A8 -> 5. Mate veiligheid (scherpe randen en hoeken) | C12: SCORE | E12: SCORE | G12: SCORE
C13: <MOTIVATIE> | E13: <MOTIVATIE> | G13: <MOTIVATIE>
A14: =Productdemonstratie!A9 -> 2. Leerlingstoel VMBO – Item 19 prijzenblad leerlingsets.
A15: =Productdemonstratie!A10 -> 1. Stabiliteit | C15: SCORE | E15: SCORE | G15: SCORE
C16: <MOTIVATIE> | E16: <MOTIVATIE> | G16: <MOTIVATIE>
A17: =Productdemonstratie!A11 -> 2. Constructie tussen frame en zitting | C17: SCORE | E17: SCORE | G17: SCORE
C18: <MOTIVATIE> | E18: <MOTIVATIE> | G18: <MOTIVATIE>
A19: =Productdemonstratie!A12 -> 3. Uitstraling/vormgeving | C19: SCORE | E19: SCORE | G19: SCORE
C20: <MOTIVATIE> | E20: <MOTIVATIE> | G20: <MOTIVATIE>
A21: =Productdemonstratie!A13 -> 4. Gemak schoonmaken | C21: SCORE | E21: SCORE | G21: SCORE
C22: <MOTIVATIE> | E22: <MOTIVATIE> | G22: <MOTIVATIE>
A23: =Productdemonstratie!A14 -> 5. Mate veiligheid (scherpe randen en hoeken) | C23: SCORE | E23: SCORE | G23: SCORE
C24: <MOTIVATIE> | E24: <MOTIVATIE> | G24: <MOTIVATIE>
A25: =Productdemonstratie!A15 -> 6. Zit-comfort | C25: SCORE | E25: SCORE | G25: SCORE
C26: <MOTIVATIE> | E26: <MOTIVATIE> | G26: <MOTIVATIE>
A27: =Productdemonstratie!A16 -> 3. Leerlingtafel HBO/MBO – Item 12 prijzenblad leerlingsets.
A28: =Productdemonstratie!A17 -> 1. Stabiliteit | C28: SCORE | E28: SCORE | G28: SCORE
C29: <MOTIVATIE> | E29: <MOTIVATIE> | G29: <MOTIVATIE>
A30: =Productdemonstratie!A18 -> 2. Constructie tussen frame en blad | C30: SCORE | E30: SCORE | G30: SCORE
C31: <MOTIVATIE> | E31: <MOTIVATIE> | G31: <MOTIVATIE>
A32: =Productdemonstratie!A19 -> 3. Uitstraling/vormgeving | C32: SCORE | E32: SCORE | G32: SCORE
C33: <MOTIVATIE> | E33: <MOTIVATIE> | G33: <MOTIVATIE>
A34: =Productdemonstratie!A20 -> 4. Gemak schoonmaken | C34: SCORE | E34: SCORE | G34: SCORE
C35: <MOTIVATIE> | E35: <MOTIVATIE> | G35: <MOTIVATIE>
A36: =Productdemonstratie!A21 -> 5. Mate veiligheid (scherpe randen en hoeken) | C36: SCORE | E36: SCORE | G36: SCORE
C37: <MOTIVATIE> | E37: <MOTIVATIE> | G37: <MOTIVATIE>
A38: =+Productdemonstratie!A22 -> 4. Leerlingstoel HBO/MBO – Item 27 prijzenblad leerlingsets.
A39: =Productdemonstratie!A23 -> 1. Stabiliteit | C39: SCORE | E39: SCORE | G39: SCORE
C40: <MOTIVATIE> | E40: <MOTIVATIE> | G40: <MOTIVATIE>
...

Sheet Beoordelaar 7 Teamleider Bv.
A1: Beoordelaar 7: Teamleider Bedrijfsvoering | C1: Inschrijver 1 | E1: Inschrijver 2 | G1: Inschrijver 3
A2: =Productdemonstratie!A1:A1 -> 7.2 Productdemonstratie | C2: Score: | E2: Score: | G2: Score: | Q2: SCORE
A3: =Productdemonstratie!A3 -> 1. Leerlingtafel VMBO – Item 1 prijzenblad leerlingsets. | Q3: Beter
A4: =Productdemonstratie!A4:A4 -> 1. Stabiliteit | C4: SCORE | E4: SCORE | G4: SCORE | Q4: Vergelijkbaar
C5: <MOTIVATIE> | E5: <MOTIVATIE> | G5: <MOTIVATIE> | Q5: Minder
A6: =Productdemonstratie!A5:A5 -> 2. Constructie tussen frame en blad | C6: SCORE | E6: SCORE | G6: SCORE | Q6: Onacceptabel
C7: <MOTIVATIE> | E7: <MOTIVATIE> | G7: <MOTIVATIE>
A8: =Productdemonstratie!A6:A6 -> 3. Uitstraling/vormgeving | C8: SCORE | E8: SCORE | G8: SCORE
C9: <MOTIVATIE> | E9: <MOTIVATIE> | G9: <MOTIVATIE>
A10: =Productdemonstratie!A7:A7 -> 4. Gemak schoonmaken | C10: SCORE | E10: SCORE | G10: SCORE
C11: <MOTIVATIE> | E11: <MOTIVATIE> | G11: <MOTIVATIE>
A12: =Productdemonstratie!A8:A8 -> 5. Mate veiligheid (scherpe randen en hoeken) | C12: SCORE | E12: SCORE | G12: SCORE
C13: <MOTIVATIE> | E13: <MOTIVATIE> | G13: <MOTIVATIE>
A14: =Productdemonstratie!A9 -> 2. Leerlingstoel VMBO – Item 19 prijzenblad leerlingsets.
A15: =Productdemonstratie!A10 -> 1. Stabiliteit | C15: SCORE | E15: SCORE | G15: SCORE
C16: <MOTIVATIE> | E16: <MOTIVATIE> | G16: <MOTIVATIE>
A17: =Productdemonstratie!A11 -> 2. Constructie tussen frame en zitting | C17: SCORE | E17: SCORE | G17: SCORE
C18: <MOTIVATIE> | E18: <MOTIVATIE> | G18: <MOTIVATIE>
A19: =Productdemonstratie!A12 -> 3. Uitstraling/vormgeving | C19: SCORE | E19: SCORE | G19: SCORE
C20: <MOTIVATIE> | E20: <MOTIVATIE> | G20: <MOTIVATIE>
A21: =Productdemonstratie!A13 -> 4. Gemak schoonmaken | C21: SCORE | E21: SCORE | G21: SCORE
C22: <MOTIVATIE> | E22: <MOTIVATIE> | G22: <MOTIVATIE>
A23: =Productdemonstratie!A14 -> 5. Mate veiligheid (scherpe randen en hoeken) | C23: SCORE | E23: SCORE | G23: SCORE
C24: <MOTIVATIE> | E24: <MOTIVATIE> | G24: <MOTIVATIE>
A25: =Productdemonstratie!A15 -> 6. Zit-comfort | C25: SCORE | E25: SCORE | G25: SCORE
C26: <MOTIVATIE> | E26: <MOTIVATIE> | G26: <MOTIVATIE>
A27: =Productdemonstratie!A16 -> 3. Leerlingtafel HBO/MBO – Item 12 prijzenblad leerlingsets.
A28: =Productdemonstratie!A17 -> 1. Stabiliteit | C28: SCORE | E28: SCORE | G28: SCORE
C29: <MOTIVATIE> | E29: <MOTIVATIE> | G29: <MOTIVATIE>
A30: =Productdemonstratie!A18 -> 2. Constructie tussen frame en blad | C30: SCORE | E30: SCORE | G30: SCORE
C31: <MOTIVATIE> | E31: <MOTIVATIE> | G31: <MOTIVATIE>
A32: =Productdemonstratie!A19 -> 3. Uitstraling/vormgeving | C32: SCORE | E32: SCORE | G32: SCORE
C33: <MOTIVATIE> | E33: <MOTIVATIE> | G33: <MOTIVATIE>
A34: =Productdemonstratie!A20 -> 4. Gemak schoonmaken | C34: SCORE | E34: SCORE | G34: SCORE
C35: <MOTIVATIE> | E35: <MOTIVATIE> | G35: <MOTIVATIE>
A36: =Productdemonstratie!A21 -> 5. Mate veiligheid (scherpe randen en hoeken) | C36: SCORE | E36: SCORE | G36: SCORE
C37: <MOTIVATIE> | E37: <MOTIVATIE> | G37: <MOTIVATIE>
A38: =+Productdemonstratie!A22 -> 4. Leerlingstoel HBO/MBO – Item 27 prijzenblad leerlingsets.
A39: =Productdemonstratie!A23 -> 1. Stabiliteit | C39: SCORE | E39: SCORE | G39: SCORE
C40: <MOTIVATIE> | E40: <MOTIVATIE> | G40: <MOTIVATIE>
...

Sheet Consensus
A1: Totaalwaardes | D1: ='Beoordelaar 1 Concierge'!C1 -> Inschrijver 1 | G1: ='Beoordelaar 1 Concierge'!E1 -> Inschrijver 2 | J1: ='Beoordelaar 1 Concierge'!G1 -> Inschrijver 3
A2: Totaalwaardes | D2: SCORE | E2: Motivatie consensus: | G2: SCORE | H2: Motivatie consensus: | J2: SCORE | K2: Motivatie consensus: | Q2: SCORE | R2: SCORE
A3: =Productdemonstratie!A3 -> 1. Leerlingtafel VMBO – Item 1 prijzenblad leerlingsets. | Q3: Beter
A4: =Productdemonstratie!A4:A4 -> 1. Stabiliteit | B4: ='Beoordelaar 1 Concierge'!$A$1 -> Beoordelaar 1: Conciërge | D4: ='Beoordelaar 1 Concierge'!C4 -> SCORE | E4: <MOTIVATIE> | G4: ='Beoordelaar 1 Concierge'!E4 -> SCORE | H4: <MOTIVATIE> | J4: ='Beoordelaar 1 Concierge'!G4 -> SCORE | K4: <MOTIVATIE> | Q4: Vergelijkbaar
B5: ='Beoordelaar 2 Concierge'!$A$1 -> Beoordelaar 2: Conciërge | D5: ='Beoordelaar 2 Concierge'!C4 -> SCORE | G5: ='Beoordelaar 2 Concierge'!E4 -> SCORE | J5: ='Beoordelaar 2 Concierge'!G4 -> SCORE | Q5: Minder
B6: ='Beoordelaar 3 Docent'!$A$1 -> Beoordelaar 3: Docent | D6: ='Beoordelaar 3 Docent'!C4 -> SCORE | G6: ='Beoordelaar 3 Docent'!E4 -> SCORE | J6: ='Beoordelaar 3 Docent'!G4 -> SCORE | Q6: Onacceptabel
B7: ='Beoordelaar 4 Docent'!$A$1 -> Beoordelaar 4: Docent | D7: ='Beoordelaar 4 Docent'!C4 -> SCORE | G7: ='Beoordelaar 4 Docent'!E4 -> SCORE | J7: ='Beoordelaar 4 Docent'!G4 -> SCORE
B8: ='Beoordelaar 5 Mw Bestuursbureau'!$A$1 -> Beoordelaar 5: Medewerker Bestuursbureau | D8: ='Beoordelaar 5 Mw Bestuursbureau'!C4 -> SCORE | G8: ='Beoordelaar 5 Mw Bestuursbureau'!E4 -> SCORE | J8: ='Beoordelaar 5 Mw Bestuursbureau'!G4 -> SCORE
B9: ='Beoordelaar 6 Facilitair Man.'!$A$1 -> Beoordelaar 6: Facilitair Manager | D9: ='Beoordelaar 6 Facilitair Man.'!C4 -> SCORE | G9: ='Beoordelaar 6 Facilitair Man.'!E4 -> SCORE | J9: ='Beoordelaar 6 Facilitair Man.'!G4 -> SCORE
B10: ='Beoordelaar 7 Teamleider Bv.'!$A$1 -> Beoordelaar 7: Teamleider Bedrijfsvoering | D10: ='Beoordelaar 7 Teamleider Bv.'!C4 -> SCORE | G10: ='Beoordelaar 7 Teamleider Bv.'!E4 -> SCORE | J10: ='Beoordelaar 7 Teamleider Bv.'!G4 -> SCORE
A11: Consensus | D11: SCORE | G11: SCORE | J11: SCORE
D12: =IF(D11="beter","€ 2.000",IF(D11="vergelijkbaar","€ 500",IF(D11="minder","-€ 2000",IF(D11="onacceptabel"," KO "," ")))) | G12: =IF(G11="beter","€ 2.000",IF(G11="vergelijkbaar","€ 500",IF(G11="minder","-€ 2000",IF(G11="onacceptabel"," KO "," ")))) | J12: =IF(J11="beter","€ 2.000",IF(J11="vergelijkbaar","€ 500",IF(J11="minder","-€ 2000",IF(J11="onacceptabel"," KO "," "))))
A13: =Productdemonstratie!A5:A5 -> 2. Constructie tussen frame en blad | B13: ='Beoordelaar 1 Concierge'!$A$1 -> Beoordelaar 1: Conciërge | D13: ='Beoordelaar 1 Concierge'!C6 -> SCORE | E13: <MOTIVATIE> | G13: ='Beoordelaar 1 Concierge'!E6 -> SCORE | H13: <MOTIVATIE> | J13: ='Beoordelaar 1 Concierge'!G6 -> SCORE | K13: <MOTIVATIE>
B14: ='Beoordelaar 2 Concierge'!$A$1 -> Beoordelaar 2: Conciërge | D14: ='Beoordelaar 2 Concierge'!C6 -> SCORE | G14: ='Beoordelaar 2 Concierge'!E6 -> SCORE | J14: ='Beoordelaar 2 Concierge'!G6 -> SCORE
B15: ='Beoordelaar 3 Docent'!$A$1 -> Beoordelaar 3: Docent | D15: ='Beoordelaar 3 Docent'!C6 -> SCORE | G15: ='Beoordelaar 3 Docent'!E6 -> SCORE | J15: ='Beoordelaar 3 Docent'!G6 -> SCORE
B16: ='Beoordelaar 4 Docent'!$A$1 -> Beoordelaar 4: Docent | D16: ='Beoordelaar 4 Docent'!C6 -> SCORE | G16: ='Beoordelaar 4 Docent'!E6 -> SCORE | J16: ='Beoordelaar 4 Docent'!G6 -> SCORE
B17: ='Beoordelaar 5 Mw Bestuursbureau'!$A$1 -> Beoordelaar 5: Medewerker Bestuursbureau | D17: ='Beoordelaar 5 Mw Bestuursbureau'!C6 -> SCORE | G17: ='Beoordelaar 5 Mw Bestuursbureau'!E6 -> SCORE | J17: ='Beoordelaar 5 Mw Bestuursbureau'!G6 -> SCORE
B18: ='Beoordelaar 6 Facilitair Man.'!$A$1 -> Beoordelaar 6: Facilitair Manager | D18: ='Beoordelaar 6 Facilitair Man.'!C6 -> SCORE | G18: ='Beoordelaar 6 Facilitair Man.'!E6 -> SCORE | J18: ='Beoordelaar 6 Facilitair Man.'!G6 -> SCORE
B19: ='Beoordelaar 7 Teamleider Bv.'!$A$1 -> Beoordelaar 7: Teamleider Bedrijfsvoering | D19: ='Beoordelaar 7 Teamleider Bv.'!C6 -> SCORE | G19: ='Beoordelaar 7 Teamleider Bv.'!E6 -> SCORE | J19: ='Beoordelaar 7 Teamleider Bv.'!G6 -> SCORE
A20: Consensus | D20: SCORE | G20: SCORE | J20: SCORE
D21: =IF(D20="beter","€ 2.000",IF(D20="vergelijkbaar","€ 500",IF(D20="minder","-€ 2000",IF(D20="onacceptabel"," KO "," ")))) | G21: =IF(G20="beter","€ 2.000",IF(G20="vergelijkbaar","€ 500",IF(G20="minder","-€ 2000",IF(G20="onacceptabel"," KO "," ")))) | J21: =IF(J20="beter","€ 2.000",IF(J20="vergelijkbaar","€ 500",IF(J20="minder","-€ 2000",IF(J20="onacceptabel"," KO "," "))))
A22: =Productdemonstratie!A6:A6 -> 3. Uitstraling/vormgeving | B22: ='Beoordelaar 1 Concierge'!$A$1 -> Beoordelaar 1: Conciërge | D22: ='Beoordelaar 1 Concierge'!C8 -> SCORE | E22: <MOTIVATIE> | G22: ='Beoordelaar 1 Concierge'!E8 -> SCORE | H22: <MOTIVATIE> | J22: ='Beoordelaar 1 Concierge'!G8 -> SCORE | K22: <MOTIVATIE>
B23: ='Beoordelaar 2 Concierge'!$A$1 -> Beoordelaar 2: Conciërge | D23: ='Beoordelaar 2 Concierge'!C8 -> SCORE | G23: ='Beoordelaar 2 Concierge'!E8 -> SCORE | J23: ='Beoordelaar 2 Concierge'!G8 -> SCORE
B24: ='Beoordelaar 3 Docent'!$A$1 -> Beoordelaar 3: Docent | D24: ='Beoordelaar 3 Docent'!C8 -> SCORE | G24: ='Beoordelaar 3 Docent'!E8 -> SCORE | J24: ='Beoordelaar 3 Docent'!G8 -> SCORE
B25: ='Beoordelaar 4 Docent'!$A$1 -> Beoordelaar 4: Docent | D25: ='Beoordelaar 4 Docent'!C8 -> SCORE | G25: ='Beoordelaar 4 Docent'!E8 -> SCORE | J25: ='Beoordelaar 4 Docent'!G8 -> SCORE
B26: ='Beoordelaar 5 Mw Bestuursbureau'!$A$1 -> Beoordelaar 5: Medewerker Bestuursbureau | D26: ='Beoordelaar 5 Mw Bestuursbureau'!C8 -> SCORE | G26: ='Beoordelaar 5 Mw Bestuursbureau'!E8 -> SCORE | J26: ='Beoordelaar 5 Mw Bestuursbureau'!G8 -> SCORE
B27: ='Beoordelaar 6 Facilitair Man.'!$A$1 -> Beoordelaar 6: Facilitair Manager | D27: ='Beoordelaar 6 Facilitair Man.'!C8 -> SCORE | G27: ='Beoordelaar 6 Facilitair Man.'!E8 -> SCORE | J27: ='Beoordelaar 6 Facilitair Man.'!G8 -> SCORE
B28: ='Beoordelaar 7 Teamleider Bv.'!$A$1 -> Beoordelaar 7: Teamleider Bedrijfsvoering | D28: ='Beoordelaar 7 Teamleider Bv.'!C8 -> SCORE | G28: ='Beoordelaar 7 Teamleider Bv.'!E8 -> SCORE | J28: ='Beoordelaar 7 Teamleider Bv.'!G8 -> SCORE
A29: Consensus | D29: SCORE | G29: SCORE | J29: SCORE
D30: =IF(D29="beter","€ 2.000",IF(D29="vergelijkbaar","€ 500",IF(D29="minder","-€ 2000",IF(D29="onacceptabel"," KO "," ")))) | G30: =IF(G29="beter","€ 2.000",IF(G29="vergelijkbaar","€ 500",IF(G29="minder","-€ 2000",IF(G29="onacceptabel"," KO "," ")))) | J30: =IF(J29="beter","€ 2.000",IF(J29="vergelijkbaar","€ 500",IF(J29="minder","-€ 2000",IF(J29="onacceptabel"," KO "," "))))
A31: =Productdemonstratie!A7:A7 -> 4. Gemak schoonmaken | B31: ='Beoordelaar 1 Concierge'!$A$1 -> Beoordelaar 1: Conciërge | D31: ='Beoordelaar 1 Concierge'!C10 -> SCORE | E31: <MOTIVATIE> | G31: ='Beoordelaar 1 Concierge'!E10 -> SCORE | H31: <MOTIVATIE> | J31: ='Beoordelaar 1 Concierge'!G10 -> SCORE | K31: <MOTIVATIE>
B32: ='Beoordelaar 2 Concierge'!$A$1 -> Beoordelaar 2: Conciërge | D32: ='Beoordelaar 2 Concierge'!C10 -> SCORE | G32: ='Beoordelaar 2 Concierge'!E10 -> SCORE | J32: ='Beoordelaar 2 Concierge'!G10 -> SCORE
B33: ='Beoordelaar 3 Docent'!$A$1 -> Beoordelaar 3: Docent | D33: ='Beoordelaar 3 Docent'!C10 -> SCORE | G33: ='Beoordelaar 3 Docent'!E10 -> SCORE | J33: ='Beoordelaar 3 Docent'!G10 -> SCORE
B34: ='Beoordelaar 4 Docent'!$A$1 -> Beoordelaar 4: Docent | D34: ='Beoordelaar 4 Docent'!C10 -> SCORE | G34: ='Beoordelaar 4 Docent'!E10 -> SCORE | J34: ='Beoordelaar 4 Docent'!G10 -> SCORE
B35: ='Beoordelaar 5 Mw Bestuursbureau'!$A$1 -> Beoordelaar 5: Medewerker Bestuursbureau | D35: ='Beoordelaar 5 Mw Bestuursbureau'!C10 -> SCORE | G35: ='Beoordelaar 5 Mw Bestuursbureau'!E10 -> SCORE | J35: ='Beoordelaar 5 Mw Bestuursbureau'!G10 -> SCORE
B36: ='Beoordelaar 6 Facilitair Man.'!$A$1 -> Beoordelaar 6: Facilitair Manager | D36: ='Beoordelaar 6 Facilitair Man.'!C10 -> SCORE | G36: ='Beoordelaar 6 Facilitair Man.'!E10 -> SCORE | J36: ='Beoordelaar 6 Facilitair Man.'!G10 -> SCORE
B37: ='Beoordelaar 7 Teamleider Bv.'!$A$1 -> Beoordelaar 7: Teamleider Bedrijfsvoering | D37: ='Beoordelaar 7 Teamleider Bv.'!C10 -> SCORE | G37: ='Beoordelaar 7 Teamleider Bv.'!E10 -> SCORE | J37: ='Beoordelaar 7 Teamleider Bv.'!G10 -> SCORE
A38: Consensus | D38: SCORE | G38: SCORE | J38: SCORE
D39: =IF(D38="beter","€ 2.000",IF(D38="vergelijkbaar","€ 500",IF(D38="minder","-€ 2000",IF(D38="onacceptabel"," KO "," ")))) | G39: =IF(G38="beter","€ 2.000",IF(G38="vergelijkbaar","€ 500",IF(G38="minder","-€ 2000",IF(G38="onacceptabel"," KO "," ")))) | J39: =IF(J38="beter","€ 2.000",IF(J38="vergelijkbaar","€ 500",IF(J38="minder","-€ 2000",IF(J38="onacceptabel"," KO "," "))))
A40: =Productdemonstratie!A8:A8 -> 5. Mate veiligheid (scherpe randen en hoeken) | B40: ='Beoordelaar 1 Concierge'!$A$1 -> Beoordelaar 1: Conciërge | D40: ='Beoordelaar 1 Concierge'!C12 -> SCORE | E40: <MOTIVATIE> | G40: ='Beoordelaar 1 Concierge'!E12 -> SCORE | H40: <MOTIVATIE> | J40: ='Beoordelaar 1 Concierge'!G12 -> SCORE | K40: <MOTIVATIE>
...

Sheet Eindscores
A1: Totaalwaarder criterium kwaliteit
A2: Onderdeel | C2: ='Beoordelaar 1 Concierge'!C1 -> Inschrijver 1 | E2: ='Beoordelaar 1 Concierge'!E1 -> Inschrijver 2 | G2: ='Beoordelaar 1 Concierge'!G1 -> Inschrijver 3
A3: 7.1. A BEANTWOORDING OPEN VRAGEN | C3: 0 | E3: 0 | G3: 0
A4: 7.2 PRODUCTDEMONSTRATIE | C4: =Consensus!D384 -> #VALUE! | E4: =Consensus!G384 -> #VALUE! | G4: =Consensus!J384 -> #VALUE!
A5: Totaal behaalde waarde criterium kwaliteit: | C5: =SUM(C3:C4) -> #VALUE! | E5: =SUM(E3:E4) -> #VALUE! | G5: =SUM(G3:G4) -> #VALUE!
A7: Totaal behaalde waarde criterium prijs: | C7: 0 | E7: 0 | G7: 0
A9: Eindscore (kwaliteit/prijs): | C9: =C7-C5 -> #VALUE! | E9: =E7-E5 -> #VALUE! | G9: =G7-G5 -> #VALUE!
