Workbook
Name SCORE: Productdemonstratie!$B$1:$B$4

Sheet Productdemonstratie
A1: 7.2 Productdemonstratie | B1: Score:
A2: Aanbestedende dienst zal conform een nader te bepalen planning een productdemonstratie organiseren op haar locatie. Tijdens deze productdemonstratie zal de kwaliteit van diverse uitgevraagde producten conform objectieve criteria worden getoetst, getest en beoordeeld. | B2: Beter
A3: 1. Leerlingtafel VMBO – Item 1 prijzenblad leerlingsets. | B3: Vergelijkbaar
A4: 1. Stabiliteit | B4: Minder | C4: Onvoldoende | D4: SCORE
A5: 2. Constructie tussen frame en blad | B5: Onacceptabel
A6: 3. Uitstraling/vormgeving
A7: 4. Gemak schoonmaken | B7: maximaal 2 maal negatief
A8: 5. Mate veiligheid (scherpe randen en hoeken) | C8: Voldoende | D8: SCORE
A9: 2. Leerlingstoel VMBO – Item 19 prijzenblad leerlingsets. | L9: SCORE | M9: SCORE
A10: 1. Stabiliteit | C10: Onvoldoende | D10: SCORE | L10: Beter
A11: 2. Constructie tussen frame en zitting | L11: Vergelijkbaar
A12: 3. Uitstraling/vormgeving | L12: Minder
A13: 4. Gemak schoonmaken | B13: maximaal 2 maal negatief | L13: Onacceptabel
A14: 5. Mate veiligheid (scherpe randen en hoeken) | C14: Voldoende | D14: SCORE
A15: 6. Zit-comfort
A16: 3. Leerlingtafel HBO/MBO – Item 12 prijzenblad leerlingsets.
A17: 1. Stabiliteit | C17: Onvoldoende | D17: SCORE
A18: 2. Constructie tussen frame en blad
A19: 3. Uitstraling/vormgeving
A20: 4. Gemak schoonmaken | B20: maximaal 2 maal negatief
A21: 5. Mate veiligheid (scherpe randen en hoeken) | C21: Voldoende | D21: SCORE
A22: 4. Leerlingstoel HBO/MBO – Item 27 prijzenblad leerlingsets.
A23: 1. Stabiliteit
A24: 2. Constructie tussen frame en zitting
A25: 3. Uitstraling/vormgeving
A26: 4. Gemak schoonmaken | B26: maximaal 2 maal negatief
A27: 5. Mate veiligheid (scherpe randen en hoeken)
A28: 6. Zit-comfort
A29: 5. Elektrisch zit-sta bureau docent – Item 5 prijzenblad kantoormeubilair.
A30: 1. Stabiliteit op alle hoogtes
A31: 2. Mate van geluid bij verstellen hoogte
A32: 3. Constructie onderstel, afwerking
A33: 4. Uitstraling/vormgeving | B33: maximaal 2 maal negatief
A34: 5. Gemak schoonmaken
A35: 6. Bereikbaarheid knoppen instellen hoogte
A36: 6. Bureaustoel docent – Item 1 prijzenblad kantoormeubilair.
A37: 1. Stabiliteit
A38: 2. Constructie tussen frame en zitting
A39: 3. Uitstraling/vormgeving
A40: 4. Gemak schoonmaken | B40: maximaal 2 maal negatief
A41: 5. Mate veiligheid (scherpe randen en hoeken)
A42: 6. Zit-comfort
A43: 7. Ergonomische kruk docent – Item 12 prijzenblad kantoormeubilair.
A44: 1. Stabiliteit
A45: 2. Constructie tussen frame en zitting
A46: 3. Uitstraling/vormgeving
A47: 4. Gemak schoonmaken | B47: maximaal 2 maal negatief
A48: 5. Mate veiligheid (scherpe randen en hoeken)
A49: 6. Zit-comfort

Sheet Beoordelaar 1 Concierge
A1: Beoordelaar 1: Conciërge | C1: Inschrijver 1 | E1: Inschrijver 2 | G1: Inschrijver 3
A2: =Productdemonstratie!A1:A1 -> 7.2 Productdemonstratie | C2: Score: | E2: Score: | G2: Score: | Q2: SCORE | R2: SCORE
A3: =Productdemonstratie!A3 -> 1. Leerlingtafel VMBO – Item 1 prijzenblad leerlingsets. | Q3: Beter
A4: =Productdemonstratie!A4:A4 -> 1. Stabiliteit | C4: SCORE | E4: SCORE | G4: SCORE | Q4: Vergelijkbaar
C5: <MOTIVATIE> | E5: <MOTIVATIE> | G5: <MOTIVATIE> | Q5: Minder
A6: =Productdemonstratie!A5:A5 -> 2. Constructie tussen frame en blad | C6: SCORE | E6: SCORE | G6: SCORE | Q6: Onacceptabel
C7: <MOTIVATIE> | E7: <MOTIVATIE> | G7: <MOTIVATIE>
A8: =Productdemonstratie!A6:A6 -> 3. Uitstraling/vormgeving | C8: SCORE | E8: SCORE | G8: SCORE
C9: <MOTIVATIE> | E9: <MOTIVATIE> | G9: <MOTIVATIE>
A10: =Productdemonstratie!A7:A7 -> 4. Gemak schoonmaken | C10: SCORE | E10: SCORE | G10: SCORE
C11: <MOTIVATIE> | E11: <MOTIVATIE> | G11: <MOTIVATIE>
A12: =Productdemonstratie!A8:A8 -> 5. Mate veiligheid (scherpe randen en hoeken) | C12: SCORE | E12: SCORE | G12: SCORE
C13: <MOTIVATIE> | E13: <MOTIVATIE> | G13: <MOTIVATIE>
A14: =Productdemonstratie!A9 -> 2. Leerlingstoel VMBO – Item 19 prijzenblad leerlingsets.
A15: =Productdemonstratie!A10 -> 1. Stabiliteit | C15: SCORE | E15: SCORE | G15: SCORE
C16: <MOTIVATIE> | E16: <MOTIVATIE> | G16: <MOTIVATIE>
A17: =Productdemonstratie!A11 -> 2. Constructie tussen frame en zitting | C17: SCORE | E17: SCORE | G17: SCORE
C18: <MOTIVATIE> | E18: <MOTIVATIE> | G18: <MOTIVATIE>
A19: =Productdemonstratie!A12 -> 3. Uitstraling/vormgeving | C19: SCORE | E19: SCORE | G19: SCORE
C20: <MOTIVATIE> | E20: <MOTIVATIE> | G20: <MOTIVATIE>
A21: =Productdemonstratie!A13 -> 4. Gemak schoonmaken | C21: SCORE | E21: SCORE | G21: SCORE
C22: <MOTIVATIE> | E22: <MOTIVATIE> | G22: <MOTIVATIE>
A23: =Productdemonstratie!A14 -> 5. Mate veiligheid (scherpe randen en hoeken) | C23: SCORE | E23: SCORE | G23: SCORE
C24: <MOTIVATIE> | E24: <MOTIVATIE> | G24: <MOTIVATIE>
A25: =Productdemonstratie!A15 -> 6. Zit-comfort | C25: SCORE | E25: SCORE | G25: SCORE
C26: <MOTIVATIE> | E26: <MOTIVATIE> | G26: <MOTIVATIE>
A27: =Productdemonstratie!A16 -> 3. Leerlingtafel HBO/MBO – Item 12 prijzenblad leerlingsets.
A28: =Productdemonstratie!A17 -> 1. Stabiliteit | C28: SCORE | E28: SCORE | G28: SCORE
C29: <MOTIVATIE> | E29: <MOTIVATIE> | G29: <MOTIVATIE>
A30: =Productdemonstratie!A18 -> 2. Constructie tussen frame en blad | C30: SCORE | E30: SCORE | G30: SCORE
C31: <MOTIVATIE> | E31: <MOTIVATIE> | G31: <MOTIVATIE>
A32: =Productdemonstratie!A19 -> 3. Uitstraling/vormgeving | C32: SCORE | E32: SCORE | G32: SCORE
C33: <MOTIVATIE> | E33: <MOTIVATIE> | G33: <MOTIVATIE>
A34: =Productdemonstratie!A20 -> 4. Gemak schoonmaken | C34: SCORE | E34: SCORE | G34: SCORE
C35: <MOTIVATIE> | E35: <MOTIVATIE> | G35: <MOTIVATIE>
A36: =Productdemonstratie!A21 -> 5. Mate veiligheid (scherpe randen en hoeken) | C36: SCORE | E36: SCORE | G36: SCORE
C37: <MOTIVATIE> | E37: <MOTIVATIE> | G37: <MOTIVATIE>
A38: =+Productdemonstratie!A22 -> 4. Leerlingstoel HBO/MBO – Item 27 prijzenblad leerlingsets.
A39: =Productdemonstratie!A23 -> 1. Stabiliteit | C39: SCORE | E39: SCORE | G39: SCORE
C40: <MOTIVATIE> | E40: <MOTIVATIE> | G40: <MOTIVATIE>
A41: =Productdemonstratie!A24 -> 2. Constructie tussen frame en zitting | C41: SCORE | E41: SCORE | G41: SCORE
C42: <MOTIVATIE> | E42: <MOTIVATIE> | G42: <MOTIVATIE>
A43: =Productdemonstratie!A25 -> 3. Uitstraling/vormgeving | C43: SCORE | E43: SCORE | G43: SCORE
C44: <MOTIVATIE> | E44: <MOTIVATIE> | G44: <MOTIVATIE>
A45: =Productdemonstratie!A26 -> 4. Gemak schoonmaken | C45: SCORE | E45: SCORE | G45: SCORE
C46: <MOTIVATIE> | E46: <MOTIVATIE> | G46: <MOTIVATIE>
A47: =Productdemonstratie!A27 -> 5. Mate veiligheid (scherpe randen en hoeken) | C47: SCORE | E47: SCORE | G47: SCORE
C48: <MOTIVATIE> | E48: <MOTIVATIE> | G48: <MOTIVATIE>
A49: =Productdemonstratie!A28 -> 6. Zit-comfort | C49: SCORE | E49: SCORE | G49: SCORE
C50: <MOTIVATIE> | E50: <MOTIVATIE> | G50: <MOTIVATIE>
A51: =Productdemonstratie!A29 -> 5. Elektrisch zit-sta bureau docent – Item 5 prijzenblad kantoormeubilair.
A52: =Productdemonstratie!A30 -> 1. Stabiliteit op alle hoogtes | C52: SCORE | E52: SCORE | G52: SCORE
C53: <MOTIVATIE> | E53: <MOTIVATIE> | G53: <MOTIVATIE>
A54: =Productdemonstratie!A31 -> 2. Mate van geluid bij verstellen hoogte | C54: SCORE | E54: SCORE | G54: SCORE
C55: <MOTIVATIE> | E55: <MOTIVATIE> | G55: <MOTIVATIE>
A56: =Productdemonstratie!A32 -> 3. Constructie onderstel, afwerking | C56: SCORE | E56: SCORE | G56: SCORE
C57: <MOTIVATIE> | E57: <MOTIVATIE> | G57: <MOTIVATIE>
A58: =Productdemonstratie!A33 -> 4. Uitstraling/vormgeving | C58: SCORE | E58: SCORE | G58: SCORE
C59: <MOTIVATIE> | E59: <MOTIVATIE> | G59: <MOTIVATIE>
A60: =Productdemonstratie!A34 -> 5. Gemak schoonmaken | C60: SCORE | E60: SCORE | G60: SCORE
C61: <MOTIVATIE> | E61: <MOTIVATIE> | G61: <MOTIVATIE>
A62: =Productdemonstratie!A35 -> 6. Bereikbaarheid knoppen instellen hoogte | C62: SCORE | E62: SCORE | G62: SCORE
C63: <MOTIVATIE> | E63: <MOTIVATIE> | G63: <MOTIVATIE>
A64: =Productdemonstratie!A36 -> 6. Bureaustoel docent – Item 1 prijzenblad kantoormeubilair.
A65: =Productdemonstratie!A37 -> 1. Stabiliteit | C65: SCORE | E65: SCORE | G65: SCORE
C66: <MOTIVATIE> | E66: <MOTIVATIE> | G66: <MOTIVATIE>
A67: =Productdemonstratie!A38 -> 2. Constructie tussen frame en zitting | C67: SCORE | E67: SCORE | G67: SCORE
C68: <MOTIVATIE> | E68: <MOTIVATIE> | G68: <MOTIVATIE>
A69: =Productdemonstratie!A39 -> 3. Uitstraling/vormgeving | C69: SCORE | E69: SCORE | G69: SCORE
C70: <MOTIVATIE> | E70: <MOTIVATIE> | G70: <MOTIVATIE>
A71: =Productdemonstratie!A40 -> 4. Gemak schoonmaken | C71: SCORE | E71: SCORE | G71: SCORE
C72: <MOTIVATIE> | E72: <MOTIVATIE> | G72: <MOTIVATIE>
A73: =Productdemonstratie!A41 -> 5. Mate veiligheid (scherpe randen en hoeken) | C73: SCORE | E73: SCORE | G73: SCORE
C74: <MOTIVATIE> | E74: <MOTIVATIE> | G74: <MOTIVATIE>
A75: =Productdemonstratie!A42 -> 6. Zit-comfort | C75: SCORE | E75: SCORE | G75: SCORE
C76: <MOTIVATIE> | E76: <MOTIVATIE> | G76: <MOTIVATIE>
A77: =Productdemonstratie!A43 -> 7. Ergonomische kruk docent – Item 12 prijzenblad kantoormeubilair.
A78: =Productdemonstratie!A44 -> 1. Stabiliteit | C78: SCORE | E78: SCORE | G78: SCORE
C79: <MOTIVATIE> | E79: <MOTIVATIE> | G79: <MOTIVATIE>
A80: =Productdemonstratie!A45 -> 2. Constructie tussen frame en zitting | C80: SCORE | E80: SCORE | G80: SCORE
C81: <MOTIVATIE> | E81: <MOTIVATIE> | G81: <MOTIVATIE>
A82: =Productdemonstratie!A46 -> 3. Uitstraling/vormgeving | C82: SCORE | E82: SCORE | G82: SCORE
C83: <MOTIVATIE> | E83: <MOTIVATIE> | G83: <MOTIVATIE>
A84: =Productdemonstratie!A47 -> 4. Gemak schoonmaken | C84: SCORE | E84: SCORE | G84: SCORE
C85: <MOTIVATIE> | E85: <MOTIVATIE> | G85: <MOTIVATIE>
A86: =Productdemonstratie!A48 -> 5. Mate veiligheid (scherpe randen en hoeken) | C86: SCORE | E86: SCORE | G86: SCORE
C87: <MOTIVATIE> | E87: <MOTIVATIE> | G87: <MOTIVATIE>
A88: =Productdemonstratie!A49 -> 6. Zit-comfort | C88: SCORE | E88: SCORE | G88: SCORE
C89: <MOTIVATIE> | E89: <MOTIVATIE> | G89: <MOTIVATIE>

Sheet Beoordelaar 2 Concierge
A1: Beoordelaar 2: Conciërge | C1: Inschrijver 1 | E1: Inschrijver 2 | G1: Inschrijver 3
A2: =Productdemonstratie!A1:A1 -> 7.2 Productdemonstratie | C2: Score: | E2: Score: | G2: Score: | Q2: SCORE | R2: SCORE
A3: =Productdemonstratie!A3 -> 1. Leerlingtafel VMBO – Item 1 prijzenblad leerlingsets. | Q3: Beter
A4: =Productdemonstratie!A4:A4 -> 1. Stabiliteit | C4: SCORE | E4: SCORE | G4: SCORE | Q4: Vergelijkbaar
C5: <MOTIVATIE> | E5: <MOTIVATIE> | G5: <MOTIVATIE> | Q5: Minder
A6: =Productdemonstratie!A5:A5 -> 2. Constructie tussen frame en blad | C6: SCORE | E6: SCORE | G6: SCORE | Q6: Onacceptabel
C7: <MOTIVATIE> | E7: <MOTIVATIE> | G7: <MOTIVATIE>
A8: =Productdemonstratie!A6:A6 -> 3. Uitstraling/vormgeving | C8: SCORE | E8: SCORE | G8: SCORE
C9: <MOTIVATIE> | E9: <MOTIVATIE> | G9: <MOTIVATIE>
A10: =Productdemonstratie!A7:A7 -> 4. Gemak schoonmaken | C10: SCORE | E10: SCORE | G10: SCORE
C11: <MOTIVATIE> | E11: <MOTIVATIE> | G11: <MOTIVATIE>
A12: =Productdemonstratie!A8:A8 -> 5. Mate veiligheid (scherpe randen en hoeken) | C12: SCORE | E12: SCORE | G12: SCORE
C13: <MOTIVATIE> | E13: <MOTIVATIE> | G13: <MOTIVATIE>
A14: =Productdemonstratie!A9 -> 2. Leerlingstoel VMBO – Item 19 prijzenblad leerlingsets.
A15: =Productdemonstratie!A10 -> 1. Stabiliteit | C15: SCORE | E15: SCORE | G15: SCORE
C16: <MOTIVATIE> | E16: <MOTIVATIE> | G16: <MOTIVATIE>
A17: =Productdemonstratie!A11 -> 2. Constructie tussen frame en zitting | C17: SCORE | E17: SCORE | G17: SCORE
C18: <MOTIVATIE> | E18: <MOTIVATIE> | G18: <MOTIVATIE>
A19: =Productdemonstratie!A12 -> 3. Uitstraling/vormgeving | C19: SCORE | E19: SCORE | G19: SCORE
C20: <MOTIVATIE> | E20: <MOTIVATIE> | G20: <MOTIVATIE>
A21: =Productdemonstratie!A13 -> 4. Gemak schoonmaken | C21: SCORE | E21: SCORE | G21: SCORE
C22: <MOTIVATIE> | E22: <MOTIVATIE> | G22: <MOTIVATIE>
A23: =Productdemonstratie!A14 -> 5. Mate veiligheid (scherpe randen en hoeken) | C23: SCORE | E23: SCORE | G23: SCORE
C24: <MOTIVATIE> | E24: <MOTIVATIE> | G24: <MOTIVATIE>
A25: =Productdemonstratie!A15 -> 6. Zit-comfort | C25: SCORE | E25: SCORE | G25: SCORE
C26: <MOTIVATIE> | E26: <MOTIVATIE> | G26: <MOTIVATIE>
A27: =Productdemonstratie!A16 -> 3. Leerlingtafel HBO/MBO – Item 12 prijzenblad leerlingsets.
A28: =Productdemonstratie!A17 -> 1. Stabiliteit | C28: SCORE | E28: SCORE | G28: SCORE
C29: <MOTIVATIE> | E29: <MOTIVATIE> | G29: <MOTIVATIE>
A30: =Productdemonstratie!A18 -> 2. Constructie tussen frame en blad | C30: SCORE | E30: SCORE | G30: SCORE
C31: <MOTIVATIE> | E31: <MOTIVATIE> | G31: <MOTIVATIE>
A32: =Productdemonstratie!A19 -> 3. Uitstraling/vormgeving | C32: SCORE | E32: SCORE | G32: SCORE
C33: <MOTIVATIE> | E33: <MOTIVATIE> | G33: <MOTIVATIE>
A34: =Productdemonstratie!A20 -> 4. Gemak schoonmaken | C34: SCORE | E34: SCORE | G34: SCORE
C35: <MOTIVATIE> | E35: <MOTIVATIE> | G35: <MOTIVATIE>
A36: =Productdemonstratie!A21 -> 5. Mate veiligheid (scherpe randen en hoeken) | C36: SCORE | E36: SCORE | G36: SCORE
C37: <MOTIVATIE> | E37: <MOTIVATIE> | G37: <MOTIVATIE>
A38: =+Productdemonstratie!A22 -> 4. Leerlingstoel HBO/MBO – Item 27 prijzenblad leerlingsets.
A39: =Productdemonstratie!A23 -> 1. Stabiliteit | C39: SCORE | E39: SCORE | G39: SCORE
C40: <MOTIVATIE> | E40: <MOTIVATIE> | G40: <MOTIVATIE>
A41: =Productdemonstratie!A24 -> 2. Constructie tussen frame en zitting | C41: SCORE | E41: SCORE | G41: SCORE
C42: <MOTIVATIE> | E42: <MOTIVATIE> | G42: <MOTIVATIE>
A43: =Productdemonstratie!A25 -> 3. Uitstraling/vormgeving | C43: SCORE | E43: SCORE | G43: SCORE
C44: <MOTIVATIE> | E44: <MOTIVATIE> | G44: <MOTIVATIE>
A45: =Productdemonstratie!A26 -> 4. Gemak schoonmaken | C45: SCORE | E45: SCORE | G45: SCORE
C46: <MOTIVATIE> | E46: <MOTIVATIE> | G46: <MOTIVATIE>
A47: =Productdemonstratie!A27 -> 5. Mate veiligheid (scherpe randen en hoeken) | C47: SCORE | E47: SCORE | G47: SCORE
C48: <MOTIVATIE> | E48: <MOTIVATIE> | G48: <MOTIVATIE>
A49: =Productdemonstratie!A28 -> 6. Zit-comfort | C49: SCORE | E49: SCORE | G49: SCORE
C50: <MOTIVATIE> | E50: <MOTIVATIE> | G50: <MOTIVATIE>
A51: =Productdemonstratie!A29 -> 5. Elektrisch zit-sta bureau docent – Item 5 prijzenblad kantoormeubilair.
A52: =Productdemonstratie!A30 -> 1. Stabiliteit op alle hoogtes | C52: SCORE | E52: SCORE | G52: SCORE
C53: <MOTIVATIE> | E53: <MOTIVATIE> | G53: <MOTIVATIE>
A54: =Productdemonstratie!A31 -> 2. Mate van geluid bij verstellen hoogte | C54: SCORE | E54: SCORE | G54: SCORE
C55: <MOTIVATIE> | E55: <MOTIVATIE> | G55: <MOTIVATIE>
A56: =Productdemonstratie!A32 -> 3. Constructie onderstel, afwerking | C56: SCORE | E56: SCORE | G56: SCORE
C57: <MOTIVATIE> | E57: <MOTIVATIE> | G57: <MOTIVATIE>
A58: =Productdemonstratie!A33 -> 4. Uitstraling/vormgeving | C58: SCORE | E58: SCORE | G58: SCORE
C59: <MOTIVATIE> | E59: <MOTIVATIE> | G59: <MOTIVATIE>
A60: =Productdemonstratie!A34 -> 5. Gemak schoonmaken | C60: SCORE | E60: SCORE | G60: SCORE
C61: <MOTIVATIE> | E61: <MOTIVATIE> | G61: <MOTIVATIE>
A62: =Productdemonstratie!A35 -> 6. Bereikbaarheid knoppen instellen hoogte | C62: SCORE | E62: SCORE | G62: SCORE
C63: <MOTIVATIE> | E63: <MOTIVATIE> | G63: <MOTIVATIE>
A64: =Productdemonstratie!A36 -> 6. Bureaustoel docent – Item 1 prijzenblad kantoormeubilair.
A65: =Productdemonstratie!A37 -> 1. Stabiliteit | C65: SCORE | E65: SCORE | G65: SCORE
C66: <MOTIVATIE> | E66: <MOTIVATIE> | G66: <MOTIVATIE>
A67: =Productdemonstratie!A38 -> 2. Constructie tussen frame en zitting | C67: SCORE | E67: SCORE | G67: SCORE
C68: <MOTIVATIE> | E68: <MOTIVATIE> | G68: <MOTIVATIE>
A69: =Productdemonstratie!A39 -> 3. Uitstraling/vormgeving | C69: SCORE | E69: SCORE | G69: SCORE
C70: <MOTIVATIE> | E70: <MOTIVATIE> | G70: <MOTIVATIE>
A71: =Productdemonstratie!A40 -> 4. Gemak schoonmaken | C71: SCORE | E71: SCORE | G71: SCORE
C72: <MOTIVATIE> | E72: <MOTIVATIE> | G72: <MOTIVATIE>
A73: =Productdemonstratie!A41 -> 5. Mate veiligheid (scherpe randen en hoeken) | C73: SCORE | E73: SCORE | G73: SCORE
C74: <MOTIVATIE> | E74: <MOTIVATIE> | G74: <MOTIVATIE>
A75: =Productdemonstratie!A42 -> 6. Zit-comfort | C75: SCORE | E75: SCORE | G75: SCORE
C76: <MOTIVATIE> | E76: <MOTIVATIE> | G76: <MOTIVATIE>
A77: =Productdemonstratie!A43 -> 7. Ergonomische kruk docent – Item 12 prijzenblad kantoormeubilair.
A78: =Productdemonstratie!A44 -> 1. Stabiliteit | C78: SCORE | E78: SCORE | G78: SCORE
C79: <MOTIVATIE> | E79: <MOTIVATIE> | G79: <MOTIVATIE>
A80: =Productdemonstratie!A45 -> 2. Constructie tussen frame en zitting | C80: SCORE | E80: SCORE | G80: SCORE
C81: <MOTIVATIE> | E81: <MOTIVATIE> | G81: <MOTIVATIE>
A82: =Productdemonstratie!A46 -> 3. Uitstraling/vormgeving | C82: SCORE | E82: SCORE | G82: SCORE
C83: <MOTIVATIE> | E83: <MOTIVATIE> | G83: <MOTIVATIE>
A84: =Productdemonstratie!A47 -> 4. Gemak schoonmaken | C84: SCORE | E84: SCORE | G84: SCORE
C85: <MOTIVATIE> | E85: <MOTIVATIE> | G85: <MOTIVATIE>
A86: =Productdemonstratie!A48 -> 5. Mate veiligheid (scherpe randen en hoeken) | C86: SCORE | E86: SCORE | G86: SCORE
C87: <MOTIVATIE> | E87: <MOTIVATIE> | G87: <MOTIVATIE>
A88: =Productdemonstratie!A49 -> 6. Zit-comfort | C88: SCORE | E88: SCORE | G88: SCORE
C89: <MOTIVATIE> | E89: <MOTIVATIE> | G89: <MOTIVATIE>

Sheet Beoordelaar 3 Docent
A1: Beoordelaar 3: Docent | C1: Inschrijver 1 | E1: Inschrijver 2 | G1: Inschrijver 3
A2: =Productdemonstratie!A1:A1 -> 7.2 Productdemonstratie | C2: Score: | E2: Score: | G2: Score: | Q2: SCORE | R2: SCORE
A3: =Productdemonstratie!A3 -> 1. Leerlingtafel VMBO – Item 1 prijzenblad leerlingsets. | Q3: Beter
A4: =Productdemonstratie!A4:A4 -> 1. Stabiliteit | C4: SCORE | E4: SCORE | G4: SCORE | Q4: Vergelijkbaar
C5: <MOTIVATIE> | E5: <MOTIVATIE> | G5: <MOTIVATIE> | Q5: Minder
A6: =Productdemonstratie!A5:A5 -> 2. Constructie tussen frame en blad | C6: SCORE | E6: SCORE | G6: SCORE | Q6: Onacceptabel
C7: <MOTIVATIE> | E7: <MOTIVATIE> | G7: <MOTIVATIE>
A8: =Productdemonstratie!A6:A6 -> 3. Uitstraling/vormgeving | C8: SCORE | E8: SCORE | G8: SCORE
C9: <MOTIVATIE> | E9: <MOTIVATIE> | G9: <MOTIVATIE>
A10: =Productdemonstratie!A7:A7 -> 4. Gemak schoonmaken | C10: SCORE | E10: SCORE | G10: SCORE
C11: <MOTIVATIE> | E11: <MOTIVATIE> | G11: <MOTIVATIE>
A12: =Productdemonstratie!A8:A8 -> 5. Mate veiligheid (scherpe randen en hoeken) | C12: SCORE | E12: SCORE | G12: SCORE
C13: <MOTIVATIE> | E13: <MOTIVATIE> | G13: <MOTIVATIE>
A14: =Productdemonstratie!A9 -> 2. Leerlingstoel VMBO – Item 19 prijzenblad leerlingsets.
A15: =Productdemonstratie!A10 -> 1. Stabiliteit | C15: SCORE | E15: SCORE | G15: SCORE
C16: <MOTIVATIE> | E16: <MOTIVATIE> | G16: <MOTIVATIE>
A17: =Productdemonstratie!A11 -> 2. Constructie tussen frame en zitting | C17: SCORE | E17: SCORE | G17: SCORE
C18: <MOTIVATIE> | E18: <MOTIVATIE> | G18: <MOTIVATIE>
A19: =Productdemonstratie!A12 -> 3. Uitstraling/vormgeving | C19: SCORE | E19: SCORE | G19: SCORE
C20: <MOTIVATIE> | E20: <MOTIVATIE> | G20: <MOTIVATIE>
A21: =Productdemonstratie!A13 -> 4. Gemak schoonmaken | C21: SCORE | E21: SCORE | G21: SCORE
C22: <MOTIVATIE> | E22: <MOTIVATIE> | G22: <MOTIVATIE>
A23: =Productdemonstratie!A14 -> 5. Mate veiligheid (scherpe randen en hoeken) | C23: SCORE | E23: SCORE | G23: SCORE
C24: <MOTIVATIE> | E24: <MOTIVATIE> | G24: <MOTIVATIE>
A25: =Productdemonstratie!A15 -> 6. Zit-comfort | C25: SCORE | E25: SCORE | G25: SCORE
C26: <MOTIVATIE> | E26: <MOTIVATIE> | G26: <MOTIVATIE>
A27: =Productdemonstratie!A16 -> 3. Leerlingtafel HBO/MBO – Item 12 prijzenblad leerlingsets.
A28: =Productdemonstratie!A17 -> 1. Stabiliteit | C28: SCORE | E28: SCORE | G28: SCORE
C29: <MOTIVATIE> | E29: <MOTIVATIE> | G29: <MOTIVATIE>
A30: =Productdemonstratie!A18 -> 2. Constructie tussen frame en blad | C30: SCORE | E30: SCORE | G30: SCORE
C31: <MOTIVATIE> | E31: <MOTIVATIE> | G31: <MOTIVATIE>
A32: =Productdemonstratie!A19 -> 3. Uitstraling/vormgeving | C32: SCORE | E32: SCORE | G32: SCORE
C33: <MOTIVATIE> | E33: <MOTIVATIE> | G33: <MOTIVATIE>
A34: =Productdemonstratie!A20 -> 4. Gemak schoonmaken | C34: SCORE | E34: SCORE | G34: SCORE
C35: <MOTIVATIE> | E35: <MOTIVATIE> | G35: <MOTIVATIE>
A36: =Productdemonstratie!A21 -> 5. Mate veiligheid (scherpe randen en hoeken) | C36: SCORE | E36: SCORE | G36: SCORE
C37: <MOTIVATIE> | E37: <MOTIVATIE> | G37: <MOTIVATIE>
A38: =+Productdemonstratie!A22 -> 4. Leerlingstoel HBO/MBO – Item 27 prijzenblad leerlingsets.
A39: =Productdemonstratie!A23 -> 1. Stabiliteit | C39: SCORE | E39: SCORE | G39: SCORE
C40: <MOTIVATIE> | E40: <MOTIVATIE> | G40: <MOTIVATIE>
A41: =Productdemonstratie!A24 -> 2. Constructie tussen frame en zitting | C41: SCORE | E41: SCORE | G41: SCORE
C42: <MOTIVATIE> | E42: <MOTIVATIE> | G42: <MOTIVATIE>
A43: =Productdemonstratie!A25 -> 3. Uitstraling/vormgeving | C43: SCORE | E43: SCORE | G43: SCORE
C44: <MOTIVATIE> | E44: <MOTIVATIE> | G44: <MOTIVATIE>
A45: =Productdemonstratie!A26 -> 4. Gemak schoonmaken | C45: SCORE | E45: SCORE | G45: SCORE
C46: <MOTIVATIE> | E46: <MOTIVATIE> | G46: <MOTIVATIE>
A47: =Productdemonstratie!A27 -> 5. Mate veiligheid (scherpe randen en hoeken) | C47: SCORE | E47: SCORE | G47: SCORE
C48: <MOTIVATIE> | E48: <MOTIVATIE> | G48: <MOTIVATIE>
A49: =Productdemonstratie!A28 -> 6. Zit-comfort | C49: SCORE | E49: SCORE | G49: SCORE
C50: <MOTIVATIE> | E50: <MOTIVATIE> | G50: <MOTIVATIE>
A51: =Productdemonstratie!A29 -> 5. Elektrisch zit-sta bureau docent – Item 5 prijzenblad kantoormeubilair.
A52: =Productdemonstratie!A30 -> 1. Stabiliteit op alle hoogtes | C52: SCORE | E52: SCORE | G52: SCORE
C53: <MOTIVATIE> | E53: <MOTIVATIE> | G53: <MOTIVATIE>
A54: =Productdemonstratie!A31 -> 2. Mate van geluid bij verstellen hoogte | C54: SCORE | E54: SCORE | G54: SCORE
C55: <MOTIVATIE> | E55: <MOTIVATIE> | G55: <MOTIVATIE>
A56: =Productdemonstratie!A32 -> 3. Constructie onderstel, afwerking | C56: SCORE | E56: SCORE | G56: SCORE
C57: <MOTIVATIE> | E57: <MOTIVATIE> | G57: <MOTIVATIE>
A58: =Productdemonstratie!A33 -> 4. Uitstraling/vormgeving | C58: SCORE | E58: SCORE | G58: SCORE
C59: <MOTIVATIE> | E59: <MOTIVATIE> | G59: <MOTIVATIE>
A60: =Productdemonstratie!A34 -> 5. Gemak schoonmaken | C60: SCORE | E60: SCORE | G60: SCORE
C61: <MOTIVATIE> | E61: <MOTIVATIE> | G61: <MOTIVATIE>
A62: =Productdemonstratie!A35 -> 6. Bereikbaarheid knoppen instellen hoogte | C62: SCORE | E62: SCORE | G62: SCORE
C63: <MOTIVATIE> | E63: <MOTIVATIE> | G63: <MOTIVATIE>
A64: =Productdemonstratie!A36 -> 6. Bureaustoel docent – Item 1 prijzenblad kantoormeubilair.
A65: =Productdemonstratie!A37 -> 1. Stabiliteit | C65: SCORE | E65: SCORE | G65: SCORE
C66: <MOTIVATIE> | E66: <MOTIVATIE> | G66: <MOTIVATIE>
A67: =Productdemonstratie!A38 -> 2. Constructie tussen frame en zitting | C67: SCORE | E67: SCORE | G67: SCORE
C68: <MOTIVATIE> | E68: <MOTIVATIE> | G68: <MOTIVATIE>
A69: =Productdemonstratie!A39 -> 3. Uitstraling/vormgeving | C69: SCORE | E69: SCORE | G69: SCORE
C70: <MOTIVATIE> | E70: <MOTIVATIE> | G70: <MOTIVATIE>
A71: =Productdemonstratie!A40 -> 4. Gemak schoonmaken | C71: SCORE | E71: SCORE | G71: SCORE
C72: <MOTIVATIE> | E72: <MOTIVATIE> | G72: <MOTIVATIE>
A73: =Productdemonstratie!A41 -> 5. Mate veiligheid (scherpe randen en hoeken) | C73: SCORE | E73: SCORE | G73: SCORE
C74: <MOTIVATIE> | E74: <MOTIVATIE> | G74: <MOTIVATIE>
A75: =Productdemonstratie!A42 -> 6. Zit-comfort | C75: SCORE | E75: SCORE | G75: SCORE
C76: <MOTIVATIE> | E76: <MOTIVATIE> | G76: <MOTIVATIE>
A77: =Productdemonstratie!A43 -> 7. Ergonomische kruk docent – Item 12 prijzenblad kantoormeubilair.
A78: =Productdemonstratie!A44 -> 1. Stabiliteit | C78: SCORE | E78: SCORE | G78: SCORE
C79: <MOTIVATIE> | E79: <MOTIVATIE> | G79: <MOTIVATIE>
A80: =Productdemonstratie!A45 -> 2. Constructie tussen frame en zitting | C80: SCORE | E80: SCORE | G80: SCORE
C81: <MOTIVATIE> | E81: <MOTIVATIE> | G81: <MOTIVATIE>
A82: =Productdemonstratie!A46 -> 3. Uitstraling/vormgeving | C82: SCORE | E82: SCORE | G82: SCORE
C83: <MOTIVATIE> | E83: <MOTIVATIE> | G83: <MOTIVATIE>
A84: =Productdemonstratie!A47 -> 4. Gemak schoonmaken | C84: SCORE | E84: SCORE | G84: SCORE
C85: <MOTIVATIE> | E85: <MOTIVATIE> | G85: <MOTIVATIE>
A86: =Productdemonstratie!A48 -> 5. Mate veiligheid (scherpe randen en hoeken) | C86: SCORE | E86: SCORE | G86: SCORE
C87: <MOTIVATIE> | E87: <MOTIVATIE> | G87: <MOTIVATIE>
A88: =Productdemonstratie!A49 -> 6. Zit-comfort | C88: SCORE | E88: SCORE | G88: SCORE
C89: <MOTIVATIE> | E89: <MOTIVATIE> | G89: <MOTIVATIE>

Sheet Beoordelaar 4 Docent
A1: Beoordelaar 4: Docent | C1: Inschrijver 1 | E1: Inschrijver 2 | G1: Inschrijver 3
A2: =Productdemonstratie!A1:A1 -> 7.2 Productdemonstratie | C2: Score: | E2: Score: | G2: Score: | Q2: SCORE
A3: =Productdemonstratie!A3 -> 1. Leerlingtafel VMBO – Item 1 prijzenblad leerlingsets. | Q3: Beter
A4: =Productdemonstratie!A4:A4 -> 1. Stabiliteit | C4: SCORE | E4: SCORE | G4: SCORE | Q4: Vergelijkbaar
C5: <MOTIVATIE> | E5: <MOTIVATIE> | G5: <MOTIVATIE> | Q5: Minder
A6: =Productdemonstratie!A5:A5 -> 2. Constructie tussen frame en blad | C6: SCORE | E6: SCORE | G6: SCORE | Q6: Onacceptabel
C7: <MOTIVATIE> | E7: <MOTIVATIE> | G7: <MOTIVATIE>
A8: =Productdemonstratie!A6:A6 -> 3. Uitstraling/vormgeving | C8: SCORE | E8: SCORE | G8: SCORE
C9: <MOTIVATIE> | E9: <MOTIVATIE> | G9: <MOTIVATIE>
A10: =Productdemonstratie!A7:A7 -> 4. Gemak schoonmaken | C10: SCORE | E10: SCORE | G10: SCORE
C11: <MOTIVATIE> | E11: <MOTIVATIE> | G11: <MOTIVATIE>
A12: =Productdemonstratie!A8:A8 -> 5. Mate veiligheid (scherpe randen en hoeken) | C12: SCORE | E12: SCORE | G12: SCORE
C13: <MOTIVATIE> | E13: <MOTIVATIE> | G13: <MOTIVATIE>
A14: =Productdemonstratie!A9 -> 2. Leerlingstoel VMBO – Item 19 prijzenblad leerlingsets.
A15: =Productdemonstratie!A10 -> 1. Stabiliteit | C15: SCORE | E15: SCORE | G15: SCORE
C16: <MOTIVATIE> | E16: <MOTIVATIE> | G16: <MOTIVATIE>
A17: =Productdemonstratie!A11 -> 2. Constructie tussen frame en zitting | C17: SCORE | E17: SCORE | G17: SCORE
C18: <MOTIVATIE> | E18: <MOTIVATIE> | G18: <MOTIVATIE>
A19: =Productdemonstratie!A12 -> 3. Uitstraling/vormgeving | C19: SCORE | E19: SCORE | G19: SCORE
C20: <MOTIVATIE> | E20: <MOTIVATIE> | G20: <MOTIVATIE>
A21: =Productdemonstratie!A13 -> 4. Gemak schoonmaken | C21: SCORE | E21: SCORE | G21: SCORE
C22: <MOTIVATIE> | E22: <MOTIVATIE> | G22: <MOTIVATIE>
A23: =Productdemonstratie!A14 -> 5. Mate veiligheid (scherpe randen en hoeken) | C23: SCORE | E23: SCORE | G23: SCORE
C24: <MOTIVATIE> | E24: <MOTIVATIE> | G24: <MOTIVATIE>
A25: =Productdemonstratie!A15 -> 6. Zit-comfort | C25: SCORE | E25: SCORE | G25: SCORE
C26: <MOTIVATIE> | E26: <MOTIVATIE> | G26: <MOTIVATIE>
A27: =Productdemonstratie!A16 -> 3. Leerlingtafel HBO/MBO – Item 12 prijzenblad leerlingsets.
A28: =Productdemonstratie!A17 -> 1. Stabiliteit | C28: SCORE | E28: SCORE | G28: SCORE
C29: <MOTIVATIE> | E29: <MOTIVATIE> | G29: <MOTIVATIE>
A30: =Productdemonstratie!A18 -> 2. Constructie tussen frame en blad | C30: SCORE | E30: SCORE | G30: SCORE
C31: <MOTIVATIE> | E31: <MOTIVATIE> | G31: <MOTIVATIE>
A32: =Productdemonstratie!A19 -> 3. Uitstraling/vormgeving | C32: SCORE | E32: SCORE | G32: SCORE
C33: <MOTIVATIE> | E33: <MOTIVATIE> | G33: <MOTIVATIE>
A34: =Productdemonstratie!A20 -> 4. Gemak schoonmaken | C34: SCORE | E34: SCORE | G34: SCORE
C35: <MOTIVATIE> | E35: <MOTIVATIE> | G35: <MOTIVATIE>
A36: =Productdemonstratie!A21 -> 5. Mate veiligheid (scherpe randen en hoeken) | C36: SCORE | E36: SCORE | G36: SCORE
C37: <MOTIVATIE> | E37: <MOTIVATIE> | G37: <MOTIVATIE>
A38: =+Productdemonstratie!A22 -> 4. Leerlingstoel HBO/MBO – Item 27 prijzenblad leerlingsets.
A39: =Productdemonstratie!A23 -> 1. Stabiliteit | C39: SCORE | E39: SCORE | G39: SCORE
C40: <MOTIVATIE> | E40: <MOTIVATIE> | G40: <MOTIVATIE>
A41: =Productdemonstratie!A24 -> 2. Constructie tussen frame en zitting | C41: SCORE | E41: SCORE | G41: SCORE
C42: <MOTIVATIE> | E42: <MOTIVATIE> | G42: <MOTIVATIE>
A43: =Productdemonstratie!A25 -> 3. Uitstraling/vormgeving | C43: SCORE | E43: SCORE | G43: SCORE
C44: <MOTIVATIE> | E44: <MOTIVATIE> | G44: <MOTIVATIE>
A45: =Productdemonstratie!A26 -> 4. Gemak schoonmaken | C45: SCORE | E45: SCORE | G45: SCORE
C46: <MOTIVATIE> | E46: <MOTIVATIE> | G46: <MOTIVATIE>
A47: =Productdemonstratie!A27 -> 5. Mate veiligheid (scherpe randen en hoeken) | C47: SCORE | E47: SCORE | G47: SCORE
C48: <MOTIVATIE> | E48: <MOTIVATIE> | G48: <MOTIVATIE>
A49: =Productdemonstratie!A28 -> 6. Zit-comfort | C49: SCORE | E49: SCORE | G49: SCORE
C50: <MOTIVATIE> | E50: <MOTIVATIE> | G50: <MOTIVATIE>
A51: =Productdemonstratie!A29 -> 5. Elektrisch zit-sta bureau docent – Item 5 prijzenblad kantoormeubilair.
A52: =Productdemonstratie!A30 -> 1. Stabiliteit op alle hoogtes | C52: SCORE | E52: SCORE | G52: SCORE
C53: <MOTIVATIE> | E53: <MOTIVATIE> | G53: <MOTIVATIE>
A54: =Productdemonstratie!A31 -> 2. Mate van geluid bij verstellen hoogte | C54: SCORE | E54: SCORE | G54: SCORE
C55: <MOTIVATIE> | E55: <MOTIVATIE> | G55: <MOTIVATIE>
A56: =Productdemonstratie!A32 -> 3. Constructie onderstel, afwerking | C56: SCORE | E56: SCORE | G56: SCORE
C57: <MOTIVATIE> | E57: <MOTIVATIE> | G57: <MOTIVATIE>
A58: =Productdemonstratie!A33 -> 4. Uitstraling/vormgeving | C58: SCORE | E58: SCORE | G58: SCORE
C59: <MOTIVATIE> | E59: <MOTIVATIE> | G59: <MOTIVATIE>
A60: =Productdemonstratie!A34 -> 5. Gemak schoonmaken | C60: SCORE | E60: SCORE | G60: SCORE
C61: <MOTIVATIE> | E61: <MOTIVATIE> | G61: <MOTIVATIE>
A62: =Productdemonstratie!A35 -> 6. Bereikbaarheid knoppen instellen hoogte | C62: SCORE | E62: SCORE | G62: SCORE
C63: <MOTIVATIE> | E63: <MOTIVATIE> | G63: <MOTIVATIE>
A64: =Productdemonstratie!A36 -> 6. Bureaustoel docent – Item 1 prijzenblad kantoormeubilair.
A65: =Productdemonstratie!A37 -> 1. Stabiliteit | C65: SCORE | E65: SCORE | G65: SCORE
C66: <MOTIVATIE> | E66: <MOTIVATIE> | G66: <MOTIVATIE>
A67: =Productdemonstratie!A38 -> 2. Constructie tussen frame en zitting | C67: SCORE | E67: SCORE | G67: SCORE
C68: <MOTIVATIE> | E68: <MOTIVATIE> | G68: <MOTIVATIE>
A69: =Productdemonstratie!A39 -> 3. Uitstraling/vormgeving | C69: SCORE | E69: SCORE | G69: SCORE
C70: <MOTIVATIE> | E70: <MOTIVATIE> | G70: <MOTIVATIE>
A71: =Productdemonstratie!A40 -> 4. Gemak schoonmaken | C71: SCORE | E71: SCORE | G71: SCORE
C72: <MOTIVATIE> | E72: <MOTIVATIE> | G72: <MOTIVATIE>
A73: =Productdemonstratie!A41 -> 5. Mate veiligheid (scherpe randen en hoeken) | C73: SCORE | E73: SCORE | G73: SCORE
C74: <MOTIVATIE> | E74: <MOTIVATIE> | G74: <MOTIVATIE>
A75: =Productdemonstratie!A42 -> 6. Zit-comfort | C75: SCORE | E75: SCORE | G75: SCORE
C76: <MOTIVATIE> | E76: <MOTIVATIE> | G76: <MOTIVATIE>
A77: =Productdemonstratie!A43 -> 7. Ergonomische kruk docent – Item 12 prijzenblad kantoormeubilair.
A78: =Productdemonstratie!A44 -> 1. Stabiliteit | C78: SCORE | E78: SCORE | G78: SCORE
C79: <MOTIVATIE> | E79: <MOTIVATIE> | G79: <MOTIVATIE>
A80: =Productdemonstratie!A45 -> 2. Constructie tussen frame en zitting | C80: SCORE | E80: SCORE | G80: SCORE
C81: <MOTIVATIE> | E81: <MOTIVATIE> | G81: <MOTIVATIE>
A82: =Productdemonstratie!A46 -> 3. Uitstraling/vormgeving | C82: SCORE | E82: SCORE | G82: SCORE
C83: <MOTIVATIE> | E83: <MOTIVATIE> | G83: <MOTIVATIE>
A84: =Productdemonstratie!A47 -> 4. Gemak schoonmaken | C84: SCORE | E84: SCORE | G84: SCORE
C85: <MOTIVATIE> | E85: <MOTIVATIE> | G85: <MOTIVATIE>
A86: =Productdemonstratie!A48 -> 5. Mate veiligheid (scherpe randen en hoeken) | C86: SCORE | E86: SCORE | G86: SCORE
C87: <MOTIVATIE> | E87: <MOTIVATIE> | G87: <MOTIVATIE>
A88: =Productdemonstratie!A49 -> 6. Zit-comfort | C88: SCORE | E88: SCORE | G88: SCORE
C89: <MOTIVATIE> | E89: <MOTIVATIE> | G89: <MOTIVATIE>

Sheet Beoordelaar 5 Mw Bestuursbureau
A1: Beoordelaar 5: Medewerker Bestuursbureau | C1: Inschrijver 1 | E1: Inschrijver 2 | G1: Inschrijver 3
A2: =Productdemonstratie!A1:A1 -> 7.2 Productdemonstratie | C2: Score: | E2: Score: | G2: Score: | Q2: SCORE
A3: =Productdemonstratie!A3 -> 1. Leerlingtafel VMBO – Item 1 prijzenblad leerlingsets. | Q3: Beter
A4: =Productdemonstratie!A4:A4 -> 1. Stabiliteit | C4: SCORE | E4: SCORE | G4: SCORE | Q4: Vergelijkbaar
C5: <MOTIVATIE> | E5: <MOTIVATIE> | G5: <MOTIVATIE> | Q5: Minder
A6: =Productdemonstratie!A5:A5 -> 2. Constructie tussen frame en blad | C6: SCORE | E6: SCORE | G6: SCORE | Q6: Onacceptabel
C7: <MOTIVATIE> | E7: <MOTIVATIE> | G7: <MOTIVATIE>
A8: =Productdemonstratie!A6:A6 -> 3. Uitstraling/vormgeving | C8: SCORE | E8: SCORE | G8: SCORE
C9: <MOTIVATIE> | E9: <MOTIVATIE> | G9: <MOTIVATIE>
A10: =Productdemonstratie!A7:A7 -> 4. Gemak schoonmaken | C10: SCORE | E10: SCORE | G10: SCORE
C11: <MOTIVATIE> | E11: <MOTIVATIE> | G11: <MOTIVATIE>
A12: =Productdemonstratie!A8:A8 -> 5. Mate veiligheid (scherpe randen en hoeken) | C12: SCORE | E12: SCORE | G12: SCORE
C13: <MOTIVATIE> | E13: <MOTIVATIE> | G13: <MOTIVATIE>
A14: =Productdemonstratie!A9 -> 2. Leerlingstoel VMBO – Item 19 prijzenblad leerlingsets.
A15: =Productdemonstratie!A10 -> 1. Stabiliteit | C15: SCORE | E15: SCORE | G15: SCORE
C16: <MOTIVATIE> | E16: <MOTIVATIE> | G16: <MOTIVATIE>
A17: =Productdemonstratie!A11 -> 2. Constructie tussen frame en zitting | C17: SCORE | E17: SCORE | G17: SCORE
C18: <MOTIVATIE> | E18: <MOTIVATIE> | G18: <MOTIVATIE>
A19: =Productdemonstratie!A12 -> 3. Uitstraling/vormgeving | C19: SCORE | E19: SCORE | G19: SCORE
C20: <MOTIVATIE> | E20: <MOTIVATIE> | G20: <MOTIVATIE>
A21: =Productdemonstratie!A13 -> 4. Gemak schoonmaken | C21: SCORE | E21: SCORE | G21: SCORE
C22: <MOTIVATIE> | E22: <MOTIVATIE> | G22: <MOTIVATIE>
A23: =Productdemonstratie!A14 -> 5. Mate veiligheid (scherpe randen en hoeken) | C23: SCORE | E23: SCORE | G23: SCORE
C24: <MOTIVATIE> | E24: <MOTIVATIE> | G24: <MOTIVATIE>
A25: =Productdemonstratie!A15 -> 6. Zit-comfort | C25: SCORE | E25: SCORE | G25: SCORE
C26: <MOTIVATIE> | E26: <MOTIVATIE> | G26: <MOTIVATIE>
A27: =Productdemonstratie!A16 -> 3. Leerlingtafel HBO/MBO – Item 12 prijzenblad leerlingsets.
A28: =Productdemonstratie!A17 -> 1. Stabiliteit | C28: SCORE | E28: SCORE | G28: SCORE
C29: <MOTIVATIE> | E29: <MOTIVATIE> | G29: <MOTIVATIE>
A30: =Productdemonstratie!A18 -> 2. Constructie tussen frame en blad | C30: SCORE | E30: SCORE | G30: SCORE
C31: <MOTIVATIE> | E31: <MOTIVATIE> | G31: <MOTIVATIE>
A32: =Productdemonstratie!A19 -> 3. Uitstraling/vormgeving | C32: SCORE | E32: SCORE | G32: SCORE
C33: <MOTIVATIE> | E33: <MOTIVATIE> | G33: <MOTIVATIE>
A34: =Productdemonstratie!A20 -> 4. Gemak schoonmaken | C34: SCORE | E34: SCORE | G34: SCORE
C35: <MOTIVATIE> | E35: <MOTIVATIE> | G35: <MOTIVATIE>
A36: =Productdemonstratie!A21 -> 5. Mate veiligheid (scherpe randen en hoeken) | C36: SCORE | E36: SCORE | G36: SCORE
C37: <MOTIVATIE> | E37: <MOTIVATIE> | G37: <MOTIVATIE>
A38: =+Productdemonstratie!A22 -> 4. Leerlingstoel HBO/MBO – Item 27 prijzenblad leerlingsets.
A39: =Productdemonstratie!A23 -> 1. Stabiliteit | C39: SCORE | E39: SCORE | G39: SCORE
C40: <MOTIVATIE> | E40: <MOTIVATIE> | G40: <MOTIVATIE>
A41: =Productdemonstratie!A24 -> 2. Constructie tussen frame en zitting | C41: SCORE | E41: SCORE | G41: SCORE
C42: <MOTIVATIE> | E42: <MOTIVATIE> | G42: <MOTIVATIE>
A43: =Productdemonstratie!A25 -> 3. Uitstraling/vormgeving | C43: SCORE | E43: SCORE | G43: SCORE
C44: <MOTIVATIE> | E44: <MOTIVATIE> | G44: <MOTIVATIE>
A45: =Productdemonstratie!A26 -> 4. Gemak schoonmaken | C45: SCORE | E45: SCORE | G45: SCORE
C46: <MOTIVATIE> | E46: <MOTIVATIE> | G46: <MOTIVATIE>
A47: =Productdemonstratie!A27 -> 5. Mate veiligheid (scherpe randen en hoeken) | C47: SCORE | E47: SCORE | G47: SCORE
C48: <MOTIVATIE> | E48: <MOTIVATIE> | G48: <MOTIVATIE>
A49: =Productdemonstratie!A28 -> 6. Zit-comfort | C49: SCORE | E49: SCORE | G49: SCORE
C50: <MOTIVATIE> | E50: <MOTIVATIE> | G50: <MOTIVATIE>
A51: =Productdemonstratie!A29 -> 5. Elektrisch zit-sta bureau docent – Item 5 prijzenblad kantoormeubilair.
A52: =Productdemonstratie!A30 -> 1. Stabiliteit op alle hoogtes | C52: SCORE | E52: SCORE | G52: SCORE
C53: <MOTIVATIE> | E53: <MOTIVATIE> | G53: <MOTIVATIE>
A54: =Productdemonstratie!A31 -> 2. Mate van geluid bij verstellen hoogte | C54: SCORE | E54: SCORE | G54: SCORE
C55: <MOTIVATIE> | E55: <MOTIVATIE> | G55: <MOTIVATIE>
A56: =Productdemonstratie!A32 -> 3. Constructie onderstel, afwerking | C56: SCORE | E56: SCORE | G56: SCORE
C57: <MOTIVATIE> | E57: <MOTIVATIE> | G57: <MOTIVATIE>
A58: =Productdemonstratie!A33 -> 4. Uitstraling/vormgeving | C58: SCORE | E58: SCORE | G58: SCORE
C59: <MOTIVATIE> | E59: <MOTIVATIE> | G59: <MOTIVATIE>
A60: =Productdemonstratie!A34 -> 5. Gemak schoonmaken | C60: SCORE | E60: SCORE | G60: SCORE
C61: <MOTIVATIE> | E61: <MOTIVATIE> | G61: <MOTIVATIE>
A62: =Productdemonstratie!A35 -> 6. Bereikbaarheid knoppen instellen hoogte | C62: SCORE | E62: SCORE | G62: SCORE
C63: <MOTIVATIE> | E63: <MOTIVATIE> | G63: <MOTIVATIE>
A64: =Productdemonstratie!A36 -> 6. Bureaustoel docent – Item 1 prijzenblad kantoormeubilair.
A65: =Productdemonstratie!A37 -> 1. Stabiliteit | C65: SCORE | E65: SCORE | G65: SCORE
C66: <MOTIVATIE> | E66: <MOTIVATIE> | G66: <MOTIVATIE>
A67: =Productdemonstratie!A38 -> 2. Constructie tussen frame en zitting | C67: SCORE | E67: SCORE | G67: SCORE
C68: <MOTIVATIE> | E68: <MOTIVATIE> | G68: <MOTIVATIE>
A69: =Productdemonstratie!A39 -> 3. Uitstraling/vormgeving | C69: SCORE | E69: SCORE | G69: SCORE
C70: <MOTIVATIE> | E70: <MOTIVATIE> | G70: <MOTIVATIE>
A71: =Productdemonstratie!A40 -> 4. Gemak schoonmaken | C71: SCORE | E71: SCORE | G71: SCORE
C72: <MOTIVATIE> | E72: <MOTIVATIE> | G72: <MOTIVATIE>
A73: =Productdemonstratie!A41 -> 5. Mate veiligheid (scherpe randen en hoeken) | C73: SCORE | E73: SCORE | G73: SCORE
C74: <MOTIVATIE> | E74: <MOTIVATIE> | G74: <MOTIVATIE>
A75: =Productdemonstratie!A42 -> 6. Zit-comfort | C75: SCORE | E75: SCORE | G75: SCORE
C76: <MOTIVATIE> | E76: <MOTIVATIE> | G76: <MOTIVATIE>
A77: =Productdemonstratie!A43 -> 7. Ergonomische kruk docent – Item 12 prijzenblad kantoormeubilair.
A78: =Productdemonstratie!A44 -> 1. Stabiliteit | C78: SCORE | E78: SCORE | G78: SCORE
C79: <MOTIVATIE> | E79: <MOTIVATIE> | G79: <MOTIVATIE>
A80: =Productdemonstratie!A45 -> 2. Constructie tussen frame en zitting | C80: SCORE | E80: SCORE | G80: SCORE
C81: <MOTIVATIE> | E81: <MOTIVATIE> | G81: <MOTIVATIE>
A82: =Productdemonstratie!A46 -> 3. Uitstraling/vormgeving | C82: SCORE | E82: SCORE | G82: SCORE
C83: <MOTIVATIE> | E83: <MOTIVATIE> | G83: <MOTIVATIE>
A84: =Productdemonstratie!A47 -> 4. Gemak schoonmaken | C84: SCORE | E84: SCORE | G84: SCORE
C85: <MOTIVATIE> | E85: <MOTIVATIE> | G85: <MOTIVATIE>
A86: =Productdemonstratie!A48 -> 5. Mate veiligheid (scherpe randen en hoeken) | C86: SCORE | E86: SCORE | G86: SCORE
C87: <MOTIVATIE> | E87: <MOTIVATIE> | G87: <MOTIVATIE>
A88: =Productdemonstratie!A49 -> 6. Zit-comfort | C88: SCORE | E88: SCORE | G88: SCORE
C89: <MOTIVATIE> | E89: <MOTIVATIE> | G89: <MOTIVATIE>

Sheet Beoordelaar 6 Facilitair Man.
A1: Beoordelaar 6: Facilitair Manager | C1: Inschrijver 1 | E1: Inschrijver 2 | G1: Inschrijver 3
A2: =Productdemonstratie!A1:A1 -> 7.2 Productdemonstratie | C2: Score: | E2: Score: | G2: Score: | Q2: SCORE
A3: =Productdemonstratie!A3 -> 1. Leerlingtafel VMBO – Item 1 prijzenblad leerlingsets. | Q3: Beter
A4: =Productdemonstratie!A4:A4 -> 1. Stabiliteit | C4: SCORE | E4: SCORE | G4: SCORE | Q4: Vergelijkbaar
C5: <MOTIVATIE> | E5: <MOTIVATIE> | G5: <MOTIVATIE> | Q5: Minder
A6: =Productdemonstratie!A5:A5 -> 2. Constructie tussen frame en blad | C6: SCORE | E6: SCORE | G6: SCORE | Q6: Onacceptabel
C7: <MOTIVATIE> | E7: <MOTIVATIE> | G7: <MOTIVATIE>
A8: =Productdemonstratie!A6:A6 -> 3. Uitstraling/vormgeving | C8: SCORE | E8: SCORE | G8: SCORE
C9: <MOTIVATIE> | E9: <MOTIVATIE> | G9: <MOTIVATIE>
A10: =Productdemonstratie!A7:A7 -> 4. Gemak schoonmaken | C10: SCORE | E10: SCORE | G10: SCORE
C11: <MOTIVATIE> | E11: <MOTIVATIE> | G11: <MOTIVATIE>
A12: =Productdemonstratie!A8:A8 -> 5. Mate veiligheid (scherpe randen en hoeken) | C12: SCORE | E12: SCORE | G12: SCORE
C13: <MOTIVATIE> | E13: <MOTIVATIE> | G13: <MOTIVATIE>
A14: =Productdemonstratie!A9 -> 2. Leerlingstoel VMBO – Item 19 prijzenblad leerlingsets.
A15: =Productdemonstratie!A10 -> 1. Stabiliteit | C15: SCORE | E15: SCORE | G15: SCORE
C16: <MOTIVATIE> | E16: <MOTIVATIE> | G16: <MOTIVATIE>
A17: =Productdemonstratie!A11 -> 2. Constructie tussen frame en zitting | C17: SCORE | E17: SCORE | G17: SCORE
C18: <MOTIVATIE> | E18: <MOTIVATIE> | G18: <MOTIVATIE>
A19: =Productdemonstratie!A12 -> 3. Uitstraling/vormgeving | C19: SCORE | E19: SCORE | G19: SCORE
C20: <MOTIVATIE> | E20: <MOTIVATIE> | G20: <MOTIVATIE>
A21: =Productdemonstratie!A13 -> 4. Gemak schoonmaken | C21: SCORE | E21: SCORE | G21: SCORE
C22: <MOTIVATIE> | E22: <MOTIVATIE> | G22: <MOTIVATIE>
A23: =Productdemonstratie!A14 -> 5. Mate veiligheid (scherpe randen en hoeken) | C23: SCORE | E23: SCORE | G23: SCORE
C24: <MOTIVATIE> | E24: <MOTIVATIE> | G24: <MOTIVATIE>
A25: =Productdemonstratie!A15 -> 6. Zit-comfort | C25: SCORE | E25: SCORE | G25: SCORE
C26: <MOTIVATIE> | E26: <MOTIVATIE> | G26: <MOTIVATIE>
A27: =Productdemonstratie!A16 -> 3. Leerlingtafel HBO/MBO – Item 12 prijzenblad leerlingsets.
A28: =Productdemonstratie!A17 -> 1. Stabiliteit | C28: SCORE | E28: SCORE | G28: SCORE
C29: <MOTIVATIE> | E29: <MOTIVATIE> | G29: <MOTIVATIE>
A30: =Productdemonstratie!A18 -> 2. Constructie tussen frame en blad | C30: SCORE | E30: SCORE | G30: SCORE
C31: <MOTIVATIE> | E31: <MOTIVATIE> | G31: <MOTIVATIE>
A32: =Productdemonstratie!A19 -> 3. Uitstraling/vormgeving | C32: SCORE | E32: SCORE | G32: SCORE
C33: <MOTIVATIE> | E33: <MOTIVATIE> | G33: <MOTIVATIE>
A34: =Productdemonstratie!A20 -> 4. Gemak schoonmaken | C34: SCORE | E34: SCORE | G34: SCORE
C35: <MOTIVATIE> | E35: <MOTIVATIE> | G35: <MOTIVATIE>
A36: =Productdemonstratie!A21 -> 5. Mate veiligheid (scherpe randen en hoeken) | C36: SCORE | E36: SCORE | G36: SCORE
C37: <MOTIVATIE> | E37: <MOTIVATIE> | G37: <MOTIVATIE>
A38: =+Productdemonstratie!A22 -> 4. Leerlingstoel HBO/MBO – Item 27 prijzenblad leerlingsets.
A39: =Productdemonstratie!A23 -> 1. Stabiliteit | C39: SCORE | E39: SCORE | G39: SCORE
C40: <MOTIVATIE> | E40: <MOTIVATIE> | G40: <MOTIVATIE>
A41: =Productdemonstratie!A24 -> 2. Constructie tussen frame en zitting | C41: SCORE | E41: SCORE | G41: SCORE
C42: <MOTIVATIE> | E42: <MOTIVATIE> | G42: <MOTIVATIE>
A43: =Productdemonstratie!A25 -> 3. Uitstraling/vormgeving | C43: SCORE | E43: SCORE | G43: SCORE
C44: <MOTIVATIE> | E44: <MOTIVATIE> | G44: <MOTIVATIE>
A45: =Productdemonstratie!A26 -> 4. Gemak schoonmaken | C45: SCORE | E45: SCORE | G45: SCORE
C46: <MOTIVATIE> | E46: <MOTIVATIE> | G46: <MOTIVATIE>
A47: =Productdemonstratie!A27 -> 5. Mate veiligheid (scherpe randen en hoeken) | C47: SCORE | E47: SCORE | G47: SCORE
C48: <MOTIVATIE> | E48: <MOTIVATIE> | G48: <MOTIVATIE>
A49: =Productdemonstratie!A28 -> 6. Zit-comfort | C49: SCORE | E49: SCORE | G49: SCORE
C50: <MOTIVATIE> | E50: <MOTIVATIE> | G50: <MOTIVATIE>
A51: =Productdemonstratie!A29 -> 5. Elektrisch zit-sta bureau docent – Item 5 prijzenblad kantoormeubilair.
A52: =Productdemonstratie!A30 -> 1. Stabiliteit op alle hoogtes | C52: SCORE | E52: SCORE | G52: SCORE
C53: <MOTIVATIE> | E53: <MOTIVATIE> | G53: <MOTIVATIE>
A54: =Productdemonstratie!A31 -> 2. Mate van geluid bij verstellen hoogte | C54: SCORE | E54: SCORE | G54: SCORE
C55: <MOTIVATIE> | E55: <MOTIVATIE> | G55: <MOTIVATIE>
A56: =Productdemonstratie!A32 -> 3. Constructie onderstel, afwerking | C56: SCORE | E56: SCORE | G56: SCORE
C57: <MOTIVATIE> | E57: <MOTIVATIE> | G57: <MOTIVATIE>
A58: =Productdemonstratie!A33 -> 4. Uitstraling/vormgeving | C58: SCORE | E58: SCORE | G58: SCORE
C59: <MOTIVATIE> | E59: <MOTIVATIE> | G59: <MOTIVATIE>
A60: =Productdemonstratie!A34 -> 5. Gemak schoonmaken | C60: SCORE | E60: SCORE | G60: SCORE
C61: <MOTIVATIE> | E61: <MOTIVATIE> | G61: <MOTIVATIE>
A62: =Productdemonstratie!A35 -> 6. Bereikbaarheid knoppen instellen hoogte | C62: SCORE | E62: SCORE | G62: SCORE
C63: <MOTIVATIE> | E63: <MOTIVATIE> | G63: <MOTIVATIE>
A64: =Productdemonstratie!A36 -> 6. Bureaustoel docent – Item 1 prijzenblad kantoormeubilair.
A65: =Productdemonstratie!A37 -> 1. Stabiliteit | C65: SCORE | E65: SCORE | G65: SCORE
C66: <MOTIVATIE> | E66: <MOTIVATIE> | G66: <MOTIVATIE>
A67: =Productdemonstratie!A38 -> 2. Constructie tussen frame en zitting | C67: SCORE | E67: SCORE | G67: SCORE
C68: <MOTIVATIE> | E68: <MOTIVATIE> | G68: <MOTIVATIE>
A69: =Productdemonstratie!A39 -> 3. Uitstraling/vormgeving | C69: SCORE | E69: SCORE | G69: SCORE
C70: <MOTIVATIE> | E70: <MOTIVATIE> | G70: <MOTIVATIE>
A71: =Productdemonstratie!A40 -> 4. Gemak schoonmaken | C71: SCORE | E71: SCORE | G71: SCORE
C72: <MOTIVATIE> | E72: <MOTIVATIE> | G72: <MOTIVATIE>
A73: =Productdemonstratie!A41 -> 5. Mate veiligheid (scherpe randen en hoeken) | C73: SCORE | E73: SCORE | G73: SCORE
C74: <MOTIVATIE> | E74: <MOTIVATIE> | G74: <MOTIVATIE>
A75: =Productdemonstratie!A42 -> 6. Zit-comfort | C75: SCORE | E75: SCORE | G75: SCORE
C76: <MOTIVATIE> | E76: <MOTIVATIE> | G76: <MOTIVATIE>
A77: =Productdemonstratie!A43 -> 7. Ergonomische kruk docent – Item 12 prijzenblad kantoormeubilair.
A78: =Productdemonstratie!A44 -> 1. Stabiliteit | C78: SCORE | E78: SCORE | G78: SCORE
C79: <MOTIVATIE> | E79: <MOTIVATIE> | G79: <MOTIVATIE>
A80: =Productdemonstratie!A45 -> 2. Constructie tussen frame en zitting | C80: SCORE | E80: SCORE | G80: SCORE
C81: <MOTIVATIE> | E81: <MOTIVATIE> | G81: <MOTIVATIE>
A82: =Productdemonstratie!A46 -> 3. Uitstraling/vormgeving | C82: SCORE | E82: SCORE | G82: SCORE
C83: <MOTIVATIE> | E83: <MOTIVATIE> | G83: <MOTIVATIE>
A84: =Productdemonstratie!A47 -> 4. Gemak schoonmaken | C84: SCORE | E84: SCORE | G84: SCORE
C85: <MOTIVATIE> | E85: <MOTIVATIE> | G85: <MOTIVATIE>
A86: =Productdemonstratie!A48 -> 5. Mate veiligheid (scherpe randen en hoeken) | C86: SCORE | E86: SCORE | G86: SCORE
C87: <MOTIVATIE> | E87: <MOTIVATIE> | G87: <MOTIVATIE>
A88: =Productdemonstratie!A49 -> 6. Zit-comfort | C88: SCORE | E88: SCORE | G88: SCORE
C89: <MOTIVATIE> | E89: <MOTIVATIE> | G89: <MOTIVATIE>

Sheet Beoordelaar 7 Teamleider Bv.
A1: Beoordelaar 7: Teamleider Bedrijfsvoering | C1: Inschrijver 1 | E1: Inschrijver 2 | G1: Inschrijver 3
A2: =Productdemonstratie!A1:A1 -> 7.2 Productdemonstratie | C2: Score: | E2: Score: | G2: Score: | Q2: SCORE
A3: =Productdemonstratie!A3 -> 1. Leerlingtafel VMBO – Item 1 prijzenblad leerlingsets. | Q3: Beter
A4: =Productdemonstratie!A4:A4 -> 1. Stabiliteit | C4: SCORE | E4: SCORE | G4: SCORE | Q4: Vergelijkbaar
C5: <MOTIVATIE> | E5: <MOTIVATIE> | G5: <MOTIVATIE> | Q5: Minder
A6: =Productdemonstratie!A5:A5 -> 2. Constructie tussen frame en blad | C6: SCORE | E6: SCORE | G6: SCORE | Q6: Onacceptabel
C7: <MOTIVATIE> | E7: <MOTIVATIE> | G7: <MOTIVATIE>
A8: =Productdemonstratie!A6:A6 -> 3. Uitstraling/vormgeving | C8: SCORE | E8: SCORE | G8: SCORE
C9: <MOTIVATIE> | E9: <MOTIVATIE> | G9: <MOTIVATIE>
A10: =Productdemonstratie!A7:A7 -> 4. Gemak schoonmaken | C10: SCORE | E10: SCORE | G10: SCORE
C11: <MOTIVATIE> | E11: <MOTIVATIE> | G11: <MOTIVATIE>
A12: =Productdemonstratie!A8:A8 -> 5. Mate veiligheid (scherpe randen en hoeken) | C12: SCORE | E12: SCORE | G12: SCORE
C13: <MOTIVATIE> | E13: <MOTIVATIE> | G13: <MOTIVATIE>
A14: =Productdemonstratie!A9 -> 2. Leerlingstoel VMBO – Item 19 prijzenblad leerlingsets.
A15: =Productdemonstratie!A10 -> 1. Stabiliteit | C15: SCORE | E15: SCORE | G15: SCORE
C16: <MOTIVATIE> | E16: <MOTIVATIE> | G16: <MOTIVATIE>
A17: =Productdemonstratie!A11 -> 2. Constructie tussen frame en zitting | C17: SCORE | E17: SCORE | G17: SCORE
C18: <MOTIVATIE> | E18: <MOTIVATIE> | G18: <MOTIVATIE>
A19: =Productdemonstratie!A12 -> 3. Uitstraling/vormgeving | C19: SCORE | E19: SCORE | G19: SCORE
C20: <MOTIVATIE> | E20: <MOTIVATIE> | G20: <MOTIVATIE>
A21: =Productdemonstratie!A13 -> 4. Gemak schoonmaken | C21: SCORE | E21: SCORE | G21: SCORE
C22: <MOTIVATIE> | E22: <MOTIVATIE> | G22: <MOTIVATIE>
A23: =Productdemonstratie!A14 -> 5. Mate veiligheid (scherpe randen en hoeken) | C23: SCORE | E23: SCORE | G23: SCORE
C24: <MOTIVATIE> | E24: <MOTIVATIE> | G24: <MOTIVATIE>
A25: =Productdemonstratie!A15 -> 6. Zit-comfort | C25: SCORE | E25: SCORE | G25: SCORE
C26: <MOTIVATIE> | E26: <MOTIVATIE> | G26: <MOTIVATIE>
A27: =Productdemonstratie!A16 -> 3. Leerlingtafel HBO/MBO – Item 12 prijzenblad leerlingsets.
A28: =Productdemonstratie!A17 -> 1. Stabiliteit | C28: SCORE | E28: SCORE | G28: SCORE
C29: <MOTIVATIE> | E29: <MOTIVATIE> | G29: <MOTIVATIE>
A30: =Productdemonstratie!A18 -> 2. Constructie tussen frame en blad | C30: SCORE | E30: SCORE | G30: SCORE
C31: <MOTIVATIE> | E31: <MOTIVATIE> | G31: <MOTIVATIE>
A32: =Productdemonstratie!A19 -> 3. Uitstraling/vormgeving | C32: SCORE | E32: SCORE | G32: SCORE
C33: <MOTIVATIE> | E33: <MOTIVATIE> | G33: <MOTIVATIE>
A34: =Productdemonstratie!A20 -> 4. Gemak schoonmaken | C34: SCORE | E34: SCORE | G34: SCORE
C35: <MOTIVATIE> | E35: <MOTIVATIE> | G35: <MOTIVATIE>
A36: =Productdemonstratie!A21 -> 5. Mate veiligheid (scherpe randen en hoeken) | C36: SCORE | E36: SCORE | G36: SCORE
C37: <MOTIVATIE> | E37: <MOTIVATIE> | G37: <MOTIVATIE>
A38: =+Productdemonstratie!A22 -> 4. Leerlingstoel HBO/MBO – Item 27 prijzenblad leerlingsets.
A39: =Productdemonstratie!A23 -> 1. Stabiliteit | C39: SCORE | E39: SCORE | G39: SCORE
C40: <MOTIVATIE> | E40: <MOTIVATIE> | G40: <MOTIVATIE>
A41: =Productdemonstratie!A24 -> 2. Constructie tussen frame en zitting | C41: SCORE | E41: SCORE | G41: SCORE
C42: <MOTIVATIE> | E42: <MOTIVATIE> | G42: <MOTIVATIE>
A43: =Productdemonstratie!A25 -> 3. Uitstraling/vormgeving | C43: SCORE | E43: SCORE | G43: SCORE
C44: <MOTIVATIE> | E44: <MOTIVATIE> | G44: <MOTIVATIE>
A45: =Productdemonstratie!A26 -> 4. Gemak schoonmaken | C45: SCORE | E45: SCORE | G45: SCORE
C46: <MOTIVATIE> | E46: <MOTIVATIE> | G46: <MOTIVATIE>
A47: =Productdemonstratie!A27 -> 5. Mate veiligheid (scherpe randen en hoeken) | C47: SCORE | E47: SCORE | G47: SCORE
C48: <MOTIVATIE> | E48: <MOTIVATIE> | G48: <MOTIVATIE>
A49: =Productdemonstratie!A28 -> 6. Zit-comfort | C49: SCORE | E49: SCORE | G49: SCORE
C50: <MOTIVATIE> | E50: <MOTIVATIE> | G50: <MOTIVATIE>
A51: =Productdemonstratie!A29 -> 5. Elektrisch zit-sta bureau docent – Item 5 prijzenblad kantoormeubilair.
A52: =Productdemonstratie!A30 -> 1. Stabiliteit op alle hoogtes | C52: SCORE | E52: SCORE | G52: SCORE
C53: <MOTIVATIE> | E53: <MOTIVATIE> | G53: <MOTIVATIE>
A54: =Productdemonstratie!A31 -> 2. Mate van geluid bij verstellen hoogte | C54: SCORE | E54: SCORE | G54: SCORE
C55: <MOTIVATIE> | E55: <MOTIVATIE> | G55: <MOTIVATIE>
A56: =Productdemonstratie!A32 -> 3. Constructie onderstel, afwerking | C56: SCORE | E56: SCORE | G56: SCORE
C57: <MOTIVATIE> | E57: <MOTIVATIE> | G57: <MOTIVATIE>
A58: =Productdemonstratie!A33 -> 4. Uitstraling/vormgeving | C58: SCORE | E58: SCORE | G58: SCORE
C59: <MOTIVATIE> | E59: <MOTIVATIE> | G59: <MOTIVATIE>
A60: =Productdemonstratie!A34 -> 5. Gemak schoonmaken | C60: SCORE | E60: SCORE | G60: SCORE
C61: <MOTIVATIE> | E61: <MOTIVATIE> | G61: <MOTIVATIE>
A62: =Productdemonstratie!A35 -> 6. Bereikbaarheid knoppen instellen hoogte | C62: SCORE | E62: SCORE | G62: SCORE
C63: <MOTIVATIE> | E63: <MOTIVATIE> | G63: <MOTIVATIE>
A64: =Productdemonstratie!A36 -> 6. Bureaustoel docent – Item 1 prijzenblad kantoormeubilair.
A65: =Productdemonstratie!A37 -> 1. Stabiliteit | C65: SCORE | E65: SCORE | G65: SCORE
C66: <MOTIVATIE> | E66: <MOTIVATIE> | G66: <MOTIVATIE>
A67: =Productdemonstratie!A38 -> 2. Constructie tussen frame en zitting | C67: SCORE | E67: SCORE | G67: SCORE
C68: <MOTIVATIE> | E68: <MOTIVATIE> | G68: <MOTIVATIE>
A69: =Productdemonstratie!A39 -> 3. Uitstraling/vormgeving | C69: SCORE | E69: SCORE | G69: SCORE
C70: <MOTIVATIE> | E70: <MOTIVATIE> | G70: <MOTIVATIE>
A71: =Productdemonstratie!A40 -> 4. Gemak schoonmaken | C71: SCORE | E71: SCORE | G71: SCORE
C72: <MOTIVATIE> | E72: <MOTIVATIE> | G72: <MOTIVATIE>
A73: =Productdemonstratie!A41 -> 5. Mate veiligheid (scherpe randen en hoeken) | C73: SCORE | E73: SCORE | G73: SCORE
C74: <MOTIVATIE> | E74: <MOTIVATIE> | G74: <MOTIVATIE>
A75: =Productdemonstratie!A42 -> 6. Zit-comfort | C75: SCORE | E75: SCORE | G75: SCORE
C76: <MOTIVATIE> | E76: <MOTIVATIE> | G76: <MOTIVATIE>
A77: =Productdemonstratie!A43 -> 7. Ergonomische kruk docent – Item 12 prijzenblad kantoormeubilair.
A78: =Productdemonstratie!A44 -> 1. Stabiliteit | C78: SCORE | E78: SCORE | G78: SCORE
C79: <MOTIVATIE> | E79: <MOTIVATIE> | G79: <MOTIVATIE>
A80: =Productdemonstratie!A45 -> 2. Constructie tussen frame en zitting | C80: SCORE | E80: SCORE | G80: SCORE
C81: <MOTIVATIE> | E81: <MOTIVATIE> | G81: <MOTIVATIE>
A82: =Productdemonstratie!A46 -> 3. Uitstraling/vormgeving | C82: SCORE | E82: SCORE | G82: SCORE
C83: <MOTIVATIE> | E83: <MOTIVATIE> | G83: <MOTIVATIE>
A84: =Productdemonstratie!A47 -> 4. Gemak schoonmaken | C84: SCORE | E84: SCORE | G84: SCORE
C85: <MOTIVATIE> | E85: <MOTIVATIE> | G85: <MOTIVATIE>
A86: =Productdemonstratie!A48 -> 5. Mate veiligheid (scherpe randen en hoeken) | C86: SCORE | E86: SCORE | G86: SCORE
C87: <MOTIVATIE> | E87: <MOTIVATIE> | G87: <MOTIVATIE>
A88: =Productdemonstratie!A49 -> 6. Zit-comfort | C88: SCORE | E88: SCORE | G88: SCORE
C89: <MOTIVATIE> | E89: <MOTIVATIE> | G89: <MOTIVATIE>

Sheet Consensus
A1: Totaalwaardes | D1: ='Beoordelaar 1 Concierge'!C1 -> Inschrijver 1 | G1: ='Beoordelaar 1 Concierge'!E1 -> Inschrijver 2 | J1: ='Beoordelaar 1 Concierge'!G1 -> Inschrijver 3
A2: Totaalwaardes | D2: SCORE | E2: Motivatie consensus: | G2: SCORE | H2: Motivatie consensus: | J2: SCORE | K2: Motivatie consensus: | Q2: SCORE | R2: SCORE
A3: =Productdemonstratie!A3 -> 1. Leerlingtafel VMBO – Item 1 prijzenblad leerlingsets. | Q3: Beter
A4: =Productdemonstratie!A4:A4 -> 1. Stabiliteit | B4: ='Beoordelaar 1 Concierge'!$A$1 -> Beoordelaar 1: Conciërge | D4: ='Beoordelaar 1 Concierge'!C4 -> SCORE | E4: <MOTIVATIE> | G4: ='Beoordelaar 1 Concierge'!E4 -> SCORE | H4: <MOTIVATIE> | J4: ='Beoordelaar 1 Concierge'!G4 -> SCORE | K4: <MOTIVATIE> | Q4: Vergelijkbaar
B5: ='Beoordelaar 2 Concierge'!$A$1 -> Beoordelaar 2: Conciërge | D5: ='Beoordelaar 2 Concierge'!C4 -> SCORE | G5: ='Beoordelaar 2 Concierge'!E4 -> SCORE | J5: ='Beoordelaar 2 Concierge'!G4 -> SCORE | Q5: Minder
B6: ='Beoordelaar 3 Docent'!$A$1 -> Beoordelaar 3: Docent | D6: ='Beoordelaar 3 Docent'!C4 -> SCORE | G6: ='Beoordelaar 3 Docent'!E4 -> SCORE | J6: ='Beoordelaar 3 Docent'!G4 -> SCORE | Q6: Onacceptabel
B7: ='Beoordelaar 4 Docent'!$A$1 -> Beoordelaar 4: Docent | D7: ='Beoordelaar 4 Docent'!C4 -> SCORE | G7: ='Beoordelaar 4 Docent'!E4 -> SCORE | J7: ='Beoordelaar 4 Docent'!G4 -> SCORE
B8: ='Beoordelaar 5 Mw Bestuursbureau'!$A$1 -> Beoordelaar 5: Medewerker Bestuursbureau | D8: ='Beoordelaar 5 Mw Bestuursbureau'!C4 -> SCORE | G8: ='Beoordelaar 5 Mw Bestuursbureau'!E4 -> SCORE | J8: ='Beoordelaar 5 Mw Bestuursbureau'!G4 -> SCORE
B9: ='Beoordelaar 6 Facilitair Man.'!$A$1 -> Beoordelaar 6: Facilitair Manager | D9: ='Beoordelaar 6 Facilitair Man.'!C4 -> SCORE | G9: ='Beoordelaar 6 Facilitair Man.'!E4 -> SCORE | J9: ='Beoordelaar 6 Facilitair Man.'!G4 -> SCORE
B10: ='Beoordelaar 7 Teamleider Bv.'!$A$1 -> Beoordelaar 7: Teamleider Bedrijfsvoering | D10: ='Beoordelaar 7 Teamleider Bv.'!C4 -> SCORE | G10: ='Beoordelaar 7 Teamleider Bv.'!E4 -> SCORE | J10: ='Beoordelaar 7 Teamleider Bv.'!G4 -> SCORE
A11: Consensus | D11: SCORE | G11: SCORE | J11: SCORE
D12: =IF(D11="beter","€ 2.000",IF(D11="vergelijkbaar","€ 500",IF(D11="minder","-€ 2000",IF(D11="onacceptabel"," KO "," ")))) | G12: =IF(G11="beter","€ 2.000",IF(G11="vergelijkbaar","€ 500",IF(G11="minder","-€ 2000",IF(G11="onacceptabel"," KO "," ")))) | J12: =IF(J11="beter","€ 2.000",IF(J11="vergelijkbaar","€ 500",IF(J11="minder","-€ 2000",IF(J11="onacceptabel"," KO "," "))))
A13: =Productdemonstratie!A5:A5 -> 2. Constructie tussen frame en blad | B13: ='Beoordelaar 1 Concierge'!$A$1 -> Beoordelaar 1: Conciërge | D13: ='Beoordelaar 1 Concierge'!C6 -> SCORE | E13: <MOTIVATIE> | G13: ='Beoordelaar 1 Concierge'!E6 -> SCORE | H13: <MOTIVATIE> | J13: ='Beoordelaar 1 Concierge'!G6 -> SCORE | K13: <MOTIVATIE>
B14: ='Beoordelaar 2 Concierge'!$A$1 -> Beoordelaar 2: Conciërge | D14: ='Beoordelaar 2 Concierge'!C6 -> SCORE | G14: ='Beoordelaar 2 Concierge'!E6 -> SCORE | J14: ='Beoordelaar 2 Concierge'!G6 -> SCORE
B15: ='Beoordelaar 3 Docent'!$A$1 -> Beoordelaar 3: Docent | D15: ='Beoordelaar 3 Docent'!C6 -> SCORE | G15: ='Beoordelaar 3 Docent'!E6 -> SCORE | J15: ='Beoordelaar 3 Docent'!G6 -> SCORE
B16: ='Beoordelaar 4 Docent'!$A$1 -> Beoordelaar 4: Docent | D16: ='Beoordelaar 4 Docent'!C6 -> SCORE | G16: ='Beoordelaar 4 Docent'!E6 -> SCORE | J16: ='Beoordelaar 4 Docent'!G6 -> SCORE
B17: ='Beoordelaar 5 Mw Bestuursbureau'!$A$1 -> Beoordelaar 5: Medewerker Bestuursbureau | D17: ='Beoordelaar 5 Mw Bestuursbureau'!C6 -> SCORE | G17: ='Beoordelaar 5 Mw Bestuursbureau'!E6 -> SCORE | J17: ='Beoordelaar 5 Mw Bestuursbureau'!G6 -> SCORE
B18: ='Beoordelaar 6 Facilitair Man.'!$A$1 -> Beoordelaar 6: Facilitair Manager | D18: ='Beoordelaar 6 Facilitair Man.'!C6 -> SCORE | G18: ='Beoordelaar 6 Facilitair Man.'!E6 -> SCORE | J18: ='Beoordelaar 6 Facilitair Man.'!G6 -> SCORE
B19: ='Beoordelaar 7 Teamleider Bv.'!$A$1 -> Beoordelaar 7: Teamleider Bedrijfsvoering | D19: ='Beoordelaar 7 Teamleider Bv.'!C6 -> SCORE | G19: ='Beoordelaar 7 Teamleider Bv.'!E6 -> SCORE | J19: ='Beoordelaar 7 Teamleider Bv.'!G6 -> SCORE
A20: Consensus | D20: SCORE | G20: SCORE | J20: SCORE
D21: =IF(D20="beter","€ 2.000",IF(D20="vergelijkbaar","€ 500",IF(D20="minder","-€ 2000",IF(D20="onacceptabel"," KO "," ")))) | G21: =IF(G20="beter","€ 2.000",IF(G20="vergelijkbaar","€ 500",IF(G20="minder","-€ 2000",IF(G20="onacceptabel"," KO "," ")))) | J21: =IF(J20="beter","€ 2.000",IF(J20="vergelijkbaar","€ 500",IF(J20="minder","-€ 2000",IF(J20="onacceptabel"," KO "," "))))
A22: =Productdemonstratie!A6:A6 -> 3. Uitstraling/vormgeving | B22: ='Beoordelaar 1 Concierge'!$A$1 -> Beoordelaar 1: Conciërge | D22: ='Beoordelaar 1 Concierge'!C8 -> SCORE | E22: <MOTIVATIE> | G22: ='Beoordelaar 1 Concierge'!E8 -> SCORE | H22: <MOTIVATIE> | J22: ='Beoordelaar 1 Concierge'!G8 -> SCORE | K22: <MOTIVATIE>
B23: ='Beoordelaar 2 Concierge'!$A$1 -> Beoordelaar 2: Conciërge | D23: ='Beoordelaar 2 Concierge'!C8 -> SCORE | G23: ='Beoordelaar 2 Concierge'!E8 -> SCORE | J23: ='Beoordelaar 2 Concierge'!G8 -> SCORE
B24: ='Beoordelaar 3 Docent'!$A$1 -> Beoordelaar 3: Docent | D24: ='Beoordelaar 3 Docent'!C8 -> SCORE | G24: ='Beoordelaar 3 Docent'!E8 -> SCORE | J24: ='Beoordelaar 3 Docent'!G8 -> SCORE
B25: ='Beoordelaar 4 Docent'!$A$1 -> Beoordelaar 4: Docent | D25: ='Beoordelaar 4 Docent'!C8 -> SCORE | G25: ='Beoordelaar 4 Docent'!E8 -> SCORE | J25: ='Beoordelaar 4 Docent'!G8 -> SCORE
B26: ='Beoordelaar 5 Mw Bestuursbureau'!$A$1 -> Beoordelaar 5: Medewerker Bestuursbureau | D26: ='Beoordelaar 5 Mw Bestuursbureau'!C8 -> SCORE | G26: ='Beoordelaar 5 Mw Bestuursbureau'!E8 -> SCORE | J26: ='Beoordelaar 5 Mw Bestuursbureau'!G8 -> SCORE
B27: ='Beoordelaar 6 Facilitair Man.'!$A$1 -> Beoordelaar 6: Facilitair Manager | D27: ='Beoordelaar 6 Facilitair Man.'!C8 -> SCORE | G27: ='Beoordelaar 6 Facilitair Man.'!E8 -> SCORE | J27: ='Beoordelaar 6 Facilitair Man.'!G8 -> SCORE
B28: ='Beoordelaar 7 Teamleider Bv.'!$A$1 -> Beoordelaar 7: Teamleider Bedrijfsvoering | D28: ='Beoordelaar 7 Teamleider Bv.'!C8 -> SCORE | G28: ='Beoordelaar 7 Teamleider Bv.'!E8 -> SCORE | J28: ='Beoordelaar 7 Teamleider Bv.'!G8 -> SCORE
A29: Consensus | D29: SCORE | G29: SCORE | J29: SCORE
D30: =IF(D29="beter","€ 2.000",IF(D29="vergelijkbaar","€ 500",IF(D29="minder","-€ 2000",IF(D29="onacceptabel"," KO "," ")))) | G30: =IF(G29="beter","€ 2.000",IF(G29="vergelijkbaar","€ 500",IF(G29="minder","-€ 2000",IF(G29="onacceptabel"," KO "," ")))) | J30: =IF(J29="beter","€ 2.000",IF(J29="vergelijkbaar","€ 500",IF(J29="minder","-€ 2000",IF(J29="onacceptabel"," KO "," "))))
A31: =Productdemonstratie!A7:A7 -> 4. Gemak schoonmaken | B31: ='Beoordelaar 1 Concierge'!$A$1 -> Beoordelaar 1: Conciërge | D31: ='Beoordelaar 1 Concierge'!C10 -> SCORE | E31: <MOTIVATIE> | G31: ='Beoordelaar 1 Concierge'!E10 -> SCORE | H31: <MOTIVATIE> | J31: ='Beoordelaar 1 Concierge'!G10 -> SCORE | K31: <MOTIVATIE>
B32: ='Beoordelaar 2 Concierge'!$A$1 -> Beoordelaar 2: Conciërge | D32: ='Beoordelaar 2 Concierge'!C10 -> SCORE | G32: ='Beoordelaar 2 Concierge'!E10 -> SCORE | J32: ='Beoordelaar 2 Concierge'!G10 -> SCORE
B33: ='Beoordelaar 3 Docent'!$A$1 -> Beoordelaar 3: Docent | D33: ='Beoordelaar 3 Docent'!C10 -> SCORE | G33: ='Beoordelaar 3 Docent'!E10 -> SCORE | J33: ='Beoordelaar 3 Docent'!G10 -> SCORE
B34: ='Beoordelaar 4 Docent'!$A$1 -> Beoordelaar 4: Docent | D34: ='Beoordelaar 4 Docent'!C10 -> SCORE | G34: ='Beoordelaar 4 Docent'!E10 -> SCORE | J34: ='Beoordelaar 4 Docent'!G10 -> SCORE
B35: ='Beoordelaar 5 Mw Bestuursbureau'!$A$1 -> Beoordelaar 5: Medewerker Bestuursbureau | D35: ='Beoordelaar 5 Mw Bestuursbureau'!C10 -> SCORE | G35: ='Beoordelaar 5 Mw Bestuursbureau'!E10 -> SCORE | J35: ='Beoordelaar 5 Mw Bestuursbureau'!G10 -> SCORE
B36: ='Beoordelaar 6 Facilitair Man.'!$A$1 -> Beoordelaar 6: Facilitair Manager | D36: ='Beoordelaar 6 Facilitair Man.'!C10 -> SCORE | G36: ='Beoordelaar 6 Facilitair Man.'!E10 -> SCORE | J36: ='Beoordelaar 6 Facilitair Man.'!G10 -> SCORE
B37: ='Beoordelaar 7 Teamleider Bv.'!$A$1 -> Beoordelaar 7: Teamleider Bedrijfsvoering | D37: ='Beoordelaar 7 Teamleider Bv.'!C10 -> SCORE | G37: ='Beoordelaar 7 Teamleider Bv.'!E10 -> SCORE | J37: ='Beoordelaar 7 Teamleider Bv.'!G10 -> SCORE
A38: Consensus | D38: SCORE | G38: SCORE | J38: SCORE
D39: =IF(D38="beter","€ 2.000",IF(D38="vergelijkbaar","€ 500",IF(D38="minder","-€ 2000",IF(D38="onacceptabel"," KO "," ")))) | G39: =IF(G38="beter","€ 2.000",IF(G38="vergelijkbaar","€ 500",IF(G38="minder","-€ 2000",IF(G38="onacceptabel"," KO "," ")))) | J39: =IF(J38="beter","€ 2.000",IF(J38="vergelijkbaar","€ 500",IF(J38="minder","-€ 2000",IF(J38="onacceptabel"," KO "," "))))
A40: =Productdemonstratie!A8:A8 -> 5. Mate veiligheid (scherpe randen en hoeken) | B40: ='Beoordelaar 1 Concierge'!$A$1 -> Beoordelaar 1: Conciërge | D40: ='Beoordelaar 1 Concierge'!C12 -> SCORE | E40: <MOTIVATIE> | G40: ='Beoordelaar 1 Concierge'!E12 -> SCORE | H40: <MOTIVATIE> | J40: ='Beoordelaar 1 Concierge'!G12 -> SCORE | K40: <MOTIVATIE>
B41: ='Beoordelaar 2 Concierge'!$A$1 -> Beoordelaar 2: Conciërge | D41: ='Beoordelaar 2 Concierge'!C12 -> SCORE | G41: ='Beoordelaar 2 Concierge'!E12 -> SCORE | J41: ='Beoordelaar 2 Concierge'!G12 -> SCORE
B42: ='Beoordelaar 3 Docent'!$A$1 -> Beoordelaar 3: Docent | D42: ='Beoordelaar 3 Docent'!C12 -> SCORE | G42: ='Beoordelaar 3 Docent'!E12 -> SCORE | J42: ='Beoordelaar 3 Docent'!G12 -> SCORE
B43: ='Beoordelaar 4 Docent'!$A$1 -> Beoordelaar 4: Docent | D43: ='Beoordelaar 4 Docent'!C12 -> SCORE | G43: ='Beoordelaar 4 Docent'!E12 -> SCORE | J43: ='Beoordelaar 4 Docent'!G12 -> SCORE
B44: ='Beoordelaar 5 Mw Bestuursbureau'!$A$1 -> Beoordelaar 5: Medewerker Bestuursbureau | D44: ='Beoordelaar 5 Mw Bestuursbureau'!C12 -> SCORE | G44: ='Beoordelaar 5 Mw Bestuursbureau'!E12 -> SCORE | J44: ='Beoordelaar 5 Mw Bestuursbureau'!G12 -> SCORE
B45: ='Beoordelaar 6 Facilitair Man.'!$A$1 -> Beoordelaar 6: Facilitair Manager | D45: ='Beoordelaar 6 Facilitair Man.'!C12 -> SCORE | G45: ='Beoordelaar 6 Facilitair Man.'!E12 -> SCORE | J45: ='Beoordelaar 6 Facilitair Man.'!G12 -> SCORE
B46: ='Beoordelaar 7 Teamleider Bv.'!$A$1 -> Beoordelaar 7: Teamleider Bedrijfsvoering | D46: ='Beoordelaar 7 Teamleider Bv.'!C12 -> SCORE | G46: ='Beoordelaar 7 Teamleider Bv.'!E12 -> SCORE | J46: ='Beoordelaar 7 Teamleider Bv.'!G12 -> SCORE
A47: Consensus | D47: SCORE | G47: SCORE | J47: SCORE
D48: =IF(D47="beter","€ 2.000",IF(D47="vergelijkbaar","€ 500",IF(D47="minder","-€ 2000",IF(D47="onacceptabel"," KO "," ")))) | G48: =IF(G47="beter","€ 2.000",IF(G47="vergelijkbaar","€ 500",IF(G47="minder","-€ 2000",IF(G47="onacceptabel"," KO "," ")))) | J48: =IF(J47="beter","€ 2.000",IF(J47="vergelijkbaar","€ 500",IF(J47="minder","-€ 2000",IF(J47="onacceptabel"," KO "," "))))
A49: Behaalde waarde: | D49: =D12+D21+D30+D39+D48 -> #VALUE! | G49: =G12+G21+G30+G39+G48 -> #VALUE! | J49: =J12+J21+J30+J39+J48 -> #VALUE!
D50: maximaal 2 maal negatief | G50: maximaal 2 maal negatief | J50: maximaal 2 maal negatief
A51: =Productdemonstratie!A9 -> 2. Leerlingstoel VMBO – Item 19 prijzenblad leerlingsets.
A52: =Productdemonstratie!A10 -> 1. Stabiliteit | B52: ='Beoordelaar 1 Concierge'!$A$1 -> Beoordelaar 1: Conciërge | D52: ='Beoordelaar 1 Concierge'!C15 -> SCORE | E52: <MOTIVATIE> | G52: ='Beoordelaar 1 Concierge'!E15 -> SCORE | H52: <MOTIVATIE> | J52: ='Beoordelaar 1 Concierge'!G15 -> SCORE | K52: <MOTIVATIE>
B53: ='Beoordelaar 2 Concierge'!$A$1 -> Beoordelaar 2: Conciërge | D53: ='Beoordelaar 2 Concierge'!C15 -> SCORE | G53: ='Beoordelaar 2 Concierge'!E15 -> SCORE | J53: ='Beoordelaar 2 Concierge'!G15 -> SCORE
B54: ='Beoordelaar 3 Docent'!$A$1 -> Beoordelaar 3: Docent | D54: ='Beoordelaar 3 Docent'!C15 -> SCORE | G54: ='Beoordelaar 3 Docent'!E15 -> SCORE | J54: ='Beoordelaar 3 Docent'!G15 -> SCORE
B55: ='Beoordelaar 4 Docent'!$A$1 -> Beoordelaar 4: Docent | D55: ='Beoordelaar 4 Docent'!C15 -> SCORE | G55: ='Beoordelaar 4 Docent'!E15 -> SCORE | J55: ='Beoordelaar 4 Docent'!G15 -> SCORE
B56: ='Beoordelaar 5 Mw Bestuursbureau'!$A$1 -> Beoordelaar 5: Medewerker Bestuursbureau | D56: ='Beoordelaar 5 Mw Bestuursbureau'!C15 -> SCORE | G56: ='Beoordelaar 5 Mw Bestuursbureau'!E15 -> SCORE | J56: ='Beoordelaar 5 Mw Bestuursbureau'!G15 -> SCORE
B57: ='Beoordelaar 6 Facilitair Man.'!$A$1 -> Beoordelaar 6: Facilitair Manager | D57: ='Beoordelaar 6 Facilitair Man.'!C15 -> SCORE | G57: ='Beoordelaar 6 Facilitair Man.'!E15 -> SCORE | J57: ='Beoordelaar 6 Facilitair Man.'!G15 -> SCORE
B58: ='Beoordelaar 7 Teamleider Bv.'!$A$1 -> Beoordelaar 7: Teamleider Bedrijfsvoering | D58: ='Beoordelaar 7 Teamleider Bv.'!C15 -> SCORE | G58: ='Beoordelaar 7 Teamleider Bv.'!E15 -> SCORE | J58: ='Beoordelaar 7 Teamleider Bv.'!G15 -> SCORE
A59: Consensus | D59: SCORE | G59: SCORE | J59: SCORE
D60: =IF(D59="beter","€ 2.000",IF(D59="vergelijkbaar","€ 500",IF(D59="minder","-€ 2000",IF(D59="onacceptabel"," KO "," ")))) | G60: =IF(G59="beter","€ 2.000",IF(G59="vergelijkbaar","€ 500",IF(G59="minder","-€ 2000",IF(G59="onacceptabel"," KO "," ")))) | J60: =IF(J59="beter","€ 2.000",IF(J59="vergelijkbaar","€ 500",IF(J59="minder","-€ 2000",IF(J59="onacceptabel"," KO "," "))))
A61: =Productdemonstratie!A11 -> 2. Constructie tussen frame en zitting | B61: ='Beoordelaar 1 Concierge'!$A$1 -> Beoordelaar 1: Conciërge | D61: ='Beoordelaar 1 Concierge'!C17 -> SCORE | E61: <MOTIVATIE> | G61: ='Beoordelaar 1 Concierge'!E17 -> SCORE | H61: <MOTIVATIE> | J61: ='Beoordelaar 1 Concierge'!G17 -> SCORE | K61: <MOTIVATIE>
B62: ='Beoordelaar 2 Concierge'!$A$1 -> Beoordelaar 2: Conciërge | D62: ='Beoordelaar 2 Concierge'!C17 -> SCORE | G62: ='Beoordelaar 2 Concierge'!E17 -> SCORE | J62: ='Beoordelaar 2 Concierge'!G17 -> SCORE
B63: ='Beoordelaar 3 Docent'!$A$1 -> Beoordelaar 3: Docent | D63: ='Beoordelaar 3 Docent'!C17 -> SCORE | G63: ='Beoordelaar 3 Docent'!E17 -> SCORE | J63: ='Beoordelaar 3 Docent'!G17 -> SCORE
B64: ='Beoordelaar 4 Docent'!$A$1 -> Beoordelaar 4: Docent | D64: ='Beoordelaar 4 Docent'!C17 -> SCORE | G64: ='Beoordelaar 4 Docent'!E17 -> SCORE | J64: ='Beoordelaar 4 Docent'!G17 -> SCORE
B65: ='Beoordelaar 5 Mw Bestuursbureau'!$A$1 -> Beoordelaar 5: Medewerker Bestuursbureau | D65: ='Beoordelaar 5 Mw Bestuursbureau'!C17 -> SCORE | G65: ='Beoordelaar 5 Mw Bestuursbureau'!E17 -> SCORE | J65: ='Beoordelaar 5 Mw Bestuursbureau'!G17 -> SCORE
B66: ='Beoordelaar 6 Facilitair Man.'!$A$1 -> Beoordelaar 6: Facilitair Manager | D66: ='Beoordelaar 6 Facilitair Man.'!C17 -> SCORE | G66: ='Beoordelaar 6 Facilitair Man.'!E17 -> SCORE | J66: ='Beoordelaar 6 Facilitair Man.'!G17 -> SCORE
B67: ='Beoordelaar 7 Teamleider Bv.'!$A$1 -> Beoordelaar 7: Teamleider Bedrijfsvoering | D67: ='Beoordelaar 7 Teamleider Bv.'!C17 -> SCORE | G67: ='Beoordelaar 7 Teamleider Bv.'!E17 -> SCORE | J67: ='Beoordelaar 7 Teamleider Bv.'!G17 -> SCORE
A68: Consensus | D68: SCORE | G68: SCORE | J68: SCORE
D69: =IF(D68="beter","€ 2.000",IF(D68="vergelijkbaar","€ 500",IF(D68="minder","-€ 2000",IF(D68="onacceptabel"," KO "," ")))) | G69: =IF(G68="beter","€ 2.000",IF(G68="vergelijkbaar","€ 500",IF(G68="minder","-€ 2000",IF(G68="onacceptabel"," KO "," ")))) | J69: =IF(J68="beter","€ 2.000",IF(J68="vergelijkbaar","€ 500",IF(J68="minder","-€ 2000",IF(J68="onacceptabel"," KO "," "))))
A70: =Productdemonstratie!A12 -> 3. Uitstraling/vormgeving | B70: ='Beoordelaar 1 Concierge'!$A$1 -> Beoordelaar 1: Conciërge | D70: ='Beoordelaar 1 Concierge'!C19 -> SCORE | E70: <MOTIVATIE> | G70: ='Beoordelaar 1 Concierge'!E19 -> SCORE | H70: <MOTIVATIE> | J70: ='Beoordelaar 1 Concierge'!G19 -> SCORE | K70: <MOTIVATIE>
B71: ='Beoordelaar 2 Concierge'!$A$1 -> Beoordelaar 2: Conciërge | D71: ='Beoordelaar 2 Concierge'!C19 -> SCORE | G71: ='Beoordelaar 2 Concierge'!E19 -> SCORE | J71: ='Beoordelaar 2 Concierge'!G19 -> SCORE
B72: ='Beoordelaar 3 Docent'!$A$1 -> Beoordelaar 3: Docent | D72: ='Beoordelaar 3 Docent'!C19 -> SCORE | G72: ='Beoordelaar 3 Docent'!E19 -> SCORE | J72: ='Beoordelaar 3 Docent'!G19 -> SCORE
B73: ='Beoordelaar 4 Docent'!$A$1 -> Beoordelaar 4: Docent | D73: ='Beoordelaar 4 Docent'!C19 -> SCORE | G73: ='Beoordelaar 4 Docent'!E19 -> SCORE | J73: ='Beoordelaar 4 Docent'!G19 -> SCORE
B74: ='Beoordelaar 5 Mw Bestuursbureau'!$A$1 -> Beoordelaar 5: Medewerker Bestuursbureau | D74: ='Beoordelaar 5 Mw Bestuursbureau'!C19 -> SCORE | G74: ='Beoordelaar 5 Mw Bestuursbureau'!E19 -> SCORE | J74: ='Beoordelaar 5 Mw Bestuursbureau'!G19 -> SCORE
B75: ='Beoordelaar 6 Facilitair Man.'!$A$1 -> Beoordelaar 6: Facilitair Manager | D75: ='Beoordelaar 6 Facilitair Man.'!C19 -> SCORE | G75: ='Beoordelaar 6 Facilitair Man.'!E19 -> SCORE | J75: ='Beoordelaar 6 Facilitair Man.'!G19 -> SCORE
B76: ='Beoordelaar 7 Teamleider Bv.'!$A$1 -> Beoordelaar 7: Teamleider Bedrijfsvoering | D76: ='Beoordelaar 7 Teamleider Bv.'!C19 -> SCORE | G76: ='Beoordelaar 7 Teamleider Bv.'!E19 -> SCORE | J76: ='Beoordelaar 7 Teamleider Bv.'!G19 -> SCORE
A77: Consensus | D77: SCORE | G77: SCORE | J77: SCORE
D78: =IF(D77="beter","€ 2.000",IF(D77="vergelijkbaar","€ 500",IF(D77="minder","-€ 2000",IF(D77="onacceptabel"," KO "," ")))) | G78: =IF(G77="beter","€ 2.000",IF(G77="vergelijkbaar","€ 500",IF(G77="minder","-€ 2000",IF(G77="onacceptabel"," KO "," ")))) | J78: =IF(J77="beter","€ 2.000",IF(J77="vergelijkbaar","€ 500",IF(J77="minder","-€ 2000",IF(J77="onacceptabel"," KO "," "))))
A79: =Productdemonstratie!A13 -> 4. Gemak schoonmaken | B79: ='Beoordelaar 1 Concierge'!$A$1 -> Beoordelaar 1: Conciërge | D79: ='Beoordelaar 1 Concierge'!C21 -> SCORE | E79: <MOTIVATIE> | G79: ='Beoordelaar 1 Concierge'!E21 -> SCORE | H79: <MOTIVATIE> | J79: ='Beoordelaar 1 Concierge'!G21 -> SCORE | K79: <MOTIVATIE>
B80: ='Beoordelaar 2 Concierge'!$A$1 -> Beoordelaar 2: Conciërge | D80: ='Beoordelaar 2 Concierge'!C21 -> SCORE | G80: ='Beoordelaar 2 Concierge'!E21 -> SCORE | J80: ='Beoordelaar 2 Concierge'!G21 -> SCORE
B81: ='Beoordelaar 3 Docent'!$A$1 -> Beoordelaar 3: Docent | D81: ='Beoordelaar 3 Docent'!C21 -> SCORE | G81: ='Beoordelaar 3 Docent'!E21 -> SCORE | J81: ='Beoordelaar 3 Docent'!G21 -> SCORE
B82: ='Beoordelaar 4 Docent'!$A$1 -> Beoordelaar 4: Docent | D82: ='Beoordelaar 4 Docent'!C21 -> SCORE | G82: ='Beoordelaar 4 Docent'!E21 -> SCORE | J82: ='Beoordelaar 4 Docent'!G21 -> SCORE
B83: ='Beoordelaar 5 Mw Bestuursbureau'!$A$1 -> Beoordelaar 5: Medewerker Bestuursbureau | D83: ='Beoordelaar 5 Mw Bestuursbureau'!C21 -> SCORE | G83: ='Beoordelaar 5 Mw Bestuursbureau'!E21 -> SCORE | J83: ='Beoordelaar 5 Mw Bestuursbureau'!G21 -> SCORE
B84: ='Beoordelaar 6 Facilitair Man.'!$A$1 -> Beoordelaar 6: Facilitair Manager | D84: ='Beoordelaar 6 Facilitair Man.'!C21 -> SCORE | G84: ='Beoordelaar 6 Facilitair Man.'!E21 -> SCORE | J84: ='Beoordelaar 6 Facilitair Man.'!G21 -> SCORE
B85: ='Beoordelaar 7 Teamleider Bv.'!$A$1 -> Beoordelaar 7: Teamleider Bedrijfsvoering | D85: ='Beoordelaar 7 Teamleider Bv.'!C21 -> SCORE | G85: ='Beoordelaar 7 Teamleider Bv.'!E21 -> SCORE | J85: ='Beoordelaar 7 Teamleider Bv.'!G21 -> SCORE
A86: Consensus | D86: SCORE | G86: SCORE | J86: SCORE
D87: =IF(D86="beter","€ 2.000",IF(D86="vergelijkbaar","€ 500",IF(D86="minder","-€ 2000",IF(D86="onacceptabel"," KO "," ")))) | G87: =IF(G86="beter","€ 2.000",IF(G86="vergelijkbaar","€ 500",IF(G86="minder","-€ 2000",IF(G86="onacceptabel"," KO "," ")))) | J87: =IF(J86="beter","€ 2.000",IF(J86="vergelijkbaar","€ 500",IF(J86="minder","-€ 2000",IF(J86="onacceptabel"," KO "," "))))
A88: =Productdemonstratie!A14 -> 5. Mate veiligheid (scherpe randen en hoeken) | B88: ='Beoordelaar 1 Concierge'!$A$1 -> Beoordelaar 1: Conciërge | D88: ='Beoordelaar 1 Concierge'!C23 -> SCORE | E88: <MOTIVATIE> | G88: ='Beoordelaar 1 Concierge'!E23 -> SCORE | H88: <MOTIVATIE> | J88: ='Beoordelaar 1 Concierge'!G23 -> SCORE | K88: <MOTIVATIE>
B89: ='Beoordelaar 2 Concierge'!$A$1 -> Beoordelaar 2: Conciërge | D89: ='Beoordelaar 2 Concierge'!C23 -> SCORE | G89: ='Beoordelaar 2 Concierge'!E23 -> SCORE | J89: ='Beoordelaar 2 Concierge'!G23 -> SCORE
B90: ='Beoordelaar 3 Docent'!$A$1 -> Beoordelaar 3: Docent | D90: ='Beoordelaar 3 Docent'!C23 -> SCORE | G90: ='Beoordelaar 3 Docent'!E23 -> SCORE | J90: ='Beoordelaar 3 Docent'!G23 -> SCORE
B91: ='Beoordelaar 4 Docent'!$A$1 -> Beoordelaar 4: Docent | D91: ='Beoordelaar 4 Docent'!C23 -> SCORE | G91: ='Beoordelaar 4 Docent'!E23 -> SCORE | J91: ='Beoordelaar 4 Docent'!G23 -> SCORE
B92: ='Beoordelaar 5 Mw Bestuursbureau'!$A$1 -> Beoordelaar 5: Medewerker Bestuursbureau | D92: ='Beoordelaar 5 Mw Bestuursbureau'!C23 -> SCORE | G92: ='Beoordelaar 5 Mw Bestuursbureau'!E23 -> SCORE | J92: ='Beoordelaar 5 Mw Bestuursbureau'!G23 -> SCORE
B93: ='Beoordelaar 6 Facilitair Man.'!$A$1 -> Beoordelaar 6: Facilitair Manager | D93: ='Beoordelaar 6 Facilitair Man.'!C23 -> SCORE | G93: ='Beoordelaar 6 Facilitair Man.'!E23 -> SCORE | J93: ='Beoordelaar 6 Facilitair Man.'!G23 -> SCORE
B94: ='Beoordelaar 7 Teamleider Bv.'!$A$1 -> Beoordelaar 7: Teamleider Bedrijfsvoering | D94: ='Beoordelaar 7 Teamleider Bv.'!C23 -> SCORE | G94: ='Beoordelaar 7 Teamleider Bv.'!E23 -> SCORE | J94: ='Beoordelaar 7 Teamleider Bv.'!G23 -> SCORE
A95: Consensus | D95: SCORE | G95: SCORE | J95: SCORE
D96: =IF(D95="beter","€ 2.000",IF(D95="vergelijkbaar","€ 500",IF(D95="minder","-€ 2000",IF(D95="onacceptabel"," KO "," ")))) | G96: =IF(G95="beter","€ 2.000",IF(G95="vergelijkbaar","€ 500",IF(G95="minder","-€ 2000",IF(G95="onacceptabel"," KO "," ")))) | J96: =IF(J95="beter","€ 2.000",IF(J95="vergelijkbaar","€ 500",IF(J95="minder","-€ 2000",IF(J95="onacceptabel"," KO "," "))))
A97: =Productdemonstratie!A15 -> 6. Zit-comfort | B97: ='Beoordelaar 1 Concierge'!$A$1 -> Beoordelaar 1: Conciërge | D97: ='Beoordelaar 1 Concierge'!C25 -> SCORE | E97: <MOTIVATIE> | G97: ='Beoordelaar 1 Concierge'!E25 -> SCORE | H97: <MOTIVATIE> | J97: ='Beoordelaar 1 Concierge'!G25 -> SCORE | K97: <MOTIVATIE>
B98: ='Beoordelaar 2 Concierge'!$A$1 -> Beoordelaar 2: Conciërge | D98: ='Beoordelaar 2 Concierge'!C25 -> SCORE | G98: ='Beoordelaar 2 Concierge'!E25 -> SCORE | J98: ='Beoordelaar 2 Concierge'!G25 -> SCORE
B99: ='Beoordelaar 3 Docent'!$A$1 -> Beoordelaar 3: Docent | D99: ='Beoordelaar 3 Docent'!C25 -> SCORE | G99: ='Beoordelaar 3 Docent'!E25 -> SCORE | J99: ='Beoordelaar 3 Docent'!G25 -> SCORE
B100: ='Beoordelaar 4 Docent'!$A$1 -> Beoordelaar 4: Docent | D100: ='Beoordelaar 4 Docent'!C25 -> SCORE | G100: ='Beoordelaar 4 Docent'!E25 -> SCORE | J100: ='Beoordelaar 4 Docent'!G25 -> SCORE
...

Sheet Eindscores
A1: Totaalwaarder criterium kwaliteit
A2: Onderdeel | C2: ='Beoordelaar 1 Concierge'!C1 -> Inschrijver 1 | E2: ='Beoordelaar 1 Concierge'!E1 -> Inschrijver 2 | G2: ='Beoordelaar 1 Concierge'!G1 -> Inschrijver 3
A3: 7.1. A BEANTWOORDING OPEN VRAGEN | C3: 0 | E3: 0 | G3: 0
A4: 7.2 PRODUCTDEMONSTRATIE | C4: =Consensus!D384 -> #VALUE! | E4: =Consensus!G384 -> #VALUE! | G4: =Consensus!J384 -> #VALUE!
A5: Totaal behaalde waarde criterium kwaliteit: | C5: =SUM(C3:C4) -> #VALUE! | E5: =SUM(E3:E4) -> #VALUE! | G5: =SUM(G3:G4) -> #VALUE!
A7: Totaal behaalde waarde criterium prijs: | C7: 0 | E7: 0 | G7: 0
A9: Eindscore (kwaliteit/prijs): | C9: =C7-C5 -> #VALUE! | E9: =E7-E5 -> #VALUE! | G9: =G7-G5 -> #VALUE!
