Workbook
Name SCORE: 'Beoordelen open vragen'!$A$16:$A$21

Sheet Beoordelen open vragen
A1: Beoordeling open vragen
A2: Om de kwaliteit en toegevoegde waarde van de Inschrijver(s) te kunnen beoordelen dient Inschrijver haar kwaliteit aan te tonen en meerwaarde uit te werken conform onderstaande open vragen.
A3: 7.1.1 Plan van aanpak (aanvang dienstverlening)
A4: Zie bijlage 7b 'kwaliteit'.
A5: 7.1.2 Beschrijving boekingsproces
A6: Zie bijlage 7b 'kwaliteit'.
A7: 7.1.3 Veiligheid, calamiteiten en inzetten van partners
A8: Zie bijlage 7b 'kwaliteit'.
A9: 7.1.4 Duurzaamheid
A10: Zie bijlage 7b 'kwaliteit'.
A11: 7.1.5 Goed werkgeverschap
A12: Zie bijlage 7b 'kwaliteit'.
... A28: Onvoldoende

Sheet Beoordelaar 1
A1: Beoordelaar 1: <<>> | C1: Inschrijver 1
A2: Open vragen | C2: Score:
A3: ='Beoordelen open vragen'!A3 -> 7.1.1 Plan van aanpak (aanvang dienstverlening) | C3: SCORE
A4: ='Beoordelen open vragen'!A4 -> Zie bijlage 7b 'kwaliteit'. | C4: <MOTIVATIE>
A5: ='Beoordelen open vragen'!A5 -> 7.1.2 Beschrijving boekingsproces | C5: SCORE
A6: ='Beoordelen open vragen'!A6 -> Zie bijlage 7b 'kwaliteit'. | C6: <MOTIVATIE>
A7: ='Beoordelen open vragen'!A7 -> 7.1.3 Veiligheid, calamiteiten en inzetten van partners | C7: SCORE
A8: ='Beoordelen open vragen'!A8 -> Zie bijlage 7b 'kwaliteit'. | C8: <MOTIVATIE>
A9: ='Beoordelen open vragen'!A9 -> 7.1.4 Duurzaamheid | C9: SCORE
A10: ='Beoordelen open vragen'!A10:A10 -> Zie bijlage 7b 'kwaliteit'. | C10: <MOTIVATIE>
A11: ='Beoordelen open vragen'!A11 -> 7.1.5 Goed werkgeverschap | C11: SCORE
A12: ='Beoordelen open vragen'!A12 -> Zie bijlage 7b 'kwaliteit'. | C12: <MOTIVATIE>
A13: ='Beoordelen open vragen'!A13 -> 7.1.6 Kosten en bereikbaarheid voor alle leerlingen | C13: SCORE
A14: ='Beoordelen open vragen'!A14:A14 -> Zie bijlage 7b 'kwaliteit'. | C14: <MOTIVATIE>

Sheet Beoordelaar 2
A1: Beoordelaar 2: <<>> | C1: ='Beoordelaar 1'!C1 -> Inschrijver 1
A2: Open vragen | C2: Score:
A3: ='Beoordelen open vragen'!A3 -> 7.1.1 Plan van aanpak (aanvang dienstverlening) | C3: SCORE
A4: ='Beoordelen open vragen'!A4 -> Zie bijlage 7b 'kwaliteit'. | C4: <MOTIVATIE>
A5: ='Beoordelen open vragen'!A5 -> 7.1.2 Beschrijving boekingsproces | C5: SCORE
A6: ='Beoordelen open vragen'!A6 -> Zie bijlage 7b 'kwaliteit'. | C6: <MOTIVATIE>
A7: ='Beoordelen open vragen'!A7 -> 7.1.3 Veiligheid, calamiteiten en inzetten van partners | C7: SCORE
A8: ='Beoordelen open vragen'!A8 -> Zie bijlage 7b 'kwaliteit'. | C8: <MOTIVATIE>
A9: ='Beoordelen open vragen'!A9 -> 7.1.4 Duurzaamheid | C9: SCORE
A10: ='Beoordelen open vragen'!A10:A10 -> Zie bijlage 7b 'kwaliteit'. | C10: <MOTIVATIE>
A11: ='Beoordelen open vragen'!A11 -> 7.1.5 Goed werkgeverschap | C11: SCORE
A12: ='Beoordelen open vragen'!A12:A12 -> Zie bijlage 7b 'kwaliteit'. | C12: <MOTIVATIE>
A13: ='Beoordelen open vragen'!A13 -> 7.1.6 Kosten en bereikbaarheid voor alle leerlingen | C13: SCORE
A14: ='Beoordelen open vragen'!A14:A14 -> Zie bijlage 7b 'kwaliteit'. | C14: <MOTIVATIE>

Sheet Beoordelaar 3
A1: Beoordelaar 3: <<>> | C1: ='Beoordelaar 1'!C1 -> Inschrijver 1
A2: Open vragen | C2: Score:
A3: ='Beoordelen open vragen'!A3 -> 7.1.1 Plan van aanpak (aanvang dienstverlening) | C3: SCORE
A4: ='Beoordelen open vragen'!A4 -> Zie bijlage 7b 'kwaliteit'. | C4: <MOTIVATIE>
A5: ='Beoordelen open vragen'!A5 -> 7.1.2 Beschrijving boekingsproces | C5: SCORE
A6: ='Beoordelen open vragen'!A6 -> Zie bijlage 7b 'kwaliteit'. | C6: <MOTIVATIE>
A7: ='Beoordelen open vragen'!A7 -> 7.1.3 Veiligheid, calamiteiten en inzetten van partners | C7: SCORE
A8: ='Beoordelen open vragen'!A8 -> Zie bijlage 7b 'kwaliteit'. | C8: <MOTIVATIE>
A9: ='Beoordelen open vragen'!A9 -> 7.1.4 Duurzaamheid | C9: SCORE
A10: ='Beoordelen open vragen'!A10:A10 -> Zie bijlage 7b 'kwaliteit'. | C10: <MOTIVATIE>
A11: ='Beoordelen open vragen'!A11 -> 7.1.5 Goed werkgeverschap | C11: SCORE
A12: ='Beoordelen open vragen'!A12:A12 -> Zie bijlage 7b 'kwaliteit'. | C12: <MOTIVATIE>
A13: ='Beoordelen open vragen'!A13 -> 7.1.6 Kosten en bereikbaarheid voor alle leerlingen | C13: SCORE
A14: ='Beoordelen open vragen'!A14:A14 -> Zie bijlage 7b 'kwaliteit'. | C14: <MOTIVATIE>

Sheet Beoordelaar 4
A1: Beoordelaar 4: <<>> | C1: ='Beoordelaar 1'!C1 -> Inschrijver 1
A2: Open vragen | C2: Score:
A3: ='Beoordelen open vragen'!A3 -> 7.1.1 Plan van aanpak (aanvang dienstverlening) | C3: SCORE
A4: ='Beoordelen open vragen'!A4 -> Zie bijlage 7b 'kwaliteit'. | C4: <MOTIVATIE>
A5: ='Beoordelen open vragen'!A5 -> 7.1.2 Beschrijving boekingsproces | C5: SCORE
A6: ='Beoordelen open vragen'!A6 -> Zie bijlage 7b 'kwaliteit'. | C6: <MOTIVATIE>
A7: ='Beoordelen open vragen'!A7 -> 7.1.3 Veiligheid, calamiteiten en inzetten van partners | C7: SCORE
A8: ='Beoordelen open vragen'!A8 -> Zie bijlage 7b 'kwaliteit'. | C8: <MOTIVATIE>
A9: ='Beoordelen open vragen'!A9 -> 7.1.4 Duurzaamheid | C9: SCORE
A10: ='Beoordelen open vragen'!A10:A10 -> Zie bijlage 7b 'kwaliteit'. | C10: <MOTIVATIE>
A11: ='Beoordelen open vragen'!A11 -> 7.1.5 Goed werkgeverschap | C11: SCORE
A12: ='Beoordelen open vragen'!A12:A12 -> Zie bijlage 7b 'kwaliteit'. | C12: <MOTIVATIE>
A13: ='Beoordelen open vragen'!A13 -> 7.1.6 Kosten en bereikbaarheid voor alle leerlingen | C13: SCORE
A14: ='Beoordelen open vragen'!A14:A14 -> Zie bijlage 7b 'kwaliteit'. | C14: <MOTIVATIE>

Sheet Consensus
A1: Totaalwaardes
A2: Open vragen | D2: ='Beoordelaar 1'!C1 -> Inschrijver 1 | E2: MOTIVATIE CONSENSUS
A3: ='Beoordelen open vragen'!A3 -> 7.1.1 Plan van aanpak (aanvang dienstverlening) | B3: Beoordelaar 1 | D3: ='Beoordelaar 1'!C3 -> SCORE | E3: <<motivatie CONSENSUS>>
B4: Beoordelaar 2 | D4: ='Beoordelaar 2'!C3 -> SCORE
B5: Beoordelaar 3 | D5: ='Beoordelaar 3'!C3 -> SCORE
B6: Beoordelaar 4 | D6: ='Beoordelaar 4'!C3 -> SCORE
A7: Consensus | D7: SCORE
D8: =IF(D7="Uitmuntend","3",IF(D7="Goed","2",IF(D7="Voldoende","0",IF(D7="Matig","-2",IF(D7="Onvoldoende","UITSLUITING"," ")))))
A9: ='Beoordelen open vragen'!A5 -> 7.1.2 Beschrijving boekingsproces | B9: =B3 -> Beoordelaar 1 | D9: ='Beoordelaar 1'!C5 -> SCORE | E9: <<motivatie CONSENSUS>>
B10: =B4 -> Beoordelaar 2 | D10: ='Beoordelaar 2'!C5 -> SCORE
B11: =B5 -> Beoordelaar 3 | D11: ='Beoordelaar 3'!C5 -> SCORE
B12: =B6 -> Beoordelaar 4 | D12: ='Beoordelaar 4'!C5 -> SCORE
D13: SCORE
D14: =IF(D13="Uitmuntend","10",IF(D13="Goed","8",IF(D13="Voldoende","0",IF(D13="Matig","-8",IF(D13="Onvoldoende","UITSLUITING"," ")))))
A15: ='Beoordelen open vragen'!A7 -> 7.1.3 Veiligheid, calamiteiten en inzetten van partners | B15: =B3 -> Beoordelaar 1 | D15: ='Beoordelaar 1'!C7 -> SCORE | E15: <<motivatie CONSENSUS>>
B16: =B4 -> Beoordelaar 2 | D16: ='Beoordelaar 2'!C7 -> SCORE
B17: =B5 -> Beoordelaar 3 | D17: ='Beoordelaar 3'!C7 -> SCORE
B18: =B6 -> Beoordelaar 4 | D18: ='Beoordelaar 4'!C7 -> SCORE
A19: Consensus | D19: SCORE
D20: =IF(D19="Uitmuntend","10",IF(D19="Goed","8",IF(D19="Voldoende","0",IF(D19="Matig","-8",IF(D19="Onvoldoende","UITSLUITING"," ")))))
A21: ='Beoordelen open vragen'!A9 -> 7.1.4 Duurzaamheid | B21: =B3 -> Beoordelaar 1 | D21: ='Beoordelaar 1'!C9 -> SCORE | E21: <<motivatie CONSENSUS>>
B22: =B4 -> Beoordelaar 2 | D22: ='Beoordelaar 2'!C9 -> SCORE
B23: =B5 -> Beoordelaar 3 | D23: ='Beoordelaar 3'!C9 -> SCORE
B24: =B6 -> Beoordelaar 4 | D24: ='Beoordelaar 4'!C9 -> SCORE
A25: Consensus | D25: SCORE
D26: =IF(D25="Uitmuntend","3",IF(D25="Goed","2",IF(D25="Voldoende","0",IF(D25="Matig","-2",IF(D25="Onvoldoende","UITSLUITING"," ")))))
A27: ='Beoordelen open vragen'!A11 -> 7.1.5 Goed werkgeverschap | B27: =B15 -> Beoordelaar 1 | D27: ='Beoordelaar 1'!C11 -> SCORE | E27: <<motivatie CONSENSUS>>
B28: =B16 -> Beoordelaar 2 | D28: ='Beoordelaar 2'!C11 -> SCORE
B29: =B17 -> Beoordelaar 3 | D29: ='Beoordelaar 3'!C11 -> SCORE
B30: =B18 -> Beoordelaar 4 | D30: ='Beoordelaar 4'!C11 -> SCORE
A31: Consensus | D31: SCORE
D32: =IF(D31="Uitmuntend","3",IF(D31="Goed","2",IF(D31="Voldoende","0",IF(D31="Matig","-2",IF(D31="Onvoldoende","UITSLUITING"," ")))))
A33: ='Beoordelen open vragen'!A13 -> 7.1.6 Kosten en bereikbaarheid voor alle leerlingen | B33: =B15 -> Beoordelaar 1 | D33: ='Beoordelaar 1'!C13 -> SCORE | E33: <<motivatie CONSENSUS>>
B34: =B16 -> Beoordelaar 2 | D34: ='Beoordelaar 2'!C13 -> SCORE
B35: =B17 -> Beoordelaar 3 | D35: ='Beoordelaar 3'!C13 -> SCORE
B36: =B18 -> Beoordelaar 4 | D36: ='Beoordelaar 4'!C13 -> SCORE
A37: Consensus | D37: SCORE
D38: =IF(D37="Uitmuntend","11",IF(D37="Goed","9",IF(D37="Voldoende","0",IF(D37="Matig","-9",IF(D37="Onvoldoende","UITSLUITING"," ")))))
A40: Totaal behaalde waarde open vragen: | D40: =D8+D14+D20+D26+D32+D38 -> #VALUE!

Sheet Eindscores
A1: Totaalwaarde criterium kwaliteit
A2: Onderdeel | C2: ='Beoordelaar 1'!C1 -> Inschrijver 1
A3: 7.1 Open vragen + toelichting | C3: =Consensus!D40 -> #VALUE!
A4: Totaal behaalde waarde criterium kwaliteit: | C4: =C3 -> #VALUE!
A6: Totaal behaalde waarde criterium prijs: | C6: 0
A8: FICTIEVE EINDWAARDE (prijs -/- kwaliteit): | C8: =C6+C4 -> #VALUE!
