Workbook
Name Ja: #REF!
Name Ja: #REF!
Name Nee: #REF!
Name Nee: #REF!

Sheet A. Vergelijkingsprijs
B1: Europese Aanbesteding 'Print-, copy- en scan-dienstverlening' 23670 Provincie Utrecht Tab A Berekening van de Vergelijkingsprijs
C3: De vergelijkingsprijs wordt bepaald als som van de totalen van de eenmalige kosten en changes (Tab B), van de kosten van de operationele Dienstverlening (Tab C), van de optie uitbreiding onstie dienstverlening (Tab D,1), van het fictieve bedrag t.g.v. de algemene korting (Tab E), en van het effect van flexibiliteit (Tab F). Deze vergelijkingsprijs wordt gebruikt voor het gunningscriterium 'Prijs'. Aan deze vergelijkingsprijs kunnen geen rechten ontleend worden.
C4: Op dit blad hoeft u niets in te vullen.
C6: Onderwerp | D6: Bedrag
C7: Eenmalige kosten en Changes | D7: ='B. Eenmalig en Changes'!E9+'B. Eenmalig en Changes'!G22 -> 0
C8: Dienstverlening | D8: ='C. Diensten'!M51 -> 0
C9: Optie uitbreiding onsite dienstverlening | D9: =50%*'D. Opties'!M8 -> 0 | E9: (De prijs van deze optie wordt voor 50% meegenomen)
C10: Algemene korting | D10: ='E. Korting'!G9 -> 4800
C11: Flexibiliteit | D11: ='F. Flexibiliteit'!I16 -> 0
C12: VERGELIJKINGSPRIJS | D12: =SUM(D7:D11) -> 4800

Sheet B. Eenmalig en Changes
B1: Europese Aanbesteding 'Print-, copy- en scan-dienstverlening' 23670 Provincie Utrecht Tab B Eenmalige kosten en Changes
B2: U dient slechts de geel gekleurde cellen in te vullen.
B3: 1) | C3: Eenmalige kosten
C4: Vul in tabel "Implementatie en uitrol" uw prijzen t.a.v. het inrichten van uw dienstverlening in, inclusief PoC en het plaatsen, aansluiten en testen van de apparatuur. Behoudens de bedragen genoemd in tabel "Implementatie en uitrol" mag inschrijver geen andere kosten in rekening brengen voor het werkend conform programma van eisen en het daarenboven in de Inschrijving aangebodene opleveren van de print, kopieer en scan dienstverlening. Alle prijzen zijn exclusief 21% verschuldigde BTW.
C5: Eenmalig: Implemenatie en uitrol
C6: Kostensoort | E6: Totaal
C7: Implementatie en uitrol (incl. Printmanagement Fase 1)
C8: Overgang naar Printmanagement Fase 2
E9: =SUM(E7:E8) -> 0
B12: 2) | C12: Changes
C13: Vul in de tabel "Uurtarieven voor changes" uw uurtarieven in voor het doorvoeren op verzoek van Aanbestedende dienst van changes die geen onderdeel zijn van de uitgevraagde en elders in dit prijzenblad beprijsde dienstverlening. De in de tabel vermelde aantallen zijn fictief t.b.v. bepaling van de vergelijkingsprijs. Aan deze aantallen kunnen geen rechten worden ontleend. Alle prijzen zijn exclusief 21% verschuldigde BTW.
C15: Uurtarieven voor changes | F15: Berekeningen t.b.v. bepaling vergelijkingspriis
C16: Rol | E16: Uurtarief | F16: Fictief aantal uren | G16: Bedrag
C17: Projectleider | F17: 6 | G17: =E17*F17 -> 0
C18: Solution Architect | F18: 4 | G18: =E18*F18 -> 0
C19: Technisch consultant | F19: 4 | G19: =E19*F19 -> 0
C20: Onsite service engineer | F20: 20 | G20: =E20*F20 -> 0
C21: Beheerder | F21: 6 | G21: =E21*F21 -> 0
G22: =SUM(G17:G21) -> 0

Sheet C. Diensten
B1: Europese Aanbesteding 'Print-, copy- en scan-dienstverlening' 23670 Provincie Utrecht Tab C - Diensten
B2: U dient slechts de geel gekleurde cellen in te vullen.
B3: B | C3: Dienstverlening
C4: Geef in onderstaande tabel een overzicht van de jaarlijkse kosten voor het ter beschikking stellen van uw dienstverlening, waarbij u rekening houdt met de eisen en wensen zoals in dit Programma van Eisen beschreven, inclusief beheerdienstverlening en gedurende de looptijd van het contract. Alle prijzen zijn exclusief 21% verschuldigde BTW.
K5: Berekeningen t.b.v. bepaling vergelijkingspriis
C6: Kosten van de dienstverlening | E6: Maandelijkse kosten gedurende jaar 1 t/m jaar 5 | H6: Maandelijkse kosten gedurende de optionele verlengingsjaren (3x 1 jaar) | K6: Totaal per jaar Jaar 1 t/m 5 | L6: Totaal per jaar Verlengingsjaar | M6: Totaal contract bij maximale duur
C7: Huur en onderhoud (formaat A4 en A3) | E7: aantal | F7: Prijs per maand | G7: Totaal per maand | H7: aantal | I7: Prijs per maand | J7: Totaal per maand | K7: Totaal per jaar | L7: Totaal per jaar | M7: Totaal per jaar
C9: Printer Type 1 (z/w) | E9: ='G. Aantallen per locatie'!C5 -> 2 | G9: =E9*F9 -> 0 | H9: =E9 -> 2 | J9: =H9*I9 -> 0 | K9: =12*G9 -> 0 | L9: =12*J9 -> 0 | M9: =5*K9+3*L9 -> 0
C10: Multifunctional Type 1 | E10: ='G. Aantallen per locatie'!C6 -> 2 | G10: =E10*F10 -> 0 | H10: =E10 -> 2 | J10: =H10*I10 -> 0 | K10: =12*G10 -> 0 | L10: =12*J10 -> 0 | M10: =5*K10+3*L10 -> 0
C11: Multifunctional Type 2 | E11: ='G. Aantallen per locatie'!C7 -> 18 | G11: =E11*F11 -> 0 | H11: =E11 -> 18 | J11: =H11*I11 -> 0 | K11: =12*G11 -> 0 | L11: =12*J11 -> 0 | M11: =5*K11+3*L11 -> 0
C12: Multifunctional Type 3 | E12: ='G. Aantallen per locatie'!C8 -> 1 | G12: =E12*F12 -> 0 | H12: =E12 -> 1 | J12: =H12*I12 -> 0 | K12: =12*G12 -> 0 | L12: =12*J12 -> 0 | M12: =5*K12+3*L12 -> 0
C13: Multifunctional Type 4 | E13: ='G. Aantallen per locatie'!C9 -> 2 | G13: =E13*F13 -> 0 | H13: =E13 -> 2 | J13: =H13*I13 -> 0 | K13: =12*G13 -> 0 | L13: =12*J13 -> 0 | M13: =5*K13+3*L13 -> 0
F14: subtotaal | G14: =SUM(G9:G13) -> 0 | I14: subtotaal | J14: =SUM(J9:J13) -> 0 | K14: =SUM(K9:K13) -> 0 | L14: =SUM(L9:L13) -> 0 | M14: =5*K14+3*L14 -> 0
C15: Huur en onderhoud Bulk scanner (A4 en A3) | E15: aantal | F15: Prijs per maand | H15: aantal | I15: Prijs per maand | K15: Totaal per jaar | L15: Totaal per jaar | M15: Totaal per jaar
C17: Bulk scanner (inclusief software licenties) | E17: ='G. Aantallen per locatie'!C10 -> 2 | G17: =F17*E17 -> 0 | H17: =E17 -> 2 | J17: =I17*H17 -> 0 | K17: =G17*12 -> 0 | L17: =12*J17 -> 0 | M17: =5*K17+3*L17 -> 0
F18: subtotaal | G18: =SUM(G17:G17) -> 0 | I18: subtotaal | J18: =SUM(J17:J17) -> 0 | K18: =SUM(K17:K17) -> 0 | L18: =SUM(L17:L17) -> 0 | M18: =5*K18+3*L18 -> 0
C19: Huur en onderhoud grootformaat (A0) | E19: aantal | F19: Prijs per maand | H19: aantal | I19: Prijs per maand | K19: Totaal per jaar | L19: Totaal per jaar | M19: Totaal per jaar
C21: Grootformaat printer | E21: ='G. Aantallen per locatie'!C11 -> 1 | G21: =F21*E21 -> 0 | H21: =E21 -> 1 | J21: =I21*H21 -> 0 | K21: =G21*12 -> 0 | L21: =12*J21 -> 0 | M21: =5*K21+3*L21 -> 0
F22: subtotaal | G22: =SUM(G21:G21) -> 0 | I22: subtotaal | J22: =SUM(J21:J21) -> 0 | K22: =SUM(K21:K21) -> 0 | L22: =SUM(L21:L21) -> 0 | M22: =5*K22+3*L22 -> 0
C24: Kosten van de dienstverlening | E24: kosten op jaarbasis | K24: =K6 -> Totaal per jaar Jaar 1 t/m 5 | L24: =L6 -> Totaal per jaar Verlengingsjaar | M24: =M6 -> Totaal contract bij maximale duur
C25: Afdrukkosten | E25: aantal/jaar | F25: prijs per afdruk | G25: Totaal per jaar | K25: Totaal per jaar | L25: Totaal per jaar | M25: Totaal
C26: All-in Afdrukprijs (excl. Papier; per pagina A4)
D27: Afdrukprijs per afdruk in kleur | E27: 510000 | G27: =E27*F27 -> 0 | K27: =G27 -> 0 | L27: =K27 -> 0 | M27: =5*K27+3*L27 -> 0
D28: Afdrukprijs per afdruk in zwart-wit | E28: 414000 | G28: =E28*F28 -> 0 | K28: =G28 -> 0 | L28: =K28 -> 0 | M28: =5*K28+3*L28 -> 0
C29: A3 = 2xA4
F30: subtotaal | G30: =SUM(G27:G28) -> 0 | K30: =SUM(K27:K28) -> 0 | L30: =SUM(L27:L28) -> 0 | M30: =5*K30+3*L30 -> 0
C32: Kosten van de dienstverlening | E32: kosten per maand | K32: Totaal jaar 1 t/m 5 | L32: Totaal gedurende 3 verlengingsjaren | M32: =M24 -> Totaal contract bij maximale duur
C33: Centrale dienstverlening | E33: aantal | F33: Prijs per maand | G33: Totaal per jaar | H33: Aannames t.b.v. bepaling vergelijkingsprijs: | K33: Totaal | L33: Totaal | M33: Totaal
C34: Centraal printmanagement (Fase 1) | E34: 1 | G34: =E34*F34*12 -> 0 | H34: - Fase 1 beslaat contract jaar 1 en 2 | K34: =2*G34 -> 0 | L34: =0*G34 -> 0 | M34: =K34+L34 -> 0
C35: Centraal printmanagement (Fase 2) | E35: 1 | G35: =E35*F35*12 -> 0 | H35: - Fase 2 beslaat contract jaar 3 en verder | K35: =3*G35 -> 0 | L35: =3*G35 -> 0 | M35: =K35+L35 -> 0
C36: Overige centrale diensten/kosten | E36: 1 | G36: =E36*F36*12 -> 0 | H36: - Komen alle contractjaren terug | K36: =5*G36 -> 0 | L36: =3*G36 -> 0 | M36: =K36+L36 -> 0
M37: =SUM(M34:M36) -> 0
C39: Kosten van de dienstverlening | E39: kosten per jaar | K39: =K24 -> Totaal per jaar Jaar 1 t/m 5 | L39: =L24 -> Totaal per jaar Verlengingsjaar | M39: =M24 -> Totaal contract bij maximale duur
C40: Onsite dienstverlening in Provinciehuis | E40: aantal | F40: Prijs per jaar | K40: Totaal per jaar | L40: Totaal per jaar | M40: Totaal per jaar
D42: In Provinciehuis | E42: 1 | G42: =F42*E42 -> 0 | K42: =G42 -> 0 | L42: =K42 -> 0 | M42: =5*K42+3*L42 -> 0
F43: subtotaal | G43: =SUM(G42:G42) -> 0 | K43: =SUM(K42:K42) -> 0 | L43: =SUM(L42:L42) -> 0 | M43: =5*K43+3*L43 -> 0
C44: Verhuistarieven | E44: aantal | F44: Prijs per jaar | K44: Totaal per jaar | L44: Totaal per jaar | M44: Totaal per jaar
D46: Tarief voor verhuizing hardware binnen hetzelfde gebouw wanneer demontage nodig is* | E46: 1 | G46: =F46*E46 -> 0 | K46: =G46 -> 0 | L46: =K46 -> 0 | M46: =5*K46+3*L46 -> 0
D47: Tarief voor verhuizing hardware naar ander gebouw | E47: 1 | G47: =F47*E47 -> 0 | K47: =G47 -> 0 | L47: =K47 -> 0 | M47: =5*K47+3*L47 -> 0
F48: subtotaal | G48: =SUM(G47:G47) -> 0 | K48: =SUM(K46:K47) -> 0 | L48: =SUM(L46:L47) -> 0 | M48: =5*K48+3*L48 -> 0
...

Sheet D. Opties
B1: Europese Aanbesteding 'Print-, copy- en scan-dienstverlening' 23670 Provincie Utrecht Tab D - Opties
C2: 1) Optie: Uitbreiding onsite dienstverlening locaties met De Meern en Huis ter Heide
C3: Vul in onderstaande tabel in uw meerprijs per jaar voor de uitbreiding van de onsite dienstverlening (naast voor locatie Provinciehuis) met de locaties: - Molensteijn 18, De Meern ;en - Zandbergenlaan 4, Huis ter Heide. Alle prijzen zijn exclusief 21% verschuldigde BTW.
B4: U dient de geel gekleurde en cel in te vullen. | K4: Berekeningen t.b.v. bepaling vergelijkingspriis
K5: ='C. Diensten'!K31 -> 0 | L5: ='C. Diensten'!L31 -> 0 | M5: ='C. Diensten'!M31 -> 0
C6: Uitbreiding Onsite dienstverlening | E6: aantal | F6: Prijs per jaar | K6: Totaal per jaar | L6: Totaal per jaar | M6: Totaal per jaar
D8: De Meern & Huis ter Heide | E8: 1 | G8: =F8*E8 -> 0 | K8: =G8 -> 0 | L8: =K8 -> 0 | M8: =5*K8+3*L8 -> 0
C10: 2) Overige opties
C11: Vul in tabel "Overige opties" in: - Alle verbruiksartikelen (papier, inkt) en de prijzen daarvan ten aanzien van de aangeboden grootformaat printer. (Onderhoud van alle apparatuur alsmede alle verbruiksartikelen betreffende de overige apparatuur dienen inbegrepen te zijn in de prijzen aangeboden op tabblad B Diensten); - Opties t.a.v de apparatuur en software-functionaliteiten die beschikbaar zijn maar geen onderdeel vormen van uw Inschrijving om te voldoen aan het door Aanbestedende dienst vereiste. Aanbestedende dienst zal gerechtigd zijn om de in deze tabel door Inschrijver opgevoerde opties elders te verkrijgen. Alle prijzen zijn exclusief 21% verschuldigde BTW.
B12: U dient de groen en de geel gekleurde en cellen in te vullen.
C14: Product / dienst | G14: Omschrijving / toelichting | H14: Eenheidsprijs (eenmalig) | I14: Eenheidsprijs (maandelijks terugkerend
C15: Papier voor Grootformaat printer
C16: Toner/Inkt voor Grootformaat printer - Zwart
C17: Toner/Inkt voor Grootformaat printer - Kleur | G17: (Alle kleuren opgeven)

Sheet E. Korting
B1: Europese Aanbesteding 'Print-, copy- en scan-dienstverlening' 23670 Provincie Utrecht Tab E Algemene korting
B2: U dient slechts de geel gekleurde cellen in te vullen.
C3: Algemene korting
C4: Vul in tabel "Algemene korting" de algemene korting t.o.v. uw standaard prijslijst in die u aanbiedt. Tenminste dit kortingspercentage zal van toepassing op huidige en toekomstige artikelen / diensten die niet al specifiek in uw aanbieding zijn opgenomen. Het in de tabel vermelde basisbedrag is fictief t.b.v. bepaling van de vergelijkingsprijs. Aan dit basisbedrag kunnen geen rechten worden ontleend.
F6: Berekeningen t.b.v. bepaling vergelijkingspriis
C7: Algemene korting | E7: Totaal | F7: Fictief basisbedrag | G7: Bedrag
C8: Kortingspercentage t.o.v. algemene prijslijst | F8: =8*600 -> 4800 | G8: =(1-E8)*F8 -> 4800
G9: =G8 -> 4800

Sheet F. Flexibiliteit
B1: Europese Aanbesteding 'Print-, copy- en scan-dienstverlening' 23670 Provincie Utrecht Tab F - Flexibiliteit
B2: U dient slechts de geel gekleurde cellen in te vullen.
C3: Geef in onderstaande tabel per type apparaat het afkoopbedrag op per maand dat 1 stuks van dat betreffende type eerder wordt afgeschaald dan de einddatum van de initiële termijn van de overeenkomst (5 jaar). Toelichting: Ten behoeve van de vergelijkingsprijs wordt gerekend met een assumptie van 10% afschaling gemiddeld met nog 30 maanden te gaan tot het einde van de initiële termijn van de overeenkomst, waarbij dit percentage op alle apparatuur aantallen wordt toegepast. Alle prijzen zijn exclusief 21% verschuldigde BTW.
C4: Instellingen t.b.v. berekening van de vergelijkingsprijs
C5: 0.1 | D5: afschaling
C6: 30 | D6: maanden voor einde initële periode
F7: Berekeningen t.b.v. bepaling vergelijkingspriis
C8: Felxibiliteit: Kosten van afschaling per maand per type apparaat | E8: Kosten van afschaling per maand eerder dan einde van initiële termijn | F8: Fictief aantal dat afgeschaald wordt | G8: Fictief afkoop bedrag | H8: Fictief weggevallen kosten | I8: Effect op vergelijkingsprijs
C9: Printer Type 1 (z/w) | F9: =$C$5*'G. Aantallen per locatie'!C5 -> 0.2 | G9: =E9*F9*$C$6 -> 0 | H9: =$C$6*'C. Diensten'!F9*F9 -> 0 | I9: =G9+-H9 -> 0
C10: Multifunctional Type 1 | F10: =$C$5*'G. Aantallen per locatie'!C6 -> 0.2 | G10: =E10*F10*$C$6 -> 0 | H10: =$C$6*'C. Diensten'!F10*F10 -> 0 | I10: =G10+-H10 -> 0
C11: Multifunctional Type 2 | F11: =$C$5*'G. Aantallen per locatie'!C7 -> 1.8 | G11: =E11*F11*$C$6 -> 0 | H11: =$C$6*'C. Diensten'!F11*F11 -> 0 | I11: =G11+-H11 -> 0
C12: Multifunctional Type 3 | F12: =$C$5*'G. Aantallen per locatie'!C8 -> 0.1 | G12: =E12*F12*$C$6 -> 0 | H12: =$C$6*'C. Diensten'!F12*F12 -> 0 | I12: =G12+-H12 -> 0
C13: Multifunctional Type 4 | F13: =$C$5*'G. Aantallen per locatie'!C9 -> 0.2 | G13: =E13*F13*$C$6 -> 0 | H13: =$C$6*'C. Diensten'!F13*F13 -> 0 | I13: =G13+-H13 -> 0
C14: Bulk scanner | F14: =$C$5*'G. Aantallen per locatie'!C10 -> 0.2 | G14: =E14*F14*$C$6 -> 0 | H14: =$C$6*'C. Diensten'!F17*F14 -> 0 | I14: =G14+-H14 -> 0
C15: Grootformaat printer | F15: =$C$5*'G. Aantallen per locatie'!C11 -> 0.1 | G15: =E15*F15*$C$6 -> 0 | H15: =$C$6*'C. Diensten'!F21*F15 -> 0 | I15: =G15+-H15 -> 0
I16: =SUM(I9:I15) -> 0

Sheet G. Aantallen per locatie
B2: Op dit blad hoeft u niets in te vullen.
B4: Hardware soort ​ | C4: Aantal Totaal | D4: Provinciehuis | E4: De Meern | F4: Huis Ter Heide | G4: Remise | H4: Paushuize | I4: Archeologisch Depot
B5: Printer Type 1 z/w​ | C5: 2 | D5: 2
B6: Multi-functional Type 1 ​ | C6: 2 | H6: 1 | I6: 1
B7: Multi-functional Type 2 ​ | C7: 18 | D7: 14 | E7: 1 | F7: 1 | G7: 2
B8: Multi-functional Type 3 (Postkamer) ​ | C8: 1 | D8: 1
B9: Multi-functional Type 4​ | C9: 2 | D9: 2
B10: Bulk scanner ​ | C10: 2 | D10: 2
B11: Grootformaat printer | C11: 1 | D11: 1
B15: Locaties
B16: Provinciehuis: Archimedeslaan 6, Utrecht
B17: De Meern:Molensteijn 18, De Meern
B18: Huis Ter Heide: Zandbergenlaan 4, Huis ter Heide
B19: Remise: Remiseweg, Nieuwegein
B20: Paushuize: Pausdam (Hoek Nieuwe Gracht), Utrecht
B21: Archeologisch Depot: Vlampijpstraat 87a, Utrecht
